{"text_format":"1","workbook":"xlsx","n_sheets":29,"sheets":["DEPAN","SISWA","AH","AA","FQ","SKI","IPS","PKn","BA","BID","MTK","IPA","SBK","PJK","BD","BIG","AWJ","DAKOLUN","IJAZAH","IJAZAHCATAT","UAMNU","UAMNUCATAT","SKHUS","SKLULUS","SKLULUS (2)","SKHU SD","NILAI","petunjuk","RUMUS"],"not_rendered":{"charts":0,"images":16,"macros":1,"external_links":3,"defined_names":38,"comments":1,"pivot_tables":0},"unopened":[],"bounds":{"document_bytes":16777216,"sheet_cells":100000,"rows_first":2000,"rows_last":500,"rows_between":2000,"halvings":0,"cell_chars":16384,"cell_head_chars":4096},"cells_cut":0,"cells_raw":0,"read":"whole","date_system":"1900"}

{"sheet":"DEPAN","index":0,"n_rows":16,"n_cols":27,"rows_kept":16,"cut":false,"hidden":false,"merged":[[2,1,2,11],[9,3,9,4],[11,3,11,4],[13,3,13,4],[15,3,15,4]]}
[]
[]
[]
[]
[]
[null,null,"NAMA LEMBAGA","MI","Nurul Islam Labruk Kidul",null,null,null,null,null,null,null,null,null,null,null,null,null,null,null,null,null,null,null,{"$f":"IF(LEMBAGA=\"MI\",\"Madrasah Ibtidaiyah\",\"Sekolah Dasar\")","v":"Madrasah Ibtidaiyah"},null,{"$f":"E6","v":"Nurul Islam Labruk Kidul"}]
[null,null,null,null,null,null,null,null,null,null,null,null,null,null,null,null,null,null,null,null,null,null,null,null,{"$f":"LEMBAGA&\" \"&E6","v":"MI Nurul Islam Labruk Kidul"}]
[null,null,"NAMA KEPALA SEKOLAH","Sahroni,S.Pd.I"]
[]
[null,null,"NIP KS","-"]
[]
[null,null,"KECAMATAN","SUMBERSUKO"]
[]
[null,null,"KABUPATEN","LUMAJANG",null,null,null,null,null,null,null,null,null,null,null,null,null,null,null,null,null,null,null,null,{"$f":"C14&\" \"&D14","v":"KABUPATEN LUMAJANG"}]
[]
[null,null,"TAHUN PELAJARAN","2019/2020",null,null,null,null,null,null,null,null,null,null,null,null,null,null,null,null,null,null,null,null,{"$f":"C16&\" \"&D16","v":"TAHUN PELAJARAN 2019/2020"}]

{"sheet":"SISWA","index":1,"n_rows":207,"n_cols":20,"rows_kept":207,"cut":false,"hidden":false,"merged":[[4,16,4,17],[4,18,5,18],[4,9,6,9],[4,10,6,10],[4,6,6,6],[4,7,6,7],[4,8,6,8],[4,5,6,5],[4,0,6,0],[4,1,6,1],[4,2,6,2],[4,3,6,3],[4,4,6,4]]}
[]
[]
[]
[]
["NO","No \nInduk","NISN","Nomor Peserta","Nama Peserta","Tempat Lahir","Tanggal Lahir","Nama\nOrang Tua","KELAMIN","NO","MATA PELAJARAN",null,null,null,null,"HASIL","YANG HARUS DI ISI",null,"HASIL"]
[null,null,null,null,null,null,null,null,null,null,null,"SKM",null,null,null,"TANGGAL LAHIR TEXT","NO URUT SURAT","ISI NOMOR SURAT"]
[null,null,null,null,null,null,null,null,null,null,null,null,null,null,null,{"$f":"F8&\", \"&TEXT(G8,\"[$-id-ID]dd mmmm yyyy\")","v":"Lumajang, 09 November 2007"},"051","/MINI.L-Kid/30.02.02/S.1-2/VI/2020",{"$f":"Q7&R7","v":"051/MINI.L-Kid/30.02.02/S.1-2/VI/2020"},"/Mi.13.05.162/PP.01.1/06/2018"]
[1,4331,"0078140536","1-18-05-80-162-001-8","ACHMAD FATHIR IZUDDIN","Lumajang","2007-11-09","NURUDDIN","L",1,"Pendidikan Agama",null,null,null,null,{"$f":"F9&\", \"&TEXT(G9,\"[$-id-ID]dd mmmm yyyy\")","v":"Lumajang, 12 Februari 2008"},"052","/MINI.L-Kid/30.02.02/S.1-2/VI/2020",{"$f":"Q8&R8","v":"052/MINI.L-Kid/30.02.02/S.1-2/VI/2020"}]
[2,4333,"0084691896","1-18-05-80-162-002-7","AININ NAFISA FEBRIYANTI","Lumajang","2008-02-12","SUBOWO","P",2,"Pendidikan Kewarganegaraan",65,null,null,null,"Lumajang, 30 September 2007","053","/MINI.L-Kid/30.02.02/S.1-2/VI/2020","053/MINI.L-Kid/30.02.02/S.1-2/VI/2020"]
[3,4334,"0075488897","1-18-05-80-162-003-6","AISYAH DWI ANDINI","Lumajang","2007-09-30","SAIFUL ANAM","P",3,"Bahasa Indonesia",65,null,null,null,"Hanau, 31 Juli 2007","054","/MINI.L-Kid/30.02.02/S.1-2/VI/2020","054/MINI.L-Kid/30.02.02/S.1-2/VI/2020"]
[4,4335,"0077554289","1-18-05-80-162-004-5","AJENG AGUSTINA KIRANA PUTRI","Hanau","2007-07-31","SUKIRNO","P",4,"Matematika",65,null,null,null,"Lumajang, 20 Mei 2007","055","/MINI.L-Kid/30.02.02/S.1-2/VI/2020","055/MINI.L-Kid/30.02.02/S.1-2/VI/2020"]
[5,4336,"0078831956","1-18-05-80-162-005-4","ALVIAN FAIZULHAQQI","Lumajang","2007-05-20","MUKHAMAD FAUZI","L",5,"Ilmu Pengetahuan Alam",65,null,null,null,"Lumajang, 31 Mei 2007","056","/MINI.L-Kid/30.02.02/S.1-2/VI/2020","056/MINI.L-Kid/30.02.02/S.1-2/VI/2020"]
[6,4337,"0073667130","1-18-05-80-162-006-3","ANGGITA RIZKY YUGA MEISYA","Lumajang","2007-05-31","GALIH DWI APRIYANTO","P",6,"Ilmu Pengetahuan Sosial",65,null,null,null,"Lumajang, 18 Mei 2007","057","/MINI.L-Kid/30.02.02/S.1-2/VI/2020","057/MINI.L-Kid/30.02.02/S.1-2/VI/2020"]
[7,4338,"0074492973","1-18-05-80-162-007-2","AURA SALSABILA WULAN SARI","Lumajang","2007-05-18","SAIFUL","P",7,"Seni Budaya dan Keterampilan",70,null,null,null,"Lumajang, 16 Oktober 2007","058","/MINI.L-Kid/30.02.02/S.1-2/VI/2020","058/MINI.L-Kid/30.02.02/S.1-2/VI/2020"]
[8,4366,"0078989673","1-18-05-80-162-008-9","BALQIS NAILA AUDIA","Lumajang","2007-10-16","SAMSUL HUDA","P",8,"Pendidikan Jasmani Olahraga dan Kesehatan",70,null,null,null,"Blitar, 04 Februari 2008","059","/MINI.L-Kid/30.02.02/S.1-2/VI/2020","059/MINI.L-Kid/30.02.02/S.1-2/VI/2020"]
[9,4440,"0082763386","1-18-05-80-162-009-8","BIMA ARYO SUSILO","Blitar","2008-02-04","SISWOKO","L",9,"Bahasa Daerah",65,null,null,null,"Lumajang, 18 Oktober 2007","060","/MINI.L-Kid/30.02.02/S.1-2/VI/2020","060/MINI.L-Kid/30.02.02/S.1-2/VI/2020"]
[10,4367,"0078400392","1-18-05-80-162-010-7","BIMA SATRIA DIRGANTARA","Lumajang","2007-10-18","JOKO SAMBANG","L",10,"Bahasa Inggris",65,null,null,null,"Lumajang, 28 Januari 2008","061","/MINI.L-Kid/30.02.02/S.1-2/VI/2020","061/MINI.L-Kid/30.02.02/S.1-2/VI/2020"]
[11,4339,"0086652599","1-18-05-80-162-011-6","DEVI KARUNIA RATNA PUTRI","Lumajang","2008-01-28","MUKHAMMAD KHOZIN AS'ARI","P",11,"Aqidah Akhlaq",65,null,null,null,"Lumajang, 17 Februari 2008","062","/MINI.L-Kid/30.02.02/S.1-2/VI/2020","062/MINI.L-Kid/30.02.02/S.1-2/VI/2020"]
[12,4340,"0089906682","1-18-05-80-162-012-5","DEVITA FEBRIANI PUTRI","Lumajang","2008-02-17","BINADI","P",12,"Al Qur'an Hadits",65,null,null,null,"Lumajang, 04 Mei 2007","063","/MINI.L-Kid/30.02.02/S.1-2/VI/2020","063/MINI.L-Kid/30.02.02/S.1-2/VI/2020"]
[13,4370,"0074514146","1-18-05-80-162-013-4","FAKHIS GABRIL LIA","Lumajang","2007-05-04","DONI HARIADI","P",13,"Fiqih",65,null,null,null,"Lumajang, 27 Februari 2008","064","/MINI.L-Kid/30.02.02/S.1-2/VI/2020","064/MINI.L-Kid/30.02.02/S.1-2/VI/2020"]
[14,4342,"0081081672","1-18-05-80-162-014-3","FARAH NAILATUL ALYAH","Lumajang","2008-02-27","HASAN SANUSI","P",14,"Sejarah Kebudayaan Islam",65,null,null,null,"Lumajang, 12 Juli 2007","065","/MINI.L-Kid/30.02.02/S.1-2/VI/2020","065/MINI.L-Kid/30.02.02/S.1-2/VI/2020"]
[15,4345,"0073420487","1-18-05-80-162-015-2","GALANG MARDHOTILLAH SATOTO","Lumajang","2007-07-12","AGUNG SUJUD SATOTO","L",15,"Bahasa Arab",65,null,null,null,"Lumajang, 03 Juli 2007","066","/MINI.L-Kid/30.02.02/S.1-2/VI/2020","066/MINI.L-Kid/30.02.02/S.1-2/VI/2020"]
[16,4371,"0079870082","1-18-05-80-162-016-9","GALIH FAREL PRASTYO","Lumajang","2007-07-03","MOHAMAD ARIFIN","L",null,null,null,null,null,null,"Bondowoso, 05 Mei 2008","067","/MINI.L-Kid/30.02.02/S.1-2/VI/2020","067/MINI.L-Kid/30.02.02/S.1-2/VI/2020"]
[17,4466,"0081629504","1-18-05-80-162-017-8","HIBATULLAH MUSTAGHFIRY RUSLI","Bondowoso","2008-05-05","HAJI AMIR RUSLI","L",null,null,null,null,null,null,"Lumajang, 19 Agustus 2007","068","/MINI.L-Kid/30.02.02/S.1-2/VI/2020","068/MINI.L-Kid/30.02.02/S.1-2/VI/2020"]
[18,4346,"0073608418","1-18-05-80-162-018-7","IKA KURNIA WATI AGUSTINA","Lumajang","2007-08-19","SUPANDI ARIS SUMARGIONO","P",null,null,null,null,null,null,"Lumajang, 25 Mei 2007","069","/MINI.L-Kid/30.02.02/S.1-2/VI/2020","069/MINI.L-Kid/30.02.02/S.1-2/VI/2020"]
[19,4350,"0072658586","1-18-05-80-162-019-6","MAYLUNA EKA PRATIWI","Lumajang","2007-05-25","MOCHAMAD SYAMSUL HUDA","P",null,null,null,null,null,null,"Lumajang, 14 Mei 2007","070","/MINI.L-Kid/30.02.02/S.1-2/VI/2020","070/MINI.L-Kid/30.02.02/S.1-2/VI/2020"]
[20,4353,"0075464137","1-18-05-80-162-020-5","MOHAMAD DWIMAS FIRDAUS","Lumajang","2007-05-14","MOHAMAD UMAR","L",null,null,null,null,null,null,"Lumajang, 06 November 2007","071","/MINI.L-Kid/30.02.02/S.1-2/VI/2020","071/MINI.L-Kid/30.02.02/S.1-2/VI/2020"]
[21,4375,"0075096831","1-18-05-80-162-021-4","MUHAMMAD AFFAN ABI SYAHPUTRA","Lumajang","2007-11-06","EDI SANTOSO","L",null,null,null,null,null,null,"Lumajang, 13 Agustus 2007","072","/MINI.L-Kid/30.02.02/S.1-2/VI/2020","072/MINI.L-Kid/30.02.02/S.1-2/VI/2020"]
[22,4354,"0075055640","1-18-05-80-162-022-3","MUHAMMAD ALVIN RIDHO","Lumajang","2007-08-13","MACHMUD ALI RIDHO","L",null,null,null,null,null,null,"Lumajang, 06 Juli 2007","073","/MINI.L-Kid/30.02.02/S.1-2/VI/2020","073/MINI.L-Kid/30.02.02/S.1-2/VI/2020"]
[23,4378,"0074268893","1-18-05-80-162-023-2","MUKHAMAD DAVID ARIF FIRDAUS","Lumajang","2007-07-06","SAMSUL ARIFIN","L",null,null,null,null,null,null,"Lumajang, 08 Desember 2007","074","/MINI.L-Kid/30.02.02/S.1-2/VI/2020","074/MINI.L-Kid/30.02.02/S.1-2/VI/2020"]
[24,4379,"0072757203","1-18-05-80-162-024-9","NAORA ISQI AINAYYA","Lumajang","2007-12-08","MASYHURI AYATULLOH","P",null,null,null,null,null,null,"Jombang, 08 Mei 2007","075","/MINI.L-Kid/30.02.02/S.1-2/VI/2020","075/MINI.L-Kid/30.02.02/S.1-2/VI/2020"]
[25,4380,"0079026285","1-18-05-80-162-025-8","NAZRA ISLAMAY PASHA","Jombang","2007-05-08","ABDUL QOSIM","P",null,null,null,null,null,null,"Lumajang, 02 September 2007","076","/MINI.L-Kid/30.02.02/S.1-2/VI/2020","076/MINI.L-Kid/30.02.02/S.1-2/VI/2020"]
[26,4382,"0079872151","1-18-05-80-162-026-7","NUR ALYA NABILA","Lumajang","2007-09-02","MASHURI","P",null,null,null,null,null,null,"Lumajang, 10 Februari 2008","077","/MINI.L-Kid/30.02.02/S.1-2/VI/2020","077/MINI.L-Kid/30.02.02/S.1-2/VI/2020"]
[27,4358,"0087558837","1-18-05-80-162-027-6","PUTRI SHOLIKHAH","Lumajang","2008-02-10","MULYONO","P",null,null,null,null,null,null,"Lumajang, 22 Oktober 2007","078","/MINI.L-Kid/30.02.02/S.1-2/VI/2020","078/MINI.L-Kid/30.02.02/S.1-2/VI/2020"]
[28,4384,"0071234523","1-18-05-80-162-028-5","RESTI FITRIANTI DWI OCTAVIANI","Lumajang","2007-10-22","MUHAMMAD BASHORI","P",null,null,null,null,null,null,"Lumajang, 07 September 2007","079","/MINI.L-Kid/30.02.02/S.1-2/VI/2020","079/MINI.L-Kid/30.02.02/S.1-2/VI/2020"]
[29,4359,"0073122181","1-18-05-80-162-029-4","ROUDHOTUS SA'DIYAH","Lumajang","2007-09-07","ABDUL BASIT","P",null,null,null,null,null,null,"Lumajang, 20 Juni 2007","080","/MINI.L-Kid/30.02.02/S.1-2/VI/2020","080/MINI.L-Kid/30.02.02/S.1-2/VI/2020"]
[30,4386,"0075344352","1-18-05-80-162-030-3","TIERSYA BETA RAMANUZAN","Lumajang","2007-06-20","KOMAI RIZAL MALIK AFDILLAH","P",null,null,null,null,null,null,"Lumajang, 09 November 2007","081","/MINI.L-Kid/30.02.02/S.1-2/VI/2020","081/MINI.L-Kid/30.02.02/S.1-2/VI/2020"]
[31,4388,"0077423646","1-18-05-80-162-031-2","VERA MUSTIKA","Lumajang","2007-11-09","MOCH. YASIN EFENDI","P",null,null,null,null,null,null,"Lumajang, 29 Juli 2007","082","/MINI.L-Kid/30.02.02/S.1-2/VI/2020","082/MINI.L-Kid/30.02.02/S.1-2/VI/2020"]
[32,4360,"0077290990","1-18-05-80-162-032-9","ZIDNY ILMA NABILA","Lumajang","2007-07-29","SUDARMAN","P",null,null,null,null,null,null,"Lumajang, 10 September 2007","083","/MINI.L-Kid/30.02.02/S.1-2/VI/2020","083/MINI.L-Kid/30.02.02/S.1-2/VI/2020"]
[33,4390,"0077722307","1-18-05-80-162-033-8","ZITNATUL AULIA ILLA","Lumajang","2007-09-10","SISWANDONO","P",null,null,null,null,null,null,"Lumajang, 01 Agustus 2008","084","/MINI.L-Kid/30.02.02/S.1-2/VI/2020","084/MINI.L-Kid/30.02.02/S.1-2/VI/2020"]
[34,4330,"0084736422","1-18-05-80-162-034-7","ACHID ATHIRIL ARDAN","Lumajang","2008-08-01","IMAM KHAMBALI","L",null,null,null,null,null,null,"Lumajang, 10 September 2007","085","/MINI.L-Kid/30.02.02/S.1-2/VI/2020","085/MINI.L-Kid/30.02.02/S.1-2/VI/2020"]
[35,4361,"0075656390","1-18-05-80-162-035-6","ACHMAD SEPTIAN HAMDANI","Lumajang","2007-09-10","SYAIFUL ARIS","L",null,null,null,null,null,null,"Lumajang, 26 Juli 2007","086","/MINI.L-Kid/30.02.02/S.1-2/VI/2020","086/MINI.L-Kid/30.02.02/S.1-2/VI/2020"]
[36,4362,"0071796138","1-18-05-80-162-036-5","ACHMAD SULAIMAN","Lumajang","2007-07-26","AGUS SULAIMAN","L",null,null,null,null,null,null,"Lumajang, 17 Desember 2007","087","/MINI.L-Kid/30.02.02/S.1-2/VI/2020","087/MINI.L-Kid/30.02.02/S.1-2/VI/2020"]
[37,4364,"0079667684","1-18-05-80-162-037-4","AIRLANGGA DWIKA RIZQI","Lumajang","2007-12-17","ERIEK ISROFIL","L",null,null,null,null,null,null,"Lumajang, 16 Mei 2008","088","/MINI.L-Kid/30.02.02/S.1-2/VI/2020","088/MINI.L-Kid/30.02.02/S.1-2/VI/2020"]
[38,4365,"0089321127","1-18-05-80-162-038-3","AUFAN AZKAL ABRORI","Lumajang","2008-05-16","AHMAD AJMAIN","L",null,null,null,null,null,null,"Lumajang, 14 Agustus 2007","089","/MINI.L-Kid/30.02.02/S.1-2/VI/2020","089/MINI.L-Kid/30.02.02/S.1-2/VI/2020"]
[39,4465,"0071776593","1-18-05-80-162-039-2","AZZA PRISHAL DWI PUTRA","Lumajang","2007-08-14","MOHAMMAD SHOLEH","L",null,null,null,null,null,null,"Lumajang, 07 Desember 2007","090","/MINI.L-Kid/30.02.02/S.1-2/VI/2020","090/MINI.L-Kid/30.02.02/S.1-2/VI/2020"]
[40,4368,"0074569410","1-18-05-80-162-040-9","EKA AULIYA` PUTRI","Lumajang","2007-12-07","BASHORI ALWI","P",null,null,null,null,null,null,"Lumajang, 01 Maret 2008","091","/MINI.L-Kid/30.02.02/S.1-2/VI/2020","091/MINI.L-Kid/30.02.02/S.1-2/VI/2020"]
[41,4341,"0083684457","1-18-05-80-162-041-8","ERSA PUSPITA EKA ROSA LINDA","Lumajang","2008-03-01","SOLIKIN","P",null,null,null,null,null,null,"Lumajang, 26 Oktober 2007","092","/MINI.L-Kid/30.02.02/S.1-2/VI/2020","092/MINI.L-Kid/30.02.02/S.1-2/VI/2020"]
[42,4369,"0078481731","1-18-05-80-162-042-7","FABIYAN TRI BAKTI OKTAFIAN","Lumajang","2007-10-26","FADLOLI","L",null,null,null,null,null,null,"Lumajang, 24 April 2007","093","/MINI.L-Kid/30.02.02/S.1-2/VI/2020","093/MINI.L-Kid/30.02.02/S.1-2/VI/2020"]
[43,4343,3075965396,"1-18-05-80-162-043-6","FELISITA APRILIA NUR NIHAYA","Lumajang","2007-04-24","EDI SISWANTO","P",null,null,null,null,null,null,"Lumajang, 23 November 2007","094","/MINI.L-Kid/30.02.02/S.1-2/VI/2020","094/MINI.L-Kid/30.02.02/S.1-2/VI/2020"]
[44,4344,3078948093,"1-18-05-80-162-044-5","FIRDA DWI ANDRIANI","Lumajang","2007-11-23","MISNATUN","P",null,null,null,null,null,null,"Lumajang, 09 Januari 2008","095","/MINI.L-Kid/30.02.02/S.1-2/VI/2020","095/MINI.L-Kid/30.02.02/S.1-2/VI/2020"]
[45,4372,"0087636520","1-18-05-80-162-045-4","GILANG AKBAR PRASETYO","Lumajang","2008-01-09","AINUN AZIZAH","L",null,null,null,null,null,null,"Lumajang, 07 April 2008","096","/MINI.L-Kid/30.02.02/S.1-2/VI/2020","096/MINI.L-Kid/30.02.02/S.1-2/VI/2020"]
[46,4373,"0087373224","1-18-05-80-162-046-3","IFTAH IZZAH EMILIA  MAHMUD","Lumajang","2008-04-07","AMAR MAKHMUD","P",null,null,null,null,null,null,"Lumajang, 04 April 2008","097","/MINI.L-Kid/30.02.02/S.1-2/VI/2020","097/MINI.L-Kid/30.02.02/S.1-2/VI/2020"]
[47,4441,"0081758949","1-18-05-80-162-047-2","INES ARIFANI MAULINA","Lumajang","2008-04-04","MOHAMAD BADRI","P",null,null,null,null,null,null,"Lumajang, 10 Agustus 2007","098","/MINI.L-Kid/30.02.02/S.1-2/VI/2020","098/MINI.L-Kid/30.02.02/S.1-2/VI/2020"]
[48,4374,"0073409469","1-18-05-80-162-048-9","IYAAD AFLAKHA RAMZII","Lumajang","2007-08-10","ATHO'ILLAH","L",null,null,null,null,null,null,"Lumajang, 11 Juli 2006","099","/MINI.L-Kid/30.02.02/S.1-2/VI/2020","099/MINI.L-Kid/30.02.02/S.1-2/VI/2020"]
[49,4305,"0068258891","1-18-05-80-162-049-8","JULI ANDRIYANTO","Lumajang","2006-07-11","SIAMAN","L",null,null,null,null,null,null,"Lumajang, 03 Februari 2007","100","/MINI.L-Kid/30.02.02/S.1-2/VI/2020","100/MINI.L-Kid/30.02.02/S.1-2/VI/2020"]
[50,4347,"0076367763","1-18-05-80-162-050-7","LIYA FEBRIYANI","Lumajang","2007-02-03","MALIK","P",null,null,null,null,null,null,"Lumajang, 22 April 2008","101","/MINI.L-Kid/30.02.02/S.1-2/VI/2020","101/MINI.L-Kid/30.02.02/S.1-2/VI/2020"]
[51,4348,"0083034332","1-18-05-80-162-051-6","LIZATUL CHAIYUNI","Lumajang","2008-04-22","MUCHAMAD BAHRUJI","P",null,null,null,null,null,null,"Kayu Besar, 17 Maret 2009","102","/MINI.L-Kid/30.02.02/S.1-2/VI/2020","102/MINI.L-Kid/30.02.02/S.1-2/VI/2020"]
[52,4531,3099539154,"1-18-05-80-162-052-5","M. ALHAFIS","Kayu Besar","2009-03-17","RAMLI","L",null,null,null,null,null,null,"Lumajang, 25 November 2007","103","/MINI.L-Kid/30.02.02/S.1-2/VI/2020","103/MINI.L-Kid/30.02.02/S.1-2/VI/2020"]
[53,4530,"0077015789","1-18-05-80-162-053-4","MUHAMMAD RIZKI RIDWAN","Lumajang","2007-11-25","MOCH. SYAIKHU RIFA'I","L",null,null,null,null,null,null,"Lumajang, 28 Juli 2007","104","/MINI.L-Kid/30.02.02/S.1-2/VI/2020","104/MINI.L-Kid/30.02.02/S.1-2/VI/2020"]
[54,4351,"0076361559","1-18-05-80-162-054-3","MOCHAMAD RAFLI DIAN SAPUTRA","Lumajang","2007-07-28","SAMSUL ARIFIN","L",null,null,null,null,null,null,"Lumajang, 10 Oktober 2007","105","/MINI.L-Kid/30.02.02/S.1-2/VI/2020","105/MINI.L-Kid/30.02.02/S.1-2/VI/2020"]
[55,4352,"0075591405","1-18-05-80-162-055-2","MOCHAMMAD AFAREL PUTRA RAMDHANA","Lumajang","2007-10-10","MOCH MISKI","L",null,null,null,null,null,null,"Lumajang, 10 Maret 2007","106","/MINI.L-Kid/30.02.02/S.1-2/VI/2020","106/MINI.L-Kid/30.02.02/S.1-2/VI/2020"]
[56,4355,"0075363258","1-18-05-80-162-056-9","MUHAMAD JEFRI MAULANA","Lumajang","2007-03-10","RODEK SUGIANTORO","L",null,null,null,null,null,null,"Lumajang, 11 Juli 2007","107","/MINI.L-Kid/30.02.02/S.1-2/VI/2020","107/MINI.L-Kid/30.02.02/S.1-2/VI/2020"]
[57,4376,"0072066741","1-18-05-80-162-057-8","MUHAMMAD DWI WILDAN BAGUS KURNIAWAN","Lumajang","2007-07-11","MOCH SAREH","L",null,null,null,null,null,null,"Lumajang, 01 Agustus 2007","108",null,"108"]
[58,4377,"0071459044","1-18-05-80-162-058-7","MUHAMMAD FARIL FIRMANSYA","Lumajang","2007-08-01","ANDIK SUHARTONO","L",null,null,null,null,null,null,"Lumajang, 05 September 2007","109",null,"109"]
[59,4349,"0074206034","1-18-05-80-162-059-6","MUHAMMAD FARIZ UBAIDILLA","Lumajang","2007-09-05","MUHAMMAD HERI PRIBADI","L",null,null,null,null,null,null,"Lumajang, 28 November 2007","110",null,"110"]
[60,4356,"0077937892","1-18-05-80-162-060-5","MUHAMMAD MAULANA ZIDANIL ILMI","Lumajang","2007-11-28","ABDUL ROZAQ","L",null,null,null,null,null,null,"Lumajang, 15 Juli 2007","111",null,"111"]
[61,4357,"0078608527","1-18-05-80-162-061-4","MUHAMMAD SUTRISNO ISMAIL","Lumajang","2007-07-15","GATOT ISMAIL","L",null,null,null,null,null,null,"Lumajang, 10 November 2007","112",null,"112"]
[62,4381,"0072209435","1-18-05-80-162-062-3","NOVITA ERNIAWAN","Lumajang","2007-11-10","SABAR SETIAWAN","P",null,null,null,null,null,null,"Lumajang, 07 Agustus 2007","113",null,"113"]
[63,4383,"0077439834","1-18-05-80-162-063-2","PUTRI AULIA DWI AGUSTIN","Lumajang","2007-08-07","SAHURI","P",null,null,null,null,null,null,"Lumajang, 26 Juli 2007","114",null,"114"]
[64,4385,"0073137310","1-18-05-80-162-064-9","STANY RAFIDAH RAHMANIA","Lumajang","2007-07-26","SUNARIADI","P",null,null,null,null,null,null,"Lumajang, 17 Juli 2007","115",null,"115"]
[65,4387,"0077336427","1-18-05-80-162-065-8","USWATUN KHASANAH","Lumajang","2007-07-17","SATUKAN","P",null,null,null,null,null,null,{"$f":"F73&\", \"&TEXT(G73,\"[$-id-ID]dd mmmm yyyy\")","v":"Lumajang, 19 April 2007"},"116",null,{"$f":"Q72&R72","v":"116"}]
[66,4389,"0078407631","1-18-05-80-162-066-7","VIKROUL KHAMILA","Lumajang","2007-04-19","AKHMADIYONO","P",null,null,null,null,null,null,", 00 Januari 1900","117",null,"117"]
[67,null,null,null,null,null,null,null,null,null,null,null,null,null,null,", 00 Januari 1900","118",null,"118"]
[68,null,null,null,null,null,null,null,null,null,null,null,null,null,null,", 00 Januari 1900","119",null,"119"]
[69,null,null,null,null,null,null,null,null,null,null,null,null,null,null,", 00 Januari 1900","120",null,"120"]
[70,null,null,null,null,null,null,null,null,null,null,null,null,null,null,", 00 Januari 1900","121",null,"121"]
[71,null,null,null,null,null,null,null,null,null,null,null,null,null,null,", 00 Januari 1900","122",null,"122"]
[72,null,null,null,null,null,null,null,null,null,null,null,null,null,null,", 00 Januari 1900","123",null,"123"]
[73,null,null,null,null,null,null,null,null,null,null,null,null,null,null,", 00 Januari 1900","124",null,"124"]
[74,null,null,null,null,null,null,null,null,null,null,null,null,null,null,", 00 Januari 1900","125",null,"125"]
[75,null,null,null,null,null,null,null,null,null,null,null,null,null,null,", 00 Januari 1900","126",null,"126"]
[76,null,null,null,null,null,null,null,null,null,null,null,null,null,null,", 00 Januari 1900","127",null,"127"]
[77,null,null,null,null,null,null,null,null,null,null,null,null,null,null,", 00 Januari 1900","128",null,"128"]
[78,null,null,null,null,null,null,null,null,null,null,null,null,null,null,", 00 Januari 1900","129",null,"129"]
[79,null,null,null,null,null,null,null,null,null,null,null,null,null,null,", 00 Januari 1900","130",null,"130"]
[80,null,null,null,null,null,null,null,null,null,null,null,null,null,null,", 00 Januari 1900","131",null,"131"]
[81,null,null,null,null,null,null,null,null,null,null,null,null,null,null,", 00 Januari 1900","132",null,"132"]
[82,null,null,null,null,null,null,null,null,null,null,null,null,null,null,", 00 Januari 1900","133",null,"133"]
[83,null,null,null,null,null,null,null,null,null,null,null,null,null,null,", 00 Januari 1900","134",null,"134"]
[84,null,null,null,null,null,null,null,null,null,null,null,null,null,null,", 00 Januari 1900","135",null,"135"]
[85,null,null,null,null,null,null,null,null,null,null,null,null,null,null,", 00 Januari 1900","136",null,"136"]
[86,null,null,null,null,null,null,null,null,null,null,null,null,null,null,", 00 Januari 1900","137",null,"137"]
[87,null,null,null,null,null,null,null,null,null,null,null,null,null,null,", 00 Januari 1900","138",null,"138"]
[88,null,null,null,null,null,null,null,null,null,null,null,null,null,null,", 00 Januari 1900","139",null,"139"]
[89,null,null,null,null,null,null,null,null,null,null,null,null,null,null,", 00 Januari 1900","140",null,"140"]
[90,null,null,null,null,null,null,null,null,null,null,null,null,null,null,", 00 Januari 1900","141",null,"141"]
[91,null,null,null,null,null,null,null,null,null,null,null,null,null,null,", 00 Januari 1900","142",null,"142"]
[92,null,null,null,null,null,null,null,null,null,null,null,null,null,null,", 00 Januari 1900","143",null,"143"]
[93,null,null,null,null,null,null,null,null,null,null,null,null,null,null,", 00 Januari 1900","144",null,"144"]
[94,null,null,null,null,null,null,null,null,null,null,null,null,null,null,", 00 Januari 1900","145",null,"145"]
[95,null,null,null,null,null,null,null,null,null,null,null,null,null,null,", 00 Januari 1900","146",null,"146"]
[96,null,null,null,null,null,null,null,null,null,null,null,null,null,null,", 00 Januari 1900","147",null,"147"]
[97,null,null,null,null,null,null,null,null,null,null,null,null,null,null,", 00 Januari 1900","148",null,"148"]
[98,null,null,null,null,null,null,null,null,null,null,null,null,null,null,", 00 Januari 1900","149",null,"149"]
[99,null,null,null,null,null,null,null,null,null,null,null,null,null,null,", 00 Januari 1900","150",null,"150"]
[100,null,null,null,null,null,null,null,null,null,null,null,null,null,null,", 00 Januari 1900","151",null,"151"]
[101,null,null,null,null,null,null,null,null,null,null,null,null,null,null,", 00 Januari 1900","152",null,"152"]
[102,null,null,null,null,null,null,null,null,null,null,null,null,null,null,", 00 Januari 1900","153",null,"153"]
[103,null,null,null,null,null,null,null,null,null,null,null,null,null,null,", 00 Januari 1900","154",null,"154"]
[104,null,null,null,null,null,null,null,null,null,null,null,null,null,null,", 00 Januari 1900","155",null,"155"]
[105,null,null,null,null,null,null,null,null,null,null,null,null,null,null,", 00 Januari 1900","156",null,"156"]
[106,null,null,null,null,null,null,null,null,null,null,null,null,null,null,", 00 Januari 1900","157",null,"157"]
[107,null,null,null,null,null,null,null,null,null,null,null,null,null,null,", 00 Januari 1900","158",null,"158"]
[108,null,null,null,null,null,null,null,null,null,null,null,null,null,null,", 00 Januari 1900","159",null,"159"]
[109,null,null,null,null,null,null,null,null,null,null,null,null,null,null,", 00 Januari 1900","160",null,"160"]
[110,null,null,null,null,null,null,null,null,null,null,null,null,null,null,", 00 Januari 1900","161",null,"161"]
[111,null,null,null,null,null,null,null,null,null,null,null,null,null,null,", 00 Januari 1900","162",null,"162"]
[112,null,null,null,null,null,null,null,null,null,null,null,null,null,null,", 00 Januari 1900","163",null,"163"]
[113,null,null,null,null,null,null,null,null,null,null,null,null,null,null,", 00 Januari 1900","164",null,"164"]
[114,null,null,null,null,null,null,null,null,null,null,null,null,null,null,", 00 Januari 1900","165",null,"165"]
[115,null,null,null,null,null,null,null,null,null,null,null,null,null,null,", 00 Januari 1900","166",null,"166"]
[116,null,null,null,null,null,null,null,null,null,null,null,null,null,null,", 00 Januari 1900","167",null,"167"]
[117,null,null,null,null,null,null,null,null,null,null,null,null,null,null,", 00 Januari 1900","168",null,"168"]
[118,null,null,null,null,null,null,null,null,null,null,null,null,null,null,", 00 Januari 1900","169",null,"169"]
[119,null,null,null,null,null,null,null,null,null,null,null,null,null,null,", 00 Januari 1900","170",null,"170"]
[120,null,null,null,null,null,null,null,null,null,null,null,null,null,null,", 00 Januari 1900","171",null,"171"]
[121,null,null,null,null,null,null,null,null,null,null,null,null,null,null,", 00 Januari 1900","172",null,"172"]
[122,null,null,null,null,null,null,null,null,null,null,null,null,null,null,", 00 Januari 1900","173",null,"173"]
[123,null,null,null,null,null,null,null,null,null,null,null,null,null,null,", 00 Januari 1900","174",null,"174"]
[124,null,null,null,null,null,null,null,null,null,null,null,null,null,null,", 00 Januari 1900","175",null,"175"]
[125,null,null,null,null,null,null,null,null,null,null,null,null,null,null,", 00 Januari 1900","176",null,"176"]
[126,null,null,null,null,null,null,null,null,null,null,null,null,null,null,", 00 Januari 1900","177",null,"177"]
[127,null,null,null,null,null,null,null,null,null,null,null,null,null,null,", 00 Januari 1900","178",null,"178"]
[128,null,null,null,null,null,null,null,null,null,null,null,null,null,null,", 00 Januari 1900","179",null,"179"]
[129,null,null,null,null,null,null,null,null,null,null,null,null,null,null,{"$f":"F137&\", \"&TEXT(G137,\"[$-id-ID]dd mmmm yyyy\")","v":", 00 Januari 1900"},"180",null,{"$f":"Q136&R136","v":"180"}]
[130,null,null,null,null,null,null,null,null,null,null,null,null,null,null,", 00 Januari 1900","181",null,"181"]
[131,null,null,null,null,null,null,null,null,null,null,null,null,null,null,", 00 Januari 1900","182",null,"182"]
[132,null,null,null,null,null,null,null,null,null,null,null,null,null,null,", 00 Januari 1900","183",null,"183"]
[133,null,null,null,null,null,null,null,null,null,null,null,null,null,null,", 00 Januari 1900","184",null,"184"]
[134,null,null,null,null,null,null,null,null,null,null,null,null,null,null,", 00 Januari 1900","185",null,"185"]
[135,null,null,null,null,null,null,null,null,null,null,null,null,null,null,", 00 Januari 1900","186",null,"186"]
[136,null,null,null,null,null,null,null,null,null,null,null,null,null,null,", 00 Januari 1900","187",null,"187"]
[137,null,null,null,null,null,null,null,null,null,null,null,null,null,null,", 00 Januari 1900","188",null,"188"]
[138,null,null,null,null,null,null,null,null,null,null,null,null,null,null,", 00 Januari 1900","189",null,"189"]
[139,null,null,null,null,null,null,null,null,null,null,null,null,null,null,", 00 Januari 1900","190",null,"190"]
[140,null,null,null,null,null,null,null,null,null,null,null,null,null,null,", 00 Januari 1900","191",null,"191"]
[141,null,null,null,null,null,null,null,null,null,null,null,null,null,null,", 00 Januari 1900","192",null,"192"]
[142,null,null,null,null,null,null,null,null,null,null,null,null,null,null,", 00 Januari 1900","193",null,"193"]
[143,null,null,null,null,null,null,null,null,null,null,null,null,null,null,", 00 Januari 1900","194",null,"194"]
[144,null,null,null,null,null,null,null,null,null,null,null,null,null,null,", 00 Januari 1900","195",null,"195"]
[145,null,null,null,null,null,null,null,null,null,null,null,null,null,null,", 00 Januari 1900","196",null,"196"]
[146,null,null,null,null,null,null,null,null,null,null,null,null,null,null,", 00 Januari 1900","197",null,"197"]
[147,null,null,null,null,null,null,null,null,null,null,null,null,null,null,", 00 Januari 1900","198",null,"198"]
[148,null,null,null,null,null,null,null,null,null,null,null,null,null,null,", 00 Januari 1900","199",null,"199"]
[149,null,null,null,null,null,null,null,null,null,null,null,null,null,null,", 00 Januari 1900","200",null,"200"]
[150,null,null,null,null,null,null,null,null,null,null,null,null,null,null,", 00 Januari 1900","201",null,"201"]
[151,null,null,null,null,null,null,null,null,null,null,null,null,null,null,", 00 Januari 1900","202",null,"202"]
[152,null,null,null,null,null,null,null,null,null,null,null,null,null,null,", 00 Januari 1900","203",null,"203"]
[153,null,null,null,null,null,null,null,null,null,null,null,null,null,null,", 00 Januari 1900","204",null,"204"]
[154,null,null,null,null,null,null,null,null,null,null,null,null,null,null,", 00 Januari 1900","205",null,"205"]
[155,null,null,null,null,null,null,null,null,null,null,null,null,null,null,", 00 Januari 1900","206",null,"206"]
[156,null,null,null,null,null,null,null,null,null,null,null,null,null,null,", 00 Januari 1900","207",null,"207"]
[157,null,null,null,null,null,null,null,null,null,null,null,null,null,null,", 00 Januari 1900","208",null,"208"]
[158,null,null,null,null,null,null,null,null,null,null,null,null,null,null,", 00 Januari 1900","209",null,"209"]
[159,null,null,null,null,null,null,null,null,null,null,null,null,null,null,", 00 Januari 1900","210",null,"210"]
[160,null,null,null,null,null,null,null,null,null,null,null,null,null,null,", 00 Januari 1900","211",null,"211"]
[161,null,null,null,null,null,null,null,null,null,null,null,null,null,null,", 00 Januari 1900","212",null,"212"]
[162,null,null,null,null,null,null,null,null,null,null,null,null,null,null,", 00 Januari 1900","213",null,"213"]
[163,null,null,null,null,null,null,null,null,null,null,null,null,null,null,", 00 Januari 1900","214",null,"214"]
[164,null,null,null,null,null,null,null,null,null,null,null,null,null,null,", 00 Januari 1900","215",null,"215"]
[165,null,null,null,null,null,null,null,null,null,null,null,null,null,null,", 00 Januari 1900","216",null,"216"]
[166,null,null,null,null,null,null,null,null,null,null,null,null,null,null,", 00 Januari 1900","217",null,"217"]
[167,null,null,null,null,null,null,null,null,null,null,null,null,null,null,", 00 Januari 1900","218",null,"218"]
[168,null,null,null,null,null,null,null,null,null,null,null,null,null,null,", 00 Januari 1900","219",null,"219"]
[169,null,null,null,null,null,null,null,null,null,null,null,null,null,null,", 00 Januari 1900","220",null,"220"]
[170,null,null,null,null,null,null,null,null,null,null,null,null,null,null,", 00 Januari 1900","221",null,"221"]
[171,null,null,null,null,null,null,null,null,null,null,null,null,null,null,", 00 Januari 1900","222",null,"222"]
[172,null,null,null,null,null,null,null,null,null,null,null,null,null,null,", 00 Januari 1900","223",null,"223"]
[173,null,null,null,null,null,null,null,null,null,null,null,null,null,null,", 00 Januari 1900","224",null,"224"]
[174,null,null,null,null,null,null,null,null,null,null,null,null,null,null,", 00 Januari 1900","225",null,"225"]
[175,null,null,null,null,null,null,null,null,null,null,null,null,null,null,", 00 Januari 1900","226",null,"226"]
[176,null,null,null,null,null,null,null,null,null,null,null,null,null,null,", 00 Januari 1900","227",null,"227"]
[177,null,null,null,null,null,null,null,null,null,null,null,null,null,null,", 00 Januari 1900","228",null,"228"]
[178,null,null,null,null,null,null,null,null,null,null,null,null,null,null,", 00 Januari 1900","229",null,"229"]
[179,null,null,null,null,null,null,null,null,null,null,null,null,null,null,", 00 Januari 1900","230",null,"230"]
[180,null,null,null,null,null,null,null,null,null,null,null,null,null,null,", 00 Januari 1900","231",null,"231"]
[181,null,null,null,null,null,null,null,null,null,null,null,null,null,null,", 00 Januari 1900","232",null,"232"]
[182,null,null,null,null,null,null,null,null,null,null,null,null,null,null,", 00 Januari 1900","233",null,"233"]
[183,null,null,null,null,null,null,null,null,null,null,null,null,null,null,", 00 Januari 1900","234",null,"234"]
[184,null,null,null,null,null,null,null,null,null,null,null,null,null,null,", 00 Januari 1900","235",null,"235"]
[185,null,null,null,null,null,null,null,null,null,null,null,null,null,null,", 00 Januari 1900","236",null,"236"]
[186,null,null,null,null,null,null,null,null,null,null,null,null,null,null,", 00 Januari 1900","237",null,"237"]
[187,null,null,null,null,null,null,null,null,null,null,null,null,null,null,", 00 Januari 1900","238",null,"238"]
[188,null,null,null,null,null,null,null,null,null,null,null,null,null,null,", 00 Januari 1900","239",null,"239"]
[189,null,null,null,null,null,null,null,null,null,null,null,null,null,null,", 00 Januari 1900","240",null,"240"]
[190,null,null,null,null,null,null,null,null,null,null,null,null,null,null,", 00 Januari 1900","241",null,"241"]
[191,null,null,null,null,null,null,null,null,null,null,null,null,null,null,", 00 Januari 1900","242",null,"242"]
[192,null,null,null,null,null,null,null,null,null,null,null,null,null,null,", 00 Januari 1900","243",null,"243"]
[193,null,null,null,null,null,null,null,null,null,null,null,null,null,null,{"$f":"F201&\", \"&TEXT(G201,\"[$-id-ID]dd mmmm yyyy\")","v":", 00 Januari 1900"},"244",null,{"$f":"Q200&R200","v":"244"}]
[194,null,null,null,null,null,null,null,null,null,null,null,null,null,null,", 00 Januari 1900","245",null,"245"]
[195,null,null,null,null,null,null,null,null,null,null,null,null,null,null,", 00 Januari 1900","246",null,"246"]
[196,null,null,null,null,null,null,null,null,null,null,null,null,null,null,", 00 Januari 1900","247",null,"247"]
[197,null,null,null,null,null,null,null,null,null,null,null,null,null,null,", 00 Januari 1900","248",null,"248"]
[198,null,null,null,null,null,null,null,null,null,null,null,null,null,null,", 00 Januari 1900","249",null,"249"]
[199,null,null,null,null,null,null,null,null,null,null,null,null,null,null,", 00 Januari 1900","250",null,"250"]
[200]

{"sheet":"AH","index":2,"n_rows":108,"n_cols":16,"rows_kept":108,"cut":false,"hidden":false,"merged":[[4,14,6,14],[5,11,5,12],[0,0,0,9],[1,0,1,9],[2,0,2,9],[4,0,6,0],[4,1,6,1],[4,2,6,2],[4,3,6,3],[4,4,6,4],[4,5,4,12],[5,5,5,9]]}
["DAFTAR NILAI AKHIR SEKOLAH"]
[{"$f":"AA!A2","v":"MADRASAH IBTIDAIYAH NURUL ISLAM LABRUK KIDUL"}]
[{"$f":"AA!A3","v":"TAHUN PELAJARAN 2019/2020"}]
[]
["NO","No Induk","NISN","Nomor Peserta","Nama Peserta","ALQURAN HADITS",null,null,null,null,null,null,null,null,"rata-rata UAM & PRAKTEK"]
[null,null,null,null,null,"Nilai Semester",null,null,null,null,"Rata- 2","NILAI UAMBD",null,null,null,"UAMNU"]
[null,null,null,null,null,7,8,9,10,11,"Rapor","TULIS","PRAKTIK",null,null,"TULIS"]
[1,{"$f":"IF(SISWA!B8=0,\"\",SISWA!B8)","v":4331},{"$f":"IF(SISWA!C8=0,\"\",SISWA!C8)","v":"0078140536"},{"$f":"IF(SISWA!D8=0,\"\",SISWA!D8)","v":"1-18-05-80-162-001-8"},{"$f":"IF(SISWA!E8=0,\"\",SISWA!E8)","v":"ACHMAD FATHIR IZUDDIN"},null,85,83,89,83,{"$f":"AVERAGE(F8:J8)","v":85},80,{"$f":"K8","v":85},{"$f":"AVERAGE(L8:M8)","v":82.5},{"$f":"AVERAGE(L8:M8)","v":82.5},82.5]
[2,{"$f":"IF(SISWA!B9=0,\"\",SISWA!B9)","v":4333},{"$f":"IF(SISWA!C9=0,\"\",SISWA!C9)","v":"0084691896"},{"$f":"IF(SISWA!D9=0,\"\",SISWA!D9)","v":"1-18-05-80-162-002-7"},{"$f":"IF(SISWA!E9=0,\"\",SISWA!E9)","v":"AININ NAFISA FEBRIYANTI"},null,85,80,90,92,{"$f":"AVERAGE(F9:J9)","v":86.75},82.5,{"$f":"K9","v":86.75},{"$f":"AVERAGE(L9:M9)","v":84.625},{"$f":"AVERAGE(L9:M9)","v":84.625},84.625]
[3,{"$f":"IF(SISWA!B10=0,\"\",SISWA!B10)","v":4334},{"$f":"IF(SISWA!C10=0,\"\",SISWA!C10)","v":"0075488897"},{"$f":"IF(SISWA!D10=0,\"\",SISWA!D10)","v":"1-18-05-80-162-003-6"},{"$f":"IF(SISWA!E10=0,\"\",SISWA!E10)","v":"AISYAH DWI ANDINI"},null,81,88,91,90,87.5,77.5,87.5,82.5,82.5,82.5]
[4,{"$f":"IF(SISWA!B11=0,\"\",SISWA!B11)","v":4335},{"$f":"IF(SISWA!C11=0,\"\",SISWA!C11)","v":"0077554289"},{"$f":"IF(SISWA!D11=0,\"\",SISWA!D11)","v":"1-18-05-80-162-004-5"},{"$f":"IF(SISWA!E11=0,\"\",SISWA!E11)","v":"AJENG AGUSTINA KIRANA PUTRI"},null,85,83,93,90,87.75,60,87.75,73.875,73.875,73.875]
[5,{"$f":"IF(SISWA!B12=0,\"\",SISWA!B12)","v":4336},{"$f":"IF(SISWA!C12=0,\"\",SISWA!C12)","v":"0078831956"},{"$f":"IF(SISWA!D12=0,\"\",SISWA!D12)","v":"1-18-05-80-162-005-4"},{"$f":"IF(SISWA!E12=0,\"\",SISWA!E12)","v":"ALVIAN FAIZULHAQQI"},null,85,79,89,82,83.75,60,83.75,71.875,71.875,71.875]
[6,{"$f":"IF(SISWA!B13=0,\"\",SISWA!B13)","v":4337},{"$f":"IF(SISWA!C13=0,\"\",SISWA!C13)","v":"0073667130"},{"$f":"IF(SISWA!D13=0,\"\",SISWA!D13)","v":"1-18-05-80-162-006-3"},{"$f":"IF(SISWA!E13=0,\"\",SISWA!E13)","v":"ANGGITA RIZKY YUGA MEISYA"},null,80,86,91,88,86.25,60,86.25,73.125,73.125,73.125]
[7,{"$f":"IF(SISWA!B14=0,\"\",SISWA!B14)","v":4338},{"$f":"IF(SISWA!C14=0,\"\",SISWA!C14)","v":"0074492973"},{"$f":"IF(SISWA!D14=0,\"\",SISWA!D14)","v":"1-18-05-80-162-007-2"},{"$f":"IF(SISWA!E14=0,\"\",SISWA!E14)","v":"AURA SALSABILA WULAN SARI"},null,85,80,89,89,85.75,60,85.75,72.875,72.875,72.875]
[8,{"$f":"IF(SISWA!B15=0,\"\",SISWA!B15)","v":4366},{"$f":"IF(SISWA!C15=0,\"\",SISWA!C15)","v":"0078989673"},{"$f":"IF(SISWA!D15=0,\"\",SISWA!D15)","v":"1-18-05-80-162-008-9"},{"$f":"IF(SISWA!E15=0,\"\",SISWA!E15)","v":"BALQIS NAILA AUDIA"},null,85,94,95,92,91.5,77.5,91.5,84.5,84.5,84.5]
[9,{"$f":"IF(SISWA!B16=0,\"\",SISWA!B16)","v":4440},{"$f":"IF(SISWA!C16=0,\"\",SISWA!C16)","v":"0082763386"},{"$f":"IF(SISWA!D16=0,\"\",SISWA!D16)","v":"1-18-05-80-162-009-8"},{"$f":"IF(SISWA!E16=0,\"\",SISWA!E16)","v":"BIMA ARYO SUSILO"},null,80,84,86,96,86.5,60,86.5,73.25,73.25,73.25]
[10,{"$f":"IF(SISWA!B17=0,\"\",SISWA!B17)","v":4367},{"$f":"IF(SISWA!C17=0,\"\",SISWA!C17)","v":"0078400392"},{"$f":"IF(SISWA!D17=0,\"\",SISWA!D17)","v":"1-18-05-80-162-010-7"},{"$f":"IF(SISWA!E17=0,\"\",SISWA!E17)","v":"BIMA SATRIA DIRGANTARA"},null,84,79,89,88,85,60,85,72.5,72.5,72.5]
[11,{"$f":"IF(SISWA!B18=0,\"\",SISWA!B18)","v":4339},{"$f":"IF(SISWA!C18=0,\"\",SISWA!C18)","v":"0086652599"},{"$f":"IF(SISWA!D18=0,\"\",SISWA!D18)","v":"1-18-05-80-162-011-6"},{"$f":"IF(SISWA!E18=0,\"\",SISWA!E18)","v":"DEVI KARUNIA RATNA PUTRI"},null,85,82,92,88,86.75,72.5,86.75,79.625,79.625,79.625]
[12,{"$f":"IF(SISWA!B19=0,\"\",SISWA!B19)","v":4340},{"$f":"IF(SISWA!C19=0,\"\",SISWA!C19)","v":"0089906682"},{"$f":"IF(SISWA!D19=0,\"\",SISWA!D19)","v":"1-18-05-80-162-012-5"},{"$f":"IF(SISWA!E19=0,\"\",SISWA!E19)","v":"DEVITA FEBRIANI PUTRI"},null,80,89,91,90,87.5,60,87.5,73.75,73.75,73.75]
[13,{"$f":"IF(SISWA!B20=0,\"\",SISWA!B20)","v":4370},{"$f":"IF(SISWA!C20=0,\"\",SISWA!C20)","v":"0074514146"},{"$f":"IF(SISWA!D20=0,\"\",SISWA!D20)","v":"1-18-05-80-162-013-4"},{"$f":"IF(SISWA!E20=0,\"\",SISWA!E20)","v":"FAKHIS GABRIL LIA"},null,81,89,90,94,88.5,72.5,88.5,80.5,80.5,80.5]
[14,{"$f":"IF(SISWA!B21=0,\"\",SISWA!B21)","v":4342},{"$f":"IF(SISWA!C21=0,\"\",SISWA!C21)","v":"0081081672"},{"$f":"IF(SISWA!D21=0,\"\",SISWA!D21)","v":"1-18-05-80-162-014-3"},{"$f":"IF(SISWA!E21=0,\"\",SISWA!E21)","v":"FARAH NAILATUL ALYAH"},null,90,90,94,99,93.25,72.5,93.25,82.875,82.875,82.875]
[15,{"$f":"IF(SISWA!B22=0,\"\",SISWA!B22)","v":4345},{"$f":"IF(SISWA!C22=0,\"\",SISWA!C22)","v":"0073420487"},{"$f":"IF(SISWA!D22=0,\"\",SISWA!D22)","v":"1-18-05-80-162-015-2"},{"$f":"IF(SISWA!E22=0,\"\",SISWA!E22)","v":"GALANG MARDHOTILLAH SATOTO"},null,84,80,84,87,83.75,60,83.75,71.875,71.875,71.875]
[16,{"$f":"IF(SISWA!B23=0,\"\",SISWA!B23)","v":4371},{"$f":"IF(SISWA!C23=0,\"\",SISWA!C23)","v":"0079870082"},{"$f":"IF(SISWA!D23=0,\"\",SISWA!D23)","v":"1-18-05-80-162-016-9"},{"$f":"IF(SISWA!E23=0,\"\",SISWA!E23)","v":"GALIH FAREL PRASTYO"},null,85,83,84,94,86.5,60,86.5,73.25,73.25,73.25]
[17,{"$f":"IF(SISWA!B24=0,\"\",SISWA!B24)","v":4466},{"$f":"IF(SISWA!C24=0,\"\",SISWA!C24)","v":"0081629504"},{"$f":"IF(SISWA!D24=0,\"\",SISWA!D24)","v":"1-18-05-80-162-017-8"},{"$f":"IF(SISWA!E24=0,\"\",SISWA!E24)","v":"HIBATULLAH MUSTAGHFIRY RUSLI"},null,83,83,91,82,84.75,60,84.75,72.375,72.375,72.375]
[18,{"$f":"IF(SISWA!B25=0,\"\",SISWA!B25)","v":4346},{"$f":"IF(SISWA!C25=0,\"\",SISWA!C25)","v":"0073608418"},{"$f":"IF(SISWA!D25=0,\"\",SISWA!D25)","v":"1-18-05-80-162-018-7"},{"$f":"IF(SISWA!E25=0,\"\",SISWA!E25)","v":"IKA KURNIA WATI AGUSTINA"},null,81,79,93,88,85.25,60,85.25,72.625,72.625,72.625]
[19,{"$f":"IF(SISWA!B26=0,\"\",SISWA!B26)","v":4350},{"$f":"IF(SISWA!C26=0,\"\",SISWA!C26)","v":"0072658586"},{"$f":"IF(SISWA!D26=0,\"\",SISWA!D26)","v":"1-18-05-80-162-019-6"},{"$f":"IF(SISWA!E26=0,\"\",SISWA!E26)","v":"MAYLUNA EKA PRATIWI"},null,91,90,93,94,92,60,92,76,76,76]
[20,{"$f":"IF(SISWA!B27=0,\"\",SISWA!B27)","v":4353},{"$f":"IF(SISWA!C27=0,\"\",SISWA!C27)","v":"0075464137"},{"$f":"IF(SISWA!D27=0,\"\",SISWA!D27)","v":"1-18-05-80-162-020-5"},{"$f":"IF(SISWA!E27=0,\"\",SISWA!E27)","v":"MOHAMAD DWIMAS FIRDAUS"},null,83,87,86,90,86.5,60,86.5,73.25,73.25,73.25]
[21,{"$f":"IF(SISWA!B28=0,\"\",SISWA!B28)","v":4375},{"$f":"IF(SISWA!C28=0,\"\",SISWA!C28)","v":"0075096831"},{"$f":"IF(SISWA!D28=0,\"\",SISWA!D28)","v":"1-18-05-80-162-021-4"},{"$f":"IF(SISWA!E28=0,\"\",SISWA!E28)","v":"MUHAMMAD AFFAN ABI SYAHPUTRA"},null,81,83,86,88,84.5,60,84.5,72.25,72.25,72.25]
[22,{"$f":"IF(SISWA!B29=0,\"\",SISWA!B29)","v":4354},{"$f":"IF(SISWA!C29=0,\"\",SISWA!C29)","v":"0075055640"},{"$f":"IF(SISWA!D29=0,\"\",SISWA!D29)","v":"1-18-05-80-162-022-3"},{"$f":"IF(SISWA!E29=0,\"\",SISWA!E29)","v":"MUHAMMAD ALVIN RIDHO"},null,74,83,88,88,83.25,77.5,83.25,80.375,80.375,80.375]
[23,{"$f":"IF(SISWA!B30=0,\"\",SISWA!B30)","v":4378},{"$f":"IF(SISWA!C30=0,\"\",SISWA!C30)","v":"0074268893"},{"$f":"IF(SISWA!D30=0,\"\",SISWA!D30)","v":"1-18-05-80-162-023-2"},{"$f":"IF(SISWA!E30=0,\"\",SISWA!E30)","v":"MUKHAMAD DAVID ARIF FIRDAUS"},null,86,90,90,87,88.25,72.5,88.25,80.375,80.375,80.375]
[24,{"$f":"IF(SISWA!B31=0,\"\",SISWA!B31)","v":4379},{"$f":"IF(SISWA!C31=0,\"\",SISWA!C31)","v":"0072757203"},{"$f":"IF(SISWA!D31=0,\"\",SISWA!D31)","v":"1-18-05-80-162-024-9"},{"$f":"IF(SISWA!E31=0,\"\",SISWA!E31)","v":"NAORA ISQI AINAYYA"},null,98,91,94,88,92.75,85,92.75,88.875,88.875,88.875]
[25,{"$f":"IF(SISWA!B32=0,\"\",SISWA!B32)","v":4380},{"$f":"IF(SISWA!C32=0,\"\",SISWA!C32)","v":"0079026285"},{"$f":"IF(SISWA!D32=0,\"\",SISWA!D32)","v":"1-18-05-80-162-025-8"},{"$f":"IF(SISWA!E32=0,\"\",SISWA!E32)","v":"NAZRA ISLAMAY PASHA"},null,83,83,89,96,87.75,80,87.75,83.875,83.875,83.875]
[26,{"$f":"IF(SISWA!B33=0,\"\",SISWA!B33)","v":4382},{"$f":"IF(SISWA!C33=0,\"\",SISWA!C33)","v":"0079872151"},{"$f":"IF(SISWA!D33=0,\"\",SISWA!D33)","v":"1-18-05-80-162-026-7"},{"$f":"IF(SISWA!E33=0,\"\",SISWA!E33)","v":"NUR ALYA NABILA"},null,86,81,90,92,87.25,72.5,87.25,79.875,79.875,79.875]
[27,{"$f":"IF(SISWA!B34=0,\"\",SISWA!B34)","v":4358},{"$f":"IF(SISWA!C34=0,\"\",SISWA!C34)","v":"0087558837"},{"$f":"IF(SISWA!D34=0,\"\",SISWA!D34)","v":"1-18-05-80-162-027-6"},{"$f":"IF(SISWA!E34=0,\"\",SISWA!E34)","v":"PUTRI SHOLIKHAH"},null,85,82,89,88,86,60,86,73,73,73]
[28,{"$f":"IF(SISWA!B35=0,\"\",SISWA!B35)","v":4384},{"$f":"IF(SISWA!C35=0,\"\",SISWA!C35)","v":"0071234523"},{"$f":"IF(SISWA!D35=0,\"\",SISWA!D35)","v":"1-18-05-80-162-028-5"},{"$f":"IF(SISWA!E35=0,\"\",SISWA!E35)","v":"RESTI FITRIANTI DWI OCTAVIANI"},null,82,79,89,87,84.25,60,84.25,72.125,72.125,72.125]
[29,{"$f":"IF(SISWA!B36=0,\"\",SISWA!B36)","v":4359},{"$f":"IF(SISWA!C36=0,\"\",SISWA!C36)","v":"0073122181"},{"$f":"IF(SISWA!D36=0,\"\",SISWA!D36)","v":"1-18-05-80-162-029-4"},{"$f":"IF(SISWA!E36=0,\"\",SISWA!E36)","v":"ROUDHOTUS SA'DIYAH"},null,84,83,90,92,87.25,60,87.25,73.625,73.625,73.625]
[30,{"$f":"IF(SISWA!B37=0,\"\",SISWA!B37)","v":4386},{"$f":"IF(SISWA!C37=0,\"\",SISWA!C37)","v":"0075344352"},{"$f":"IF(SISWA!D37=0,\"\",SISWA!D37)","v":"1-18-05-80-162-030-3"},{"$f":"IF(SISWA!E37=0,\"\",SISWA!E37)","v":"TIERSYA BETA RAMANUZAN"},null,91,87,90,89,89.25,90,89.25,89.625,89.625,89.625]
[31,{"$f":"IF(SISWA!B38=0,\"\",SISWA!B38)","v":4388},{"$f":"IF(SISWA!C38=0,\"\",SISWA!C38)","v":"0077423646"},{"$f":"IF(SISWA!D38=0,\"\",SISWA!D38)","v":"1-18-05-80-162-031-2"},{"$f":"IF(SISWA!E38=0,\"\",SISWA!E38)","v":"VERA MUSTIKA"},null,80,82,90,92,86,60,86,73,73,73]
[32,{"$f":"IF(SISWA!B39=0,\"\",SISWA!B39)","v":4360},{"$f":"IF(SISWA!C39=0,\"\",SISWA!C39)","v":"0077290990"},{"$f":"IF(SISWA!D39=0,\"\",SISWA!D39)","v":"1-18-05-80-162-032-9"},{"$f":"IF(SISWA!E39=0,\"\",SISWA!E39)","v":"ZIDNY ILMA NABILA"},null,94,89,90,99,93,65,93,79,79,79]
[33,{"$f":"IF(SISWA!B40=0,\"\",SISWA!B40)","v":4390},{"$f":"IF(SISWA!C40=0,\"\",SISWA!C40)","v":"0077722307"},{"$f":"IF(SISWA!D40=0,\"\",SISWA!D40)","v":"1-18-05-80-162-033-8"},{"$f":"IF(SISWA!E40=0,\"\",SISWA!E40)","v":"ZITNATUL AULIA ILLA"},null,97,90,91,99,94.25,80,94.25,87.125,87.125,87.125]
[34,{"$f":"IF(SISWA!B41=0,\"\",SISWA!B41)","v":4330},{"$f":"IF(SISWA!C41=0,\"\",SISWA!C41)","v":"0084736422"},{"$f":"IF(SISWA!D41=0,\"\",SISWA!D41)","v":"1-18-05-80-162-034-7"},{"$f":"IF(SISWA!E41=0,\"\",SISWA!E41)","v":"ACHID ATHIRIL ARDAN"},null,72,78,86,86,80.5,60,80.5,70.25,70.25,70.25]
[35,{"$f":"IF(SISWA!B42=0,\"\",SISWA!B42)","v":4361},{"$f":"IF(SISWA!C42=0,\"\",SISWA!C42)","v":"0075656390"},{"$f":"IF(SISWA!D42=0,\"\",SISWA!D42)","v":"1-18-05-80-162-035-6"},{"$f":"IF(SISWA!E42=0,\"\",SISWA!E42)","v":"ACHMAD SEPTIAN HAMDANI"},null,79,79,89,89,84,60,84,72,72,72]
[36,{"$f":"IF(SISWA!B43=0,\"\",SISWA!B43)","v":4362},{"$f":"IF(SISWA!C43=0,\"\",SISWA!C43)","v":"0071796138"},{"$f":"IF(SISWA!D43=0,\"\",SISWA!D43)","v":"1-18-05-80-162-036-5"},{"$f":"IF(SISWA!E43=0,\"\",SISWA!E43)","v":"ACHMAD SULAIMAN"},null,79,75,81,81,79,60,79,69.5,69.5,69.5]
[37,{"$f":"IF(SISWA!B44=0,\"\",SISWA!B44)","v":4364},{"$f":"IF(SISWA!C44=0,\"\",SISWA!C44)","v":"0079667684"},{"$f":"IF(SISWA!D44=0,\"\",SISWA!D44)","v":"1-18-05-80-162-037-4"},{"$f":"IF(SISWA!E44=0,\"\",SISWA!E44)","v":"AIRLANGGA DWIKA RIZQI"},null,63,75,81,81,75,60,75,67.5,67.5,67.5]
[38,{"$f":"IF(SISWA!B45=0,\"\",SISWA!B45)","v":4365},{"$f":"IF(SISWA!C45=0,\"\",SISWA!C45)","v":"0089321127"},{"$f":"IF(SISWA!D45=0,\"\",SISWA!D45)","v":"1-18-05-80-162-038-3"},{"$f":"IF(SISWA!E45=0,\"\",SISWA!E45)","v":"AUFAN AZKAL ABRORI"},null,84,77,86,86,83.25,60,83.25,71.625,71.625,71.625]
[39,{"$f":"IF(SISWA!B46=0,\"\",SISWA!B46)","v":4465},{"$f":"IF(SISWA!C46=0,\"\",SISWA!C46)","v":"0071776593"},{"$f":"IF(SISWA!D46=0,\"\",SISWA!D46)","v":"1-18-05-80-162-039-2"},{"$f":"IF(SISWA!E46=0,\"\",SISWA!E46)","v":"AZZA PRISHAL DWI PUTRA"},null,83,75,87,87,83,60,83,71.5,71.5,71.5]
[40,{"$f":"IF(SISWA!B47=0,\"\",SISWA!B47)","v":4368},{"$f":"IF(SISWA!C47=0,\"\",SISWA!C47)","v":"0074569410"},{"$f":"IF(SISWA!D47=0,\"\",SISWA!D47)","v":"1-18-05-80-162-040-9"},{"$f":"IF(SISWA!E47=0,\"\",SISWA!E47)","v":"EKA AULIYA` PUTRI"},null,85,83,95,95,89.5,60,89.5,74.75,74.75,74.75]
[41,{"$f":"IF(SISWA!B48=0,\"\",SISWA!B48)","v":4341},{"$f":"IF(SISWA!C48=0,\"\",SISWA!C48)","v":"0083684457"},{"$f":"IF(SISWA!D48=0,\"\",SISWA!D48)","v":"1-18-05-80-162-041-8"},{"$f":"IF(SISWA!E48=0,\"\",SISWA!E48)","v":"ERSA PUSPITA EKA ROSA LINDA"},null,85,84,89,89,86.75,60,86.75,73.375,73.375,73.375]
[42,{"$f":"IF(SISWA!B49=0,\"\",SISWA!B49)","v":4369},{"$f":"IF(SISWA!C49=0,\"\",SISWA!C49)","v":"0078481731"},{"$f":"IF(SISWA!D49=0,\"\",SISWA!D49)","v":"1-18-05-80-162-042-7"},{"$f":"IF(SISWA!E49=0,\"\",SISWA!E49)","v":"FABIYAN TRI BAKTI OKTAFIAN"},null,81,78,89,89,84.25,60,84.25,72.125,72.125,72.125]
[43,{"$f":"IF(SISWA!B50=0,\"\",SISWA!B50)","v":4343},{"$f":"IF(SISWA!C50=0,\"\",SISWA!C50)","v":3075965396},{"$f":"IF(SISWA!D50=0,\"\",SISWA!D50)","v":"1-18-05-80-162-043-6"},{"$f":"IF(SISWA!E50=0,\"\",SISWA!E50)","v":"FELISITA APRILIA NUR NIHAYA"},null,78,83,83,83,81.75,60,81.75,70.875,70.875,70.875]
[44,{"$f":"IF(SISWA!B51=0,\"\",SISWA!B51)","v":4344},{"$f":"IF(SISWA!C51=0,\"\",SISWA!C51)","v":3078948093},{"$f":"IF(SISWA!D51=0,\"\",SISWA!D51)","v":"1-18-05-80-162-044-5"},{"$f":"IF(SISWA!E51=0,\"\",SISWA!E51)","v":"FIRDA DWI ANDRIANI"},null,85,83,93,93,88.5,60,88.5,74.25,74.25,74.25]
[45,{"$f":"IF(SISWA!B52=0,\"\",SISWA!B52)","v":4372},{"$f":"IF(SISWA!C52=0,\"\",SISWA!C52)","v":"0087636520"},{"$f":"IF(SISWA!D52=0,\"\",SISWA!D52)","v":"1-18-05-80-162-045-4"},{"$f":"IF(SISWA!E52=0,\"\",SISWA!E52)","v":"GILANG AKBAR PRASETYO"},null,81,75,83,83,80.5,60,80.5,70.25,70.25,70.25]
[46,{"$f":"IF(SISWA!B53=0,\"\",SISWA!B53)","v":4373},{"$f":"IF(SISWA!C53=0,\"\",SISWA!C53)","v":"0087373224"},{"$f":"IF(SISWA!D53=0,\"\",SISWA!D53)","v":"1-18-05-80-162-046-3"},{"$f":"IF(SISWA!E53=0,\"\",SISWA!E53)","v":"IFTAH IZZAH EMILIA  MAHMUD"},null,68,76,80,80,76,60,76,68,68,68]
[47,{"$f":"IF(SISWA!B54=0,\"\",SISWA!B54)","v":4441},{"$f":"IF(SISWA!C54=0,\"\",SISWA!C54)","v":"0081758949"},{"$f":"IF(SISWA!D54=0,\"\",SISWA!D54)","v":"1-18-05-80-162-047-2"},{"$f":"IF(SISWA!E54=0,\"\",SISWA!E54)","v":"INES ARIFANI MAULINA"},null,85,83,96,96,90,77.5,90,83.75,83.75,83.75]
[48,{"$f":"IF(SISWA!B55=0,\"\",SISWA!B55)","v":4374},{"$f":"IF(SISWA!C55=0,\"\",SISWA!C55)","v":"0073409469"},{"$f":"IF(SISWA!D55=0,\"\",SISWA!D55)","v":"1-18-05-80-162-048-9"},{"$f":"IF(SISWA!E55=0,\"\",SISWA!E55)","v":"IYAAD AFLAKHA RAMZII"},null,85,84,95,95,89.75,60,89.75,74.875,74.875,74.875]
[49,{"$f":"IF(SISWA!B56=0,\"\",SISWA!B56)","v":4305},{"$f":"IF(SISWA!C56=0,\"\",SISWA!C56)","v":"0068258891"},{"$f":"IF(SISWA!D56=0,\"\",SISWA!D56)","v":"1-18-05-80-162-049-8"},{"$f":"IF(SISWA!E56=0,\"\",SISWA!E56)","v":"JULI ANDRIYANTO"},null,85,80,81,81,81.75,60,81.75,70.875,70.875,70.875]
[50,{"$f":"IF(SISWA!B57=0,\"\",SISWA!B57)","v":4347},{"$f":"IF(SISWA!C57=0,\"\",SISWA!C57)","v":"0076367763"},{"$f":"IF(SISWA!D57=0,\"\",SISWA!D57)","v":"1-18-05-80-162-050-7"},{"$f":"IF(SISWA!E57=0,\"\",SISWA!E57)","v":"LIYA FEBRIYANI"},null,77,92,95,95,89.75,60,89.75,74.875,74.875,74.875]
[51,{"$f":"IF(SISWA!B58=0,\"\",SISWA!B58)","v":4348},{"$f":"IF(SISWA!C58=0,\"\",SISWA!C58)","v":"0083034332"},{"$f":"IF(SISWA!D58=0,\"\",SISWA!D58)","v":"1-18-05-80-162-051-6"},{"$f":"IF(SISWA!E58=0,\"\",SISWA!E58)","v":"LIZATUL CHAIYUNI"},null,77,85,87,87,84,60,84,72,72,72]
[52,{"$f":"IF(SISWA!B59=0,\"\",SISWA!B59)","v":4531},{"$f":"IF(SISWA!C59=0,\"\",SISWA!C59)","v":3099539154},{"$f":"IF(SISWA!D59=0,\"\",SISWA!D59)","v":"1-18-05-80-162-052-5"},{"$f":"IF(SISWA!E59=0,\"\",SISWA!E59)","v":"M. ALHAFIS"},null,72,76,86,86,80,60,80,70,70,70]
[53,{"$f":"IF(SISWA!B60=0,\"\",SISWA!B60)","v":4530},{"$f":"IF(SISWA!C60=0,\"\",SISWA!C60)","v":"0077015789"},{"$f":"IF(SISWA!D60=0,\"\",SISWA!D60)","v":"1-18-05-80-162-053-4"},{"$f":"IF(SISWA!E60=0,\"\",SISWA!E60)","v":"MUHAMMAD RIZKI RIDWAN"},null,78,75,81,81,78.75,60,78.75,69.375,69.375,69.375]
[54,{"$f":"IF(SISWA!B61=0,\"\",SISWA!B61)","v":4351},{"$f":"IF(SISWA!C61=0,\"\",SISWA!C61)","v":"0076361559"},{"$f":"IF(SISWA!D61=0,\"\",SISWA!D61)","v":"1-18-05-80-162-054-3"},{"$f":"IF(SISWA!E61=0,\"\",SISWA!E61)","v":"MOCHAMAD RAFLI DIAN SAPUTRA"},null,68,77,87,87,79.75,60,79.75,69.875,69.875,69.875]
[55,{"$f":"IF(SISWA!B62=0,\"\",SISWA!B62)","v":4352},{"$f":"IF(SISWA!C62=0,\"\",SISWA!C62)","v":"0075591405"},{"$f":"IF(SISWA!D62=0,\"\",SISWA!D62)","v":"1-18-05-80-162-055-2"},{"$f":"IF(SISWA!E62=0,\"\",SISWA!E62)","v":"MOCHAMMAD AFAREL PUTRA RAMDHANA"},null,78,83,89,89,84.75,60,84.75,72.375,72.375,72.375]
[56,{"$f":"IF(SISWA!B63=0,\"\",SISWA!B63)","v":4355},{"$f":"IF(SISWA!C63=0,\"\",SISWA!C63)","v":"0075363258"},{"$f":"IF(SISWA!D63=0,\"\",SISWA!D63)","v":"1-18-05-80-162-056-9"},{"$f":"IF(SISWA!E63=0,\"\",SISWA!E63)","v":"MUHAMAD JEFRI MAULANA"},null,74,79,83,83,79.75,60,79.75,69.875,69.875,69.875]
[57,{"$f":"IF(SISWA!B64=0,\"\",SISWA!B64)","v":4376},{"$f":"IF(SISWA!C64=0,\"\",SISWA!C64)","v":"0072066741"},{"$f":"IF(SISWA!D64=0,\"\",SISWA!D64)","v":"1-18-05-80-162-057-8"},{"$f":"IF(SISWA!E64=0,\"\",SISWA!E64)","v":"MUHAMMAD DWI WILDAN BAGUS KURNIAWAN"},null,68,75,81,81,76.25,60,76.25,68.125,68.125,68.125]
[58,{"$f":"IF(SISWA!B65=0,\"\",SISWA!B65)","v":4377},{"$f":"IF(SISWA!C65=0,\"\",SISWA!C65)","v":"0071459044"},{"$f":"IF(SISWA!D65=0,\"\",SISWA!D65)","v":"1-18-05-80-162-058-7"},{"$f":"IF(SISWA!E65=0,\"\",SISWA!E65)","v":"MUHAMMAD FARIL FIRMANSYA"},null,63,75,84,84,76.5,60,76.5,68.25,68.25,68.25]
[59,{"$f":"IF(SISWA!B66=0,\"\",SISWA!B66)","v":4349},{"$f":"IF(SISWA!C66=0,\"\",SISWA!C66)","v":"0074206034"},{"$f":"IF(SISWA!D66=0,\"\",SISWA!D66)","v":"1-18-05-80-162-059-6"},{"$f":"IF(SISWA!E66=0,\"\",SISWA!E66)","v":"MUHAMMAD FARIZ UBAIDILLA"},null,76,83,93,93,86.25,60,86.25,73.125,73.125,73.125]
[60,{"$f":"IF(SISWA!B67=0,\"\",SISWA!B67)","v":4356},{"$f":"IF(SISWA!C67=0,\"\",SISWA!C67)","v":"0077937892"},{"$f":"IF(SISWA!D67=0,\"\",SISWA!D67)","v":"1-18-05-80-162-060-5"},{"$f":"IF(SISWA!E67=0,\"\",SISWA!E67)","v":"MUHAMMAD MAULANA ZIDANIL ILMI"},null,75,86,95,95,87.75,60,87.75,73.875,73.875,73.875]
[61,{"$f":"IF(SISWA!B68=0,\"\",SISWA!B68)","v":4357},{"$f":"IF(SISWA!C68=0,\"\",SISWA!C68)","v":"0078608527"},{"$f":"IF(SISWA!D68=0,\"\",SISWA!D68)","v":"1-18-05-80-162-061-4"},{"$f":"IF(SISWA!E68=0,\"\",SISWA!E68)","v":"MUHAMMAD SUTRISNO ISMAIL"},null,64,75,82,82,75.75,80,75.75,77.875,77.875,77.875]
[62,{"$f":"IF(SISWA!B69=0,\"\",SISWA!B69)","v":4381},{"$f":"IF(SISWA!C69=0,\"\",SISWA!C69)","v":"0072209435"},{"$f":"IF(SISWA!D69=0,\"\",SISWA!D69)","v":"1-18-05-80-162-062-3"},{"$f":"IF(SISWA!E69=0,\"\",SISWA!E69)","v":"NOVITA ERNIAWAN"},null,78,83,93,93,86.75,60,86.75,73.375,73.375,73.375]
[63,{"$f":"IF(SISWA!B70=0,\"\",SISWA!B70)","v":4383},{"$f":"IF(SISWA!C70=0,\"\",SISWA!C70)","v":"0077439834"},{"$f":"IF(SISWA!D70=0,\"\",SISWA!D70)","v":"1-18-05-80-162-063-2"},{"$f":"IF(SISWA!E70=0,\"\",SISWA!E70)","v":"PUTRI AULIA DWI AGUSTIN"},null,79,90,95,95,89.75,60,89.75,74.875,74.875,74.875]
[64,{"$f":"IF(SISWA!B71=0,\"\",SISWA!B71)","v":4385},{"$f":"IF(SISWA!C71=0,\"\",SISWA!C71)","v":"0073137310"},{"$f":"IF(SISWA!D71=0,\"\",SISWA!D71)","v":"1-18-05-80-162-064-9"},{"$f":"IF(SISWA!E71=0,\"\",SISWA!E71)","v":"STANY RAFIDAH RAHMANIA"},null,69,77,81,81,77,60,77,68.5,68.5,68.5]
[65,{"$f":"IF(SISWA!B72=0,\"\",SISWA!B72)","v":4387},{"$f":"IF(SISWA!C72=0,\"\",SISWA!C72)","v":"0077336427"},{"$f":"IF(SISWA!D72=0,\"\",SISWA!D72)","v":"1-18-05-80-162-065-8"},{"$f":"IF(SISWA!E72=0,\"\",SISWA!E72)","v":"USWATUN KHASANAH"},null,64,77,84,84,77.25,60,77.25,68.625,68.625,68.625]
[66,{"$f":"IF(SISWA!B73=0,\"\",SISWA!B73)","v":4389},{"$f":"IF(SISWA!C73=0,\"\",SISWA!C73)","v":"0078407631"},{"$f":"IF(SISWA!D73=0,\"\",SISWA!D73)","v":"1-18-05-80-162-066-7"},{"$f":"IF(SISWA!E73=0,\"\",SISWA!E73)","v":"VIKROUL KHAMILA"},null,77,86,86,86,{"$f":"AVERAGE(F73:J73)","v":83.75},60,{"$f":"K73","v":83.75},{"$f":"AVERAGE(L73:M73)","v":71.875},{"$f":"AVERAGE(L73:M73)","v":71.875},71.875]
[67,{"$f":"IF(SISWA!B74=0,\"\",SISWA!B74)","v":""},{"$f":"IF(SISWA!C74=0,\"\",SISWA!C74)","v":""},{"$f":"IF(SISWA!D74=0,\"\",SISWA!D74)","v":""},{"$f":"IF(SISWA!E74=0,\"\",SISWA!E74)","v":""},null,null,null,null,null,{"$error":"#DIV/0!"},null,{"$error":"#DIV/0!"},{"$error":"#DIV/0!"},{"$error":"#DIV/0!"},{"$error":"#DIV/0!"}]
[68,{"$f":"IF(SISWA!B75=0,\"\",SISWA!B75)","v":""},{"$f":"IF(SISWA!C75=0,\"\",SISWA!C75)","v":""},{"$f":"IF(SISWA!D75=0,\"\",SISWA!D75)","v":""},{"$f":"IF(SISWA!E75=0,\"\",SISWA!E75)","v":""},null,null,null,null,null,{"$error":"#DIV/0!"},null,{"$error":"#DIV/0!"},{"$error":"#DIV/0!"},{"$error":"#DIV/0!"},{"$error":"#DIV/0!"}]
[69,{"$f":"IF(SISWA!B76=0,\"\",SISWA!B76)","v":""},{"$f":"IF(SISWA!C76=0,\"\",SISWA!C76)","v":""},{"$f":"IF(SISWA!D76=0,\"\",SISWA!D76)","v":""},{"$f":"IF(SISWA!E76=0,\"\",SISWA!E76)","v":""},null,null,null,null,null,{"$error":"#DIV/0!"},null,{"$error":"#DIV/0!"},{"$error":"#DIV/0!"},{"$error":"#DIV/0!"},{"$error":"#DIV/0!"}]
[70,{"$f":"IF(SISWA!B77=0,\"\",SISWA!B77)","v":""},{"$f":"IF(SISWA!C77=0,\"\",SISWA!C77)","v":""},{"$f":"IF(SISWA!D77=0,\"\",SISWA!D77)","v":""},{"$f":"IF(SISWA!E77=0,\"\",SISWA!E77)","v":""},null,null,null,null,null,{"$error":"#DIV/0!"},null,{"$error":"#DIV/0!"},{"$error":"#DIV/0!"},{"$error":"#DIV/0!"},{"$error":"#DIV/0!"}]
[71,{"$f":"IF(SISWA!B78=0,\"\",SISWA!B78)","v":""},{"$f":"IF(SISWA!C78=0,\"\",SISWA!C78)","v":""},{"$f":"IF(SISWA!D78=0,\"\",SISWA!D78)","v":""},{"$f":"IF(SISWA!E78=0,\"\",SISWA!E78)","v":""},null,null,null,null,null,{"$error":"#DIV/0!"},null,{"$error":"#DIV/0!"},{"$error":"#DIV/0!"},{"$error":"#DIV/0!"},{"$error":"#DIV/0!"}]
[72,{"$f":"IF(SISWA!B79=0,\"\",SISWA!B79)","v":""},{"$f":"IF(SISWA!C79=0,\"\",SISWA!C79)","v":""},{"$f":"IF(SISWA!D79=0,\"\",SISWA!D79)","v":""},{"$f":"IF(SISWA!E79=0,\"\",SISWA!E79)","v":""},null,null,null,null,null,{"$error":"#DIV/0!"},null,{"$error":"#DIV/0!"},{"$error":"#DIV/0!"},{"$error":"#DIV/0!"},{"$error":"#DIV/0!"}]
[73,{"$f":"IF(SISWA!B80=0,\"\",SISWA!B80)","v":""},{"$f":"IF(SISWA!C80=0,\"\",SISWA!C80)","v":""},{"$f":"IF(SISWA!D80=0,\"\",SISWA!D80)","v":""},{"$f":"IF(SISWA!E80=0,\"\",SISWA!E80)","v":""},null,null,null,null,null,{"$error":"#DIV/0!"},null,{"$error":"#DIV/0!"},{"$error":"#DIV/0!"},{"$error":"#DIV/0!"},{"$error":"#DIV/0!"}]
[74,{"$f":"IF(SISWA!B81=0,\"\",SISWA!B81)","v":""},{"$f":"IF(SISWA!C81=0,\"\",SISWA!C81)","v":""},{"$f":"IF(SISWA!D81=0,\"\",SISWA!D81)","v":""},{"$f":"IF(SISWA!E81=0,\"\",SISWA!E81)","v":""},null,null,null,null,null,{"$error":"#DIV/0!"},null,{"$error":"#DIV/0!"},{"$error":"#DIV/0!"},{"$error":"#DIV/0!"},{"$error":"#DIV/0!"}]
[75,{"$f":"IF(SISWA!B82=0,\"\",SISWA!B82)","v":""},{"$f":"IF(SISWA!C82=0,\"\",SISWA!C82)","v":""},{"$f":"IF(SISWA!D82=0,\"\",SISWA!D82)","v":""},{"$f":"IF(SISWA!E82=0,\"\",SISWA!E82)","v":""},null,null,null,null,null,{"$error":"#DIV/0!"},null,{"$error":"#DIV/0!"},{"$error":"#DIV/0!"},{"$error":"#DIV/0!"},{"$error":"#DIV/0!"}]
[76,{"$f":"IF(SISWA!B83=0,\"\",SISWA!B83)","v":""},{"$f":"IF(SISWA!C83=0,\"\",SISWA!C83)","v":""},{"$f":"IF(SISWA!D83=0,\"\",SISWA!D83)","v":""},{"$f":"IF(SISWA!E83=0,\"\",SISWA!E83)","v":""},null,null,null,null,null,{"$error":"#DIV/0!"},null,{"$error":"#DIV/0!"},{"$error":"#DIV/0!"},{"$error":"#DIV/0!"},{"$error":"#DIV/0!"}]
[77,{"$f":"IF(SISWA!B84=0,\"\",SISWA!B84)","v":""},{"$f":"IF(SISWA!C84=0,\"\",SISWA!C84)","v":""},{"$f":"IF(SISWA!D84=0,\"\",SISWA!D84)","v":""},{"$f":"IF(SISWA!E84=0,\"\",SISWA!E84)","v":""},null,null,null,null,null,{"$error":"#DIV/0!"},null,{"$error":"#DIV/0!"},{"$error":"#DIV/0!"},{"$error":"#DIV/0!"},{"$error":"#DIV/0!"}]
[78,{"$f":"IF(SISWA!B85=0,\"\",SISWA!B85)","v":""},{"$f":"IF(SISWA!C85=0,\"\",SISWA!C85)","v":""},{"$f":"IF(SISWA!D85=0,\"\",SISWA!D85)","v":""},{"$f":"IF(SISWA!E85=0,\"\",SISWA!E85)","v":""},null,null,null,null,null,{"$error":"#DIV/0!"},null,{"$error":"#DIV/0!"},{"$error":"#DIV/0!"},{"$error":"#DIV/0!"},{"$error":"#DIV/0!"}]
[79,{"$f":"IF(SISWA!B86=0,\"\",SISWA!B86)","v":""},{"$f":"IF(SISWA!C86=0,\"\",SISWA!C86)","v":""},{"$f":"IF(SISWA!D86=0,\"\",SISWA!D86)","v":""},{"$f":"IF(SISWA!E86=0,\"\",SISWA!E86)","v":""},null,null,null,null,null,{"$error":"#DIV/0!"},null,{"$error":"#DIV/0!"},{"$error":"#DIV/0!"},{"$error":"#DIV/0!"},{"$error":"#DIV/0!"}]
[80,{"$f":"IF(SISWA!B87=0,\"\",SISWA!B87)","v":""},{"$f":"IF(SISWA!C87=0,\"\",SISWA!C87)","v":""},{"$f":"IF(SISWA!D87=0,\"\",SISWA!D87)","v":""},{"$f":"IF(SISWA!E87=0,\"\",SISWA!E87)","v":""},null,null,null,null,null,{"$error":"#DIV/0!"},null,{"$error":"#DIV/0!"},{"$error":"#DIV/0!"},{"$error":"#DIV/0!"},{"$error":"#DIV/0!"}]
[81,{"$f":"IF(SISWA!B88=0,\"\",SISWA!B88)","v":""},{"$f":"IF(SISWA!C88=0,\"\",SISWA!C88)","v":""},{"$f":"IF(SISWA!D88=0,\"\",SISWA!D88)","v":""},{"$f":"IF(SISWA!E88=0,\"\",SISWA!E88)","v":""},null,null,null,null,null,{"$error":"#DIV/0!"},null,{"$error":"#DIV/0!"},{"$error":"#DIV/0!"},{"$error":"#DIV/0!"},{"$error":"#DIV/0!"}]
[82,{"$f":"IF(SISWA!B89=0,\"\",SISWA!B89)","v":""},{"$f":"IF(SISWA!C89=0,\"\",SISWA!C89)","v":""},{"$f":"IF(SISWA!D89=0,\"\",SISWA!D89)","v":""},{"$f":"IF(SISWA!E89=0,\"\",SISWA!E89)","v":""},null,null,null,null,null,{"$error":"#DIV/0!"},null,{"$error":"#DIV/0!"},{"$error":"#DIV/0!"},{"$error":"#DIV/0!"},{"$error":"#DIV/0!"}]
[83,{"$f":"IF(SISWA!B90=0,\"\",SISWA!B90)","v":""},{"$f":"IF(SISWA!C90=0,\"\",SISWA!C90)","v":""},{"$f":"IF(SISWA!D90=0,\"\",SISWA!D90)","v":""},{"$f":"IF(SISWA!E90=0,\"\",SISWA!E90)","v":""},null,null,null,null,null,{"$error":"#DIV/0!"},null,{"$error":"#DIV/0!"},{"$error":"#DIV/0!"},{"$error":"#DIV/0!"},{"$error":"#DIV/0!"}]
[84,{"$f":"IF(SISWA!B91=0,\"\",SISWA!B91)","v":""},{"$f":"IF(SISWA!C91=0,\"\",SISWA!C91)","v":""},{"$f":"IF(SISWA!D91=0,\"\",SISWA!D91)","v":""},{"$f":"IF(SISWA!E91=0,\"\",SISWA!E91)","v":""},null,null,null,null,null,{"$error":"#DIV/0!"},null,{"$error":"#DIV/0!"},{"$error":"#DIV/0!"},{"$error":"#DIV/0!"},{"$error":"#DIV/0!"}]
[85,{"$f":"IF(SISWA!B92=0,\"\",SISWA!B92)","v":""},{"$f":"IF(SISWA!C92=0,\"\",SISWA!C92)","v":""},{"$f":"IF(SISWA!D92=0,\"\",SISWA!D92)","v":""},{"$f":"IF(SISWA!E92=0,\"\",SISWA!E92)","v":""},null,null,null,null,null,{"$error":"#DIV/0!"},null,{"$error":"#DIV/0!"},{"$error":"#DIV/0!"},{"$error":"#DIV/0!"},{"$error":"#DIV/0!"}]
[86,{"$f":"IF(SISWA!B93=0,\"\",SISWA!B93)","v":""},{"$f":"IF(SISWA!C93=0,\"\",SISWA!C93)","v":""},{"$f":"IF(SISWA!D93=0,\"\",SISWA!D93)","v":""},{"$f":"IF(SISWA!E93=0,\"\",SISWA!E93)","v":""},null,null,null,null,null,{"$error":"#DIV/0!"},null,{"$error":"#DIV/0!"},{"$error":"#DIV/0!"},{"$error":"#DIV/0!"},{"$error":"#DIV/0!"}]
[87,{"$f":"IF(SISWA!B94=0,\"\",SISWA!B94)","v":""},{"$f":"IF(SISWA!C94=0,\"\",SISWA!C94)","v":""},{"$f":"IF(SISWA!D94=0,\"\",SISWA!D94)","v":""},{"$f":"IF(SISWA!E94=0,\"\",SISWA!E94)","v":""},null,null,null,null,null,{"$error":"#DIV/0!"},null,{"$error":"#DIV/0!"},{"$error":"#DIV/0!"},{"$error":"#DIV/0!"},{"$error":"#DIV/0!"}]
[88,{"$f":"IF(SISWA!B95=0,\"\",SISWA!B95)","v":""},{"$f":"IF(SISWA!C95=0,\"\",SISWA!C95)","v":""},{"$f":"IF(SISWA!D95=0,\"\",SISWA!D95)","v":""},{"$f":"IF(SISWA!E95=0,\"\",SISWA!E95)","v":""},null,null,null,null,null,{"$error":"#DIV/0!"},null,{"$error":"#DIV/0!"},{"$error":"#DIV/0!"},{"$error":"#DIV/0!"},{"$error":"#DIV/0!"}]
[89,{"$f":"IF(SISWA!B96=0,\"\",SISWA!B96)","v":""},{"$f":"IF(SISWA!C96=0,\"\",SISWA!C96)","v":""},{"$f":"IF(SISWA!D96=0,\"\",SISWA!D96)","v":""},{"$f":"IF(SISWA!E96=0,\"\",SISWA!E96)","v":""},null,null,null,null,null,{"$error":"#DIV/0!"},null,{"$error":"#DIV/0!"},{"$error":"#DIV/0!"},{"$error":"#DIV/0!"},{"$error":"#DIV/0!"}]
[90,{"$f":"IF(SISWA!B97=0,\"\",SISWA!B97)","v":""},{"$f":"IF(SISWA!C97=0,\"\",SISWA!C97)","v":""},{"$f":"IF(SISWA!D97=0,\"\",SISWA!D97)","v":""},{"$f":"IF(SISWA!E97=0,\"\",SISWA!E97)","v":""},null,null,null,null,null,{"$error":"#DIV/0!"},null,{"$error":"#DIV/0!"},{"$error":"#DIV/0!"},{"$error":"#DIV/0!"},{"$error":"#DIV/0!"}]
[91,{"$f":"IF(SISWA!B98=0,\"\",SISWA!B98)","v":""},{"$f":"IF(SISWA!C98=0,\"\",SISWA!C98)","v":""},{"$f":"IF(SISWA!D98=0,\"\",SISWA!D98)","v":""},{"$f":"IF(SISWA!E98=0,\"\",SISWA!E98)","v":""},null,null,null,null,null,{"$error":"#DIV/0!"},null,{"$error":"#DIV/0!"},{"$error":"#DIV/0!"},{"$error":"#DIV/0!"},{"$error":"#DIV/0!"}]
[92,{"$f":"IF(SISWA!B99=0,\"\",SISWA!B99)","v":""},{"$f":"IF(SISWA!C99=0,\"\",SISWA!C99)","v":""},{"$f":"IF(SISWA!D99=0,\"\",SISWA!D99)","v":""},{"$f":"IF(SISWA!E99=0,\"\",SISWA!E99)","v":""},null,null,null,null,null,{"$error":"#DIV/0!"},null,{"$error":"#DIV/0!"},{"$error":"#DIV/0!"},{"$error":"#DIV/0!"},{"$error":"#DIV/0!"}]
[93,{"$f":"IF(SISWA!B100=0,\"\",SISWA!B100)","v":""},{"$f":"IF(SISWA!C100=0,\"\",SISWA!C100)","v":""},{"$f":"IF(SISWA!D100=0,\"\",SISWA!D100)","v":""},{"$f":"IF(SISWA!E100=0,\"\",SISWA!E100)","v":""},null,null,null,null,null,{"$error":"#DIV/0!"},null,{"$error":"#DIV/0!"},{"$error":"#DIV/0!"},{"$error":"#DIV/0!"},{"$error":"#DIV/0!"}]
[94,{"$f":"IF(SISWA!B101=0,\"\",SISWA!B101)","v":""},{"$f":"IF(SISWA!C101=0,\"\",SISWA!C101)","v":""},{"$f":"IF(SISWA!D101=0,\"\",SISWA!D101)","v":""},{"$f":"IF(SISWA!E101=0,\"\",SISWA!E101)","v":""},null,null,null,null,null,{"$error":"#DIV/0!"},null,{"$error":"#DIV/0!"},{"$error":"#DIV/0!"},{"$error":"#DIV/0!"},{"$error":"#DIV/0!"}]
[null,null,null,null,null,null,null,null,null,null,null,null,null,null,null,{"$error":"#DIV/0!"}]
[null,null,null,null,null,null,null,null,null,null,null,null,null,null,null,{"$error":"#DIV/0!"}]
[null,null,null,null,null,null,null,null,null,null,null,null,null,null,null,{"$error":"#DIV/0!"}]
[null,null,null,null,null,null,null,null,null,null,null,null,null,null,null,{"$error":"#DIV/0!"}]
[null,null,null,null,null,null,null,null,null,null,null,null,null,null,null,{"$error":"#DIV/0!"}]
[null,null,null,null,null,null,null,null,null,null,null,null,null,null,null,{"$error":"#DIV/0!"}]
[null,null,null,null,null,null,null,null,null,null,null,null,null,null,null,{"$error":"#DIV/0!"}]

{"sheet":"AA","index":3,"n_rows":108,"n_cols":16,"rows_kept":108,"cut":false,"hidden":false,"merged":[[4,14,6,14],[5,11,5,12],[0,0,0,9],[1,0,1,9],[2,0,2,9],[4,0,6,0],[4,1,6,1],[4,2,6,2],[4,3,6,3],[4,4,6,4],[4,5,4,12],[5,5,5,9]]}
["DAFTAR NILAI AKHIR SEKOLAH"]
[{"$f":"UPPER(DEPAN!Y6)&\" \"&UPPER(DEPAN!AA6)","v":"MADRASAH IBTIDAIYAH NURUL ISLAM LABRUK KIDUL"}]
[{"$f":"DEPAN!Y16","v":"TAHUN PELAJARAN 2019/2020"}]
[]
["NO","No Induk","NISN","Nomor Peserta","Nama Peserta","Akhidah Akhlak",null,null,null,null,null,null,null,null,"rata-rata UAM & PRAKTEK"]
[null,null,null,null,null,"Nilai Semester",null,null,null,null,"Rata- 2","NILAI UAMBD",null,null,null,"UAMNU"]
[null,null,null,null,null,7,8,9,10,11,"Rapor","TULIS","PRAKTIK",null,null,"TULIS"]
[1,{"$f":"IF(SISWA!B8=0,\"\",SISWA!B8)","v":4331},{"$f":"IF(SISWA!C8=0,\"\",SISWA!C8)","v":"0078140536"},{"$f":"IF(SISWA!D8=0,\"\",SISWA!D8)","v":"1-18-05-80-162-001-8"},{"$f":"IF(SISWA!E8=0,\"\",SISWA!E8)","v":"ACHMAD FATHIR IZUDDIN"},null,76,87,86,89,{"$f":"AVERAGE(F8:J8)","v":84.5},97.5,{"$f":"AVERAGE(H8:L8)","v":88.8},{"$f":"AVERAGE(L8:M8)","v":93.15},{"$f":"AVERAGE(L8:M8)","v":93.15},93.15]
[2,{"$f":"IF(SISWA!B9=0,\"\",SISWA!B9)","v":4333},{"$f":"IF(SISWA!C9=0,\"\",SISWA!C9)","v":"0084691896"},{"$f":"IF(SISWA!D9=0,\"\",SISWA!D9)","v":"1-18-05-80-162-002-7"},{"$f":"IF(SISWA!E9=0,\"\",SISWA!E9)","v":"AININ NAFISA FEBRIYANTI"},null,76,91,87,92,{"$f":"AVERAGE(F9:J9)","v":86.5},92.5,89.8,{"$f":"AVERAGE(L9:M9)","v":91.15},{"$f":"AVERAGE(L9:M9)","v":91.15},91.15]
[3,{"$f":"IF(SISWA!B10=0,\"\",SISWA!B10)","v":4334},{"$f":"IF(SISWA!C10=0,\"\",SISWA!C10)","v":"0075488897"},{"$f":"IF(SISWA!D10=0,\"\",SISWA!D10)","v":"1-18-05-80-162-003-6"},{"$f":"IF(SISWA!E10=0,\"\",SISWA!E10)","v":"AISYAH DWI ANDINI"},null,76,92,89,92,87.25,90,90.05,90.025000000000006,90.025000000000006,90.025000000000006]
[4,{"$f":"IF(SISWA!B11=0,\"\",SISWA!B11)","v":4335},{"$f":"IF(SISWA!C11=0,\"\",SISWA!C11)","v":"0077554289"},{"$f":"IF(SISWA!D11=0,\"\",SISWA!D11)","v":"1-18-05-80-162-004-5"},{"$f":"IF(SISWA!E11=0,\"\",SISWA!E11)","v":"AJENG AGUSTINA KIRANA PUTRI"},null,69,89,89,84,82.75,60,80.95,70.474999999999994,70.474999999999994,70.474999999999994]
[5,{"$f":"IF(SISWA!B12=0,\"\",SISWA!B12)","v":4336},{"$f":"IF(SISWA!C12=0,\"\",SISWA!C12)","v":"0078831956"},{"$f":"IF(SISWA!D12=0,\"\",SISWA!D12)","v":"1-18-05-80-162-005-4"},{"$f":"IF(SISWA!E12=0,\"\",SISWA!E12)","v":"ALVIAN FAIZULHAQQI"},null,69,86,86,92,83.25,60,81.45,70.724999999999994,70.724999999999994,70.724999999999994]
[6,{"$f":"IF(SISWA!B13=0,\"\",SISWA!B13)","v":4337},{"$f":"IF(SISWA!C13=0,\"\",SISWA!C13)","v":"0073667130"},{"$f":"IF(SISWA!D13=0,\"\",SISWA!D13)","v":"1-18-05-80-162-006-3"},{"$f":"IF(SISWA!E13=0,\"\",SISWA!E13)","v":"ANGGITA RIZKY YUGA MEISYA"},null,72,97,90,98,89.25,93.571428571428569,93.564285714285717,93.56785714285715,93.56785714285715,93.56785714285715]
[7,{"$f":"IF(SISWA!B14=0,\"\",SISWA!B14)","v":4338},{"$f":"IF(SISWA!C14=0,\"\",SISWA!C14)","v":"0074492973"},{"$f":"IF(SISWA!D14=0,\"\",SISWA!D14)","v":"1-18-05-80-162-007-2"},{"$f":"IF(SISWA!E14=0,\"\",SISWA!E14)","v":"AURA SALSABILA WULAN SARI"},null,72,91,87,86,84,87.5,87.1,87.3,87.3,87.3]
[8,{"$f":"IF(SISWA!B15=0,\"\",SISWA!B15)","v":4366},{"$f":"IF(SISWA!C15=0,\"\",SISWA!C15)","v":"0078989673"},{"$f":"IF(SISWA!D15=0,\"\",SISWA!D15)","v":"1-18-05-80-162-008-9"},{"$f":"IF(SISWA!E15=0,\"\",SISWA!E15)","v":"BALQIS NAILA AUDIA"},null,74,99,93,89,88.75,87.5,91.45,{"$f":"AVERAGE(L15:M15)","v":89.474999999999994},{"$f":"AVERAGE(L15:M15)","v":89.474999999999994},89.474999999999994]
[9,{"$f":"IF(SISWA!B16=0,\"\",SISWA!B16)","v":4440},{"$f":"IF(SISWA!C16=0,\"\",SISWA!C16)","v":"0082763386"},{"$f":"IF(SISWA!D16=0,\"\",SISWA!D16)","v":"1-18-05-80-162-009-8"},{"$f":"IF(SISWA!E16=0,\"\",SISWA!E16)","v":"BIMA ARYO SUSILO"},null,80,90,88,82,85,70,83,76.5,76.5,76.5]
[10,{"$f":"IF(SISWA!B17=0,\"\",SISWA!B17)","v":4367},{"$f":"IF(SISWA!C17=0,\"\",SISWA!C17)","v":"0078400392"},{"$f":"IF(SISWA!D17=0,\"\",SISWA!D17)","v":"1-18-05-80-162-010-7"},{"$f":"IF(SISWA!E17=0,\"\",SISWA!E17)","v":"BIMA SATRIA DIRGANTARA"},null,75,92,87,95,87.25,60,84.25,72.125,72.125,72.125]
[11,{"$f":"IF(SISWA!B18=0,\"\",SISWA!B18)","v":4339},{"$f":"IF(SISWA!C18=0,\"\",SISWA!C18)","v":"0086652599"},{"$f":"IF(SISWA!D18=0,\"\",SISWA!D18)","v":"1-18-05-80-162-011-6"},{"$f":"IF(SISWA!E18=0,\"\",SISWA!E18)","v":"DEVI KARUNIA RATNA PUTRI"},null,73,94,92,92,87.75,82.5,89.65,86.075000000000003,86.075000000000003,86.075000000000003]
[12,{"$f":"IF(SISWA!B19=0,\"\",SISWA!B19)","v":4340},{"$f":"IF(SISWA!C19=0,\"\",SISWA!C19)","v":"0089906682"},{"$f":"IF(SISWA!D19=0,\"\",SISWA!D19)","v":"1-18-05-80-162-012-5"},{"$f":"IF(SISWA!E19=0,\"\",SISWA!E19)","v":"DEVITA FEBRIANI PUTRI"},null,71,89,90,93,85.75,97.5,91.05,94.275000000000006,94.275000000000006,94.275000000000006]
[13,{"$f":"IF(SISWA!B20=0,\"\",SISWA!B20)","v":4370},{"$f":"IF(SISWA!C20=0,\"\",SISWA!C20)","v":"0074514146"},{"$f":"IF(SISWA!D20=0,\"\",SISWA!D20)","v":"1-18-05-80-162-013-4"},{"$f":"IF(SISWA!E20=0,\"\",SISWA!E20)","v":"FAKHIS GABRIL LIA"},null,71,88,88,96,85.75,98,91.15,94.575000000000003,94.575000000000003,94.575000000000003]
[14,{"$f":"IF(SISWA!B21=0,\"\",SISWA!B21)","v":4342},{"$f":"IF(SISWA!C21=0,\"\",SISWA!C21)","v":"0081081672"},{"$f":"IF(SISWA!D21=0,\"\",SISWA!D21)","v":"1-18-05-80-162-014-3"},{"$f":"IF(SISWA!E21=0,\"\",SISWA!E21)","v":"FARAH NAILATUL ALYAH"},null,93,86,88,87,88.5,90,87.9,88.95,88.95,88.95]
[15,{"$f":"IF(SISWA!B22=0,\"\",SISWA!B22)","v":4345},{"$f":"IF(SISWA!C22=0,\"\",SISWA!C22)","v":"0073420487"},{"$f":"IF(SISWA!D22=0,\"\",SISWA!D22)","v":"1-18-05-80-162-015-2"},{"$f":"IF(SISWA!E22=0,\"\",SISWA!E22)","v":"GALANG MARDHOTILLAH SATOTO"},null,66,86,87,84,80.75,77.5,83.05,80.275000000000006,80.275000000000006,80.275000000000006]
[16,{"$f":"IF(SISWA!B23=0,\"\",SISWA!B23)","v":4371},{"$f":"IF(SISWA!C23=0,\"\",SISWA!C23)","v":"0079870082"},{"$f":"IF(SISWA!D23=0,\"\",SISWA!D23)","v":"1-18-05-80-162-016-9"},{"$f":"IF(SISWA!E23=0,\"\",SISWA!E23)","v":"GALIH FAREL PRASTYO"},null,65,85,85,89,81,60,80,70,70,70]
[17,{"$f":"IF(SISWA!B24=0,\"\",SISWA!B24)","v":4466},{"$f":"IF(SISWA!C24=0,\"\",SISWA!C24)","v":"0081629504"},{"$f":"IF(SISWA!D24=0,\"\",SISWA!D24)","v":"1-18-05-80-162-017-8"},{"$f":"IF(SISWA!E24=0,\"\",SISWA!E24)","v":"HIBATULLAH MUSTAGHFIRY RUSLI"},null,84,87,85,83,84.75,72.5,82.45,77.474999999999994,77.474999999999994,77.474999999999994]
[18,{"$f":"IF(SISWA!B25=0,\"\",SISWA!B25)","v":4346},{"$f":"IF(SISWA!C25=0,\"\",SISWA!C25)","v":"0073608418"},{"$f":"IF(SISWA!D25=0,\"\",SISWA!D25)","v":"1-18-05-80-162-018-7"},{"$f":"IF(SISWA!E25=0,\"\",SISWA!E25)","v":"IKA KURNIA WATI AGUSTINA"},null,67,93,89,86,83.75,90,88.35,89.174999999999997,89.174999999999997,89.174999999999997]
[19,{"$f":"IF(SISWA!B26=0,\"\",SISWA!B26)","v":4350},{"$f":"IF(SISWA!C26=0,\"\",SISWA!C26)","v":"0072658586"},{"$f":"IF(SISWA!D26=0,\"\",SISWA!D26)","v":"1-18-05-80-162-019-6"},{"$f":"IF(SISWA!E26=0,\"\",SISWA!E26)","v":"MAYLUNA EKA PRATIWI"},null,95,88,89,93,91.25,87.5,89.75,88.625,88.625,88.625]
[20,{"$f":"IF(SISWA!B27=0,\"\",SISWA!B27)","v":4353},{"$f":"IF(SISWA!C27=0,\"\",SISWA!C27)","v":"0075464137"},{"$f":"IF(SISWA!D27=0,\"\",SISWA!D27)","v":"1-18-05-80-162-020-5"},{"$f":"IF(SISWA!E27=0,\"\",SISWA!E27)","v":"MOHAMAD DWIMAS FIRDAUS"},null,83,85,86,93,86.75,82.5,86.65,84.575000000000003,84.575000000000003,84.575000000000003]
[21,{"$f":"IF(SISWA!B28=0,\"\",SISWA!B28)","v":4375},{"$f":"IF(SISWA!C28=0,\"\",SISWA!C28)","v":"0075096831"},{"$f":"IF(SISWA!D28=0,\"\",SISWA!D28)","v":"1-18-05-80-162-021-4"},{"$f":"IF(SISWA!E28=0,\"\",SISWA!E28)","v":"MUHAMMAD AFFAN ABI SYAHPUTRA"},null,79,87,86,90,85.5,60,81.7,70.849999999999994,70.849999999999994,70.849999999999994]
[22,{"$f":"IF(SISWA!B29=0,\"\",SISWA!B29)","v":4354},{"$f":"IF(SISWA!C29=0,\"\",SISWA!C29)","v":"0075055640"},{"$f":"IF(SISWA!D29=0,\"\",SISWA!D29)","v":"1-18-05-80-162-022-3"},{"$f":"IF(SISWA!E29=0,\"\",SISWA!E29)","v":"MUHAMMAD ALVIN RIDHO"},null,73,90,87,95,86.25,98,91.25,94.625,94.625,94.625]
[23,{"$f":"IF(SISWA!B30=0,\"\",SISWA!B30)","v":4378},{"$f":"IF(SISWA!C30=0,\"\",SISWA!C30)","v":"0074268893"},{"$f":"IF(SISWA!D30=0,\"\",SISWA!D30)","v":"1-18-05-80-162-023-2"},{"$f":"IF(SISWA!E30=0,\"\",SISWA!E30)","v":"MUKHAMAD DAVID ARIF FIRDAUS"},null,91,97,88,98,93.5,87.5,92.8,90.15,90.15,90.15]
[24,{"$f":"IF(SISWA!B31=0,\"\",SISWA!B31)","v":4379},{"$f":"IF(SISWA!C31=0,\"\",SISWA!C31)","v":"0072757203"},{"$f":"IF(SISWA!D31=0,\"\",SISWA!D31)","v":"1-18-05-80-162-024-9"},{"$f":"IF(SISWA!E31=0,\"\",SISWA!E31)","v":"NAORA ISQI AINAYYA"},null,94,92,93,98,94.25,97.5,94.95,96.224999999999994,96.224999999999994,96.224999999999994]
[25,{"$f":"IF(SISWA!B32=0,\"\",SISWA!B32)","v":4380},{"$f":"IF(SISWA!C32=0,\"\",SISWA!C32)","v":"0079026285"},{"$f":"IF(SISWA!D32=0,\"\",SISWA!D32)","v":"1-18-05-80-162-025-8"},{"$f":"IF(SISWA!E32=0,\"\",SISWA!E32)","v":"NAZRA ISLAMAY PASHA"},null,83,89,89,86,86.75,95,89.15,92.075000000000003,92.075000000000003,92.075000000000003]
[26,{"$f":"IF(SISWA!B33=0,\"\",SISWA!B33)","v":4382},{"$f":"IF(SISWA!C33=0,\"\",SISWA!C33)","v":"0079872151"},{"$f":"IF(SISWA!D33=0,\"\",SISWA!D33)","v":"1-18-05-80-162-026-7"},{"$f":"IF(SISWA!E33=0,\"\",SISWA!E33)","v":"NUR ALYA NABILA"},null,88,87,89,93,89.25,92.5,90.15,91.325000000000003,91.325000000000003,91.325000000000003]
[27,{"$f":"IF(SISWA!B34=0,\"\",SISWA!B34)","v":4358},{"$f":"IF(SISWA!C34=0,\"\",SISWA!C34)","v":"0087558837"},{"$f":"IF(SISWA!D34=0,\"\",SISWA!D34)","v":"1-18-05-80-162-027-6"},{"$f":"IF(SISWA!E34=0,\"\",SISWA!E34)","v":"PUTRI SHOLIKHAH"},null,89,88,86,82,86.25,85,85.45,85.224999999999994,85.224999999999994,85.224999999999994]
[28,{"$f":"IF(SISWA!B35=0,\"\",SISWA!B35)","v":4384},{"$f":"IF(SISWA!C35=0,\"\",SISWA!C35)","v":"0071234523"},{"$f":"IF(SISWA!D35=0,\"\",SISWA!D35)","v":"1-18-05-80-162-028-5"},{"$f":"IF(SISWA!E35=0,\"\",SISWA!E35)","v":"RESTI FITRIANTI DWI OCTAVIANI"},null,81,93,86,89,87.25,92.5,89.55,91.025000000000006,91.025000000000006,91.025000000000006]
[29,{"$f":"IF(SISWA!B36=0,\"\",SISWA!B36)","v":4359},{"$f":"IF(SISWA!C36=0,\"\",SISWA!C36)","v":"0073122181"},{"$f":"IF(SISWA!D36=0,\"\",SISWA!D36)","v":"1-18-05-80-162-029-4"},{"$f":"IF(SISWA!E36=0,\"\",SISWA!E36)","v":"ROUDHOTUS SA'DIYAH"},null,88,87,86,89,87.5,98,89.5,93.75,93.75,93.75]
[30,{"$f":"IF(SISWA!B37=0,\"\",SISWA!B37)","v":4386},{"$f":"IF(SISWA!C37=0,\"\",SISWA!C37)","v":"0075344352"},{"$f":"IF(SISWA!D37=0,\"\",SISWA!D37)","v":"1-18-05-80-162-030-3"},{"$f":"IF(SISWA!E37=0,\"\",SISWA!E37)","v":"TIERSYA BETA RAMANUZAN"},null,93,94,89,87,90.75,98,91.75,94.875,94.875,94.875]
[31,{"$f":"IF(SISWA!B38=0,\"\",SISWA!B38)","v":4388},{"$f":"IF(SISWA!C38=0,\"\",SISWA!C38)","v":"0077423646"},{"$f":"IF(SISWA!D38=0,\"\",SISWA!D38)","v":"1-18-05-80-162-031-2"},{"$f":"IF(SISWA!E38=0,\"\",SISWA!E38)","v":"VERA MUSTIKA"},null,87,93,87,86,88.25,60,82.85,71.424999999999997,71.424999999999997,71.424999999999997]
[32,{"$f":"IF(SISWA!B39=0,\"\",SISWA!B39)","v":4360},{"$f":"IF(SISWA!C39=0,\"\",SISWA!C39)","v":"0077290990"},{"$f":"IF(SISWA!D39=0,\"\",SISWA!D39)","v":"1-18-05-80-162-032-9"},{"$f":"IF(SISWA!E39=0,\"\",SISWA!E39)","v":"ZIDNY ILMA NABILA"},null,95,92,90,92,92.25,97.5,92.75,95.125,95.125,95.125]
[33,{"$f":"IF(SISWA!B40=0,\"\",SISWA!B40)","v":4390},{"$f":"IF(SISWA!C40=0,\"\",SISWA!C40)","v":"0077722307"},{"$f":"IF(SISWA!D40=0,\"\",SISWA!D40)","v":"1-18-05-80-162-033-8"},{"$f":"IF(SISWA!E40=0,\"\",SISWA!E40)","v":"ZITNATUL AULIA ILLA"},null,99,94,89,98,95,97.5,94.7,96.1,96.1,96.1]
[34,{"$f":"IF(SISWA!B41=0,\"\",SISWA!B41)","v":4330},{"$f":"IF(SISWA!C41=0,\"\",SISWA!C41)","v":"0084736422"},{"$f":"IF(SISWA!D41=0,\"\",SISWA!D41)","v":"1-18-05-80-162-034-7"},{"$f":"IF(SISWA!E41=0,\"\",SISWA!E41)","v":"ACHID ATHIRIL ARDAN"},null,75,78,86,85,81,60,78,69,69,69]
[35,{"$f":"IF(SISWA!B42=0,\"\",SISWA!B42)","v":4361},{"$f":"IF(SISWA!C42=0,\"\",SISWA!C42)","v":"0075656390"},{"$f":"IF(SISWA!D42=0,\"\",SISWA!D42)","v":"1-18-05-80-162-035-6"},{"$f":"IF(SISWA!E42=0,\"\",SISWA!E42)","v":"ACHMAD SEPTIAN HAMDANI"},null,82,79,85,87,83.25,67.5,80.349999999999994,73.924999999999997,73.924999999999997,73.924999999999997]
[36,{"$f":"IF(SISWA!B43=0,\"\",SISWA!B43)","v":4362},{"$f":"IF(SISWA!C43=0,\"\",SISWA!C43)","v":"0071796138"},{"$f":"IF(SISWA!D43=0,\"\",SISWA!D43)","v":"1-18-05-80-162-036-5"},{"$f":"IF(SISWA!E43=0,\"\",SISWA!E43)","v":"ACHMAD SULAIMAN"},null,66,75,85,82,77,72.5,78.3,75.400000000000006,75.400000000000006,75.400000000000006]
[37,{"$f":"IF(SISWA!B44=0,\"\",SISWA!B44)","v":4364},{"$f":"IF(SISWA!C44=0,\"\",SISWA!C44)","v":"0079667684"},{"$f":"IF(SISWA!D44=0,\"\",SISWA!D44)","v":"1-18-05-80-162-037-4"},{"$f":"IF(SISWA!E44=0,\"\",SISWA!E44)","v":"AIRLANGGA DWIKA RIZQI"},null,61,75,85,82,75.75,60,75.55,67.775000000000006,67.775000000000006,67.775000000000006]
[38,{"$f":"IF(SISWA!B45=0,\"\",SISWA!B45)","v":4365},{"$f":"IF(SISWA!C45=0,\"\",SISWA!C45)","v":"0089321127"},{"$f":"IF(SISWA!D45=0,\"\",SISWA!D45)","v":"1-18-05-80-162-038-3"},{"$f":"IF(SISWA!E45=0,\"\",SISWA!E45)","v":"AUFAN AZKAL ABRORI"},null,67,77,85,84,78.25,60,76.849999999999994,68.424999999999997,68.424999999999997,68.424999999999997]
[39,{"$f":"IF(SISWA!B46=0,\"\",SISWA!B46)","v":4465},{"$f":"IF(SISWA!C46=0,\"\",SISWA!C46)","v":"0071776593"},{"$f":"IF(SISWA!D46=0,\"\",SISWA!D46)","v":"1-18-05-80-162-039-2"},{"$f":"IF(SISWA!E46=0,\"\",SISWA!E46)","v":"AZZA PRISHAL DWI PUTRA"},null,61,75,86,8,57.5,60,57.3,58.65,58.65,65]
[40,{"$f":"IF(SISWA!B47=0,\"\",SISWA!B47)","v":4368},{"$f":"IF(SISWA!C47=0,\"\",SISWA!C47)","v":"0074569410"},{"$f":"IF(SISWA!D47=0,\"\",SISWA!D47)","v":"1-18-05-80-162-040-9"},{"$f":"IF(SISWA!E47=0,\"\",SISWA!E47)","v":"EKA AULIYA` PUTRI"},null,69,83,87,90,82.25,90,86.45,88.224999999999994,88.224999999999994,88.224999999999994]
[41,{"$f":"IF(SISWA!B48=0,\"\",SISWA!B48)","v":4341},{"$f":"IF(SISWA!C48=0,\"\",SISWA!C48)","v":"0083684457"},{"$f":"IF(SISWA!D48=0,\"\",SISWA!D48)","v":"1-18-05-80-162-041-8"},{"$f":"IF(SISWA!E48=0,\"\",SISWA!E48)","v":"ERSA PUSPITA EKA ROSA LINDA"},null,70,84,88,90,83,60,81,70.5,70.5,70.5]
[42,{"$f":"IF(SISWA!B49=0,\"\",SISWA!B49)","v":4369},{"$f":"IF(SISWA!C49=0,\"\",SISWA!C49)","v":"0078481731"},{"$f":"IF(SISWA!D49=0,\"\",SISWA!D49)","v":"1-18-05-80-162-042-7"},{"$f":"IF(SISWA!E49=0,\"\",SISWA!E49)","v":"FABIYAN TRI BAKTI OKTAFIAN"},null,64,78,86,83,77.75,60,76.95,68.474999999999994,68.474999999999994,68.474999999999994]
[43,{"$f":"IF(SISWA!B50=0,\"\",SISWA!B50)","v":4343},{"$f":"IF(SISWA!C50=0,\"\",SISWA!C50)","v":3075965396},{"$f":"IF(SISWA!D50=0,\"\",SISWA!D50)","v":"1-18-05-80-162-043-6"},{"$f":"IF(SISWA!E50=0,\"\",SISWA!E50)","v":"FELISITA APRILIA NUR NIHAYA"},null,69,83,86,84,{"$f":"AVERAGE(F50:J50)","v":80.5},72.5,81.2,76.849999999999994,76.849999999999994,76.849999999999994]
[44,{"$f":"IF(SISWA!B51=0,\"\",SISWA!B51)","v":4344},{"$f":"IF(SISWA!C51=0,\"\",SISWA!C51)","v":3078948093},{"$f":"IF(SISWA!D51=0,\"\",SISWA!D51)","v":"1-18-05-80-162-044-5"},{"$f":"IF(SISWA!E51=0,\"\",SISWA!E51)","v":"FIRDA DWI ANDRIANI"},null,64,83,85,94,81.5,60,80.7,70.349999999999994,70.349999999999994,70.349999999999994]
[45,{"$f":"IF(SISWA!B52=0,\"\",SISWA!B52)","v":4372},{"$f":"IF(SISWA!C52=0,\"\",SISWA!C52)","v":"0087636520"},{"$f":"IF(SISWA!D52=0,\"\",SISWA!D52)","v":"1-18-05-80-162-045-4"},{"$f":"IF(SISWA!E52=0,\"\",SISWA!E52)","v":"GILANG AKBAR PRASETYO"},null,62,75,85,84,76.5,60,76.099999999999994,68.05,68.05,68.05]
[46,{"$f":"IF(SISWA!B53=0,\"\",SISWA!B53)","v":4373},{"$f":"IF(SISWA!C53=0,\"\",SISWA!C53)","v":"0087373224"},{"$f":"IF(SISWA!D53=0,\"\",SISWA!D53)","v":"1-18-05-80-162-046-3"},{"$f":"IF(SISWA!E53=0,\"\",SISWA!E53)","v":"IFTAH IZZAH EMILIA  MAHMUD"},null,70,76,85,80,77.75,80,79.75,79.875,79.875,79.875]
[47,{"$f":"IF(SISWA!B54=0,\"\",SISWA!B54)","v":4441},{"$f":"IF(SISWA!C54=0,\"\",SISWA!C54)","v":"0081758949"},{"$f":"IF(SISWA!D54=0,\"\",SISWA!D54)","v":"1-18-05-80-162-047-2"},{"$f":"IF(SISWA!E54=0,\"\",SISWA!E54)","v":"INES ARIFANI MAULINA"},null,65,83,86,87,80.25,92.5,85.75,89.125,89.125,89.125]
[48,{"$f":"IF(SISWA!B55=0,\"\",SISWA!B55)","v":4374},{"$f":"IF(SISWA!C55=0,\"\",SISWA!C55)","v":"0073409469"},{"$f":"IF(SISWA!D55=0,\"\",SISWA!D55)","v":"1-18-05-80-162-048-9"},{"$f":"IF(SISWA!E55=0,\"\",SISWA!E55)","v":"IYAAD AFLAKHA RAMZII"},null,64,84,86,92,81.5,67.5,82.2,74.849999999999994,74.849999999999994,74.849999999999994]
[49,{"$f":"IF(SISWA!B56=0,\"\",SISWA!B56)","v":4305},{"$f":"IF(SISWA!C56=0,\"\",SISWA!C56)","v":"0068258891"},{"$f":"IF(SISWA!D56=0,\"\",SISWA!D56)","v":"1-18-05-80-162-049-8"},{"$f":"IF(SISWA!E56=0,\"\",SISWA!E56)","v":"JULI ANDRIYANTO"},null,64,80,85,84,78.25,60,77.45,68.724999999999994,68.724999999999994,68.724999999999994]
[50,{"$f":"IF(SISWA!B57=0,\"\",SISWA!B57)","v":4347},{"$f":"IF(SISWA!C57=0,\"\",SISWA!C57)","v":"0076367763"},{"$f":"IF(SISWA!D57=0,\"\",SISWA!D57)","v":"1-18-05-80-162-050-7"},{"$f":"IF(SISWA!E57=0,\"\",SISWA!E57)","v":"LIYA FEBRIYANI"},null,81,92,87,97,89.25,85,90.05,87.525000000000006,87.525000000000006,87.525000000000006]
[51,{"$f":"IF(SISWA!B58=0,\"\",SISWA!B58)","v":4348},{"$f":"IF(SISWA!C58=0,\"\",SISWA!C58)","v":"0083034332"},{"$f":"IF(SISWA!D58=0,\"\",SISWA!D58)","v":"1-18-05-80-162-051-6"},{"$f":"IF(SISWA!E58=0,\"\",SISWA!E58)","v":"LIZATUL CHAIYUNI"},null,77,85,87,87,84,80,84.6,82.3,82.3,82.3]
[52,{"$f":"IF(SISWA!B59=0,\"\",SISWA!B59)","v":4531},{"$f":"IF(SISWA!C59=0,\"\",SISWA!C59)","v":3099539154},{"$f":"IF(SISWA!D59=0,\"\",SISWA!D59)","v":"1-18-05-80-162-052-5"},{"$f":"IF(SISWA!E59=0,\"\",SISWA!E59)","v":"M. ALHAFIS"},null,79,76,86,91,83,60,79.2,69.599999999999994,69.599999999999994,69.599999999999994]
[53,{"$f":"IF(SISWA!B60=0,\"\",SISWA!B60)","v":4530},{"$f":"IF(SISWA!C60=0,\"\",SISWA!C60)","v":"0077015789"},{"$f":"IF(SISWA!D60=0,\"\",SISWA!D60)","v":"1-18-05-80-162-053-4"},{"$f":"IF(SISWA!E60=0,\"\",SISWA!E60)","v":"MUHAMMAD RIZKI RIDWAN"},null,64,75,85,84,77,70,78.2,74.099999999999994,74.099999999999994,74.099999999999994]
[54,{"$f":"IF(SISWA!B61=0,\"\",SISWA!B61)","v":4351},{"$f":"IF(SISWA!C61=0,\"\",SISWA!C61)","v":"0076361559"},{"$f":"IF(SISWA!D61=0,\"\",SISWA!D61)","v":"1-18-05-80-162-054-3"},{"$f":"IF(SISWA!E61=0,\"\",SISWA!E61)","v":"MOCHAMAD RAFLI DIAN SAPUTRA"},null,64,77,86,84,77.75,60,76.95,68.474999999999994,68.474999999999994,68.474999999999994]
[55,{"$f":"IF(SISWA!B62=0,\"\",SISWA!B62)","v":4352},{"$f":"IF(SISWA!C62=0,\"\",SISWA!C62)","v":"0075591405"},{"$f":"IF(SISWA!D62=0,\"\",SISWA!D62)","v":"1-18-05-80-162-055-2"},{"$f":"IF(SISWA!E62=0,\"\",SISWA!E62)","v":"MOCHAMMAD AFAREL PUTRA RAMDHANA"},null,81,83,85,85,83.5,60,79.3,69.650000000000006,69.650000000000006,69.650000000000006]
[56,{"$f":"IF(SISWA!B63=0,\"\",SISWA!B63)","v":4355},{"$f":"IF(SISWA!C63=0,\"\",SISWA!C63)","v":"0075363258"},{"$f":"IF(SISWA!D63=0,\"\",SISWA!D63)","v":"1-18-05-80-162-056-9"},{"$f":"IF(SISWA!E63=0,\"\",SISWA!E63)","v":"MUHAMAD JEFRI MAULANA"},null,74,79,86,85,81,60,78.2,69.099999999999994,69.099999999999994,69.099999999999994]
[57,{"$f":"IF(SISWA!B64=0,\"\",SISWA!B64)","v":4376},{"$f":"IF(SISWA!C64=0,\"\",SISWA!C64)","v":"0072066741"},{"$f":"IF(SISWA!D64=0,\"\",SISWA!D64)","v":"1-18-05-80-162-057-8"},{"$f":"IF(SISWA!E64=0,\"\",SISWA!E64)","v":"MUHAMMAD DWI WILDAN BAGUS KURNIAWAN"},null,60,75,85,84,76,60,76,68,68,68]
[58,{"$f":"IF(SISWA!B65=0,\"\",SISWA!B65)","v":4377},{"$f":"IF(SISWA!C65=0,\"\",SISWA!C65)","v":"0071459044"},{"$f":"IF(SISWA!D65=0,\"\",SISWA!D65)","v":"1-18-05-80-162-058-7"},{"$f":"IF(SISWA!E65=0,\"\",SISWA!E65)","v":"MUHAMMAD FARIL FIRMANSYA"},null,64,75,86,85,77.5,60,76.7,68.349999999999994,68.349999999999994,68.349999999999994]
[59,{"$f":"IF(SISWA!B66=0,\"\",SISWA!B66)","v":4349},{"$f":"IF(SISWA!C66=0,\"\",SISWA!C66)","v":"0074206034"},{"$f":"IF(SISWA!D66=0,\"\",SISWA!D66)","v":"1-18-05-80-162-059-6"},{"$f":"IF(SISWA!E66=0,\"\",SISWA!E66)","v":"MUHAMMAD FARIZ UBAIDILLA"},null,80,83,85,89,84.25,70,82.25,76.125,76.125,76.125]
[60,{"$f":"IF(SISWA!B67=0,\"\",SISWA!B67)","v":4356},{"$f":"IF(SISWA!C67=0,\"\",SISWA!C67)","v":"0077937892"},{"$f":"IF(SISWA!D67=0,\"\",SISWA!D67)","v":"1-18-05-80-162-060-5"},{"$f":"IF(SISWA!E67=0,\"\",SISWA!E67)","v":"MUHAMMAD MAULANA ZIDANIL ILMI"},null,79,86,86,97,87,77.5,86.7,82.1,82.1,82.1]
[61,{"$f":"IF(SISWA!B68=0,\"\",SISWA!B68)","v":4357},{"$f":"IF(SISWA!C68=0,\"\",SISWA!C68)","v":"0078608527"},{"$f":"IF(SISWA!D68=0,\"\",SISWA!D68)","v":"1-18-05-80-162-061-4"},{"$f":"IF(SISWA!E68=0,\"\",SISWA!E68)","v":"MUHAMMAD SUTRISNO ISMAIL"},null,68,75,86,91,80,97,85.8,91.4,91.4,91.4]
[62,{"$f":"IF(SISWA!B69=0,\"\",SISWA!B69)","v":4381},{"$f":"IF(SISWA!C69=0,\"\",SISWA!C69)","v":"0072209435"},{"$f":"IF(SISWA!D69=0,\"\",SISWA!D69)","v":"1-18-05-80-162-062-3"},{"$f":"IF(SISWA!E69=0,\"\",SISWA!E69)","v":"NOVITA ERNIAWAN"},null,83,83,86,86,84.5,65,80.900000000000006,72.95,72.95,72.95]
[63,{"$f":"IF(SISWA!B70=0,\"\",SISWA!B70)","v":4383},{"$f":"IF(SISWA!C70=0,\"\",SISWA!C70)","v":"0077439834"},{"$f":"IF(SISWA!D70=0,\"\",SISWA!D70)","v":"1-18-05-80-162-063-2"},{"$f":"IF(SISWA!E70=0,\"\",SISWA!E70)","v":"PUTRI AULIA DWI AGUSTIN"},null,76,90,86,88,85,70,83.8,76.900000000000006,76.900000000000006,76.900000000000006]
[64,{"$f":"IF(SISWA!B71=0,\"\",SISWA!B71)","v":4385},{"$f":"IF(SISWA!C71=0,\"\",SISWA!C71)","v":"0073137310"},{"$f":"IF(SISWA!D71=0,\"\",SISWA!D71)","v":"1-18-05-80-162-064-9"},{"$f":"IF(SISWA!E71=0,\"\",SISWA!E71)","v":"STANY RAFIDAH RAHMANIA"},null,64,77,85,85,77.75,60,76.95,68.474999999999994,68.474999999999994,68.474999999999994]
[65,{"$f":"IF(SISWA!B72=0,\"\",SISWA!B72)","v":4387},{"$f":"IF(SISWA!C72=0,\"\",SISWA!C72)","v":"0077336427"},{"$f":"IF(SISWA!D72=0,\"\",SISWA!D72)","v":"1-18-05-80-162-065-8"},{"$f":"IF(SISWA!E72=0,\"\",SISWA!E72)","v":"USWATUN KHASANAH"},null,64,77,85,96,80.5,65,80.7,72.849999999999994,72.849999999999994,72.849999999999994]
[66,{"$f":"IF(SISWA!B73=0,\"\",SISWA!B73)","v":4389},{"$f":"IF(SISWA!C73=0,\"\",SISWA!C73)","v":"0078407631"},{"$f":"IF(SISWA!D73=0,\"\",SISWA!D73)","v":"1-18-05-80-162-066-7"},{"$f":"IF(SISWA!E73=0,\"\",SISWA!E73)","v":"VIKROUL KHAMILA"},null,78,86,85,90,{"$f":"AVERAGE(F73:J73)","v":84.75},60,81.150000000000006,{"$f":"AVERAGE(L73:M73)","v":70.575000000000003},{"$f":"AVERAGE(L73:M73)","v":70.575000000000003},70.575000000000003]
[67,{"$f":"IF(SISWA!B74=0,\"\",SISWA!B74)","v":""},{"$f":"IF(SISWA!C74=0,\"\",SISWA!C74)","v":""},{"$f":"IF(SISWA!D74=0,\"\",SISWA!D74)","v":""},{"$f":"IF(SISWA!E74=0,\"\",SISWA!E74)","v":""},null,null,null,null,null,{"$error":"#DIV/0!"},null,null,{"$error":"#DIV/0!"},{"$error":"#DIV/0!"},{"$error":"#DIV/0!"}]
[68,{"$f":"IF(SISWA!B75=0,\"\",SISWA!B75)","v":""},{"$f":"IF(SISWA!C75=0,\"\",SISWA!C75)","v":""},{"$f":"IF(SISWA!D75=0,\"\",SISWA!D75)","v":""},{"$f":"IF(SISWA!E75=0,\"\",SISWA!E75)","v":""},null,null,null,null,null,{"$error":"#DIV/0!"},null,null,{"$error":"#DIV/0!"},{"$error":"#DIV/0!"},{"$error":"#DIV/0!"}]
[69,{"$f":"IF(SISWA!B76=0,\"\",SISWA!B76)","v":""},{"$f":"IF(SISWA!C76=0,\"\",SISWA!C76)","v":""},{"$f":"IF(SISWA!D76=0,\"\",SISWA!D76)","v":""},{"$f":"IF(SISWA!E76=0,\"\",SISWA!E76)","v":""},null,null,null,null,null,{"$error":"#DIV/0!"},null,null,{"$error":"#DIV/0!"},{"$error":"#DIV/0!"},{"$error":"#DIV/0!"}]
[70,{"$f":"IF(SISWA!B77=0,\"\",SISWA!B77)","v":""},{"$f":"IF(SISWA!C77=0,\"\",SISWA!C77)","v":""},{"$f":"IF(SISWA!D77=0,\"\",SISWA!D77)","v":""},{"$f":"IF(SISWA!E77=0,\"\",SISWA!E77)","v":""},null,null,null,null,null,{"$error":"#DIV/0!"},null,null,{"$error":"#DIV/0!"},{"$error":"#DIV/0!"},{"$error":"#DIV/0!"}]
[71,{"$f":"IF(SISWA!B78=0,\"\",SISWA!B78)","v":""},{"$f":"IF(SISWA!C78=0,\"\",SISWA!C78)","v":""},{"$f":"IF(SISWA!D78=0,\"\",SISWA!D78)","v":""},{"$f":"IF(SISWA!E78=0,\"\",SISWA!E78)","v":""},null,null,null,null,null,{"$error":"#DIV/0!"},null,null,{"$error":"#DIV/0!"},{"$error":"#DIV/0!"},{"$error":"#DIV/0!"}]
[72,{"$f":"IF(SISWA!B79=0,\"\",SISWA!B79)","v":""},{"$f":"IF(SISWA!C79=0,\"\",SISWA!C79)","v":""},{"$f":"IF(SISWA!D79=0,\"\",SISWA!D79)","v":""},{"$f":"IF(SISWA!E79=0,\"\",SISWA!E79)","v":""},null,null,null,null,null,{"$error":"#DIV/0!"},null,null,{"$error":"#DIV/0!"},{"$error":"#DIV/0!"},{"$error":"#DIV/0!"}]
[73,{"$f":"IF(SISWA!B80=0,\"\",SISWA!B80)","v":""},{"$f":"IF(SISWA!C80=0,\"\",SISWA!C80)","v":""},{"$f":"IF(SISWA!D80=0,\"\",SISWA!D80)","v":""},{"$f":"IF(SISWA!E80=0,\"\",SISWA!E80)","v":""},null,null,null,null,null,{"$error":"#DIV/0!"},null,null,{"$error":"#DIV/0!"},{"$error":"#DIV/0!"},{"$error":"#DIV/0!"}]
[74,{"$f":"IF(SISWA!B81=0,\"\",SISWA!B81)","v":""},{"$f":"IF(SISWA!C81=0,\"\",SISWA!C81)","v":""},{"$f":"IF(SISWA!D81=0,\"\",SISWA!D81)","v":""},{"$f":"IF(SISWA!E81=0,\"\",SISWA!E81)","v":""},null,null,null,null,null,{"$error":"#DIV/0!"},null,null,{"$error":"#DIV/0!"},{"$error":"#DIV/0!"},{"$error":"#DIV/0!"}]
[75,{"$f":"IF(SISWA!B82=0,\"\",SISWA!B82)","v":""},{"$f":"IF(SISWA!C82=0,\"\",SISWA!C82)","v":""},{"$f":"IF(SISWA!D82=0,\"\",SISWA!D82)","v":""},{"$f":"IF(SISWA!E82=0,\"\",SISWA!E82)","v":""},null,null,null,null,null,{"$error":"#DIV/0!"},null,null,{"$error":"#DIV/0!"},{"$error":"#DIV/0!"},{"$error":"#DIV/0!"}]
[76,{"$f":"IF(SISWA!B83=0,\"\",SISWA!B83)","v":""},{"$f":"IF(SISWA!C83=0,\"\",SISWA!C83)","v":""},{"$f":"IF(SISWA!D83=0,\"\",SISWA!D83)","v":""},{"$f":"IF(SISWA!E83=0,\"\",SISWA!E83)","v":""},null,null,null,null,null,{"$error":"#DIV/0!"},null,null,{"$error":"#DIV/0!"},{"$error":"#DIV/0!"},{"$error":"#DIV/0!"}]
[77,{"$f":"IF(SISWA!B84=0,\"\",SISWA!B84)","v":""},{"$f":"IF(SISWA!C84=0,\"\",SISWA!C84)","v":""},{"$f":"IF(SISWA!D84=0,\"\",SISWA!D84)","v":""},{"$f":"IF(SISWA!E84=0,\"\",SISWA!E84)","v":""},null,null,null,null,null,{"$error":"#DIV/0!"},null,null,{"$error":"#DIV/0!"},{"$error":"#DIV/0!"},{"$error":"#DIV/0!"}]
[78,{"$f":"IF(SISWA!B85=0,\"\",SISWA!B85)","v":""},{"$f":"IF(SISWA!C85=0,\"\",SISWA!C85)","v":""},{"$f":"IF(SISWA!D85=0,\"\",SISWA!D85)","v":""},{"$f":"IF(SISWA!E85=0,\"\",SISWA!E85)","v":""},null,null,null,null,null,{"$error":"#DIV/0!"},null,null,{"$error":"#DIV/0!"},{"$error":"#DIV/0!"},{"$error":"#DIV/0!"}]
[79,{"$f":"IF(SISWA!B86=0,\"\",SISWA!B86)","v":""},{"$f":"IF(SISWA!C86=0,\"\",SISWA!C86)","v":""},{"$f":"IF(SISWA!D86=0,\"\",SISWA!D86)","v":""},{"$f":"IF(SISWA!E86=0,\"\",SISWA!E86)","v":""},null,null,null,null,null,{"$error":"#DIV/0!"},null,null,{"$error":"#DIV/0!"},{"$error":"#DIV/0!"},{"$error":"#DIV/0!"}]
[80,{"$f":"IF(SISWA!B87=0,\"\",SISWA!B87)","v":""},{"$f":"IF(SISWA!C87=0,\"\",SISWA!C87)","v":""},{"$f":"IF(SISWA!D87=0,\"\",SISWA!D87)","v":""},{"$f":"IF(SISWA!E87=0,\"\",SISWA!E87)","v":""},null,null,null,null,null,{"$error":"#DIV/0!"},null,null,{"$error":"#DIV/0!"},{"$error":"#DIV/0!"},{"$error":"#DIV/0!"}]
[81,{"$f":"IF(SISWA!B88=0,\"\",SISWA!B88)","v":""},{"$f":"IF(SISWA!C88=0,\"\",SISWA!C88)","v":""},{"$f":"IF(SISWA!D88=0,\"\",SISWA!D88)","v":""},{"$f":"IF(SISWA!E88=0,\"\",SISWA!E88)","v":""},null,null,null,null,null,{"$error":"#DIV/0!"},null,null,{"$error":"#DIV/0!"},{"$error":"#DIV/0!"},{"$error":"#DIV/0!"}]
[82,{"$f":"IF(SISWA!B89=0,\"\",SISWA!B89)","v":""},{"$f":"IF(SISWA!C89=0,\"\",SISWA!C89)","v":""},{"$f":"IF(SISWA!D89=0,\"\",SISWA!D89)","v":""},{"$f":"IF(SISWA!E89=0,\"\",SISWA!E89)","v":""},null,null,null,null,null,{"$error":"#DIV/0!"},null,null,{"$error":"#DIV/0!"},{"$error":"#DIV/0!"},{"$error":"#DIV/0!"}]
[83,{"$f":"IF(SISWA!B90=0,\"\",SISWA!B90)","v":""},{"$f":"IF(SISWA!C90=0,\"\",SISWA!C90)","v":""},{"$f":"IF(SISWA!D90=0,\"\",SISWA!D90)","v":""},{"$f":"IF(SISWA!E90=0,\"\",SISWA!E90)","v":""},null,null,null,null,null,{"$error":"#DIV/0!"},null,null,{"$error":"#DIV/0!"},{"$error":"#DIV/0!"},{"$error":"#DIV/0!"}]
[84,{"$f":"IF(SISWA!B91=0,\"\",SISWA!B91)","v":""},{"$f":"IF(SISWA!C91=0,\"\",SISWA!C91)","v":""},{"$f":"IF(SISWA!D91=0,\"\",SISWA!D91)","v":""},{"$f":"IF(SISWA!E91=0,\"\",SISWA!E91)","v":""},null,null,null,null,null,{"$error":"#DIV/0!"},null,null,{"$error":"#DIV/0!"},{"$error":"#DIV/0!"},{"$error":"#DIV/0!"}]
[85,{"$f":"IF(SISWA!B92=0,\"\",SISWA!B92)","v":""},{"$f":"IF(SISWA!C92=0,\"\",SISWA!C92)","v":""},{"$f":"IF(SISWA!D92=0,\"\",SISWA!D92)","v":""},{"$f":"IF(SISWA!E92=0,\"\",SISWA!E92)","v":""},null,null,null,null,null,{"$error":"#DIV/0!"},null,null,{"$error":"#DIV/0!"},{"$error":"#DIV/0!"},{"$error":"#DIV/0!"}]
[86,{"$f":"IF(SISWA!B93=0,\"\",SISWA!B93)","v":""},{"$f":"IF(SISWA!C93=0,\"\",SISWA!C93)","v":""},{"$f":"IF(SISWA!D93=0,\"\",SISWA!D93)","v":""},{"$f":"IF(SISWA!E93=0,\"\",SISWA!E93)","v":""},null,null,null,null,null,{"$error":"#DIV/0!"},null,null,{"$error":"#DIV/0!"},{"$error":"#DIV/0!"},{"$error":"#DIV/0!"}]
[87,{"$f":"IF(SISWA!B94=0,\"\",SISWA!B94)","v":""},{"$f":"IF(SISWA!C94=0,\"\",SISWA!C94)","v":""},{"$f":"IF(SISWA!D94=0,\"\",SISWA!D94)","v":""},{"$f":"IF(SISWA!E94=0,\"\",SISWA!E94)","v":""},null,null,null,null,null,{"$error":"#DIV/0!"},null,null,{"$error":"#DIV/0!"},{"$error":"#DIV/0!"},{"$error":"#DIV/0!"}]
[88,{"$f":"IF(SISWA!B95=0,\"\",SISWA!B95)","v":""},{"$f":"IF(SISWA!C95=0,\"\",SISWA!C95)","v":""},{"$f":"IF(SISWA!D95=0,\"\",SISWA!D95)","v":""},{"$f":"IF(SISWA!E95=0,\"\",SISWA!E95)","v":""},null,null,null,null,null,{"$error":"#DIV/0!"},null,null,{"$error":"#DIV/0!"},{"$error":"#DIV/0!"},{"$error":"#DIV/0!"}]
[89,{"$f":"IF(SISWA!B96=0,\"\",SISWA!B96)","v":""},{"$f":"IF(SISWA!C96=0,\"\",SISWA!C96)","v":""},{"$f":"IF(SISWA!D96=0,\"\",SISWA!D96)","v":""},{"$f":"IF(SISWA!E96=0,\"\",SISWA!E96)","v":""},null,null,null,null,null,{"$error":"#DIV/0!"},null,null,{"$error":"#DIV/0!"},{"$error":"#DIV/0!"},{"$error":"#DIV/0!"}]
[90,{"$f":"IF(SISWA!B97=0,\"\",SISWA!B97)","v":""},{"$f":"IF(SISWA!C97=0,\"\",SISWA!C97)","v":""},{"$f":"IF(SISWA!D97=0,\"\",SISWA!D97)","v":""},{"$f":"IF(SISWA!E97=0,\"\",SISWA!E97)","v":""},null,null,null,null,null,{"$error":"#DIV/0!"},null,null,{"$error":"#DIV/0!"},{"$error":"#DIV/0!"},{"$error":"#DIV/0!"}]
[91,{"$f":"IF(SISWA!B98=0,\"\",SISWA!B98)","v":""},{"$f":"IF(SISWA!C98=0,\"\",SISWA!C98)","v":""},{"$f":"IF(SISWA!D98=0,\"\",SISWA!D98)","v":""},{"$f":"IF(SISWA!E98=0,\"\",SISWA!E98)","v":""},null,null,null,null,null,{"$error":"#DIV/0!"},null,null,{"$error":"#DIV/0!"},{"$error":"#DIV/0!"},{"$error":"#DIV/0!"}]
[92,{"$f":"IF(SISWA!B99=0,\"\",SISWA!B99)","v":""},{"$f":"IF(SISWA!C99=0,\"\",SISWA!C99)","v":""},{"$f":"IF(SISWA!D99=0,\"\",SISWA!D99)","v":""},{"$f":"IF(SISWA!E99=0,\"\",SISWA!E99)","v":""},null,null,null,null,null,{"$error":"#DIV/0!"},null,null,{"$error":"#DIV/0!"},{"$error":"#DIV/0!"},{"$error":"#DIV/0!"}]
[93,{"$f":"IF(SISWA!B100=0,\"\",SISWA!B100)","v":""},{"$f":"IF(SISWA!C100=0,\"\",SISWA!C100)","v":""},{"$f":"IF(SISWA!D100=0,\"\",SISWA!D100)","v":""},{"$f":"IF(SISWA!E100=0,\"\",SISWA!E100)","v":""},null,null,null,null,null,{"$error":"#DIV/0!"},null,null,{"$error":"#DIV/0!"},{"$error":"#DIV/0!"},{"$error":"#DIV/0!"}]
[94,{"$f":"IF(SISWA!B101=0,\"\",SISWA!B101)","v":""},{"$f":"IF(SISWA!C101=0,\"\",SISWA!C101)","v":""},{"$f":"IF(SISWA!D101=0,\"\",SISWA!D101)","v":""},{"$f":"IF(SISWA!E101=0,\"\",SISWA!E101)","v":""},null,null,null,null,null,{"$error":"#DIV/0!"},null,null,{"$error":"#DIV/0!"},{"$error":"#DIV/0!"},{"$error":"#DIV/0!"}]
[null,null,null,null,null,null,null,null,null,null,null,null,null,null,null,{"$error":"#DIV/0!"}]
[null,null,null,null,null,null,null,null,null,null,null,null,null,null,null,{"$error":"#DIV/0!"}]
[null,null,null,null,null,null,null,null,null,null,null,null,null,null,null,{"$error":"#DIV/0!"}]
[null,null,null,null,null,null,null,null,null,null,null,null,null,null,null,{"$error":"#DIV/0!"}]
[null,null,null,null,null,null,null,null,null,null,null,null,null,null,null,{"$error":"#DIV/0!"}]
[null,null,null,null,null,null,null,null,null,null,null,null,null,null,null,{"$error":"#DIV/0!"}]
[null,null,null,null,null,null,null,null,null,null,null,null,null,null,null,{"$error":"#DIV/0!"}]

{"sheet":"FQ","index":4,"n_rows":108,"n_cols":16,"rows_kept":108,"cut":false,"hidden":false,"merged":[[4,13,6,13],[5,11,5,12],[0,0,0,9],[1,0,1,9],[2,0,2,9],[4,0,6,0],[4,1,6,1],[4,2,6,2],[4,3,6,3],[4,4,6,4],[4,5,4,12],[5,5,5,9]]}
["DAFTAR NILAI AKHIR SEKOLAH"]
[{"$f":"AA!A2","v":"MADRASAH IBTIDAIYAH NURUL ISLAM LABRUK KIDUL"}]
[{"$f":"AA!A3","v":"TAHUN PELAJARAN 2019/2020"}]
[]
["NO","No Induk","NISN","Nomor Peserta","Nama Peserta","FIQIH",null,null,null,null,null,null,null,"rata-rata UAM & PRAKTEK"]
[null,null,null,null,null,"Nilai Semester",null,null,null,null,"Rata- 2","NILAI UAMBD",null,null,null,"UAMNU"]
[null,null,null,null,null,7,8,9,10,11,"Rapor","TULIS","PRAKTIK",null,null,"TULIS"]
[1,{"$f":"IF(SISWA!B8=0,\"\",SISWA!B8)","v":4331},{"$f":"IF(SISWA!C8=0,\"\",SISWA!C8)","v":"0078140536"},{"$f":"IF(SISWA!D8=0,\"\",SISWA!D8)","v":"1-18-05-80-162-001-8"},{"$f":"IF(SISWA!E8=0,\"\",SISWA!E8)","v":"ACHMAD FATHIR IZUDDIN"},null,84,78,81,88,{"$f":"AVERAGE(F8:J8)","v":82.75},82.5,{"$f":"AVERAGE(H8:L8)","v":82.45},{"$f":"AVERAGE(K8:L8)","v":82.625},{"$f":"IF(M8>95,\"GANTI\",\"\")","v":""},82.625]
[2,{"$f":"IF(SISWA!B9=0,\"\",SISWA!B9)","v":4333},{"$f":"IF(SISWA!C9=0,\"\",SISWA!C9)","v":"0084691896"},{"$f":"IF(SISWA!D9=0,\"\",SISWA!D9)","v":"1-18-05-80-162-002-7"},{"$f":"IF(SISWA!E9=0,\"\",SISWA!E9)","v":"AININ NAFISA FEBRIYANTI"},null,85,88,85,88,{"$f":"AVERAGE(F9:J9)","v":86.5},72.5,84,{"$f":"AVERAGE(K9:L9)","v":79.5},{"$f":"IF(M9>95,\"GANTI\",\"\")","v":""},79.5]
[3,{"$f":"IF(SISWA!B10=0,\"\",SISWA!B10)","v":4334},{"$f":"IF(SISWA!C10=0,\"\",SISWA!C10)","v":"0075488897"},{"$f":"IF(SISWA!D10=0,\"\",SISWA!D10)","v":"1-18-05-80-162-003-6"},{"$f":"IF(SISWA!E10=0,\"\",SISWA!E10)","v":"AISYAH DWI ANDINI"},null,85,94,89,94,90.5,77.5,89,84,"",84]
[4,{"$f":"IF(SISWA!B11=0,\"\",SISWA!B11)","v":4335},{"$f":"IF(SISWA!C11=0,\"\",SISWA!C11)","v":"0077554289"},{"$f":"IF(SISWA!D11=0,\"\",SISWA!D11)","v":"1-18-05-80-162-004-5"},{"$f":"IF(SISWA!E11=0,\"\",SISWA!E11)","v":"AJENG AGUSTINA KIRANA PUTRI"},null,85,87,83,90,86.25,60,81.25,73.125,"",73.125]
[5,{"$f":"IF(SISWA!B12=0,\"\",SISWA!B12)","v":4336},{"$f":"IF(SISWA!C12=0,\"\",SISWA!C12)","v":"0078831956"},{"$f":"IF(SISWA!D12=0,\"\",SISWA!D12)","v":"1-18-05-80-162-005-4"},{"$f":"IF(SISWA!E12=0,\"\",SISWA!E12)","v":"ALVIAN FAIZULHAQQI"},null,85,83,85,92,86.25,65,82.25,75.625,"",75.625]
[6,{"$f":"IF(SISWA!B13=0,\"\",SISWA!B13)","v":4337},{"$f":"IF(SISWA!C13=0,\"\",SISWA!C13)","v":"0073667130"},{"$f":"IF(SISWA!D13=0,\"\",SISWA!D13)","v":"1-18-05-80-162-006-3"},{"$f":"IF(SISWA!E13=0,\"\",SISWA!E13)","v":"ANGGITA RIZKY YUGA MEISYA"},null,85,91,93,92,90.25,76.428571428571431,88.535714285714292,83.339285714285722,"",83.339285714285722]
[7,{"$f":"IF(SISWA!B14=0,\"\",SISWA!B14)","v":4338},{"$f":"IF(SISWA!C14=0,\"\",SISWA!C14)","v":"0074492973"},{"$f":"IF(SISWA!D14=0,\"\",SISWA!D14)","v":"1-18-05-80-162-007-2"},{"$f":"IF(SISWA!E14=0,\"\",SISWA!E14)","v":"AURA SALSABILA WULAN SARI"},null,85,92,92,93,90.5,72.5,88,81.5,"",81.5]
[8,{"$f":"IF(SISWA!B15=0,\"\",SISWA!B15)","v":4366},{"$f":"IF(SISWA!C15=0,\"\",SISWA!C15)","v":"0078989673"},{"$f":"IF(SISWA!D15=0,\"\",SISWA!D15)","v":"1-18-05-80-162-008-9"},{"$f":"IF(SISWA!E15=0,\"\",SISWA!E15)","v":"BALQIS NAILA AUDIA"},null,85,95,93,88,90.25,77.5,88.75,83.875,"",83.875]
[9,{"$f":"IF(SISWA!B16=0,\"\",SISWA!B16)","v":4440},{"$f":"IF(SISWA!C16=0,\"\",SISWA!C16)","v":"0082763386"},{"$f":"IF(SISWA!D16=0,\"\",SISWA!D16)","v":"1-18-05-80-162-009-8"},{"$f":"IF(SISWA!E16=0,\"\",SISWA!E16)","v":"BIMA ARYO SUSILO"},null,80,85,95,86,86.5,65,83.5,75.75,"",75.75]
[10,{"$f":"IF(SISWA!B17=0,\"\",SISWA!B17)","v":4367},{"$f":"IF(SISWA!C17=0,\"\",SISWA!C17)","v":"0078400392"},{"$f":"IF(SISWA!D17=0,\"\",SISWA!D17)","v":"1-18-05-80-162-010-7"},{"$f":"IF(SISWA!E17=0,\"\",SISWA!E17)","v":"BIMA SATRIA DIRGANTARA"},null,81,87,83,83,83.5,60,79.3,71.75,"",71.75]
[11,{"$f":"IF(SISWA!B18=0,\"\",SISWA!B18)","v":4339},{"$f":"IF(SISWA!C18=0,\"\",SISWA!C18)","v":"0086652599"},{"$f":"IF(SISWA!D18=0,\"\",SISWA!D18)","v":"1-18-05-80-162-011-6"},{"$f":"IF(SISWA!E18=0,\"\",SISWA!E18)","v":"DEVI KARUNIA RATNA PUTRI"},null,83,91,87,91,88,65,84.4,76.5,"",76.5]
[12,{"$f":"IF(SISWA!B19=0,\"\",SISWA!B19)","v":4340},{"$f":"IF(SISWA!C19=0,\"\",SISWA!C19)","v":"0089906682"},{"$f":"IF(SISWA!D19=0,\"\",SISWA!D19)","v":"1-18-05-80-162-012-5"},{"$f":"IF(SISWA!E19=0,\"\",SISWA!E19)","v":"DEVITA FEBRIANI PUTRI"},null,81,94,86,94,88.75,65,85.55,76.875,"",76.875]
[13,{"$f":"IF(SISWA!B20=0,\"\",SISWA!B20)","v":4370},{"$f":"IF(SISWA!C20=0,\"\",SISWA!C20)","v":"0074514146"},{"$f":"IF(SISWA!D20=0,\"\",SISWA!D20)","v":"1-18-05-80-162-013-4"},{"$f":"IF(SISWA!E20=0,\"\",SISWA!E20)","v":"FAKHIS GABRIL LIA"},null,85,88,81,93,86.75,80,85.75,83.375,"",83.375]
[14,{"$f":"IF(SISWA!B21=0,\"\",SISWA!B21)","v":4342},{"$f":"IF(SISWA!C21=0,\"\",SISWA!C21)","v":"0081081672"},{"$f":"IF(SISWA!D21=0,\"\",SISWA!D21)","v":"1-18-05-80-162-014-3"},{"$f":"IF(SISWA!E21=0,\"\",SISWA!E21)","v":"FARAH NAILATUL ALYAH"},null,93,85,87,93,89.5,75,85.9,82.25,"",82.25]
[15,{"$f":"IF(SISWA!B22=0,\"\",SISWA!B22)","v":4345},{"$f":"IF(SISWA!C22=0,\"\",SISWA!C22)","v":"0073420487"},{"$f":"IF(SISWA!D22=0,\"\",SISWA!D22)","v":"1-18-05-80-162-015-2"},{"$f":"IF(SISWA!E22=0,\"\",SISWA!E22)","v":"GALANG MARDHOTILLAH SATOTO"},null,80,79,81,87,81.75,70,79.75,75.875,"",75.875]
[16,{"$f":"IF(SISWA!B23=0,\"\",SISWA!B23)","v":4371},{"$f":"IF(SISWA!C23=0,\"\",SISWA!C23)","v":"0079870082"},{"$f":"IF(SISWA!D23=0,\"\",SISWA!D23)","v":"1-18-05-80-162-016-9"},{"$f":"IF(SISWA!E23=0,\"\",SISWA!E23)","v":"GALIH FAREL PRASTYO"},null,79,79,84,89,82.75,60,78.95,71.375,"",71.375]
[17,{"$f":"IF(SISWA!B24=0,\"\",SISWA!B24)","v":4466},{"$f":"IF(SISWA!C24=0,\"\",SISWA!C24)","v":"0081629504"},{"$f":"IF(SISWA!D24=0,\"\",SISWA!D24)","v":"1-18-05-80-162-017-8"},{"$f":"IF(SISWA!E24=0,\"\",SISWA!E24)","v":"HIBATULLAH MUSTAGHFIRY RUSLI"},null,83,83,90,91,86.75,67.5,83.65,77.125,"",77.125]
[18,{"$f":"IF(SISWA!B25=0,\"\",SISWA!B25)","v":4346},{"$f":"IF(SISWA!C25=0,\"\",SISWA!C25)","v":"0073608418"},{"$f":"IF(SISWA!D25=0,\"\",SISWA!D25)","v":"1-18-05-80-162-018-7"},{"$f":"IF(SISWA!E25=0,\"\",SISWA!E25)","v":"IKA KURNIA WATI AGUSTINA"},null,81,80,83,84,82,60,77.8,71,"",71]
[19,{"$f":"IF(SISWA!B26=0,\"\",SISWA!B26)","v":4350},{"$f":"IF(SISWA!C26=0,\"\",SISWA!C26)","v":"0072658586"},{"$f":"IF(SISWA!D26=0,\"\",SISWA!D26)","v":"1-18-05-80-162-019-6"},{"$f":"IF(SISWA!E26=0,\"\",SISWA!E26)","v":"MAYLUNA EKA PRATIWI"},null,91,97,92,94,93.5,82.5,91.8,88,"",88]
[20,{"$f":"IF(SISWA!B27=0,\"\",SISWA!B27)","v":4353},{"$f":"IF(SISWA!C27=0,\"\",SISWA!C27)","v":"0075464137"},{"$f":"IF(SISWA!D27=0,\"\",SISWA!D27)","v":"1-18-05-80-162-020-5"},{"$f":"IF(SISWA!E27=0,\"\",SISWA!E27)","v":"MOHAMAD DWIMAS FIRDAUS"},null,88,84,97,89,89.5,60,83.9,74.75,"",74.75]
[21,{"$f":"IF(SISWA!B28=0,\"\",SISWA!B28)","v":4375},{"$f":"IF(SISWA!C28=0,\"\",SISWA!C28)","v":"0075096831"},{"$f":"IF(SISWA!D28=0,\"\",SISWA!D28)","v":"1-18-05-80-162-021-4"},{"$f":"IF(SISWA!E28=0,\"\",SISWA!E28)","v":"MUHAMMAD AFFAN ABI SYAHPUTRA"},null,84,80,81,86,82.75,60,77.95,71.375,"",71.375]
[22,{"$f":"IF(SISWA!B29=0,\"\",SISWA!B29)","v":4354},{"$f":"IF(SISWA!C29=0,\"\",SISWA!C29)","v":"0075055640"},{"$f":"IF(SISWA!D29=0,\"\",SISWA!D29)","v":"1-18-05-80-162-022-3"},{"$f":"IF(SISWA!E29=0,\"\",SISWA!E29)","v":"MUHAMMAD ALVIN RIDHO"},null,76,87,82,91,84,75,83.8,79.5,"",79.5]
[23,{"$f":"IF(SISWA!B30=0,\"\",SISWA!B30)","v":4378},{"$f":"IF(SISWA!C30=0,\"\",SISWA!C30)","v":"0074268893"},{"$f":"IF(SISWA!D30=0,\"\",SISWA!D30)","v":"1-18-05-80-162-023-2"},{"$f":"IF(SISWA!E30=0,\"\",SISWA!E30)","v":"MUKHAMAD DAVID ARIF FIRDAUS"},null,90,94,94,92,92.5,77.5,90,85,"",85]
[24,{"$f":"IF(SISWA!B31=0,\"\",SISWA!B31)","v":4379},{"$f":"IF(SISWA!C31=0,\"\",SISWA!C31)","v":"0072757203"},{"$f":"IF(SISWA!D31=0,\"\",SISWA!D31)","v":"1-18-05-80-162-024-9"},{"$f":"IF(SISWA!E31=0,\"\",SISWA!E31)","v":"NAORA ISQI AINAYYA"},null,100,98,97,94,97.25,90,95.25,93.625,"GANTI",93.625]
[25,{"$f":"IF(SISWA!B32=0,\"\",SISWA!B32)","v":4380},{"$f":"IF(SISWA!C32=0,\"\",SISWA!C32)","v":"0079026285"},{"$f":"IF(SISWA!D32=0,\"\",SISWA!D32)","v":"1-18-05-80-162-025-8"},{"$f":"IF(SISWA!E32=0,\"\",SISWA!E32)","v":"NAZRA ISLAMAY PASHA"},null,81,84,93,93,87.75,75,86.55,81.375,"",81.375]
[26,{"$f":"IF(SISWA!B33=0,\"\",SISWA!B33)","v":4382},{"$f":"IF(SISWA!C33=0,\"\",SISWA!C33)","v":"0079872151"},{"$f":"IF(SISWA!D33=0,\"\",SISWA!D33)","v":"1-18-05-80-162-026-7"},{"$f":"IF(SISWA!E33=0,\"\",SISWA!E33)","v":"NUR ALYA NABILA"},null,87,83,84,89,85.75,85,85.35,85.375,"",85.375]
[27,{"$f":"IF(SISWA!B34=0,\"\",SISWA!B34)","v":4358},{"$f":"IF(SISWA!C34=0,\"\",SISWA!C34)","v":"0087558837"},{"$f":"IF(SISWA!D34=0,\"\",SISWA!D34)","v":"1-18-05-80-162-027-6"},{"$f":"IF(SISWA!E34=0,\"\",SISWA!E34)","v":"PUTRI SHOLIKHAH"},null,84,83,87,85,84.75,60,79.95,72.375,"",72.375]
[28,{"$f":"IF(SISWA!B35=0,\"\",SISWA!B35)","v":4384},{"$f":"IF(SISWA!C35=0,\"\",SISWA!C35)","v":"0071234523"},{"$f":"IF(SISWA!D35=0,\"\",SISWA!D35)","v":"1-18-05-80-162-028-5"},{"$f":"IF(SISWA!E35=0,\"\",SISWA!E35)","v":"RESTI FITRIANTI DWI OCTAVIANI"},null,86,83,87,91,86.75,60,81.55,73.375,"",73.375]
[29,{"$f":"IF(SISWA!B36=0,\"\",SISWA!B36)","v":4359},{"$f":"IF(SISWA!C36=0,\"\",SISWA!C36)","v":"0073122181"},{"$f":"IF(SISWA!D36=0,\"\",SISWA!D36)","v":"1-18-05-80-162-029-4"},{"$f":"IF(SISWA!E36=0,\"\",SISWA!E36)","v":"ROUDHOTUS SA'DIYAH"},null,86,83,84,89,85.5,87.5,85.8,86.5,"",86.5]
[30,{"$f":"IF(SISWA!B37=0,\"\",SISWA!B37)","v":4386},{"$f":"IF(SISWA!C37=0,\"\",SISWA!C37)","v":"0075344352"},{"$f":"IF(SISWA!D37=0,\"\",SISWA!D37)","v":"1-18-05-80-162-030-3"},{"$f":"IF(SISWA!E37=0,\"\",SISWA!E37)","v":"TIERSYA BETA RAMANUZAN"},null,89,96,87,91,90.75,90,90.95,90.375,"",90.375]
[31,{"$f":"IF(SISWA!B38=0,\"\",SISWA!B38)","v":4388},{"$f":"IF(SISWA!C38=0,\"\",SISWA!C38)","v":"0077423646"},{"$f":"IF(SISWA!D38=0,\"\",SISWA!D38)","v":"1-18-05-80-162-031-2"},{"$f":"IF(SISWA!E38=0,\"\",SISWA!E38)","v":"VERA MUSTIKA"},null,77,83,94,91,86.25,60,82.85,73.125,"",73.125]
[32,{"$f":"IF(SISWA!B39=0,\"\",SISWA!B39)","v":4360},{"$f":"IF(SISWA!C39=0,\"\",SISWA!C39)","v":"0077290990"},{"$f":"IF(SISWA!D39=0,\"\",SISWA!D39)","v":"1-18-05-80-162-032-9"},{"$f":"IF(SISWA!E39=0,\"\",SISWA!E39)","v":"ZIDNY ILMA NABILA"},null,92,93,87,94,91.5,72.5,87.6,82,"",82]
[33,{"$f":"IF(SISWA!B40=0,\"\",SISWA!B40)","v":4390},{"$f":"IF(SISWA!C40=0,\"\",SISWA!C40)","v":"0077722307"},{"$f":"IF(SISWA!D40=0,\"\",SISWA!D40)","v":"1-18-05-80-162-033-8"},{"$f":"IF(SISWA!E40=0,\"\",SISWA!E40)","v":"ZITNATUL AULIA ILLA"},null,95,98,93,96,95.5,97.5,96,96.5,"GANTI",96.5]
[34,{"$f":"IF(SISWA!B41=0,\"\",SISWA!B41)","v":4330},{"$f":"IF(SISWA!C41=0,\"\",SISWA!C41)","v":"0084736422"},{"$f":"IF(SISWA!D41=0,\"\",SISWA!D41)","v":"1-18-05-80-162-034-7"},{"$f":"IF(SISWA!E41=0,\"\",SISWA!E41)","v":"ACHID ATHIRIL ARDAN"},null,74,78,84,85,80.25,60,77.45,70.125,"",69.5]
[35,{"$f":"IF(SISWA!B42=0,\"\",SISWA!B42)","v":4361},{"$f":"IF(SISWA!C42=0,\"\",SISWA!C42)","v":"0075656390"},{"$f":"IF(SISWA!D42=0,\"\",SISWA!D42)","v":"1-18-05-80-162-035-6"},{"$f":"IF(SISWA!E42=0,\"\",SISWA!E42)","v":"ACHMAD SEPTIAN HAMDANI"},null,85,80,86,87,84.5,60,79.5,72.25,"",72.75]
[36,{"$f":"IF(SISWA!B43=0,\"\",SISWA!B43)","v":4362},{"$f":"IF(SISWA!C43=0,\"\",SISWA!C43)","v":"0071796138"},{"$f":"IF(SISWA!D43=0,\"\",SISWA!D43)","v":"1-18-05-80-162-036-5"},{"$f":"IF(SISWA!E43=0,\"\",SISWA!E43)","v":"ACHMAD SULAIMAN"},null,81,78,82,82,80.75,70,78.55,75.375,"",75.75]
[37,{"$f":"IF(SISWA!B44=0,\"\",SISWA!B44)","v":4364},{"$f":"IF(SISWA!C44=0,\"\",SISWA!C44)","v":"0079667684"},{"$f":"IF(SISWA!D44=0,\"\",SISWA!D44)","v":"1-18-05-80-162-037-4"},{"$f":"IF(SISWA!E44=0,\"\",SISWA!E44)","v":"AIRLANGGA DWIKA RIZQI"},null,67,75,84,82,77,60,75.599999999999994,68.5,"",67.75]
[38,{"$f":"IF(SISWA!B45=0,\"\",SISWA!B45)","v":4365},{"$f":"IF(SISWA!C45=0,\"\",SISWA!C45)","v":"0089321127"},{"$f":"IF(SISWA!D45=0,\"\",SISWA!D45)","v":"1-18-05-80-162-038-3"},{"$f":"IF(SISWA!E45=0,\"\",SISWA!E45)","v":"AUFAN AZKAL ABRORI"},null,85,79,86,84,83.5,60,78.5,71.75,"",72.75]
[39,{"$f":"IF(SISWA!B46=0,\"\",SISWA!B46)","v":4465},{"$f":"IF(SISWA!C46=0,\"\",SISWA!C46)","v":"0071776593"},{"$f":"IF(SISWA!D46=0,\"\",SISWA!D46)","v":"1-18-05-80-162-039-2"},{"$f":"IF(SISWA!E46=0,\"\",SISWA!E46)","v":"AZZA PRISHAL DWI PUTRA"},null,83,76,82,81,80.5,60,75.900000000000006,70.25,"",71.25]
[40,{"$f":"IF(SISWA!B47=0,\"\",SISWA!B47)","v":4368},{"$f":"IF(SISWA!C47=0,\"\",SISWA!C47)","v":"0074569410"},{"$f":"IF(SISWA!D47=0,\"\",SISWA!D47)","v":"1-18-05-80-162-040-9"},{"$f":"IF(SISWA!E47=0,\"\",SISWA!E47)","v":"EKA AULIYA` PUTRI"},null,75,83,89,90,84.25,60,81.25,72.125,"",71]
[41,{"$f":"IF(SISWA!B48=0,\"\",SISWA!B48)","v":4341},{"$f":"IF(SISWA!C48=0,\"\",SISWA!C48)","v":"0083684457"},{"$f":"IF(SISWA!D48=0,\"\",SISWA!D48)","v":"1-18-05-80-162-041-8"},{"$f":"IF(SISWA!E48=0,\"\",SISWA!E48)","v":"ERSA PUSPITA EKA ROSA LINDA"},null,76,83,84,82,81.25,60,78.05,70.625,"",70]
[42,{"$f":"IF(SISWA!B49=0,\"\",SISWA!B49)","v":4369},{"$f":"IF(SISWA!C49=0,\"\",SISWA!C49)","v":"0078481731"},{"$f":"IF(SISWA!D49=0,\"\",SISWA!D49)","v":"1-18-05-80-162-042-7"},{"$f":"IF(SISWA!E49=0,\"\",SISWA!E49)","v":"FABIYAN TRI BAKTI OKTAFIAN"},null,83,85,86,86,85,60,80.400000000000006,72.5,"",72.25]
[43,{"$f":"IF(SISWA!B50=0,\"\",SISWA!B50)","v":4343},{"$f":"IF(SISWA!C50=0,\"\",SISWA!C50)","v":3075965396},{"$f":"IF(SISWA!D50=0,\"\",SISWA!D50)","v":"1-18-05-80-162-043-6"},{"$f":"IF(SISWA!E50=0,\"\",SISWA!E50)","v":"FELISITA APRILIA NUR NIHAYA"},null,78,84,84,83,82.25,60,78.650000000000006,71.125,null,70.5]
[44,{"$f":"IF(SISWA!B51=0,\"\",SISWA!B51)","v":4344},{"$f":"IF(SISWA!C51=0,\"\",SISWA!C51)","v":3078948093},{"$f":"IF(SISWA!D51=0,\"\",SISWA!D51)","v":"1-18-05-80-162-044-5"},{"$f":"IF(SISWA!E51=0,\"\",SISWA!E51)","v":"FIRDA DWI ANDRIANI"},null,81,88,84,83,84,60,79.8,72,null,71.25]
[45,{"$f":"IF(SISWA!B52=0,\"\",SISWA!B52)","v":4372},{"$f":"IF(SISWA!C52=0,\"\",SISWA!C52)","v":"0087636520"},{"$f":"IF(SISWA!D52=0,\"\",SISWA!D52)","v":"1-18-05-80-162-045-4"},{"$f":"IF(SISWA!E52=0,\"\",SISWA!E52)","v":"GILANG AKBAR PRASETYO"},null,77,88,83,82,82.5,60,79.099999999999994,71.25,null,70]
[46,{"$f":"IF(SISWA!B53=0,\"\",SISWA!B53)","v":4373},{"$f":"IF(SISWA!C53=0,\"\",SISWA!C53)","v":"0087373224"},{"$f":"IF(SISWA!D53=0,\"\",SISWA!D53)","v":"1-18-05-80-162-046-3"},{"$f":"IF(SISWA!E53=0,\"\",SISWA!E53)","v":"IFTAH IZZAH EMILIA  MAHMUD"},null,63,85,84,85,79.25,65,79.650000000000006,72.125,null,69.25]
[47,{"$f":"IF(SISWA!B54=0,\"\",SISWA!B54)","v":4441},{"$f":"IF(SISWA!C54=0,\"\",SISWA!C54)","v":"0081758949"},{"$f":"IF(SISWA!D54=0,\"\",SISWA!D54)","v":"1-18-05-80-162-047-2"},{"$f":"IF(SISWA!E54=0,\"\",SISWA!E54)","v":"INES ARIFANI MAULINA"},null,75,89,83,88,83.75,75,83.75,79.375,null,77]
[48,{"$f":"IF(SISWA!B55=0,\"\",SISWA!B55)","v":4374},{"$f":"IF(SISWA!C55=0,\"\",SISWA!C55)","v":"0073409469"},{"$f":"IF(SISWA!D55=0,\"\",SISWA!D55)","v":"1-18-05-80-162-048-9"},{"$f":"IF(SISWA!E55=0,\"\",SISWA!E55)","v":"IYAAD AFLAKHA RAMZII"},null,84,83,89,82,84.5,60,79.7,72.25,null,73.25]
[49,{"$f":"IF(SISWA!B56=0,\"\",SISWA!B56)","v":4305},{"$f":"IF(SISWA!C56=0,\"\",SISWA!C56)","v":"0068258891"},{"$f":"IF(SISWA!D56=0,\"\",SISWA!D56)","v":"1-18-05-80-162-049-8"},{"$f":"IF(SISWA!E56=0,\"\",SISWA!E56)","v":"JULI ANDRIYANTO"},null,75,84,83,98,85,60,82,72.5,null,69.5]
[50,{"$f":"IF(SISWA!B57=0,\"\",SISWA!B57)","v":4347},{"$f":"IF(SISWA!C57=0,\"\",SISWA!C57)","v":"0076367763"},{"$f":"IF(SISWA!D57=0,\"\",SISWA!D57)","v":"1-18-05-80-162-050-7"},{"$f":"IF(SISWA!E57=0,\"\",SISWA!E57)","v":"LIYA FEBRIYANI"},null,74,92,94,90,87.5,70,86.7,78.75,null,77]
[51,{"$f":"IF(SISWA!B58=0,\"\",SISWA!B58)","v":4348},{"$f":"IF(SISWA!C58=0,\"\",SISWA!C58)","v":"0083034332"},{"$f":"IF(SISWA!D58=0,\"\",SISWA!D58)","v":"1-18-05-80-162-051-6"},{"$f":"IF(SISWA!E58=0,\"\",SISWA!E58)","v":"LIZATUL CHAIYUNI"},null,72,87,87,88,83.5,70,83.1,76.75,null,74.75]
[52,{"$f":"IF(SISWA!B59=0,\"\",SISWA!B59)","v":4531},{"$f":"IF(SISWA!C59=0,\"\",SISWA!C59)","v":3099539154},{"$f":"IF(SISWA!D59=0,\"\",SISWA!D59)","v":"1-18-05-80-162-052-5"},{"$f":"IF(SISWA!E59=0,\"\",SISWA!E59)","v":"M. ALHAFIS"},null,73,78,82,83,79,60,76.400000000000006,69.5,null,68.75]
[53,{"$f":"IF(SISWA!B60=0,\"\",SISWA!B60)","v":4530},{"$f":"IF(SISWA!C60=0,\"\",SISWA!C60)","v":"0077015789"},{"$f":"IF(SISWA!D60=0,\"\",SISWA!D60)","v":"1-18-05-80-162-053-4"},{"$f":"IF(SISWA!E60=0,\"\",SISWA!E60)","v":"MUHAMMAD RIZKI RIDWAN"},null,75,76,82,86,79.75,60,76.75,69.875,null,69.25]
[54,{"$f":"IF(SISWA!B61=0,\"\",SISWA!B61)","v":4351},{"$f":"IF(SISWA!C61=0,\"\",SISWA!C61)","v":"0076361559"},{"$f":"IF(SISWA!D61=0,\"\",SISWA!D61)","v":"1-18-05-80-162-054-3"},{"$f":"IF(SISWA!E61=0,\"\",SISWA!E61)","v":"MOCHAMAD RAFLI DIAN SAPUTRA"},null,83,79,82,92,84,60,79.400000000000006,72,null,71.25]
[55,{"$f":"IF(SISWA!B62=0,\"\",SISWA!B62)","v":4352},{"$f":"IF(SISWA!C62=0,\"\",SISWA!C62)","v":"0075591405"},{"$f":"IF(SISWA!D62=0,\"\",SISWA!D62)","v":"1-18-05-80-162-055-2"},{"$f":"IF(SISWA!E62=0,\"\",SISWA!E62)","v":"MOCHAMMAD AFAREL PUTRA RAMDHANA"},null,79,83,89,84,83.75,60,79.95,71.875,null,72]
[56,{"$f":"IF(SISWA!B63=0,\"\",SISWA!B63)","v":4355},{"$f":"IF(SISWA!C63=0,\"\",SISWA!C63)","v":"0075363258"},{"$f":"IF(SISWA!D63=0,\"\",SISWA!D63)","v":"1-18-05-80-162-056-9"},{"$f":"IF(SISWA!E63=0,\"\",SISWA!E63)","v":"MUHAMAD JEFRI MAULANA"},null,72,79,82,84,79.25,60,76.849999999999994,69.625,null,68.5]
[57,{"$f":"IF(SISWA!B64=0,\"\",SISWA!B64)","v":4376},{"$f":"IF(SISWA!C64=0,\"\",SISWA!C64)","v":"0072066741"},{"$f":"IF(SISWA!D64=0,\"\",SISWA!D64)","v":"1-18-05-80-162-057-8"},{"$f":"IF(SISWA!E64=0,\"\",SISWA!E64)","v":"MUHAMMAD DWI WILDAN BAGUS KURNIAWAN"},null,63,76,82,82,75.75,60,75.150000000000006,67.875,null,66.25]
[58,{"$f":"IF(SISWA!B65=0,\"\",SISWA!B65)","v":4377},{"$f":"IF(SISWA!C65=0,\"\",SISWA!C65)","v":"0071459044"},{"$f":"IF(SISWA!D65=0,\"\",SISWA!D65)","v":"1-18-05-80-162-058-7"},{"$f":"IF(SISWA!E65=0,\"\",SISWA!E65)","v":"MUHAMMAD FARIL FIRMANSYA"},null,70,79,83,82,78.5,60,76.5,69.25,null,68.25]
[59,{"$f":"IF(SISWA!B66=0,\"\",SISWA!B66)","v":4349},{"$f":"IF(SISWA!C66=0,\"\",SISWA!C66)","v":"0074206034"},{"$f":"IF(SISWA!D66=0,\"\",SISWA!D66)","v":"1-18-05-80-162-059-6"},{"$f":"IF(SISWA!E66=0,\"\",SISWA!E66)","v":"MUHAMMAD FARIZ UBAIDILLA"},null,77,85,85,93,85,60,81.599999999999994,72.5,null,70.5]
[60,{"$f":"IF(SISWA!B67=0,\"\",SISWA!B67)","v":4356},{"$f":"IF(SISWA!C67=0,\"\",SISWA!C67)","v":"0077937892"},{"$f":"IF(SISWA!D67=0,\"\",SISWA!D67)","v":"1-18-05-80-162-060-5"},{"$f":"IF(SISWA!E67=0,\"\",SISWA!E67)","v":"MUHAMMAD MAULANA ZIDANIL ILMI"},null,79,85,85,94,85.75,60,81.95,72.875,null,71]
[61,{"$f":"IF(SISWA!B68=0,\"\",SISWA!B68)","v":4357},{"$f":"IF(SISWA!C68=0,\"\",SISWA!C68)","v":"0078608527"},{"$f":"IF(SISWA!D68=0,\"\",SISWA!D68)","v":"1-18-05-80-162-061-4"},{"$f":"IF(SISWA!E68=0,\"\",SISWA!E68)","v":"MUHAMMAD SUTRISNO ISMAIL"},null,65,79,82,82,77,82.5,80.5,79.75,null,78]
[62,{"$f":"IF(SISWA!B69=0,\"\",SISWA!B69)","v":4381},{"$f":"IF(SISWA!C69=0,\"\",SISWA!C69)","v":"0072209435"},{"$f":"IF(SISWA!D69=0,\"\",SISWA!D69)","v":"1-18-05-80-162-062-3"},{"$f":"IF(SISWA!E69=0,\"\",SISWA!E69)","v":"NOVITA ERNIAWAN"},null,79,86,85,88,84.5,60,80.7,72.25,null,71]
[63,{"$f":"IF(SISWA!B70=0,\"\",SISWA!B70)","v":4383},{"$f":"IF(SISWA!C70=0,\"\",SISWA!C70)","v":"0077439834"},{"$f":"IF(SISWA!D70=0,\"\",SISWA!D70)","v":"1-18-05-80-162-063-2"},{"$f":"IF(SISWA!E70=0,\"\",SISWA!E70)","v":"PUTRI AULIA DWI AGUSTIN"},null,78,88,93,87,86.5,60,82.9,73.25,null,72.75]
[64,{"$f":"IF(SISWA!B71=0,\"\",SISWA!B71)","v":4385},{"$f":"IF(SISWA!C71=0,\"\",SISWA!C71)","v":"0073137310"},{"$f":"IF(SISWA!D71=0,\"\",SISWA!D71)","v":"1-18-05-80-162-064-9"},{"$f":"IF(SISWA!E71=0,\"\",SISWA!E71)","v":"STANY RAFIDAH RAHMANIA"},null,76,85,84,82,81.75,60,78.55,70.875,null,70]
[65,{"$f":"IF(SISWA!B72=0,\"\",SISWA!B72)","v":4387},{"$f":"IF(SISWA!C72=0,\"\",SISWA!C72)","v":"0077336427"},{"$f":"IF(SISWA!D72=0,\"\",SISWA!D72)","v":"1-18-05-80-162-065-8"},{"$f":"IF(SISWA!E72=0,\"\",SISWA!E72)","v":"USWATUN KHASANAH"},null,71,84,83,91,82.25,60,80.05,71.125,null,68.5]
[66,{"$f":"IF(SISWA!B73=0,\"\",SISWA!B73)","v":4389},{"$f":"IF(SISWA!C73=0,\"\",SISWA!C73)","v":"0078407631"},{"$f":"IF(SISWA!D73=0,\"\",SISWA!D73)","v":"1-18-05-80-162-066-7"},{"$f":"IF(SISWA!E73=0,\"\",SISWA!E73)","v":"VIKROUL KHAMILA"},null,75,60,89,91,{"$f":"AVERAGE(F73:J73)","v":78.75},60,75.75,{"$f":"AVERAGE(K73:L73)","v":69.375},null,71]
[67,{"$f":"IF(SISWA!B74=0,\"\",SISWA!B74)","v":""},{"$f":"IF(SISWA!C74=0,\"\",SISWA!C74)","v":""},{"$f":"IF(SISWA!D74=0,\"\",SISWA!D74)","v":""},{"$f":"IF(SISWA!E74=0,\"\",SISWA!E74)","v":""},null,null,null,null,null,{"$error":"#DIV/0!"},null,null,{"$error":"#DIV/0!"},null,{"$error":"#DIV/0!"}]
[68,{"$f":"IF(SISWA!B75=0,\"\",SISWA!B75)","v":""},{"$f":"IF(SISWA!C75=0,\"\",SISWA!C75)","v":""},{"$f":"IF(SISWA!D75=0,\"\",SISWA!D75)","v":""},{"$f":"IF(SISWA!E75=0,\"\",SISWA!E75)","v":""},null,null,null,null,null,{"$error":"#DIV/0!"},null,null,{"$error":"#DIV/0!"},null,{"$error":"#DIV/0!"}]
[69,{"$f":"IF(SISWA!B76=0,\"\",SISWA!B76)","v":""},{"$f":"IF(SISWA!C76=0,\"\",SISWA!C76)","v":""},{"$f":"IF(SISWA!D76=0,\"\",SISWA!D76)","v":""},{"$f":"IF(SISWA!E76=0,\"\",SISWA!E76)","v":""},null,null,null,null,null,{"$error":"#DIV/0!"},null,null,{"$error":"#DIV/0!"},null,{"$error":"#DIV/0!"}]
[70,{"$f":"IF(SISWA!B77=0,\"\",SISWA!B77)","v":""},{"$f":"IF(SISWA!C77=0,\"\",SISWA!C77)","v":""},{"$f":"IF(SISWA!D77=0,\"\",SISWA!D77)","v":""},{"$f":"IF(SISWA!E77=0,\"\",SISWA!E77)","v":""},null,null,null,null,null,{"$error":"#DIV/0!"},null,null,{"$error":"#DIV/0!"},null,{"$error":"#DIV/0!"}]
[71,{"$f":"IF(SISWA!B78=0,\"\",SISWA!B78)","v":""},{"$f":"IF(SISWA!C78=0,\"\",SISWA!C78)","v":""},{"$f":"IF(SISWA!D78=0,\"\",SISWA!D78)","v":""},{"$f":"IF(SISWA!E78=0,\"\",SISWA!E78)","v":""},null,null,null,null,null,{"$error":"#DIV/0!"},null,null,{"$error":"#DIV/0!"},null,{"$error":"#DIV/0!"}]
[72,{"$f":"IF(SISWA!B79=0,\"\",SISWA!B79)","v":""},{"$f":"IF(SISWA!C79=0,\"\",SISWA!C79)","v":""},{"$f":"IF(SISWA!D79=0,\"\",SISWA!D79)","v":""},{"$f":"IF(SISWA!E79=0,\"\",SISWA!E79)","v":""},null,null,null,null,null,{"$error":"#DIV/0!"},null,null,{"$error":"#DIV/0!"},null,{"$error":"#DIV/0!"}]
[73,{"$f":"IF(SISWA!B80=0,\"\",SISWA!B80)","v":""},{"$f":"IF(SISWA!C80=0,\"\",SISWA!C80)","v":""},{"$f":"IF(SISWA!D80=0,\"\",SISWA!D80)","v":""},{"$f":"IF(SISWA!E80=0,\"\",SISWA!E80)","v":""},null,null,null,null,null,{"$error":"#DIV/0!"},null,null,{"$error":"#DIV/0!"},null,{"$error":"#DIV/0!"}]
[74,{"$f":"IF(SISWA!B81=0,\"\",SISWA!B81)","v":""},{"$f":"IF(SISWA!C81=0,\"\",SISWA!C81)","v":""},{"$f":"IF(SISWA!D81=0,\"\",SISWA!D81)","v":""},{"$f":"IF(SISWA!E81=0,\"\",SISWA!E81)","v":""},null,null,null,null,null,{"$error":"#DIV/0!"},null,null,{"$error":"#DIV/0!"},null,{"$error":"#DIV/0!"}]
[75,{"$f":"IF(SISWA!B82=0,\"\",SISWA!B82)","v":""},{"$f":"IF(SISWA!C82=0,\"\",SISWA!C82)","v":""},{"$f":"IF(SISWA!D82=0,\"\",SISWA!D82)","v":""},{"$f":"IF(SISWA!E82=0,\"\",SISWA!E82)","v":""},null,null,null,null,null,{"$error":"#DIV/0!"},null,null,{"$error":"#DIV/0!"},null,{"$error":"#DIV/0!"}]
[76,{"$f":"IF(SISWA!B83=0,\"\",SISWA!B83)","v":""},{"$f":"IF(SISWA!C83=0,\"\",SISWA!C83)","v":""},{"$f":"IF(SISWA!D83=0,\"\",SISWA!D83)","v":""},{"$f":"IF(SISWA!E83=0,\"\",SISWA!E83)","v":""},null,null,null,null,null,{"$error":"#DIV/0!"},null,null,{"$error":"#DIV/0!"},null,{"$error":"#DIV/0!"}]
[77,{"$f":"IF(SISWA!B84=0,\"\",SISWA!B84)","v":""},{"$f":"IF(SISWA!C84=0,\"\",SISWA!C84)","v":""},{"$f":"IF(SISWA!D84=0,\"\",SISWA!D84)","v":""},{"$f":"IF(SISWA!E84=0,\"\",SISWA!E84)","v":""},null,null,null,null,null,{"$error":"#DIV/0!"},null,null,{"$error":"#DIV/0!"},null,{"$error":"#DIV/0!"}]
[78,{"$f":"IF(SISWA!B85=0,\"\",SISWA!B85)","v":""},{"$f":"IF(SISWA!C85=0,\"\",SISWA!C85)","v":""},{"$f":"IF(SISWA!D85=0,\"\",SISWA!D85)","v":""},{"$f":"IF(SISWA!E85=0,\"\",SISWA!E85)","v":""},null,null,null,null,null,{"$error":"#DIV/0!"},null,null,{"$error":"#DIV/0!"},null,{"$error":"#DIV/0!"}]
[79,{"$f":"IF(SISWA!B86=0,\"\",SISWA!B86)","v":""},{"$f":"IF(SISWA!C86=0,\"\",SISWA!C86)","v":""},{"$f":"IF(SISWA!D86=0,\"\",SISWA!D86)","v":""},{"$f":"IF(SISWA!E86=0,\"\",SISWA!E86)","v":""},null,null,null,null,null,{"$error":"#DIV/0!"},null,null,{"$error":"#DIV/0!"},null,{"$error":"#DIV/0!"}]
[80,{"$f":"IF(SISWA!B87=0,\"\",SISWA!B87)","v":""},{"$f":"IF(SISWA!C87=0,\"\",SISWA!C87)","v":""},{"$f":"IF(SISWA!D87=0,\"\",SISWA!D87)","v":""},{"$f":"IF(SISWA!E87=0,\"\",SISWA!E87)","v":""},null,null,null,null,null,{"$error":"#DIV/0!"},null,null,{"$error":"#DIV/0!"},null,{"$error":"#DIV/0!"}]
[81,{"$f":"IF(SISWA!B88=0,\"\",SISWA!B88)","v":""},{"$f":"IF(SISWA!C88=0,\"\",SISWA!C88)","v":""},{"$f":"IF(SISWA!D88=0,\"\",SISWA!D88)","v":""},{"$f":"IF(SISWA!E88=0,\"\",SISWA!E88)","v":""},null,null,null,null,null,{"$error":"#DIV/0!"},null,null,{"$error":"#DIV/0!"},null,{"$error":"#DIV/0!"}]
[82,{"$f":"IF(SISWA!B89=0,\"\",SISWA!B89)","v":""},{"$f":"IF(SISWA!C89=0,\"\",SISWA!C89)","v":""},{"$f":"IF(SISWA!D89=0,\"\",SISWA!D89)","v":""},{"$f":"IF(SISWA!E89=0,\"\",SISWA!E89)","v":""},null,null,null,null,null,{"$error":"#DIV/0!"},null,null,{"$error":"#DIV/0!"},null,{"$error":"#DIV/0!"}]
[83,{"$f":"IF(SISWA!B90=0,\"\",SISWA!B90)","v":""},{"$f":"IF(SISWA!C90=0,\"\",SISWA!C90)","v":""},{"$f":"IF(SISWA!D90=0,\"\",SISWA!D90)","v":""},{"$f":"IF(SISWA!E90=0,\"\",SISWA!E90)","v":""},null,null,null,null,null,{"$error":"#DIV/0!"},null,null,{"$error":"#DIV/0!"},null,{"$error":"#DIV/0!"}]
[84,{"$f":"IF(SISWA!B91=0,\"\",SISWA!B91)","v":""},{"$f":"IF(SISWA!C91=0,\"\",SISWA!C91)","v":""},{"$f":"IF(SISWA!D91=0,\"\",SISWA!D91)","v":""},{"$f":"IF(SISWA!E91=0,\"\",SISWA!E91)","v":""},null,null,null,null,null,{"$error":"#DIV/0!"},null,null,{"$error":"#DIV/0!"},null,{"$error":"#DIV/0!"}]
[85,{"$f":"IF(SISWA!B92=0,\"\",SISWA!B92)","v":""},{"$f":"IF(SISWA!C92=0,\"\",SISWA!C92)","v":""},{"$f":"IF(SISWA!D92=0,\"\",SISWA!D92)","v":""},{"$f":"IF(SISWA!E92=0,\"\",SISWA!E92)","v":""},null,null,null,null,null,{"$error":"#DIV/0!"},null,null,{"$error":"#DIV/0!"},null,{"$error":"#DIV/0!"}]
[86,{"$f":"IF(SISWA!B93=0,\"\",SISWA!B93)","v":""},{"$f":"IF(SISWA!C93=0,\"\",SISWA!C93)","v":""},{"$f":"IF(SISWA!D93=0,\"\",SISWA!D93)","v":""},{"$f":"IF(SISWA!E93=0,\"\",SISWA!E93)","v":""},null,null,null,null,null,{"$error":"#DIV/0!"},null,null,{"$error":"#DIV/0!"},null,{"$error":"#DIV/0!"}]
[87,{"$f":"IF(SISWA!B94=0,\"\",SISWA!B94)","v":""},{"$f":"IF(SISWA!C94=0,\"\",SISWA!C94)","v":""},{"$f":"IF(SISWA!D94=0,\"\",SISWA!D94)","v":""},{"$f":"IF(SISWA!E94=0,\"\",SISWA!E94)","v":""},null,null,null,null,null,{"$error":"#DIV/0!"},null,null,{"$error":"#DIV/0!"},null,{"$error":"#DIV/0!"}]
[88,{"$f":"IF(SISWA!B95=0,\"\",SISWA!B95)","v":""},{"$f":"IF(SISWA!C95=0,\"\",SISWA!C95)","v":""},{"$f":"IF(SISWA!D95=0,\"\",SISWA!D95)","v":""},{"$f":"IF(SISWA!E95=0,\"\",SISWA!E95)","v":""},null,null,null,null,null,{"$error":"#DIV/0!"},null,null,{"$error":"#DIV/0!"},null,{"$error":"#DIV/0!"}]
[89,{"$f":"IF(SISWA!B96=0,\"\",SISWA!B96)","v":""},{"$f":"IF(SISWA!C96=0,\"\",SISWA!C96)","v":""},{"$f":"IF(SISWA!D96=0,\"\",SISWA!D96)","v":""},{"$f":"IF(SISWA!E96=0,\"\",SISWA!E96)","v":""},null,null,null,null,null,{"$error":"#DIV/0!"},null,null,{"$error":"#DIV/0!"},null,{"$error":"#DIV/0!"}]
[90,{"$f":"IF(SISWA!B97=0,\"\",SISWA!B97)","v":""},{"$f":"IF(SISWA!C97=0,\"\",SISWA!C97)","v":""},{"$f":"IF(SISWA!D97=0,\"\",SISWA!D97)","v":""},{"$f":"IF(SISWA!E97=0,\"\",SISWA!E97)","v":""},null,null,null,null,null,{"$error":"#DIV/0!"},null,null,{"$error":"#DIV/0!"},null,{"$error":"#DIV/0!"}]
[91,{"$f":"IF(SISWA!B98=0,\"\",SISWA!B98)","v":""},{"$f":"IF(SISWA!C98=0,\"\",SISWA!C98)","v":""},{"$f":"IF(SISWA!D98=0,\"\",SISWA!D98)","v":""},{"$f":"IF(SISWA!E98=0,\"\",SISWA!E98)","v":""},null,null,null,null,null,{"$error":"#DIV/0!"},null,null,{"$error":"#DIV/0!"},null,{"$error":"#DIV/0!"}]
[92,{"$f":"IF(SISWA!B99=0,\"\",SISWA!B99)","v":""},{"$f":"IF(SISWA!C99=0,\"\",SISWA!C99)","v":""},{"$f":"IF(SISWA!D99=0,\"\",SISWA!D99)","v":""},{"$f":"IF(SISWA!E99=0,\"\",SISWA!E99)","v":""},null,null,null,null,null,{"$error":"#DIV/0!"},null,null,{"$error":"#DIV/0!"},null,{"$error":"#DIV/0!"}]
[93,{"$f":"IF(SISWA!B100=0,\"\",SISWA!B100)","v":""},{"$f":"IF(SISWA!C100=0,\"\",SISWA!C100)","v":""},{"$f":"IF(SISWA!D100=0,\"\",SISWA!D100)","v":""},{"$f":"IF(SISWA!E100=0,\"\",SISWA!E100)","v":""},null,null,null,null,null,{"$error":"#DIV/0!"},null,null,{"$error":"#DIV/0!"},null,{"$error":"#DIV/0!"}]
[94,{"$f":"IF(SISWA!B101=0,\"\",SISWA!B101)","v":""},{"$f":"IF(SISWA!C101=0,\"\",SISWA!C101)","v":""},{"$f":"IF(SISWA!D101=0,\"\",SISWA!D101)","v":""},{"$f":"IF(SISWA!E101=0,\"\",SISWA!E101)","v":""},null,null,null,null,null,{"$error":"#DIV/0!"},null,null,{"$error":"#DIV/0!"},null,{"$error":"#DIV/0!"}]
[95,{"$f":"IF(SISWA!B102=0,\"\",SISWA!B102)","v":""},{"$f":"IF(SISWA!C102=0,\"\",SISWA!C102)","v":""},{"$f":"IF(SISWA!D102=0,\"\",SISWA!D102)","v":""},{"$f":"IF(SISWA!E102=0,\"\",SISWA!E102)","v":""},null,null,null,null,null,{"$error":"#DIV/0!"},null,null,{"$error":"#DIV/0!"},null,{"$error":"#DIV/0!"}]
[96,{"$f":"IF(SISWA!B103=0,\"\",SISWA!B103)","v":""},{"$f":"IF(SISWA!C103=0,\"\",SISWA!C103)","v":""},{"$f":"IF(SISWA!D103=0,\"\",SISWA!D103)","v":""},{"$f":"IF(SISWA!E103=0,\"\",SISWA!E103)","v":""},null,null,null,null,null,{"$error":"#DIV/0!"},null,null,{"$error":"#DIV/0!"},null,{"$error":"#DIV/0!"}]
[97,{"$f":"IF(SISWA!B104=0,\"\",SISWA!B104)","v":""},{"$f":"IF(SISWA!C104=0,\"\",SISWA!C104)","v":""},{"$f":"IF(SISWA!D104=0,\"\",SISWA!D104)","v":""},{"$f":"IF(SISWA!E104=0,\"\",SISWA!E104)","v":""},null,null,null,null,null,{"$error":"#DIV/0!"},null,null,{"$error":"#DIV/0!"},null,{"$error":"#DIV/0!"}]
[98,{"$f":"IF(SISWA!B105=0,\"\",SISWA!B105)","v":""},{"$f":"IF(SISWA!C105=0,\"\",SISWA!C105)","v":""},{"$f":"IF(SISWA!D105=0,\"\",SISWA!D105)","v":""},{"$f":"IF(SISWA!E105=0,\"\",SISWA!E105)","v":""},null,null,null,null,null,{"$error":"#DIV/0!"},null,null,{"$error":"#DIV/0!"},null,{"$error":"#DIV/0!"}]
[99,{"$f":"IF(SISWA!B106=0,\"\",SISWA!B106)","v":""},{"$f":"IF(SISWA!C106=0,\"\",SISWA!C106)","v":""},{"$f":"IF(SISWA!D106=0,\"\",SISWA!D106)","v":""},{"$f":"IF(SISWA!E106=0,\"\",SISWA!E106)","v":""},null,null,null,null,null,{"$error":"#DIV/0!"},null,null,{"$error":"#DIV/0!"},null,{"$error":"#DIV/0!"}]
[100,{"$f":"IF(SISWA!B107=0,\"\",SISWA!B107)","v":""},{"$f":"IF(SISWA!C107=0,\"\",SISWA!C107)","v":""},{"$f":"IF(SISWA!D107=0,\"\",SISWA!D107)","v":""},{"$f":"IF(SISWA!E107=0,\"\",SISWA!E107)","v":""},null,null,null,null,null,{"$error":"#DIV/0!"},null,null,{"$error":"#DIV/0!"},null,{"$error":"#DIV/0!"}]
[101,{"$f":"IF(SISWA!B108=0,\"\",SISWA!B108)","v":""},{"$f":"IF(SISWA!C108=0,\"\",SISWA!C108)","v":""},{"$f":"IF(SISWA!D108=0,\"\",SISWA!D108)","v":""},{"$f":"IF(SISWA!E108=0,\"\",SISWA!E108)","v":""},null,null,null,null,null,{"$error":"#DIV/0!"},null,null,{"$error":"#DIV/0!"},null,{"$error":"#DIV/0!"}]

{"sheet":"SKI","index":5,"n_rows":108,"n_cols":16,"rows_kept":108,"cut":false,"hidden":false,"merged":[[4,14,6,14],[5,11,5,12],[0,0,0,9],[1,0,1,9],[2,0,2,9],[4,0,6,0],[4,1,6,1],[4,2,6,2],[4,3,6,3],[4,4,6,4],[4,5,4,12],[5,5,5,9]]}
["DAFTAR NILAI AKHIR SEKOLAH"]
[{"$f":"AA!A2","v":"MADRASAH IBTIDAIYAH NURUL ISLAM LABRUK KIDUL"}]
[{"$f":"AA!A3","v":"TAHUN PELAJARAN 2019/2020"}]
[]
["NO","No Induk","NISN","Nomor Peserta","Nama Peserta","SKI",null,null,null,null,null,null,null,null,"rata-rata UAM & PRAKTEK"]
[null,null,null,null,null,"Nilai Semester",null,null,null,null,"Rata- 2","NILAI UAMBD",null,null,null,"UAMNU"]
[null,null,null,null,null,7,8,9,10,11,"Rapor","TULIS","PRAKTIK",null,null,"TULIS"]
[1,{"$f":"IF(SISWA!B8=0,\"\",SISWA!B8)","v":4331},{"$f":"IF(SISWA!C8=0,\"\",SISWA!C8)","v":"0078140536"},{"$f":"IF(SISWA!D8=0,\"\",SISWA!D8)","v":"1-18-05-80-162-001-8"},{"$f":"IF(SISWA!E8=0,\"\",SISWA!E8)","v":"ACHMAD FATHIR IZUDDIN"},null,63,87,88,84,{"$f":"AVERAGE(F8:J8)","v":80.5},65,{"$f":"AVERAGE(H8:L8)","v":80.900000000000006},{"$f":"AVERAGE(L8:M8)","v":72.95},{"$f":"AVERAGE(L8:M8)","v":72.95},72.95]
[2,{"$f":"IF(SISWA!B9=0,\"\",SISWA!B9)","v":4333},{"$f":"IF(SISWA!C9=0,\"\",SISWA!C9)","v":"0084691896"},{"$f":"IF(SISWA!D9=0,\"\",SISWA!D9)","v":"1-18-05-80-162-002-7"},{"$f":"IF(SISWA!E9=0,\"\",SISWA!E9)","v":"AININ NAFISA FEBRIYANTI"},null,68,89,86,91,{"$f":"AVERAGE(F9:J9)","v":83.5},60,81.900000000000006,{"$f":"AVERAGE(L9:M9)","v":70.95},{"$f":"AVERAGE(L9:M9)","v":70.95},70.95]
[3,{"$f":"IF(SISWA!B10=0,\"\",SISWA!B10)","v":4334},{"$f":"IF(SISWA!C10=0,\"\",SISWA!C10)","v":"0075488897"},{"$f":"IF(SISWA!D10=0,\"\",SISWA!D10)","v":"1-18-05-80-162-003-6"},{"$f":"IF(SISWA!E10=0,\"\",SISWA!E10)","v":"AISYAH DWI ANDINI"},null,72,90,88,89,84.75,60,82.35,71.174999999999997,71.174999999999997,71.174999999999997]
[4,{"$f":"IF(SISWA!B11=0,\"\",SISWA!B11)","v":4335},{"$f":"IF(SISWA!C11=0,\"\",SISWA!C11)","v":"0077554289"},{"$f":"IF(SISWA!D11=0,\"\",SISWA!D11)","v":"1-18-05-80-162-004-5"},{"$f":"IF(SISWA!E11=0,\"\",SISWA!E11)","v":"AJENG AGUSTINA KIRANA PUTRI"},null,63,90,88,88,82.25,60,81.650000000000006,70.825000000000003,70.825000000000003,70.825000000000003]
[5,{"$f":"IF(SISWA!B12=0,\"\",SISWA!B12)","v":4336},{"$f":"IF(SISWA!C12=0,\"\",SISWA!C12)","v":"0078831956"},{"$f":"IF(SISWA!D12=0,\"\",SISWA!D12)","v":"1-18-05-80-162-005-4"},{"$f":"IF(SISWA!E12=0,\"\",SISWA!E12)","v":"ALVIAN FAIZULHAQQI"},null,57,87,86,82,78,60,78.599999999999994,69.3,69.3,69.3]
[6,{"$f":"IF(SISWA!B13=0,\"\",SISWA!B13)","v":4337},{"$f":"IF(SISWA!C13=0,\"\",SISWA!C13)","v":"0073667130"},{"$f":"IF(SISWA!D13=0,\"\",SISWA!D13)","v":"1-18-05-80-162-006-3"},{"$f":"IF(SISWA!E13=0,\"\",SISWA!E13)","v":"ANGGITA RIZKY YUGA MEISYA"},null,64,91,88,91,83.5,60,82.7,71.349999999999994,71.349999999999994,71.349999999999994]
[7,{"$f":"IF(SISWA!B14=0,\"\",SISWA!B14)","v":4338},{"$f":"IF(SISWA!C14=0,\"\",SISWA!C14)","v":"0074492973"},{"$f":"IF(SISWA!D14=0,\"\",SISWA!D14)","v":"1-18-05-80-162-007-2"},{"$f":"IF(SISWA!E14=0,\"\",SISWA!E14)","v":"AURA SALSABILA WULAN SARI"},null,69,87,88,88,83,60,81.2,70.599999999999994,70.599999999999994,70.599999999999994]
[8,{"$f":"IF(SISWA!B15=0,\"\",SISWA!B15)","v":4366},{"$f":"IF(SISWA!C15=0,\"\",SISWA!C15)","v":"0078989673"},{"$f":"IF(SISWA!D15=0,\"\",SISWA!D15)","v":"1-18-05-80-162-008-9"},{"$f":"IF(SISWA!E15=0,\"\",SISWA!E15)","v":"BALQIS NAILA AUDIA"},null,84,94,90,94,90.5,60,85.7,72.849999999999994,72.849999999999994,72.849999999999994]
[9,{"$f":"IF(SISWA!B16=0,\"\",SISWA!B16)","v":4440},{"$f":"IF(SISWA!C16=0,\"\",SISWA!C16)","v":"0082763386"},{"$f":"IF(SISWA!D16=0,\"\",SISWA!D16)","v":"1-18-05-80-162-009-8"},{"$f":"IF(SISWA!E16=0,\"\",SISWA!E16)","v":"BIMA ARYO SUSILO"},null,80,88,88,83,84.75,60,80.75,70.375,70.375,70.375]
[10,{"$f":"IF(SISWA!B17=0,\"\",SISWA!B17)","v":4367},{"$f":"IF(SISWA!C17=0,\"\",SISWA!C17)","v":"0078400392"},{"$f":"IF(SISWA!D17=0,\"\",SISWA!D17)","v":"1-18-05-80-162-010-7"},{"$f":"IF(SISWA!E17=0,\"\",SISWA!E17)","v":"BIMA SATRIA DIRGANTARA"},null,60,85,88,82,78.75,60,78.75,69.375,69.375,69.375]
[11,{"$f":"IF(SISWA!B18=0,\"\",SISWA!B18)","v":4339},{"$f":"IF(SISWA!C18=0,\"\",SISWA!C18)","v":"0086652599"},{"$f":"IF(SISWA!D18=0,\"\",SISWA!D18)","v":"1-18-05-80-162-011-6"},{"$f":"IF(SISWA!E18=0,\"\",SISWA!E18)","v":"DEVI KARUNIA RATNA PUTRI"},null,67,89,90,90,84,60,82.6,71.3,71.3,71.3]
[12,{"$f":"IF(SISWA!B19=0,\"\",SISWA!B19)","v":4340},{"$f":"IF(SISWA!C19=0,\"\",SISWA!C19)","v":"0089906682"},{"$f":"IF(SISWA!D19=0,\"\",SISWA!D19)","v":"1-18-05-80-162-012-5"},{"$f":"IF(SISWA!E19=0,\"\",SISWA!E19)","v":"DEVITA FEBRIANI PUTRI"},null,67,89,90,89,83.75,60,82.35,71.174999999999997,71.174999999999997,71.174999999999997]
[13,{"$f":"IF(SISWA!B20=0,\"\",SISWA!B20)","v":4370},{"$f":"IF(SISWA!C20=0,\"\",SISWA!C20)","v":"0074514146"},{"$f":"IF(SISWA!D20=0,\"\",SISWA!D20)","v":"1-18-05-80-162-013-4"},{"$f":"IF(SISWA!E20=0,\"\",SISWA!E20)","v":"FAKHIS GABRIL LIA"},null,64,87,89,87,81.75,60,80.95,70.474999999999994,70.474999999999994,70.474999999999994]
[14,{"$f":"IF(SISWA!B21=0,\"\",SISWA!B21)","v":4342},{"$f":"IF(SISWA!C21=0,\"\",SISWA!C21)","v":"0081081672"},{"$f":"IF(SISWA!D21=0,\"\",SISWA!D21)","v":"1-18-05-80-162-014-3"},{"$f":"IF(SISWA!E21=0,\"\",SISWA!E21)","v":"FARAH NAILATUL ALYAH"},null,86,87,89,84,86.5,60,81.3,70.650000000000006,70.650000000000006,70.650000000000006]
[15,{"$f":"IF(SISWA!B22=0,\"\",SISWA!B22)","v":4345},{"$f":"IF(SISWA!C22=0,\"\",SISWA!C22)","v":"0073420487"},{"$f":"IF(SISWA!D22=0,\"\",SISWA!D22)","v":"1-18-05-80-162-015-2"},{"$f":"IF(SISWA!E22=0,\"\",SISWA!E22)","v":"GALANG MARDHOTILLAH SATOTO"},null,61,85,88,81,78.75,60,78.55,69.275000000000006,69.275000000000006,69.275000000000006]
[16,{"$f":"IF(SISWA!B23=0,\"\",SISWA!B23)","v":4371},{"$f":"IF(SISWA!C23=0,\"\",SISWA!C23)","v":"0079870082"},{"$f":"IF(SISWA!D23=0,\"\",SISWA!D23)","v":"1-18-05-80-162-016-9"},{"$f":"IF(SISWA!E23=0,\"\",SISWA!E23)","v":"GALIH FAREL PRASTYO"},null,63,85,89,82,79.75,60,79.150000000000006,69.575000000000003,69.575000000000003,69.575000000000003]
[17,{"$f":"IF(SISWA!B24=0,\"\",SISWA!B24)","v":4466},{"$f":"IF(SISWA!C24=0,\"\",SISWA!C24)","v":"0081629504"},{"$f":"IF(SISWA!D24=0,\"\",SISWA!D24)","v":"1-18-05-80-162-017-8"},{"$f":"IF(SISWA!E24=0,\"\",SISWA!E24)","v":"HIBATULLAH MUSTAGHFIRY RUSLI"},null,83,85,89,81,84.5,60,79.900000000000006,69.95,69.95,69.95]
[18,{"$f":"IF(SISWA!B25=0,\"\",SISWA!B25)","v":4346},{"$f":"IF(SISWA!C25=0,\"\",SISWA!C25)","v":"0073608418"},{"$f":"IF(SISWA!D25=0,\"\",SISWA!D25)","v":"1-18-05-80-162-018-7"},{"$f":"IF(SISWA!E25=0,\"\",SISWA!E25)","v":"IKA KURNIA WATI AGUSTINA"},null,66,85,88,84,80.75,60,79.55,69.775000000000006,69.775000000000006,69.775000000000006]
[19,{"$f":"IF(SISWA!B26=0,\"\",SISWA!B26)","v":4350},{"$f":"IF(SISWA!C26=0,\"\",SISWA!C26)","v":"0072658586"},{"$f":"IF(SISWA!D26=0,\"\",SISWA!D26)","v":"1-18-05-80-162-019-6"},{"$f":"IF(SISWA!E26=0,\"\",SISWA!E26)","v":"MAYLUNA EKA PRATIWI"},null,87,90,90,89,89,72.5,86.1,79.3,79.3,79.3]
[20,{"$f":"IF(SISWA!B27=0,\"\",SISWA!B27)","v":4353},{"$f":"IF(SISWA!C27=0,\"\",SISWA!C27)","v":"0075464137"},{"$f":"IF(SISWA!D27=0,\"\",SISWA!D27)","v":"1-18-05-80-162-020-5"},{"$f":"IF(SISWA!E27=0,\"\",SISWA!E27)","v":"MOHAMAD DWIMAS FIRDAUS"},null,77,85,89,93,86,60,82.6,71.3,71.3,71.3]
[21,{"$f":"IF(SISWA!B28=0,\"\",SISWA!B28)","v":4375},{"$f":"IF(SISWA!C28=0,\"\",SISWA!C28)","v":"0075096831"},{"$f":"IF(SISWA!D28=0,\"\",SISWA!D28)","v":"1-18-05-80-162-021-4"},{"$f":"IF(SISWA!E28=0,\"\",SISWA!E28)","v":"MUHAMMAD AFFAN ABI SYAHPUTRA"},null,77,86,88,83,83.5,60,80.099999999999994,70.05,70.05,70.05]
[22,{"$f":"IF(SISWA!B29=0,\"\",SISWA!B29)","v":4354},{"$f":"IF(SISWA!C29=0,\"\",SISWA!C29)","v":"0075055640"},{"$f":"IF(SISWA!D29=0,\"\",SISWA!D29)","v":"1-18-05-80-162-022-3"},{"$f":"IF(SISWA!E29=0,\"\",SISWA!E29)","v":"MUHAMMAD ALVIN RIDHO"},null,63,85,89,82,79.75,77.5,82.65,80.075000000000003,80.075000000000003,80.075000000000003]
[23,{"$f":"IF(SISWA!B30=0,\"\",SISWA!B30)","v":4378},{"$f":"IF(SISWA!C30=0,\"\",SISWA!C30)","v":"0074268893"},{"$f":"IF(SISWA!D30=0,\"\",SISWA!D30)","v":"1-18-05-80-162-023-2"},{"$f":"IF(SISWA!E30=0,\"\",SISWA!E30)","v":"MUKHAMAD DAVID ARIF FIRDAUS"},null,82,89,89,89,87.25,60,82.85,71.424999999999997,71.424999999999997,71.424999999999997]
[24,{"$f":"IF(SISWA!B31=0,\"\",SISWA!B31)","v":4379},{"$f":"IF(SISWA!C31=0,\"\",SISWA!C31)","v":"0072757203"},{"$f":"IF(SISWA!D31=0,\"\",SISWA!D31)","v":"1-18-05-80-162-024-9"},{"$f":"IF(SISWA!E31=0,\"\",SISWA!E31)","v":"NAORA ISQI AINAYYA"},null,97,93,89,92,92.75,70,87.35,78.674999999999997,78.674999999999997,78.674999999999997]
[25,{"$f":"IF(SISWA!B32=0,\"\",SISWA!B32)","v":4380},{"$f":"IF(SISWA!C32=0,\"\",SISWA!C32)","v":"0079026285"},{"$f":"IF(SISWA!D32=0,\"\",SISWA!D32)","v":"1-18-05-80-162-025-8"},{"$f":"IF(SISWA!E32=0,\"\",SISWA!E32)","v":"NAZRA ISLAMAY PASHA"},null,80,87,90,85,85.5,72.5,84,78.25,78.25,78.25]
[26,{"$f":"IF(SISWA!B33=0,\"\",SISWA!B33)","v":4382},{"$f":"IF(SISWA!C33=0,\"\",SISWA!C33)","v":"0079872151"},{"$f":"IF(SISWA!D33=0,\"\",SISWA!D33)","v":"1-18-05-80-162-026-7"},{"$f":"IF(SISWA!E33=0,\"\",SISWA!E33)","v":"NUR ALYA NABILA"},null,78,87,89,85,84.75,75,84.15,79.575000000000003,79.575000000000003,79.575000000000003]
[27,{"$f":"IF(SISWA!B34=0,\"\",SISWA!B34)","v":4358},{"$f":"IF(SISWA!C34=0,\"\",SISWA!C34)","v":"0087558837"},{"$f":"IF(SISWA!D34=0,\"\",SISWA!D34)","v":"1-18-05-80-162-027-6"},{"$f":"IF(SISWA!E34=0,\"\",SISWA!E34)","v":"PUTRI SHOLIKHAH"},null,78,86,89,82,83.75,60,80.150000000000006,70.075000000000003,70.075000000000003,70.075000000000003]
[28,{"$f":"IF(SISWA!B35=0,\"\",SISWA!B35)","v":4384},{"$f":"IF(SISWA!C35=0,\"\",SISWA!C35)","v":"0071234523"},{"$f":"IF(SISWA!D35=0,\"\",SISWA!D35)","v":"1-18-05-80-162-028-5"},{"$f":"IF(SISWA!E35=0,\"\",SISWA!E35)","v":"RESTI FITRIANTI DWI OCTAVIANI"},null,80,86,88,88,85.5,67.5,83,75.25,75.25,75.25]
[29,{"$f":"IF(SISWA!B36=0,\"\",SISWA!B36)","v":4359},{"$f":"IF(SISWA!C36=0,\"\",SISWA!C36)","v":"0073122181"},{"$f":"IF(SISWA!D36=0,\"\",SISWA!D36)","v":"1-18-05-80-162-029-4"},{"$f":"IF(SISWA!E36=0,\"\",SISWA!E36)","v":"ROUDHOTUS SA'DIYAH"},null,82,87,89,85,85.75,72.5,83.85,78.174999999999997,78.174999999999997,78.174999999999997]
[30,{"$f":"IF(SISWA!B37=0,\"\",SISWA!B37)","v":4386},{"$f":"IF(SISWA!C37=0,\"\",SISWA!C37)","v":"0075344352"},{"$f":"IF(SISWA!D37=0,\"\",SISWA!D37)","v":"1-18-05-80-162-030-3"},{"$f":"IF(SISWA!E37=0,\"\",SISWA!E37)","v":"TIERSYA BETA RAMANUZAN"},null,96,90,91,89,91.5,80,88.3,84.15,84.15,84.15]
[31,{"$f":"IF(SISWA!B38=0,\"\",SISWA!B38)","v":4388},{"$f":"IF(SISWA!C38=0,\"\",SISWA!C38)","v":"0077423646"},{"$f":"IF(SISWA!D38=0,\"\",SISWA!D38)","v":"1-18-05-80-162-031-2"},{"$f":"IF(SISWA!E38=0,\"\",SISWA!E38)","v":"VERA MUSTIKA"},null,82,87,89,83,85.25,60,80.849999999999994,70.424999999999997,70.424999999999997,70.424999999999997]
[32,{"$f":"IF(SISWA!B39=0,\"\",SISWA!B39)","v":4360},{"$f":"IF(SISWA!C39=0,\"\",SISWA!C39)","v":"0077290990"},{"$f":"IF(SISWA!D39=0,\"\",SISWA!D39)","v":"1-18-05-80-162-032-9"},{"$f":"IF(SISWA!E39=0,\"\",SISWA!E39)","v":"ZIDNY ILMA NABILA"},null,92,89,90,86,89.25,82.5,87.35,84.924999999999997,84.924999999999997,84.924999999999997]
[33,{"$f":"IF(SISWA!B40=0,\"\",SISWA!B40)","v":4390},{"$f":"IF(SISWA!C40=0,\"\",SISWA!C40)","v":"0077722307"},{"$f":"IF(SISWA!D40=0,\"\",SISWA!D40)","v":"1-18-05-80-162-033-8"},{"$f":"IF(SISWA!E40=0,\"\",SISWA!E40)","v":"ZITNATUL AULIA ILLA"},null,93,90,90,87,90,85,88.4,86.7,86.7,86.7]
[34,{"$f":"IF(SISWA!B41=0,\"\",SISWA!B41)","v":4330},{"$f":"IF(SISWA!C41=0,\"\",SISWA!C41)","v":"0084736422"},{"$f":"IF(SISWA!D41=0,\"\",SISWA!D41)","v":"1-18-05-80-162-034-7"},{"$f":"IF(SISWA!E41=0,\"\",SISWA!E41)","v":"ACHID ATHIRIL ARDAN"},null,67,86,85,81,79.75,60,78.349999999999994,69.174999999999997,69.174999999999997,66.833333333333343]
[35,{"$f":"IF(SISWA!B42=0,\"\",SISWA!B42)","v":4361},{"$f":"IF(SISWA!C42=0,\"\",SISWA!C42)","v":"0075656390"},{"$f":"IF(SISWA!D42=0,\"\",SISWA!D42)","v":"1-18-05-80-162-035-6"},{"$f":"IF(SISWA!E42=0,\"\",SISWA!E42)","v":"ACHMAD SEPTIAN HAMDANI"},null,61,83,85,81,77.5,60,77.3,68.650000000000006,68.650000000000006,66.333333333333343]
[36,{"$f":"IF(SISWA!B43=0,\"\",SISWA!B43)","v":4362},{"$f":"IF(SISWA!C43=0,\"\",SISWA!C43)","v":"0071796138"},{"$f":"IF(SISWA!D43=0,\"\",SISWA!D43)","v":"1-18-05-80-162-036-5"},{"$f":"IF(SISWA!E43=0,\"\",SISWA!E43)","v":"ACHMAD SULAIMAN"},null,60,85,85,81,77.75,60,77.75,68.875,68.875,66.25]
[37,{"$f":"IF(SISWA!B44=0,\"\",SISWA!B44)","v":4364},{"$f":"IF(SISWA!C44=0,\"\",SISWA!C44)","v":"0079667684"},{"$f":"IF(SISWA!D44=0,\"\",SISWA!D44)","v":"1-18-05-80-162-037-4"},{"$f":"IF(SISWA!E44=0,\"\",SISWA!E44)","v":"AIRLANGGA DWIKA RIZQI"},null,58,84,85,81,77,60,77.400000000000006,68.7,68.7,66.083333333333343]
[38,{"$f":"IF(SISWA!B45=0,\"\",SISWA!B45)","v":4365},{"$f":"IF(SISWA!C45=0,\"\",SISWA!C45)","v":"0089321127"},{"$f":"IF(SISWA!D45=0,\"\",SISWA!D45)","v":"1-18-05-80-162-038-3"},{"$f":"IF(SISWA!E45=0,\"\",SISWA!E45)","v":"AUFAN AZKAL ABRORI"},null,59,84,86,82,77.75,60,77.95,68.974999999999994,68.974999999999994,66.416666666666657]
[39,{"$f":"IF(SISWA!B46=0,\"\",SISWA!B46)","v":4465},{"$f":"IF(SISWA!C46=0,\"\",SISWA!C46)","v":"0071776593"},{"$f":"IF(SISWA!D46=0,\"\",SISWA!D46)","v":"1-18-05-80-162-039-2"},{"$f":"IF(SISWA!E46=0,\"\",SISWA!E46)","v":"AZZA PRISHAL DWI PUTRA"},null,61,85,85,81,78,60,77.8,68.900000000000006,68.900000000000006,66.333333333333343]
[40,{"$f":"IF(SISWA!B47=0,\"\",SISWA!B47)","v":4368},{"$f":"IF(SISWA!C47=0,\"\",SISWA!C47)","v":"0074569410"},{"$f":"IF(SISWA!D47=0,\"\",SISWA!D47)","v":"1-18-05-80-162-040-9"},{"$f":"IF(SISWA!E47=0,\"\",SISWA!E47)","v":"EKA AULIYA` PUTRI"},null,64,88,88,86,81.5,60,80.7,70.349999999999994,70.349999999999994,67.333333333333343]
[41,{"$f":"IF(SISWA!B48=0,\"\",SISWA!B48)","v":4341},{"$f":"IF(SISWA!C48=0,\"\",SISWA!C48)","v":"0083684457"},{"$f":"IF(SISWA!D48=0,\"\",SISWA!D48)","v":"1-18-05-80-162-041-8"},{"$f":"IF(SISWA!E48=0,\"\",SISWA!E48)","v":"ERSA PUSPITA EKA ROSA LINDA"},null,55,87,86,83,77.75,60,78.75,69.375,69.375,66.083333333333343]
[42,{"$f":"IF(SISWA!B49=0,\"\",SISWA!B49)","v":4369},{"$f":"IF(SISWA!C49=0,\"\",SISWA!C49)","v":"0078481731"},{"$f":"IF(SISWA!D49=0,\"\",SISWA!D49)","v":"1-18-05-80-162-042-7"},{"$f":"IF(SISWA!E49=0,\"\",SISWA!E49)","v":"FABIYAN TRI BAKTI OKTAFIAN"},null,62,83,85,81,77.75,60,77.349999999999994,68.674999999999997,68.674999999999997,66.416666666666657]
[43,{"$f":"IF(SISWA!B50=0,\"\",SISWA!B50)","v":4343},{"$f":"IF(SISWA!C50=0,\"\",SISWA!C50)","v":3075965396},{"$f":"IF(SISWA!D50=0,\"\",SISWA!D50)","v":"1-18-05-80-162-043-6"},{"$f":"IF(SISWA!E50=0,\"\",SISWA!E50)","v":"FELISITA APRILIA NUR NIHAYA"},null,63,88,86,83,80,60,79.400000000000006,69.7,69.7,66.75]
[44,{"$f":"IF(SISWA!B51=0,\"\",SISWA!B51)","v":4344},{"$f":"IF(SISWA!C51=0,\"\",SISWA!C51)","v":3078948093},{"$f":"IF(SISWA!D51=0,\"\",SISWA!D51)","v":"1-18-05-80-162-044-5"},{"$f":"IF(SISWA!E51=0,\"\",SISWA!E51)","v":"FIRDA DWI ANDRIANI"},null,51,85,85,81,75.5,60,77.3,68.650000000000006,68.650000000000006,65.5]
[45,{"$f":"IF(SISWA!B52=0,\"\",SISWA!B52)","v":4372},{"$f":"IF(SISWA!C52=0,\"\",SISWA!C52)","v":"0087636520"},{"$f":"IF(SISWA!D52=0,\"\",SISWA!D52)","v":"1-18-05-80-162-045-4"},{"$f":"IF(SISWA!E52=0,\"\",SISWA!E52)","v":"GILANG AKBAR PRASETYO"},null,53,84,85,83,76.25,60,77.650000000000006,68.825000000000003,68.825000000000003,65.666666666666657]
[46,{"$f":"IF(SISWA!B53=0,\"\",SISWA!B53)","v":4373},{"$f":"IF(SISWA!C53=0,\"\",SISWA!C53)","v":"0087373224"},{"$f":"IF(SISWA!D53=0,\"\",SISWA!D53)","v":"1-18-05-80-162-046-3"},{"$f":"IF(SISWA!E53=0,\"\",SISWA!E53)","v":"IFTAH IZZAH EMILIA  MAHMUD"},null,64,86,87,75,78,60,77.2,68.599999999999994,68.599999999999994,67.083333333333343]
[47,{"$f":"IF(SISWA!B54=0,\"\",SISWA!B54)","v":4441},{"$f":"IF(SISWA!C54=0,\"\",SISWA!C54)","v":"0081758949"},{"$f":"IF(SISWA!D54=0,\"\",SISWA!D54)","v":"1-18-05-80-162-047-2"},{"$f":"IF(SISWA!E54=0,\"\",SISWA!E54)","v":"INES ARIFANI MAULINA"},null,57,87,86,85,78.75,65,80.349999999999994,72.674999999999997,72.674999999999997,69.583333333333343]
[48,{"$f":"IF(SISWA!B55=0,\"\",SISWA!B55)","v":4374},{"$f":"IF(SISWA!C55=0,\"\",SISWA!C55)","v":"0073409469"},{"$f":"IF(SISWA!D55=0,\"\",SISWA!D55)","v":"1-18-05-80-162-048-9"},{"$f":"IF(SISWA!E55=0,\"\",SISWA!E55)","v":"IYAAD AFLAKHA RAMZII"},null,61,85,86,82,78.5,60,78.3,69.150000000000006,69.150000000000006,66.583333333333343]
[49,{"$f":"IF(SISWA!B56=0,\"\",SISWA!B56)","v":4305},{"$f":"IF(SISWA!C56=0,\"\",SISWA!C56)","v":"0068258891"},{"$f":"IF(SISWA!D56=0,\"\",SISWA!D56)","v":"1-18-05-80-162-049-8"},{"$f":"IF(SISWA!E56=0,\"\",SISWA!E56)","v":"JULI ANDRIYANTO"},null,58,85,86,82,77.75,60,78.150000000000006,69.075000000000003,69.075000000000003,66.333333333333343]
[50,{"$f":"IF(SISWA!B57=0,\"\",SISWA!B57)","v":4347},{"$f":"IF(SISWA!C57=0,\"\",SISWA!C57)","v":"0076367763"},{"$f":"IF(SISWA!D57=0,\"\",SISWA!D57)","v":"1-18-05-80-162-050-7"},{"$f":"IF(SISWA!E57=0,\"\",SISWA!E57)","v":"LIYA FEBRIYANI"},null,75,88,87,88,84.5,60,81.5,70.75,70.75,68]
[51,{"$f":"IF(SISWA!B58=0,\"\",SISWA!B58)","v":4348},{"$f":"IF(SISWA!C58=0,\"\",SISWA!C58)","v":"0083034332"},{"$f":"IF(SISWA!D58=0,\"\",SISWA!D58)","v":"1-18-05-80-162-051-6"},{"$f":"IF(SISWA!E58=0,\"\",SISWA!E58)","v":"LIZATUL CHAIYUNI"},null,74,86,87,84,82.75,60,79.95,69.974999999999994,69.974999999999994,67.916666666666657]
[52,{"$f":"IF(SISWA!B59=0,\"\",SISWA!B59)","v":4531},{"$f":"IF(SISWA!C59=0,\"\",SISWA!C59)","v":3099539154},{"$f":"IF(SISWA!D59=0,\"\",SISWA!D59)","v":"1-18-05-80-162-052-5"},{"$f":"IF(SISWA!E59=0,\"\",SISWA!E59)","v":"M. ALHAFIS"},null,66,85,85,81,79.25,60,78.05,69.025000000000006,69.025000000000006,66.75]
[53,{"$f":"IF(SISWA!B60=0,\"\",SISWA!B60)","v":4530},{"$f":"IF(SISWA!C60=0,\"\",SISWA!C60)","v":"0077015789"},{"$f":"IF(SISWA!D60=0,\"\",SISWA!D60)","v":"1-18-05-80-162-053-4"},{"$f":"IF(SISWA!E60=0,\"\",SISWA!E60)","v":"MUHAMMAD RIZKI RIDWAN"},null,57,84,85,81,76.75,60,77.349999999999994,68.674999999999997,68.674999999999997,66]
[54,{"$f":"IF(SISWA!B61=0,\"\",SISWA!B61)","v":4351},{"$f":"IF(SISWA!C61=0,\"\",SISWA!C61)","v":"0076361559"},{"$f":"IF(SISWA!D61=0,\"\",SISWA!D61)","v":"1-18-05-80-162-054-3"},{"$f":"IF(SISWA!E61=0,\"\",SISWA!E61)","v":"MOCHAMAD RAFLI DIAN SAPUTRA"},null,56,84,85,81,76.5,60,77.3,68.650000000000006,68.650000000000006,65.916666666666657]
[55,{"$f":"IF(SISWA!B62=0,\"\",SISWA!B62)","v":4352},{"$f":"IF(SISWA!C62=0,\"\",SISWA!C62)","v":"0075591405"},{"$f":"IF(SISWA!D62=0,\"\",SISWA!D62)","v":"1-18-05-80-162-055-2"},{"$f":"IF(SISWA!E62=0,\"\",SISWA!E62)","v":"MOCHAMMAD AFAREL PUTRA RAMDHANA"},null,74,85,85,82,81.5,60,78.7,69.349999999999994,69.349999999999994,67.416666666666657]
[56,{"$f":"IF(SISWA!B63=0,\"\",SISWA!B63)","v":4355},{"$f":"IF(SISWA!C63=0,\"\",SISWA!C63)","v":"0075363258"},{"$f":"IF(SISWA!D63=0,\"\",SISWA!D63)","v":"1-18-05-80-162-056-9"},{"$f":"IF(SISWA!E63=0,\"\",SISWA!E63)","v":"MUHAMAD JEFRI MAULANA"},null,69,86,86,82,80.75,60,78.95,69.474999999999994,69.474999999999994,67.25]
[57,{"$f":"IF(SISWA!B64=0,\"\",SISWA!B64)","v":4376},{"$f":"IF(SISWA!C64=0,\"\",SISWA!C64)","v":"0072066741"},{"$f":"IF(SISWA!D64=0,\"\",SISWA!D64)","v":"1-18-05-80-162-057-8"},{"$f":"IF(SISWA!E64=0,\"\",SISWA!E64)","v":"MUHAMMAD DWI WILDAN BAGUS KURNIAWAN"},null,66,84,86,81,79.25,60,78.05,69.025000000000006,69.025000000000006,67]
[58,{"$f":"IF(SISWA!B65=0,\"\",SISWA!B65)","v":4377},{"$f":"IF(SISWA!C65=0,\"\",SISWA!C65)","v":"0071459044"},{"$f":"IF(SISWA!D65=0,\"\",SISWA!D65)","v":"1-18-05-80-162-058-7"},{"$f":"IF(SISWA!E65=0,\"\",SISWA!E65)","v":"MUHAMMAD FARIL FIRMANSYA"},null,63,84,85,82,78.5,60,77.900000000000006,68.95,68.95,66.5]
[59,{"$f":"IF(SISWA!B66=0,\"\",SISWA!B66)","v":4349},{"$f":"IF(SISWA!C66=0,\"\",SISWA!C66)","v":"0074206034"},{"$f":"IF(SISWA!D66=0,\"\",SISWA!D66)","v":"1-18-05-80-162-059-6"},{"$f":"IF(SISWA!E66=0,\"\",SISWA!E66)","v":"MUHAMMAD FARIZ UBAIDILLA"},null,75,85,85,82,81.75,60,78.75,69.375,69.375,67.5]
[60,{"$f":"IF(SISWA!B67=0,\"\",SISWA!B67)","v":4356},{"$f":"IF(SISWA!C67=0,\"\",SISWA!C67)","v":"0077937892"},{"$f":"IF(SISWA!D67=0,\"\",SISWA!D67)","v":"1-18-05-80-162-060-5"},{"$f":"IF(SISWA!E67=0,\"\",SISWA!E67)","v":"MUHAMMAD MAULANA ZIDANIL ILMI"},null,75,85,86,83,82.25,60,79.25,69.625,69.625,67.75]
[61,{"$f":"IF(SISWA!B68=0,\"\",SISWA!B68)","v":4357},{"$f":"IF(SISWA!C68=0,\"\",SISWA!C68)","v":"0078608527"},{"$f":"IF(SISWA!D68=0,\"\",SISWA!D68)","v":"1-18-05-80-162-061-4"},{"$f":"IF(SISWA!E68=0,\"\",SISWA!E68)","v":"MUHAMMAD SUTRISNO ISMAIL"},null,65,84,86,81,79,60,78,69,69,66.916666666666657]
[62,{"$f":"IF(SISWA!B69=0,\"\",SISWA!B69)","v":4381},{"$f":"IF(SISWA!C69=0,\"\",SISWA!C69)","v":"0072209435"},{"$f":"IF(SISWA!D69=0,\"\",SISWA!D69)","v":"1-18-05-80-162-062-3"},{"$f":"IF(SISWA!E69=0,\"\",SISWA!E69)","v":"NOVITA ERNIAWAN"},null,73,87,87,84,82.75,60,80.150000000000006,70.075000000000003,70.075000000000003,67.833333333333343]
[63,{"$f":"IF(SISWA!B70=0,\"\",SISWA!B70)","v":4383},{"$f":"IF(SISWA!C70=0,\"\",SISWA!C70)","v":"0077439834"},{"$f":"IF(SISWA!D70=0,\"\",SISWA!D70)","v":"1-18-05-80-162-063-2"},{"$f":"IF(SISWA!E70=0,\"\",SISWA!E70)","v":"PUTRI AULIA DWI AGUSTIN"},null,72,86,85,83,81.5,60,79.099999999999994,69.55,69.55,67.25]
[64,{"$f":"IF(SISWA!B71=0,\"\",SISWA!B71)","v":4385},{"$f":"IF(SISWA!C71=0,\"\",SISWA!C71)","v":"0073137310"},{"$f":"IF(SISWA!D71=0,\"\",SISWA!D71)","v":"1-18-05-80-162-064-9"},{"$f":"IF(SISWA!E71=0,\"\",SISWA!E71)","v":"STANY RAFIDAH RAHMANIA"},null,61,85,87,81,78.5,60,78.3,69.150000000000006,69.150000000000006,66.833333333333343]
[65,{"$f":"IF(SISWA!B72=0,\"\",SISWA!B72)","v":4387},{"$f":"IF(SISWA!C72=0,\"\",SISWA!C72)","v":"0077336427"},{"$f":"IF(SISWA!D72=0,\"\",SISWA!D72)","v":"1-18-05-80-162-065-8"},{"$f":"IF(SISWA!E72=0,\"\",SISWA!E72)","v":"USWATUN KHASANAH"},null,56,84,85,81,76.5,60,77.3,68.650000000000006,68.650000000000006,65.916666666666657]
[66,{"$f":"IF(SISWA!B73=0,\"\",SISWA!B73)","v":4389},{"$f":"IF(SISWA!C73=0,\"\",SISWA!C73)","v":"0078407631"},{"$f":"IF(SISWA!D73=0,\"\",SISWA!D73)","v":"1-18-05-80-162-066-7"},{"$f":"IF(SISWA!E73=0,\"\",SISWA!E73)","v":"VIKROUL KHAMILA"},null,74,86,86,84,{"$f":"AVERAGE(F73:J73)","v":82.5},60,79.7,{"$f":"AVERAGE(L73:M73)","v":69.849999999999994},{"$f":"AVERAGE(L73:M73)","v":69.849999999999994},67.666666666666657]
[67,{"$f":"IF(SISWA!B74=0,\"\",SISWA!B74)","v":""},{"$f":"IF(SISWA!C74=0,\"\",SISWA!C74)","v":""},{"$f":"IF(SISWA!D74=0,\"\",SISWA!D74)","v":""},{"$f":"IF(SISWA!E74=0,\"\",SISWA!E74)","v":""},null,null,null,null,null,{"$error":"#DIV/0!"},null,null,{"$error":"#DIV/0!"},{"$error":"#DIV/0!"},{"$error":"#DIV/0!"}]
[68,{"$f":"IF(SISWA!B75=0,\"\",SISWA!B75)","v":""},{"$f":"IF(SISWA!C75=0,\"\",SISWA!C75)","v":""},{"$f":"IF(SISWA!D75=0,\"\",SISWA!D75)","v":""},{"$f":"IF(SISWA!E75=0,\"\",SISWA!E75)","v":""},null,null,null,null,null,{"$error":"#DIV/0!"},null,null,{"$error":"#DIV/0!"},{"$error":"#DIV/0!"},{"$error":"#DIV/0!"}]
[69,{"$f":"IF(SISWA!B76=0,\"\",SISWA!B76)","v":""},{"$f":"IF(SISWA!C76=0,\"\",SISWA!C76)","v":""},{"$f":"IF(SISWA!D76=0,\"\",SISWA!D76)","v":""},{"$f":"IF(SISWA!E76=0,\"\",SISWA!E76)","v":""},null,null,null,null,null,{"$error":"#DIV/0!"},null,null,{"$error":"#DIV/0!"},{"$error":"#DIV/0!"},{"$error":"#DIV/0!"}]
[70,{"$f":"IF(SISWA!B77=0,\"\",SISWA!B77)","v":""},{"$f":"IF(SISWA!C77=0,\"\",SISWA!C77)","v":""},{"$f":"IF(SISWA!D77=0,\"\",SISWA!D77)","v":""},{"$f":"IF(SISWA!E77=0,\"\",SISWA!E77)","v":""},null,null,null,null,null,{"$error":"#DIV/0!"},null,null,{"$error":"#DIV/0!"},{"$error":"#DIV/0!"},{"$error":"#DIV/0!"}]
[71,{"$f":"IF(SISWA!B78=0,\"\",SISWA!B78)","v":""},{"$f":"IF(SISWA!C78=0,\"\",SISWA!C78)","v":""},{"$f":"IF(SISWA!D78=0,\"\",SISWA!D78)","v":""},{"$f":"IF(SISWA!E78=0,\"\",SISWA!E78)","v":""},null,null,null,null,null,{"$error":"#DIV/0!"},null,null,{"$error":"#DIV/0!"},{"$error":"#DIV/0!"},{"$error":"#DIV/0!"}]
[72,{"$f":"IF(SISWA!B79=0,\"\",SISWA!B79)","v":""},{"$f":"IF(SISWA!C79=0,\"\",SISWA!C79)","v":""},{"$f":"IF(SISWA!D79=0,\"\",SISWA!D79)","v":""},{"$f":"IF(SISWA!E79=0,\"\",SISWA!E79)","v":""},null,null,null,null,null,{"$error":"#DIV/0!"},null,null,{"$error":"#DIV/0!"},{"$error":"#DIV/0!"},{"$error":"#DIV/0!"}]
[73,{"$f":"IF(SISWA!B80=0,\"\",SISWA!B80)","v":""},{"$f":"IF(SISWA!C80=0,\"\",SISWA!C80)","v":""},{"$f":"IF(SISWA!D80=0,\"\",SISWA!D80)","v":""},{"$f":"IF(SISWA!E80=0,\"\",SISWA!E80)","v":""},null,null,null,null,null,{"$error":"#DIV/0!"},null,null,{"$error":"#DIV/0!"},{"$error":"#DIV/0!"},{"$error":"#DIV/0!"}]
[74,{"$f":"IF(SISWA!B81=0,\"\",SISWA!B81)","v":""},{"$f":"IF(SISWA!C81=0,\"\",SISWA!C81)","v":""},{"$f":"IF(SISWA!D81=0,\"\",SISWA!D81)","v":""},{"$f":"IF(SISWA!E81=0,\"\",SISWA!E81)","v":""},null,null,null,null,null,{"$error":"#DIV/0!"},null,null,{"$error":"#DIV/0!"},{"$error":"#DIV/0!"},{"$error":"#DIV/0!"}]
[75,{"$f":"IF(SISWA!B82=0,\"\",SISWA!B82)","v":""},{"$f":"IF(SISWA!C82=0,\"\",SISWA!C82)","v":""},{"$f":"IF(SISWA!D82=0,\"\",SISWA!D82)","v":""},{"$f":"IF(SISWA!E82=0,\"\",SISWA!E82)","v":""},null,null,null,null,null,{"$error":"#DIV/0!"},null,null,{"$error":"#DIV/0!"},{"$error":"#DIV/0!"},{"$error":"#DIV/0!"}]
[76,{"$f":"IF(SISWA!B83=0,\"\",SISWA!B83)","v":""},{"$f":"IF(SISWA!C83=0,\"\",SISWA!C83)","v":""},{"$f":"IF(SISWA!D83=0,\"\",SISWA!D83)","v":""},{"$f":"IF(SISWA!E83=0,\"\",SISWA!E83)","v":""},null,null,null,null,null,{"$error":"#DIV/0!"},null,null,{"$error":"#DIV/0!"},{"$error":"#DIV/0!"},{"$error":"#DIV/0!"}]
[77,{"$f":"IF(SISWA!B84=0,\"\",SISWA!B84)","v":""},{"$f":"IF(SISWA!C84=0,\"\",SISWA!C84)","v":""},{"$f":"IF(SISWA!D84=0,\"\",SISWA!D84)","v":""},{"$f":"IF(SISWA!E84=0,\"\",SISWA!E84)","v":""},null,null,null,null,null,{"$error":"#DIV/0!"},null,null,{"$error":"#DIV/0!"},{"$error":"#DIV/0!"},{"$error":"#DIV/0!"}]
[78,{"$f":"IF(SISWA!B85=0,\"\",SISWA!B85)","v":""},{"$f":"IF(SISWA!C85=0,\"\",SISWA!C85)","v":""},{"$f":"IF(SISWA!D85=0,\"\",SISWA!D85)","v":""},{"$f":"IF(SISWA!E85=0,\"\",SISWA!E85)","v":""},null,null,null,null,null,{"$error":"#DIV/0!"},null,null,{"$error":"#DIV/0!"},{"$error":"#DIV/0!"},{"$error":"#DIV/0!"}]
[79,{"$f":"IF(SISWA!B86=0,\"\",SISWA!B86)","v":""},{"$f":"IF(SISWA!C86=0,\"\",SISWA!C86)","v":""},{"$f":"IF(SISWA!D86=0,\"\",SISWA!D86)","v":""},{"$f":"IF(SISWA!E86=0,\"\",SISWA!E86)","v":""},null,null,null,null,null,{"$error":"#DIV/0!"},null,null,{"$error":"#DIV/0!"},{"$error":"#DIV/0!"},{"$error":"#DIV/0!"}]
[80,{"$f":"IF(SISWA!B87=0,\"\",SISWA!B87)","v":""},{"$f":"IF(SISWA!C87=0,\"\",SISWA!C87)","v":""},{"$f":"IF(SISWA!D87=0,\"\",SISWA!D87)","v":""},{"$f":"IF(SISWA!E87=0,\"\",SISWA!E87)","v":""},null,null,null,null,null,{"$error":"#DIV/0!"},null,null,{"$error":"#DIV/0!"},{"$error":"#DIV/0!"},{"$error":"#DIV/0!"}]
[81,{"$f":"IF(SISWA!B88=0,\"\",SISWA!B88)","v":""},{"$f":"IF(SISWA!C88=0,\"\",SISWA!C88)","v":""},{"$f":"IF(SISWA!D88=0,\"\",SISWA!D88)","v":""},{"$f":"IF(SISWA!E88=0,\"\",SISWA!E88)","v":""},null,null,null,null,null,{"$error":"#DIV/0!"},null,null,{"$error":"#DIV/0!"},{"$error":"#DIV/0!"},{"$error":"#DIV/0!"}]
[82,{"$f":"IF(SISWA!B89=0,\"\",SISWA!B89)","v":""},{"$f":"IF(SISWA!C89=0,\"\",SISWA!C89)","v":""},{"$f":"IF(SISWA!D89=0,\"\",SISWA!D89)","v":""},{"$f":"IF(SISWA!E89=0,\"\",SISWA!E89)","v":""},null,null,null,null,null,{"$error":"#DIV/0!"},null,null,{"$error":"#DIV/0!"},{"$error":"#DIV/0!"},{"$error":"#DIV/0!"}]
[83,{"$f":"IF(SISWA!B90=0,\"\",SISWA!B90)","v":""},{"$f":"IF(SISWA!C90=0,\"\",SISWA!C90)","v":""},{"$f":"IF(SISWA!D90=0,\"\",SISWA!D90)","v":""},{"$f":"IF(SISWA!E90=0,\"\",SISWA!E90)","v":""},null,null,null,null,null,{"$error":"#DIV/0!"},null,null,{"$error":"#DIV/0!"},{"$error":"#DIV/0!"},{"$error":"#DIV/0!"}]
[84,{"$f":"IF(SISWA!B91=0,\"\",SISWA!B91)","v":""},{"$f":"IF(SISWA!C91=0,\"\",SISWA!C91)","v":""},{"$f":"IF(SISWA!D91=0,\"\",SISWA!D91)","v":""},{"$f":"IF(SISWA!E91=0,\"\",SISWA!E91)","v":""},null,null,null,null,null,{"$error":"#DIV/0!"},null,null,{"$error":"#DIV/0!"},{"$error":"#DIV/0!"},{"$error":"#DIV/0!"}]
[85,{"$f":"IF(SISWA!B92=0,\"\",SISWA!B92)","v":""},{"$f":"IF(SISWA!C92=0,\"\",SISWA!C92)","v":""},{"$f":"IF(SISWA!D92=0,\"\",SISWA!D92)","v":""},{"$f":"IF(SISWA!E92=0,\"\",SISWA!E92)","v":""},null,null,null,null,null,{"$error":"#DIV/0!"},null,null,{"$error":"#DIV/0!"},{"$error":"#DIV/0!"},{"$error":"#DIV/0!"}]
[86,{"$f":"IF(SISWA!B93=0,\"\",SISWA!B93)","v":""},{"$f":"IF(SISWA!C93=0,\"\",SISWA!C93)","v":""},{"$f":"IF(SISWA!D93=0,\"\",SISWA!D93)","v":""},{"$f":"IF(SISWA!E93=0,\"\",SISWA!E93)","v":""},null,null,null,null,null,{"$error":"#DIV/0!"},null,null,{"$error":"#DIV/0!"},{"$error":"#DIV/0!"},{"$error":"#DIV/0!"}]
[87,{"$f":"IF(SISWA!B94=0,\"\",SISWA!B94)","v":""},{"$f":"IF(SISWA!C94=0,\"\",SISWA!C94)","v":""},{"$f":"IF(SISWA!D94=0,\"\",SISWA!D94)","v":""},{"$f":"IF(SISWA!E94=0,\"\",SISWA!E94)","v":""},null,null,null,null,null,{"$error":"#DIV/0!"},null,null,{"$error":"#DIV/0!"},{"$error":"#DIV/0!"},{"$error":"#DIV/0!"}]
[88,{"$f":"IF(SISWA!B95=0,\"\",SISWA!B95)","v":""},{"$f":"IF(SISWA!C95=0,\"\",SISWA!C95)","v":""},{"$f":"IF(SISWA!D95=0,\"\",SISWA!D95)","v":""},{"$f":"IF(SISWA!E95=0,\"\",SISWA!E95)","v":""},null,null,null,null,null,{"$error":"#DIV/0!"},null,null,{"$error":"#DIV/0!"},{"$error":"#DIV/0!"},{"$error":"#DIV/0!"}]
[89,{"$f":"IF(SISWA!B96=0,\"\",SISWA!B96)","v":""},{"$f":"IF(SISWA!C96=0,\"\",SISWA!C96)","v":""},{"$f":"IF(SISWA!D96=0,\"\",SISWA!D96)","v":""},{"$f":"IF(SISWA!E96=0,\"\",SISWA!E96)","v":""},null,null,null,null,null,{"$error":"#DIV/0!"},null,null,{"$error":"#DIV/0!"},{"$error":"#DIV/0!"},{"$error":"#DIV/0!"}]
[90,{"$f":"IF(SISWA!B97=0,\"\",SISWA!B97)","v":""},{"$f":"IF(SISWA!C97=0,\"\",SISWA!C97)","v":""},{"$f":"IF(SISWA!D97=0,\"\",SISWA!D97)","v":""},{"$f":"IF(SISWA!E97=0,\"\",SISWA!E97)","v":""},null,null,null,null,null,{"$error":"#DIV/0!"},null,null,{"$error":"#DIV/0!"},{"$error":"#DIV/0!"},{"$error":"#DIV/0!"}]
[91,{"$f":"IF(SISWA!B98=0,\"\",SISWA!B98)","v":""},{"$f":"IF(SISWA!C98=0,\"\",SISWA!C98)","v":""},{"$f":"IF(SISWA!D98=0,\"\",SISWA!D98)","v":""},{"$f":"IF(SISWA!E98=0,\"\",SISWA!E98)","v":""},null,null,null,null,null,{"$error":"#DIV/0!"},null,null,{"$error":"#DIV/0!"},{"$error":"#DIV/0!"},{"$error":"#DIV/0!"}]
[92,{"$f":"IF(SISWA!B99=0,\"\",SISWA!B99)","v":""},{"$f":"IF(SISWA!C99=0,\"\",SISWA!C99)","v":""},{"$f":"IF(SISWA!D99=0,\"\",SISWA!D99)","v":""},{"$f":"IF(SISWA!E99=0,\"\",SISWA!E99)","v":""},null,null,null,null,null,{"$error":"#DIV/0!"},null,null,{"$error":"#DIV/0!"},{"$error":"#DIV/0!"},{"$error":"#DIV/0!"}]
[93,{"$f":"IF(SISWA!B100=0,\"\",SISWA!B100)","v":""},{"$f":"IF(SISWA!C100=0,\"\",SISWA!C100)","v":""},{"$f":"IF(SISWA!D100=0,\"\",SISWA!D100)","v":""},{"$f":"IF(SISWA!E100=0,\"\",SISWA!E100)","v":""},null,null,null,null,null,{"$error":"#DIV/0!"},null,null,{"$error":"#DIV/0!"},{"$error":"#DIV/0!"},{"$error":"#DIV/0!"}]
[94,{"$f":"IF(SISWA!B101=0,\"\",SISWA!B101)","v":""},{"$f":"IF(SISWA!C101=0,\"\",SISWA!C101)","v":""},{"$f":"IF(SISWA!D101=0,\"\",SISWA!D101)","v":""},{"$f":"IF(SISWA!E101=0,\"\",SISWA!E101)","v":""},null,null,null,null,null,{"$error":"#DIV/0!"},null,null,{"$error":"#DIV/0!"},{"$error":"#DIV/0!"},{"$error":"#DIV/0!"}]
[95,{"$f":"IF(SISWA!B102=0,\"\",SISWA!B102)","v":""},{"$f":"IF(SISWA!C102=0,\"\",SISWA!C102)","v":""},{"$f":"IF(SISWA!D102=0,\"\",SISWA!D102)","v":""},{"$f":"IF(SISWA!E102=0,\"\",SISWA!E102)","v":""},null,null,null,null,null,{"$error":"#DIV/0!"},null,null,{"$error":"#DIV/0!"},{"$error":"#DIV/0!"},{"$error":"#DIV/0!"}]
[96,{"$f":"IF(SISWA!B103=0,\"\",SISWA!B103)","v":""},{"$f":"IF(SISWA!C103=0,\"\",SISWA!C103)","v":""},{"$f":"IF(SISWA!D103=0,\"\",SISWA!D103)","v":""},{"$f":"IF(SISWA!E103=0,\"\",SISWA!E103)","v":""},null,null,null,null,null,{"$error":"#DIV/0!"},null,null,{"$error":"#DIV/0!"},{"$error":"#DIV/0!"},{"$error":"#DIV/0!"}]
[97,{"$f":"IF(SISWA!B104=0,\"\",SISWA!B104)","v":""},{"$f":"IF(SISWA!C104=0,\"\",SISWA!C104)","v":""},{"$f":"IF(SISWA!D104=0,\"\",SISWA!D104)","v":""},{"$f":"IF(SISWA!E104=0,\"\",SISWA!E104)","v":""},null,null,null,null,null,{"$error":"#DIV/0!"},null,null,{"$error":"#DIV/0!"},{"$error":"#DIV/0!"},{"$error":"#DIV/0!"}]
[98,{"$f":"IF(SISWA!B105=0,\"\",SISWA!B105)","v":""},{"$f":"IF(SISWA!C105=0,\"\",SISWA!C105)","v":""},{"$f":"IF(SISWA!D105=0,\"\",SISWA!D105)","v":""},{"$f":"IF(SISWA!E105=0,\"\",SISWA!E105)","v":""},null,null,null,null,null,{"$error":"#DIV/0!"},null,null,{"$error":"#DIV/0!"},{"$error":"#DIV/0!"},{"$error":"#DIV/0!"}]
[99,{"$f":"IF(SISWA!B106=0,\"\",SISWA!B106)","v":""},{"$f":"IF(SISWA!C106=0,\"\",SISWA!C106)","v":""},{"$f":"IF(SISWA!D106=0,\"\",SISWA!D106)","v":""},{"$f":"IF(SISWA!E106=0,\"\",SISWA!E106)","v":""},null,null,null,null,null,{"$error":"#DIV/0!"},null,null,{"$error":"#DIV/0!"},{"$error":"#DIV/0!"},{"$error":"#DIV/0!"}]
[100,{"$f":"IF(SISWA!B107=0,\"\",SISWA!B107)","v":""},{"$f":"IF(SISWA!C107=0,\"\",SISWA!C107)","v":""},{"$f":"IF(SISWA!D107=0,\"\",SISWA!D107)","v":""},{"$f":"IF(SISWA!E107=0,\"\",SISWA!E107)","v":""},null,null,null,null,null,{"$error":"#DIV/0!"},null,null,{"$error":"#DIV/0!"},{"$error":"#DIV/0!"},{"$error":"#DIV/0!"}]
[101,{"$f":"IF(SISWA!B108=0,\"\",SISWA!B108)","v":""},{"$f":"IF(SISWA!C108=0,\"\",SISWA!C108)","v":""},{"$f":"IF(SISWA!D108=0,\"\",SISWA!D108)","v":""},{"$f":"IF(SISWA!E108=0,\"\",SISWA!E108)","v":""},null,null,null,null,null,{"$error":"#DIV/0!"},null,null,{"$error":"#DIV/0!"},{"$error":"#DIV/0!"},{"$error":"#DIV/0!"}]

{"sheet":"IPS","index":6,"n_rows":108,"n_cols":16,"rows_kept":108,"cut":false,"hidden":false,"merged":[[4,13,6,13],[4,5,4,12],[0,0,0,9],[1,0,1,9],[2,0,2,9],[4,0,6,0],[4,1,6,1],[4,2,6,2],[4,3,6,3],[4,4,6,4],[5,5,5,9],[5,11,5,12]]}
["DAFTAR NILAI AKHIR SEKOLAH"]
[{"$f":"AA!A2","v":"MADRASAH IBTIDAIYAH NURUL ISLAM LABRUK KIDUL"}]
[{"$f":"AA!A3","v":"TAHUN PELAJARAN 2019/2020"}]
[]
["NO","No Induk","NISN","Nomor Peserta","Nama Peserta","IPS",null,null,null,null,null,null,null,"rata-rata UAM & PRAKTEK"]
[null,null,null,null,null,"Nilai Semester",null,null,null,null,"Rata- 2","NILAI UAM",null,null,null,"UAMNU"]
[null,null,null,null,null,7,8,9,10,11,"Rapor","TULIS","PRAKTIK",null,null,"TULIS"]
[1,{"$f":"IF(SISWA!B8=0,\"\",SISWA!B8)","v":4331},{"$f":"IF(SISWA!C8=0,\"\",SISWA!C8)","v":"0078140536"},{"$f":"IF(SISWA!D8=0,\"\",SISWA!D8)","v":"1-18-05-80-162-001-8"},{"$f":"IF(SISWA!E8=0,\"\",SISWA!E8)","v":"ACHMAD FATHIR IZUDDIN"},null,67,76,80,81,{"$f":"AVERAGE(F8:J8)","v":76},60,null,{"$f":"AVERAGE(L8:M8)","v":60},{"$f":"AVERAGE(N8,K8)","v":68},68]
[2,{"$f":"IF(SISWA!B9=0,\"\",SISWA!B9)","v":4333},{"$f":"IF(SISWA!C9=0,\"\",SISWA!C9)","v":"0084691896"},{"$f":"IF(SISWA!D9=0,\"\",SISWA!D9)","v":"1-18-05-80-162-002-7"},{"$f":"IF(SISWA!E9=0,\"\",SISWA!E9)","v":"AININ NAFISA FEBRIYANTI"},null,72,76,81,85,{"$f":"AVERAGE(F9:J9)","v":78.5},60,null,{"$f":"AVERAGE(L9:M9)","v":60},{"$f":"AVERAGE(N9,K9)","v":69.25},69.25]
[3,{"$f":"IF(SISWA!B10=0,\"\",SISWA!B10)","v":4334},{"$f":"IF(SISWA!C10=0,\"\",SISWA!C10)","v":"0075488897"},{"$f":"IF(SISWA!D10=0,\"\",SISWA!D10)","v":"1-18-05-80-162-003-6"},{"$f":"IF(SISWA!E10=0,\"\",SISWA!E10)","v":"AISYAH DWI ANDINI"},null,75,86,80,92,83.25,60,null,60,71.625,71.625]
[4,{"$f":"IF(SISWA!B11=0,\"\",SISWA!B11)","v":4335},{"$f":"IF(SISWA!C11=0,\"\",SISWA!C11)","v":"0077554289"},{"$f":"IF(SISWA!D11=0,\"\",SISWA!D11)","v":"1-18-05-80-162-004-5"},{"$f":"IF(SISWA!E11=0,\"\",SISWA!E11)","v":"AJENG AGUSTINA KIRANA PUTRI"},null,70,86,80,84,80,60,null,60,70,70]
[5,{"$f":"IF(SISWA!B12=0,\"\",SISWA!B12)","v":4336},{"$f":"IF(SISWA!C12=0,\"\",SISWA!C12)","v":"0078831956"},{"$f":"IF(SISWA!D12=0,\"\",SISWA!D12)","v":"1-18-05-80-162-005-4"},{"$f":"IF(SISWA!E12=0,\"\",SISWA!E12)","v":"ALVIAN FAIZULHAQQI"},null,66,74,80,84,76,60,null,60,68,68]
[6,{"$f":"IF(SISWA!B13=0,\"\",SISWA!B13)","v":4337},{"$f":"IF(SISWA!C13=0,\"\",SISWA!C13)","v":"0073667130"},{"$f":"IF(SISWA!D13=0,\"\",SISWA!D13)","v":"1-18-05-80-162-006-3"},{"$f":"IF(SISWA!E13=0,\"\",SISWA!E13)","v":"ANGGITA RIZKY YUGA MEISYA"},null,70,91,80,88,82.25,60,null,60,71.125,71.125]
[7,{"$f":"IF(SISWA!B14=0,\"\",SISWA!B14)","v":4338},{"$f":"IF(SISWA!C14=0,\"\",SISWA!C14)","v":"0074492973"},{"$f":"IF(SISWA!D14=0,\"\",SISWA!D14)","v":"1-18-05-80-162-007-2"},{"$f":"IF(SISWA!E14=0,\"\",SISWA!E14)","v":"AURA SALSABILA WULAN SARI"},null,71,80,80,96,81.75,60,null,60,70.875,70.875]
[8,{"$f":"IF(SISWA!B15=0,\"\",SISWA!B15)","v":4366},{"$f":"IF(SISWA!C15=0,\"\",SISWA!C15)","v":"0078989673"},{"$f":"IF(SISWA!D15=0,\"\",SISWA!D15)","v":"1-18-05-80-162-008-9"},{"$f":"IF(SISWA!E15=0,\"\",SISWA!E15)","v":"BALQIS NAILA AUDIA"},null,80,85,88,88,85.25,60,null,60,72.625,72.625]
[9,{"$f":"IF(SISWA!B16=0,\"\",SISWA!B16)","v":4440},{"$f":"IF(SISWA!C16=0,\"\",SISWA!C16)","v":"0082763386"},{"$f":"IF(SISWA!D16=0,\"\",SISWA!D16)","v":"1-18-05-80-162-009-8"},{"$f":"IF(SISWA!E16=0,\"\",SISWA!E16)","v":"BIMA ARYO SUSILO"},null,80,82,87,87,84,60,null,60,72,72]
[10,{"$f":"IF(SISWA!B17=0,\"\",SISWA!B17)","v":4367},{"$f":"IF(SISWA!C17=0,\"\",SISWA!C17)","v":"0078400392"},{"$f":"IF(SISWA!D17=0,\"\",SISWA!D17)","v":"1-18-05-80-162-010-7"},{"$f":"IF(SISWA!E17=0,\"\",SISWA!E17)","v":"BIMA SATRIA DIRGANTARA"},null,66,73,80,93,78,60,null,60,69,69]
[11,{"$f":"IF(SISWA!B18=0,\"\",SISWA!B18)","v":4339},{"$f":"IF(SISWA!C18=0,\"\",SISWA!C18)","v":"0086652599"},{"$f":"IF(SISWA!D18=0,\"\",SISWA!D18)","v":"1-18-05-80-162-011-6"},{"$f":"IF(SISWA!E18=0,\"\",SISWA!E18)","v":"DEVI KARUNIA RATNA PUTRI"},null,74,90,81,88,83.25,60,null,60,71.625,71.625]
[12,{"$f":"IF(SISWA!B19=0,\"\",SISWA!B19)","v":4340},{"$f":"IF(SISWA!C19=0,\"\",SISWA!C19)","v":"0089906682"},{"$f":"IF(SISWA!D19=0,\"\",SISWA!D19)","v":"1-18-05-80-162-012-5"},{"$f":"IF(SISWA!E19=0,\"\",SISWA!E19)","v":"DEVITA FEBRIANI PUTRI"},null,76,80,83,86,81.25,60,null,60,70.625,70.625]
[13,{"$f":"IF(SISWA!B20=0,\"\",SISWA!B20)","v":4370},{"$f":"IF(SISWA!C20=0,\"\",SISWA!C20)","v":"0074514146"},{"$f":"IF(SISWA!D20=0,\"\",SISWA!D20)","v":"1-18-05-80-162-013-4"},{"$f":"IF(SISWA!E20=0,\"\",SISWA!E20)","v":"FAKHIS GABRIL LIA"},null,66,81,83,88,79.5,60,null,60,69.75,69.75]
[14,{"$f":"IF(SISWA!B21=0,\"\",SISWA!B21)","v":4342},{"$f":"IF(SISWA!C21=0,\"\",SISWA!C21)","v":"0081081672"},{"$f":"IF(SISWA!D21=0,\"\",SISWA!D21)","v":"1-18-05-80-162-014-3"},{"$f":"IF(SISWA!E21=0,\"\",SISWA!E21)","v":"FARAH NAILATUL ALYAH"},null,91,78,84,85,84.5,60,null,60,72.25,72.25]
[15,{"$f":"IF(SISWA!B22=0,\"\",SISWA!B22)","v":4345},{"$f":"IF(SISWA!C22=0,\"\",SISWA!C22)","v":"0073420487"},{"$f":"IF(SISWA!D22=0,\"\",SISWA!D22)","v":"1-18-05-80-162-015-2"},{"$f":"IF(SISWA!E22=0,\"\",SISWA!E22)","v":"GALANG MARDHOTILLAH SATOTO"},null,70,76,82,87,78.75,60,null,60,69.375,69.375]
[16,{"$f":"IF(SISWA!B23=0,\"\",SISWA!B23)","v":4371},{"$f":"IF(SISWA!C23=0,\"\",SISWA!C23)","v":"0079870082"},{"$f":"IF(SISWA!D23=0,\"\",SISWA!D23)","v":"1-18-05-80-162-016-9"},{"$f":"IF(SISWA!E23=0,\"\",SISWA!E23)","v":"GALIH FAREL PRASTYO"},null,65,77,83,83,77,60,null,60,68.5,68.5]
[17,{"$f":"IF(SISWA!B24=0,\"\",SISWA!B24)","v":4466},{"$f":"IF(SISWA!C24=0,\"\",SISWA!C24)","v":"0081629504"},{"$f":"IF(SISWA!D24=0,\"\",SISWA!D24)","v":"1-18-05-80-162-017-8"},{"$f":"IF(SISWA!E24=0,\"\",SISWA!E24)","v":"HIBATULLAH MUSTAGHFIRY RUSLI"},null,83,83,80,86,83,60,null,60,71.5,71.5]
[18,{"$f":"IF(SISWA!B25=0,\"\",SISWA!B25)","v":4346},{"$f":"IF(SISWA!C25=0,\"\",SISWA!C25)","v":"0073608418"},{"$f":"IF(SISWA!D25=0,\"\",SISWA!D25)","v":"1-18-05-80-162-018-7"},{"$f":"IF(SISWA!E25=0,\"\",SISWA!E25)","v":"IKA KURNIA WATI AGUSTINA"},null,67,80,80,87,78.5,60,null,60,69.25,69.25]
[19,{"$f":"IF(SISWA!B26=0,\"\",SISWA!B26)","v":4350},{"$f":"IF(SISWA!C26=0,\"\",SISWA!C26)","v":"0072658586"},{"$f":"IF(SISWA!D26=0,\"\",SISWA!D26)","v":"1-18-05-80-162-019-6"},{"$f":"IF(SISWA!E26=0,\"\",SISWA!E26)","v":"MAYLUNA EKA PRATIWI"},null,92,85,84,94,88.75,60,null,60,74.375,74.375]
[20,{"$f":"IF(SISWA!B27=0,\"\",SISWA!B27)","v":4353},{"$f":"IF(SISWA!C27=0,\"\",SISWA!C27)","v":"0075464137"},{"$f":"IF(SISWA!D27=0,\"\",SISWA!D27)","v":"1-18-05-80-162-020-5"},{"$f":"IF(SISWA!E27=0,\"\",SISWA!E27)","v":"MOHAMAD DWIMAS FIRDAUS"},null,84,78,81,93,84,67.5,null,67.5,75.75,75.75]
[21,{"$f":"IF(SISWA!B28=0,\"\",SISWA!B28)","v":4375},{"$f":"IF(SISWA!C28=0,\"\",SISWA!C28)","v":"0075096831"},{"$f":"IF(SISWA!D28=0,\"\",SISWA!D28)","v":"1-18-05-80-162-021-4"},{"$f":"IF(SISWA!E28=0,\"\",SISWA!E28)","v":"MUHAMMAD AFFAN ABI SYAHPUTRA"},null,89,79,84,78,82.5,60,null,60,71.25,71.25]
[22,{"$f":"IF(SISWA!B29=0,\"\",SISWA!B29)","v":4354},{"$f":"IF(SISWA!C29=0,\"\",SISWA!C29)","v":"0075055640"},{"$f":"IF(SISWA!D29=0,\"\",SISWA!D29)","v":"1-18-05-80-162-022-3"},{"$f":"IF(SISWA!E29=0,\"\",SISWA!E29)","v":"MUHAMMAD ALVIN RIDHO"},null,67,74,81,84,76.5,75,null,75,75.75,75.75]
[23,{"$f":"IF(SISWA!B30=0,\"\",SISWA!B30)","v":4378},{"$f":"IF(SISWA!C30=0,\"\",SISWA!C30)","v":"0074268893"},{"$f":"IF(SISWA!D30=0,\"\",SISWA!D30)","v":"1-18-05-80-162-023-2"},{"$f":"IF(SISWA!E30=0,\"\",SISWA!E30)","v":"MUKHAMAD DAVID ARIF FIRDAUS"},null,88,81,82,88,84.75,60,null,60,72.375,72.375]
[24,{"$f":"IF(SISWA!B31=0,\"\",SISWA!B31)","v":4379},{"$f":"IF(SISWA!C31=0,\"\",SISWA!C31)","v":"0072757203"},{"$f":"IF(SISWA!D31=0,\"\",SISWA!D31)","v":"1-18-05-80-162-024-9"},{"$f":"IF(SISWA!E31=0,\"\",SISWA!E31)","v":"NAORA ISQI AINAYYA"},null,97,90,88,93,92,60,null,60,76,76]
[25,{"$f":"IF(SISWA!B32=0,\"\",SISWA!B32)","v":4380},{"$f":"IF(SISWA!C32=0,\"\",SISWA!C32)","v":"0079026285"},{"$f":"IF(SISWA!D32=0,\"\",SISWA!D32)","v":"1-18-05-80-162-025-8"},{"$f":"IF(SISWA!E32=0,\"\",SISWA!E32)","v":"NAZRA ISLAMAY PASHA"},null,80,87,86,92,86.25,60,null,60,73.125,73.125]
[26,{"$f":"IF(SISWA!B33=0,\"\",SISWA!B33)","v":4382},{"$f":"IF(SISWA!C33=0,\"\",SISWA!C33)","v":"0079872151"},{"$f":"IF(SISWA!D33=0,\"\",SISWA!D33)","v":"1-18-05-80-162-026-7"},{"$f":"IF(SISWA!E33=0,\"\",SISWA!E33)","v":"NUR ALYA NABILA"},null,86,79,81,90,84,65,null,65,74.5,74.5]
[27,{"$f":"IF(SISWA!B34=0,\"\",SISWA!B34)","v":4358},{"$f":"IF(SISWA!C34=0,\"\",SISWA!C34)","v":"0087558837"},{"$f":"IF(SISWA!D34=0,\"\",SISWA!D34)","v":"1-18-05-80-162-027-6"},{"$f":"IF(SISWA!E34=0,\"\",SISWA!E34)","v":"PUTRI SHOLIKHAH"},null,84,76,81,83,81,60,null,60,70.5,70.5]
[28,{"$f":"IF(SISWA!B35=0,\"\",SISWA!B35)","v":4384},{"$f":"IF(SISWA!C35=0,\"\",SISWA!C35)","v":"0071234523"},{"$f":"IF(SISWA!D35=0,\"\",SISWA!D35)","v":"1-18-05-80-162-028-5"},{"$f":"IF(SISWA!E35=0,\"\",SISWA!E35)","v":"RESTI FITRIANTI DWI OCTAVIANI"},null,76,82,80,89,81.75,60,null,60,70.875,70.875]
[29,{"$f":"IF(SISWA!B36=0,\"\",SISWA!B36)","v":4359},{"$f":"IF(SISWA!C36=0,\"\",SISWA!C36)","v":"0073122181"},{"$f":"IF(SISWA!D36=0,\"\",SISWA!D36)","v":"1-18-05-80-162-029-4"},{"$f":"IF(SISWA!E36=0,\"\",SISWA!E36)","v":"ROUDHOTUS SA'DIYAH"},null,87,80,82,85,83.5,60,null,60,71.75,71.75]
[30,{"$f":"IF(SISWA!B37=0,\"\",SISWA!B37)","v":4386},{"$f":"IF(SISWA!C37=0,\"\",SISWA!C37)","v":"0075344352"},{"$f":"IF(SISWA!D37=0,\"\",SISWA!D37)","v":"1-18-05-80-162-030-3"},{"$f":"IF(SISWA!E37=0,\"\",SISWA!E37)","v":"TIERSYA BETA RAMANUZAN"},null,93,88,85,90,89,72.5,null,72.5,80.75,80.75]
[31,{"$f":"IF(SISWA!B38=0,\"\",SISWA!B38)","v":4388},{"$f":"IF(SISWA!C38=0,\"\",SISWA!C38)","v":"0077423646"},{"$f":"IF(SISWA!D38=0,\"\",SISWA!D38)","v":"1-18-05-80-162-031-2"},{"$f":"IF(SISWA!E38=0,\"\",SISWA!E38)","v":"VERA MUSTIKA"},null,86,79,82,90,84.25,60,null,60,72.125,72.125]
[32,{"$f":"IF(SISWA!B39=0,\"\",SISWA!B39)","v":4360},{"$f":"IF(SISWA!C39=0,\"\",SISWA!C39)","v":"0077290990"},{"$f":"IF(SISWA!D39=0,\"\",SISWA!D39)","v":"1-18-05-80-162-032-9"},{"$f":"IF(SISWA!E39=0,\"\",SISWA!E39)","v":"ZIDNY ILMA NABILA"},null,94,81,86,95,89,60,null,60,74.5,74.5]
[33,{"$f":"IF(SISWA!B40=0,\"\",SISWA!B40)","v":4390},{"$f":"IF(SISWA!C40=0,\"\",SISWA!C40)","v":"0077722307"},{"$f":"IF(SISWA!D40=0,\"\",SISWA!D40)","v":"1-18-05-80-162-033-8"},{"$f":"IF(SISWA!E40=0,\"\",SISWA!E40)","v":"ZITNATUL AULIA ILLA"},null,95,85,89,93,90.5,60,null,60,75.25,75.25]
[34,{"$f":"IF(SISWA!B41=0,\"\",SISWA!B41)","v":4330},{"$f":"IF(SISWA!C41=0,\"\",SISWA!C41)","v":"0084736422"},{"$f":"IF(SISWA!D41=0,\"\",SISWA!D41)","v":"1-18-05-80-162-034-7"},{"$f":"IF(SISWA!E41=0,\"\",SISWA!E41)","v":"ACHID ATHIRIL ARDAN"},null,68,76,82,81,76.75,60,null,60,68.375,67.5]
[35,{"$f":"IF(SISWA!B42=0,\"\",SISWA!B42)","v":4361},{"$f":"IF(SISWA!C42=0,\"\",SISWA!C42)","v":"0075656390"},{"$f":"IF(SISWA!D42=0,\"\",SISWA!D42)","v":"1-18-05-80-162-035-6"},{"$f":"IF(SISWA!E42=0,\"\",SISWA!E42)","v":"ACHMAD SEPTIAN HAMDANI"},null,62,79,81,81,75.75,60,null,60,67.875,65.75]
[36,{"$f":"IF(SISWA!B43=0,\"\",SISWA!B43)","v":4362},{"$f":"IF(SISWA!C43=0,\"\",SISWA!C43)","v":"0071796138"},{"$f":"IF(SISWA!D43=0,\"\",SISWA!D43)","v":"1-18-05-80-162-036-5"},{"$f":"IF(SISWA!E43=0,\"\",SISWA!E43)","v":"ACHMAD SULAIMAN"},null,60,73,81,81,73.75,60,null,60,66.875,65.25]
[37,{"$f":"IF(SISWA!B44=0,\"\",SISWA!B44)","v":4364},{"$f":"IF(SISWA!C44=0,\"\",SISWA!C44)","v":"0079667684"},{"$f":"IF(SISWA!D44=0,\"\",SISWA!D44)","v":"1-18-05-80-162-037-4"},{"$f":"IF(SISWA!E44=0,\"\",SISWA!E44)","v":"AIRLANGGA DWIKA RIZQI"},null,60,73,82,81,74,60,null,60,67,65.5]
[38,{"$f":"IF(SISWA!B45=0,\"\",SISWA!B45)","v":4365},{"$f":"IF(SISWA!C45=0,\"\",SISWA!C45)","v":"0089321127"},{"$f":"IF(SISWA!D45=0,\"\",SISWA!D45)","v":"1-18-05-80-162-038-3"},{"$f":"IF(SISWA!E45=0,\"\",SISWA!E45)","v":"AUFAN AZKAL ABRORI"},null,66,76,83,81,76.5,60,null,60,68.25,67.25]
[39,{"$f":"IF(SISWA!B46=0,\"\",SISWA!B46)","v":4465},{"$f":"IF(SISWA!C46=0,\"\",SISWA!C46)","v":"0071776593"},{"$f":"IF(SISWA!D46=0,\"\",SISWA!D46)","v":"1-18-05-80-162-039-2"},{"$f":"IF(SISWA!E46=0,\"\",SISWA!E46)","v":"AZZA PRISHAL DWI PUTRA"},null,66,74,83,81,76,60,null,60,68,67.25]
[40,{"$f":"IF(SISWA!B47=0,\"\",SISWA!B47)","v":4368},{"$f":"IF(SISWA!C47=0,\"\",SISWA!C47)","v":"0074569410"},{"$f":"IF(SISWA!D47=0,\"\",SISWA!D47)","v":"1-18-05-80-162-040-9"},{"$f":"IF(SISWA!E47=0,\"\",SISWA!E47)","v":"EKA AULIYA` PUTRI"},null,66,76,84,83,77.25,60,null,60,68.625,67.5]
[41,{"$f":"IF(SISWA!B48=0,\"\",SISWA!B48)","v":4341},{"$f":"IF(SISWA!C48=0,\"\",SISWA!C48)","v":"0083684457"},{"$f":"IF(SISWA!D48=0,\"\",SISWA!D48)","v":"1-18-05-80-162-041-8"},{"$f":"IF(SISWA!E48=0,\"\",SISWA!E48)","v":"ERSA PUSPITA EKA ROSA LINDA"},null,65,75,85,83,77,60,null,60,68.5,67.5]
[42,{"$f":"IF(SISWA!B49=0,\"\",SISWA!B49)","v":4369},{"$f":"IF(SISWA!C49=0,\"\",SISWA!C49)","v":"0078481731"},{"$f":"IF(SISWA!D49=0,\"\",SISWA!D49)","v":"1-18-05-80-162-042-7"},{"$f":"IF(SISWA!E49=0,\"\",SISWA!E49)","v":"FABIYAN TRI BAKTI OKTAFIAN"},null,65,74,84,82,76.25,60,null,60,68.125,67.25]
[43,{"$f":"IF(SISWA!B50=0,\"\",SISWA!B50)","v":4343},{"$f":"IF(SISWA!C50=0,\"\",SISWA!C50)","v":3075965396},{"$f":"IF(SISWA!D50=0,\"\",SISWA!D50)","v":"1-18-05-80-162-043-6"},{"$f":"IF(SISWA!E50=0,\"\",SISWA!E50)","v":"FELISITA APRILIA NUR NIHAYA"},null,66,77,84,82,77.25,60,null,60,68.625,67.5]
[44,{"$f":"IF(SISWA!B51=0,\"\",SISWA!B51)","v":4344},{"$f":"IF(SISWA!C51=0,\"\",SISWA!C51)","v":3078948093},{"$f":"IF(SISWA!D51=0,\"\",SISWA!D51)","v":"1-18-05-80-162-044-5"},{"$f":"IF(SISWA!E51=0,\"\",SISWA!E51)","v":"FIRDA DWI ANDRIANI"},null,66,75,83,82,76.5,60,null,60,68.25,67.25]
[45,{"$f":"IF(SISWA!B52=0,\"\",SISWA!B52)","v":4372},{"$f":"IF(SISWA!C52=0,\"\",SISWA!C52)","v":"0087636520"},{"$f":"IF(SISWA!D52=0,\"\",SISWA!D52)","v":"1-18-05-80-162-045-4"},{"$f":"IF(SISWA!E52=0,\"\",SISWA!E52)","v":"GILANG AKBAR PRASETYO"},null,65,74,82,81,75.5,60,null,60,67.75,66.75]
[46,{"$f":"IF(SISWA!B53=0,\"\",SISWA!B53)","v":4373},{"$f":"IF(SISWA!C53=0,\"\",SISWA!C53)","v":"0087373224"},{"$f":"IF(SISWA!D53=0,\"\",SISWA!D53)","v":"1-18-05-80-162-046-3"},{"$f":"IF(SISWA!E53=0,\"\",SISWA!E53)","v":"IFTAH IZZAH EMILIA  MAHMUD"},null,61,75,85,81,75.5,60,null,60,67.75,66.5]
[47,{"$f":"IF(SISWA!B54=0,\"\",SISWA!B54)","v":4441},{"$f":"IF(SISWA!C54=0,\"\",SISWA!C54)","v":"0081758949"},{"$f":"IF(SISWA!D54=0,\"\",SISWA!D54)","v":"1-18-05-80-162-047-2"},{"$f":"IF(SISWA!E54=0,\"\",SISWA!E54)","v":"INES ARIFANI MAULINA"},null,68,77,85,83,78.25,60,null,60,69.125,68.25]
[48,{"$f":"IF(SISWA!B55=0,\"\",SISWA!B55)","v":4374},{"$f":"IF(SISWA!C55=0,\"\",SISWA!C55)","v":"0073409469"},{"$f":"IF(SISWA!D55=0,\"\",SISWA!D55)","v":"1-18-05-80-162-048-9"},{"$f":"IF(SISWA!E55=0,\"\",SISWA!E55)","v":"IYAAD AFLAKHA RAMZII"},null,66,81,84,82,78.25,60,null,60,69.125,67.5]
[49,{"$f":"IF(SISWA!B56=0,\"\",SISWA!B56)","v":4305},{"$f":"IF(SISWA!C56=0,\"\",SISWA!C56)","v":"0068258891"},{"$f":"IF(SISWA!D56=0,\"\",SISWA!D56)","v":"1-18-05-80-162-049-8"},{"$f":"IF(SISWA!E56=0,\"\",SISWA!E56)","v":"JULI ANDRIYANTO"},null,65,76,84,82,76.75,60,null,60,68.375,67.25]
[50,{"$f":"IF(SISWA!B57=0,\"\",SISWA!B57)","v":4347},{"$f":"IF(SISWA!C57=0,\"\",SISWA!C57)","v":"0076367763"},{"$f":"IF(SISWA!D57=0,\"\",SISWA!D57)","v":"1-18-05-80-162-050-7"},{"$f":"IF(SISWA!E57=0,\"\",SISWA!E57)","v":"LIYA FEBRIYANI"},null,78,83,90,86,84.25,60,null,60,72.125,72]
[51,{"$f":"IF(SISWA!B58=0,\"\",SISWA!B58)","v":4348},{"$f":"IF(SISWA!C58=0,\"\",SISWA!C58)","v":"0083034332"},{"$f":"IF(SISWA!D58=0,\"\",SISWA!D58)","v":"1-18-05-80-162-051-6"},{"$f":"IF(SISWA!E58=0,\"\",SISWA!E58)","v":"LIZATUL CHAIYUNI"},null,76,80,89,84,82.25,60,null,60,71.125,71.25]
[52,{"$f":"IF(SISWA!B59=0,\"\",SISWA!B59)","v":4531},{"$f":"IF(SISWA!C59=0,\"\",SISWA!C59)","v":3099539154},{"$f":"IF(SISWA!D59=0,\"\",SISWA!D59)","v":"1-18-05-80-162-052-5"},{"$f":"IF(SISWA!E59=0,\"\",SISWA!E59)","v":"M. ALHAFIS"},null,70,76,83,83,78,60,null,60,69,68.25]
[53,{"$f":"IF(SISWA!B60=0,\"\",SISWA!B60)","v":4530},{"$f":"IF(SISWA!C60=0,\"\",SISWA!C60)","v":"0077015789"},{"$f":"IF(SISWA!D60=0,\"\",SISWA!D60)","v":"1-18-05-80-162-053-4"},{"$f":"IF(SISWA!E60=0,\"\",SISWA!E60)","v":"MUHAMMAD RIZKI RIDWAN"},null,62,73,82,81,74.5,60,null,60,67.25,66]
[54,{"$f":"IF(SISWA!B61=0,\"\",SISWA!B61)","v":4351},{"$f":"IF(SISWA!C61=0,\"\",SISWA!C61)","v":"0076361559"},{"$f":"IF(SISWA!D61=0,\"\",SISWA!D61)","v":"1-18-05-80-162-054-3"},{"$f":"IF(SISWA!E61=0,\"\",SISWA!E61)","v":"MOCHAMAD RAFLI DIAN SAPUTRA"},null,64,74,81,82,75.25,60,null,60,67.625,66.25]
[55,{"$f":"IF(SISWA!B62=0,\"\",SISWA!B62)","v":4352},{"$f":"IF(SISWA!C62=0,\"\",SISWA!C62)","v":"0075591405"},{"$f":"IF(SISWA!D62=0,\"\",SISWA!D62)","v":"1-18-05-80-162-055-2"},{"$f":"IF(SISWA!E62=0,\"\",SISWA!E62)","v":"MOCHAMMAD AFAREL PUTRA RAMDHANA"},null,79,78,84,82,80.75,60,null,60,70.375,70.75]
[56,{"$f":"IF(SISWA!B63=0,\"\",SISWA!B63)","v":4355},{"$f":"IF(SISWA!C63=0,\"\",SISWA!C63)","v":"0075363258"},{"$f":"IF(SISWA!D63=0,\"\",SISWA!D63)","v":"1-18-05-80-162-056-9"},{"$f":"IF(SISWA!E63=0,\"\",SISWA!E63)","v":"MUHAMAD JEFRI MAULANA"},null,70,77,82,82,77.75,60,null,60,68.875,68]
[57,{"$f":"IF(SISWA!B64=0,\"\",SISWA!B64)","v":4376},{"$f":"IF(SISWA!C64=0,\"\",SISWA!C64)","v":"0072066741"},{"$f":"IF(SISWA!D64=0,\"\",SISWA!D64)","v":"1-18-05-80-162-057-8"},{"$f":"IF(SISWA!E64=0,\"\",SISWA!E64)","v":"MUHAMMAD DWI WILDAN BAGUS KURNIAWAN"},null,62,74,82,81,74.75,60,null,60,67.375,66]
[58,{"$f":"IF(SISWA!B65=0,\"\",SISWA!B65)","v":4377},{"$f":"IF(SISWA!C65=0,\"\",SISWA!C65)","v":"0071459044"},{"$f":"IF(SISWA!D65=0,\"\",SISWA!D65)","v":"1-18-05-80-162-058-7"},{"$f":"IF(SISWA!E65=0,\"\",SISWA!E65)","v":"MUHAMMAD FARIL FIRMANSYA"},null,65,76,82,81,76,60,null,60,68,66.75]
[59,{"$f":"IF(SISWA!B66=0,\"\",SISWA!B66)","v":4349},{"$f":"IF(SISWA!C66=0,\"\",SISWA!C66)","v":"0074206034"},{"$f":"IF(SISWA!D66=0,\"\",SISWA!D66)","v":"1-18-05-80-162-059-6"},{"$f":"IF(SISWA!E66=0,\"\",SISWA!E66)","v":"MUHAMMAD FARIZ UBAIDILLA"},null,76,79,82,84,80.25,60,null,60,70.125,69.5]
[60,{"$f":"IF(SISWA!B67=0,\"\",SISWA!B67)","v":4356},{"$f":"IF(SISWA!C67=0,\"\",SISWA!C67)","v":"0077937892"},{"$f":"IF(SISWA!D67=0,\"\",SISWA!D67)","v":"1-18-05-80-162-060-5"},{"$f":"IF(SISWA!E67=0,\"\",SISWA!E67)","v":"MUHAMMAD MAULANA ZIDANIL ILMI"},null,77,79,85,86,81.75,60,null,60,70.875,70.5]
[61,{"$f":"IF(SISWA!B68=0,\"\",SISWA!B68)","v":4357},{"$f":"IF(SISWA!C68=0,\"\",SISWA!C68)","v":"0078608527"},{"$f":"IF(SISWA!D68=0,\"\",SISWA!D68)","v":"1-18-05-80-162-061-4"},{"$f":"IF(SISWA!E68=0,\"\",SISWA!E68)","v":"MUHAMMAD SUTRISNO ISMAIL"},null,61,73,81,81,{"$f":"AVERAGE(F68:J68)","v":74},60,null,60,67,65.5]
[62,{"$f":"IF(SISWA!B69=0,\"\",SISWA!B69)","v":4381},{"$f":"IF(SISWA!C69=0,\"\",SISWA!C69)","v":"0072209435"},{"$f":"IF(SISWA!D69=0,\"\",SISWA!D69)","v":"1-18-05-80-162-062-3"},{"$f":"IF(SISWA!E69=0,\"\",SISWA!E69)","v":"NOVITA ERNIAWAN"},null,77,82,84,82,81.25,60,null,60,70.625,70.25]
[63,{"$f":"IF(SISWA!B70=0,\"\",SISWA!B70)","v":4383},{"$f":"IF(SISWA!C70=0,\"\",SISWA!C70)","v":"0077439834"},{"$f":"IF(SISWA!D70=0,\"\",SISWA!D70)","v":"1-18-05-80-162-063-2"},{"$f":"IF(SISWA!E70=0,\"\",SISWA!E70)","v":"PUTRI AULIA DWI AGUSTIN"},null,76,82,86,83,81.75,60,null,60,70.875,70.5]
[64,{"$f":"IF(SISWA!B71=0,\"\",SISWA!B71)","v":4385},{"$f":"IF(SISWA!C71=0,\"\",SISWA!C71)","v":"0073137310"},{"$f":"IF(SISWA!D71=0,\"\",SISWA!D71)","v":"1-18-05-80-162-064-9"},{"$f":"IF(SISWA!E71=0,\"\",SISWA!E71)","v":"STANY RAFIDAH RAHMANIA"},null,65,74,83,81,75.75,60,null,60,67.875,67]
[65,{"$f":"IF(SISWA!B72=0,\"\",SISWA!B72)","v":4387},{"$f":"IF(SISWA!C72=0,\"\",SISWA!C72)","v":"0077336427"},{"$f":"IF(SISWA!D72=0,\"\",SISWA!D72)","v":"1-18-05-80-162-065-8"},{"$f":"IF(SISWA!E72=0,\"\",SISWA!E72)","v":"USWATUN KHASANAH"},null,63,74,84,82,75.75,60,null,60,67.875,66.75]
[66,{"$f":"IF(SISWA!B73=0,\"\",SISWA!B73)","v":4389},{"$f":"IF(SISWA!C73=0,\"\",SISWA!C73)","v":"0078407631"},{"$f":"IF(SISWA!D73=0,\"\",SISWA!D73)","v":"1-18-05-80-162-066-7"},{"$f":"IF(SISWA!E73=0,\"\",SISWA!E73)","v":"VIKROUL KHAMILA"},null,78,76,85,84,80.75,60,null,{"$f":"AVERAGE(L73:M73)","v":60},{"$f":"AVERAGE(N73,K73)","v":70.375},70.75]
[67,{"$f":"IF(SISWA!B74=0,\"\",SISWA!B74)","v":""},{"$f":"IF(SISWA!C74=0,\"\",SISWA!C74)","v":""},{"$f":"IF(SISWA!D74=0,\"\",SISWA!D74)","v":""},{"$f":"IF(SISWA!E74=0,\"\",SISWA!E74)","v":""},null,null,null,null,null,{"$error":"#DIV/0!"},null,null,{"$error":"#DIV/0!"},{"$error":"#DIV/0!"},{"$error":"#DIV/0!"}]
[68,{"$f":"IF(SISWA!B75=0,\"\",SISWA!B75)","v":""},{"$f":"IF(SISWA!C75=0,\"\",SISWA!C75)","v":""},{"$f":"IF(SISWA!D75=0,\"\",SISWA!D75)","v":""},{"$f":"IF(SISWA!E75=0,\"\",SISWA!E75)","v":""},null,null,null,null,null,{"$error":"#DIV/0!"},null,null,{"$error":"#DIV/0!"},{"$error":"#DIV/0!"},{"$error":"#DIV/0!"}]
[69,{"$f":"IF(SISWA!B76=0,\"\",SISWA!B76)","v":""},{"$f":"IF(SISWA!C76=0,\"\",SISWA!C76)","v":""},{"$f":"IF(SISWA!D76=0,\"\",SISWA!D76)","v":""},{"$f":"IF(SISWA!E76=0,\"\",SISWA!E76)","v":""},null,null,null,null,null,{"$error":"#DIV/0!"},null,null,{"$error":"#DIV/0!"},{"$error":"#DIV/0!"},{"$error":"#DIV/0!"}]
[70,{"$f":"IF(SISWA!B77=0,\"\",SISWA!B77)","v":""},{"$f":"IF(SISWA!C77=0,\"\",SISWA!C77)","v":""},{"$f":"IF(SISWA!D77=0,\"\",SISWA!D77)","v":""},{"$f":"IF(SISWA!E77=0,\"\",SISWA!E77)","v":""},null,null,null,null,null,{"$error":"#DIV/0!"},null,null,{"$error":"#DIV/0!"},{"$error":"#DIV/0!"},{"$error":"#DIV/0!"}]
[71,{"$f":"IF(SISWA!B78=0,\"\",SISWA!B78)","v":""},{"$f":"IF(SISWA!C78=0,\"\",SISWA!C78)","v":""},{"$f":"IF(SISWA!D78=0,\"\",SISWA!D78)","v":""},{"$f":"IF(SISWA!E78=0,\"\",SISWA!E78)","v":""},null,null,null,null,null,{"$error":"#DIV/0!"},null,null,{"$error":"#DIV/0!"},{"$error":"#DIV/0!"},{"$error":"#DIV/0!"}]
[72,{"$f":"IF(SISWA!B79=0,\"\",SISWA!B79)","v":""},{"$f":"IF(SISWA!C79=0,\"\",SISWA!C79)","v":""},{"$f":"IF(SISWA!D79=0,\"\",SISWA!D79)","v":""},{"$f":"IF(SISWA!E79=0,\"\",SISWA!E79)","v":""},null,null,null,null,null,{"$error":"#DIV/0!"},null,null,{"$error":"#DIV/0!"},{"$error":"#DIV/0!"},{"$error":"#DIV/0!"}]
[73,{"$f":"IF(SISWA!B80=0,\"\",SISWA!B80)","v":""},{"$f":"IF(SISWA!C80=0,\"\",SISWA!C80)","v":""},{"$f":"IF(SISWA!D80=0,\"\",SISWA!D80)","v":""},{"$f":"IF(SISWA!E80=0,\"\",SISWA!E80)","v":""},null,null,null,null,null,{"$error":"#DIV/0!"},null,null,{"$error":"#DIV/0!"},{"$error":"#DIV/0!"},{"$error":"#DIV/0!"}]
[74,{"$f":"IF(SISWA!B81=0,\"\",SISWA!B81)","v":""},{"$f":"IF(SISWA!C81=0,\"\",SISWA!C81)","v":""},{"$f":"IF(SISWA!D81=0,\"\",SISWA!D81)","v":""},{"$f":"IF(SISWA!E81=0,\"\",SISWA!E81)","v":""},null,null,null,null,null,{"$error":"#DIV/0!"},null,null,{"$error":"#DIV/0!"},{"$error":"#DIV/0!"},{"$error":"#DIV/0!"}]
[75,{"$f":"IF(SISWA!B82=0,\"\",SISWA!B82)","v":""},{"$f":"IF(SISWA!C82=0,\"\",SISWA!C82)","v":""},{"$f":"IF(SISWA!D82=0,\"\",SISWA!D82)","v":""},{"$f":"IF(SISWA!E82=0,\"\",SISWA!E82)","v":""},null,null,null,null,null,{"$error":"#DIV/0!"},null,null,{"$error":"#DIV/0!"},{"$error":"#DIV/0!"},{"$error":"#DIV/0!"}]
[76,{"$f":"IF(SISWA!B83=0,\"\",SISWA!B83)","v":""},{"$f":"IF(SISWA!C83=0,\"\",SISWA!C83)","v":""},{"$f":"IF(SISWA!D83=0,\"\",SISWA!D83)","v":""},{"$f":"IF(SISWA!E83=0,\"\",SISWA!E83)","v":""},null,null,null,null,null,{"$error":"#DIV/0!"},null,null,{"$error":"#DIV/0!"},{"$error":"#DIV/0!"},{"$error":"#DIV/0!"}]
[77,{"$f":"IF(SISWA!B84=0,\"\",SISWA!B84)","v":""},{"$f":"IF(SISWA!C84=0,\"\",SISWA!C84)","v":""},{"$f":"IF(SISWA!D84=0,\"\",SISWA!D84)","v":""},{"$f":"IF(SISWA!E84=0,\"\",SISWA!E84)","v":""},null,null,null,null,null,{"$error":"#DIV/0!"},null,null,{"$error":"#DIV/0!"},{"$error":"#DIV/0!"},{"$error":"#DIV/0!"}]
[78,{"$f":"IF(SISWA!B85=0,\"\",SISWA!B85)","v":""},{"$f":"IF(SISWA!C85=0,\"\",SISWA!C85)","v":""},{"$f":"IF(SISWA!D85=0,\"\",SISWA!D85)","v":""},{"$f":"IF(SISWA!E85=0,\"\",SISWA!E85)","v":""},null,null,null,null,null,{"$error":"#DIV/0!"},null,null,{"$error":"#DIV/0!"},{"$error":"#DIV/0!"},{"$error":"#DIV/0!"}]
[79,{"$f":"IF(SISWA!B86=0,\"\",SISWA!B86)","v":""},{"$f":"IF(SISWA!C86=0,\"\",SISWA!C86)","v":""},{"$f":"IF(SISWA!D86=0,\"\",SISWA!D86)","v":""},{"$f":"IF(SISWA!E86=0,\"\",SISWA!E86)","v":""},null,null,null,null,null,{"$error":"#DIV/0!"},null,null,{"$error":"#DIV/0!"},{"$error":"#DIV/0!"},{"$error":"#DIV/0!"}]
[80,{"$f":"IF(SISWA!B87=0,\"\",SISWA!B87)","v":""},{"$f":"IF(SISWA!C87=0,\"\",SISWA!C87)","v":""},{"$f":"IF(SISWA!D87=0,\"\",SISWA!D87)","v":""},{"$f":"IF(SISWA!E87=0,\"\",SISWA!E87)","v":""},null,null,null,null,null,{"$error":"#DIV/0!"},null,null,{"$error":"#DIV/0!"},{"$error":"#DIV/0!"},{"$error":"#DIV/0!"}]
[81,{"$f":"IF(SISWA!B88=0,\"\",SISWA!B88)","v":""},{"$f":"IF(SISWA!C88=0,\"\",SISWA!C88)","v":""},{"$f":"IF(SISWA!D88=0,\"\",SISWA!D88)","v":""},{"$f":"IF(SISWA!E88=0,\"\",SISWA!E88)","v":""},null,null,null,null,null,{"$error":"#DIV/0!"},null,null,{"$error":"#DIV/0!"},{"$error":"#DIV/0!"},{"$error":"#DIV/0!"}]
[82,{"$f":"IF(SISWA!B89=0,\"\",SISWA!B89)","v":""},{"$f":"IF(SISWA!C89=0,\"\",SISWA!C89)","v":""},{"$f":"IF(SISWA!D89=0,\"\",SISWA!D89)","v":""},{"$f":"IF(SISWA!E89=0,\"\",SISWA!E89)","v":""},null,null,null,null,null,{"$error":"#DIV/0!"},null,null,{"$error":"#DIV/0!"},{"$error":"#DIV/0!"},{"$error":"#DIV/0!"}]
[83,{"$f":"IF(SISWA!B90=0,\"\",SISWA!B90)","v":""},{"$f":"IF(SISWA!C90=0,\"\",SISWA!C90)","v":""},{"$f":"IF(SISWA!D90=0,\"\",SISWA!D90)","v":""},{"$f":"IF(SISWA!E90=0,\"\",SISWA!E90)","v":""},null,null,null,null,null,{"$error":"#DIV/0!"},null,null,{"$error":"#DIV/0!"},{"$error":"#DIV/0!"},{"$error":"#DIV/0!"}]
[84,{"$f":"IF(SISWA!B91=0,\"\",SISWA!B91)","v":""},{"$f":"IF(SISWA!C91=0,\"\",SISWA!C91)","v":""},{"$f":"IF(SISWA!D91=0,\"\",SISWA!D91)","v":""},{"$f":"IF(SISWA!E91=0,\"\",SISWA!E91)","v":""},null,null,null,null,null,{"$error":"#DIV/0!"},null,null,{"$error":"#DIV/0!"},{"$error":"#DIV/0!"},{"$error":"#DIV/0!"}]
[85,{"$f":"IF(SISWA!B92=0,\"\",SISWA!B92)","v":""},{"$f":"IF(SISWA!C92=0,\"\",SISWA!C92)","v":""},{"$f":"IF(SISWA!D92=0,\"\",SISWA!D92)","v":""},{"$f":"IF(SISWA!E92=0,\"\",SISWA!E92)","v":""},null,null,null,null,null,{"$error":"#DIV/0!"},null,null,{"$error":"#DIV/0!"},{"$error":"#DIV/0!"},{"$error":"#DIV/0!"}]
[86,{"$f":"IF(SISWA!B93=0,\"\",SISWA!B93)","v":""},{"$f":"IF(SISWA!C93=0,\"\",SISWA!C93)","v":""},{"$f":"IF(SISWA!D93=0,\"\",SISWA!D93)","v":""},{"$f":"IF(SISWA!E93=0,\"\",SISWA!E93)","v":""},null,null,null,null,null,{"$error":"#DIV/0!"},null,null,{"$error":"#DIV/0!"},{"$error":"#DIV/0!"},{"$error":"#DIV/0!"}]
[87,{"$f":"IF(SISWA!B94=0,\"\",SISWA!B94)","v":""},{"$f":"IF(SISWA!C94=0,\"\",SISWA!C94)","v":""},{"$f":"IF(SISWA!D94=0,\"\",SISWA!D94)","v":""},{"$f":"IF(SISWA!E94=0,\"\",SISWA!E94)","v":""},null,null,null,null,null,{"$error":"#DIV/0!"},null,null,{"$error":"#DIV/0!"},{"$error":"#DIV/0!"},{"$error":"#DIV/0!"}]
[88,{"$f":"IF(SISWA!B95=0,\"\",SISWA!B95)","v":""},{"$f":"IF(SISWA!C95=0,\"\",SISWA!C95)","v":""},{"$f":"IF(SISWA!D95=0,\"\",SISWA!D95)","v":""},{"$f":"IF(SISWA!E95=0,\"\",SISWA!E95)","v":""},null,null,null,null,null,{"$error":"#DIV/0!"},null,null,{"$error":"#DIV/0!"},{"$error":"#DIV/0!"},{"$error":"#DIV/0!"}]
[89,{"$f":"IF(SISWA!B96=0,\"\",SISWA!B96)","v":""},{"$f":"IF(SISWA!C96=0,\"\",SISWA!C96)","v":""},{"$f":"IF(SISWA!D96=0,\"\",SISWA!D96)","v":""},{"$f":"IF(SISWA!E96=0,\"\",SISWA!E96)","v":""},null,null,null,null,null,{"$error":"#DIV/0!"},null,null,{"$error":"#DIV/0!"},{"$error":"#DIV/0!"},{"$error":"#DIV/0!"}]
[90,{"$f":"IF(SISWA!B97=0,\"\",SISWA!B97)","v":""},{"$f":"IF(SISWA!C97=0,\"\",SISWA!C97)","v":""},{"$f":"IF(SISWA!D97=0,\"\",SISWA!D97)","v":""},{"$f":"IF(SISWA!E97=0,\"\",SISWA!E97)","v":""},null,null,null,null,null,{"$error":"#DIV/0!"},null,null,{"$error":"#DIV/0!"},{"$error":"#DIV/0!"},{"$error":"#DIV/0!"}]
[91,{"$f":"IF(SISWA!B98=0,\"\",SISWA!B98)","v":""},{"$f":"IF(SISWA!C98=0,\"\",SISWA!C98)","v":""},{"$f":"IF(SISWA!D98=0,\"\",SISWA!D98)","v":""},{"$f":"IF(SISWA!E98=0,\"\",SISWA!E98)","v":""},null,null,null,null,null,{"$error":"#DIV/0!"},null,null,{"$error":"#DIV/0!"},{"$error":"#DIV/0!"},{"$error":"#DIV/0!"}]
[92,{"$f":"IF(SISWA!B99=0,\"\",SISWA!B99)","v":""},{"$f":"IF(SISWA!C99=0,\"\",SISWA!C99)","v":""},{"$f":"IF(SISWA!D99=0,\"\",SISWA!D99)","v":""},{"$f":"IF(SISWA!E99=0,\"\",SISWA!E99)","v":""},null,null,null,null,null,{"$error":"#DIV/0!"},null,null,{"$error":"#DIV/0!"},{"$error":"#DIV/0!"},{"$error":"#DIV/0!"}]
[93,{"$f":"IF(SISWA!B100=0,\"\",SISWA!B100)","v":""},{"$f":"IF(SISWA!C100=0,\"\",SISWA!C100)","v":""},{"$f":"IF(SISWA!D100=0,\"\",SISWA!D100)","v":""},{"$f":"IF(SISWA!E100=0,\"\",SISWA!E100)","v":""},null,null,null,null,null,{"$error":"#DIV/0!"},null,null,{"$error":"#DIV/0!"},{"$error":"#DIV/0!"},{"$error":"#DIV/0!"}]
[94,{"$f":"IF(SISWA!B101=0,\"\",SISWA!B101)","v":""},{"$f":"IF(SISWA!C101=0,\"\",SISWA!C101)","v":""},{"$f":"IF(SISWA!D101=0,\"\",SISWA!D101)","v":""},{"$f":"IF(SISWA!E101=0,\"\",SISWA!E101)","v":""},null,null,null,null,null,{"$error":"#DIV/0!"},null,null,{"$error":"#DIV/0!"},{"$error":"#DIV/0!"},{"$error":"#DIV/0!"}]
[null,null,null,null,null,null,null,null,null,null,null,null,null,null,null,{"$error":"#DIV/0!"}]
[null,null,null,null,null,null,null,null,null,null,null,null,null,null,null,{"$error":"#DIV/0!"}]
[null,null,null,null,null,null,null,null,null,null,null,null,null,null,null,{"$error":"#DIV/0!"}]
[null,null,null,null,null,null,null,null,null,null,null,null,null,null,null,{"$error":"#DIV/0!"}]
[null,null,null,null,null,null,null,null,null,null,null,null,null,null,null,{"$error":"#DIV/0!"}]
[null,null,null,null,null,null,null,null,null,null,null,null,null,null,null,{"$error":"#DIV/0!"}]
[null,null,null,null,null,null,null,null,null,null,null,null,null,null,null,{"$error":"#DIV/0!"}]

{"sheet":"PKn","index":7,"n_rows":108,"n_cols":16,"rows_kept":108,"cut":false,"hidden":false,"merged":[[4,13,6,13],[0,0,0,9],[1,0,1,9],[2,0,2,9],[4,0,6,0],[4,1,6,1],[4,2,6,2],[4,3,6,3],[4,4,6,4],[5,5,5,9],[4,5,4,12],[5,11,5,12]]}
["DAFTAR NILAI AKHIR SEKOLAH"]
[{"$f":"AA!A2","v":"MADRASAH IBTIDAIYAH NURUL ISLAM LABRUK KIDUL"}]
[{"$f":"AA!A3","v":"TAHUN PELAJARAN 2019/2020"}]
[]
["NO","No Induk","NISN","Nomor Peserta","Nama Peserta","PKn",null,null,null,null,null,null,null,"rata-rata UAM & PRAKTEK"]
[null,null,null,null,null,"Nilai Semester",null,null,null,null,"Rata- 2","NILAI UAM",null,null,null,"UAMNU"]
[null,null,null,null,null,7,8,9,10,11,"Rapor","TULIS","PRAKTIK",null,null,"TULIS"]
[1,{"$f":"IF(SISWA!B8=0,\"\",SISWA!B8)","v":4331},{"$f":"IF(SISWA!C8=0,\"\",SISWA!C8)","v":"0078140536"},{"$f":"IF(SISWA!D8=0,\"\",SISWA!D8)","v":"1-18-05-80-162-001-8"},{"$f":"IF(SISWA!E8=0,\"\",SISWA!E8)","v":"ACHMAD FATHIR IZUDDIN"},null,67,74,85,84,{"$f":"AVERAGE(F8:J8)","v":77.5},70,null,{"$f":"AVERAGE(L8:M8)","v":70},null,70]
[2,{"$f":"IF(SISWA!B9=0,\"\",SISWA!B9)","v":4333},{"$f":"IF(SISWA!C9=0,\"\",SISWA!C9)","v":"0084691896"},{"$f":"IF(SISWA!D9=0,\"\",SISWA!D9)","v":"1-18-05-80-162-002-7"},{"$f":"IF(SISWA!E9=0,\"\",SISWA!E9)","v":"AININ NAFISA FEBRIYANTI"},null,67,75,85,88,{"$f":"AVERAGE(F9:J9)","v":78.75},67.5,null,{"$f":"AVERAGE(L9:M9)","v":67.5},null,67.5]
[3,{"$f":"IF(SISWA!B10=0,\"\",SISWA!B10)","v":4334},{"$f":"IF(SISWA!C10=0,\"\",SISWA!C10)","v":"0075488897"},{"$f":"IF(SISWA!D10=0,\"\",SISWA!D10)","v":"1-18-05-80-162-003-6"},{"$f":"IF(SISWA!E10=0,\"\",SISWA!E10)","v":"AISYAH DWI ANDINI"},null,70,88,91,92,85.25,72.5,null,72.5,null,72.5]
[4,{"$f":"IF(SISWA!B11=0,\"\",SISWA!B11)","v":4335},{"$f":"IF(SISWA!C11=0,\"\",SISWA!C11)","v":"0077554289"},{"$f":"IF(SISWA!D11=0,\"\",SISWA!D11)","v":"1-18-05-80-162-004-5"},{"$f":"IF(SISWA!E11=0,\"\",SISWA!E11)","v":"AJENG AGUSTINA KIRANA PUTRI"},null,66,80,83,86,78.75,60,null,60,null,65]
[5,{"$f":"IF(SISWA!B12=0,\"\",SISWA!B12)","v":4336},{"$f":"IF(SISWA!C12=0,\"\",SISWA!C12)","v":"0078831956"},{"$f":"IF(SISWA!D12=0,\"\",SISWA!D12)","v":"1-18-05-80-162-005-4"},{"$f":"IF(SISWA!E12=0,\"\",SISWA!E12)","v":"ALVIAN FAIZULHAQQI"},null,66,74,83,81,76,60,null,60,null,65]
[6,{"$f":"IF(SISWA!B13=0,\"\",SISWA!B13)","v":4337},{"$f":"IF(SISWA!C13=0,\"\",SISWA!C13)","v":"0073667130"},{"$f":"IF(SISWA!D13=0,\"\",SISWA!D13)","v":"1-18-05-80-162-006-3"},{"$f":"IF(SISWA!E13=0,\"\",SISWA!E13)","v":"ANGGITA RIZKY YUGA MEISYA"},null,70,79,91,92,83,65,null,65,null,65]
[7,{"$f":"IF(SISWA!B14=0,\"\",SISWA!B14)","v":4338},{"$f":"IF(SISWA!C14=0,\"\",SISWA!C14)","v":"0074492973"},{"$f":"IF(SISWA!D14=0,\"\",SISWA!D14)","v":"1-18-05-80-162-007-2"},{"$f":"IF(SISWA!E14=0,\"\",SISWA!E14)","v":"AURA SALSABILA WULAN SARI"},null,70,76,84,95,81.25,70,null,70,null,70]
[8,{"$f":"IF(SISWA!B15=0,\"\",SISWA!B15)","v":4366},{"$f":"IF(SISWA!C15=0,\"\",SISWA!C15)","v":"0078989673"},{"$f":"IF(SISWA!D15=0,\"\",SISWA!D15)","v":"1-18-05-80-162-008-9"},{"$f":"IF(SISWA!E15=0,\"\",SISWA!E15)","v":"BALQIS NAILA AUDIA"},null,69,83,93,91,84,67.5,null,67.5,null,67.5]
[9,{"$f":"IF(SISWA!B16=0,\"\",SISWA!B16)","v":4440},{"$f":"IF(SISWA!C16=0,\"\",SISWA!C16)","v":"0082763386"},{"$f":"IF(SISWA!D16=0,\"\",SISWA!D16)","v":"1-18-05-80-162-009-8"},{"$f":"IF(SISWA!E16=0,\"\",SISWA!E16)","v":"BIMA ARYO SUSILO"},null,80,77,86,91,83.5,67.5,null,67.5,null,67.5]
[10,{"$f":"IF(SISWA!B17=0,\"\",SISWA!B17)","v":4367},{"$f":"IF(SISWA!C17=0,\"\",SISWA!C17)","v":"0078400392"},{"$f":"IF(SISWA!D17=0,\"\",SISWA!D17)","v":"1-18-05-80-162-010-7"},{"$f":"IF(SISWA!E17=0,\"\",SISWA!E17)","v":"BIMA SATRIA DIRGANTARA"},null,67,74,83,81,76.25,60,null,60,null,65]
[11,{"$f":"IF(SISWA!B18=0,\"\",SISWA!B18)","v":4339},{"$f":"IF(SISWA!C18=0,\"\",SISWA!C18)","v":"0086652599"},{"$f":"IF(SISWA!D18=0,\"\",SISWA!D18)","v":"1-18-05-80-162-011-6"},{"$f":"IF(SISWA!E18=0,\"\",SISWA!E18)","v":"DEVI KARUNIA RATNA PUTRI"},null,67,86,82,87,80.5,60,null,60,null,65]
[12,{"$f":"IF(SISWA!B19=0,\"\",SISWA!B19)","v":4340},{"$f":"IF(SISWA!C19=0,\"\",SISWA!C19)","v":"0089906682"},{"$f":"IF(SISWA!D19=0,\"\",SISWA!D19)","v":"1-18-05-80-162-012-5"},{"$f":"IF(SISWA!E19=0,\"\",SISWA!E19)","v":"DEVITA FEBRIANI PUTRI"},null,68,82,83,87,80,70,null,70,null,70]
[13,{"$f":"IF(SISWA!B20=0,\"\",SISWA!B20)","v":4370},{"$f":"IF(SISWA!C20=0,\"\",SISWA!C20)","v":"0074514146"},{"$f":"IF(SISWA!D20=0,\"\",SISWA!D20)","v":"1-18-05-80-162-013-4"},{"$f":"IF(SISWA!E20=0,\"\",SISWA!E20)","v":"FAKHIS GABRIL LIA"},null,65,78,92,92,81.75,67.5,null,67.5,null,67.5]
[14,{"$f":"IF(SISWA!B21=0,\"\",SISWA!B21)","v":4342},{"$f":"IF(SISWA!C21=0,\"\",SISWA!C21)","v":"0081081672"},{"$f":"IF(SISWA!D21=0,\"\",SISWA!D21)","v":"1-18-05-80-162-014-3"},{"$f":"IF(SISWA!E21=0,\"\",SISWA!E21)","v":"FARAH NAILATUL ALYAH"},null,90,83,85,88,86.5,70,null,70,null,70]
[15,{"$f":"IF(SISWA!B22=0,\"\",SISWA!B22)","v":4345},{"$f":"IF(SISWA!C22=0,\"\",SISWA!C22)","v":"0073420487"},{"$f":"IF(SISWA!D22=0,\"\",SISWA!D22)","v":"1-18-05-80-162-015-2"},{"$f":"IF(SISWA!E22=0,\"\",SISWA!E22)","v":"GALANG MARDHOTILLAH SATOTO"},null,67,78,87,90,80.5,60,null,60,null,65]
[16,{"$f":"IF(SISWA!B23=0,\"\",SISWA!B23)","v":4371},{"$f":"IF(SISWA!C23=0,\"\",SISWA!C23)","v":"0079870082"},{"$f":"IF(SISWA!D23=0,\"\",SISWA!D23)","v":"1-18-05-80-162-016-9"},{"$f":"IF(SISWA!E23=0,\"\",SISWA!E23)","v":"GALIH FAREL PRASTYO"},null,69,74,82,88,78.25,60,null,60,null,65]
[17,{"$f":"IF(SISWA!B24=0,\"\",SISWA!B24)","v":4466},{"$f":"IF(SISWA!C24=0,\"\",SISWA!C24)","v":"0081629504"},{"$f":"IF(SISWA!D24=0,\"\",SISWA!D24)","v":"1-18-05-80-162-017-8"},{"$f":"IF(SISWA!E24=0,\"\",SISWA!E24)","v":"HIBATULLAH MUSTAGHFIRY RUSLI"},null,85,77,85,82,82.25,60,null,60,null,65]
[18,{"$f":"IF(SISWA!B25=0,\"\",SISWA!B25)","v":4346},{"$f":"IF(SISWA!C25=0,\"\",SISWA!C25)","v":"0073608418"},{"$f":"IF(SISWA!D25=0,\"\",SISWA!D25)","v":"1-18-05-80-162-018-7"},{"$f":"IF(SISWA!E25=0,\"\",SISWA!E25)","v":"IKA KURNIA WATI AGUSTINA"},null,66,74,83,83,76.5,60,null,60,null,65]
[19,{"$f":"IF(SISWA!B26=0,\"\",SISWA!B26)","v":4350},{"$f":"IF(SISWA!C26=0,\"\",SISWA!C26)","v":"0072658586"},{"$f":"IF(SISWA!D26=0,\"\",SISWA!D26)","v":"1-18-05-80-162-019-6"},{"$f":"IF(SISWA!E26=0,\"\",SISWA!E26)","v":"MAYLUNA EKA PRATIWI"},null,90,84,87,96,89.25,60,null,60,null,65]
[20,{"$f":"IF(SISWA!B27=0,\"\",SISWA!B27)","v":4353},{"$f":"IF(SISWA!C27=0,\"\",SISWA!C27)","v":"0075464137"},{"$f":"IF(SISWA!D27=0,\"\",SISWA!D27)","v":"1-18-05-80-162-020-5"},{"$f":"IF(SISWA!E27=0,\"\",SISWA!E27)","v":"MOHAMAD DWIMAS FIRDAUS"},null,82,79,85,92,84.5,60,null,60,null,65]
[21,{"$f":"IF(SISWA!B28=0,\"\",SISWA!B28)","v":4375},{"$f":"IF(SISWA!C28=0,\"\",SISWA!C28)","v":"0075096831"},{"$f":"IF(SISWA!D28=0,\"\",SISWA!D28)","v":"1-18-05-80-162-021-4"},{"$f":"IF(SISWA!E28=0,\"\",SISWA!E28)","v":"MUHAMMAD AFFAN ABI SYAHPUTRA"},null,76,84,85,81,81.5,60,null,60,null,65]
[22,{"$f":"IF(SISWA!B29=0,\"\",SISWA!B29)","v":4354},{"$f":"IF(SISWA!C29=0,\"\",SISWA!C29)","v":"0075055640"},{"$f":"IF(SISWA!D29=0,\"\",SISWA!D29)","v":"1-18-05-80-162-022-3"},{"$f":"IF(SISWA!E29=0,\"\",SISWA!E29)","v":"MUHAMMAD ALVIN RIDHO"},null,69,78,84,85,79,77.5,null,77.5,null,77.5]
[23,{"$f":"IF(SISWA!B30=0,\"\",SISWA!B30)","v":4378},{"$f":"IF(SISWA!C30=0,\"\",SISWA!C30)","v":"0074268893"},{"$f":"IF(SISWA!D30=0,\"\",SISWA!D30)","v":"1-18-05-80-162-023-2"},{"$f":"IF(SISWA!E30=0,\"\",SISWA!E30)","v":"MUKHAMAD DAVID ARIF FIRDAUS"},null,86,76,87,94,85.75,60,null,60,null,65]
[24,{"$f":"IF(SISWA!B31=0,\"\",SISWA!B31)","v":4379},{"$f":"IF(SISWA!C31=0,\"\",SISWA!C31)","v":"0072757203"},{"$f":"IF(SISWA!D31=0,\"\",SISWA!D31)","v":"1-18-05-80-162-024-9"},{"$f":"IF(SISWA!E31=0,\"\",SISWA!E31)","v":"NAORA ISQI AINAYYA"},null,97,85,95,95,93,77.5,null,77.5,null,77.5]
[25,{"$f":"IF(SISWA!B32=0,\"\",SISWA!B32)","v":4380},{"$f":"IF(SISWA!C32=0,\"\",SISWA!C32)","v":"0079026285"},{"$f":"IF(SISWA!D32=0,\"\",SISWA!D32)","v":"1-18-05-80-162-025-8"},{"$f":"IF(SISWA!E32=0,\"\",SISWA!E32)","v":"NAZRA ISLAMAY PASHA"},null,79,78,84,93,83.5,60,null,60,null,65]
[26,{"$f":"IF(SISWA!B33=0,\"\",SISWA!B33)","v":4382},{"$f":"IF(SISWA!C33=0,\"\",SISWA!C33)","v":"0079872151"},{"$f":"IF(SISWA!D33=0,\"\",SISWA!D33)","v":"1-18-05-80-162-026-7"},{"$f":"IF(SISWA!E33=0,\"\",SISWA!E33)","v":"NUR ALYA NABILA"},null,82,80,85,91,84.5,72.5,null,72.5,null,72.5]
[27,{"$f":"IF(SISWA!B34=0,\"\",SISWA!B34)","v":4358},{"$f":"IF(SISWA!C34=0,\"\",SISWA!C34)","v":"0087558837"},{"$f":"IF(SISWA!D34=0,\"\",SISWA!D34)","v":"1-18-05-80-162-027-6"},{"$f":"IF(SISWA!E34=0,\"\",SISWA!E34)","v":"PUTRI SHOLIKHAH"},null,78,76,83,87,81,67.5,null,67.5,null,67.5]
[28,{"$f":"IF(SISWA!B35=0,\"\",SISWA!B35)","v":4384},{"$f":"IF(SISWA!C35=0,\"\",SISWA!C35)","v":"0071234523"},{"$f":"IF(SISWA!D35=0,\"\",SISWA!D35)","v":"1-18-05-80-162-028-5"},{"$f":"IF(SISWA!E35=0,\"\",SISWA!E35)","v":"RESTI FITRIANTI DWI OCTAVIANI"},null,86,74,86,86,83,60,null,60,null,65]
[29,{"$f":"IF(SISWA!B36=0,\"\",SISWA!B36)","v":4359},{"$f":"IF(SISWA!C36=0,\"\",SISWA!C36)","v":"0073122181"},{"$f":"IF(SISWA!D36=0,\"\",SISWA!D36)","v":"1-18-05-80-162-029-4"},{"$f":"IF(SISWA!E36=0,\"\",SISWA!E36)","v":"ROUDHOTUS SA'DIYAH"},null,84,79,85,92,85,67.5,null,67.5,null,67.5]
[30,{"$f":"IF(SISWA!B37=0,\"\",SISWA!B37)","v":4386},{"$f":"IF(SISWA!C37=0,\"\",SISWA!C37)","v":"0075344352"},{"$f":"IF(SISWA!D37=0,\"\",SISWA!D37)","v":"1-18-05-80-162-030-3"},{"$f":"IF(SISWA!E37=0,\"\",SISWA!E37)","v":"TIERSYA BETA RAMANUZAN"},null,89,81,92,90,88,67.5,null,67.5,null,67.5]
[31,{"$f":"IF(SISWA!B38=0,\"\",SISWA!B38)","v":4388},{"$f":"IF(SISWA!C38=0,\"\",SISWA!C38)","v":"0077423646"},{"$f":"IF(SISWA!D38=0,\"\",SISWA!D38)","v":"1-18-05-80-162-031-2"},{"$f":"IF(SISWA!E38=0,\"\",SISWA!E38)","v":"VERA MUSTIKA"},null,79,79,85,83,81.5,60,null,60,null,65]
[32,{"$f":"IF(SISWA!B39=0,\"\",SISWA!B39)","v":4360},{"$f":"IF(SISWA!C39=0,\"\",SISWA!C39)","v":"0077290990"},{"$f":"IF(SISWA!D39=0,\"\",SISWA!D39)","v":"1-18-05-80-162-032-9"},{"$f":"IF(SISWA!E39=0,\"\",SISWA!E39)","v":"ZIDNY ILMA NABILA"},null,91,86,92,95,91,65,null,65,null,65]
[33,{"$f":"IF(SISWA!B40=0,\"\",SISWA!B40)","v":4390},{"$f":"IF(SISWA!C40=0,\"\",SISWA!C40)","v":"0077722307"},{"$f":"IF(SISWA!D40=0,\"\",SISWA!D40)","v":"1-18-05-80-162-033-8"},{"$f":"IF(SISWA!E40=0,\"\",SISWA!E40)","v":"ZITNATUL AULIA ILLA"},null,89,79,89,95,88,80,null,80,null,80]
[34,{"$f":"IF(SISWA!B41=0,\"\",SISWA!B41)","v":4330},{"$f":"IF(SISWA!C41=0,\"\",SISWA!C41)","v":"0084736422"},{"$f":"IF(SISWA!D41=0,\"\",SISWA!D41)","v":"1-18-05-80-162-034-7"},{"$f":"IF(SISWA!E41=0,\"\",SISWA!E41)","v":"ACHID ATHIRIL ARDAN"},null,67,76,82,98,80.75,60,null,60,null,65]
[35,{"$f":"IF(SISWA!B42=0,\"\",SISWA!B42)","v":4361},{"$f":"IF(SISWA!C42=0,\"\",SISWA!C42)","v":"0075656390"},{"$f":"IF(SISWA!D42=0,\"\",SISWA!D42)","v":"1-18-05-80-162-035-6"},{"$f":"IF(SISWA!E42=0,\"\",SISWA!E42)","v":"ACHMAD SEPTIAN HAMDANI"},null,66,78,81,82,76.75,65,null,65,null,65]
[36,{"$f":"IF(SISWA!B43=0,\"\",SISWA!B43)","v":4362},{"$f":"IF(SISWA!C43=0,\"\",SISWA!C43)","v":"0071796138"},{"$f":"IF(SISWA!D43=0,\"\",SISWA!D43)","v":"1-18-05-80-162-036-5"},{"$f":"IF(SISWA!E43=0,\"\",SISWA!E43)","v":"ACHMAD SULAIMAN"},null,65,75,81,81,75.5,60,null,60,null,65]
[37,{"$f":"IF(SISWA!B44=0,\"\",SISWA!B44)","v":4364},{"$f":"IF(SISWA!C44=0,\"\",SISWA!C44)","v":"0079667684"},{"$f":"IF(SISWA!D44=0,\"\",SISWA!D44)","v":"1-18-05-80-162-037-4"},{"$f":"IF(SISWA!E44=0,\"\",SISWA!E44)","v":"AIRLANGGA DWIKA RIZQI"},null,61,84,82,89,79,60,null,60,null,65]
[38,{"$f":"IF(SISWA!B45=0,\"\",SISWA!B45)","v":4365},{"$f":"IF(SISWA!C45=0,\"\",SISWA!C45)","v":"0089321127"},{"$f":"IF(SISWA!D45=0,\"\",SISWA!D45)","v":"1-18-05-80-162-038-3"},{"$f":"IF(SISWA!E45=0,\"\",SISWA!E45)","v":"AUFAN AZKAL ABRORI"},null,66,77,82,86,77.75,60,null,60,null,65]
[39,{"$f":"IF(SISWA!B46=0,\"\",SISWA!B46)","v":4465},{"$f":"IF(SISWA!C46=0,\"\",SISWA!C46)","v":"0071776593"},{"$f":"IF(SISWA!D46=0,\"\",SISWA!D46)","v":"1-18-05-80-162-039-2"},{"$f":"IF(SISWA!E46=0,\"\",SISWA!E46)","v":"AZZA PRISHAL DWI PUTRA"},null,66,76,83,82,76.75,60,null,60,null,65]
[40,{"$f":"IF(SISWA!B47=0,\"\",SISWA!B47)","v":4368},{"$f":"IF(SISWA!C47=0,\"\",SISWA!C47)","v":"0074569410"},{"$f":"IF(SISWA!D47=0,\"\",SISWA!D47)","v":"1-18-05-80-162-040-9"},{"$f":"IF(SISWA!E47=0,\"\",SISWA!E47)","v":"EKA AULIYA` PUTRI"},null,67,78,83,99,81.75,60,null,60,null,65]
[41,{"$f":"IF(SISWA!B48=0,\"\",SISWA!B48)","v":4341},{"$f":"IF(SISWA!C48=0,\"\",SISWA!C48)","v":"0083684457"},{"$f":"IF(SISWA!D48=0,\"\",SISWA!D48)","v":"1-18-05-80-162-041-8"},{"$f":"IF(SISWA!E48=0,\"\",SISWA!E48)","v":"ERSA PUSPITA EKA ROSA LINDA"},null,66,78,85,92,80.25,60,null,60,null,65]
[42,{"$f":"IF(SISWA!B49=0,\"\",SISWA!B49)","v":4369},{"$f":"IF(SISWA!C49=0,\"\",SISWA!C49)","v":"0078481731"},{"$f":"IF(SISWA!D49=0,\"\",SISWA!D49)","v":"1-18-05-80-162-042-7"},{"$f":"IF(SISWA!E49=0,\"\",SISWA!E49)","v":"FABIYAN TRI BAKTI OKTAFIAN"},null,65,80,84,83,78,60,null,60,null,65]
[43,{"$f":"IF(SISWA!B50=0,\"\",SISWA!B50)","v":4343},{"$f":"IF(SISWA!C50=0,\"\",SISWA!C50)","v":3075965396},{"$f":"IF(SISWA!D50=0,\"\",SISWA!D50)","v":"1-18-05-80-162-043-6"},{"$f":"IF(SISWA!E50=0,\"\",SISWA!E50)","v":"FELISITA APRILIA NUR NIHAYA"},null,67,80,83,92,80.5,60,null,60,null,65]
[44,{"$f":"IF(SISWA!B51=0,\"\",SISWA!B51)","v":4344},{"$f":"IF(SISWA!C51=0,\"\",SISWA!C51)","v":3078948093},{"$f":"IF(SISWA!D51=0,\"\",SISWA!D51)","v":"1-18-05-80-162-044-5"},{"$f":"IF(SISWA!E51=0,\"\",SISWA!E51)","v":"FIRDA DWI ANDRIANI"},null,66,76,83,82,76.75,60,null,60,null,65]
[45,{"$f":"IF(SISWA!B52=0,\"\",SISWA!B52)","v":4372},{"$f":"IF(SISWA!C52=0,\"\",SISWA!C52)","v":"0087636520"},{"$f":"IF(SISWA!D52=0,\"\",SISWA!D52)","v":"1-18-05-80-162-045-4"},{"$f":"IF(SISWA!E52=0,\"\",SISWA!E52)","v":"GILANG AKBAR PRASETYO"},null,65,75,82,83,76.25,60,null,60,null,65]
[46,{"$f":"IF(SISWA!B53=0,\"\",SISWA!B53)","v":4373},{"$f":"IF(SISWA!C53=0,\"\",SISWA!C53)","v":"0087373224"},{"$f":"IF(SISWA!D53=0,\"\",SISWA!D53)","v":"1-18-05-80-162-046-3"},{"$f":"IF(SISWA!E53=0,\"\",SISWA!E53)","v":"IFTAH IZZAH EMILIA  MAHMUD"},null,68,77,85,81,77.75,60,null,60,null,65]
[47,{"$f":"IF(SISWA!B54=0,\"\",SISWA!B54)","v":4441},{"$f":"IF(SISWA!C54=0,\"\",SISWA!C54)","v":"0081758949"},{"$f":"IF(SISWA!D54=0,\"\",SISWA!D54)","v":"1-18-05-80-162-047-2"},{"$f":"IF(SISWA!E54=0,\"\",SISWA!E54)","v":"INES ARIFANI MAULINA"},null,65,80,85,89,79.75,65,null,65,null,65]
[48,{"$f":"IF(SISWA!B55=0,\"\",SISWA!B55)","v":4374},{"$f":"IF(SISWA!C55=0,\"\",SISWA!C55)","v":"0073409469"},{"$f":"IF(SISWA!D55=0,\"\",SISWA!D55)","v":"1-18-05-80-162-048-9"},{"$f":"IF(SISWA!E55=0,\"\",SISWA!E55)","v":"IYAAD AFLAKHA RAMZII"},null,66,84,84,86,80,60,null,60,null,65]
[49,{"$f":"IF(SISWA!B56=0,\"\",SISWA!B56)","v":4305},{"$f":"IF(SISWA!C56=0,\"\",SISWA!C56)","v":"0068258891"},{"$f":"IF(SISWA!D56=0,\"\",SISWA!D56)","v":"1-18-05-80-162-049-8"},{"$f":"IF(SISWA!E56=0,\"\",SISWA!E56)","v":"JULI ANDRIYANTO"},null,65,76,84,86,77.75,60,null,60,null,65]
[50,{"$f":"IF(SISWA!B57=0,\"\",SISWA!B57)","v":4347},{"$f":"IF(SISWA!C57=0,\"\",SISWA!C57)","v":"0076367763"},{"$f":"IF(SISWA!D57=0,\"\",SISWA!D57)","v":"1-18-05-80-162-050-7"},{"$f":"IF(SISWA!E57=0,\"\",SISWA!E57)","v":"LIYA FEBRIYANI"},null,79,86,90,99,88.5,60,null,60,null,65]
[51,{"$f":"IF(SISWA!B58=0,\"\",SISWA!B58)","v":4348},{"$f":"IF(SISWA!C58=0,\"\",SISWA!C58)","v":"0083034332"},{"$f":"IF(SISWA!D58=0,\"\",SISWA!D58)","v":"1-18-05-80-162-051-6"},{"$f":"IF(SISWA!E58=0,\"\",SISWA!E58)","v":"LIZATUL CHAIYUNI"},null,75,82,89,93,84.75,60,null,60,null,65]
[52,{"$f":"IF(SISWA!B59=0,\"\",SISWA!B59)","v":4531},{"$f":"IF(SISWA!C59=0,\"\",SISWA!C59)","v":3099539154},{"$f":"IF(SISWA!D59=0,\"\",SISWA!D59)","v":"1-18-05-80-162-052-5"},{"$f":"IF(SISWA!E59=0,\"\",SISWA!E59)","v":"M. ALHAFIS"},null,74,80,83,96,83.25,60,null,60,null,65]
[53,{"$f":"IF(SISWA!B60=0,\"\",SISWA!B60)","v":4530},{"$f":"IF(SISWA!C60=0,\"\",SISWA!C60)","v":"0077015789"},{"$f":"IF(SISWA!D60=0,\"\",SISWA!D60)","v":"1-18-05-80-162-053-4"},{"$f":"IF(SISWA!E60=0,\"\",SISWA!E60)","v":"MUHAMMAD RIZKI RIDWAN"},null,65,75,82,81,75.75,60,null,60,null,65]
[54,{"$f":"IF(SISWA!B61=0,\"\",SISWA!B61)","v":4351},{"$f":"IF(SISWA!C61=0,\"\",SISWA!C61)","v":"0076361559"},{"$f":"IF(SISWA!D61=0,\"\",SISWA!D61)","v":"1-18-05-80-162-054-3"},{"$f":"IF(SISWA!E61=0,\"\",SISWA!E61)","v":"MOCHAMAD RAFLI DIAN SAPUTRA"},null,66,75,81,82,76,60,null,60,null,65]
[55,{"$f":"IF(SISWA!B62=0,\"\",SISWA!B62)","v":4352},{"$f":"IF(SISWA!C62=0,\"\",SISWA!C62)","v":"0075591405"},{"$f":"IF(SISWA!D62=0,\"\",SISWA!D62)","v":"1-18-05-80-162-055-2"},{"$f":"IF(SISWA!E62=0,\"\",SISWA!E62)","v":"MOCHAMMAD AFAREL PUTRA RAMDHANA"},null,74,76,83,92,81.25,60,null,60,null,65]
[56,{"$f":"IF(SISWA!B63=0,\"\",SISWA!B63)","v":4355},{"$f":"IF(SISWA!C63=0,\"\",SISWA!C63)","v":"0075363258"},{"$f":"IF(SISWA!D63=0,\"\",SISWA!D63)","v":"1-18-05-80-162-056-9"},{"$f":"IF(SISWA!E63=0,\"\",SISWA!E63)","v":"MUHAMAD JEFRI MAULANA"},null,77,76,82,88,80.75,60,null,60,null,67.75]
[57,{"$f":"IF(SISWA!B64=0,\"\",SISWA!B64)","v":4376},{"$f":"IF(SISWA!C64=0,\"\",SISWA!C64)","v":"0072066741"},{"$f":"IF(SISWA!D64=0,\"\",SISWA!D64)","v":"1-18-05-80-162-057-8"},{"$f":"IF(SISWA!E64=0,\"\",SISWA!E64)","v":"MUHAMMAD DWI WILDAN BAGUS KURNIAWAN"},null,62,75,82,86,76.25,60,null,60,null,67]
[58,{"$f":"IF(SISWA!B65=0,\"\",SISWA!B65)","v":4377},{"$f":"IF(SISWA!C65=0,\"\",SISWA!C65)","v":"0071459044"},{"$f":"IF(SISWA!D65=0,\"\",SISWA!D65)","v":"1-18-05-80-162-058-7"},{"$f":"IF(SISWA!E65=0,\"\",SISWA!E65)","v":"MUHAMMAD FARIL FIRMANSYA"},null,63,77,82,82,76,60,null,60,null,67.166666666666657]
[59,{"$f":"IF(SISWA!B66=0,\"\",SISWA!B66)","v":4349},{"$f":"IF(SISWA!C66=0,\"\",SISWA!C66)","v":"0074206034"},{"$f":"IF(SISWA!D66=0,\"\",SISWA!D66)","v":"1-18-05-80-162-059-6"},{"$f":"IF(SISWA!E66=0,\"\",SISWA!E66)","v":"MUHAMMAD FARIZ UBAIDILLA"},null,74,79,82,87,80.5,60,null,60,null,67.166666666666657]
[60,{"$f":"IF(SISWA!B67=0,\"\",SISWA!B67)","v":4356},{"$f":"IF(SISWA!C67=0,\"\",SISWA!C67)","v":"0077937892"},{"$f":"IF(SISWA!D67=0,\"\",SISWA!D67)","v":"1-18-05-80-162-060-5"},{"$f":"IF(SISWA!E67=0,\"\",SISWA!E67)","v":"MUHAMMAD MAULANA ZIDANIL ILMI"},null,74,87,85,99,86.25,60,null,60,null,67.916666666666657]
[61,{"$f":"IF(SISWA!B68=0,\"\",SISWA!B68)","v":4357},{"$f":"IF(SISWA!C68=0,\"\",SISWA!C68)","v":"0078608527"},{"$f":"IF(SISWA!D68=0,\"\",SISWA!D68)","v":"1-18-05-80-162-061-4"},{"$f":"IF(SISWA!E68=0,\"\",SISWA!E68)","v":"MUHAMMAD SUTRISNO ISMAIL"},null,65,75,81,81,75.5,60,null,60,null,67.083333333333343]
[62,{"$f":"IF(SISWA!B69=0,\"\",SISWA!B69)","v":4381},{"$f":"IF(SISWA!C69=0,\"\",SISWA!C69)","v":"0072209435"},{"$f":"IF(SISWA!D69=0,\"\",SISWA!D69)","v":"1-18-05-80-162-062-3"},{"$f":"IF(SISWA!E69=0,\"\",SISWA!E69)","v":"NOVITA ERNIAWAN"},null,76,82,84,98,85,60,null,60,null,67.416666666666657]
[63,{"$f":"IF(SISWA!B70=0,\"\",SISWA!B70)","v":4383},{"$f":"IF(SISWA!C70=0,\"\",SISWA!C70)","v":"0077439834"},{"$f":"IF(SISWA!D70=0,\"\",SISWA!D70)","v":"1-18-05-80-162-063-2"},{"$f":"IF(SISWA!E70=0,\"\",SISWA!E70)","v":"PUTRI AULIA DWI AGUSTIN"},null,80,83,86,98,86.75,60,null,60,null,68.5]
[64,{"$f":"IF(SISWA!B71=0,\"\",SISWA!B71)","v":4385},{"$f":"IF(SISWA!C71=0,\"\",SISWA!C71)","v":"0073137310"},{"$f":"IF(SISWA!D71=0,\"\",SISWA!D71)","v":"1-18-05-80-162-064-9"},{"$f":"IF(SISWA!E71=0,\"\",SISWA!E71)","v":"STANY RAFIDAH RAHMANIA"},null,66,79,83,82,77.5,60,null,60,null,67.333333333333343]
[65,{"$f":"IF(SISWA!B72=0,\"\",SISWA!B72)","v":4387},{"$f":"IF(SISWA!C72=0,\"\",SISWA!C72)","v":"0077336427"},{"$f":"IF(SISWA!D72=0,\"\",SISWA!D72)","v":"1-18-05-80-162-065-8"},{"$f":"IF(SISWA!E72=0,\"\",SISWA!E72)","v":"USWATUN KHASANAH"},null,65,78,84,98,81.25,60,null,60,null,67.416666666666657]
[66,{"$f":"IF(SISWA!B73=0,\"\",SISWA!B73)","v":4389},{"$f":"IF(SISWA!C73=0,\"\",SISWA!C73)","v":"0078407631"},{"$f":"IF(SISWA!D73=0,\"\",SISWA!D73)","v":"1-18-05-80-162-066-7"},{"$f":"IF(SISWA!E73=0,\"\",SISWA!E73)","v":"VIKROUL KHAMILA"},null,81,77,85,94,{"$f":"AVERAGE(F73:J73)","v":84.25},60,null,{"$f":"AVERAGE(L73:M73)","v":60},null,67.416666666666657]
[67,{"$f":"IF(SISWA!B74=0,\"\",SISWA!B74)","v":""},{"$f":"IF(SISWA!C74=0,\"\",SISWA!C74)","v":""},{"$f":"IF(SISWA!D74=0,\"\",SISWA!D74)","v":""},{"$f":"IF(SISWA!E74=0,\"\",SISWA!E74)","v":""},null,null,null,null,null,{"$error":"#DIV/0!"},null,null,null,null,{"$error":"#DIV/0!"}]
[68,{"$f":"IF(SISWA!B75=0,\"\",SISWA!B75)","v":""},{"$f":"IF(SISWA!C75=0,\"\",SISWA!C75)","v":""},{"$f":"IF(SISWA!D75=0,\"\",SISWA!D75)","v":""},{"$f":"IF(SISWA!E75=0,\"\",SISWA!E75)","v":""},null,null,null,null,null,{"$error":"#DIV/0!"},null,null,null,null,{"$error":"#DIV/0!"}]
[69,{"$f":"IF(SISWA!B76=0,\"\",SISWA!B76)","v":""},{"$f":"IF(SISWA!C76=0,\"\",SISWA!C76)","v":""},{"$f":"IF(SISWA!D76=0,\"\",SISWA!D76)","v":""},{"$f":"IF(SISWA!E76=0,\"\",SISWA!E76)","v":""},null,null,null,null,null,{"$error":"#DIV/0!"},null,null,null,null,{"$error":"#DIV/0!"}]
[70,{"$f":"IF(SISWA!B77=0,\"\",SISWA!B77)","v":""},{"$f":"IF(SISWA!C77=0,\"\",SISWA!C77)","v":""},{"$f":"IF(SISWA!D77=0,\"\",SISWA!D77)","v":""},{"$f":"IF(SISWA!E77=0,\"\",SISWA!E77)","v":""},null,null,null,null,null,{"$error":"#DIV/0!"},null,null,null,null,{"$error":"#DIV/0!"}]
[71,{"$f":"IF(SISWA!B78=0,\"\",SISWA!B78)","v":""},{"$f":"IF(SISWA!C78=0,\"\",SISWA!C78)","v":""},{"$f":"IF(SISWA!D78=0,\"\",SISWA!D78)","v":""},{"$f":"IF(SISWA!E78=0,\"\",SISWA!E78)","v":""},null,null,null,null,null,{"$error":"#DIV/0!"},null,null,null,null,{"$error":"#DIV/0!"}]
[72,{"$f":"IF(SISWA!B79=0,\"\",SISWA!B79)","v":""},{"$f":"IF(SISWA!C79=0,\"\",SISWA!C79)","v":""},{"$f":"IF(SISWA!D79=0,\"\",SISWA!D79)","v":""},{"$f":"IF(SISWA!E79=0,\"\",SISWA!E79)","v":""},null,null,null,null,null,{"$error":"#DIV/0!"},null,null,null,null,{"$error":"#DIV/0!"}]
[73,{"$f":"IF(SISWA!B80=0,\"\",SISWA!B80)","v":""},{"$f":"IF(SISWA!C80=0,\"\",SISWA!C80)","v":""},{"$f":"IF(SISWA!D80=0,\"\",SISWA!D80)","v":""},{"$f":"IF(SISWA!E80=0,\"\",SISWA!E80)","v":""},null,null,null,null,null,{"$error":"#DIV/0!"},null,null,null,null,{"$error":"#DIV/0!"}]
[74,{"$f":"IF(SISWA!B81=0,\"\",SISWA!B81)","v":""},{"$f":"IF(SISWA!C81=0,\"\",SISWA!C81)","v":""},{"$f":"IF(SISWA!D81=0,\"\",SISWA!D81)","v":""},{"$f":"IF(SISWA!E81=0,\"\",SISWA!E81)","v":""},null,null,null,null,null,{"$error":"#DIV/0!"},null,null,null,null,{"$error":"#DIV/0!"}]
[75,{"$f":"IF(SISWA!B82=0,\"\",SISWA!B82)","v":""},{"$f":"IF(SISWA!C82=0,\"\",SISWA!C82)","v":""},{"$f":"IF(SISWA!D82=0,\"\",SISWA!D82)","v":""},{"$f":"IF(SISWA!E82=0,\"\",SISWA!E82)","v":""},null,null,null,null,null,{"$error":"#DIV/0!"},null,null,null,null,{"$error":"#DIV/0!"}]
[76,{"$f":"IF(SISWA!B83=0,\"\",SISWA!B83)","v":""},{"$f":"IF(SISWA!C83=0,\"\",SISWA!C83)","v":""},{"$f":"IF(SISWA!D83=0,\"\",SISWA!D83)","v":""},{"$f":"IF(SISWA!E83=0,\"\",SISWA!E83)","v":""},null,null,null,null,null,{"$error":"#DIV/0!"},null,null,null,null,{"$error":"#DIV/0!"}]
[77,{"$f":"IF(SISWA!B84=0,\"\",SISWA!B84)","v":""},{"$f":"IF(SISWA!C84=0,\"\",SISWA!C84)","v":""},{"$f":"IF(SISWA!D84=0,\"\",SISWA!D84)","v":""},{"$f":"IF(SISWA!E84=0,\"\",SISWA!E84)","v":""},null,null,null,null,null,{"$error":"#DIV/0!"},null,null,null,null,{"$error":"#DIV/0!"}]
[78,{"$f":"IF(SISWA!B85=0,\"\",SISWA!B85)","v":""},{"$f":"IF(SISWA!C85=0,\"\",SISWA!C85)","v":""},{"$f":"IF(SISWA!D85=0,\"\",SISWA!D85)","v":""},{"$f":"IF(SISWA!E85=0,\"\",SISWA!E85)","v":""},null,null,null,null,null,{"$error":"#DIV/0!"},null,null,null,null,{"$error":"#DIV/0!"}]
[79,{"$f":"IF(SISWA!B86=0,\"\",SISWA!B86)","v":""},{"$f":"IF(SISWA!C86=0,\"\",SISWA!C86)","v":""},{"$f":"IF(SISWA!D86=0,\"\",SISWA!D86)","v":""},{"$f":"IF(SISWA!E86=0,\"\",SISWA!E86)","v":""},null,null,null,null,null,{"$error":"#DIV/0!"},null,null,null,null,{"$error":"#DIV/0!"}]
[80,{"$f":"IF(SISWA!B87=0,\"\",SISWA!B87)","v":""},{"$f":"IF(SISWA!C87=0,\"\",SISWA!C87)","v":""},{"$f":"IF(SISWA!D87=0,\"\",SISWA!D87)","v":""},{"$f":"IF(SISWA!E87=0,\"\",SISWA!E87)","v":""},null,null,null,null,null,{"$error":"#DIV/0!"},null,null,null,null,{"$error":"#DIV/0!"}]
[81,{"$f":"IF(SISWA!B88=0,\"\",SISWA!B88)","v":""},{"$f":"IF(SISWA!C88=0,\"\",SISWA!C88)","v":""},{"$f":"IF(SISWA!D88=0,\"\",SISWA!D88)","v":""},{"$f":"IF(SISWA!E88=0,\"\",SISWA!E88)","v":""},null,null,null,null,null,{"$error":"#DIV/0!"},null,null,null,null,{"$error":"#DIV/0!"}]
[82,{"$f":"IF(SISWA!B89=0,\"\",SISWA!B89)","v":""},{"$f":"IF(SISWA!C89=0,\"\",SISWA!C89)","v":""},{"$f":"IF(SISWA!D89=0,\"\",SISWA!D89)","v":""},{"$f":"IF(SISWA!E89=0,\"\",SISWA!E89)","v":""},null,null,null,null,null,{"$error":"#DIV/0!"},null,null,null,null,{"$error":"#DIV/0!"}]
[83,{"$f":"IF(SISWA!B90=0,\"\",SISWA!B90)","v":""},{"$f":"IF(SISWA!C90=0,\"\",SISWA!C90)","v":""},{"$f":"IF(SISWA!D90=0,\"\",SISWA!D90)","v":""},{"$f":"IF(SISWA!E90=0,\"\",SISWA!E90)","v":""},null,null,null,null,null,{"$error":"#DIV/0!"},null,null,null,null,{"$error":"#DIV/0!"}]
[84,{"$f":"IF(SISWA!B91=0,\"\",SISWA!B91)","v":""},{"$f":"IF(SISWA!C91=0,\"\",SISWA!C91)","v":""},{"$f":"IF(SISWA!D91=0,\"\",SISWA!D91)","v":""},{"$f":"IF(SISWA!E91=0,\"\",SISWA!E91)","v":""},null,null,null,null,null,{"$error":"#DIV/0!"},null,null,null,null,{"$error":"#DIV/0!"}]
[85,{"$f":"IF(SISWA!B92=0,\"\",SISWA!B92)","v":""},{"$f":"IF(SISWA!C92=0,\"\",SISWA!C92)","v":""},{"$f":"IF(SISWA!D92=0,\"\",SISWA!D92)","v":""},{"$f":"IF(SISWA!E92=0,\"\",SISWA!E92)","v":""},null,null,null,null,null,{"$error":"#DIV/0!"},null,null,null,null,{"$error":"#DIV/0!"}]
[86,{"$f":"IF(SISWA!B93=0,\"\",SISWA!B93)","v":""},{"$f":"IF(SISWA!C93=0,\"\",SISWA!C93)","v":""},{"$f":"IF(SISWA!D93=0,\"\",SISWA!D93)","v":""},{"$f":"IF(SISWA!E93=0,\"\",SISWA!E93)","v":""},null,null,null,null,null,{"$error":"#DIV/0!"},null,null,null,null,{"$error":"#DIV/0!"}]
[87,{"$f":"IF(SISWA!B94=0,\"\",SISWA!B94)","v":""},{"$f":"IF(SISWA!C94=0,\"\",SISWA!C94)","v":""},{"$f":"IF(SISWA!D94=0,\"\",SISWA!D94)","v":""},{"$f":"IF(SISWA!E94=0,\"\",SISWA!E94)","v":""},null,null,null,null,null,{"$error":"#DIV/0!"},null,null,null,null,{"$error":"#DIV/0!"}]
[88,{"$f":"IF(SISWA!B95=0,\"\",SISWA!B95)","v":""},{"$f":"IF(SISWA!C95=0,\"\",SISWA!C95)","v":""},{"$f":"IF(SISWA!D95=0,\"\",SISWA!D95)","v":""},{"$f":"IF(SISWA!E95=0,\"\",SISWA!E95)","v":""},null,null,null,null,null,{"$error":"#DIV/0!"},null,null,null,null,{"$error":"#DIV/0!"}]
[89,{"$f":"IF(SISWA!B96=0,\"\",SISWA!B96)","v":""},{"$f":"IF(SISWA!C96=0,\"\",SISWA!C96)","v":""},{"$f":"IF(SISWA!D96=0,\"\",SISWA!D96)","v":""},{"$f":"IF(SISWA!E96=0,\"\",SISWA!E96)","v":""},null,null,null,null,null,{"$error":"#DIV/0!"},null,null,null,null,{"$error":"#DIV/0!"}]
[90,{"$f":"IF(SISWA!B97=0,\"\",SISWA!B97)","v":""},{"$f":"IF(SISWA!C97=0,\"\",SISWA!C97)","v":""},{"$f":"IF(SISWA!D97=0,\"\",SISWA!D97)","v":""},{"$f":"IF(SISWA!E97=0,\"\",SISWA!E97)","v":""},null,null,null,null,null,{"$error":"#DIV/0!"},null,null,null,null,{"$error":"#DIV/0!"}]
[91,{"$f":"IF(SISWA!B98=0,\"\",SISWA!B98)","v":""},{"$f":"IF(SISWA!C98=0,\"\",SISWA!C98)","v":""},{"$f":"IF(SISWA!D98=0,\"\",SISWA!D98)","v":""},{"$f":"IF(SISWA!E98=0,\"\",SISWA!E98)","v":""},null,null,null,null,null,{"$error":"#DIV/0!"},null,null,null,null,{"$error":"#DIV/0!"}]
[92,{"$f":"IF(SISWA!B99=0,\"\",SISWA!B99)","v":""},{"$f":"IF(SISWA!C99=0,\"\",SISWA!C99)","v":""},{"$f":"IF(SISWA!D99=0,\"\",SISWA!D99)","v":""},{"$f":"IF(SISWA!E99=0,\"\",SISWA!E99)","v":""},null,null,null,null,null,{"$error":"#DIV/0!"},null,null,null,null,{"$error":"#DIV/0!"}]
[93,{"$f":"IF(SISWA!B100=0,\"\",SISWA!B100)","v":""},{"$f":"IF(SISWA!C100=0,\"\",SISWA!C100)","v":""},{"$f":"IF(SISWA!D100=0,\"\",SISWA!D100)","v":""},{"$f":"IF(SISWA!E100=0,\"\",SISWA!E100)","v":""},null,null,null,null,null,{"$error":"#DIV/0!"},null,null,null,null,{"$error":"#DIV/0!"}]
[94,{"$f":"IF(SISWA!B101=0,\"\",SISWA!B101)","v":""},{"$f":"IF(SISWA!C101=0,\"\",SISWA!C101)","v":""},{"$f":"IF(SISWA!D101=0,\"\",SISWA!D101)","v":""},{"$f":"IF(SISWA!E101=0,\"\",SISWA!E101)","v":""},null,null,null,null,null,{"$error":"#DIV/0!"},null,null,null,null,{"$error":"#DIV/0!"}]
[95,{"$f":"IF(SISWA!B102=0,\"\",SISWA!B102)","v":""},{"$f":"IF(SISWA!C102=0,\"\",SISWA!C102)","v":""},{"$f":"IF(SISWA!D102=0,\"\",SISWA!D102)","v":""},{"$f":"IF(SISWA!E102=0,\"\",SISWA!E102)","v":""},null,null,null,null,null,{"$error":"#DIV/0!"},null,null,null,null,{"$error":"#DIV/0!"}]
[96,{"$f":"IF(SISWA!B103=0,\"\",SISWA!B103)","v":""},{"$f":"IF(SISWA!C103=0,\"\",SISWA!C103)","v":""},{"$f":"IF(SISWA!D103=0,\"\",SISWA!D103)","v":""},{"$f":"IF(SISWA!E103=0,\"\",SISWA!E103)","v":""},null,null,null,null,null,{"$error":"#DIV/0!"},null,null,null,null,{"$error":"#DIV/0!"}]
[97,{"$f":"IF(SISWA!B104=0,\"\",SISWA!B104)","v":""},{"$f":"IF(SISWA!C104=0,\"\",SISWA!C104)","v":""},{"$f":"IF(SISWA!D104=0,\"\",SISWA!D104)","v":""},{"$f":"IF(SISWA!E104=0,\"\",SISWA!E104)","v":""},null,null,null,null,null,{"$error":"#DIV/0!"},null,null,null,null,{"$error":"#DIV/0!"}]
[98,{"$f":"IF(SISWA!B105=0,\"\",SISWA!B105)","v":""},{"$f":"IF(SISWA!C105=0,\"\",SISWA!C105)","v":""},{"$f":"IF(SISWA!D105=0,\"\",SISWA!D105)","v":""},{"$f":"IF(SISWA!E105=0,\"\",SISWA!E105)","v":""},null,null,null,null,null,{"$error":"#DIV/0!"},null,null,null,null,{"$error":"#DIV/0!"}]
[99,{"$f":"IF(SISWA!B106=0,\"\",SISWA!B106)","v":""},{"$f":"IF(SISWA!C106=0,\"\",SISWA!C106)","v":""},{"$f":"IF(SISWA!D106=0,\"\",SISWA!D106)","v":""},{"$f":"IF(SISWA!E106=0,\"\",SISWA!E106)","v":""},null,null,null,null,null,{"$error":"#DIV/0!"},null,null,null,null,{"$error":"#DIV/0!"}]
[100,{"$f":"IF(SISWA!B107=0,\"\",SISWA!B107)","v":""},{"$f":"IF(SISWA!C107=0,\"\",SISWA!C107)","v":""},{"$f":"IF(SISWA!D107=0,\"\",SISWA!D107)","v":""},{"$f":"IF(SISWA!E107=0,\"\",SISWA!E107)","v":""},null,null,null,null,null,{"$error":"#DIV/0!"},null,null,null,null,{"$error":"#DIV/0!"}]
[101,{"$f":"IF(SISWA!B108=0,\"\",SISWA!B108)","v":""},{"$f":"IF(SISWA!C108=0,\"\",SISWA!C108)","v":""},{"$f":"IF(SISWA!D108=0,\"\",SISWA!D108)","v":""},{"$f":"IF(SISWA!E108=0,\"\",SISWA!E108)","v":""},null,null,null,null,null,{"$error":"#DIV/0!"},null,null,null,null,{"$error":"#DIV/0!"}]

{"sheet":"BA","index":8,"n_rows":108,"n_cols":16,"rows_kept":108,"cut":false,"hidden":false,"merged":[[4,14,6,14],[5,11,5,12],[0,0,0,9],[1,0,1,9],[2,0,2,9],[4,0,6,0],[4,1,6,1],[4,2,6,2],[4,3,6,3],[4,4,6,4],[4,5,4,12],[5,5,5,9]]}
["DAFTAR NILAI AKHIR SEKOLAH"]
[{"$f":"AA!A2","v":"MADRASAH IBTIDAIYAH NURUL ISLAM LABRUK KIDUL"}]
[{"$f":"AA!A3","v":"TAHUN PELAJARAN 2019/2020"}]
[]
["NO","No Induk","NISN","Nomor Peserta","Nama Peserta","BAHASA ARAB",null,null,null,null,null,null,null,null,"rata-rata UAM & PRAKTEK"]
[null,null,null,null,null,"Nilai Semester",null,null,null,null,"Rata- 2","NILAI UAMBD",null,null,null,"UAMNU"]
[null,null,null,null,null,7,8,9,10,11,"Rapor","TULIS","PRAKTIK",null,null,"TULIS"]
[1,{"$f":"IF(SISWA!B8=0,\"\",SISWA!B8)","v":4331},{"$f":"IF(SISWA!C8=0,\"\",SISWA!C8)","v":"0078140536"},{"$f":"IF(SISWA!D8=0,\"\",SISWA!D8)","v":"1-18-05-80-162-001-8"},{"$f":"IF(SISWA!E8=0,\"\",SISWA!E8)","v":"ACHMAD FATHIR IZUDDIN"},null,66,83,87,86,{"$f":"AVERAGE(F8:J8)","v":80.5},70,{"$f":"AVERAGE(H8:L8)","v":81.3},{"$f":"AVERAGE(L8:M8)","v":75.650000000000006},{"$f":"AVERAGE(L8:M8)","v":75.650000000000006},75.650000000000006]
[2,{"$f":"IF(SISWA!B9=0,\"\",SISWA!B9)","v":4333},{"$f":"IF(SISWA!C9=0,\"\",SISWA!C9)","v":"0084691896"},{"$f":"IF(SISWA!D9=0,\"\",SISWA!D9)","v":"1-18-05-80-162-002-7"},{"$f":"IF(SISWA!E9=0,\"\",SISWA!E9)","v":"AININ NAFISA FEBRIYANTI"},null,70,85,90,93,{"$f":"AVERAGE(F9:J9)","v":84.5},60,82.5,{"$f":"AVERAGE(L9:M9)","v":71.25},{"$f":"AVERAGE(L9:M9)","v":71.25},71.25]
[3,{"$f":"IF(SISWA!B10=0,\"\",SISWA!B10)","v":4334},{"$f":"IF(SISWA!C10=0,\"\",SISWA!C10)","v":"0075488897"},{"$f":"IF(SISWA!D10=0,\"\",SISWA!D10)","v":"1-18-05-80-162-003-6"},{"$f":"IF(SISWA!E10=0,\"\",SISWA!E10)","v":"AISYAH DWI ANDINI"},null,70,89,90,98,86.75,60,84.75,72.375,72.375,72.375]
[4,{"$f":"IF(SISWA!B11=0,\"\",SISWA!B11)","v":4335},{"$f":"IF(SISWA!C11=0,\"\",SISWA!C11)","v":"0077554289"},{"$f":"IF(SISWA!D11=0,\"\",SISWA!D11)","v":"1-18-05-80-162-004-5"},{"$f":"IF(SISWA!E11=0,\"\",SISWA!E11)","v":"AJENG AGUSTINA KIRANA PUTRI"},null,70,87,89,93,84.75,60,82.75,71.375,71.375,71.375]
[5,{"$f":"IF(SISWA!B12=0,\"\",SISWA!B12)","v":4336},{"$f":"IF(SISWA!C12=0,\"\",SISWA!C12)","v":"0078831956"},{"$f":"IF(SISWA!D12=0,\"\",SISWA!D12)","v":"1-18-05-80-162-005-4"},{"$f":"IF(SISWA!E12=0,\"\",SISWA!E12)","v":"ALVIAN FAIZULHAQQI"},null,68,83,89,83,80.75,60,79.150000000000006,69.575000000000003,69.575000000000003,69.575000000000003]
[6,{"$f":"IF(SISWA!B13=0,\"\",SISWA!B13)","v":4337},{"$f":"IF(SISWA!C13=0,\"\",SISWA!C13)","v":"0073667130"},{"$f":"IF(SISWA!D13=0,\"\",SISWA!D13)","v":"1-18-05-80-162-006-3"},{"$f":"IF(SISWA!E13=0,\"\",SISWA!E13)","v":"ANGGITA RIZKY YUGA MEISYA"},null,74,84,88,97,85.75,60,82.95,71.474999999999994,71.474999999999994,71.474999999999994]
[7,{"$f":"IF(SISWA!B14=0,\"\",SISWA!B14)","v":4338},{"$f":"IF(SISWA!C14=0,\"\",SISWA!C14)","v":"0074492973"},{"$f":"IF(SISWA!D14=0,\"\",SISWA!D14)","v":"1-18-05-80-162-007-2"},{"$f":"IF(SISWA!E14=0,\"\",SISWA!E14)","v":"AURA SALSABILA WULAN SARI"},null,71,84,89,88,83,60,80.8,70.400000000000006,70.400000000000006,70.400000000000006]
[8,{"$f":"IF(SISWA!B15=0,\"\",SISWA!B15)","v":4366},{"$f":"IF(SISWA!C15=0,\"\",SISWA!C15)","v":"0078989673"},{"$f":"IF(SISWA!D15=0,\"\",SISWA!D15)","v":"1-18-05-80-162-008-9"},{"$f":"IF(SISWA!E15=0,\"\",SISWA!E15)","v":"BALQIS NAILA AUDIA"},null,81,89,93,97,90,70,87.8,78.900000000000006,78.900000000000006,78.900000000000006]
[9,{"$f":"IF(SISWA!B16=0,\"\",SISWA!B16)","v":4440},{"$f":"IF(SISWA!C16=0,\"\",SISWA!C16)","v":"0082763386"},{"$f":"IF(SISWA!D16=0,\"\",SISWA!D16)","v":"1-18-05-80-162-009-8"},{"$f":"IF(SISWA!E16=0,\"\",SISWA!E16)","v":"BIMA ARYO SUSILO"},null,70,83,89,88,82.5,60,80.5,70.25,70.25,70.25]
[10,{"$f":"IF(SISWA!B17=0,\"\",SISWA!B17)","v":4367},{"$f":"IF(SISWA!C17=0,\"\",SISWA!C17)","v":"0078400392"},{"$f":"IF(SISWA!D17=0,\"\",SISWA!D17)","v":"1-18-05-80-162-010-7"},{"$f":"IF(SISWA!E17=0,\"\",SISWA!E17)","v":"BIMA SATRIA DIRGANTARA"},null,72,83,89,93,84.25,60,81.849999999999994,70.924999999999997,70.924999999999997,70.924999999999997]
[11,{"$f":"IF(SISWA!B18=0,\"\",SISWA!B18)","v":4339},{"$f":"IF(SISWA!C18=0,\"\",SISWA!C18)","v":"0086652599"},{"$f":"IF(SISWA!D18=0,\"\",SISWA!D18)","v":"1-18-05-80-162-011-6"},{"$f":"IF(SISWA!E18=0,\"\",SISWA!E18)","v":"DEVI KARUNIA RATNA PUTRI"},null,70,87,89,93,84.75,60,82.75,71.375,71.375,71.375]
[12,{"$f":"IF(SISWA!B19=0,\"\",SISWA!B19)","v":4340},{"$f":"IF(SISWA!C19=0,\"\",SISWA!C19)","v":"0089906682"},{"$f":"IF(SISWA!D19=0,\"\",SISWA!D19)","v":"1-18-05-80-162-012-5"},{"$f":"IF(SISWA!E19=0,\"\",SISWA!E19)","v":"DEVITA FEBRIANI PUTRI"},null,70,84,89,88,82.75,60,80.75,70.375,70.375,70.375]
[13,{"$f":"IF(SISWA!B20=0,\"\",SISWA!B20)","v":4370},{"$f":"IF(SISWA!C20=0,\"\",SISWA!C20)","v":"0074514146"},{"$f":"IF(SISWA!D20=0,\"\",SISWA!D20)","v":"1-18-05-80-162-013-4"},{"$f":"IF(SISWA!E20=0,\"\",SISWA!E20)","v":"FAKHIS GABRIL LIA"},null,74,87,89,98,87,60,84.2,72.099999999999994,72.099999999999994,72.099999999999994]
[14,{"$f":"IF(SISWA!B21=0,\"\",SISWA!B21)","v":4342},{"$f":"IF(SISWA!C21=0,\"\",SISWA!C21)","v":"0081081672"},{"$f":"IF(SISWA!D21=0,\"\",SISWA!D21)","v":"1-18-05-80-162-014-3"},{"$f":"IF(SISWA!E21=0,\"\",SISWA!E21)","v":"FARAH NAILATUL ALYAH"},null,78,84,89,93,86,60,82.4,71.2,71.2,71.2]
[15,{"$f":"IF(SISWA!B22=0,\"\",SISWA!B22)","v":4345},{"$f":"IF(SISWA!C22=0,\"\",SISWA!C22)","v":"0073420487"},{"$f":"IF(SISWA!D22=0,\"\",SISWA!D22)","v":"1-18-05-80-162-015-2"},{"$f":"IF(SISWA!E22=0,\"\",SISWA!E22)","v":"GALANG MARDHOTILLAH SATOTO"},null,69,83,89,88,82.25,60,80.45,70.224999999999994,70.224999999999994,70.224999999999994]
[16,{"$f":"IF(SISWA!B23=0,\"\",SISWA!B23)","v":4371},{"$f":"IF(SISWA!C23=0,\"\",SISWA!C23)","v":"0079870082"},{"$f":"IF(SISWA!D23=0,\"\",SISWA!D23)","v":"1-18-05-80-162-016-9"},{"$f":"IF(SISWA!E23=0,\"\",SISWA!E23)","v":"GALIH FAREL PRASTYO"},null,73,86,89,88,84,60,81.400000000000006,70.7,70.7,70.7]
[17,{"$f":"IF(SISWA!B24=0,\"\",SISWA!B24)","v":4466},{"$f":"IF(SISWA!C24=0,\"\",SISWA!C24)","v":"0081629504"},{"$f":"IF(SISWA!D24=0,\"\",SISWA!D24)","v":"1-18-05-80-162-017-8"},{"$f":"IF(SISWA!E24=0,\"\",SISWA!E24)","v":"HIBATULLAH MUSTAGHFIRY RUSLI"},null,78,83,89,83,83.25,60,79.650000000000006,69.825000000000003,69.825000000000003,69.825000000000003]
[18,{"$f":"IF(SISWA!B25=0,\"\",SISWA!B25)","v":4346},{"$f":"IF(SISWA!C25=0,\"\",SISWA!C25)","v":"0073608418"},{"$f":"IF(SISWA!D25=0,\"\",SISWA!D25)","v":"1-18-05-80-162-018-7"},{"$f":"IF(SISWA!E25=0,\"\",SISWA!E25)","v":"IKA KURNIA WATI AGUSTINA"},null,70,82,89,88,82.25,60,80.25,70.125,70.125,70.125]
[19,{"$f":"IF(SISWA!B26=0,\"\",SISWA!B26)","v":4350},{"$f":"IF(SISWA!C26=0,\"\",SISWA!C26)","v":"0072658586"},{"$f":"IF(SISWA!D26=0,\"\",SISWA!D26)","v":"1-18-05-80-162-019-6"},{"$f":"IF(SISWA!E26=0,\"\",SISWA!E26)","v":"MAYLUNA EKA PRATIWI"},null,80,84,89,98,87.75,60,83.75,71.875,71.875,71.875]
[20,{"$f":"IF(SISWA!B27=0,\"\",SISWA!B27)","v":4353},{"$f":"IF(SISWA!C27=0,\"\",SISWA!C27)","v":"0075464137"},{"$f":"IF(SISWA!D27=0,\"\",SISWA!D27)","v":"1-18-05-80-162-020-5"},{"$f":"IF(SISWA!E27=0,\"\",SISWA!E27)","v":"MOHAMAD DWIMAS FIRDAUS"},null,68,81,88,83,80,60,78.400000000000006,69.2,69.2,69.2]
[21,{"$f":"IF(SISWA!B28=0,\"\",SISWA!B28)","v":4375},{"$f":"IF(SISWA!C28=0,\"\",SISWA!C28)","v":"0075096831"},{"$f":"IF(SISWA!D28=0,\"\",SISWA!D28)","v":"1-18-05-80-162-021-4"},{"$f":"IF(SISWA!E28=0,\"\",SISWA!E28)","v":"MUHAMMAD AFFAN ABI SYAHPUTRA"},null,73,83,89,83,82,60,79.400000000000006,69.7,69.7,69.7]
[22,{"$f":"IF(SISWA!B29=0,\"\",SISWA!B29)","v":4354},{"$f":"IF(SISWA!C29=0,\"\",SISWA!C29)","v":"0075055640"},{"$f":"IF(SISWA!D29=0,\"\",SISWA!D29)","v":"1-18-05-80-162-022-3"},{"$f":"IF(SISWA!E29=0,\"\",SISWA!E29)","v":"MUHAMMAD ALVIN RIDHO"},null,66,81,88,83,79.5,60,78.3,69.150000000000006,69.150000000000006,69.150000000000006]
[23,{"$f":"IF(SISWA!B30=0,\"\",SISWA!B30)","v":4378},{"$f":"IF(SISWA!C30=0,\"\",SISWA!C30)","v":"0074268893"},{"$f":"IF(SISWA!D30=0,\"\",SISWA!D30)","v":"1-18-05-80-162-023-2"},{"$f":"IF(SISWA!E30=0,\"\",SISWA!E30)","v":"MUKHAMAD DAVID ARIF FIRDAUS"},null,81,89,92,93,88.75,60,84.55,72.275000000000006,72.275000000000006,72.275000000000006]
[24,{"$f":"IF(SISWA!B31=0,\"\",SISWA!B31)","v":4379},{"$f":"IF(SISWA!C31=0,\"\",SISWA!C31)","v":"0072757203"},{"$f":"IF(SISWA!D31=0,\"\",SISWA!D31)","v":"1-18-05-80-162-024-9"},{"$f":"IF(SISWA!E31=0,\"\",SISWA!E31)","v":"NAORA ISQI AINAYYA"},null,87,93,93,98,92.75,75,90.35,82.674999999999997,82.674999999999997,82.674999999999997]
[25,{"$f":"IF(SISWA!B32=0,\"\",SISWA!B32)","v":4380},{"$f":"IF(SISWA!C32=0,\"\",SISWA!C32)","v":"0079026285"},{"$f":"IF(SISWA!D32=0,\"\",SISWA!D32)","v":"1-18-05-80-162-025-8"},{"$f":"IF(SISWA!E32=0,\"\",SISWA!E32)","v":"NAZRA ISLAMAY PASHA"},null,82,89,94,98,90.75,70,88.35,79.174999999999997,79.174999999999997,79.174999999999997]
[26,{"$f":"IF(SISWA!B33=0,\"\",SISWA!B33)","v":4382},{"$f":"IF(SISWA!C33=0,\"\",SISWA!C33)","v":"0079872151"},{"$f":"IF(SISWA!D33=0,\"\",SISWA!D33)","v":"1-18-05-80-162-026-7"},{"$f":"IF(SISWA!E33=0,\"\",SISWA!E33)","v":"NUR ALYA NABILA"},null,75,87,91,98,87.75,60,84.75,72.375,72.375,72.375]
[27,{"$f":"IF(SISWA!B34=0,\"\",SISWA!B34)","v":4358},{"$f":"IF(SISWA!C34=0,\"\",SISWA!C34)","v":"0087558837"},{"$f":"IF(SISWA!D34=0,\"\",SISWA!D34)","v":"1-18-05-80-162-027-6"},{"$f":"IF(SISWA!E34=0,\"\",SISWA!E34)","v":"PUTRI SHOLIKHAH"},null,71,83,90,93,84.25,60,82.05,71.025000000000006,71.025000000000006,71.025000000000006]
[28,{"$f":"IF(SISWA!B35=0,\"\",SISWA!B35)","v":4384},{"$f":"IF(SISWA!C35=0,\"\",SISWA!C35)","v":"0071234523"},{"$f":"IF(SISWA!D35=0,\"\",SISWA!D35)","v":"1-18-05-80-162-028-5"},{"$f":"IF(SISWA!E35=0,\"\",SISWA!E35)","v":"RESTI FITRIANTI DWI OCTAVIANI"},null,74,83,90,93,85,60,82.2,71.099999999999994,71.099999999999994,71.099999999999994]
[29,{"$f":"IF(SISWA!B36=0,\"\",SISWA!B36)","v":4359},{"$f":"IF(SISWA!C36=0,\"\",SISWA!C36)","v":"0073122181"},{"$f":"IF(SISWA!D36=0,\"\",SISWA!D36)","v":"1-18-05-80-162-029-4"},{"$f":"IF(SISWA!E36=0,\"\",SISWA!E36)","v":"ROUDHOTUS SA'DIYAH"},null,76,81,89,93,84.75,60,81.55,70.775000000000006,70.775000000000006,70.775000000000006]
[30,{"$f":"IF(SISWA!B37=0,\"\",SISWA!B37)","v":4386},{"$f":"IF(SISWA!C37=0,\"\",SISWA!C37)","v":"0075344352"},{"$f":"IF(SISWA!D37=0,\"\",SISWA!D37)","v":"1-18-05-80-162-030-3"},{"$f":"IF(SISWA!E37=0,\"\",SISWA!E37)","v":"TIERSYA BETA RAMANUZAN"},null,87,88,90,93,89.5,60,84.1,72.05,72.05,72.05]
[31,{"$f":"IF(SISWA!B38=0,\"\",SISWA!B38)","v":4388},{"$f":"IF(SISWA!C38=0,\"\",SISWA!C38)","v":"0077423646"},{"$f":"IF(SISWA!D38=0,\"\",SISWA!D38)","v":"1-18-05-80-162-031-2"},{"$f":"IF(SISWA!E38=0,\"\",SISWA!E38)","v":"VERA MUSTIKA"},null,75,85,92,90,85.5,60,82.5,71.25,71.25,71.25]
[32,{"$f":"IF(SISWA!B39=0,\"\",SISWA!B39)","v":4360},{"$f":"IF(SISWA!C39=0,\"\",SISWA!C39)","v":"0077290990"},{"$f":"IF(SISWA!D39=0,\"\",SISWA!D39)","v":"1-18-05-80-162-032-9"},{"$f":"IF(SISWA!E39=0,\"\",SISWA!E39)","v":"ZIDNY ILMA NABILA"},null,91,94,94,98,94.25,60,88.05,74.025000000000006,74.025000000000006,74.025000000000006]
[33,{"$f":"IF(SISWA!B40=0,\"\",SISWA!B40)","v":4390},{"$f":"IF(SISWA!C40=0,\"\",SISWA!C40)","v":"0077722307"},{"$f":"IF(SISWA!D40=0,\"\",SISWA!D40)","v":"1-18-05-80-162-033-8"},{"$f":"IF(SISWA!E40=0,\"\",SISWA!E40)","v":"ZITNATUL AULIA ILLA"},null,92,95,94,98,94.75,85,93.35,89.174999999999997,89.174999999999997,89.174999999999997]
[34,{"$f":"IF(SISWA!B41=0,\"\",SISWA!B41)","v":4330},{"$f":"IF(SISWA!C41=0,\"\",SISWA!C41)","v":"0084736422"},{"$f":"IF(SISWA!D41=0,\"\",SISWA!D41)","v":"1-18-05-80-162-034-7"},{"$f":"IF(SISWA!E41=0,\"\",SISWA!E41)","v":"ACHID ATHIRIL ARDAN"},null,68,80,86,85,79.75,60,78.150000000000006,69.075000000000003,69.075000000000003,67.166666666666657]
[35,{"$f":"IF(SISWA!B42=0,\"\",SISWA!B42)","v":4361},{"$f":"IF(SISWA!C42=0,\"\",SISWA!C42)","v":"0075656390"},{"$f":"IF(SISWA!D42=0,\"\",SISWA!D42)","v":"1-18-05-80-162-035-6"},{"$f":"IF(SISWA!E42=0,\"\",SISWA!E42)","v":"ACHMAD SEPTIAN HAMDANI"},null,68,80,86,88,80.5,60,78.900000000000006,69.45,69.45,67.166666666666657]
[36,{"$f":"IF(SISWA!B43=0,\"\",SISWA!B43)","v":4362},{"$f":"IF(SISWA!C43=0,\"\",SISWA!C43)","v":"0071796138"},{"$f":"IF(SISWA!D43=0,\"\",SISWA!D43)","v":"1-18-05-80-162-036-5"},{"$f":"IF(SISWA!E43=0,\"\",SISWA!E43)","v":"ACHMAD SULAIMAN"},null,67,80,86,88,80.25,60,78.849999999999994,69.424999999999997,69.424999999999997,67.083333333333343]
[37,{"$f":"IF(SISWA!B44=0,\"\",SISWA!B44)","v":4364},{"$f":"IF(SISWA!C44=0,\"\",SISWA!C44)","v":"0079667684"},{"$f":"IF(SISWA!D44=0,\"\",SISWA!D44)","v":"1-18-05-80-162-037-4"},{"$f":"IF(SISWA!E44=0,\"\",SISWA!E44)","v":"AIRLANGGA DWIKA RIZQI"},null,69,80,86,85,80,60,78.2,69.099999999999994,69.099999999999994,67.25]
[38,{"$f":"IF(SISWA!B45=0,\"\",SISWA!B45)","v":4365},{"$f":"IF(SISWA!C45=0,\"\",SISWA!C45)","v":"0089321127"},{"$f":"IF(SISWA!D45=0,\"\",SISWA!D45)","v":"1-18-05-80-162-038-3"},{"$f":"IF(SISWA!E45=0,\"\",SISWA!E45)","v":"AUFAN AZKAL ABRORI"},null,71,82,87,88,82,60,79.8,69.900000000000006,69.900000000000006,67.666666666666657]
[39,{"$f":"IF(SISWA!B46=0,\"\",SISWA!B46)","v":4465},{"$f":"IF(SISWA!C46=0,\"\",SISWA!C46)","v":"0071776593"},{"$f":"IF(SISWA!D46=0,\"\",SISWA!D46)","v":"1-18-05-80-162-039-2"},{"$f":"IF(SISWA!E46=0,\"\",SISWA!E46)","v":"AZZA PRISHAL DWI PUTRA"},null,72,81,86,88,81.75,60,79.349999999999994,69.674999999999997,69.674999999999997,67.5]
[40,{"$f":"IF(SISWA!B47=0,\"\",SISWA!B47)","v":4368},{"$f":"IF(SISWA!C47=0,\"\",SISWA!C47)","v":"0074569410"},{"$f":"IF(SISWA!D47=0,\"\",SISWA!D47)","v":"1-18-05-80-162-040-9"},{"$f":"IF(SISWA!E47=0,\"\",SISWA!E47)","v":"EKA AULIYA` PUTRI"},null,73,84,89,88,83.5,60,80.900000000000006,70.45,70.45,68.333333333333343]
[41,{"$f":"IF(SISWA!B48=0,\"\",SISWA!B48)","v":4341},{"$f":"IF(SISWA!C48=0,\"\",SISWA!C48)","v":"0083684457"},{"$f":"IF(SISWA!D48=0,\"\",SISWA!D48)","v":"1-18-05-80-162-041-8"},{"$f":"IF(SISWA!E48=0,\"\",SISWA!E48)","v":"ERSA PUSPITA EKA ROSA LINDA"},null,68,87,87,88,82.5,60,80.900000000000006,70.45,70.45,67.416666666666657]
[42,{"$f":"IF(SISWA!B49=0,\"\",SISWA!B49)","v":4369},{"$f":"IF(SISWA!C49=0,\"\",SISWA!C49)","v":"0078481731"},{"$f":"IF(SISWA!D49=0,\"\",SISWA!D49)","v":"1-18-05-80-162-042-7"},{"$f":"IF(SISWA!E49=0,\"\",SISWA!E49)","v":"FABIYAN TRI BAKTI OKTAFIAN"},null,68,85,89,88,82.5,60,80.900000000000006,70.45,70.45,67.916666666666657]
[43,{"$f":"IF(SISWA!B50=0,\"\",SISWA!B50)","v":4343},{"$f":"IF(SISWA!C50=0,\"\",SISWA!C50)","v":3075965396},{"$f":"IF(SISWA!D50=0,\"\",SISWA!D50)","v":"1-18-05-80-162-043-6"},{"$f":"IF(SISWA!E50=0,\"\",SISWA!E50)","v":"FELISITA APRILIA NUR NIHAYA"},null,71,83,87,88,82.25,60,80.05,70.025000000000006,70.025000000000006,67.666666666666657]
[44,{"$f":"IF(SISWA!B51=0,\"\",SISWA!B51)","v":4344},{"$f":"IF(SISWA!C51=0,\"\",SISWA!C51)","v":3078948093},{"$f":"IF(SISWA!D51=0,\"\",SISWA!D51)","v":"1-18-05-80-162-044-5"},{"$f":"IF(SISWA!E51=0,\"\",SISWA!E51)","v":"FIRDA DWI ANDRIANI"},null,67,80,86,88,80.25,60,78.849999999999994,69.424999999999997,69.424999999999997,67.083333333333343]
[45,{"$f":"IF(SISWA!B52=0,\"\",SISWA!B52)","v":4372},{"$f":"IF(SISWA!C52=0,\"\",SISWA!C52)","v":"0087636520"},{"$f":"IF(SISWA!D52=0,\"\",SISWA!D52)","v":"1-18-05-80-162-045-4"},{"$f":"IF(SISWA!E52=0,\"\",SISWA!E52)","v":"GILANG AKBAR PRASETYO"},null,65,80,86,85,79,60,78,69,69,66.916666666666657]
[46,{"$f":"IF(SISWA!B53=0,\"\",SISWA!B53)","v":4373},{"$f":"IF(SISWA!C53=0,\"\",SISWA!C53)","v":"0087373224"},{"$f":"IF(SISWA!D53=0,\"\",SISWA!D53)","v":"1-18-05-80-162-046-3"},{"$f":"IF(SISWA!E53=0,\"\",SISWA!E53)","v":"IFTAH IZZAH EMILIA  MAHMUD"},null,77,81,86,85,82.25,60,78.849999999999994,69.424999999999997,69.424999999999997,67.916666666666657]
[47,{"$f":"IF(SISWA!B54=0,\"\",SISWA!B54)","v":4441},{"$f":"IF(SISWA!C54=0,\"\",SISWA!C54)","v":"0081758949"},{"$f":"IF(SISWA!D54=0,\"\",SISWA!D54)","v":"1-18-05-80-162-047-2"},{"$f":"IF(SISWA!E54=0,\"\",SISWA!E54)","v":"INES ARIFANI MAULINA"},null,68,80,86,86,80,60,78.400000000000006,69.2,69.2,67.166666666666657]
[48,{"$f":"IF(SISWA!B55=0,\"\",SISWA!B55)","v":4374},{"$f":"IF(SISWA!C55=0,\"\",SISWA!C55)","v":"0073409469"},{"$f":"IF(SISWA!D55=0,\"\",SISWA!D55)","v":"1-18-05-80-162-048-9"},{"$f":"IF(SISWA!E55=0,\"\",SISWA!E55)","v":"IYAAD AFLAKHA RAMZII"},null,71,82,87,87,81.75,60,79.55,69.775000000000006,69.775000000000006,67.666666666666657]
[49,{"$f":"IF(SISWA!B56=0,\"\",SISWA!B56)","v":4305},{"$f":"IF(SISWA!C56=0,\"\",SISWA!C56)","v":"0068258891"},{"$f":"IF(SISWA!D56=0,\"\",SISWA!D56)","v":"1-18-05-80-162-049-8"},{"$f":"IF(SISWA!E56=0,\"\",SISWA!E56)","v":"JULI ANDRIYANTO"},null,66,80,86,86,79.5,60,78.3,69.150000000000006,69.150000000000006,67]
[50,{"$f":"IF(SISWA!B57=0,\"\",SISWA!B57)","v":4347},{"$f":"IF(SISWA!C57=0,\"\",SISWA!C57)","v":"0076367763"},{"$f":"IF(SISWA!D57=0,\"\",SISWA!D57)","v":"1-18-05-80-162-050-7"},{"$f":"IF(SISWA!E57=0,\"\",SISWA!E57)","v":"LIYA FEBRIYANI"},null,75,86,89,91,85.25,60,82.25,71.125,71.125,68.5]
[51,{"$f":"IF(SISWA!B58=0,\"\",SISWA!B58)","v":4348},{"$f":"IF(SISWA!C58=0,\"\",SISWA!C58)","v":"0083034332"},{"$f":"IF(SISWA!D58=0,\"\",SISWA!D58)","v":"1-18-05-80-162-051-6"},{"$f":"IF(SISWA!E58=0,\"\",SISWA!E58)","v":"LIZATUL CHAIYUNI"},null,75,85,86,91,84.25,60,81.25,70.625,70.625,67.75]
[52,{"$f":"IF(SISWA!B59=0,\"\",SISWA!B59)","v":4531},{"$f":"IF(SISWA!C59=0,\"\",SISWA!C59)","v":3099539154},{"$f":"IF(SISWA!D59=0,\"\",SISWA!D59)","v":"1-18-05-80-162-052-5"},{"$f":"IF(SISWA!E59=0,\"\",SISWA!E59)","v":"M. ALHAFIS"},null,68,80,86,88,80.5,60,78.900000000000006,69.45,69.45,67.166666666666657]
[53,{"$f":"IF(SISWA!B60=0,\"\",SISWA!B60)","v":4530},{"$f":"IF(SISWA!C60=0,\"\",SISWA!C60)","v":"0077015789"},{"$f":"IF(SISWA!D60=0,\"\",SISWA!D60)","v":"1-18-05-80-162-053-4"},{"$f":"IF(SISWA!E60=0,\"\",SISWA!E60)","v":"MUHAMMAD RIZKI RIDWAN"},null,71,82,87,91,82.75,60,80.55,70.275000000000006,70.275000000000006,67.666666666666657]
[54,{"$f":"IF(SISWA!B61=0,\"\",SISWA!B61)","v":4351},{"$f":"IF(SISWA!C61=0,\"\",SISWA!C61)","v":"0076361559"},{"$f":"IF(SISWA!D61=0,\"\",SISWA!D61)","v":"1-18-05-80-162-054-3"},{"$f":"IF(SISWA!E61=0,\"\",SISWA!E61)","v":"MOCHAMAD RAFLI DIAN SAPUTRA"},null,65,80,86,88,79.75,60,78.75,69.375,69.375,66.916666666666657]
[55,{"$f":"IF(SISWA!B62=0,\"\",SISWA!B62)","v":4352},{"$f":"IF(SISWA!C62=0,\"\",SISWA!C62)","v":"0075591405"},{"$f":"IF(SISWA!D62=0,\"\",SISWA!D62)","v":"1-18-05-80-162-055-2"},{"$f":"IF(SISWA!E62=0,\"\",SISWA!E62)","v":"MOCHAMMAD AFAREL PUTRA RAMDHANA"},null,69,80,86,85,80,60,78.2,69.099999999999994,69.099999999999994,67.25]
[56,{"$f":"IF(SISWA!B63=0,\"\",SISWA!B63)","v":4355},{"$f":"IF(SISWA!C63=0,\"\",SISWA!C63)","v":"0075363258"},{"$f":"IF(SISWA!D63=0,\"\",SISWA!D63)","v":"1-18-05-80-162-056-9"},{"$f":"IF(SISWA!E63=0,\"\",SISWA!E63)","v":"MUHAMAD JEFRI MAULANA"},null,72,83,87,85,81.75,60,79.349999999999994,69.674999999999997,69.674999999999997,67.75]
[57,{"$f":"IF(SISWA!B64=0,\"\",SISWA!B64)","v":4376},{"$f":"IF(SISWA!C64=0,\"\",SISWA!C64)","v":"0072066741"},{"$f":"IF(SISWA!D64=0,\"\",SISWA!D64)","v":"1-18-05-80-162-057-8"},{"$f":"IF(SISWA!E64=0,\"\",SISWA!E64)","v":"MUHAMMAD DWI WILDAN BAGUS KURNIAWAN"},null,66,80,86,88,80,60,78.8,69.400000000000006,69.400000000000006,67]
[58,{"$f":"IF(SISWA!B65=0,\"\",SISWA!B65)","v":4377},{"$f":"IF(SISWA!C65=0,\"\",SISWA!C65)","v":"0071459044"},{"$f":"IF(SISWA!D65=0,\"\",SISWA!D65)","v":"1-18-05-80-162-058-7"},{"$f":"IF(SISWA!E65=0,\"\",SISWA!E65)","v":"MUHAMMAD FARIL FIRMANSYA"},null,68,80,86,85,79.75,60,78.150000000000006,69.075000000000003,69.075000000000003,67.166666666666657]
[59,{"$f":"IF(SISWA!B66=0,\"\",SISWA!B66)","v":4349},{"$f":"IF(SISWA!C66=0,\"\",SISWA!C66)","v":"0074206034"},{"$f":"IF(SISWA!D66=0,\"\",SISWA!D66)","v":"1-18-05-80-162-059-6"},{"$f":"IF(SISWA!E66=0,\"\",SISWA!E66)","v":"MUHAMMAD FARIZ UBAIDILLA"},null,68,80,86,88,80.5,60,78.900000000000006,69.45,69.45,67.166666666666657]
[60,{"$f":"IF(SISWA!B67=0,\"\",SISWA!B67)","v":4356},{"$f":"IF(SISWA!C67=0,\"\",SISWA!C67)","v":"0077937892"},{"$f":"IF(SISWA!D67=0,\"\",SISWA!D67)","v":"1-18-05-80-162-060-5"},{"$f":"IF(SISWA!E67=0,\"\",SISWA!E67)","v":"MUHAMMAD MAULANA ZIDANIL ILMI"},null,74,83,87,85,82.25,60,79.45,69.724999999999994,69.724999999999994,67.916666666666657]
[61,{"$f":"IF(SISWA!B68=0,\"\",SISWA!B68)","v":4357},{"$f":"IF(SISWA!C68=0,\"\",SISWA!C68)","v":"0078608527"},{"$f":"IF(SISWA!D68=0,\"\",SISWA!D68)","v":"1-18-05-80-162-061-4"},{"$f":"IF(SISWA!E68=0,\"\",SISWA!E68)","v":"MUHAMMAD SUTRISNO ISMAIL"},null,67,81,86,88,80.5,60,79.099999999999994,69.55,69.55,67.083333333333343]
[62,{"$f":"IF(SISWA!B69=0,\"\",SISWA!B69)","v":4381},{"$f":"IF(SISWA!C69=0,\"\",SISWA!C69)","v":"0072209435"},{"$f":"IF(SISWA!D69=0,\"\",SISWA!D69)","v":"1-18-05-80-162-062-3"},{"$f":"IF(SISWA!E69=0,\"\",SISWA!E69)","v":"NOVITA ERNIAWAN"},null,71,83,86,88,82,60,79.8,69.900000000000006,69.900000000000006,67.416666666666657]
[63,{"$f":"IF(SISWA!B70=0,\"\",SISWA!B70)","v":4383},{"$f":"IF(SISWA!C70=0,\"\",SISWA!C70)","v":"0077439834"},{"$f":"IF(SISWA!D70=0,\"\",SISWA!D70)","v":"1-18-05-80-162-063-2"},{"$f":"IF(SISWA!E70=0,\"\",SISWA!E70)","v":"PUTRI AULIA DWI AGUSTIN"},null,75,87,89,91,85.5,60,82.5,71.25,71.25,68.5]
[64,{"$f":"IF(SISWA!B71=0,\"\",SISWA!B71)","v":4385},{"$f":"IF(SISWA!C71=0,\"\",SISWA!C71)","v":"0073137310"},{"$f":"IF(SISWA!D71=0,\"\",SISWA!D71)","v":"1-18-05-80-162-064-9"},{"$f":"IF(SISWA!E71=0,\"\",SISWA!E71)","v":"STANY RAFIDAH RAHMANIA"},null,67,82,87,88,81,60,79.599999999999994,69.8,69.8,67.333333333333343]
[65,{"$f":"IF(SISWA!B72=0,\"\",SISWA!B72)","v":4387},{"$f":"IF(SISWA!C72=0,\"\",SISWA!C72)","v":"0077336427"},{"$f":"IF(SISWA!D72=0,\"\",SISWA!D72)","v":"1-18-05-80-162-065-8"},{"$f":"IF(SISWA!E72=0,\"\",SISWA!E72)","v":"USWATUN KHASANAH"},null,68,82,87,88,81.25,60,79.650000000000006,69.825000000000003,69.825000000000003,67.416666666666657]
[66,{"$f":"IF(SISWA!B73=0,\"\",SISWA!B73)","v":4389},{"$f":"IF(SISWA!C73=0,\"\",SISWA!C73)","v":"0078407631"},{"$f":"IF(SISWA!D73=0,\"\",SISWA!D73)","v":"1-18-05-80-162-066-7"},{"$f":"IF(SISWA!E73=0,\"\",SISWA!E73)","v":"VIKROUL KHAMILA"},null,71,80,86,88,{"$f":"AVERAGE(F73:J73)","v":81.25},60,79.05,{"$f":"AVERAGE(L73:M73)","v":69.525000000000006},{"$f":"AVERAGE(L73:M73)","v":69.525000000000006},67.416666666666657]
[67,{"$f":"IF(SISWA!B74=0,\"\",SISWA!B74)","v":""},{"$f":"IF(SISWA!C74=0,\"\",SISWA!C74)","v":""},{"$f":"IF(SISWA!D74=0,\"\",SISWA!D74)","v":""},{"$f":"IF(SISWA!E74=0,\"\",SISWA!E74)","v":""},null,null,null,null,null,{"$error":"#DIV/0!"},null,null,{"$error":"#DIV/0!"},{"$error":"#DIV/0!"},{"$error":"#DIV/0!"}]
[68,{"$f":"IF(SISWA!B75=0,\"\",SISWA!B75)","v":""},{"$f":"IF(SISWA!C75=0,\"\",SISWA!C75)","v":""},{"$f":"IF(SISWA!D75=0,\"\",SISWA!D75)","v":""},{"$f":"IF(SISWA!E75=0,\"\",SISWA!E75)","v":""},null,null,null,null,null,{"$error":"#DIV/0!"},null,null,{"$error":"#DIV/0!"},{"$error":"#DIV/0!"},{"$error":"#DIV/0!"}]
[69,{"$f":"IF(SISWA!B76=0,\"\",SISWA!B76)","v":""},{"$f":"IF(SISWA!C76=0,\"\",SISWA!C76)","v":""},{"$f":"IF(SISWA!D76=0,\"\",SISWA!D76)","v":""},{"$f":"IF(SISWA!E76=0,\"\",SISWA!E76)","v":""},null,null,null,null,null,{"$error":"#DIV/0!"},null,null,{"$error":"#DIV/0!"},{"$error":"#DIV/0!"},{"$error":"#DIV/0!"}]
[70,{"$f":"IF(SISWA!B77=0,\"\",SISWA!B77)","v":""},{"$f":"IF(SISWA!C77=0,\"\",SISWA!C77)","v":""},{"$f":"IF(SISWA!D77=0,\"\",SISWA!D77)","v":""},{"$f":"IF(SISWA!E77=0,\"\",SISWA!E77)","v":""},null,null,null,null,null,{"$error":"#DIV/0!"},null,null,{"$error":"#DIV/0!"},{"$error":"#DIV/0!"},{"$error":"#DIV/0!"}]
[71,{"$f":"IF(SISWA!B78=0,\"\",SISWA!B78)","v":""},{"$f":"IF(SISWA!C78=0,\"\",SISWA!C78)","v":""},{"$f":"IF(SISWA!D78=0,\"\",SISWA!D78)","v":""},{"$f":"IF(SISWA!E78=0,\"\",SISWA!E78)","v":""},null,null,null,null,null,{"$error":"#DIV/0!"},null,null,{"$error":"#DIV/0!"},{"$error":"#DIV/0!"},{"$error":"#DIV/0!"}]
[72,{"$f":"IF(SISWA!B79=0,\"\",SISWA!B79)","v":""},{"$f":"IF(SISWA!C79=0,\"\",SISWA!C79)","v":""},{"$f":"IF(SISWA!D79=0,\"\",SISWA!D79)","v":""},{"$f":"IF(SISWA!E79=0,\"\",SISWA!E79)","v":""},null,null,null,null,null,{"$error":"#DIV/0!"},null,null,{"$error":"#DIV/0!"},{"$error":"#DIV/0!"},{"$error":"#DIV/0!"}]
[73,{"$f":"IF(SISWA!B80=0,\"\",SISWA!B80)","v":""},{"$f":"IF(SISWA!C80=0,\"\",SISWA!C80)","v":""},{"$f":"IF(SISWA!D80=0,\"\",SISWA!D80)","v":""},{"$f":"IF(SISWA!E80=0,\"\",SISWA!E80)","v":""},null,null,null,null,null,{"$error":"#DIV/0!"},null,null,{"$error":"#DIV/0!"},{"$error":"#DIV/0!"},{"$error":"#DIV/0!"}]
[74,{"$f":"IF(SISWA!B81=0,\"\",SISWA!B81)","v":""},{"$f":"IF(SISWA!C81=0,\"\",SISWA!C81)","v":""},{"$f":"IF(SISWA!D81=0,\"\",SISWA!D81)","v":""},{"$f":"IF(SISWA!E81=0,\"\",SISWA!E81)","v":""},null,null,null,null,null,{"$error":"#DIV/0!"},null,null,{"$error":"#DIV/0!"},{"$error":"#DIV/0!"},{"$error":"#DIV/0!"}]
[75,{"$f":"IF(SISWA!B82=0,\"\",SISWA!B82)","v":""},{"$f":"IF(SISWA!C82=0,\"\",SISWA!C82)","v":""},{"$f":"IF(SISWA!D82=0,\"\",SISWA!D82)","v":""},{"$f":"IF(SISWA!E82=0,\"\",SISWA!E82)","v":""},null,null,null,null,null,{"$error":"#DIV/0!"},null,null,{"$error":"#DIV/0!"},{"$error":"#DIV/0!"},{"$error":"#DIV/0!"}]
[76,{"$f":"IF(SISWA!B83=0,\"\",SISWA!B83)","v":""},{"$f":"IF(SISWA!C83=0,\"\",SISWA!C83)","v":""},{"$f":"IF(SISWA!D83=0,\"\",SISWA!D83)","v":""},{"$f":"IF(SISWA!E83=0,\"\",SISWA!E83)","v":""},null,null,null,null,null,{"$error":"#DIV/0!"},null,null,{"$error":"#DIV/0!"},{"$error":"#DIV/0!"},{"$error":"#DIV/0!"}]
[77,{"$f":"IF(SISWA!B84=0,\"\",SISWA!B84)","v":""},{"$f":"IF(SISWA!C84=0,\"\",SISWA!C84)","v":""},{"$f":"IF(SISWA!D84=0,\"\",SISWA!D84)","v":""},{"$f":"IF(SISWA!E84=0,\"\",SISWA!E84)","v":""},null,null,null,null,null,{"$error":"#DIV/0!"},null,null,{"$error":"#DIV/0!"},{"$error":"#DIV/0!"},{"$error":"#DIV/0!"}]
[78,{"$f":"IF(SISWA!B85=0,\"\",SISWA!B85)","v":""},{"$f":"IF(SISWA!C85=0,\"\",SISWA!C85)","v":""},{"$f":"IF(SISWA!D85=0,\"\",SISWA!D85)","v":""},{"$f":"IF(SISWA!E85=0,\"\",SISWA!E85)","v":""},null,null,null,null,null,{"$error":"#DIV/0!"},null,null,{"$error":"#DIV/0!"},{"$error":"#DIV/0!"},{"$error":"#DIV/0!"}]
[79,{"$f":"IF(SISWA!B86=0,\"\",SISWA!B86)","v":""},{"$f":"IF(SISWA!C86=0,\"\",SISWA!C86)","v":""},{"$f":"IF(SISWA!D86=0,\"\",SISWA!D86)","v":""},{"$f":"IF(SISWA!E86=0,\"\",SISWA!E86)","v":""},null,null,null,null,null,{"$error":"#DIV/0!"},null,null,{"$error":"#DIV/0!"},{"$error":"#DIV/0!"},{"$error":"#DIV/0!"}]
[80,{"$f":"IF(SISWA!B87=0,\"\",SISWA!B87)","v":""},{"$f":"IF(SISWA!C87=0,\"\",SISWA!C87)","v":""},{"$f":"IF(SISWA!D87=0,\"\",SISWA!D87)","v":""},{"$f":"IF(SISWA!E87=0,\"\",SISWA!E87)","v":""},null,null,null,null,null,{"$error":"#DIV/0!"},null,null,{"$error":"#DIV/0!"},{"$error":"#DIV/0!"},{"$error":"#DIV/0!"}]
[81,{"$f":"IF(SISWA!B88=0,\"\",SISWA!B88)","v":""},{"$f":"IF(SISWA!C88=0,\"\",SISWA!C88)","v":""},{"$f":"IF(SISWA!D88=0,\"\",SISWA!D88)","v":""},{"$f":"IF(SISWA!E88=0,\"\",SISWA!E88)","v":""},null,null,null,null,null,{"$error":"#DIV/0!"},null,null,{"$error":"#DIV/0!"},{"$error":"#DIV/0!"},{"$error":"#DIV/0!"}]
[82,{"$f":"IF(SISWA!B89=0,\"\",SISWA!B89)","v":""},{"$f":"IF(SISWA!C89=0,\"\",SISWA!C89)","v":""},{"$f":"IF(SISWA!D89=0,\"\",SISWA!D89)","v":""},{"$f":"IF(SISWA!E89=0,\"\",SISWA!E89)","v":""},null,null,null,null,null,{"$error":"#DIV/0!"},null,null,{"$error":"#DIV/0!"},{"$error":"#DIV/0!"},{"$error":"#DIV/0!"}]
[83,{"$f":"IF(SISWA!B90=0,\"\",SISWA!B90)","v":""},{"$f":"IF(SISWA!C90=0,\"\",SISWA!C90)","v":""},{"$f":"IF(SISWA!D90=0,\"\",SISWA!D90)","v":""},{"$f":"IF(SISWA!E90=0,\"\",SISWA!E90)","v":""},null,null,null,null,null,{"$error":"#DIV/0!"},null,null,{"$error":"#DIV/0!"},{"$error":"#DIV/0!"},{"$error":"#DIV/0!"}]
[84,{"$f":"IF(SISWA!B91=0,\"\",SISWA!B91)","v":""},{"$f":"IF(SISWA!C91=0,\"\",SISWA!C91)","v":""},{"$f":"IF(SISWA!D91=0,\"\",SISWA!D91)","v":""},{"$f":"IF(SISWA!E91=0,\"\",SISWA!E91)","v":""},null,null,null,null,null,{"$error":"#DIV/0!"},null,null,{"$error":"#DIV/0!"},{"$error":"#DIV/0!"},{"$error":"#DIV/0!"}]
[85,{"$f":"IF(SISWA!B92=0,\"\",SISWA!B92)","v":""},{"$f":"IF(SISWA!C92=0,\"\",SISWA!C92)","v":""},{"$f":"IF(SISWA!D92=0,\"\",SISWA!D92)","v":""},{"$f":"IF(SISWA!E92=0,\"\",SISWA!E92)","v":""},null,null,null,null,null,{"$error":"#DIV/0!"},null,null,{"$error":"#DIV/0!"},{"$error":"#DIV/0!"},{"$error":"#DIV/0!"}]
[86,{"$f":"IF(SISWA!B93=0,\"\",SISWA!B93)","v":""},{"$f":"IF(SISWA!C93=0,\"\",SISWA!C93)","v":""},{"$f":"IF(SISWA!D93=0,\"\",SISWA!D93)","v":""},{"$f":"IF(SISWA!E93=0,\"\",SISWA!E93)","v":""},null,null,null,null,null,{"$error":"#DIV/0!"},null,null,{"$error":"#DIV/0!"},{"$error":"#DIV/0!"},{"$error":"#DIV/0!"}]
[87,{"$f":"IF(SISWA!B94=0,\"\",SISWA!B94)","v":""},{"$f":"IF(SISWA!C94=0,\"\",SISWA!C94)","v":""},{"$f":"IF(SISWA!D94=0,\"\",SISWA!D94)","v":""},{"$f":"IF(SISWA!E94=0,\"\",SISWA!E94)","v":""},null,null,null,null,null,{"$error":"#DIV/0!"},null,null,{"$error":"#DIV/0!"},{"$error":"#DIV/0!"},{"$error":"#DIV/0!"}]
[88,{"$f":"IF(SISWA!B95=0,\"\",SISWA!B95)","v":""},{"$f":"IF(SISWA!C95=0,\"\",SISWA!C95)","v":""},{"$f":"IF(SISWA!D95=0,\"\",SISWA!D95)","v":""},{"$f":"IF(SISWA!E95=0,\"\",SISWA!E95)","v":""},null,null,null,null,null,{"$error":"#DIV/0!"},null,null,{"$error":"#DIV/0!"},{"$error":"#DIV/0!"},{"$error":"#DIV/0!"}]
[89,{"$f":"IF(SISWA!B96=0,\"\",SISWA!B96)","v":""},{"$f":"IF(SISWA!C96=0,\"\",SISWA!C96)","v":""},{"$f":"IF(SISWA!D96=0,\"\",SISWA!D96)","v":""},{"$f":"IF(SISWA!E96=0,\"\",SISWA!E96)","v":""},null,null,null,null,null,{"$error":"#DIV/0!"},null,null,{"$error":"#DIV/0!"},{"$error":"#DIV/0!"},{"$error":"#DIV/0!"}]
[90,{"$f":"IF(SISWA!B97=0,\"\",SISWA!B97)","v":""},{"$f":"IF(SISWA!C97=0,\"\",SISWA!C97)","v":""},{"$f":"IF(SISWA!D97=0,\"\",SISWA!D97)","v":""},{"$f":"IF(SISWA!E97=0,\"\",SISWA!E97)","v":""},null,null,null,null,null,{"$error":"#DIV/0!"},null,null,{"$error":"#DIV/0!"},{"$error":"#DIV/0!"},{"$error":"#DIV/0!"}]
[91,{"$f":"IF(SISWA!B98=0,\"\",SISWA!B98)","v":""},{"$f":"IF(SISWA!C98=0,\"\",SISWA!C98)","v":""},{"$f":"IF(SISWA!D98=0,\"\",SISWA!D98)","v":""},{"$f":"IF(SISWA!E98=0,\"\",SISWA!E98)","v":""},null,null,null,null,null,{"$error":"#DIV/0!"},null,null,{"$error":"#DIV/0!"},{"$error":"#DIV/0!"},{"$error":"#DIV/0!"}]
[92,{"$f":"IF(SISWA!B99=0,\"\",SISWA!B99)","v":""},{"$f":"IF(SISWA!C99=0,\"\",SISWA!C99)","v":""},{"$f":"IF(SISWA!D99=0,\"\",SISWA!D99)","v":""},{"$f":"IF(SISWA!E99=0,\"\",SISWA!E99)","v":""},null,null,null,null,null,{"$error":"#DIV/0!"},null,null,{"$error":"#DIV/0!"},{"$error":"#DIV/0!"},{"$error":"#DIV/0!"}]
[93,{"$f":"IF(SISWA!B100=0,\"\",SISWA!B100)","v":""},{"$f":"IF(SISWA!C100=0,\"\",SISWA!C100)","v":""},{"$f":"IF(SISWA!D100=0,\"\",SISWA!D100)","v":""},{"$f":"IF(SISWA!E100=0,\"\",SISWA!E100)","v":""},null,null,null,null,null,{"$error":"#DIV/0!"},null,null,{"$error":"#DIV/0!"},{"$error":"#DIV/0!"},{"$error":"#DIV/0!"}]
[94,{"$f":"IF(SISWA!B101=0,\"\",SISWA!B101)","v":""},{"$f":"IF(SISWA!C101=0,\"\",SISWA!C101)","v":""},{"$f":"IF(SISWA!D101=0,\"\",SISWA!D101)","v":""},{"$f":"IF(SISWA!E101=0,\"\",SISWA!E101)","v":""},null,null,null,null,null,{"$error":"#DIV/0!"},null,null,{"$error":"#DIV/0!"},{"$error":"#DIV/0!"},{"$error":"#DIV/0!"}]
[95,{"$f":"IF(SISWA!B102=0,\"\",SISWA!B102)","v":""},{"$f":"IF(SISWA!C102=0,\"\",SISWA!C102)","v":""},{"$f":"IF(SISWA!D102=0,\"\",SISWA!D102)","v":""},{"$f":"IF(SISWA!E102=0,\"\",SISWA!E102)","v":""},null,null,null,null,null,{"$error":"#DIV/0!"},null,null,{"$error":"#DIV/0!"},{"$error":"#DIV/0!"},{"$error":"#DIV/0!"}]
[96,{"$f":"IF(SISWA!B103=0,\"\",SISWA!B103)","v":""},{"$f":"IF(SISWA!C103=0,\"\",SISWA!C103)","v":""},{"$f":"IF(SISWA!D103=0,\"\",SISWA!D103)","v":""},{"$f":"IF(SISWA!E103=0,\"\",SISWA!E103)","v":""},null,null,null,null,null,{"$error":"#DIV/0!"},null,null,{"$error":"#DIV/0!"},{"$error":"#DIV/0!"},{"$error":"#DIV/0!"}]
[97,{"$f":"IF(SISWA!B104=0,\"\",SISWA!B104)","v":""},{"$f":"IF(SISWA!C104=0,\"\",SISWA!C104)","v":""},{"$f":"IF(SISWA!D104=0,\"\",SISWA!D104)","v":""},{"$f":"IF(SISWA!E104=0,\"\",SISWA!E104)","v":""},null,null,null,null,null,{"$error":"#DIV/0!"},null,null,{"$error":"#DIV/0!"},{"$error":"#DIV/0!"},{"$error":"#DIV/0!"}]
[98,{"$f":"IF(SISWA!B105=0,\"\",SISWA!B105)","v":""},{"$f":"IF(SISWA!C105=0,\"\",SISWA!C105)","v":""},{"$f":"IF(SISWA!D105=0,\"\",SISWA!D105)","v":""},{"$f":"IF(SISWA!E105=0,\"\",SISWA!E105)","v":""},null,null,null,null,null,{"$error":"#DIV/0!"},null,null,{"$error":"#DIV/0!"},{"$error":"#DIV/0!"},{"$error":"#DIV/0!"}]
[99,{"$f":"IF(SISWA!B106=0,\"\",SISWA!B106)","v":""},{"$f":"IF(SISWA!C106=0,\"\",SISWA!C106)","v":""},{"$f":"IF(SISWA!D106=0,\"\",SISWA!D106)","v":""},{"$f":"IF(SISWA!E106=0,\"\",SISWA!E106)","v":""},null,null,null,null,null,{"$error":"#DIV/0!"},null,null,{"$error":"#DIV/0!"},{"$error":"#DIV/0!"},{"$error":"#DIV/0!"}]
[100,{"$f":"IF(SISWA!B107=0,\"\",SISWA!B107)","v":""},{"$f":"IF(SISWA!C107=0,\"\",SISWA!C107)","v":""},{"$f":"IF(SISWA!D107=0,\"\",SISWA!D107)","v":""},{"$f":"IF(SISWA!E107=0,\"\",SISWA!E107)","v":""},null,null,null,null,null,{"$error":"#DIV/0!"},null,null,{"$error":"#DIV/0!"},{"$error":"#DIV/0!"},{"$error":"#DIV/0!"}]
[101,{"$f":"IF(SISWA!B108=0,\"\",SISWA!B108)","v":""},{"$f":"IF(SISWA!C108=0,\"\",SISWA!C108)","v":""},{"$f":"IF(SISWA!D108=0,\"\",SISWA!D108)","v":""},{"$f":"IF(SISWA!E108=0,\"\",SISWA!E108)","v":""},null,null,null,null,null,{"$error":"#DIV/0!"},null,null,{"$error":"#DIV/0!"},{"$error":"#DIV/0!"},{"$error":"#DIV/0!"}]

{"sheet":"BID","index":9,"n_rows":108,"n_cols":16,"rows_kept":108,"cut":false,"hidden":false,"merged":[[0,0,0,9],[1,0,1,9],[2,0,2,9],[4,0,6,0],[4,1,6,1],[4,2,6,2],[4,3,6,3],[4,4,6,4],[5,5,5,9],[4,5,4,12],[5,11,5,12]]}
["DAFTAR NILAI AKHIR SEKOLAH"]
[{"$f":"AA!A2","v":"MADRASAH IBTIDAIYAH NURUL ISLAM LABRUK KIDUL"}]
[{"$f":"AA!A3","v":"TAHUN PELAJARAN 2019/2020"}]
[]
["NO","No Induk","NISN","Nomor Peserta","Nama Peserta","BAHASA INDONESIA"]
[null,null,null,null,null,"Nilai Semester",null,null,null,null,"Rata- 2","NILAI US",null,null,null,"UAMNU"]
[null,null,null,null,null,7,8,9,10,11,"Rapor","TULIS","PRAKTIK",null,null,"TULIS"]
[1,{"$f":"IF(SISWA!B8=0,\"\",SISWA!B8)","v":4331},{"$f":"IF(SISWA!C8=0,\"\",SISWA!C8)","v":"0078140536"},{"$f":"IF(SISWA!D8=0,\"\",SISWA!D8)","v":"1-18-05-80-162-001-8"},{"$f":"IF(SISWA!E8=0,\"\",SISWA!E8)","v":"ACHMAD FATHIR IZUDDIN"},null,70,75,80,null,{"$f":"AVERAGE(F8:J8)","v":75},65,73.75,{"$f":"AVERAGE(K8:L8)","v":70},{"$f":"IF(M8>95,\"GANTI\",\"\")","v":""},70]
[2,{"$f":"IF(SISWA!B9=0,\"\",SISWA!B9)","v":4333},{"$f":"IF(SISWA!C9=0,\"\",SISWA!C9)","v":"0084691896"},{"$f":"IF(SISWA!D9=0,\"\",SISWA!D9)","v":"1-18-05-80-162-002-7"},{"$f":"IF(SISWA!E9=0,\"\",SISWA!E9)","v":"AININ NAFISA FEBRIYANTI"},null,72,75,83,null,76.666666666666671,65,74.916666666666671,70.833333333333343,{"$f":"IF(M9>95,\"GANTI\",\"\")","v":""},70.833333333333343]
[3,{"$f":"IF(SISWA!B10=0,\"\",SISWA!B10)","v":4334},{"$f":"IF(SISWA!C10=0,\"\",SISWA!C10)","v":"0075488897"},{"$f":"IF(SISWA!D10=0,\"\",SISWA!D10)","v":"1-18-05-80-162-003-6"},{"$f":"IF(SISWA!E10=0,\"\",SISWA!E10)","v":"AISYAH DWI ANDINI"},null,74,84,86,null,81.333333333333329,69.444444444444443,80.194444444444443,75.388888888888886,"",75.388888888888886]
[4,{"$f":"IF(SISWA!B11=0,\"\",SISWA!B11)","v":4335},{"$f":"IF(SISWA!C11=0,\"\",SISWA!C11)","v":"0077554289"},{"$f":"IF(SISWA!D11=0,\"\",SISWA!D11)","v":"1-18-05-80-162-004-5"},{"$f":"IF(SISWA!E11=0,\"\",SISWA!E11)","v":"AJENG AGUSTINA KIRANA PUTRI"},null,72,75,80,null,75.666666666666671,60,72.666666666666671,67.833333333333343,"",67.833333333333343]
[5,{"$f":"IF(SISWA!B12=0,\"\",SISWA!B12)","v":4336},{"$f":"IF(SISWA!C12=0,\"\",SISWA!C12)","v":"0078831956"},{"$f":"IF(SISWA!D12=0,\"\",SISWA!D12)","v":"1-18-05-80-162-005-4"},{"$f":"IF(SISWA!E12=0,\"\",SISWA!E12)","v":"ALVIAN FAIZULHAQQI"},null,70,77,86,null,77.666666666666671,60,75.166666666666671,68.833333333333343,"",68.833333333333343]
[6,{"$f":"IF(SISWA!B13=0,\"\",SISWA!B13)","v":4337},{"$f":"IF(SISWA!C13=0,\"\",SISWA!C13)","v":"0073667130"},{"$f":"IF(SISWA!D13=0,\"\",SISWA!D13)","v":"1-18-05-80-162-006-3"},{"$f":"IF(SISWA!E13=0,\"\",SISWA!E13)","v":"ANGGITA RIZKY YUGA MEISYA"},null,72,78,89,null,79.666666666666671,60,76.666666666666671,69.833333333333343,"",69.833333333333343]
[7,{"$f":"IF(SISWA!B14=0,\"\",SISWA!B14)","v":4338},{"$f":"IF(SISWA!C14=0,\"\",SISWA!C14)","v":"0074492973"},{"$f":"IF(SISWA!D14=0,\"\",SISWA!D14)","v":"1-18-05-80-162-007-2"},{"$f":"IF(SISWA!E14=0,\"\",SISWA!E14)","v":"AURA SALSABILA WULAN SARI"},null,68,78,82,null,76,67.222222222222229,75.805555555555557,71.611111111111114,"",71.611111111111114]
[8,{"$f":"IF(SISWA!B15=0,\"\",SISWA!B15)","v":4366},{"$f":"IF(SISWA!C15=0,\"\",SISWA!C15)","v":"0078989673"},{"$f":"IF(SISWA!D15=0,\"\",SISWA!D15)","v":"1-18-05-80-162-008-9"},{"$f":"IF(SISWA!E15=0,\"\",SISWA!E15)","v":"BALQIS NAILA AUDIA"},null,81,80,92,null,84.333333333333329,60,79.083333333333329,72.166666666666657,"",72.166666666666657]
[9,{"$f":"IF(SISWA!B16=0,\"\",SISWA!B16)","v":4440},{"$f":"IF(SISWA!C16=0,\"\",SISWA!C16)","v":"0082763386"},{"$f":"IF(SISWA!D16=0,\"\",SISWA!D16)","v":"1-18-05-80-162-009-8"},{"$f":"IF(SISWA!E16=0,\"\",SISWA!E16)","v":"BIMA ARYO SUSILO"},null,80,82,82,null,81.333333333333329,60,76.333333333333329,70.666666666666657,"",70.666666666666657]
[10,{"$f":"IF(SISWA!B17=0,\"\",SISWA!B17)","v":4367},{"$f":"IF(SISWA!C17=0,\"\",SISWA!C17)","v":"0078400392"},{"$f":"IF(SISWA!D17=0,\"\",SISWA!D17)","v":"1-18-05-80-162-010-7"},{"$f":"IF(SISWA!E17=0,\"\",SISWA!E17)","v":"BIMA SATRIA DIRGANTARA"},null,67,76,80,null,74.333333333333329,60,72.583333333333329,67.166666666666657,"",67.166666666666657]
[11,{"$f":"IF(SISWA!B18=0,\"\",SISWA!B18)","v":4339},{"$f":"IF(SISWA!C18=0,\"\",SISWA!C18)","v":"0086652599"},{"$f":"IF(SISWA!D18=0,\"\",SISWA!D18)","v":"1-18-05-80-162-011-6"},{"$f":"IF(SISWA!E18=0,\"\",SISWA!E18)","v":"DEVI KARUNIA RATNA PUTRI"},null,72,86,82,null,80,60,77,70,"",70]
[12,{"$f":"IF(SISWA!B19=0,\"\",SISWA!B19)","v":4340},{"$f":"IF(SISWA!C19=0,\"\",SISWA!C19)","v":"0089906682"},{"$f":"IF(SISWA!D19=0,\"\",SISWA!D19)","v":"1-18-05-80-162-012-5"},{"$f":"IF(SISWA!E19=0,\"\",SISWA!E19)","v":"DEVITA FEBRIANI PUTRI"},null,72,78,80,null,76.666666666666671,60,73.666666666666671,68.333333333333343,"",68.333333333333343]
[13,{"$f":"IF(SISWA!B20=0,\"\",SISWA!B20)","v":4370},{"$f":"IF(SISWA!C20=0,\"\",SISWA!C20)","v":"0074514146"},{"$f":"IF(SISWA!D20=0,\"\",SISWA!D20)","v":"1-18-05-80-162-013-4"},{"$f":"IF(SISWA!E20=0,\"\",SISWA!E20)","v":"FAKHIS GABRIL LIA"},null,68,80,86,null,78,60,76,69,"",69]
[14,{"$f":"IF(SISWA!B21=0,\"\",SISWA!B21)","v":4342},{"$f":"IF(SISWA!C21=0,\"\",SISWA!C21)","v":"0081081672"},{"$f":"IF(SISWA!D21=0,\"\",SISWA!D21)","v":"1-18-05-80-162-014-3"},{"$f":"IF(SISWA!E21=0,\"\",SISWA!E21)","v":"FARAH NAILATUL ALYAH"},null,83,78,85,null,82,69.444444444444443,78.611111111111114,75.722222222222229,"",75.722222222222229]
[15,{"$f":"IF(SISWA!B22=0,\"\",SISWA!B22)","v":4345},{"$f":"IF(SISWA!C22=0,\"\",SISWA!C22)","v":"0073420487"},{"$f":"IF(SISWA!D22=0,\"\",SISWA!D22)","v":"1-18-05-80-162-015-2"},{"$f":"IF(SISWA!E22=0,\"\",SISWA!E22)","v":"GALANG MARDHOTILLAH SATOTO"},null,67,78,82,null,75.666666666666671,60,73.916666666666671,67.833333333333343,"",67.833333333333343]
[16,{"$f":"IF(SISWA!B23=0,\"\",SISWA!B23)","v":4371},{"$f":"IF(SISWA!C23=0,\"\",SISWA!C23)","v":"0079870082"},{"$f":"IF(SISWA!D23=0,\"\",SISWA!D23)","v":"1-18-05-80-162-016-9"},{"$f":"IF(SISWA!E23=0,\"\",SISWA!E23)","v":"GALIH FAREL PRASTYO"},null,70,77,80,null,75.666666666666671,60,73.166666666666671,67.833333333333343,"",67.833333333333343]
[17,{"$f":"IF(SISWA!B24=0,\"\",SISWA!B24)","v":4466},{"$f":"IF(SISWA!C24=0,\"\",SISWA!C24)","v":"0081629504"},{"$f":"IF(SISWA!D24=0,\"\",SISWA!D24)","v":"1-18-05-80-162-017-8"},{"$f":"IF(SISWA!E24=0,\"\",SISWA!E24)","v":"HIBATULLAH MUSTAGHFIRY RUSLI"},null,76,84,80,null,80,60,76,70,"",70]
[18,{"$f":"IF(SISWA!B25=0,\"\",SISWA!B25)","v":4346},{"$f":"IF(SISWA!C25=0,\"\",SISWA!C25)","v":"0073608418"},{"$f":"IF(SISWA!D25=0,\"\",SISWA!D25)","v":"1-18-05-80-162-018-7"},{"$f":"IF(SISWA!E25=0,\"\",SISWA!E25)","v":"IKA KURNIA WATI AGUSTINA"},null,70,78,80,null,76,60,73.5,68,"",68]
[19,{"$f":"IF(SISWA!B26=0,\"\",SISWA!B26)","v":4350},{"$f":"IF(SISWA!C26=0,\"\",SISWA!C26)","v":"0072658586"},{"$f":"IF(SISWA!D26=0,\"\",SISWA!D26)","v":"1-18-05-80-162-019-6"},{"$f":"IF(SISWA!E26=0,\"\",SISWA!E26)","v":"MAYLUNA EKA PRATIWI"},null,87,86,88,null,87,60,80.25,73.5,"",73.5]
[20,{"$f":"IF(SISWA!B27=0,\"\",SISWA!B27)","v":4353},{"$f":"IF(SISWA!C27=0,\"\",SISWA!C27)","v":"0075464137"},{"$f":"IF(SISWA!D27=0,\"\",SISWA!D27)","v":"1-18-05-80-162-020-5"},{"$f":"IF(SISWA!E27=0,\"\",SISWA!E27)","v":"MOHAMAD DWIMAS FIRDAUS"},null,85,78,82,null,81.666666666666671,60,75.416666666666671,70.833333333333343,"",70.833333333333343]
[21,{"$f":"IF(SISWA!B28=0,\"\",SISWA!B28)","v":4375},{"$f":"IF(SISWA!C28=0,\"\",SISWA!C28)","v":"0075096831"},{"$f":"IF(SISWA!D28=0,\"\",SISWA!D28)","v":"1-18-05-80-162-021-4"},{"$f":"IF(SISWA!E28=0,\"\",SISWA!E28)","v":"MUHAMMAD AFFAN ABI SYAHPUTRA"},null,80,80,85,null,81.666666666666671,60,76.666666666666671,70.833333333333343,"",70.833333333333343]
[22,{"$f":"IF(SISWA!B29=0,\"\",SISWA!B29)","v":4354},{"$f":"IF(SISWA!C29=0,\"\",SISWA!C29)","v":"0075055640"},{"$f":"IF(SISWA!D29=0,\"\",SISWA!D29)","v":"1-18-05-80-162-022-3"},{"$f":"IF(SISWA!E29=0,\"\",SISWA!E29)","v":"MUHAMMAD ALVIN RIDHO"},null,67,75,86,null,76,69.444444444444443,76.611111111111114,72.722222222222229,"",72.722222222222229]
[23,{"$f":"IF(SISWA!B30=0,\"\",SISWA!B30)","v":4378},{"$f":"IF(SISWA!C30=0,\"\",SISWA!C30)","v":"0074268893"},{"$f":"IF(SISWA!D30=0,\"\",SISWA!D30)","v":"1-18-05-80-162-023-2"},{"$f":"IF(SISWA!E30=0,\"\",SISWA!E30)","v":"MUKHAMAD DAVID ARIF FIRDAUS"},null,88,83,89,null,86.666666666666671,60,79.666666666666671,73.333333333333343,"",73.333333333333343]
[24,{"$f":"IF(SISWA!B31=0,\"\",SISWA!B31)","v":4379},{"$f":"IF(SISWA!C31=0,\"\",SISWA!C31)","v":"0072757203"},{"$f":"IF(SISWA!D31=0,\"\",SISWA!D31)","v":"1-18-05-80-162-024-9"},{"$f":"IF(SISWA!E31=0,\"\",SISWA!E31)","v":"NAORA ISQI AINAYYA"},null,98,85,94,null,92.333333333333329,67.222222222222229,84.638888888888886,79.777777777777771,"",79.777777777777771]
[25,{"$f":"IF(SISWA!B32=0,\"\",SISWA!B32)","v":4380},{"$f":"IF(SISWA!C32=0,\"\",SISWA!C32)","v":"0079026285"},{"$f":"IF(SISWA!D32=0,\"\",SISWA!D32)","v":"1-18-05-80-162-025-8"},{"$f":"IF(SISWA!E32=0,\"\",SISWA!E32)","v":"NAZRA ISLAMAY PASHA"},null,80,81,89,null,83.333333333333329,60,78.333333333333329,71.666666666666657,"",71.666666666666657]
[26,{"$f":"IF(SISWA!B33=0,\"\",SISWA!B33)","v":4382},{"$f":"IF(SISWA!C33=0,\"\",SISWA!C33)","v":"0079872151"},{"$f":"IF(SISWA!D33=0,\"\",SISWA!D33)","v":"1-18-05-80-162-026-7"},{"$f":"IF(SISWA!E33=0,\"\",SISWA!E33)","v":"NUR ALYA NABILA"},null,79,77,84,null,80,67.222222222222229,77.055555555555557,73.611111111111114,"",73.611111111111114]
[27,{"$f":"IF(SISWA!B34=0,\"\",SISWA!B34)","v":4358},{"$f":"IF(SISWA!C34=0,\"\",SISWA!C34)","v":"0087558837"},{"$f":"IF(SISWA!D34=0,\"\",SISWA!D34)","v":"1-18-05-80-162-027-6"},{"$f":"IF(SISWA!E34=0,\"\",SISWA!E34)","v":"PUTRI SHOLIKHAH"},null,80,77,79,null,78.666666666666671,60,73.666666666666671,69.333333333333343,"",69.333333333333343]
[28,{"$f":"IF(SISWA!B35=0,\"\",SISWA!B35)","v":4384},{"$f":"IF(SISWA!C35=0,\"\",SISWA!C35)","v":"0071234523"},{"$f":"IF(SISWA!D35=0,\"\",SISWA!D35)","v":"1-18-05-80-162-028-5"},{"$f":"IF(SISWA!E35=0,\"\",SISWA!E35)","v":"RESTI FITRIANTI DWI OCTAVIANI"},null,77,80,82,null,79.666666666666671,60,75.416666666666671,69.833333333333343,"",69.833333333333343]
[29,{"$f":"IF(SISWA!B36=0,\"\",SISWA!B36)","v":4359},{"$f":"IF(SISWA!C36=0,\"\",SISWA!C36)","v":"0073122181"},{"$f":"IF(SISWA!D36=0,\"\",SISWA!D36)","v":"1-18-05-80-162-029-4"},{"$f":"IF(SISWA!E36=0,\"\",SISWA!E36)","v":"ROUDHOTUS SA'DIYAH"},null,81,78,84,null,81,60,75.75,70.5,"",70.5]
[30,{"$f":"IF(SISWA!B37=0,\"\",SISWA!B37)","v":4386},{"$f":"IF(SISWA!C37=0,\"\",SISWA!C37)","v":"0075344352"},{"$f":"IF(SISWA!D37=0,\"\",SISWA!D37)","v":"1-18-05-80-162-030-3"},{"$f":"IF(SISWA!E37=0,\"\",SISWA!E37)","v":"TIERSYA BETA RAMANUZAN"},null,87,84,89,null,86.666666666666671,67.222222222222229,81.722222222222229,76.944444444444457,"",76.944444444444457]
[31,{"$f":"IF(SISWA!B38=0,\"\",SISWA!B38)","v":4388},{"$f":"IF(SISWA!C38=0,\"\",SISWA!C38)","v":"0077423646"},{"$f":"IF(SISWA!D38=0,\"\",SISWA!D38)","v":"1-18-05-80-162-031-2"},{"$f":"IF(SISWA!E38=0,\"\",SISWA!E38)","v":"VERA MUSTIKA"},null,78,79,81,null,79.333333333333329,60,74.833333333333329,69.666666666666657,"",69.666666666666657]
[32,{"$f":"IF(SISWA!B39=0,\"\",SISWA!B39)","v":4360},{"$f":"IF(SISWA!C39=0,\"\",SISWA!C39)","v":"0077290990"},{"$f":"IF(SISWA!D39=0,\"\",SISWA!D39)","v":"1-18-05-80-162-032-9"},{"$f":"IF(SISWA!E39=0,\"\",SISWA!E39)","v":"ZIDNY ILMA NABILA"},null,93,83,89,null,88.333333333333329,60,80.083333333333329,74.166666666666657,"",74.166666666666657]
[33,{"$f":"IF(SISWA!B40=0,\"\",SISWA!B40)","v":4390},{"$f":"IF(SISWA!C40=0,\"\",SISWA!C40)","v":"0077722307"},{"$f":"IF(SISWA!D40=0,\"\",SISWA!D40)","v":"1-18-05-80-162-033-8"},{"$f":"IF(SISWA!E40=0,\"\",SISWA!E40)","v":"ZITNATUL AULIA ILLA"},null,92,85,92,null,89.666666666666671,76.111111111111114,85.694444444444457,82.888888888888886,"",82.888888888888886]
[34,{"$f":"IF(SISWA!B41=0,\"\",SISWA!B41)","v":4330},{"$f":"IF(SISWA!C41=0,\"\",SISWA!C41)","v":"0084736422"},{"$f":"IF(SISWA!D41=0,\"\",SISWA!D41)","v":"1-18-05-80-162-034-7"},{"$f":"IF(SISWA!E41=0,\"\",SISWA!E41)","v":"ACHID ATHIRIL ARDAN"},null,69,78,82,98,81.75,60,79.95,70.875,"",67.75]
[35,{"$f":"IF(SISWA!B42=0,\"\",SISWA!B42)","v":4361},{"$f":"IF(SISWA!C42=0,\"\",SISWA!C42)","v":"0075656390"},{"$f":"IF(SISWA!D42=0,\"\",SISWA!D42)","v":"1-18-05-80-162-035-6"},{"$f":"IF(SISWA!E42=0,\"\",SISWA!E42)","v":"ACHMAD SEPTIAN HAMDANI"},null,63,78,81,92,78.5,60,77.900000000000006,69.25,"",66]
[36,{"$f":"IF(SISWA!B43=0,\"\",SISWA!B43)","v":4362},{"$f":"IF(SISWA!C43=0,\"\",SISWA!C43)","v":"0071796138"},{"$f":"IF(SISWA!D43=0,\"\",SISWA!D43)","v":"1-18-05-80-162-036-5"},{"$f":"IF(SISWA!E43=0,\"\",SISWA!E43)","v":"ACHMAD SULAIMAN"},null,60,75,81,86,75.5,60,75.5,67.75,"",65.25]
[37,{"$f":"IF(SISWA!B44=0,\"\",SISWA!B44)","v":4364},{"$f":"IF(SISWA!C44=0,\"\",SISWA!C44)","v":"0079667684"},{"$f":"IF(SISWA!D44=0,\"\",SISWA!D44)","v":"1-18-05-80-162-037-4"},{"$f":"IF(SISWA!E44=0,\"\",SISWA!E44)","v":"AIRLANGGA DWIKA RIZQI"},null,60,75,82,86,75.75,60,75.75,67.875,"",65.5]
[38,{"$f":"IF(SISWA!B45=0,\"\",SISWA!B45)","v":4365},{"$f":"IF(SISWA!C45=0,\"\",SISWA!C45)","v":"0089321127"},{"$f":"IF(SISWA!D45=0,\"\",SISWA!D45)","v":"1-18-05-80-162-038-3"},{"$f":"IF(SISWA!E45=0,\"\",SISWA!E45)","v":"AUFAN AZKAL ABRORI"},null,68,77,82,92,79.75,60,78.150000000000006,69.875,"",67.5]
[39,{"$f":"IF(SISWA!B46=0,\"\",SISWA!B46)","v":4465},{"$f":"IF(SISWA!C46=0,\"\",SISWA!C46)","v":"0071776593"},{"$f":"IF(SISWA!D46=0,\"\",SISWA!D46)","v":"1-18-05-80-162-039-2"},{"$f":"IF(SISWA!E46=0,\"\",SISWA!E46)","v":"AZZA PRISHAL DWI PUTRA"},null,67,76,8,86,59.25,60,57.85,59.625,"",65]
[40,{"$f":"IF(SISWA!B47=0,\"\",SISWA!B47)","v":4368},{"$f":"IF(SISWA!C47=0,\"\",SISWA!C47)","v":"0074569410"},{"$f":"IF(SISWA!D47=0,\"\",SISWA!D47)","v":"1-18-05-80-162-040-9"},{"$f":"IF(SISWA!E47=0,\"\",SISWA!E47)","v":"EKA AULIYA` PUTRI"},null,64,77,83,90,78.5,60,77.7,69.25,"",66.75]
[41,{"$f":"IF(SISWA!B48=0,\"\",SISWA!B48)","v":4341},{"$f":"IF(SISWA!C48=0,\"\",SISWA!C48)","v":"0083684457"},{"$f":"IF(SISWA!D48=0,\"\",SISWA!D48)","v":"1-18-05-80-162-041-8"},{"$f":"IF(SISWA!E48=0,\"\",SISWA!E48)","v":"ERSA PUSPITA EKA ROSA LINDA"},null,68,77,84,98,81.75,60,80.150000000000006,70.875,"",68]
[42,{"$f":"IF(SISWA!B49=0,\"\",SISWA!B49)","v":4369},{"$f":"IF(SISWA!C49=0,\"\",SISWA!C49)","v":"0078481731"},{"$f":"IF(SISWA!D49=0,\"\",SISWA!D49)","v":"1-18-05-80-162-042-7"},{"$f":"IF(SISWA!E49=0,\"\",SISWA!E49)","v":"FABIYAN TRI BAKTI OKTAFIAN"},null,67,76,84,92,79.75,60,78.349999999999994,69.875,"",67.75]
[43,{"$f":"IF(SISWA!B50=0,\"\",SISWA!B50)","v":4343},{"$f":"IF(SISWA!C50=0,\"\",SISWA!C50)","v":3075965396},{"$f":"IF(SISWA!D50=0,\"\",SISWA!D50)","v":"1-18-05-80-162-043-6"},{"$f":"IF(SISWA!E50=0,\"\",SISWA!E50)","v":"FELISITA APRILIA NUR NIHAYA"},null,68,75,83,92,79.5,60,77.900000000000006,69.75,null,67.75]
[44,{"$f":"IF(SISWA!B51=0,\"\",SISWA!B51)","v":4344},{"$f":"IF(SISWA!C51=0,\"\",SISWA!C51)","v":3078948093},{"$f":"IF(SISWA!D51=0,\"\",SISWA!D51)","v":"1-18-05-80-162-044-5"},{"$f":"IF(SISWA!E51=0,\"\",SISWA!E51)","v":"FIRDA DWI ANDRIANI"},null,68,75,82,92,79.25,60,77.650000000000006,69.625,null,67.5]
[45,{"$f":"IF(SISWA!B52=0,\"\",SISWA!B52)","v":4372},{"$f":"IF(SISWA!C52=0,\"\",SISWA!C52)","v":"0087636520"},{"$f":"IF(SISWA!D52=0,\"\",SISWA!D52)","v":"1-18-05-80-162-045-4"},{"$f":"IF(SISWA!E52=0,\"\",SISWA!E52)","v":"GILANG AKBAR PRASETYO"},null,65,75,82,92,78.5,60,77.5,69.25,null,66.75]
[46,{"$f":"IF(SISWA!B53=0,\"\",SISWA!B53)","v":4373},{"$f":"IF(SISWA!C53=0,\"\",SISWA!C53)","v":"0087373224"},{"$f":"IF(SISWA!D53=0,\"\",SISWA!D53)","v":"1-18-05-80-162-046-3"},{"$f":"IF(SISWA!E53=0,\"\",SISWA!E53)","v":"IFTAH IZZAH EMILIA  MAHMUD"},null,61,78,84,82,76.25,60,76.05,68.125,null,66.25]
[47,{"$f":"IF(SISWA!B54=0,\"\",SISWA!B54)","v":4441},{"$f":"IF(SISWA!C54=0,\"\",SISWA!C54)","v":"0081758949"},{"$f":"IF(SISWA!D54=0,\"\",SISWA!D54)","v":"1-18-05-80-162-047-2"},{"$f":"IF(SISWA!E54=0,\"\",SISWA!E54)","v":"INES ARIFANI MAULINA"},null,67,77,84,98,81.5,60,80.099999999999994,70.75,null,67.75]
[48,{"$f":"IF(SISWA!B55=0,\"\",SISWA!B55)","v":4374},{"$f":"IF(SISWA!C55=0,\"\",SISWA!C55)","v":"0073409469"},{"$f":"IF(SISWA!D55=0,\"\",SISWA!D55)","v":"1-18-05-80-162-048-9"},{"$f":"IF(SISWA!E55=0,\"\",SISWA!E55)","v":"IYAAD AFLAKHA RAMZII"},null,67,82,83,92,81,73.888888888888886,82.37777777777778,77.444444444444443,null,74.444444444444443]
[49,{"$f":"IF(SISWA!B56=0,\"\",SISWA!B56)","v":4305},{"$f":"IF(SISWA!C56=0,\"\",SISWA!C56)","v":"0068258891"},{"$f":"IF(SISWA!D56=0,\"\",SISWA!D56)","v":"1-18-05-80-162-049-8"},{"$f":"IF(SISWA!E56=0,\"\",SISWA!E56)","v":"JULI ANDRIYANTO"},null,70,76,83,86,78.75,60,76.75,69.375,null,68.25]
[50,{"$f":"IF(SISWA!B57=0,\"\",SISWA!B57)","v":4347},{"$f":"IF(SISWA!C57=0,\"\",SISWA!C57)","v":"0076367763"},{"$f":"IF(SISWA!D57=0,\"\",SISWA!D57)","v":"1-18-05-80-162-050-7"},{"$f":"IF(SISWA!E57=0,\"\",SISWA!E57)","v":"LIYA FEBRIYANI"},null,71,79,90,99,84.75,60,82.55,72.375,null,70.25]
[51,{"$f":"IF(SISWA!B58=0,\"\",SISWA!B58)","v":4348},{"$f":"IF(SISWA!C58=0,\"\",SISWA!C58)","v":"0083034332"},{"$f":"IF(SISWA!D58=0,\"\",SISWA!D58)","v":"1-18-05-80-162-051-6"},{"$f":"IF(SISWA!E58=0,\"\",SISWA!E58)","v":"LIZATUL CHAIYUNI"},null,72,77,88,96,{"$f":"AVERAGE(F58:J58)","v":83.25},60,80.849999999999994,71.625,null,70]
[52,{"$f":"IF(SISWA!B59=0,\"\",SISWA!B59)","v":4531},{"$f":"IF(SISWA!C59=0,\"\",SISWA!C59)","v":3099539154},{"$f":"IF(SISWA!D59=0,\"\",SISWA!D59)","v":"1-18-05-80-162-052-5"},{"$f":"IF(SISWA!E59=0,\"\",SISWA!E59)","v":"M. ALHAFIS"},null,61,75,82,90,77,60,76.8,68.5,null,65.75]
[53,{"$f":"IF(SISWA!B60=0,\"\",SISWA!B60)","v":4530},{"$f":"IF(SISWA!C60=0,\"\",SISWA!C60)","v":"0077015789"},{"$f":"IF(SISWA!D60=0,\"\",SISWA!D60)","v":"1-18-05-80-162-053-4"},{"$f":"IF(SISWA!E60=0,\"\",SISWA!E60)","v":"MUHAMMAD RIZKI RIDWAN"},null,65,76,81,92,78.5,60,77.5,69.25,null,66.5]
[54,{"$f":"IF(SISWA!B61=0,\"\",SISWA!B61)","v":4351},{"$f":"IF(SISWA!C61=0,\"\",SISWA!C61)","v":"0076361559"},{"$f":"IF(SISWA!D61=0,\"\",SISWA!D61)","v":"1-18-05-80-162-054-3"},{"$f":"IF(SISWA!E61=0,\"\",SISWA!E61)","v":"MOCHAMAD RAFLI DIAN SAPUTRA"},null,66,75,81,88,77.5,60,76.3,68.75,null,66.75]
[55,{"$f":"IF(SISWA!B62=0,\"\",SISWA!B62)","v":4352},{"$f":"IF(SISWA!C62=0,\"\",SISWA!C62)","v":"0075591405"},{"$f":"IF(SISWA!D62=0,\"\",SISWA!D62)","v":"1-18-05-80-162-055-2"},{"$f":"IF(SISWA!E62=0,\"\",SISWA!E62)","v":"MOCHAMMAD AFAREL PUTRA RAMDHANA"},null,79,76,83,92,82.5,60,78.7,71.25,null,70.5]
[56,{"$f":"IF(SISWA!B63=0,\"\",SISWA!B63)","v":4355},{"$f":"IF(SISWA!C63=0,\"\",SISWA!C63)","v":"0075363258"},{"$f":"IF(SISWA!D63=0,\"\",SISWA!D63)","v":"1-18-05-80-162-056-9"},{"$f":"IF(SISWA!E63=0,\"\",SISWA!E63)","v":"MUHAMAD JEFRI MAULANA"},null,68,75,82,82,76.75,60,75.150000000000006,68.375,null,67.5]
[57,{"$f":"IF(SISWA!B64=0,\"\",SISWA!B64)","v":4376},{"$f":"IF(SISWA!C64=0,\"\",SISWA!C64)","v":"0072066741"},{"$f":"IF(SISWA!D64=0,\"\",SISWA!D64)","v":"1-18-05-80-162-057-8"},{"$f":"IF(SISWA!E64=0,\"\",SISWA!E64)","v":"MUHAMMAD DWI WILDAN BAGUS KURNIAWAN"},null,60,76,81,92,77.25,60,77.25,68.625,null,65.25]
[58,{"$f":"IF(SISWA!B65=0,\"\",SISWA!B65)","v":4377},{"$f":"IF(SISWA!C65=0,\"\",SISWA!C65)","v":"0071459044"},{"$f":"IF(SISWA!D65=0,\"\",SISWA!D65)","v":"1-18-05-80-162-058-7"},{"$f":"IF(SISWA!E65=0,\"\",SISWA!E65)","v":"MUHAMMAD FARIL FIRMANSYA"},null,63,78,82,94,79.25,60,78.650000000000006,69.625,null,66.25]
[59,{"$f":"IF(SISWA!B66=0,\"\",SISWA!B66)","v":4349},{"$f":"IF(SISWA!C66=0,\"\",SISWA!C66)","v":"0074206034"},{"$f":"IF(SISWA!D66=0,\"\",SISWA!D66)","v":"1-18-05-80-162-059-6"},{"$f":"IF(SISWA!E66=0,\"\",SISWA!E66)","v":"MUHAMMAD FARIZ UBAIDILLA"},null,66,75,82,90,78.25,60,77.05,69.125,null,67]
[60,{"$f":"IF(SISWA!B67=0,\"\",SISWA!B67)","v":4356},{"$f":"IF(SISWA!C67=0,\"\",SISWA!C67)","v":"0077937892"},{"$f":"IF(SISWA!D67=0,\"\",SISWA!D67)","v":"1-18-05-80-162-060-5"},{"$f":"IF(SISWA!E67=0,\"\",SISWA!E67)","v":"MUHAMMAD MAULANA ZIDANIL ILMI"},null,73,76,85,99,83.25,60,80.650000000000006,71.625,null,69.5]
[61,{"$f":"IF(SISWA!B68=0,\"\",SISWA!B68)","v":4357},{"$f":"IF(SISWA!C68=0,\"\",SISWA!C68)","v":"0078608527"},{"$f":"IF(SISWA!D68=0,\"\",SISWA!D68)","v":"1-18-05-80-162-061-4"},{"$f":"IF(SISWA!E68=0,\"\",SISWA!E68)","v":"MUHAMMAD SUTRISNO ISMAIL"},null,60,75,81,92,{"$f":"AVERAGE(F68:J68)","v":77},60,77,68.5,null,65.25]
[62,{"$f":"IF(SISWA!B69=0,\"\",SISWA!B69)","v":4381},{"$f":"IF(SISWA!C69=0,\"\",SISWA!C69)","v":"0072209435"},{"$f":"IF(SISWA!D69=0,\"\",SISWA!D69)","v":"1-18-05-80-162-062-3"},{"$f":"IF(SISWA!E69=0,\"\",SISWA!E69)","v":"NOVITA ERNIAWAN"},null,69,75,84,98,81.5,60,79.7,70.75,null,68.25]
[63,{"$f":"IF(SISWA!B70=0,\"\",SISWA!B70)","v":4383},{"$f":"IF(SISWA!C70=0,\"\",SISWA!C70)","v":"0077439834"},{"$f":"IF(SISWA!D70=0,\"\",SISWA!D70)","v":"1-18-05-80-162-063-2"},{"$f":"IF(SISWA!E70=0,\"\",SISWA!E70)","v":"PUTRI AULIA DWI AGUSTIN"},null,75,79,86,98,84.5,60,81.5,72.25,null,70.25]
[64,{"$f":"IF(SISWA!B71=0,\"\",SISWA!B71)","v":4385},{"$f":"IF(SISWA!C71=0,\"\",SISWA!C71)","v":"0073137310"},{"$f":"IF(SISWA!D71=0,\"\",SISWA!D71)","v":"1-18-05-80-162-064-9"},{"$f":"IF(SISWA!E71=0,\"\",SISWA!E71)","v":"STANY RAFIDAH RAHMANIA"},null,68,76,82,92,79.5,60,77.900000000000006,69.75,null,67.5]
[65,{"$f":"IF(SISWA!B72=0,\"\",SISWA!B72)","v":4387},{"$f":"IF(SISWA!C72=0,\"\",SISWA!C72)","v":"0077336427"},{"$f":"IF(SISWA!D72=0,\"\",SISWA!D72)","v":"1-18-05-80-162-065-8"},{"$f":"IF(SISWA!E72=0,\"\",SISWA!E72)","v":"USWATUN KHASANAH"},null,65,78,84,98,81.25,60,80.25,70.625,null,67.25]
[66,{"$f":"IF(SISWA!B73=0,\"\",SISWA!B73)","v":4389},{"$f":"IF(SISWA!C73=0,\"\",SISWA!C73)","v":"0078407631"},{"$f":"IF(SISWA!D73=0,\"\",SISWA!D73)","v":"1-18-05-80-162-066-7"},{"$f":"IF(SISWA!E73=0,\"\",SISWA!E73)","v":"VIKROUL KHAMILA"},null,73,76,84,94,81.75,60,79.150000000000006,{"$f":"AVERAGE(K73:L73)","v":70.875},null,69.25]
[67,{"$f":"IF(SISWA!B74=0,\"\",SISWA!B74)","v":""},{"$f":"IF(SISWA!C74=0,\"\",SISWA!C74)","v":""},{"$f":"IF(SISWA!D74=0,\"\",SISWA!D74)","v":""},{"$f":"IF(SISWA!E74=0,\"\",SISWA!E74)","v":""},null,null,null,null,null,{"$error":"#DIV/0!"},null,null,{"$error":"#DIV/0!"},null,{"$error":"#DIV/0!"}]
[68,{"$f":"IF(SISWA!B75=0,\"\",SISWA!B75)","v":""},{"$f":"IF(SISWA!C75=0,\"\",SISWA!C75)","v":""},{"$f":"IF(SISWA!D75=0,\"\",SISWA!D75)","v":""},{"$f":"IF(SISWA!E75=0,\"\",SISWA!E75)","v":""},null,null,null,null,null,{"$error":"#DIV/0!"},null,null,{"$error":"#DIV/0!"},null,{"$error":"#DIV/0!"}]
[69,{"$f":"IF(SISWA!B76=0,\"\",SISWA!B76)","v":""},{"$f":"IF(SISWA!C76=0,\"\",SISWA!C76)","v":""},{"$f":"IF(SISWA!D76=0,\"\",SISWA!D76)","v":""},{"$f":"IF(SISWA!E76=0,\"\",SISWA!E76)","v":""},null,null,null,null,null,{"$error":"#DIV/0!"},null,null,{"$error":"#DIV/0!"},null,{"$error":"#DIV/0!"}]
[70,{"$f":"IF(SISWA!B77=0,\"\",SISWA!B77)","v":""},{"$f":"IF(SISWA!C77=0,\"\",SISWA!C77)","v":""},{"$f":"IF(SISWA!D77=0,\"\",SISWA!D77)","v":""},{"$f":"IF(SISWA!E77=0,\"\",SISWA!E77)","v":""},null,null,null,null,null,{"$error":"#DIV/0!"},null,null,{"$error":"#DIV/0!"},null,{"$error":"#DIV/0!"}]
[71,{"$f":"IF(SISWA!B78=0,\"\",SISWA!B78)","v":""},{"$f":"IF(SISWA!C78=0,\"\",SISWA!C78)","v":""},{"$f":"IF(SISWA!D78=0,\"\",SISWA!D78)","v":""},{"$f":"IF(SISWA!E78=0,\"\",SISWA!E78)","v":""},null,null,null,null,null,{"$error":"#DIV/0!"},null,null,{"$error":"#DIV/0!"},null,{"$error":"#DIV/0!"}]
[72,{"$f":"IF(SISWA!B79=0,\"\",SISWA!B79)","v":""},{"$f":"IF(SISWA!C79=0,\"\",SISWA!C79)","v":""},{"$f":"IF(SISWA!D79=0,\"\",SISWA!D79)","v":""},{"$f":"IF(SISWA!E79=0,\"\",SISWA!E79)","v":""},null,null,null,null,null,{"$error":"#DIV/0!"},null,null,{"$error":"#DIV/0!"},null,{"$error":"#DIV/0!"}]
[73,{"$f":"IF(SISWA!B80=0,\"\",SISWA!B80)","v":""},{"$f":"IF(SISWA!C80=0,\"\",SISWA!C80)","v":""},{"$f":"IF(SISWA!D80=0,\"\",SISWA!D80)","v":""},{"$f":"IF(SISWA!E80=0,\"\",SISWA!E80)","v":""},null,null,null,null,null,{"$error":"#DIV/0!"},null,null,{"$error":"#DIV/0!"},null,{"$error":"#DIV/0!"}]
[74,{"$f":"IF(SISWA!B81=0,\"\",SISWA!B81)","v":""},{"$f":"IF(SISWA!C81=0,\"\",SISWA!C81)","v":""},{"$f":"IF(SISWA!D81=0,\"\",SISWA!D81)","v":""},{"$f":"IF(SISWA!E81=0,\"\",SISWA!E81)","v":""},null,null,null,null,null,{"$error":"#DIV/0!"},null,null,{"$error":"#DIV/0!"},null,{"$error":"#DIV/0!"}]
[75,{"$f":"IF(SISWA!B82=0,\"\",SISWA!B82)","v":""},{"$f":"IF(SISWA!C82=0,\"\",SISWA!C82)","v":""},{"$f":"IF(SISWA!D82=0,\"\",SISWA!D82)","v":""},{"$f":"IF(SISWA!E82=0,\"\",SISWA!E82)","v":""},null,null,null,null,null,{"$error":"#DIV/0!"},null,null,{"$error":"#DIV/0!"},null,{"$error":"#DIV/0!"}]
[76,{"$f":"IF(SISWA!B83=0,\"\",SISWA!B83)","v":""},{"$f":"IF(SISWA!C83=0,\"\",SISWA!C83)","v":""},{"$f":"IF(SISWA!D83=0,\"\",SISWA!D83)","v":""},{"$f":"IF(SISWA!E83=0,\"\",SISWA!E83)","v":""},null,null,null,null,null,{"$error":"#DIV/0!"},null,null,{"$error":"#DIV/0!"},null,{"$error":"#DIV/0!"}]
[77,{"$f":"IF(SISWA!B84=0,\"\",SISWA!B84)","v":""},{"$f":"IF(SISWA!C84=0,\"\",SISWA!C84)","v":""},{"$f":"IF(SISWA!D84=0,\"\",SISWA!D84)","v":""},{"$f":"IF(SISWA!E84=0,\"\",SISWA!E84)","v":""},null,null,null,null,null,{"$error":"#DIV/0!"},null,null,{"$error":"#DIV/0!"},null,{"$error":"#DIV/0!"}]
[78,{"$f":"IF(SISWA!B85=0,\"\",SISWA!B85)","v":""},{"$f":"IF(SISWA!C85=0,\"\",SISWA!C85)","v":""},{"$f":"IF(SISWA!D85=0,\"\",SISWA!D85)","v":""},{"$f":"IF(SISWA!E85=0,\"\",SISWA!E85)","v":""},null,null,null,null,null,{"$error":"#DIV/0!"},null,null,{"$error":"#DIV/0!"},null,{"$error":"#DIV/0!"}]
[79,{"$f":"IF(SISWA!B86=0,\"\",SISWA!B86)","v":""},{"$f":"IF(SISWA!C86=0,\"\",SISWA!C86)","v":""},{"$f":"IF(SISWA!D86=0,\"\",SISWA!D86)","v":""},{"$f":"IF(SISWA!E86=0,\"\",SISWA!E86)","v":""},null,null,null,null,null,{"$error":"#DIV/0!"},null,null,{"$error":"#DIV/0!"},null,{"$error":"#DIV/0!"}]
[80,{"$f":"IF(SISWA!B87=0,\"\",SISWA!B87)","v":""},{"$f":"IF(SISWA!C87=0,\"\",SISWA!C87)","v":""},{"$f":"IF(SISWA!D87=0,\"\",SISWA!D87)","v":""},{"$f":"IF(SISWA!E87=0,\"\",SISWA!E87)","v":""},null,null,null,null,null,{"$error":"#DIV/0!"},null,null,{"$error":"#DIV/0!"},null,{"$error":"#DIV/0!"}]
[81,{"$f":"IF(SISWA!B88=0,\"\",SISWA!B88)","v":""},{"$f":"IF(SISWA!C88=0,\"\",SISWA!C88)","v":""},{"$f":"IF(SISWA!D88=0,\"\",SISWA!D88)","v":""},{"$f":"IF(SISWA!E88=0,\"\",SISWA!E88)","v":""},null,null,null,null,null,{"$error":"#DIV/0!"},null,null,{"$error":"#DIV/0!"},null,{"$error":"#DIV/0!"}]
[82,{"$f":"IF(SISWA!B89=0,\"\",SISWA!B89)","v":""},{"$f":"IF(SISWA!C89=0,\"\",SISWA!C89)","v":""},{"$f":"IF(SISWA!D89=0,\"\",SISWA!D89)","v":""},{"$f":"IF(SISWA!E89=0,\"\",SISWA!E89)","v":""},null,null,null,null,null,{"$error":"#DIV/0!"},null,null,{"$error":"#DIV/0!"},null,{"$error":"#DIV/0!"}]
[83,{"$f":"IF(SISWA!B90=0,\"\",SISWA!B90)","v":""},{"$f":"IF(SISWA!C90=0,\"\",SISWA!C90)","v":""},{"$f":"IF(SISWA!D90=0,\"\",SISWA!D90)","v":""},{"$f":"IF(SISWA!E90=0,\"\",SISWA!E90)","v":""},null,null,null,null,null,{"$error":"#DIV/0!"},null,null,{"$error":"#DIV/0!"},null,{"$error":"#DIV/0!"}]
[84,{"$f":"IF(SISWA!B91=0,\"\",SISWA!B91)","v":""},{"$f":"IF(SISWA!C91=0,\"\",SISWA!C91)","v":""},{"$f":"IF(SISWA!D91=0,\"\",SISWA!D91)","v":""},{"$f":"IF(SISWA!E91=0,\"\",SISWA!E91)","v":""},null,null,null,null,null,{"$error":"#DIV/0!"},null,null,{"$error":"#DIV/0!"},null,{"$error":"#DIV/0!"}]
[85,{"$f":"IF(SISWA!B92=0,\"\",SISWA!B92)","v":""},{"$f":"IF(SISWA!C92=0,\"\",SISWA!C92)","v":""},{"$f":"IF(SISWA!D92=0,\"\",SISWA!D92)","v":""},{"$f":"IF(SISWA!E92=0,\"\",SISWA!E92)","v":""},null,null,null,null,null,{"$error":"#DIV/0!"},null,null,{"$error":"#DIV/0!"},null,{"$error":"#DIV/0!"}]
[86,{"$f":"IF(SISWA!B93=0,\"\",SISWA!B93)","v":""},{"$f":"IF(SISWA!C93=0,\"\",SISWA!C93)","v":""},{"$f":"IF(SISWA!D93=0,\"\",SISWA!D93)","v":""},{"$f":"IF(SISWA!E93=0,\"\",SISWA!E93)","v":""},null,null,null,null,null,{"$error":"#DIV/0!"},null,null,{"$error":"#DIV/0!"},null,{"$error":"#DIV/0!"}]
[87,{"$f":"IF(SISWA!B94=0,\"\",SISWA!B94)","v":""},{"$f":"IF(SISWA!C94=0,\"\",SISWA!C94)","v":""},{"$f":"IF(SISWA!D94=0,\"\",SISWA!D94)","v":""},{"$f":"IF(SISWA!E94=0,\"\",SISWA!E94)","v":""},null,null,null,null,null,{"$error":"#DIV/0!"},null,null,{"$error":"#DIV/0!"},null,{"$error":"#DIV/0!"}]
[88,{"$f":"IF(SISWA!B95=0,\"\",SISWA!B95)","v":""},{"$f":"IF(SISWA!C95=0,\"\",SISWA!C95)","v":""},{"$f":"IF(SISWA!D95=0,\"\",SISWA!D95)","v":""},{"$f":"IF(SISWA!E95=0,\"\",SISWA!E95)","v":""},null,null,null,null,null,{"$error":"#DIV/0!"},null,null,{"$error":"#DIV/0!"},null,{"$error":"#DIV/0!"}]
[89,{"$f":"IF(SISWA!B96=0,\"\",SISWA!B96)","v":""},{"$f":"IF(SISWA!C96=0,\"\",SISWA!C96)","v":""},{"$f":"IF(SISWA!D96=0,\"\",SISWA!D96)","v":""},{"$f":"IF(SISWA!E96=0,\"\",SISWA!E96)","v":""},null,null,null,null,null,{"$error":"#DIV/0!"},null,null,{"$error":"#DIV/0!"},null,{"$error":"#DIV/0!"}]
[90,{"$f":"IF(SISWA!B97=0,\"\",SISWA!B97)","v":""},{"$f":"IF(SISWA!C97=0,\"\",SISWA!C97)","v":""},{"$f":"IF(SISWA!D97=0,\"\",SISWA!D97)","v":""},{"$f":"IF(SISWA!E97=0,\"\",SISWA!E97)","v":""},null,null,null,null,null,{"$error":"#DIV/0!"},null,null,{"$error":"#DIV/0!"},null,{"$error":"#DIV/0!"}]
[91,{"$f":"IF(SISWA!B98=0,\"\",SISWA!B98)","v":""},{"$f":"IF(SISWA!C98=0,\"\",SISWA!C98)","v":""},{"$f":"IF(SISWA!D98=0,\"\",SISWA!D98)","v":""},{"$f":"IF(SISWA!E98=0,\"\",SISWA!E98)","v":""},null,null,null,null,null,{"$error":"#DIV/0!"},null,null,{"$error":"#DIV/0!"},null,{"$error":"#DIV/0!"}]
[92,{"$f":"IF(SISWA!B99=0,\"\",SISWA!B99)","v":""},{"$f":"IF(SISWA!C99=0,\"\",SISWA!C99)","v":""},{"$f":"IF(SISWA!D99=0,\"\",SISWA!D99)","v":""},{"$f":"IF(SISWA!E99=0,\"\",SISWA!E99)","v":""},null,null,null,null,null,{"$error":"#DIV/0!"},null,null,{"$error":"#DIV/0!"},null,{"$error":"#DIV/0!"}]
[93,{"$f":"IF(SISWA!B100=0,\"\",SISWA!B100)","v":""},{"$f":"IF(SISWA!C100=0,\"\",SISWA!C100)","v":""},{"$f":"IF(SISWA!D100=0,\"\",SISWA!D100)","v":""},{"$f":"IF(SISWA!E100=0,\"\",SISWA!E100)","v":""},null,null,null,null,null,{"$error":"#DIV/0!"},null,null,{"$error":"#DIV/0!"},null,{"$error":"#DIV/0!"}]
[94,{"$f":"IF(SISWA!B101=0,\"\",SISWA!B101)","v":""},{"$f":"IF(SISWA!C101=0,\"\",SISWA!C101)","v":""},{"$f":"IF(SISWA!D101=0,\"\",SISWA!D101)","v":""},{"$f":"IF(SISWA!E101=0,\"\",SISWA!E101)","v":""},null,null,null,null,null,{"$error":"#DIV/0!"},null,null,{"$error":"#DIV/0!"},null,{"$error":"#DIV/0!"}]
[95,{"$f":"IF(SISWA!B102=0,\"\",SISWA!B102)","v":""},{"$f":"IF(SISWA!C102=0,\"\",SISWA!C102)","v":""},{"$f":"IF(SISWA!D102=0,\"\",SISWA!D102)","v":""},{"$f":"IF(SISWA!E102=0,\"\",SISWA!E102)","v":""},null,null,null,null,null,{"$error":"#DIV/0!"},null,null,{"$error":"#DIV/0!"},null,{"$error":"#DIV/0!"}]
[96,{"$f":"IF(SISWA!B103=0,\"\",SISWA!B103)","v":""},{"$f":"IF(SISWA!C103=0,\"\",SISWA!C103)","v":""},{"$f":"IF(SISWA!D103=0,\"\",SISWA!D103)","v":""},{"$f":"IF(SISWA!E103=0,\"\",SISWA!E103)","v":""},null,null,null,null,null,{"$error":"#DIV/0!"},null,null,{"$error":"#DIV/0!"},null,{"$error":"#DIV/0!"}]
[97,{"$f":"IF(SISWA!B104=0,\"\",SISWA!B104)","v":""},{"$f":"IF(SISWA!C104=0,\"\",SISWA!C104)","v":""},{"$f":"IF(SISWA!D104=0,\"\",SISWA!D104)","v":""},{"$f":"IF(SISWA!E104=0,\"\",SISWA!E104)","v":""},null,null,null,null,null,{"$error":"#DIV/0!"},null,null,{"$error":"#DIV/0!"},null,{"$error":"#DIV/0!"}]
[98,{"$f":"IF(SISWA!B105=0,\"\",SISWA!B105)","v":""},{"$f":"IF(SISWA!C105=0,\"\",SISWA!C105)","v":""},{"$f":"IF(SISWA!D105=0,\"\",SISWA!D105)","v":""},{"$f":"IF(SISWA!E105=0,\"\",SISWA!E105)","v":""},null,null,null,null,null,{"$error":"#DIV/0!"},null,null,{"$error":"#DIV/0!"},null,{"$error":"#DIV/0!"}]
[99,{"$f":"IF(SISWA!B106=0,\"\",SISWA!B106)","v":""},{"$f":"IF(SISWA!C106=0,\"\",SISWA!C106)","v":""},{"$f":"IF(SISWA!D106=0,\"\",SISWA!D106)","v":""},{"$f":"IF(SISWA!E106=0,\"\",SISWA!E106)","v":""},null,null,null,null,null,{"$error":"#DIV/0!"},null,null,{"$error":"#DIV/0!"},null,{"$error":"#DIV/0!"}]
[100,{"$f":"IF(SISWA!B107=0,\"\",SISWA!B107)","v":""},{"$f":"IF(SISWA!C107=0,\"\",SISWA!C107)","v":""},{"$f":"IF(SISWA!D107=0,\"\",SISWA!D107)","v":""},{"$f":"IF(SISWA!E107=0,\"\",SISWA!E107)","v":""},null,null,null,null,null,{"$error":"#DIV/0!"},null,null,{"$error":"#DIV/0!"},null,{"$error":"#DIV/0!"}]
[101,{"$f":"IF(SISWA!B108=0,\"\",SISWA!B108)","v":""},{"$f":"IF(SISWA!C108=0,\"\",SISWA!C108)","v":""},{"$f":"IF(SISWA!D108=0,\"\",SISWA!D108)","v":""},{"$f":"IF(SISWA!E108=0,\"\",SISWA!E108)","v":""},null,null,null,null,null,{"$error":"#DIV/0!"},null,null,{"$error":"#DIV/0!"},null,{"$error":"#DIV/0!"}]

{"sheet":"MTK","index":10,"n_rows":108,"n_cols":16,"rows_kept":108,"cut":false,"hidden":false,"merged":[[4,5,4,12],[0,0,0,9],[1,0,1,9],[2,0,2,9],[4,0,6,0],[4,1,6,1],[4,2,6,2],[4,3,6,3],[4,4,6,4],[5,5,5,9],[5,11,5,12]]}
["DAFTAR NILAI AKHIR SEKOLAH"]
[{"$f":"AA!A2","v":"MADRASAH IBTIDAIYAH NURUL ISLAM LABRUK KIDUL"}]
[{"$f":"AA!A3","v":"TAHUN PELAJARAN 2019/2020"}]
[]
["NO","No Induk","NISN","Nomor Peserta","Nama Peserta","MATEMATIKA"]
[null,null,null,null,null,"Nilai Semester",null,null,null,null,"Rata- 2","NILAI US",null,null,null,"UAMNU"]
[null,null,null,null,null,7,8,9,10,11,"Rapor","TULIS","PRAKTIK",null,null,"TULIS"]
[1,{"$f":"IF(SISWA!B8=0,\"\",SISWA!B8)","v":4331},{"$f":"IF(SISWA!C8=0,\"\",SISWA!C8)","v":"0078140536"},{"$f":"IF(SISWA!D8=0,\"\",SISWA!D8)","v":"1-18-05-80-162-001-8"},{"$f":"IF(SISWA!E8=0,\"\",SISWA!E8)","v":"ACHMAD FATHIR IZUDDIN"},null,80,79,82,83,{"$f":"AVERAGE(F8:J8)","v":81},67.857142857142861,null,{"$f":"IF(L8>95,\"GANTI\",\"\")","v":""},null,67.857142857142861]
[2,{"$f":"IF(SISWA!B9=0,\"\",SISWA!B9)","v":4333},{"$f":"IF(SISWA!C9=0,\"\",SISWA!C9)","v":"0084691896"},{"$f":"IF(SISWA!D9=0,\"\",SISWA!D9)","v":"1-18-05-80-162-002-7"},{"$f":"IF(SISWA!E9=0,\"\",SISWA!E9)","v":"AININ NAFISA FEBRIYANTI"},null,87,75,83,84,{"$f":"AVERAGE(F9:J9)","v":82.25},60,null,{"$f":"IF(L9>95,\"GANTI\",\"\")","v":""},null,65]
[3,{"$f":"IF(SISWA!B10=0,\"\",SISWA!B10)","v":4334},{"$f":"IF(SISWA!C10=0,\"\",SISWA!C10)","v":"0075488897"},{"$f":"IF(SISWA!D10=0,\"\",SISWA!D10)","v":"1-18-05-80-162-003-6"},{"$f":"IF(SISWA!E10=0,\"\",SISWA!E10)","v":"AISYAH DWI ANDINI"},null,83,79,88,90,85,60,null,"",null,65]
[4,{"$f":"IF(SISWA!B11=0,\"\",SISWA!B11)","v":4335},{"$f":"IF(SISWA!C11=0,\"\",SISWA!C11)","v":"0077554289"},{"$f":"IF(SISWA!D11=0,\"\",SISWA!D11)","v":"1-18-05-80-162-004-5"},{"$f":"IF(SISWA!E11=0,\"\",SISWA!E11)","v":"AJENG AGUSTINA KIRANA PUTRI"},null,83,86,82,94,86.25,60,null,"",null,65]
[5,{"$f":"IF(SISWA!B12=0,\"\",SISWA!B12)","v":4336},{"$f":"IF(SISWA!C12=0,\"\",SISWA!C12)","v":"0078831956"},{"$f":"IF(SISWA!D12=0,\"\",SISWA!D12)","v":"1-18-05-80-162-005-4"},{"$f":"IF(SISWA!E12=0,\"\",SISWA!E12)","v":"ALVIAN FAIZULHAQQI"},null,82,78,83,82,81.25,60,null,"",null,65]
[6,{"$f":"IF(SISWA!B13=0,\"\",SISWA!B13)","v":4337},{"$f":"IF(SISWA!C13=0,\"\",SISWA!C13)","v":"0073667130"},{"$f":"IF(SISWA!D13=0,\"\",SISWA!D13)","v":"1-18-05-80-162-006-3"},{"$f":"IF(SISWA!E13=0,\"\",SISWA!E13)","v":"ANGGITA RIZKY YUGA MEISYA"},null,80,77,91,92,85,60,null,"",null,65]
[7,{"$f":"IF(SISWA!B14=0,\"\",SISWA!B14)","v":4338},{"$f":"IF(SISWA!C14=0,\"\",SISWA!C14)","v":"0074492973"},{"$f":"IF(SISWA!D14=0,\"\",SISWA!D14)","v":"1-18-05-80-162-007-2"},{"$f":"IF(SISWA!E14=0,\"\",SISWA!E14)","v":"AURA SALSABILA WULAN SARI"},null,80,81,83,91,83.75,60,null,"",null,65]
[8,{"$f":"IF(SISWA!B15=0,\"\",SISWA!B15)","v":4366},{"$f":"IF(SISWA!C15=0,\"\",SISWA!C15)","v":"0078989673"},{"$f":"IF(SISWA!D15=0,\"\",SISWA!D15)","v":"1-18-05-80-162-008-9"},{"$f":"IF(SISWA!E15=0,\"\",SISWA!E15)","v":"BALQIS NAILA AUDIA"},null,90,81,94,84,87.25,60,null,"",null,65]
[9,{"$f":"IF(SISWA!B16=0,\"\",SISWA!B16)","v":4440},{"$f":"IF(SISWA!C16=0,\"\",SISWA!C16)","v":"0082763386"},{"$f":"IF(SISWA!D16=0,\"\",SISWA!D16)","v":"1-18-05-80-162-009-8"},{"$f":"IF(SISWA!E16=0,\"\",SISWA!E16)","v":"BIMA ARYO SUSILO"},null,80,85,90,94,87.25,60,null,"",null,65]
[10,{"$f":"IF(SISWA!B17=0,\"\",SISWA!B17)","v":4367},{"$f":"IF(SISWA!C17=0,\"\",SISWA!C17)","v":"0078400392"},{"$f":"IF(SISWA!D17=0,\"\",SISWA!D17)","v":"1-18-05-80-162-010-7"},{"$f":"IF(SISWA!E17=0,\"\",SISWA!E17)","v":"BIMA SATRIA DIRGANTARA"},null,82,78,82,84,81.5,60,null,"",null,65]
[11,{"$f":"IF(SISWA!B18=0,\"\",SISWA!B18)","v":4339},{"$f":"IF(SISWA!C18=0,\"\",SISWA!C18)","v":"0086652599"},{"$f":"IF(SISWA!D18=0,\"\",SISWA!D18)","v":"1-18-05-80-162-011-6"},{"$f":"IF(SISWA!E18=0,\"\",SISWA!E18)","v":"DEVI KARUNIA RATNA PUTRI"},null,80,83,89,85,84.25,65,null,"",null,65]
[12,{"$f":"IF(SISWA!B19=0,\"\",SISWA!B19)","v":4340},{"$f":"IF(SISWA!C19=0,\"\",SISWA!C19)","v":"0089906682"},{"$f":"IF(SISWA!D19=0,\"\",SISWA!D19)","v":"1-18-05-80-162-012-5"},{"$f":"IF(SISWA!E19=0,\"\",SISWA!E19)","v":"DEVITA FEBRIANI PUTRI"},null,87,79,83,85,83.5,60,null,"",null,65]
[13,{"$f":"IF(SISWA!B20=0,\"\",SISWA!B20)","v":4370},{"$f":"IF(SISWA!C20=0,\"\",SISWA!C20)","v":"0074514146"},{"$f":"IF(SISWA!D20=0,\"\",SISWA!D20)","v":"1-18-05-80-162-013-4"},{"$f":"IF(SISWA!E20=0,\"\",SISWA!E20)","v":"FAKHIS GABRIL LIA"},null,90,79,82,87,84.5,60,null,"",null,65]
[14,{"$f":"IF(SISWA!B21=0,\"\",SISWA!B21)","v":4342},{"$f":"IF(SISWA!C21=0,\"\",SISWA!C21)","v":"0081081672"},{"$f":"IF(SISWA!D21=0,\"\",SISWA!D21)","v":"1-18-05-80-162-014-3"},{"$f":"IF(SISWA!E21=0,\"\",SISWA!E21)","v":"FARAH NAILATUL ALYAH"},null,85,79,92,87,85.75,60,null,"",null,65]
[15,{"$f":"IF(SISWA!B22=0,\"\",SISWA!B22)","v":4345},{"$f":"IF(SISWA!C22=0,\"\",SISWA!C22)","v":"0073420487"},{"$f":"IF(SISWA!D22=0,\"\",SISWA!D22)","v":"1-18-05-80-162-015-2"},{"$f":"IF(SISWA!E22=0,\"\",SISWA!E22)","v":"GALANG MARDHOTILLAH SATOTO"},null,80,78,85,83,81.5,60,null,"",null,65]
[16,{"$f":"IF(SISWA!B23=0,\"\",SISWA!B23)","v":4371},{"$f":"IF(SISWA!C23=0,\"\",SISWA!C23)","v":"0079870082"},{"$f":"IF(SISWA!D23=0,\"\",SISWA!D23)","v":"1-18-05-80-162-016-9"},{"$f":"IF(SISWA!E23=0,\"\",SISWA!E23)","v":"GALIH FAREL PRASTYO"},null,80,79,82,81,80.5,60,null,"",null,65]
[17,{"$f":"IF(SISWA!B24=0,\"\",SISWA!B24)","v":4466},{"$f":"IF(SISWA!C24=0,\"\",SISWA!C24)","v":"0081629504"},{"$f":"IF(SISWA!D24=0,\"\",SISWA!D24)","v":"1-18-05-80-162-017-8"},{"$f":"IF(SISWA!E24=0,\"\",SISWA!E24)","v":"HIBATULLAH MUSTAGHFIRY RUSLI"},null,75,81,83,81,80,60,null,"",null,65]
[18,{"$f":"IF(SISWA!B25=0,\"\",SISWA!B25)","v":4346},{"$f":"IF(SISWA!C25=0,\"\",SISWA!C25)","v":"0073608418"},{"$f":"IF(SISWA!D25=0,\"\",SISWA!D25)","v":"1-18-05-80-162-018-7"},{"$f":"IF(SISWA!E25=0,\"\",SISWA!E25)","v":"IKA KURNIA WATI AGUSTINA"},null,77,74,82,86,79.75,60,null,"",null,65]
[19,{"$f":"IF(SISWA!B26=0,\"\",SISWA!B26)","v":4350},{"$f":"IF(SISWA!C26=0,\"\",SISWA!C26)","v":"0072658586"},{"$f":"IF(SISWA!D26=0,\"\",SISWA!D26)","v":"1-18-05-80-162-019-6"},{"$f":"IF(SISWA!E26=0,\"\",SISWA!E26)","v":"MAYLUNA EKA PRATIWI"},null,86,81,83,96,86.5,60,null,"",null,65]
[20,{"$f":"IF(SISWA!B27=0,\"\",SISWA!B27)","v":4353},{"$f":"IF(SISWA!C27=0,\"\",SISWA!C27)","v":"0075464137"},{"$f":"IF(SISWA!D27=0,\"\",SISWA!D27)","v":"1-18-05-80-162-020-5"},{"$f":"IF(SISWA!E27=0,\"\",SISWA!E27)","v":"MOHAMAD DWIMAS FIRDAUS"},null,73,80,83,81,79.25,60,null,"",null,65]
[21,{"$f":"IF(SISWA!B28=0,\"\",SISWA!B28)","v":4375},{"$f":"IF(SISWA!C28=0,\"\",SISWA!C28)","v":"0075096831"},{"$f":"IF(SISWA!D28=0,\"\",SISWA!D28)","v":"1-18-05-80-162-021-4"},{"$f":"IF(SISWA!E28=0,\"\",SISWA!E28)","v":"MUHAMMAD AFFAN ABI SYAHPUTRA"},null,77,80,85,84,81.5,60,null,"",null,65]
[22,{"$f":"IF(SISWA!B29=0,\"\",SISWA!B29)","v":4354},{"$f":"IF(SISWA!C29=0,\"\",SISWA!C29)","v":"0075055640"},{"$f":"IF(SISWA!D29=0,\"\",SISWA!D29)","v":"1-18-05-80-162-022-3"},{"$f":"IF(SISWA!E29=0,\"\",SISWA!E29)","v":"MUHAMMAD ALVIN RIDHO"},null,83,80,84,81,82,60,null,"",null,65]
[23,{"$f":"IF(SISWA!B30=0,\"\",SISWA!B30)","v":4378},{"$f":"IF(SISWA!C30=0,\"\",SISWA!C30)","v":"0074268893"},{"$f":"IF(SISWA!D30=0,\"\",SISWA!D30)","v":"1-18-05-80-162-023-2"},{"$f":"IF(SISWA!E30=0,\"\",SISWA!E30)","v":"MUKHAMAD DAVID ARIF FIRDAUS"},null,82,83,90,95,87.5,60,null,"",null,65]
[24,{"$f":"IF(SISWA!B31=0,\"\",SISWA!B31)","v":4379},{"$f":"IF(SISWA!C31=0,\"\",SISWA!C31)","v":"0072757203"},{"$f":"IF(SISWA!D31=0,\"\",SISWA!D31)","v":"1-18-05-80-162-024-9"},{"$f":"IF(SISWA!E31=0,\"\",SISWA!E31)","v":"NAORA ISQI AINAYYA"},null,89,85,92,92,89.5,60,null,"",null,65]
[25,{"$f":"IF(SISWA!B32=0,\"\",SISWA!B32)","v":4380},{"$f":"IF(SISWA!C32=0,\"\",SISWA!C32)","v":"0079026285"},{"$f":"IF(SISWA!D32=0,\"\",SISWA!D32)","v":"1-18-05-80-162-025-8"},{"$f":"IF(SISWA!E32=0,\"\",SISWA!E32)","v":"NAZRA ISLAMAY PASHA"},null,74,83,89,81,81.75,60,null,"",null,65]
[26,{"$f":"IF(SISWA!B33=0,\"\",SISWA!B33)","v":4382},{"$f":"IF(SISWA!C33=0,\"\",SISWA!C33)","v":"0079872151"},{"$f":"IF(SISWA!D33=0,\"\",SISWA!D33)","v":"1-18-05-80-162-026-7"},{"$f":"IF(SISWA!E33=0,\"\",SISWA!E33)","v":"NUR ALYA NABILA"},null,75,82,83,81,80.25,60,null,"",null,65]
[27,{"$f":"IF(SISWA!B34=0,\"\",SISWA!B34)","v":4358},{"$f":"IF(SISWA!C34=0,\"\",SISWA!C34)","v":"0087558837"},{"$f":"IF(SISWA!D34=0,\"\",SISWA!D34)","v":"1-18-05-80-162-027-6"},{"$f":"IF(SISWA!E34=0,\"\",SISWA!E34)","v":"PUTRI SHOLIKHAH"},null,73,76,82,88,79.75,60,null,"",null,65]
[28,{"$f":"IF(SISWA!B35=0,\"\",SISWA!B35)","v":4384},{"$f":"IF(SISWA!C35=0,\"\",SISWA!C35)","v":"0071234523"},{"$f":"IF(SISWA!D35=0,\"\",SISWA!D35)","v":"1-18-05-80-162-028-5"},{"$f":"IF(SISWA!E35=0,\"\",SISWA!E35)","v":"RESTI FITRIANTI DWI OCTAVIANI"},null,79,80,92,82,83.25,60,null,"",null,65]
[29,{"$f":"IF(SISWA!B36=0,\"\",SISWA!B36)","v":4359},{"$f":"IF(SISWA!C36=0,\"\",SISWA!C36)","v":"0073122181"},{"$f":"IF(SISWA!D36=0,\"\",SISWA!D36)","v":"1-18-05-80-162-029-4"},{"$f":"IF(SISWA!E36=0,\"\",SISWA!E36)","v":"ROUDHOTUS SA'DIYAH"},null,81,81,83,84,82.25,60,null,"",null,65]
[30,{"$f":"IF(SISWA!B37=0,\"\",SISWA!B37)","v":4386},{"$f":"IF(SISWA!C37=0,\"\",SISWA!C37)","v":"0075344352"},{"$f":"IF(SISWA!D37=0,\"\",SISWA!D37)","v":"1-18-05-80-162-030-3"},{"$f":"IF(SISWA!E37=0,\"\",SISWA!E37)","v":"TIERSYA BETA RAMANUZAN"},null,87,83,94,94,89.5,60,null,"",null,65]
[31,{"$f":"IF(SISWA!B38=0,\"\",SISWA!B38)","v":4388},{"$f":"IF(SISWA!C38=0,\"\",SISWA!C38)","v":"0077423646"},{"$f":"IF(SISWA!D38=0,\"\",SISWA!D38)","v":"1-18-05-80-162-031-2"},{"$f":"IF(SISWA!E38=0,\"\",SISWA!E38)","v":"VERA MUSTIKA"},null,72,76,82,87,79.25,60,null,"",null,65]
[32,{"$f":"IF(SISWA!B39=0,\"\",SISWA!B39)","v":4360},{"$f":"IF(SISWA!C39=0,\"\",SISWA!C39)","v":"0077290990"},{"$f":"IF(SISWA!D39=0,\"\",SISWA!D39)","v":"1-18-05-80-162-032-9"},{"$f":"IF(SISWA!E39=0,\"\",SISWA!E39)","v":"ZIDNY ILMA NABILA"},null,88,78,92,94,88,65,null,"",null,65]
[33,{"$f":"IF(SISWA!B40=0,\"\",SISWA!B40)","v":4390},{"$f":"IF(SISWA!C40=0,\"\",SISWA!C40)","v":"0077722307"},{"$f":"IF(SISWA!D40=0,\"\",SISWA!D40)","v":"1-18-05-80-162-033-8"},{"$f":"IF(SISWA!E40=0,\"\",SISWA!E40)","v":"ZITNATUL AULIA ILLA"},null,84,86,91,89,87.5,60,null,"",null,65]
[34,{"$f":"IF(SISWA!B41=0,\"\",SISWA!B41)","v":4330},{"$f":"IF(SISWA!C41=0,\"\",SISWA!C41)","v":"0084736422"},{"$f":"IF(SISWA!D41=0,\"\",SISWA!D41)","v":"1-18-05-80-162-034-7"},{"$f":"IF(SISWA!E41=0,\"\",SISWA!E41)","v":"ACHID ATHIRIL ARDAN"},null,61,80,87,85,78.25,60,null,"",null,65]
[35,{"$f":"IF(SISWA!B42=0,\"\",SISWA!B42)","v":4361},{"$f":"IF(SISWA!C42=0,\"\",SISWA!C42)","v":"0075656390"},{"$f":"IF(SISWA!D42=0,\"\",SISWA!D42)","v":"1-18-05-80-162-035-6"},{"$f":"IF(SISWA!E42=0,\"\",SISWA!E42)","v":"ACHMAD SEPTIAN HAMDANI"},null,60,78,88,83,77.25,60,null,"",null,65]
[36,{"$f":"IF(SISWA!B43=0,\"\",SISWA!B43)","v":4362},{"$f":"IF(SISWA!C43=0,\"\",SISWA!C43)","v":"0071796138"},{"$f":"IF(SISWA!D43=0,\"\",SISWA!D43)","v":"1-18-05-80-162-036-5"},{"$f":"IF(SISWA!E43=0,\"\",SISWA!E43)","v":"ACHMAD SULAIMAN"},null,60,77,72,84,73.25,60,null,"",null,65]
[37,{"$f":"IF(SISWA!B44=0,\"\",SISWA!B44)","v":4364},{"$f":"IF(SISWA!C44=0,\"\",SISWA!C44)","v":"0079667684"},{"$f":"IF(SISWA!D44=0,\"\",SISWA!D44)","v":"1-18-05-80-162-037-4"},{"$f":"IF(SISWA!E44=0,\"\",SISWA!E44)","v":"AIRLANGGA DWIKA RIZQI"},null,60,76,79,84,74.75,60,null,"",null,65]
[38,{"$f":"IF(SISWA!B45=0,\"\",SISWA!B45)","v":4365},{"$f":"IF(SISWA!C45=0,\"\",SISWA!C45)","v":"0089321127"},{"$f":"IF(SISWA!D45=0,\"\",SISWA!D45)","v":"1-18-05-80-162-038-3"},{"$f":"IF(SISWA!E45=0,\"\",SISWA!E45)","v":"AUFAN AZKAL ABRORI"},null,82,75,78,84,79.75,60,null,"",null,65]
[39,{"$f":"IF(SISWA!B46=0,\"\",SISWA!B46)","v":4465},{"$f":"IF(SISWA!C46=0,\"\",SISWA!C46)","v":"0071776593"},{"$f":"IF(SISWA!D46=0,\"\",SISWA!D46)","v":"1-18-05-80-162-039-2"},{"$f":"IF(SISWA!E46=0,\"\",SISWA!E46)","v":"AZZA PRISHAL DWI PUTRA"},null,73,82,81,85,80.25,60,null,"",null,65]
[40,{"$f":"IF(SISWA!B47=0,\"\",SISWA!B47)","v":4368},{"$f":"IF(SISWA!C47=0,\"\",SISWA!C47)","v":"0074569410"},{"$f":"IF(SISWA!D47=0,\"\",SISWA!D47)","v":"1-18-05-80-162-040-9"},{"$f":"IF(SISWA!E47=0,\"\",SISWA!E47)","v":"EKA AULIYA` PUTRI"},null,65,78,79,82,76,60,null,"",null,65]
[41,{"$f":"IF(SISWA!B48=0,\"\",SISWA!B48)","v":4341},{"$f":"IF(SISWA!C48=0,\"\",SISWA!C48)","v":"0083684457"},{"$f":"IF(SISWA!D48=0,\"\",SISWA!D48)","v":"1-18-05-80-162-041-8"},{"$f":"IF(SISWA!E48=0,\"\",SISWA!E48)","v":"ERSA PUSPITA EKA ROSA LINDA"},null,80,76,85,85,81.5,60,null,"",null,65]
[42,{"$f":"IF(SISWA!B49=0,\"\",SISWA!B49)","v":4369},{"$f":"IF(SISWA!C49=0,\"\",SISWA!C49)","v":"0078481731"},{"$f":"IF(SISWA!D49=0,\"\",SISWA!D49)","v":"1-18-05-80-162-042-7"},{"$f":"IF(SISWA!E49=0,\"\",SISWA!E49)","v":"FABIYAN TRI BAKTI OKTAFIAN"},null,63,73,85,84,76.25,60,null,"",null,65]
[43,{"$f":"IF(SISWA!B50=0,\"\",SISWA!B50)","v":4343},{"$f":"IF(SISWA!C50=0,\"\",SISWA!C50)","v":3075965396},{"$f":"IF(SISWA!D50=0,\"\",SISWA!D50)","v":"1-18-05-80-162-043-6"},{"$f":"IF(SISWA!E50=0,\"\",SISWA!E50)","v":"FELISITA APRILIA NUR NIHAYA"},null,83,77,74,82,79,60,null,"",null,65]
[44,{"$f":"IF(SISWA!B51=0,\"\",SISWA!B51)","v":4344},{"$f":"IF(SISWA!C51=0,\"\",SISWA!C51)","v":3078948093},{"$f":"IF(SISWA!D51=0,\"\",SISWA!D51)","v":"1-18-05-80-162-044-5"},{"$f":"IF(SISWA!E51=0,\"\",SISWA!E51)","v":"FIRDA DWI ANDRIANI"},null,60,78,77,84,74.75,60,null,"",null,65]
[45,{"$f":"IF(SISWA!B52=0,\"\",SISWA!B52)","v":4372},{"$f":"IF(SISWA!C52=0,\"\",SISWA!C52)","v":"0087636520"},{"$f":"IF(SISWA!D52=0,\"\",SISWA!D52)","v":"1-18-05-80-162-045-4"},{"$f":"IF(SISWA!E52=0,\"\",SISWA!E52)","v":"GILANG AKBAR PRASETYO"},null,70,78,77,83,77,60,null,"",null,65]
[46,{"$f":"IF(SISWA!B53=0,\"\",SISWA!B53)","v":4373},{"$f":"IF(SISWA!C53=0,\"\",SISWA!C53)","v":"0087373224"},{"$f":"IF(SISWA!D53=0,\"\",SISWA!D53)","v":"1-18-05-80-162-046-3"},{"$f":"IF(SISWA!E53=0,\"\",SISWA!E53)","v":"IFTAH IZZAH EMILIA  MAHMUD"},null,63,75,85,82,76.25,60,null,"",null,65]
[47,{"$f":"IF(SISWA!B54=0,\"\",SISWA!B54)","v":4441},{"$f":"IF(SISWA!C54=0,\"\",SISWA!C54)","v":"0081758949"},{"$f":"IF(SISWA!D54=0,\"\",SISWA!D54)","v":"1-18-05-80-162-047-2"},{"$f":"IF(SISWA!E54=0,\"\",SISWA!E54)","v":"INES ARIFANI MAULINA"},null,85,81,80,85,82.75,73.571428571428569,null,"",null,73.571428571428569]
[48,{"$f":"IF(SISWA!B55=0,\"\",SISWA!B55)","v":4374},{"$f":"IF(SISWA!C55=0,\"\",SISWA!C55)","v":"0073409469"},{"$f":"IF(SISWA!D55=0,\"\",SISWA!D55)","v":"1-18-05-80-162-048-9"},{"$f":"IF(SISWA!E55=0,\"\",SISWA!E55)","v":"IYAAD AFLAKHA RAMZII"},null,60,74,89,86,77.25,60,null,"",null,65]
[49,{"$f":"IF(SISWA!B56=0,\"\",SISWA!B56)","v":4305},{"$f":"IF(SISWA!C56=0,\"\",SISWA!C56)","v":"0068258891"},{"$f":"IF(SISWA!D56=0,\"\",SISWA!D56)","v":"1-18-05-80-162-049-8"},{"$f":"IF(SISWA!E56=0,\"\",SISWA!E56)","v":"JULI ANDRIYANTO"},null,70,72,78,84,76,60,null,"",null,65]
[50,{"$f":"IF(SISWA!B57=0,\"\",SISWA!B57)","v":4347},{"$f":"IF(SISWA!C57=0,\"\",SISWA!C57)","v":"0076367763"},{"$f":"IF(SISWA!D57=0,\"\",SISWA!D57)","v":"1-18-05-80-162-050-7"},{"$f":"IF(SISWA!E57=0,\"\",SISWA!E57)","v":"LIYA FEBRIYANI"},null,75,76,85,83,79.75,60,null,"",null,65]
[51,{"$f":"IF(SISWA!B58=0,\"\",SISWA!B58)","v":4348},{"$f":"IF(SISWA!C58=0,\"\",SISWA!C58)","v":"0083034332"},{"$f":"IF(SISWA!D58=0,\"\",SISWA!D58)","v":"1-18-05-80-162-051-6"},{"$f":"IF(SISWA!E58=0,\"\",SISWA!E58)","v":"LIZATUL CHAIYUNI"},null,70,80,81,83,{"$f":"AVERAGE(F58:J58)","v":78.5},60,null,"",null,65]
[52,{"$f":"IF(SISWA!B59=0,\"\",SISWA!B59)","v":4531},{"$f":"IF(SISWA!C59=0,\"\",SISWA!C59)","v":3099539154},{"$f":"IF(SISWA!D59=0,\"\",SISWA!D59)","v":"1-18-05-80-162-052-5"},{"$f":"IF(SISWA!E59=0,\"\",SISWA!E59)","v":"M. ALHAFIS"},null,62,74,82,85,75.75,60,null,"",null,65]
[53,{"$f":"IF(SISWA!B60=0,\"\",SISWA!B60)","v":4530},{"$f":"IF(SISWA!C60=0,\"\",SISWA!C60)","v":"0077015789"},{"$f":"IF(SISWA!D60=0,\"\",SISWA!D60)","v":"1-18-05-80-162-053-4"},{"$f":"IF(SISWA!E60=0,\"\",SISWA!E60)","v":"MUHAMMAD RIZKI RIDWAN"},null,60,73,80,82,73.75,60,null,"",null,65]
[54,{"$f":"IF(SISWA!B61=0,\"\",SISWA!B61)","v":4351},{"$f":"IF(SISWA!C61=0,\"\",SISWA!C61)","v":"0076361559"},{"$f":"IF(SISWA!D61=0,\"\",SISWA!D61)","v":"1-18-05-80-162-054-3"},{"$f":"IF(SISWA!E61=0,\"\",SISWA!E61)","v":"MOCHAMAD RAFLI DIAN SAPUTRA"},null,68,74,85,83,77.5,60,null,"",null,65]
[55,{"$f":"IF(SISWA!B62=0,\"\",SISWA!B62)","v":4352},{"$f":"IF(SISWA!C62=0,\"\",SISWA!C62)","v":"0075591405"},{"$f":"IF(SISWA!D62=0,\"\",SISWA!D62)","v":"1-18-05-80-162-055-2"},{"$f":"IF(SISWA!E62=0,\"\",SISWA!E62)","v":"MOCHAMMAD AFAREL PUTRA RAMDHANA"},null,76,76,91,85,82,60,null,"",null,65]
[56,{"$f":"IF(SISWA!B63=0,\"\",SISWA!B63)","v":4355},{"$f":"IF(SISWA!C63=0,\"\",SISWA!C63)","v":"0075363258"},{"$f":"IF(SISWA!D63=0,\"\",SISWA!D63)","v":"1-18-05-80-162-056-9"},{"$f":"IF(SISWA!E63=0,\"\",SISWA!E63)","v":"MUHAMAD JEFRI MAULANA"},null,69,76,79,84,77,60,null,"",null,65]
[57,{"$f":"IF(SISWA!B64=0,\"\",SISWA!B64)","v":4376},{"$f":"IF(SISWA!C64=0,\"\",SISWA!C64)","v":"0072066741"},{"$f":"IF(SISWA!D64=0,\"\",SISWA!D64)","v":"1-18-05-80-162-057-8"},{"$f":"IF(SISWA!E64=0,\"\",SISWA!E64)","v":"MUHAMMAD DWI WILDAN BAGUS KURNIAWAN"},null,61,75,79,82,74.25,60,null,null,null,65]
[58,{"$f":"IF(SISWA!B65=0,\"\",SISWA!B65)","v":4377},{"$f":"IF(SISWA!C65=0,\"\",SISWA!C65)","v":"0071459044"},{"$f":"IF(SISWA!D65=0,\"\",SISWA!D65)","v":"1-18-05-80-162-058-7"},{"$f":"IF(SISWA!E65=0,\"\",SISWA!E65)","v":"MUHAMMAD FARIL FIRMANSYA"},null,65,75,79,84,75.75,60,null,null,null,65]
[59,{"$f":"IF(SISWA!B66=0,\"\",SISWA!B66)","v":4349},{"$f":"IF(SISWA!C66=0,\"\",SISWA!C66)","v":"0074206034"},{"$f":"IF(SISWA!D66=0,\"\",SISWA!D66)","v":"1-18-05-80-162-059-6"},{"$f":"IF(SISWA!E66=0,\"\",SISWA!E66)","v":"MUHAMMAD FARIZ UBAIDILLA"},null,73,76,83,85,79.25,60,null,null,null,65]
[60,{"$f":"IF(SISWA!B67=0,\"\",SISWA!B67)","v":4356},{"$f":"IF(SISWA!C67=0,\"\",SISWA!C67)","v":"0077937892"},{"$f":"IF(SISWA!D67=0,\"\",SISWA!D67)","v":"1-18-05-80-162-060-5"},{"$f":"IF(SISWA!E67=0,\"\",SISWA!E67)","v":"MUHAMMAD MAULANA ZIDANIL ILMI"},null,69,77,82,86,78.5,60,null,null,null,65]
[61,{"$f":"IF(SISWA!B68=0,\"\",SISWA!B68)","v":4357},{"$f":"IF(SISWA!C68=0,\"\",SISWA!C68)","v":"0078608527"},{"$f":"IF(SISWA!D68=0,\"\",SISWA!D68)","v":"1-18-05-80-162-061-4"},{"$f":"IF(SISWA!E68=0,\"\",SISWA!E68)","v":"MUHAMMAD SUTRISNO ISMAIL"},null,61,77,87,84,{"$f":"AVERAGE(F68:J68)","v":77.25},79.285714285714292,null,null,null,79.285714285714292]
[62,{"$f":"IF(SISWA!B69=0,\"\",SISWA!B69)","v":4381},{"$f":"IF(SISWA!C69=0,\"\",SISWA!C69)","v":"0072209435"},{"$f":"IF(SISWA!D69=0,\"\",SISWA!D69)","v":"1-18-05-80-162-062-3"},{"$f":"IF(SISWA!E69=0,\"\",SISWA!E69)","v":"NOVITA ERNIAWAN"},null,72,82,81,83,79.5,60,null,null,null,65]
[63,{"$f":"IF(SISWA!B70=0,\"\",SISWA!B70)","v":4383},{"$f":"IF(SISWA!C70=0,\"\",SISWA!C70)","v":"0077439834"},{"$f":"IF(SISWA!D70=0,\"\",SISWA!D70)","v":"1-18-05-80-162-063-2"},{"$f":"IF(SISWA!E70=0,\"\",SISWA!E70)","v":"PUTRI AULIA DWI AGUSTIN"},null,70,87,84,86,81.75,60,null,null,null,65]
[64,{"$f":"IF(SISWA!B71=0,\"\",SISWA!B71)","v":4385},{"$f":"IF(SISWA!C71=0,\"\",SISWA!C71)","v":"0073137310"},{"$f":"IF(SISWA!D71=0,\"\",SISWA!D71)","v":"1-18-05-80-162-064-9"},{"$f":"IF(SISWA!E71=0,\"\",SISWA!E71)","v":"STANY RAFIDAH RAHMANIA"},null,60,80,86,82,77,60,null,null,null,65]
[65,{"$f":"IF(SISWA!B72=0,\"\",SISWA!B72)","v":4387},{"$f":"IF(SISWA!C72=0,\"\",SISWA!C72)","v":"0077336427"},{"$f":"IF(SISWA!D72=0,\"\",SISWA!D72)","v":"1-18-05-80-162-065-8"},{"$f":"IF(SISWA!E72=0,\"\",SISWA!E72)","v":"USWATUN KHASANAH"},null,60,78,86,82,76.5,60,null,null,null,65]
[66,{"$f":"IF(SISWA!B73=0,\"\",SISWA!B73)","v":4389},{"$f":"IF(SISWA!C73=0,\"\",SISWA!C73)","v":"0078407631"},{"$f":"IF(SISWA!D73=0,\"\",SISWA!D73)","v":"1-18-05-80-162-066-7"},{"$f":"IF(SISWA!E73=0,\"\",SISWA!E73)","v":"VIKROUL KHAMILA"},null,72,79,85,85,80.25,60,null,null,null,65]
[67,{"$f":"IF(SISWA!B74=0,\"\",SISWA!B74)","v":""},{"$f":"IF(SISWA!C74=0,\"\",SISWA!C74)","v":""},{"$f":"IF(SISWA!D74=0,\"\",SISWA!D74)","v":""},{"$f":"IF(SISWA!E74=0,\"\",SISWA!E74)","v":""},null,null,null,null,null,{"$error":"#DIV/0!"},null,null,null,null,{"$error":"#DIV/0!"}]
[68,{"$f":"IF(SISWA!B75=0,\"\",SISWA!B75)","v":""},{"$f":"IF(SISWA!C75=0,\"\",SISWA!C75)","v":""},{"$f":"IF(SISWA!D75=0,\"\",SISWA!D75)","v":""},{"$f":"IF(SISWA!E75=0,\"\",SISWA!E75)","v":""},null,null,null,null,null,{"$error":"#DIV/0!"},null,null,null,null,{"$error":"#DIV/0!"}]
[69,{"$f":"IF(SISWA!B76=0,\"\",SISWA!B76)","v":""},{"$f":"IF(SISWA!C76=0,\"\",SISWA!C76)","v":""},{"$f":"IF(SISWA!D76=0,\"\",SISWA!D76)","v":""},{"$f":"IF(SISWA!E76=0,\"\",SISWA!E76)","v":""},null,null,null,null,null,{"$error":"#DIV/0!"},null,null,null,null,{"$error":"#DIV/0!"}]
[70,{"$f":"IF(SISWA!B77=0,\"\",SISWA!B77)","v":""},{"$f":"IF(SISWA!C77=0,\"\",SISWA!C77)","v":""},{"$f":"IF(SISWA!D77=0,\"\",SISWA!D77)","v":""},{"$f":"IF(SISWA!E77=0,\"\",SISWA!E77)","v":""},null,null,null,null,null,{"$error":"#DIV/0!"},null,null,null,null,{"$error":"#DIV/0!"}]
[71,{"$f":"IF(SISWA!B78=0,\"\",SISWA!B78)","v":""},{"$f":"IF(SISWA!C78=0,\"\",SISWA!C78)","v":""},{"$f":"IF(SISWA!D78=0,\"\",SISWA!D78)","v":""},{"$f":"IF(SISWA!E78=0,\"\",SISWA!E78)","v":""},null,null,null,null,null,{"$error":"#DIV/0!"},null,null,null,null,{"$error":"#DIV/0!"}]
[72,{"$f":"IF(SISWA!B79=0,\"\",SISWA!B79)","v":""},{"$f":"IF(SISWA!C79=0,\"\",SISWA!C79)","v":""},{"$f":"IF(SISWA!D79=0,\"\",SISWA!D79)","v":""},{"$f":"IF(SISWA!E79=0,\"\",SISWA!E79)","v":""},null,null,null,null,null,{"$error":"#DIV/0!"},null,null,null,null,{"$error":"#DIV/0!"}]
[73,{"$f":"IF(SISWA!B80=0,\"\",SISWA!B80)","v":""},{"$f":"IF(SISWA!C80=0,\"\",SISWA!C80)","v":""},{"$f":"IF(SISWA!D80=0,\"\",SISWA!D80)","v":""},{"$f":"IF(SISWA!E80=0,\"\",SISWA!E80)","v":""},null,null,null,null,null,{"$error":"#DIV/0!"},null,null,null,null,{"$error":"#DIV/0!"}]
[74,{"$f":"IF(SISWA!B81=0,\"\",SISWA!B81)","v":""},{"$f":"IF(SISWA!C81=0,\"\",SISWA!C81)","v":""},{"$f":"IF(SISWA!D81=0,\"\",SISWA!D81)","v":""},{"$f":"IF(SISWA!E81=0,\"\",SISWA!E81)","v":""},null,null,null,null,null,{"$error":"#DIV/0!"},null,null,null,null,{"$error":"#DIV/0!"}]
[75,{"$f":"IF(SISWA!B82=0,\"\",SISWA!B82)","v":""},{"$f":"IF(SISWA!C82=0,\"\",SISWA!C82)","v":""},{"$f":"IF(SISWA!D82=0,\"\",SISWA!D82)","v":""},{"$f":"IF(SISWA!E82=0,\"\",SISWA!E82)","v":""},null,null,null,null,null,{"$error":"#DIV/0!"},null,null,null,null,{"$error":"#DIV/0!"}]
[76,{"$f":"IF(SISWA!B83=0,\"\",SISWA!B83)","v":""},{"$f":"IF(SISWA!C83=0,\"\",SISWA!C83)","v":""},{"$f":"IF(SISWA!D83=0,\"\",SISWA!D83)","v":""},{"$f":"IF(SISWA!E83=0,\"\",SISWA!E83)","v":""},null,null,null,null,null,{"$error":"#DIV/0!"},null,null,null,null,{"$error":"#DIV/0!"}]
[77,{"$f":"IF(SISWA!B84=0,\"\",SISWA!B84)","v":""},{"$f":"IF(SISWA!C84=0,\"\",SISWA!C84)","v":""},{"$f":"IF(SISWA!D84=0,\"\",SISWA!D84)","v":""},{"$f":"IF(SISWA!E84=0,\"\",SISWA!E84)","v":""},null,null,null,null,null,{"$error":"#DIV/0!"},null,null,null,null,{"$error":"#DIV/0!"}]
[78,{"$f":"IF(SISWA!B85=0,\"\",SISWA!B85)","v":""},{"$f":"IF(SISWA!C85=0,\"\",SISWA!C85)","v":""},{"$f":"IF(SISWA!D85=0,\"\",SISWA!D85)","v":""},{"$f":"IF(SISWA!E85=0,\"\",SISWA!E85)","v":""},null,null,null,null,null,{"$error":"#DIV/0!"},null,null,null,null,{"$error":"#DIV/0!"}]
[79,{"$f":"IF(SISWA!B86=0,\"\",SISWA!B86)","v":""},{"$f":"IF(SISWA!C86=0,\"\",SISWA!C86)","v":""},{"$f":"IF(SISWA!D86=0,\"\",SISWA!D86)","v":""},{"$f":"IF(SISWA!E86=0,\"\",SISWA!E86)","v":""},null,null,null,null,null,{"$error":"#DIV/0!"},null,null,null,null,{"$error":"#DIV/0!"}]
[80,{"$f":"IF(SISWA!B87=0,\"\",SISWA!B87)","v":""},{"$f":"IF(SISWA!C87=0,\"\",SISWA!C87)","v":""},{"$f":"IF(SISWA!D87=0,\"\",SISWA!D87)","v":""},{"$f":"IF(SISWA!E87=0,\"\",SISWA!E87)","v":""},null,null,null,null,null,{"$error":"#DIV/0!"},null,null,null,null,{"$error":"#DIV/0!"}]
[81,{"$f":"IF(SISWA!B88=0,\"\",SISWA!B88)","v":""},{"$f":"IF(SISWA!C88=0,\"\",SISWA!C88)","v":""},{"$f":"IF(SISWA!D88=0,\"\",SISWA!D88)","v":""},{"$f":"IF(SISWA!E88=0,\"\",SISWA!E88)","v":""},null,null,null,null,null,{"$error":"#DIV/0!"},null,null,null,null,{"$error":"#DIV/0!"}]
[82,{"$f":"IF(SISWA!B89=0,\"\",SISWA!B89)","v":""},{"$f":"IF(SISWA!C89=0,\"\",SISWA!C89)","v":""},{"$f":"IF(SISWA!D89=0,\"\",SISWA!D89)","v":""},{"$f":"IF(SISWA!E89=0,\"\",SISWA!E89)","v":""},null,null,null,null,null,{"$error":"#DIV/0!"},null,null,null,null,{"$error":"#DIV/0!"}]
[83,{"$f":"IF(SISWA!B90=0,\"\",SISWA!B90)","v":""},{"$f":"IF(SISWA!C90=0,\"\",SISWA!C90)","v":""},{"$f":"IF(SISWA!D90=0,\"\",SISWA!D90)","v":""},{"$f":"IF(SISWA!E90=0,\"\",SISWA!E90)","v":""},null,null,null,null,null,{"$error":"#DIV/0!"},null,null,null,null,{"$error":"#DIV/0!"}]
[84,{"$f":"IF(SISWA!B91=0,\"\",SISWA!B91)","v":""},{"$f":"IF(SISWA!C91=0,\"\",SISWA!C91)","v":""},{"$f":"IF(SISWA!D91=0,\"\",SISWA!D91)","v":""},{"$f":"IF(SISWA!E91=0,\"\",SISWA!E91)","v":""},null,null,null,null,null,{"$error":"#DIV/0!"},null,null,null,null,{"$error":"#DIV/0!"}]
[85,{"$f":"IF(SISWA!B92=0,\"\",SISWA!B92)","v":""},{"$f":"IF(SISWA!C92=0,\"\",SISWA!C92)","v":""},{"$f":"IF(SISWA!D92=0,\"\",SISWA!D92)","v":""},{"$f":"IF(SISWA!E92=0,\"\",SISWA!E92)","v":""},null,null,null,null,null,{"$error":"#DIV/0!"},null,null,null,null,{"$error":"#DIV/0!"}]
[86,{"$f":"IF(SISWA!B93=0,\"\",SISWA!B93)","v":""},{"$f":"IF(SISWA!C93=0,\"\",SISWA!C93)","v":""},{"$f":"IF(SISWA!D93=0,\"\",SISWA!D93)","v":""},{"$f":"IF(SISWA!E93=0,\"\",SISWA!E93)","v":""},null,null,null,null,null,{"$error":"#DIV/0!"},null,null,null,null,{"$error":"#DIV/0!"}]
[87,{"$f":"IF(SISWA!B94=0,\"\",SISWA!B94)","v":""},{"$f":"IF(SISWA!C94=0,\"\",SISWA!C94)","v":""},{"$f":"IF(SISWA!D94=0,\"\",SISWA!D94)","v":""},{"$f":"IF(SISWA!E94=0,\"\",SISWA!E94)","v":""},null,null,null,null,null,{"$error":"#DIV/0!"},null,null,null,null,{"$error":"#DIV/0!"}]
[88,{"$f":"IF(SISWA!B95=0,\"\",SISWA!B95)","v":""},{"$f":"IF(SISWA!C95=0,\"\",SISWA!C95)","v":""},{"$f":"IF(SISWA!D95=0,\"\",SISWA!D95)","v":""},{"$f":"IF(SISWA!E95=0,\"\",SISWA!E95)","v":""},null,null,null,null,null,{"$error":"#DIV/0!"},null,null,null,null,{"$error":"#DIV/0!"}]
[89,{"$f":"IF(SISWA!B96=0,\"\",SISWA!B96)","v":""},{"$f":"IF(SISWA!C96=0,\"\",SISWA!C96)","v":""},{"$f":"IF(SISWA!D96=0,\"\",SISWA!D96)","v":""},{"$f":"IF(SISWA!E96=0,\"\",SISWA!E96)","v":""},null,null,null,null,null,{"$error":"#DIV/0!"},null,null,null,null,{"$error":"#DIV/0!"}]
[90,{"$f":"IF(SISWA!B97=0,\"\",SISWA!B97)","v":""},{"$f":"IF(SISWA!C97=0,\"\",SISWA!C97)","v":""},{"$f":"IF(SISWA!D97=0,\"\",SISWA!D97)","v":""},{"$f":"IF(SISWA!E97=0,\"\",SISWA!E97)","v":""},null,null,null,null,null,{"$error":"#DIV/0!"},null,null,null,null,{"$error":"#DIV/0!"}]
[91,{"$f":"IF(SISWA!B98=0,\"\",SISWA!B98)","v":""},{"$f":"IF(SISWA!C98=0,\"\",SISWA!C98)","v":""},{"$f":"IF(SISWA!D98=0,\"\",SISWA!D98)","v":""},{"$f":"IF(SISWA!E98=0,\"\",SISWA!E98)","v":""},null,null,null,null,null,{"$error":"#DIV/0!"},null,null,null,null,{"$error":"#DIV/0!"}]
[92,{"$f":"IF(SISWA!B99=0,\"\",SISWA!B99)","v":""},{"$f":"IF(SISWA!C99=0,\"\",SISWA!C99)","v":""},{"$f":"IF(SISWA!D99=0,\"\",SISWA!D99)","v":""},{"$f":"IF(SISWA!E99=0,\"\",SISWA!E99)","v":""},null,null,null,null,null,{"$error":"#DIV/0!"},null,null,null,null,{"$error":"#DIV/0!"}]
[93,{"$f":"IF(SISWA!B100=0,\"\",SISWA!B100)","v":""},{"$f":"IF(SISWA!C100=0,\"\",SISWA!C100)","v":""},{"$f":"IF(SISWA!D100=0,\"\",SISWA!D100)","v":""},{"$f":"IF(SISWA!E100=0,\"\",SISWA!E100)","v":""},null,null,null,null,null,{"$error":"#DIV/0!"},null,null,null,null,{"$error":"#DIV/0!"}]
[94,{"$f":"IF(SISWA!B101=0,\"\",SISWA!B101)","v":""},{"$f":"IF(SISWA!C101=0,\"\",SISWA!C101)","v":""},{"$f":"IF(SISWA!D101=0,\"\",SISWA!D101)","v":""},{"$f":"IF(SISWA!E101=0,\"\",SISWA!E101)","v":""},null,null,null,null,null,{"$error":"#DIV/0!"},null,null,null,null,{"$error":"#DIV/0!"}]
[95,{"$f":"IF(SISWA!B102=0,\"\",SISWA!B102)","v":""},{"$f":"IF(SISWA!C102=0,\"\",SISWA!C102)","v":""},{"$f":"IF(SISWA!D102=0,\"\",SISWA!D102)","v":""},{"$f":"IF(SISWA!E102=0,\"\",SISWA!E102)","v":""},null,null,null,null,null,{"$error":"#DIV/0!"},null,null,null,null,{"$error":"#DIV/0!"}]
[96,{"$f":"IF(SISWA!B103=0,\"\",SISWA!B103)","v":""},{"$f":"IF(SISWA!C103=0,\"\",SISWA!C103)","v":""},{"$f":"IF(SISWA!D103=0,\"\",SISWA!D103)","v":""},{"$f":"IF(SISWA!E103=0,\"\",SISWA!E103)","v":""},null,null,null,null,null,{"$error":"#DIV/0!"},null,null,null,null,{"$error":"#DIV/0!"}]
[97,{"$f":"IF(SISWA!B104=0,\"\",SISWA!B104)","v":""},{"$f":"IF(SISWA!C104=0,\"\",SISWA!C104)","v":""},{"$f":"IF(SISWA!D104=0,\"\",SISWA!D104)","v":""},{"$f":"IF(SISWA!E104=0,\"\",SISWA!E104)","v":""},null,null,null,null,null,{"$error":"#DIV/0!"},null,null,null,null,{"$error":"#DIV/0!"}]
[98,{"$f":"IF(SISWA!B105=0,\"\",SISWA!B105)","v":""},{"$f":"IF(SISWA!C105=0,\"\",SISWA!C105)","v":""},{"$f":"IF(SISWA!D105=0,\"\",SISWA!D105)","v":""},{"$f":"IF(SISWA!E105=0,\"\",SISWA!E105)","v":""},null,null,null,null,null,{"$error":"#DIV/0!"},null,null,null,null,{"$error":"#DIV/0!"}]
[99,{"$f":"IF(SISWA!B106=0,\"\",SISWA!B106)","v":""},{"$f":"IF(SISWA!C106=0,\"\",SISWA!C106)","v":""},{"$f":"IF(SISWA!D106=0,\"\",SISWA!D106)","v":""},{"$f":"IF(SISWA!E106=0,\"\",SISWA!E106)","v":""},null,null,null,null,null,{"$error":"#DIV/0!"},null,null,null,null,{"$error":"#DIV/0!"}]
[100,{"$f":"IF(SISWA!B107=0,\"\",SISWA!B107)","v":""},{"$f":"IF(SISWA!C107=0,\"\",SISWA!C107)","v":""},{"$f":"IF(SISWA!D107=0,\"\",SISWA!D107)","v":""},{"$f":"IF(SISWA!E107=0,\"\",SISWA!E107)","v":""},null,null,null,null,null,{"$error":"#DIV/0!"},null,null,null,null,{"$error":"#DIV/0!"}]
[101,{"$f":"IF(SISWA!B108=0,\"\",SISWA!B108)","v":""},{"$f":"IF(SISWA!C108=0,\"\",SISWA!C108)","v":""},{"$f":"IF(SISWA!D108=0,\"\",SISWA!D108)","v":""},{"$f":"IF(SISWA!E108=0,\"\",SISWA!E108)","v":""},null,null,null,null,null,{"$error":"#DIV/0!"},null,null,null,null,{"$error":"#DIV/0!"}]

{"sheet":"IPA","index":11,"n_rows":207,"n_cols":16,"rows_kept":207,"cut":false,"hidden":false,"merged":[[4,5,4,12],[0,0,0,9],[1,0,1,9],[2,0,2,9],[4,0,6,0],[4,1,6,1],[4,2,6,2],[4,3,6,3],[4,4,6,4],[5,5,5,9],[5,11,5,12]]}
["DAFTAR NILAI AKHIR SEKOLAH"]
[{"$f":"AA!A2","v":"MADRASAH IBTIDAIYAH NURUL ISLAM LABRUK KIDUL"}]
[{"$f":"AA!A3","v":"TAHUN PELAJARAN 2019/2020"}]
[]
["NO","No Induk","NISN","Nomor Peserta","Nama Peserta","IPA"]
[null,null,null,null,null,"Nilai Semester",null,null,null,null,"Rata- 2","NILAI US",null,null,null,"UAMNU"]
[null,null,null,null,null,7,8,9,10,11,"Rapor","TULIS","PRAKTIK",null,null,"TULIS"]
[1,{"$f":"IF(SISWA!B8=0,\"\",SISWA!B8)","v":4331},{"$f":"IF(SISWA!C8=0,\"\",SISWA!C8)","v":"0078140536"},{"$f":"IF(SISWA!D8=0,\"\",SISWA!D8)","v":"1-18-05-80-162-001-8"},{"$f":"IF(SISWA!E8=0,\"\",SISWA!E8)","v":"ACHMAD FATHIR IZUDDIN"},null,68,74,80,81,{"$f":"AVERAGE(F8:J8)","v":75.75},75,null,{"$f":"AVERAGE(L8:M8)","v":75},{"$f":"AVERAGE(L8:M8)","v":75},75]
[2,{"$f":"IF(SISWA!B9=0,\"\",SISWA!B9)","v":4333},{"$f":"IF(SISWA!C9=0,\"\",SISWA!C9)","v":"0084691896"},{"$f":"IF(SISWA!D9=0,\"\",SISWA!D9)","v":"1-18-05-80-162-002-7"},{"$f":"IF(SISWA!E9=0,\"\",SISWA!E9)","v":"AININ NAFISA FEBRIYANTI"},null,70,74,80,85,{"$f":"AVERAGE(F9:J9)","v":77.25},60,null,{"$f":"AVERAGE(L9:M9)","v":60},{"$f":"AVERAGE(L9:M9)","v":60},65]
[3,{"$f":"IF(SISWA!B10=0,\"\",SISWA!B10)","v":4334},{"$f":"IF(SISWA!C10=0,\"\",SISWA!C10)","v":"0075488897"},{"$f":"IF(SISWA!D10=0,\"\",SISWA!D10)","v":"1-18-05-80-162-003-6"},{"$f":"IF(SISWA!E10=0,\"\",SISWA!E10)","v":"AISYAH DWI ANDINI"},null,70,80,85,92,81.75,60,null,60,60,65]
[4,{"$f":"IF(SISWA!B11=0,\"\",SISWA!B11)","v":4335},{"$f":"IF(SISWA!C11=0,\"\",SISWA!C11)","v":"0077554289"},{"$f":"IF(SISWA!D11=0,\"\",SISWA!D11)","v":"1-18-05-80-162-004-5"},{"$f":"IF(SISWA!E11=0,\"\",SISWA!E11)","v":"AJENG AGUSTINA KIRANA PUTRI"},null,70,79,80,84,78.25,60,null,60,60,65]
[5,{"$f":"IF(SISWA!B12=0,\"\",SISWA!B12)","v":4336},{"$f":"IF(SISWA!C12=0,\"\",SISWA!C12)","v":"0078831956"},{"$f":"IF(SISWA!D12=0,\"\",SISWA!D12)","v":"1-18-05-80-162-005-4"},{"$f":"IF(SISWA!E12=0,\"\",SISWA!E12)","v":"ALVIAN FAIZULHAQQI"},null,68,78,80,84,77.5,60,null,60,60,65]
[6,{"$f":"IF(SISWA!B13=0,\"\",SISWA!B13)","v":4337},{"$f":"IF(SISWA!C13=0,\"\",SISWA!C13)","v":"0073667130"},{"$f":"IF(SISWA!D13=0,\"\",SISWA!D13)","v":"1-18-05-80-162-006-3"},{"$f":"IF(SISWA!E13=0,\"\",SISWA!E13)","v":"ANGGITA RIZKY YUGA MEISYA"},null,73,80,87,88,82,60,null,60,60,65]
[7,{"$f":"IF(SISWA!B14=0,\"\",SISWA!B14)","v":4338},{"$f":"IF(SISWA!C14=0,\"\",SISWA!C14)","v":"0074492973"},{"$f":"IF(SISWA!D14=0,\"\",SISWA!D14)","v":"1-18-05-80-162-007-2"},{"$f":"IF(SISWA!E14=0,\"\",SISWA!E14)","v":"AURA SALSABILA WULAN SARI"},null,74,77,80,96,81.75,65,null,65,65,65]
[8,{"$f":"IF(SISWA!B15=0,\"\",SISWA!B15)","v":4366},{"$f":"IF(SISWA!C15=0,\"\",SISWA!C15)","v":"0078989673"},{"$f":"IF(SISWA!D15=0,\"\",SISWA!D15)","v":"1-18-05-80-162-008-9"},{"$f":"IF(SISWA!E15=0,\"\",SISWA!E15)","v":"BALQIS NAILA AUDIA"},null,75,77,92,88,83,72.5,null,72.5,72.5,72.5]
[9,{"$f":"IF(SISWA!B16=0,\"\",SISWA!B16)","v":4440},{"$f":"IF(SISWA!C16=0,\"\",SISWA!C16)","v":"0082763386"},{"$f":"IF(SISWA!D16=0,\"\",SISWA!D16)","v":"1-18-05-80-162-009-8"},{"$f":"IF(SISWA!E16=0,\"\",SISWA!E16)","v":"BIMA ARYO SUSILO"},null,75,78,87,87,81.75,65,null,65,65,65]
[10,{"$f":"IF(SISWA!B17=0,\"\",SISWA!B17)","v":4367},{"$f":"IF(SISWA!C17=0,\"\",SISWA!C17)","v":"0078400392"},{"$f":"IF(SISWA!D17=0,\"\",SISWA!D17)","v":"1-18-05-80-162-010-7"},{"$f":"IF(SISWA!E17=0,\"\",SISWA!E17)","v":"BIMA SATRIA DIRGANTARA"},null,67,74,80,93,78.5,60,null,60,60,65]
[11,{"$f":"IF(SISWA!B18=0,\"\",SISWA!B18)","v":4339},{"$f":"IF(SISWA!C18=0,\"\",SISWA!C18)","v":"0086652599"},{"$f":"IF(SISWA!D18=0,\"\",SISWA!D18)","v":"1-18-05-80-162-011-6"},{"$f":"IF(SISWA!E18=0,\"\",SISWA!E18)","v":"DEVI KARUNIA RATNA PUTRI"},null,70,81,87,88,81.5,60,null,60,60,65]
[12,{"$f":"IF(SISWA!B19=0,\"\",SISWA!B19)","v":4340},{"$f":"IF(SISWA!C19=0,\"\",SISWA!C19)","v":"0089906682"},{"$f":"IF(SISWA!D19=0,\"\",SISWA!D19)","v":"1-18-05-80-162-012-5"},{"$f":"IF(SISWA!E19=0,\"\",SISWA!E19)","v":"DEVITA FEBRIANI PUTRI"},null,70,81,80,86,79.25,60,null,60,60,65]
[13,{"$f":"IF(SISWA!B20=0,\"\",SISWA!B20)","v":4370},{"$f":"IF(SISWA!C20=0,\"\",SISWA!C20)","v":"0074514146"},{"$f":"IF(SISWA!D20=0,\"\",SISWA!D20)","v":"1-18-05-80-162-013-4"},{"$f":"IF(SISWA!E20=0,\"\",SISWA!E20)","v":"FAKHIS GABRIL LIA"},null,67,76,80,88,77.75,70,null,70,70,70]
[14,{"$f":"IF(SISWA!B21=0,\"\",SISWA!B21)","v":4342},{"$f":"IF(SISWA!C21=0,\"\",SISWA!C21)","v":"0081081672"},{"$f":"IF(SISWA!D21=0,\"\",SISWA!D21)","v":"1-18-05-80-162-014-3"},{"$f":"IF(SISWA!E21=0,\"\",SISWA!E21)","v":"FARAH NAILATUL ALYAH"},null,88,75,89,85,84.25,60,null,60,60,65]
[15,{"$f":"IF(SISWA!B22=0,\"\",SISWA!B22)","v":4345},{"$f":"IF(SISWA!C22=0,\"\",SISWA!C22)","v":"0073420487"},{"$f":"IF(SISWA!D22=0,\"\",SISWA!D22)","v":"1-18-05-80-162-015-2"},{"$f":"IF(SISWA!E22=0,\"\",SISWA!E22)","v":"GALANG MARDHOTILLAH SATOTO"},null,67,76,82,87,78,60,null,60,60,65]
[16,{"$f":"IF(SISWA!B23=0,\"\",SISWA!B23)","v":4371},{"$f":"IF(SISWA!C23=0,\"\",SISWA!C23)","v":"0079870082"},{"$f":"IF(SISWA!D23=0,\"\",SISWA!D23)","v":"1-18-05-80-162-016-9"},{"$f":"IF(SISWA!E23=0,\"\",SISWA!E23)","v":"GALIH FAREL PRASTYO"},null,67,75,80,93,78.75,60,null,60,60,65]
[17,{"$f":"IF(SISWA!B24=0,\"\",SISWA!B24)","v":4466},{"$f":"IF(SISWA!C24=0,\"\",SISWA!C24)","v":"0081629504"},{"$f":"IF(SISWA!D24=0,\"\",SISWA!D24)","v":"1-18-05-80-162-017-8"},{"$f":"IF(SISWA!E24=0,\"\",SISWA!E24)","v":"HIBATULLAH MUSTAGHFIRY RUSLI"},null,78,76,80,86,80,60,null,60,60,65]
[18,{"$f":"IF(SISWA!B25=0,\"\",SISWA!B25)","v":4346},{"$f":"IF(SISWA!C25=0,\"\",SISWA!C25)","v":"0073608418"},{"$f":"IF(SISWA!D25=0,\"\",SISWA!D25)","v":"1-18-05-80-162-018-7"},{"$f":"IF(SISWA!E25=0,\"\",SISWA!E25)","v":"IKA KURNIA WATI AGUSTINA"},null,68,76,80,87,77.75,60,null,60,60,65]
[19,{"$f":"IF(SISWA!B26=0,\"\",SISWA!B26)","v":4350},{"$f":"IF(SISWA!C26=0,\"\",SISWA!C26)","v":"0072658586"},{"$f":"IF(SISWA!D26=0,\"\",SISWA!D26)","v":"1-18-05-80-162-019-6"},{"$f":"IF(SISWA!E26=0,\"\",SISWA!E26)","v":"MAYLUNA EKA PRATIWI"},null,89,79,80,94,85.5,60,null,60,60,65]
[20,{"$f":"IF(SISWA!B27=0,\"\",SISWA!B27)","v":4353},{"$f":"IF(SISWA!C27=0,\"\",SISWA!C27)","v":"0075464137"},{"$f":"IF(SISWA!D27=0,\"\",SISWA!D27)","v":"1-18-05-80-162-020-5"},{"$f":"IF(SISWA!E27=0,\"\",SISWA!E27)","v":"MOHAMAD DWIMAS FIRDAUS"},null,87,77,80,93,84.25,60,null,60,60,65]
[21,{"$f":"IF(SISWA!B28=0,\"\",SISWA!B28)","v":4375},{"$f":"IF(SISWA!C28=0,\"\",SISWA!C28)","v":"0075096831"},{"$f":"IF(SISWA!D28=0,\"\",SISWA!D28)","v":"1-18-05-80-162-021-4"},{"$f":"IF(SISWA!E28=0,\"\",SISWA!E28)","v":"MUHAMMAD AFFAN ABI SYAHPUTRA"},null,85,81,82,78,81.5,60,null,60,60,65]
[22,{"$f":"IF(SISWA!B29=0,\"\",SISWA!B29)","v":4354},{"$f":"IF(SISWA!C29=0,\"\",SISWA!C29)","v":"0075055640"},{"$f":"IF(SISWA!D29=0,\"\",SISWA!D29)","v":"1-18-05-80-162-022-3"},{"$f":"IF(SISWA!E29=0,\"\",SISWA!E29)","v":"MUHAMMAD ALVIN RIDHO"},null,68,76,80,84,77,65,null,65,{"$f":"AVERAGE(L29:M29)","v":65},65]
[23,{"$f":"IF(SISWA!B30=0,\"\",SISWA!B30)","v":4378},{"$f":"IF(SISWA!C30=0,\"\",SISWA!C30)","v":"0074268893"},{"$f":"IF(SISWA!D30=0,\"\",SISWA!D30)","v":"1-18-05-80-162-023-2"},{"$f":"IF(SISWA!E30=0,\"\",SISWA!E30)","v":"MUKHAMAD DAVID ARIF FIRDAUS"},null,84,79,87,88,84.5,60,null,60,60,65]
[24,{"$f":"IF(SISWA!B31=0,\"\",SISWA!B31)","v":4379},{"$f":"IF(SISWA!C31=0,\"\",SISWA!C31)","v":"0072757203"},{"$f":"IF(SISWA!D31=0,\"\",SISWA!D31)","v":"1-18-05-80-162-024-9"},{"$f":"IF(SISWA!E31=0,\"\",SISWA!E31)","v":"NAORA ISQI AINAYYA"},null,94,81,91,93,89.75,77.5,null,77.5,77.5,77.5]
[25,{"$f":"IF(SISWA!B32=0,\"\",SISWA!B32)","v":4380},{"$f":"IF(SISWA!C32=0,\"\",SISWA!C32)","v":"0079026285"},{"$f":"IF(SISWA!D32=0,\"\",SISWA!D32)","v":"1-18-05-80-162-025-8"},{"$f":"IF(SISWA!E32=0,\"\",SISWA!E32)","v":"NAZRA ISLAMAY PASHA"},null,75,76,87,92,82.5,60,null,60,60,65]
[26,{"$f":"IF(SISWA!B33=0,\"\",SISWA!B33)","v":4382},{"$f":"IF(SISWA!C33=0,\"\",SISWA!C33)","v":"0079872151"},{"$f":"IF(SISWA!D33=0,\"\",SISWA!D33)","v":"1-18-05-80-162-026-7"},{"$f":"IF(SISWA!E33=0,\"\",SISWA!E33)","v":"NUR ALYA NABILA"},null,78,73,80,90,80.25,60,null,60,60,65]
[27,{"$f":"IF(SISWA!B34=0,\"\",SISWA!B34)","v":4358},{"$f":"IF(SISWA!C34=0,\"\",SISWA!C34)","v":"0087558837"},{"$f":"IF(SISWA!D34=0,\"\",SISWA!D34)","v":"1-18-05-80-162-027-6"},{"$f":"IF(SISWA!E34=0,\"\",SISWA!E34)","v":"PUTRI SHOLIKHAH"},null,82,74,79,83,79.5,60,null,60,60,65]
[28,{"$f":"IF(SISWA!B35=0,\"\",SISWA!B35)","v":4384},{"$f":"IF(SISWA!C35=0,\"\",SISWA!C35)","v":"0071234523"},{"$f":"IF(SISWA!D35=0,\"\",SISWA!D35)","v":"1-18-05-80-162-028-5"},{"$f":"IF(SISWA!E35=0,\"\",SISWA!E35)","v":"RESTI FITRIANTI DWI OCTAVIANI"},null,76,77,89,89,82.75,60,null,60,60,65]
[29,{"$f":"IF(SISWA!B36=0,\"\",SISWA!B36)","v":4359},{"$f":"IF(SISWA!C36=0,\"\",SISWA!C36)","v":"0073122181"},{"$f":"IF(SISWA!D36=0,\"\",SISWA!D36)","v":"1-18-05-80-162-029-4"},{"$f":"IF(SISWA!E36=0,\"\",SISWA!E36)","v":"ROUDHOTUS SA'DIYAH"},null,82,77,80,85,81,60,null,60,60,65]
[30,{"$f":"IF(SISWA!B37=0,\"\",SISWA!B37)","v":4386},{"$f":"IF(SISWA!C37=0,\"\",SISWA!C37)","v":"0075344352"},{"$f":"IF(SISWA!D37=0,\"\",SISWA!D37)","v":"1-18-05-80-162-030-3"},{"$f":"IF(SISWA!E37=0,\"\",SISWA!E37)","v":"TIERSYA BETA RAMANUZAN"},null,89,80,92,90,87.75,65,null,65,65,65]
[31,{"$f":"IF(SISWA!B38=0,\"\",SISWA!B38)","v":4388},{"$f":"IF(SISWA!C38=0,\"\",SISWA!C38)","v":"0077423646"},{"$f":"IF(SISWA!D38=0,\"\",SISWA!D38)","v":"1-18-05-80-162-031-2"},{"$f":"IF(SISWA!E38=0,\"\",SISWA!E38)","v":"VERA MUSTIKA"},null,82,79,80,90,82.75,60,null,60,60,65]
[32,{"$f":"IF(SISWA!B39=0,\"\",SISWA!B39)","v":4360},{"$f":"IF(SISWA!C39=0,\"\",SISWA!C39)","v":"0077290990"},{"$f":"IF(SISWA!D39=0,\"\",SISWA!D39)","v":"1-18-05-80-162-032-9"},{"$f":"IF(SISWA!E39=0,\"\",SISWA!E39)","v":"ZIDNY ILMA NABILA"},null,89,82,91,95,89.25,72.5,null,72.5,72.5,72.5]
[33,{"$f":"IF(SISWA!B40=0,\"\",SISWA!B40)","v":4390},{"$f":"IF(SISWA!C40=0,\"\",SISWA!C40)","v":"0077722307"},{"$f":"IF(SISWA!D40=0,\"\",SISWA!D40)","v":"1-18-05-80-162-033-8"},{"$f":"IF(SISWA!E40=0,\"\",SISWA!E40)","v":"ZITNATUL AULIA ILLA"},null,87,79,87,93,86.5,67.5,null,67.5,67.5,67.5]
[34,{"$f":"IF(SISWA!B41=0,\"\",SISWA!B41)","v":4330},{"$f":"IF(SISWA!C41=0,\"\",SISWA!C41)","v":"0084736422"},{"$f":"IF(SISWA!D41=0,\"\",SISWA!D41)","v":"1-18-05-80-162-034-7"},{"$f":"IF(SISWA!E41=0,\"\",SISWA!E41)","v":"ACHID ATHIRIL ARDAN"},null,72,74,81,90,79.25,60,null,60,60,65]
[35,{"$f":"IF(SISWA!B42=0,\"\",SISWA!B42)","v":4361},{"$f":"IF(SISWA!C42=0,\"\",SISWA!C42)","v":"0075656390"},{"$f":"IF(SISWA!D42=0,\"\",SISWA!D42)","v":"1-18-05-80-162-035-6"},{"$f":"IF(SISWA!E42=0,\"\",SISWA!E42)","v":"ACHMAD SEPTIAN HAMDANI"},null,64,75,81,98,79.5,60,null,60,60,65]
[36,{"$f":"IF(SISWA!B43=0,\"\",SISWA!B43)","v":4362},{"$f":"IF(SISWA!C43=0,\"\",SISWA!C43)","v":"0071796138"},{"$f":"IF(SISWA!D43=0,\"\",SISWA!D43)","v":"1-18-05-80-162-036-5"},{"$f":"IF(SISWA!E43=0,\"\",SISWA!E43)","v":"ACHMAD SULAIMAN"},null,70,73,82,81,76.5,60,null,60,60,65]
[37,{"$f":"IF(SISWA!B44=0,\"\",SISWA!B44)","v":4364},{"$f":"IF(SISWA!C44=0,\"\",SISWA!C44)","v":"0079667684"},{"$f":"IF(SISWA!D44=0,\"\",SISWA!D44)","v":"1-18-05-80-162-037-4"},{"$f":"IF(SISWA!E44=0,\"\",SISWA!E44)","v":"AIRLANGGA DWIKA RIZQI"},null,60,74,82,83,74.75,60,null,60,60,65]
[38,{"$f":"IF(SISWA!B45=0,\"\",SISWA!B45)","v":4365},{"$f":"IF(SISWA!C45=0,\"\",SISWA!C45)","v":"0089321127"},{"$f":"IF(SISWA!D45=0,\"\",SISWA!D45)","v":"1-18-05-80-162-038-3"},{"$f":"IF(SISWA!E45=0,\"\",SISWA!E45)","v":"AUFAN AZKAL ABRORI"},null,67,75,84,96,80.5,60,null,60,60,65]
[39,{"$f":"IF(SISWA!B46=0,\"\",SISWA!B46)","v":4465},{"$f":"IF(SISWA!C46=0,\"\",SISWA!C46)","v":"0071776593"},{"$f":"IF(SISWA!D46=0,\"\",SISWA!D46)","v":"1-18-05-80-162-039-2"},{"$f":"IF(SISWA!E46=0,\"\",SISWA!E46)","v":"AZZA PRISHAL DWI PUTRA"},null,67,74,82,84,76.75,60,null,60,60,65]
[40,{"$f":"IF(SISWA!B47=0,\"\",SISWA!B47)","v":4368},{"$f":"IF(SISWA!C47=0,\"\",SISWA!C47)","v":"0074569410"},{"$f":"IF(SISWA!D47=0,\"\",SISWA!D47)","v":"1-18-05-80-162-040-9"},{"$f":"IF(SISWA!E47=0,\"\",SISWA!E47)","v":"EKA AULIYA` PUTRI"},null,67,80,84,98,82.25,60,null,60,60,65]
[41,{"$f":"IF(SISWA!B48=0,\"\",SISWA!B48)","v":4341},{"$f":"IF(SISWA!C48=0,\"\",SISWA!C48)","v":"0083684457"},{"$f":"IF(SISWA!D48=0,\"\",SISWA!D48)","v":"1-18-05-80-162-041-8"},{"$f":"IF(SISWA!E48=0,\"\",SISWA!E48)","v":"ERSA PUSPITA EKA ROSA LINDA"},null,69,76,85,96,81.5,60,null,60,60,65]
[42,{"$f":"IF(SISWA!B49=0,\"\",SISWA!B49)","v":4369},{"$f":"IF(SISWA!C49=0,\"\",SISWA!C49)","v":"0078481731"},{"$f":"IF(SISWA!D49=0,\"\",SISWA!D49)","v":"1-18-05-80-162-042-7"},{"$f":"IF(SISWA!E49=0,\"\",SISWA!E49)","v":"FABIYAN TRI BAKTI OKTAFIAN"},null,67,74,82,92,78.75,60,null,60,60,65]
[43,{"$f":"IF(SISWA!B50=0,\"\",SISWA!B50)","v":4343},{"$f":"IF(SISWA!C50=0,\"\",SISWA!C50)","v":3075965396},{"$f":"IF(SISWA!D50=0,\"\",SISWA!D50)","v":"1-18-05-80-162-043-6"},{"$f":"IF(SISWA!E50=0,\"\",SISWA!E50)","v":"FELISITA APRILIA NUR NIHAYA"},null,67,79,83,86,78.75,60,null,60,60,65]
[44,{"$f":"IF(SISWA!B51=0,\"\",SISWA!B51)","v":4344},{"$f":"IF(SISWA!C51=0,\"\",SISWA!C51)","v":3078948093},{"$f":"IF(SISWA!D51=0,\"\",SISWA!D51)","v":"1-18-05-80-162-044-5"},{"$f":"IF(SISWA!E51=0,\"\",SISWA!E51)","v":"FIRDA DWI ANDRIANI"},null,67,75,82,92,79,60,null,60,60,65]
[45,{"$f":"IF(SISWA!B52=0,\"\",SISWA!B52)","v":4372},{"$f":"IF(SISWA!C52=0,\"\",SISWA!C52)","v":"0087636520"},{"$f":"IF(SISWA!D52=0,\"\",SISWA!D52)","v":"1-18-05-80-162-045-4"},{"$f":"IF(SISWA!E52=0,\"\",SISWA!E52)","v":"GILANG AKBAR PRASETYO"},null,66,75,84,86,77.75,60,null,60,60,65]
[46,{"$f":"IF(SISWA!B53=0,\"\",SISWA!B53)","v":4373},{"$f":"IF(SISWA!C53=0,\"\",SISWA!C53)","v":"0087373224"},{"$f":"IF(SISWA!D53=0,\"\",SISWA!D53)","v":"1-18-05-80-162-046-3"},{"$f":"IF(SISWA!E53=0,\"\",SISWA!E53)","v":"IFTAH IZZAH EMILIA  MAHMUD"},null,67,75,82,81,76.25,60,null,60,60,65]
[47,{"$f":"IF(SISWA!B54=0,\"\",SISWA!B54)","v":4441},{"$f":"IF(SISWA!C54=0,\"\",SISWA!C54)","v":"0081758949"},{"$f":"IF(SISWA!D54=0,\"\",SISWA!D54)","v":"1-18-05-80-162-047-2"},{"$f":"IF(SISWA!E54=0,\"\",SISWA!E54)","v":"INES ARIFANI MAULINA"},null,68,81,83,90,80.5,60,null,60,60,65]
[48,{"$f":"IF(SISWA!B55=0,\"\",SISWA!B55)","v":4374},{"$f":"IF(SISWA!C55=0,\"\",SISWA!C55)","v":"0073409469"},{"$f":"IF(SISWA!D55=0,\"\",SISWA!D55)","v":"1-18-05-80-162-048-9"},{"$f":"IF(SISWA!E55=0,\"\",SISWA!E55)","v":"IYAAD AFLAKHA RAMZII"},null,68,79,84,96,81.75,60,null,60,60,65]
[49,{"$f":"IF(SISWA!B56=0,\"\",SISWA!B56)","v":4305},{"$f":"IF(SISWA!C56=0,\"\",SISWA!C56)","v":"0068258891"},{"$f":"IF(SISWA!D56=0,\"\",SISWA!D56)","v":"1-18-05-80-162-049-8"},{"$f":"IF(SISWA!E56=0,\"\",SISWA!E56)","v":"JULI ANDRIYANTO"},null,68,77,82,82,77.25,60,null,60,60,65]
[50,{"$f":"IF(SISWA!B57=0,\"\",SISWA!B57)","v":4347},{"$f":"IF(SISWA!C57=0,\"\",SISWA!C57)","v":"0076367763"},{"$f":"IF(SISWA!D57=0,\"\",SISWA!D57)","v":"1-18-05-80-162-050-7"},{"$f":"IF(SISWA!E57=0,\"\",SISWA!E57)","v":"LIYA FEBRIYANI"},null,73,84,89,96,85.5,60,null,60,60,65]
[51,{"$f":"IF(SISWA!B58=0,\"\",SISWA!B58)","v":4348},{"$f":"IF(SISWA!C58=0,\"\",SISWA!C58)","v":"0083034332"},{"$f":"IF(SISWA!D58=0,\"\",SISWA!D58)","v":"1-18-05-80-162-051-6"},{"$f":"IF(SISWA!E58=0,\"\",SISWA!E58)","v":"LIZATUL CHAIYUNI"},null,70,81,86,96,83.25,60,null,{"$f":"AVERAGE(L58:M58)","v":60},60,65]
[52,{"$f":"IF(SISWA!B59=0,\"\",SISWA!B59)","v":4531},{"$f":"IF(SISWA!C59=0,\"\",SISWA!C59)","v":3099539154},{"$f":"IF(SISWA!D59=0,\"\",SISWA!D59)","v":"1-18-05-80-162-052-5"},{"$f":"IF(SISWA!E59=0,\"\",SISWA!E59)","v":"M. ALHAFIS"},null,71,75,82,81,77.25,60,null,60,60,65]
[53,{"$f":"IF(SISWA!B60=0,\"\",SISWA!B60)","v":4530},{"$f":"IF(SISWA!C60=0,\"\",SISWA!C60)","v":"0077015789"},{"$f":"IF(SISWA!D60=0,\"\",SISWA!D60)","v":"1-18-05-80-162-053-4"},{"$f":"IF(SISWA!E60=0,\"\",SISWA!E60)","v":"MUHAMMAD RIZKI RIDWAN"},null,63,75,81,81,75,60,null,60,60,65]
[54,{"$f":"IF(SISWA!B61=0,\"\",SISWA!B61)","v":4351},{"$f":"IF(SISWA!C61=0,\"\",SISWA!C61)","v":"0076361559"},{"$f":"IF(SISWA!D61=0,\"\",SISWA!D61)","v":"1-18-05-80-162-054-3"},{"$f":"IF(SISWA!E61=0,\"\",SISWA!E61)","v":"MOCHAMAD RAFLI DIAN SAPUTRA"},null,64,74,81,86,76.25,60,null,60,60,65]
[55,{"$f":"IF(SISWA!B62=0,\"\",SISWA!B62)","v":4352},{"$f":"IF(SISWA!C62=0,\"\",SISWA!C62)","v":"0075591405"},{"$f":"IF(SISWA!D62=0,\"\",SISWA!D62)","v":"1-18-05-80-162-055-2"},{"$f":"IF(SISWA!E62=0,\"\",SISWA!E62)","v":"MOCHAMMAD AFAREL PUTRA RAMDHANA"},null,76,78,83,86,80.75,60,null,60,60,65]
[56,{"$f":"IF(SISWA!B63=0,\"\",SISWA!B63)","v":4355},{"$f":"IF(SISWA!C63=0,\"\",SISWA!C63)","v":"0075363258"},{"$f":"IF(SISWA!D63=0,\"\",SISWA!D63)","v":"1-18-05-80-162-056-9"},{"$f":"IF(SISWA!E63=0,\"\",SISWA!E63)","v":"MUHAMAD JEFRI MAULANA"},null,70,75,83,92,80,60,null,60,60,65]
[57,{"$f":"IF(SISWA!B64=0,\"\",SISWA!B64)","v":4376},{"$f":"IF(SISWA!C64=0,\"\",SISWA!C64)","v":"0072066741"},{"$f":"IF(SISWA!D64=0,\"\",SISWA!D64)","v":"1-18-05-80-162-057-8"},{"$f":"IF(SISWA!E64=0,\"\",SISWA!E64)","v":"MUHAMMAD DWI WILDAN BAGUS KURNIAWAN"},null,60,75,84,84,75.75,60,null,60,60,65]
[58,{"$f":"IF(SISWA!B65=0,\"\",SISWA!B65)","v":4377},{"$f":"IF(SISWA!C65=0,\"\",SISWA!C65)","v":"0071459044"},{"$f":"IF(SISWA!D65=0,\"\",SISWA!D65)","v":"1-18-05-80-162-058-7"},{"$f":"IF(SISWA!E65=0,\"\",SISWA!E65)","v":"MUHAMMAD FARIL FIRMANSYA"},null,61,76,84,90,77.75,60,null,60,60,65]
[59,{"$f":"IF(SISWA!B66=0,\"\",SISWA!B66)","v":4349},{"$f":"IF(SISWA!C66=0,\"\",SISWA!C66)","v":"0074206034"},{"$f":"IF(SISWA!D66=0,\"\",SISWA!D66)","v":"1-18-05-80-162-059-6"},{"$f":"IF(SISWA!E66=0,\"\",SISWA!E66)","v":"MUHAMMAD FARIZ UBAIDILLA"},null,72,76,83,90,80.25,60,null,60,60,65]
[60,{"$f":"IF(SISWA!B67=0,\"\",SISWA!B67)","v":4356},{"$f":"IF(SISWA!C67=0,\"\",SISWA!C67)","v":"0077937892"},{"$f":"IF(SISWA!D67=0,\"\",SISWA!D67)","v":"1-18-05-80-162-060-5"},{"$f":"IF(SISWA!E67=0,\"\",SISWA!E67)","v":"MUHAMMAD MAULANA ZIDANIL ILMI"},null,73,79,85,98,83.75,60,null,60,60,65]
[61,{"$f":"IF(SISWA!B68=0,\"\",SISWA!B68)","v":4357},{"$f":"IF(SISWA!C68=0,\"\",SISWA!C68)","v":"0078608527"},{"$f":"IF(SISWA!D68=0,\"\",SISWA!D68)","v":"1-18-05-80-162-061-4"},{"$f":"IF(SISWA!E68=0,\"\",SISWA!E68)","v":"MUHAMMAD SUTRISNO ISMAIL"},null,61,74,82,83,{"$f":"AVERAGE(F68:J68)","v":75},60,null,60,60,65]
[62,{"$f":"IF(SISWA!B69=0,\"\",SISWA!B69)","v":4381},{"$f":"IF(SISWA!C69=0,\"\",SISWA!C69)","v":"0072209435"},{"$f":"IF(SISWA!D69=0,\"\",SISWA!D69)","v":"1-18-05-80-162-062-3"},{"$f":"IF(SISWA!E69=0,\"\",SISWA!E69)","v":"NOVITA ERNIAWAN"},null,72,77,85,98,83,60,null,60,60,65]
[63,{"$f":"IF(SISWA!B70=0,\"\",SISWA!B70)","v":4383},{"$f":"IF(SISWA!C70=0,\"\",SISWA!C70)","v":"0077439834"},{"$f":"IF(SISWA!D70=0,\"\",SISWA!D70)","v":"1-18-05-80-162-063-2"},{"$f":"IF(SISWA!E70=0,\"\",SISWA!E70)","v":"PUTRI AULIA DWI AGUSTIN"},null,74,80,87,97,84.5,60,null,60,60,65]
[64,{"$f":"IF(SISWA!B71=0,\"\",SISWA!B71)","v":4385},{"$f":"IF(SISWA!C71=0,\"\",SISWA!C71)","v":"0073137310"},{"$f":"IF(SISWA!D71=0,\"\",SISWA!D71)","v":"1-18-05-80-162-064-9"},{"$f":"IF(SISWA!E71=0,\"\",SISWA!E71)","v":"STANY RAFIDAH RAHMANIA"},null,68,75,83,90,79,60,null,60,60,65]
[65,{"$f":"IF(SISWA!B72=0,\"\",SISWA!B72)","v":4387},{"$f":"IF(SISWA!C72=0,\"\",SISWA!C72)","v":"0077336427"},{"$f":"IF(SISWA!D72=0,\"\",SISWA!D72)","v":"1-18-05-80-162-065-8"},{"$f":"IF(SISWA!E72=0,\"\",SISWA!E72)","v":"USWATUN KHASANAH"},null,63,75,85,92,78.75,60,null,60,60,65]
[66,{"$f":"IF(SISWA!B73=0,\"\",SISWA!B73)","v":4389},{"$f":"IF(SISWA!C73=0,\"\",SISWA!C73)","v":"0078407631"},{"$f":"IF(SISWA!D73=0,\"\",SISWA!D73)","v":"1-18-05-80-162-066-7"},{"$f":"IF(SISWA!E73=0,\"\",SISWA!E73)","v":"VIKROUL KHAMILA"},null,75,77,84,91,81.75,60,null,60,{"$f":"AVERAGE(L73:M73)","v":60},65]
[67,{"$f":"IF(SISWA!B74=0,\"\",SISWA!B74)","v":""},{"$f":"IF(SISWA!C74=0,\"\",SISWA!C74)","v":""},{"$f":"IF(SISWA!D74=0,\"\",SISWA!D74)","v":""},{"$f":"IF(SISWA!E74=0,\"\",SISWA!E74)","v":""},null,null,null,null,null,{"$error":"#DIV/0!"},null,null,{"$error":"#DIV/0!"},{"$error":"#DIV/0!"},{"$error":"#DIV/0!"}]
[68,{"$f":"IF(SISWA!B75=0,\"\",SISWA!B75)","v":""},{"$f":"IF(SISWA!C75=0,\"\",SISWA!C75)","v":""},{"$f":"IF(SISWA!D75=0,\"\",SISWA!D75)","v":""},{"$f":"IF(SISWA!E75=0,\"\",SISWA!E75)","v":""},null,null,null,null,null,{"$error":"#DIV/0!"},null,null,{"$error":"#DIV/0!"},{"$error":"#DIV/0!"},{"$error":"#DIV/0!"}]
[69,{"$f":"IF(SISWA!B76=0,\"\",SISWA!B76)","v":""},{"$f":"IF(SISWA!C76=0,\"\",SISWA!C76)","v":""},{"$f":"IF(SISWA!D76=0,\"\",SISWA!D76)","v":""},{"$f":"IF(SISWA!E76=0,\"\",SISWA!E76)","v":""},null,null,null,null,null,{"$error":"#DIV/0!"},null,null,{"$error":"#DIV/0!"},{"$error":"#DIV/0!"},{"$error":"#DIV/0!"}]
[70,{"$f":"IF(SISWA!B77=0,\"\",SISWA!B77)","v":""},{"$f":"IF(SISWA!C77=0,\"\",SISWA!C77)","v":""},{"$f":"IF(SISWA!D77=0,\"\",SISWA!D77)","v":""},{"$f":"IF(SISWA!E77=0,\"\",SISWA!E77)","v":""},null,null,null,null,null,{"$error":"#DIV/0!"},null,null,{"$error":"#DIV/0!"},{"$error":"#DIV/0!"},{"$error":"#DIV/0!"}]
[71,{"$f":"IF(SISWA!B78=0,\"\",SISWA!B78)","v":""},{"$f":"IF(SISWA!C78=0,\"\",SISWA!C78)","v":""},{"$f":"IF(SISWA!D78=0,\"\",SISWA!D78)","v":""},{"$f":"IF(SISWA!E78=0,\"\",SISWA!E78)","v":""},null,null,null,null,null,{"$error":"#DIV/0!"},null,null,{"$error":"#DIV/0!"},{"$error":"#DIV/0!"},{"$error":"#DIV/0!"}]
[72,{"$f":"IF(SISWA!B79=0,\"\",SISWA!B79)","v":""},{"$f":"IF(SISWA!C79=0,\"\",SISWA!C79)","v":""},{"$f":"IF(SISWA!D79=0,\"\",SISWA!D79)","v":""},{"$f":"IF(SISWA!E79=0,\"\",SISWA!E79)","v":""},null,null,null,null,null,{"$error":"#DIV/0!"},null,null,{"$error":"#DIV/0!"},{"$error":"#DIV/0!"},{"$error":"#DIV/0!"}]
[73,{"$f":"IF(SISWA!B80=0,\"\",SISWA!B80)","v":""},{"$f":"IF(SISWA!C80=0,\"\",SISWA!C80)","v":""},{"$f":"IF(SISWA!D80=0,\"\",SISWA!D80)","v":""},{"$f":"IF(SISWA!E80=0,\"\",SISWA!E80)","v":""},null,null,null,null,null,{"$error":"#DIV/0!"},null,null,{"$error":"#DIV/0!"},{"$error":"#DIV/0!"},{"$error":"#DIV/0!"}]
[74,{"$f":"IF(SISWA!B81=0,\"\",SISWA!B81)","v":""},{"$f":"IF(SISWA!C81=0,\"\",SISWA!C81)","v":""},{"$f":"IF(SISWA!D81=0,\"\",SISWA!D81)","v":""},{"$f":"IF(SISWA!E81=0,\"\",SISWA!E81)","v":""},null,null,null,null,null,{"$error":"#DIV/0!"},null,null,{"$error":"#DIV/0!"},{"$error":"#DIV/0!"},{"$error":"#DIV/0!"}]
[75,{"$f":"IF(SISWA!B82=0,\"\",SISWA!B82)","v":""},{"$f":"IF(SISWA!C82=0,\"\",SISWA!C82)","v":""},{"$f":"IF(SISWA!D82=0,\"\",SISWA!D82)","v":""},{"$f":"IF(SISWA!E82=0,\"\",SISWA!E82)","v":""},null,null,null,null,null,{"$error":"#DIV/0!"},null,null,{"$error":"#DIV/0!"},{"$error":"#DIV/0!"},{"$error":"#DIV/0!"}]
[76,{"$f":"IF(SISWA!B83=0,\"\",SISWA!B83)","v":""},{"$f":"IF(SISWA!C83=0,\"\",SISWA!C83)","v":""},{"$f":"IF(SISWA!D83=0,\"\",SISWA!D83)","v":""},{"$f":"IF(SISWA!E83=0,\"\",SISWA!E83)","v":""},null,null,null,null,null,{"$error":"#DIV/0!"},null,null,{"$error":"#DIV/0!"},{"$error":"#DIV/0!"},{"$error":"#DIV/0!"}]
[77,{"$f":"IF(SISWA!B84=0,\"\",SISWA!B84)","v":""},{"$f":"IF(SISWA!C84=0,\"\",SISWA!C84)","v":""},{"$f":"IF(SISWA!D84=0,\"\",SISWA!D84)","v":""},{"$f":"IF(SISWA!E84=0,\"\",SISWA!E84)","v":""},null,null,null,null,null,{"$error":"#DIV/0!"},null,null,{"$error":"#DIV/0!"},{"$error":"#DIV/0!"},{"$error":"#DIV/0!"}]
[78,{"$f":"IF(SISWA!B85=0,\"\",SISWA!B85)","v":""},{"$f":"IF(SISWA!C85=0,\"\",SISWA!C85)","v":""},{"$f":"IF(SISWA!D85=0,\"\",SISWA!D85)","v":""},{"$f":"IF(SISWA!E85=0,\"\",SISWA!E85)","v":""},null,null,null,null,null,{"$error":"#DIV/0!"},null,null,{"$error":"#DIV/0!"},{"$error":"#DIV/0!"},{"$error":"#DIV/0!"}]
[79,{"$f":"IF(SISWA!B86=0,\"\",SISWA!B86)","v":""},{"$f":"IF(SISWA!C86=0,\"\",SISWA!C86)","v":""},{"$f":"IF(SISWA!D86=0,\"\",SISWA!D86)","v":""},{"$f":"IF(SISWA!E86=0,\"\",SISWA!E86)","v":""},null,null,null,null,null,{"$error":"#DIV/0!"},null,null,{"$error":"#DIV/0!"},{"$error":"#DIV/0!"},{"$error":"#DIV/0!"}]
[80,{"$f":"IF(SISWA!B87=0,\"\",SISWA!B87)","v":""},{"$f":"IF(SISWA!C87=0,\"\",SISWA!C87)","v":""},{"$f":"IF(SISWA!D87=0,\"\",SISWA!D87)","v":""},{"$f":"IF(SISWA!E87=0,\"\",SISWA!E87)","v":""},null,null,null,null,null,{"$error":"#DIV/0!"},null,null,{"$error":"#DIV/0!"},{"$error":"#DIV/0!"},{"$error":"#DIV/0!"}]
[81,{"$f":"IF(SISWA!B88=0,\"\",SISWA!B88)","v":""},{"$f":"IF(SISWA!C88=0,\"\",SISWA!C88)","v":""},{"$f":"IF(SISWA!D88=0,\"\",SISWA!D88)","v":""},{"$f":"IF(SISWA!E88=0,\"\",SISWA!E88)","v":""},null,null,null,null,null,{"$error":"#DIV/0!"},null,null,{"$error":"#DIV/0!"},{"$error":"#DIV/0!"},{"$error":"#DIV/0!"}]
[82,{"$f":"IF(SISWA!B89=0,\"\",SISWA!B89)","v":""},{"$f":"IF(SISWA!C89=0,\"\",SISWA!C89)","v":""},{"$f":"IF(SISWA!D89=0,\"\",SISWA!D89)","v":""},{"$f":"IF(SISWA!E89=0,\"\",SISWA!E89)","v":""},null,null,null,null,null,{"$error":"#DIV/0!"},null,null,{"$error":"#DIV/0!"},{"$error":"#DIV/0!"},{"$error":"#DIV/0!"}]
[83,{"$f":"IF(SISWA!B90=0,\"\",SISWA!B90)","v":""},{"$f":"IF(SISWA!C90=0,\"\",SISWA!C90)","v":""},{"$f":"IF(SISWA!D90=0,\"\",SISWA!D90)","v":""},{"$f":"IF(SISWA!E90=0,\"\",SISWA!E90)","v":""},null,null,null,null,null,{"$error":"#DIV/0!"},null,null,{"$error":"#DIV/0!"},{"$error":"#DIV/0!"},{"$error":"#DIV/0!"}]
[84,{"$f":"IF(SISWA!B91=0,\"\",SISWA!B91)","v":""},{"$f":"IF(SISWA!C91=0,\"\",SISWA!C91)","v":""},{"$f":"IF(SISWA!D91=0,\"\",SISWA!D91)","v":""},{"$f":"IF(SISWA!E91=0,\"\",SISWA!E91)","v":""},null,null,null,null,null,{"$error":"#DIV/0!"},null,null,{"$error":"#DIV/0!"},{"$error":"#DIV/0!"},{"$error":"#DIV/0!"}]
[85,{"$f":"IF(SISWA!B92=0,\"\",SISWA!B92)","v":""},{"$f":"IF(SISWA!C92=0,\"\",SISWA!C92)","v":""},{"$f":"IF(SISWA!D92=0,\"\",SISWA!D92)","v":""},{"$f":"IF(SISWA!E92=0,\"\",SISWA!E92)","v":""},null,null,null,null,null,{"$error":"#DIV/0!"},null,null,{"$error":"#DIV/0!"},{"$error":"#DIV/0!"},{"$error":"#DIV/0!"}]
[86,{"$f":"IF(SISWA!B93=0,\"\",SISWA!B93)","v":""},{"$f":"IF(SISWA!C93=0,\"\",SISWA!C93)","v":""},{"$f":"IF(SISWA!D93=0,\"\",SISWA!D93)","v":""},{"$f":"IF(SISWA!E93=0,\"\",SISWA!E93)","v":""},null,null,null,null,null,{"$error":"#DIV/0!"},null,null,{"$error":"#DIV/0!"},{"$error":"#DIV/0!"},{"$error":"#DIV/0!"}]
[87,{"$f":"IF(SISWA!B94=0,\"\",SISWA!B94)","v":""},{"$f":"IF(SISWA!C94=0,\"\",SISWA!C94)","v":""},{"$f":"IF(SISWA!D94=0,\"\",SISWA!D94)","v":""},{"$f":"IF(SISWA!E94=0,\"\",SISWA!E94)","v":""},null,null,null,null,null,{"$error":"#DIV/0!"},null,null,{"$error":"#DIV/0!"},{"$error":"#DIV/0!"},{"$error":"#DIV/0!"}]
[88,{"$f":"IF(SISWA!B95=0,\"\",SISWA!B95)","v":""},{"$f":"IF(SISWA!C95=0,\"\",SISWA!C95)","v":""},{"$f":"IF(SISWA!D95=0,\"\",SISWA!D95)","v":""},{"$f":"IF(SISWA!E95=0,\"\",SISWA!E95)","v":""},null,null,null,null,null,{"$error":"#DIV/0!"},null,null,{"$error":"#DIV/0!"},{"$error":"#DIV/0!"},{"$error":"#DIV/0!"}]
[89,{"$f":"IF(SISWA!B96=0,\"\",SISWA!B96)","v":""},{"$f":"IF(SISWA!C96=0,\"\",SISWA!C96)","v":""},{"$f":"IF(SISWA!D96=0,\"\",SISWA!D96)","v":""},{"$f":"IF(SISWA!E96=0,\"\",SISWA!E96)","v":""},null,null,null,null,null,{"$error":"#DIV/0!"},null,null,{"$error":"#DIV/0!"},{"$error":"#DIV/0!"},{"$error":"#DIV/0!"}]
[90,{"$f":"IF(SISWA!B97=0,\"\",SISWA!B97)","v":""},{"$f":"IF(SISWA!C97=0,\"\",SISWA!C97)","v":""},{"$f":"IF(SISWA!D97=0,\"\",SISWA!D97)","v":""},{"$f":"IF(SISWA!E97=0,\"\",SISWA!E97)","v":""},null,null,null,null,null,{"$error":"#DIV/0!"},null,null,{"$error":"#DIV/0!"},{"$error":"#DIV/0!"},{"$error":"#DIV/0!"}]
[91,{"$f":"IF(SISWA!B98=0,\"\",SISWA!B98)","v":""},{"$f":"IF(SISWA!C98=0,\"\",SISWA!C98)","v":""},{"$f":"IF(SISWA!D98=0,\"\",SISWA!D98)","v":""},{"$f":"IF(SISWA!E98=0,\"\",SISWA!E98)","v":""},null,null,null,null,null,{"$error":"#DIV/0!"},null,null,{"$error":"#DIV/0!"},{"$error":"#DIV/0!"},{"$error":"#DIV/0!"}]
[92,{"$f":"IF(SISWA!B99=0,\"\",SISWA!B99)","v":""},{"$f":"IF(SISWA!C99=0,\"\",SISWA!C99)","v":""},{"$f":"IF(SISWA!D99=0,\"\",SISWA!D99)","v":""},{"$f":"IF(SISWA!E99=0,\"\",SISWA!E99)","v":""},null,null,null,null,null,{"$error":"#DIV/0!"},null,null,{"$error":"#DIV/0!"},{"$error":"#DIV/0!"},{"$error":"#DIV/0!"}]
[93,{"$f":"IF(SISWA!B100=0,\"\",SISWA!B100)","v":""},{"$f":"IF(SISWA!C100=0,\"\",SISWA!C100)","v":""},{"$f":"IF(SISWA!D100=0,\"\",SISWA!D100)","v":""},{"$f":"IF(SISWA!E100=0,\"\",SISWA!E100)","v":""},null,null,null,null,null,{"$error":"#DIV/0!"},null,null,{"$error":"#DIV/0!"},{"$error":"#DIV/0!"},{"$error":"#DIV/0!"}]
[94,{"$f":"IF(SISWA!B101=0,\"\",SISWA!B101)","v":""},{"$f":"IF(SISWA!C101=0,\"\",SISWA!C101)","v":""},{"$f":"IF(SISWA!D101=0,\"\",SISWA!D101)","v":""},{"$f":"IF(SISWA!E101=0,\"\",SISWA!E101)","v":""},null,null,null,null,null,{"$error":"#DIV/0!"},null,null,{"$error":"#DIV/0!"},{"$error":"#DIV/0!"},{"$error":"#DIV/0!"}]
[95,{"$f":"IF(SISWA!B102=0,\"\",SISWA!B102)","v":""},{"$f":"IF(SISWA!C102=0,\"\",SISWA!C102)","v":""},{"$f":"IF(SISWA!D102=0,\"\",SISWA!D102)","v":""},{"$f":"IF(SISWA!E102=0,\"\",SISWA!E102)","v":""},null,null,null,null,null,{"$error":"#DIV/0!"},null,null,{"$error":"#DIV/0!"},{"$error":"#DIV/0!"},{"$error":"#DIV/0!"}]
[96,{"$f":"IF(SISWA!B103=0,\"\",SISWA!B103)","v":""},{"$f":"IF(SISWA!C103=0,\"\",SISWA!C103)","v":""},{"$f":"IF(SISWA!D103=0,\"\",SISWA!D103)","v":""},{"$f":"IF(SISWA!E103=0,\"\",SISWA!E103)","v":""},null,null,null,null,null,{"$error":"#DIV/0!"},null,null,{"$error":"#DIV/0!"},{"$error":"#DIV/0!"},{"$error":"#DIV/0!"}]
[97,{"$f":"IF(SISWA!B104=0,\"\",SISWA!B104)","v":""},{"$f":"IF(SISWA!C104=0,\"\",SISWA!C104)","v":""},{"$f":"IF(SISWA!D104=0,\"\",SISWA!D104)","v":""},{"$f":"IF(SISWA!E104=0,\"\",SISWA!E104)","v":""},null,null,null,null,null,{"$error":"#DIV/0!"},null,null,{"$error":"#DIV/0!"},{"$error":"#DIV/0!"},{"$error":"#DIV/0!"}]
[98,{"$f":"IF(SISWA!B105=0,\"\",SISWA!B105)","v":""},{"$f":"IF(SISWA!C105=0,\"\",SISWA!C105)","v":""},{"$f":"IF(SISWA!D105=0,\"\",SISWA!D105)","v":""},{"$f":"IF(SISWA!E105=0,\"\",SISWA!E105)","v":""},null,null,null,null,null,{"$error":"#DIV/0!"},null,null,{"$error":"#DIV/0!"},{"$error":"#DIV/0!"},{"$error":"#DIV/0!"}]
[99,{"$f":"IF(SISWA!B106=0,\"\",SISWA!B106)","v":""},{"$f":"IF(SISWA!C106=0,\"\",SISWA!C106)","v":""},{"$f":"IF(SISWA!D106=0,\"\",SISWA!D106)","v":""},{"$f":"IF(SISWA!E106=0,\"\",SISWA!E106)","v":""},null,null,null,null,null,{"$error":"#DIV/0!"},null,null,{"$error":"#DIV/0!"},{"$error":"#DIV/0!"},{"$error":"#DIV/0!"}]
[100,{"$f":"IF(SISWA!B107=0,\"\",SISWA!B107)","v":""},{"$f":"IF(SISWA!C107=0,\"\",SISWA!C107)","v":""},{"$f":"IF(SISWA!D107=0,\"\",SISWA!D107)","v":""},{"$f":"IF(SISWA!E107=0,\"\",SISWA!E107)","v":""},null,null,null,null,null,{"$error":"#DIV/0!"},null,null,{"$error":"#DIV/0!"},{"$error":"#DIV/0!"},{"$error":"#DIV/0!"}]
[101,{"$f":"IF(SISWA!B108=0,\"\",SISWA!B108)","v":""},{"$f":"IF(SISWA!C108=0,\"\",SISWA!C108)","v":""},{"$f":"IF(SISWA!D108=0,\"\",SISWA!D108)","v":""},{"$f":"IF(SISWA!E108=0,\"\",SISWA!E108)","v":""},null,null,null,null,null,{"$error":"#DIV/0!"},null,null,{"$error":"#DIV/0!"},{"$error":"#DIV/0!"},{"$error":"#DIV/0!"}]
[102,{"$f":"IF(SISWA!B109=0,\"\",SISWA!B109)","v":""},{"$f":"IF(SISWA!C109=0,\"\",SISWA!C109)","v":""},{"$f":"IF(SISWA!D109=0,\"\",SISWA!D109)","v":""},{"$f":"IF(SISWA!E109=0,\"\",SISWA!E109)","v":""},null,null,null,null,null,{"$error":"#DIV/0!"},null,null,{"$error":"#DIV/0!"},{"$error":"#DIV/0!"},{"$error":"#DIV/0!"}]
[103,{"$f":"IF(SISWA!B110=0,\"\",SISWA!B110)","v":""},{"$f":"IF(SISWA!C110=0,\"\",SISWA!C110)","v":""},{"$f":"IF(SISWA!D110=0,\"\",SISWA!D110)","v":""},{"$f":"IF(SISWA!E110=0,\"\",SISWA!E110)","v":""},null,null,null,null,null,{"$error":"#DIV/0!"},null,null,{"$error":"#DIV/0!"},{"$error":"#DIV/0!"},{"$error":"#DIV/0!"}]
[104,{"$f":"IF(SISWA!B111=0,\"\",SISWA!B111)","v":""},{"$f":"IF(SISWA!C111=0,\"\",SISWA!C111)","v":""},{"$f":"IF(SISWA!D111=0,\"\",SISWA!D111)","v":""},{"$f":"IF(SISWA!E111=0,\"\",SISWA!E111)","v":""},null,null,null,null,null,{"$error":"#DIV/0!"},null,null,{"$error":"#DIV/0!"},{"$error":"#DIV/0!"},{"$error":"#DIV/0!"}]
[105,{"$f":"IF(SISWA!B112=0,\"\",SISWA!B112)","v":""},{"$f":"IF(SISWA!C112=0,\"\",SISWA!C112)","v":""},{"$f":"IF(SISWA!D112=0,\"\",SISWA!D112)","v":""},{"$f":"IF(SISWA!E112=0,\"\",SISWA!E112)","v":""},null,null,null,null,null,{"$error":"#DIV/0!"},null,null,{"$error":"#DIV/0!"},{"$error":"#DIV/0!"},{"$error":"#DIV/0!"}]
[106,{"$f":"IF(SISWA!B113=0,\"\",SISWA!B113)","v":""},{"$f":"IF(SISWA!C113=0,\"\",SISWA!C113)","v":""},{"$f":"IF(SISWA!D113=0,\"\",SISWA!D113)","v":""},{"$f":"IF(SISWA!E113=0,\"\",SISWA!E113)","v":""},null,null,null,null,null,{"$error":"#DIV/0!"},null,null,{"$error":"#DIV/0!"},{"$error":"#DIV/0!"},{"$error":"#DIV/0!"}]
[107,{"$f":"IF(SISWA!B114=0,\"\",SISWA!B114)","v":""},{"$f":"IF(SISWA!C114=0,\"\",SISWA!C114)","v":""},{"$f":"IF(SISWA!D114=0,\"\",SISWA!D114)","v":""},{"$f":"IF(SISWA!E114=0,\"\",SISWA!E114)","v":""},null,null,null,null,null,{"$error":"#DIV/0!"},null,null,{"$error":"#DIV/0!"},{"$error":"#DIV/0!"},{"$error":"#DIV/0!"}]
[108,{"$f":"IF(SISWA!B115=0,\"\",SISWA!B115)","v":""},{"$f":"IF(SISWA!C115=0,\"\",SISWA!C115)","v":""},{"$f":"IF(SISWA!D115=0,\"\",SISWA!D115)","v":""},{"$f":"IF(SISWA!E115=0,\"\",SISWA!E115)","v":""},null,null,null,null,null,{"$error":"#DIV/0!"},null,null,{"$error":"#DIV/0!"},{"$error":"#DIV/0!"},{"$error":"#DIV/0!"}]
[109,{"$f":"IF(SISWA!B116=0,\"\",SISWA!B116)","v":""},{"$f":"IF(SISWA!C116=0,\"\",SISWA!C116)","v":""},{"$f":"IF(SISWA!D116=0,\"\",SISWA!D116)","v":""},{"$f":"IF(SISWA!E116=0,\"\",SISWA!E116)","v":""},null,null,null,null,null,{"$error":"#DIV/0!"},null,null,{"$error":"#DIV/0!"},{"$error":"#DIV/0!"},{"$error":"#DIV/0!"}]
[110,{"$f":"IF(SISWA!B117=0,\"\",SISWA!B117)","v":""},{"$f":"IF(SISWA!C117=0,\"\",SISWA!C117)","v":""},{"$f":"IF(SISWA!D117=0,\"\",SISWA!D117)","v":""},{"$f":"IF(SISWA!E117=0,\"\",SISWA!E117)","v":""},null,null,null,null,null,{"$error":"#DIV/0!"},null,null,{"$error":"#DIV/0!"},{"$error":"#DIV/0!"},{"$error":"#DIV/0!"}]
[111,{"$f":"IF(SISWA!B118=0,\"\",SISWA!B118)","v":""},{"$f":"IF(SISWA!C118=0,\"\",SISWA!C118)","v":""},{"$f":"IF(SISWA!D118=0,\"\",SISWA!D118)","v":""},{"$f":"IF(SISWA!E118=0,\"\",SISWA!E118)","v":""},null,null,null,null,null,{"$error":"#DIV/0!"},null,null,{"$error":"#DIV/0!"},{"$error":"#DIV/0!"},{"$error":"#DIV/0!"}]
[112,{"$f":"IF(SISWA!B119=0,\"\",SISWA!B119)","v":""},{"$f":"IF(SISWA!C119=0,\"\",SISWA!C119)","v":""},{"$f":"IF(SISWA!D119=0,\"\",SISWA!D119)","v":""},{"$f":"IF(SISWA!E119=0,\"\",SISWA!E119)","v":""},null,null,null,null,null,{"$error":"#DIV/0!"},null,null,{"$error":"#DIV/0!"},{"$error":"#DIV/0!"},{"$error":"#DIV/0!"}]
[113,{"$f":"IF(SISWA!B120=0,\"\",SISWA!B120)","v":""},{"$f":"IF(SISWA!C120=0,\"\",SISWA!C120)","v":""},{"$f":"IF(SISWA!D120=0,\"\",SISWA!D120)","v":""},{"$f":"IF(SISWA!E120=0,\"\",SISWA!E120)","v":""},null,null,null,null,null,{"$error":"#DIV/0!"},null,null,{"$error":"#DIV/0!"},{"$error":"#DIV/0!"},{"$error":"#DIV/0!"}]
[114,{"$f":"IF(SISWA!B121=0,\"\",SISWA!B121)","v":""},{"$f":"IF(SISWA!C121=0,\"\",SISWA!C121)","v":""},{"$f":"IF(SISWA!D121=0,\"\",SISWA!D121)","v":""},{"$f":"IF(SISWA!E121=0,\"\",SISWA!E121)","v":""},null,null,null,null,null,{"$error":"#DIV/0!"},null,null,{"$error":"#DIV/0!"},{"$error":"#DIV/0!"},{"$error":"#DIV/0!"}]
[115,{"$f":"IF(SISWA!B122=0,\"\",SISWA!B122)","v":""},{"$f":"IF(SISWA!C122=0,\"\",SISWA!C122)","v":""},{"$f":"IF(SISWA!D122=0,\"\",SISWA!D122)","v":""},{"$f":"IF(SISWA!E122=0,\"\",SISWA!E122)","v":""},null,null,null,null,null,{"$error":"#DIV/0!"},null,null,{"$f":"AVERAGE(L122:M122)","v":{"$error":"#DIV/0!"}},{"$error":"#DIV/0!"},{"$error":"#DIV/0!"}]
[116,{"$f":"IF(SISWA!B123=0,\"\",SISWA!B123)","v":""},{"$f":"IF(SISWA!C123=0,\"\",SISWA!C123)","v":""},{"$f":"IF(SISWA!D123=0,\"\",SISWA!D123)","v":""},{"$f":"IF(SISWA!E123=0,\"\",SISWA!E123)","v":""},null,null,null,null,null,{"$error":"#DIV/0!"},null,null,{"$error":"#DIV/0!"},{"$error":"#DIV/0!"},{"$error":"#DIV/0!"}]
[117,{"$f":"IF(SISWA!B124=0,\"\",SISWA!B124)","v":""},{"$f":"IF(SISWA!C124=0,\"\",SISWA!C124)","v":""},{"$f":"IF(SISWA!D124=0,\"\",SISWA!D124)","v":""},{"$f":"IF(SISWA!E124=0,\"\",SISWA!E124)","v":""},null,null,null,null,null,{"$error":"#DIV/0!"},null,null,{"$error":"#DIV/0!"},{"$error":"#DIV/0!"},{"$error":"#DIV/0!"}]
[118,{"$f":"IF(SISWA!B125=0,\"\",SISWA!B125)","v":""},{"$f":"IF(SISWA!C125=0,\"\",SISWA!C125)","v":""},{"$f":"IF(SISWA!D125=0,\"\",SISWA!D125)","v":""},{"$f":"IF(SISWA!E125=0,\"\",SISWA!E125)","v":""},null,null,null,null,null,{"$error":"#DIV/0!"},null,null,{"$error":"#DIV/0!"},{"$error":"#DIV/0!"},{"$error":"#DIV/0!"}]
[119,{"$f":"IF(SISWA!B126=0,\"\",SISWA!B126)","v":""},{"$f":"IF(SISWA!C126=0,\"\",SISWA!C126)","v":""},{"$f":"IF(SISWA!D126=0,\"\",SISWA!D126)","v":""},{"$f":"IF(SISWA!E126=0,\"\",SISWA!E126)","v":""},null,null,null,null,null,{"$error":"#DIV/0!"},null,null,{"$error":"#DIV/0!"},{"$error":"#DIV/0!"},{"$error":"#DIV/0!"}]
[120,{"$f":"IF(SISWA!B127=0,\"\",SISWA!B127)","v":""},{"$f":"IF(SISWA!C127=0,\"\",SISWA!C127)","v":""},{"$f":"IF(SISWA!D127=0,\"\",SISWA!D127)","v":""},{"$f":"IF(SISWA!E127=0,\"\",SISWA!E127)","v":""},null,null,null,null,null,{"$error":"#DIV/0!"},null,null,{"$error":"#DIV/0!"},{"$error":"#DIV/0!"},{"$error":"#DIV/0!"}]
[121,{"$f":"IF(SISWA!B128=0,\"\",SISWA!B128)","v":""},{"$f":"IF(SISWA!C128=0,\"\",SISWA!C128)","v":""},{"$f":"IF(SISWA!D128=0,\"\",SISWA!D128)","v":""},{"$f":"IF(SISWA!E128=0,\"\",SISWA!E128)","v":""},null,null,null,null,null,{"$error":"#DIV/0!"},null,null,{"$error":"#DIV/0!"},{"$error":"#DIV/0!"},{"$error":"#DIV/0!"}]
[122,{"$f":"IF(SISWA!B129=0,\"\",SISWA!B129)","v":""},{"$f":"IF(SISWA!C129=0,\"\",SISWA!C129)","v":""},{"$f":"IF(SISWA!D129=0,\"\",SISWA!D129)","v":""},{"$f":"IF(SISWA!E129=0,\"\",SISWA!E129)","v":""},null,null,null,null,null,{"$error":"#DIV/0!"},null,null,{"$error":"#DIV/0!"},{"$error":"#DIV/0!"},{"$error":"#DIV/0!"}]
[123,{"$f":"IF(SISWA!B130=0,\"\",SISWA!B130)","v":""},{"$f":"IF(SISWA!C130=0,\"\",SISWA!C130)","v":""},{"$f":"IF(SISWA!D130=0,\"\",SISWA!D130)","v":""},{"$f":"IF(SISWA!E130=0,\"\",SISWA!E130)","v":""},null,null,null,null,null,{"$error":"#DIV/0!"},null,null,{"$error":"#DIV/0!"},{"$error":"#DIV/0!"},{"$error":"#DIV/0!"}]
[124,{"$f":"IF(SISWA!B131=0,\"\",SISWA!B131)","v":""},{"$f":"IF(SISWA!C131=0,\"\",SISWA!C131)","v":""},{"$f":"IF(SISWA!D131=0,\"\",SISWA!D131)","v":""},{"$f":"IF(SISWA!E131=0,\"\",SISWA!E131)","v":""},null,null,null,null,null,{"$error":"#DIV/0!"},null,null,{"$error":"#DIV/0!"},{"$error":"#DIV/0!"},{"$error":"#DIV/0!"}]
[125,{"$f":"IF(SISWA!B132=0,\"\",SISWA!B132)","v":""},{"$f":"IF(SISWA!C132=0,\"\",SISWA!C132)","v":""},{"$f":"IF(SISWA!D132=0,\"\",SISWA!D132)","v":""},{"$f":"IF(SISWA!E132=0,\"\",SISWA!E132)","v":""},null,null,null,null,null,{"$f":"AVERAGE(F132:J132)","v":{"$error":"#DIV/0!"}},null,null,{"$error":"#DIV/0!"},{"$error":"#DIV/0!"},{"$error":"#DIV/0!"}]
[126,{"$f":"IF(SISWA!B133=0,\"\",SISWA!B133)","v":""},{"$f":"IF(SISWA!C133=0,\"\",SISWA!C133)","v":""},{"$f":"IF(SISWA!D133=0,\"\",SISWA!D133)","v":""},{"$f":"IF(SISWA!E133=0,\"\",SISWA!E133)","v":""},null,null,null,null,null,{"$error":"#DIV/0!"},null,null,{"$error":"#DIV/0!"},{"$error":"#DIV/0!"},{"$error":"#DIV/0!"}]
[127,{"$f":"IF(SISWA!B134=0,\"\",SISWA!B134)","v":""},{"$f":"IF(SISWA!C134=0,\"\",SISWA!C134)","v":""},{"$f":"IF(SISWA!D134=0,\"\",SISWA!D134)","v":""},{"$f":"IF(SISWA!E134=0,\"\",SISWA!E134)","v":""},null,null,null,null,null,{"$error":"#DIV/0!"},null,null,{"$error":"#DIV/0!"},{"$error":"#DIV/0!"},{"$error":"#DIV/0!"}]
[128,{"$f":"IF(SISWA!B135=0,\"\",SISWA!B135)","v":""},{"$f":"IF(SISWA!C135=0,\"\",SISWA!C135)","v":""},{"$f":"IF(SISWA!D135=0,\"\",SISWA!D135)","v":""},{"$f":"IF(SISWA!E135=0,\"\",SISWA!E135)","v":""},null,null,null,null,null,{"$error":"#DIV/0!"},null,null,{"$error":"#DIV/0!"},{"$error":"#DIV/0!"},{"$error":"#DIV/0!"}]
[129,{"$f":"IF(SISWA!B136=0,\"\",SISWA!B136)","v":""},{"$f":"IF(SISWA!C136=0,\"\",SISWA!C136)","v":""},{"$f":"IF(SISWA!D136=0,\"\",SISWA!D136)","v":""},{"$f":"IF(SISWA!E136=0,\"\",SISWA!E136)","v":""},null,null,null,null,null,{"$error":"#DIV/0!"},null,null,{"$error":"#DIV/0!"},{"$error":"#DIV/0!"},{"$error":"#DIV/0!"}]
[130,{"$f":"IF(SISWA!B137=0,\"\",SISWA!B137)","v":""},{"$f":"IF(SISWA!C137=0,\"\",SISWA!C137)","v":""},{"$f":"IF(SISWA!D137=0,\"\",SISWA!D137)","v":""},{"$f":"IF(SISWA!E137=0,\"\",SISWA!E137)","v":""},null,null,null,null,null,{"$error":"#DIV/0!"},null,null,{"$error":"#DIV/0!"},{"$f":"AVERAGE(L137:M137)","v":{"$error":"#DIV/0!"}},{"$error":"#DIV/0!"}]
[131,{"$f":"IF(SISWA!B138=0,\"\",SISWA!B138)","v":""},{"$f":"IF(SISWA!C138=0,\"\",SISWA!C138)","v":""},{"$f":"IF(SISWA!D138=0,\"\",SISWA!D138)","v":""},{"$f":"IF(SISWA!E138=0,\"\",SISWA!E138)","v":""},null,null,null,null,null,{"$error":"#DIV/0!"},null,null,{"$error":"#DIV/0!"},{"$error":"#DIV/0!"},{"$error":"#DIV/0!"}]
[132,{"$f":"IF(SISWA!B139=0,\"\",SISWA!B139)","v":""},{"$f":"IF(SISWA!C139=0,\"\",SISWA!C139)","v":""},{"$f":"IF(SISWA!D139=0,\"\",SISWA!D139)","v":""},{"$f":"IF(SISWA!E139=0,\"\",SISWA!E139)","v":""},null,null,null,null,null,{"$error":"#DIV/0!"},null,null,{"$error":"#DIV/0!"},{"$error":"#DIV/0!"},{"$error":"#DIV/0!"}]
[133,{"$f":"IF(SISWA!B140=0,\"\",SISWA!B140)","v":""},{"$f":"IF(SISWA!C140=0,\"\",SISWA!C140)","v":""},{"$f":"IF(SISWA!D140=0,\"\",SISWA!D140)","v":""},{"$f":"IF(SISWA!E140=0,\"\",SISWA!E140)","v":""},null,null,null,null,null,{"$error":"#DIV/0!"},null,null,{"$error":"#DIV/0!"},{"$error":"#DIV/0!"},{"$error":"#DIV/0!"}]
[134,{"$f":"IF(SISWA!B141=0,\"\",SISWA!B141)","v":""},{"$f":"IF(SISWA!C141=0,\"\",SISWA!C141)","v":""},{"$f":"IF(SISWA!D141=0,\"\",SISWA!D141)","v":""},{"$f":"IF(SISWA!E141=0,\"\",SISWA!E141)","v":""},null,null,null,null,null,{"$error":"#DIV/0!"},null,null,{"$error":"#DIV/0!"},{"$error":"#DIV/0!"},{"$error":"#DIV/0!"}]
[135,{"$f":"IF(SISWA!B142=0,\"\",SISWA!B142)","v":""},{"$f":"IF(SISWA!C142=0,\"\",SISWA!C142)","v":""},{"$f":"IF(SISWA!D142=0,\"\",SISWA!D142)","v":""},{"$f":"IF(SISWA!E142=0,\"\",SISWA!E142)","v":""},null,null,null,null,null,{"$error":"#DIV/0!"},null,null,{"$error":"#DIV/0!"},{"$error":"#DIV/0!"},{"$error":"#DIV/0!"}]
[136,{"$f":"IF(SISWA!B143=0,\"\",SISWA!B143)","v":""},{"$f":"IF(SISWA!C143=0,\"\",SISWA!C143)","v":""},{"$f":"IF(SISWA!D143=0,\"\",SISWA!D143)","v":""},{"$f":"IF(SISWA!E143=0,\"\",SISWA!E143)","v":""},null,null,null,null,null,{"$error":"#DIV/0!"},null,null,{"$error":"#DIV/0!"},{"$error":"#DIV/0!"},{"$error":"#DIV/0!"}]
[137,{"$f":"IF(SISWA!B144=0,\"\",SISWA!B144)","v":""},{"$f":"IF(SISWA!C144=0,\"\",SISWA!C144)","v":""},{"$f":"IF(SISWA!D144=0,\"\",SISWA!D144)","v":""},{"$f":"IF(SISWA!E144=0,\"\",SISWA!E144)","v":""},null,null,null,null,null,{"$error":"#DIV/0!"},null,null,{"$error":"#DIV/0!"},{"$error":"#DIV/0!"},{"$error":"#DIV/0!"}]
[138,{"$f":"IF(SISWA!B145=0,\"\",SISWA!B145)","v":""},{"$f":"IF(SISWA!C145=0,\"\",SISWA!C145)","v":""},{"$f":"IF(SISWA!D145=0,\"\",SISWA!D145)","v":""},{"$f":"IF(SISWA!E145=0,\"\",SISWA!E145)","v":""},null,null,null,null,null,{"$error":"#DIV/0!"},null,null,{"$error":"#DIV/0!"},{"$error":"#DIV/0!"},{"$error":"#DIV/0!"}]
[139,{"$f":"IF(SISWA!B146=0,\"\",SISWA!B146)","v":""},{"$f":"IF(SISWA!C146=0,\"\",SISWA!C146)","v":""},{"$f":"IF(SISWA!D146=0,\"\",SISWA!D146)","v":""},{"$f":"IF(SISWA!E146=0,\"\",SISWA!E146)","v":""},null,null,null,null,null,{"$error":"#DIV/0!"},null,null,{"$error":"#DIV/0!"},{"$error":"#DIV/0!"},{"$error":"#DIV/0!"}]
[140,{"$f":"IF(SISWA!B147=0,\"\",SISWA!B147)","v":""},{"$f":"IF(SISWA!C147=0,\"\",SISWA!C147)","v":""},{"$f":"IF(SISWA!D147=0,\"\",SISWA!D147)","v":""},{"$f":"IF(SISWA!E147=0,\"\",SISWA!E147)","v":""},null,null,null,null,null,{"$error":"#DIV/0!"},null,null,{"$error":"#DIV/0!"},{"$error":"#DIV/0!"},{"$error":"#DIV/0!"}]
[141,{"$f":"IF(SISWA!B148=0,\"\",SISWA!B148)","v":""},{"$f":"IF(SISWA!C148=0,\"\",SISWA!C148)","v":""},{"$f":"IF(SISWA!D148=0,\"\",SISWA!D148)","v":""},{"$f":"IF(SISWA!E148=0,\"\",SISWA!E148)","v":""},null,null,null,null,null,{"$error":"#DIV/0!"},null,null,{"$error":"#DIV/0!"},{"$error":"#DIV/0!"},{"$error":"#DIV/0!"}]
[142,{"$f":"IF(SISWA!B149=0,\"\",SISWA!B149)","v":""},{"$f":"IF(SISWA!C149=0,\"\",SISWA!C149)","v":""},{"$f":"IF(SISWA!D149=0,\"\",SISWA!D149)","v":""},{"$f":"IF(SISWA!E149=0,\"\",SISWA!E149)","v":""},null,null,null,null,null,{"$error":"#DIV/0!"},null,null,{"$error":"#DIV/0!"},{"$error":"#DIV/0!"},{"$error":"#DIV/0!"}]
[143,{"$f":"IF(SISWA!B150=0,\"\",SISWA!B150)","v":""},{"$f":"IF(SISWA!C150=0,\"\",SISWA!C150)","v":""},{"$f":"IF(SISWA!D150=0,\"\",SISWA!D150)","v":""},{"$f":"IF(SISWA!E150=0,\"\",SISWA!E150)","v":""},null,null,null,null,null,{"$error":"#DIV/0!"},null,null,{"$error":"#DIV/0!"},{"$error":"#DIV/0!"},{"$error":"#DIV/0!"}]
[144,{"$f":"IF(SISWA!B151=0,\"\",SISWA!B151)","v":""},{"$f":"IF(SISWA!C151=0,\"\",SISWA!C151)","v":""},{"$f":"IF(SISWA!D151=0,\"\",SISWA!D151)","v":""},{"$f":"IF(SISWA!E151=0,\"\",SISWA!E151)","v":""},null,null,null,null,null,{"$error":"#DIV/0!"},null,null,{"$error":"#DIV/0!"},{"$error":"#DIV/0!"},{"$error":"#DIV/0!"}]
[145,{"$f":"IF(SISWA!B152=0,\"\",SISWA!B152)","v":""},{"$f":"IF(SISWA!C152=0,\"\",SISWA!C152)","v":""},{"$f":"IF(SISWA!D152=0,\"\",SISWA!D152)","v":""},{"$f":"IF(SISWA!E152=0,\"\",SISWA!E152)","v":""},null,null,null,null,null,{"$error":"#DIV/0!"},null,null,{"$error":"#DIV/0!"},{"$error":"#DIV/0!"},{"$error":"#DIV/0!"}]
[146,{"$f":"IF(SISWA!B153=0,\"\",SISWA!B153)","v":""},{"$f":"IF(SISWA!C153=0,\"\",SISWA!C153)","v":""},{"$f":"IF(SISWA!D153=0,\"\",SISWA!D153)","v":""},{"$f":"IF(SISWA!E153=0,\"\",SISWA!E153)","v":""},null,null,null,null,null,{"$error":"#DIV/0!"},null,null,{"$error":"#DIV/0!"},{"$error":"#DIV/0!"},{"$error":"#DIV/0!"}]
[147,{"$f":"IF(SISWA!B154=0,\"\",SISWA!B154)","v":""},{"$f":"IF(SISWA!C154=0,\"\",SISWA!C154)","v":""},{"$f":"IF(SISWA!D154=0,\"\",SISWA!D154)","v":""},{"$f":"IF(SISWA!E154=0,\"\",SISWA!E154)","v":""},null,null,null,null,null,{"$error":"#DIV/0!"},null,null,{"$error":"#DIV/0!"},{"$error":"#DIV/0!"},{"$error":"#DIV/0!"}]
[148,{"$f":"IF(SISWA!B155=0,\"\",SISWA!B155)","v":""},{"$f":"IF(SISWA!C155=0,\"\",SISWA!C155)","v":""},{"$f":"IF(SISWA!D155=0,\"\",SISWA!D155)","v":""},{"$f":"IF(SISWA!E155=0,\"\",SISWA!E155)","v":""},null,null,null,null,null,{"$error":"#DIV/0!"},null,null,{"$error":"#DIV/0!"},{"$error":"#DIV/0!"},{"$error":"#DIV/0!"}]
[149,{"$f":"IF(SISWA!B156=0,\"\",SISWA!B156)","v":""},{"$f":"IF(SISWA!C156=0,\"\",SISWA!C156)","v":""},{"$f":"IF(SISWA!D156=0,\"\",SISWA!D156)","v":""},{"$f":"IF(SISWA!E156=0,\"\",SISWA!E156)","v":""},null,null,null,null,null,{"$error":"#DIV/0!"},null,null,{"$error":"#DIV/0!"},{"$error":"#DIV/0!"},{"$error":"#DIV/0!"}]
[150,{"$f":"IF(SISWA!B157=0,\"\",SISWA!B157)","v":""},{"$f":"IF(SISWA!C157=0,\"\",SISWA!C157)","v":""},{"$f":"IF(SISWA!D157=0,\"\",SISWA!D157)","v":""},{"$f":"IF(SISWA!E157=0,\"\",SISWA!E157)","v":""},null,null,null,null,null,{"$error":"#DIV/0!"},null,null,{"$error":"#DIV/0!"},{"$error":"#DIV/0!"},{"$error":"#DIV/0!"}]
[151,{"$f":"IF(SISWA!B158=0,\"\",SISWA!B158)","v":""},{"$f":"IF(SISWA!C158=0,\"\",SISWA!C158)","v":""},{"$f":"IF(SISWA!D158=0,\"\",SISWA!D158)","v":""},{"$f":"IF(SISWA!E158=0,\"\",SISWA!E158)","v":""},null,null,null,null,null,{"$error":"#DIV/0!"},null,null,{"$error":"#DIV/0!"},{"$error":"#DIV/0!"},{"$error":"#DIV/0!"}]
[152,{"$f":"IF(SISWA!B159=0,\"\",SISWA!B159)","v":""},{"$f":"IF(SISWA!C159=0,\"\",SISWA!C159)","v":""},{"$f":"IF(SISWA!D159=0,\"\",SISWA!D159)","v":""},{"$f":"IF(SISWA!E159=0,\"\",SISWA!E159)","v":""},null,null,null,null,null,{"$error":"#DIV/0!"},null,null,{"$error":"#DIV/0!"},{"$error":"#DIV/0!"},{"$error":"#DIV/0!"}]
[153,{"$f":"IF(SISWA!B160=0,\"\",SISWA!B160)","v":""},{"$f":"IF(SISWA!C160=0,\"\",SISWA!C160)","v":""},{"$f":"IF(SISWA!D160=0,\"\",SISWA!D160)","v":""},{"$f":"IF(SISWA!E160=0,\"\",SISWA!E160)","v":""},null,null,null,null,null,{"$error":"#DIV/0!"},null,null,{"$error":"#DIV/0!"},{"$error":"#DIV/0!"},{"$error":"#DIV/0!"}]
[154,{"$f":"IF(SISWA!B161=0,\"\",SISWA!B161)","v":""},{"$f":"IF(SISWA!C161=0,\"\",SISWA!C161)","v":""},{"$f":"IF(SISWA!D161=0,\"\",SISWA!D161)","v":""},{"$f":"IF(SISWA!E161=0,\"\",SISWA!E161)","v":""},null,null,null,null,null,{"$error":"#DIV/0!"},null,null,{"$error":"#DIV/0!"},{"$error":"#DIV/0!"},{"$error":"#DIV/0!"}]
[155,{"$f":"IF(SISWA!B162=0,\"\",SISWA!B162)","v":""},{"$f":"IF(SISWA!C162=0,\"\",SISWA!C162)","v":""},{"$f":"IF(SISWA!D162=0,\"\",SISWA!D162)","v":""},{"$f":"IF(SISWA!E162=0,\"\",SISWA!E162)","v":""},null,null,null,null,null,{"$error":"#DIV/0!"},null,null,{"$error":"#DIV/0!"},{"$error":"#DIV/0!"},{"$error":"#DIV/0!"}]
[156,{"$f":"IF(SISWA!B163=0,\"\",SISWA!B163)","v":""},{"$f":"IF(SISWA!C163=0,\"\",SISWA!C163)","v":""},{"$f":"IF(SISWA!D163=0,\"\",SISWA!D163)","v":""},{"$f":"IF(SISWA!E163=0,\"\",SISWA!E163)","v":""},null,null,null,null,null,{"$error":"#DIV/0!"},null,null,{"$error":"#DIV/0!"},{"$error":"#DIV/0!"},{"$error":"#DIV/0!"}]
[157,{"$f":"IF(SISWA!B164=0,\"\",SISWA!B164)","v":""},{"$f":"IF(SISWA!C164=0,\"\",SISWA!C164)","v":""},{"$f":"IF(SISWA!D164=0,\"\",SISWA!D164)","v":""},{"$f":"IF(SISWA!E164=0,\"\",SISWA!E164)","v":""},null,null,null,null,null,{"$error":"#DIV/0!"},null,null,{"$error":"#DIV/0!"},{"$error":"#DIV/0!"},{"$error":"#DIV/0!"}]
[158,{"$f":"IF(SISWA!B165=0,\"\",SISWA!B165)","v":""},{"$f":"IF(SISWA!C165=0,\"\",SISWA!C165)","v":""},{"$f":"IF(SISWA!D165=0,\"\",SISWA!D165)","v":""},{"$f":"IF(SISWA!E165=0,\"\",SISWA!E165)","v":""},null,null,null,null,null,{"$error":"#DIV/0!"},null,null,{"$error":"#DIV/0!"},{"$error":"#DIV/0!"},{"$error":"#DIV/0!"}]
[159,{"$f":"IF(SISWA!B166=0,\"\",SISWA!B166)","v":""},{"$f":"IF(SISWA!C166=0,\"\",SISWA!C166)","v":""},{"$f":"IF(SISWA!D166=0,\"\",SISWA!D166)","v":""},{"$f":"IF(SISWA!E166=0,\"\",SISWA!E166)","v":""},null,null,null,null,null,{"$error":"#DIV/0!"},null,null,{"$error":"#DIV/0!"},{"$error":"#DIV/0!"},{"$error":"#DIV/0!"}]
[160,{"$f":"IF(SISWA!B167=0,\"\",SISWA!B167)","v":""},{"$f":"IF(SISWA!C167=0,\"\",SISWA!C167)","v":""},{"$f":"IF(SISWA!D167=0,\"\",SISWA!D167)","v":""},{"$f":"IF(SISWA!E167=0,\"\",SISWA!E167)","v":""},null,null,null,null,null,{"$error":"#DIV/0!"},null,null,{"$error":"#DIV/0!"},{"$error":"#DIV/0!"},{"$error":"#DIV/0!"}]
[161,{"$f":"IF(SISWA!B168=0,\"\",SISWA!B168)","v":""},{"$f":"IF(SISWA!C168=0,\"\",SISWA!C168)","v":""},{"$f":"IF(SISWA!D168=0,\"\",SISWA!D168)","v":""},{"$f":"IF(SISWA!E168=0,\"\",SISWA!E168)","v":""},null,null,null,null,null,{"$error":"#DIV/0!"},null,null,{"$error":"#DIV/0!"},{"$error":"#DIV/0!"},{"$error":"#DIV/0!"}]
[162,{"$f":"IF(SISWA!B169=0,\"\",SISWA!B169)","v":""},{"$f":"IF(SISWA!C169=0,\"\",SISWA!C169)","v":""},{"$f":"IF(SISWA!D169=0,\"\",SISWA!D169)","v":""},{"$f":"IF(SISWA!E169=0,\"\",SISWA!E169)","v":""},null,null,null,null,null,{"$error":"#DIV/0!"},null,null,{"$error":"#DIV/0!"},{"$error":"#DIV/0!"},{"$error":"#DIV/0!"}]
[163,{"$f":"IF(SISWA!B170=0,\"\",SISWA!B170)","v":""},{"$f":"IF(SISWA!C170=0,\"\",SISWA!C170)","v":""},{"$f":"IF(SISWA!D170=0,\"\",SISWA!D170)","v":""},{"$f":"IF(SISWA!E170=0,\"\",SISWA!E170)","v":""},null,null,null,null,null,{"$error":"#DIV/0!"},null,null,{"$error":"#DIV/0!"},{"$error":"#DIV/0!"},{"$error":"#DIV/0!"}]
[164,{"$f":"IF(SISWA!B171=0,\"\",SISWA!B171)","v":""},{"$f":"IF(SISWA!C171=0,\"\",SISWA!C171)","v":""},{"$f":"IF(SISWA!D171=0,\"\",SISWA!D171)","v":""},{"$f":"IF(SISWA!E171=0,\"\",SISWA!E171)","v":""},null,null,null,null,null,{"$error":"#DIV/0!"},null,null,{"$error":"#DIV/0!"},{"$error":"#DIV/0!"},{"$error":"#DIV/0!"}]
[165,{"$f":"IF(SISWA!B172=0,\"\",SISWA!B172)","v":""},{"$f":"IF(SISWA!C172=0,\"\",SISWA!C172)","v":""},{"$f":"IF(SISWA!D172=0,\"\",SISWA!D172)","v":""},{"$f":"IF(SISWA!E172=0,\"\",SISWA!E172)","v":""},null,null,null,null,null,{"$error":"#DIV/0!"},null,null,{"$error":"#DIV/0!"},{"$error":"#DIV/0!"},{"$error":"#DIV/0!"}]
[166,{"$f":"IF(SISWA!B173=0,\"\",SISWA!B173)","v":""},{"$f":"IF(SISWA!C173=0,\"\",SISWA!C173)","v":""},{"$f":"IF(SISWA!D173=0,\"\",SISWA!D173)","v":""},{"$f":"IF(SISWA!E173=0,\"\",SISWA!E173)","v":""},null,null,null,null,null,{"$error":"#DIV/0!"},null,null,{"$error":"#DIV/0!"},{"$error":"#DIV/0!"},{"$error":"#DIV/0!"}]
[167,{"$f":"IF(SISWA!B174=0,\"\",SISWA!B174)","v":""},{"$f":"IF(SISWA!C174=0,\"\",SISWA!C174)","v":""},{"$f":"IF(SISWA!D174=0,\"\",SISWA!D174)","v":""},{"$f":"IF(SISWA!E174=0,\"\",SISWA!E174)","v":""},null,null,null,null,null,{"$error":"#DIV/0!"},null,null,{"$error":"#DIV/0!"},{"$error":"#DIV/0!"},{"$error":"#DIV/0!"}]
[168,{"$f":"IF(SISWA!B175=0,\"\",SISWA!B175)","v":""},{"$f":"IF(SISWA!C175=0,\"\",SISWA!C175)","v":""},{"$f":"IF(SISWA!D175=0,\"\",SISWA!D175)","v":""},{"$f":"IF(SISWA!E175=0,\"\",SISWA!E175)","v":""},null,null,null,null,null,{"$error":"#DIV/0!"},null,null,{"$error":"#DIV/0!"},{"$error":"#DIV/0!"},{"$error":"#DIV/0!"}]
[169,{"$f":"IF(SISWA!B176=0,\"\",SISWA!B176)","v":""},{"$f":"IF(SISWA!C176=0,\"\",SISWA!C176)","v":""},{"$f":"IF(SISWA!D176=0,\"\",SISWA!D176)","v":""},{"$f":"IF(SISWA!E176=0,\"\",SISWA!E176)","v":""},null,null,null,null,null,{"$error":"#DIV/0!"},null,null,{"$error":"#DIV/0!"},{"$error":"#DIV/0!"},{"$error":"#DIV/0!"}]
[170,{"$f":"IF(SISWA!B177=0,\"\",SISWA!B177)","v":""},{"$f":"IF(SISWA!C177=0,\"\",SISWA!C177)","v":""},{"$f":"IF(SISWA!D177=0,\"\",SISWA!D177)","v":""},{"$f":"IF(SISWA!E177=0,\"\",SISWA!E177)","v":""},null,null,null,null,null,{"$error":"#DIV/0!"},null,null,{"$error":"#DIV/0!"},{"$error":"#DIV/0!"},{"$error":"#DIV/0!"}]
[171,{"$f":"IF(SISWA!B178=0,\"\",SISWA!B178)","v":""},{"$f":"IF(SISWA!C178=0,\"\",SISWA!C178)","v":""},{"$f":"IF(SISWA!D178=0,\"\",SISWA!D178)","v":""},{"$f":"IF(SISWA!E178=0,\"\",SISWA!E178)","v":""},null,null,null,null,null,{"$error":"#DIV/0!"},null,null,{"$error":"#DIV/0!"},{"$error":"#DIV/0!"},{"$error":"#DIV/0!"}]
[172,{"$f":"IF(SISWA!B179=0,\"\",SISWA!B179)","v":""},{"$f":"IF(SISWA!C179=0,\"\",SISWA!C179)","v":""},{"$f":"IF(SISWA!D179=0,\"\",SISWA!D179)","v":""},{"$f":"IF(SISWA!E179=0,\"\",SISWA!E179)","v":""},null,null,null,null,null,{"$error":"#DIV/0!"},null,null,{"$error":"#DIV/0!"},{"$error":"#DIV/0!"},{"$error":"#DIV/0!"}]
[173,{"$f":"IF(SISWA!B180=0,\"\",SISWA!B180)","v":""},{"$f":"IF(SISWA!C180=0,\"\",SISWA!C180)","v":""},{"$f":"IF(SISWA!D180=0,\"\",SISWA!D180)","v":""},{"$f":"IF(SISWA!E180=0,\"\",SISWA!E180)","v":""},null,null,null,null,null,{"$error":"#DIV/0!"},null,null,{"$error":"#DIV/0!"},{"$error":"#DIV/0!"},{"$error":"#DIV/0!"}]
[174,{"$f":"IF(SISWA!B181=0,\"\",SISWA!B181)","v":""},{"$f":"IF(SISWA!C181=0,\"\",SISWA!C181)","v":""},{"$f":"IF(SISWA!D181=0,\"\",SISWA!D181)","v":""},{"$f":"IF(SISWA!E181=0,\"\",SISWA!E181)","v":""},null,null,null,null,null,{"$error":"#DIV/0!"},null,null,{"$error":"#DIV/0!"},{"$error":"#DIV/0!"},{"$error":"#DIV/0!"}]
[175,{"$f":"IF(SISWA!B182=0,\"\",SISWA!B182)","v":""},{"$f":"IF(SISWA!C182=0,\"\",SISWA!C182)","v":""},{"$f":"IF(SISWA!D182=0,\"\",SISWA!D182)","v":""},{"$f":"IF(SISWA!E182=0,\"\",SISWA!E182)","v":""},null,null,null,null,null,{"$error":"#DIV/0!"},null,null,{"$error":"#DIV/0!"},{"$error":"#DIV/0!"},{"$error":"#DIV/0!"}]
[176,{"$f":"IF(SISWA!B183=0,\"\",SISWA!B183)","v":""},{"$f":"IF(SISWA!C183=0,\"\",SISWA!C183)","v":""},{"$f":"IF(SISWA!D183=0,\"\",SISWA!D183)","v":""},{"$f":"IF(SISWA!E183=0,\"\",SISWA!E183)","v":""},null,null,null,null,null,{"$error":"#DIV/0!"},null,null,{"$error":"#DIV/0!"},{"$error":"#DIV/0!"},{"$error":"#DIV/0!"}]
[177,{"$f":"IF(SISWA!B184=0,\"\",SISWA!B184)","v":""},{"$f":"IF(SISWA!C184=0,\"\",SISWA!C184)","v":""},{"$f":"IF(SISWA!D184=0,\"\",SISWA!D184)","v":""},{"$f":"IF(SISWA!E184=0,\"\",SISWA!E184)","v":""},null,null,null,null,null,{"$error":"#DIV/0!"},null,null,{"$error":"#DIV/0!"},{"$error":"#DIV/0!"},{"$error":"#DIV/0!"}]
[178,{"$f":"IF(SISWA!B185=0,\"\",SISWA!B185)","v":""},{"$f":"IF(SISWA!C185=0,\"\",SISWA!C185)","v":""},{"$f":"IF(SISWA!D185=0,\"\",SISWA!D185)","v":""},{"$f":"IF(SISWA!E185=0,\"\",SISWA!E185)","v":""},null,null,null,null,null,{"$error":"#DIV/0!"},null,null,{"$error":"#DIV/0!"},{"$error":"#DIV/0!"},{"$error":"#DIV/0!"}]
[179,{"$f":"IF(SISWA!B186=0,\"\",SISWA!B186)","v":""},{"$f":"IF(SISWA!C186=0,\"\",SISWA!C186)","v":""},{"$f":"IF(SISWA!D186=0,\"\",SISWA!D186)","v":""},{"$f":"IF(SISWA!E186=0,\"\",SISWA!E186)","v":""},null,null,null,null,null,{"$error":"#DIV/0!"},null,null,{"$f":"AVERAGE(L186:M186)","v":{"$error":"#DIV/0!"}},{"$error":"#DIV/0!"},{"$error":"#DIV/0!"}]
[180,{"$f":"IF(SISWA!B187=0,\"\",SISWA!B187)","v":""},{"$f":"IF(SISWA!C187=0,\"\",SISWA!C187)","v":""},{"$f":"IF(SISWA!D187=0,\"\",SISWA!D187)","v":""},{"$f":"IF(SISWA!E187=0,\"\",SISWA!E187)","v":""},null,null,null,null,null,{"$error":"#DIV/0!"},null,null,{"$error":"#DIV/0!"},{"$error":"#DIV/0!"},{"$error":"#DIV/0!"}]
[181,{"$f":"IF(SISWA!B188=0,\"\",SISWA!B188)","v":""},{"$f":"IF(SISWA!C188=0,\"\",SISWA!C188)","v":""},{"$f":"IF(SISWA!D188=0,\"\",SISWA!D188)","v":""},{"$f":"IF(SISWA!E188=0,\"\",SISWA!E188)","v":""},null,null,null,null,null,{"$error":"#DIV/0!"},null,null,{"$error":"#DIV/0!"},{"$error":"#DIV/0!"},{"$error":"#DIV/0!"}]
[182,{"$f":"IF(SISWA!B189=0,\"\",SISWA!B189)","v":""},{"$f":"IF(SISWA!C189=0,\"\",SISWA!C189)","v":""},{"$f":"IF(SISWA!D189=0,\"\",SISWA!D189)","v":""},{"$f":"IF(SISWA!E189=0,\"\",SISWA!E189)","v":""},null,null,null,null,null,{"$error":"#DIV/0!"},null,null,{"$error":"#DIV/0!"},{"$error":"#DIV/0!"},{"$error":"#DIV/0!"}]
[183,{"$f":"IF(SISWA!B190=0,\"\",SISWA!B190)","v":""},{"$f":"IF(SISWA!C190=0,\"\",SISWA!C190)","v":""},{"$f":"IF(SISWA!D190=0,\"\",SISWA!D190)","v":""},{"$f":"IF(SISWA!E190=0,\"\",SISWA!E190)","v":""},null,null,null,null,null,{"$error":"#DIV/0!"},null,null,{"$error":"#DIV/0!"},{"$error":"#DIV/0!"},{"$error":"#DIV/0!"}]
[184,{"$f":"IF(SISWA!B191=0,\"\",SISWA!B191)","v":""},{"$f":"IF(SISWA!C191=0,\"\",SISWA!C191)","v":""},{"$f":"IF(SISWA!D191=0,\"\",SISWA!D191)","v":""},{"$f":"IF(SISWA!E191=0,\"\",SISWA!E191)","v":""},null,null,null,null,null,{"$error":"#DIV/0!"},null,null,{"$error":"#DIV/0!"},{"$error":"#DIV/0!"},{"$error":"#DIV/0!"}]
[185,{"$f":"IF(SISWA!B192=0,\"\",SISWA!B192)","v":""},{"$f":"IF(SISWA!C192=0,\"\",SISWA!C192)","v":""},{"$f":"IF(SISWA!D192=0,\"\",SISWA!D192)","v":""},{"$f":"IF(SISWA!E192=0,\"\",SISWA!E192)","v":""},null,null,null,null,null,{"$error":"#DIV/0!"},null,null,{"$error":"#DIV/0!"},{"$error":"#DIV/0!"},{"$error":"#DIV/0!"}]
[186,{"$f":"IF(SISWA!B193=0,\"\",SISWA!B193)","v":""},{"$f":"IF(SISWA!C193=0,\"\",SISWA!C193)","v":""},{"$f":"IF(SISWA!D193=0,\"\",SISWA!D193)","v":""},{"$f":"IF(SISWA!E193=0,\"\",SISWA!E193)","v":""},null,null,null,null,null,{"$error":"#DIV/0!"},null,null,{"$error":"#DIV/0!"},{"$error":"#DIV/0!"},{"$error":"#DIV/0!"}]
[187,{"$f":"IF(SISWA!B194=0,\"\",SISWA!B194)","v":""},{"$f":"IF(SISWA!C194=0,\"\",SISWA!C194)","v":""},{"$f":"IF(SISWA!D194=0,\"\",SISWA!D194)","v":""},{"$f":"IF(SISWA!E194=0,\"\",SISWA!E194)","v":""},null,null,null,null,null,{"$error":"#DIV/0!"},null,null,{"$error":"#DIV/0!"},{"$error":"#DIV/0!"},{"$error":"#DIV/0!"}]
[188,{"$f":"IF(SISWA!B195=0,\"\",SISWA!B195)","v":""},{"$f":"IF(SISWA!C195=0,\"\",SISWA!C195)","v":""},{"$f":"IF(SISWA!D195=0,\"\",SISWA!D195)","v":""},{"$f":"IF(SISWA!E195=0,\"\",SISWA!E195)","v":""},null,null,null,null,null,{"$error":"#DIV/0!"},null,null,{"$error":"#DIV/0!"},{"$error":"#DIV/0!"},{"$error":"#DIV/0!"}]
[189,{"$f":"IF(SISWA!B196=0,\"\",SISWA!B196)","v":""},{"$f":"IF(SISWA!C196=0,\"\",SISWA!C196)","v":""},{"$f":"IF(SISWA!D196=0,\"\",SISWA!D196)","v":""},{"$f":"IF(SISWA!E196=0,\"\",SISWA!E196)","v":""},null,null,null,null,null,{"$f":"AVERAGE(F196:J196)","v":{"$error":"#DIV/0!"}},null,null,{"$error":"#DIV/0!"},{"$error":"#DIV/0!"},{"$error":"#DIV/0!"}]
[190,{"$f":"IF(SISWA!B197=0,\"\",SISWA!B197)","v":""},{"$f":"IF(SISWA!C197=0,\"\",SISWA!C197)","v":""},{"$f":"IF(SISWA!D197=0,\"\",SISWA!D197)","v":""},{"$f":"IF(SISWA!E197=0,\"\",SISWA!E197)","v":""},null,null,null,null,null,{"$error":"#DIV/0!"},null,null,{"$error":"#DIV/0!"},{"$error":"#DIV/0!"},{"$error":"#DIV/0!"}]
[191,{"$f":"IF(SISWA!B198=0,\"\",SISWA!B198)","v":""},{"$f":"IF(SISWA!C198=0,\"\",SISWA!C198)","v":""},{"$f":"IF(SISWA!D198=0,\"\",SISWA!D198)","v":""},{"$f":"IF(SISWA!E198=0,\"\",SISWA!E198)","v":""},null,null,null,null,null,{"$error":"#DIV/0!"},null,null,{"$error":"#DIV/0!"},{"$error":"#DIV/0!"},{"$error":"#DIV/0!"}]
[192,{"$f":"IF(SISWA!B199=0,\"\",SISWA!B199)","v":""},{"$f":"IF(SISWA!C199=0,\"\",SISWA!C199)","v":""},{"$f":"IF(SISWA!D199=0,\"\",SISWA!D199)","v":""},{"$f":"IF(SISWA!E199=0,\"\",SISWA!E199)","v":""},null,null,null,null,null,{"$error":"#DIV/0!"},null,null,{"$error":"#DIV/0!"},{"$error":"#DIV/0!"},{"$error":"#DIV/0!"}]
[193,{"$f":"IF(SISWA!B200=0,\"\",SISWA!B200)","v":""},{"$f":"IF(SISWA!C200=0,\"\",SISWA!C200)","v":""},{"$f":"IF(SISWA!D200=0,\"\",SISWA!D200)","v":""},{"$f":"IF(SISWA!E200=0,\"\",SISWA!E200)","v":""},null,null,null,null,null,{"$error":"#DIV/0!"},null,null,{"$error":"#DIV/0!"},{"$error":"#DIV/0!"},{"$error":"#DIV/0!"}]
[194,{"$f":"IF(SISWA!B201=0,\"\",SISWA!B201)","v":""},{"$f":"IF(SISWA!C201=0,\"\",SISWA!C201)","v":""},{"$f":"IF(SISWA!D201=0,\"\",SISWA!D201)","v":""},{"$f":"IF(SISWA!E201=0,\"\",SISWA!E201)","v":""},null,null,null,null,null,{"$error":"#DIV/0!"},null,null,{"$error":"#DIV/0!"},{"$f":"AVERAGE(L201:M201)","v":{"$error":"#DIV/0!"}},{"$error":"#DIV/0!"}]
[195,{"$f":"IF(SISWA!B202=0,\"\",SISWA!B202)","v":""},{"$f":"IF(SISWA!C202=0,\"\",SISWA!C202)","v":""},{"$f":"IF(SISWA!D202=0,\"\",SISWA!D202)","v":""},{"$f":"IF(SISWA!E202=0,\"\",SISWA!E202)","v":""},null,null,null,null,null,{"$error":"#DIV/0!"},null,null,{"$error":"#DIV/0!"},{"$error":"#DIV/0!"},{"$error":"#DIV/0!"}]
[196,{"$f":"IF(SISWA!B203=0,\"\",SISWA!B203)","v":""},{"$f":"IF(SISWA!C203=0,\"\",SISWA!C203)","v":""},{"$f":"IF(SISWA!D203=0,\"\",SISWA!D203)","v":""},{"$f":"IF(SISWA!E203=0,\"\",SISWA!E203)","v":""},null,null,null,null,null,{"$error":"#DIV/0!"},null,null,{"$error":"#DIV/0!"},{"$error":"#DIV/0!"},{"$error":"#DIV/0!"}]
[197,{"$f":"IF(SISWA!B204=0,\"\",SISWA!B204)","v":""},{"$f":"IF(SISWA!C204=0,\"\",SISWA!C204)","v":""},{"$f":"IF(SISWA!D204=0,\"\",SISWA!D204)","v":""},{"$f":"IF(SISWA!E204=0,\"\",SISWA!E204)","v":""},null,null,null,null,null,{"$error":"#DIV/0!"},null,null,{"$error":"#DIV/0!"},{"$error":"#DIV/0!"},{"$error":"#DIV/0!"}]
[198,{"$f":"IF(SISWA!B205=0,\"\",SISWA!B205)","v":""},{"$f":"IF(SISWA!C205=0,\"\",SISWA!C205)","v":""},{"$f":"IF(SISWA!D205=0,\"\",SISWA!D205)","v":""},{"$f":"IF(SISWA!E205=0,\"\",SISWA!E205)","v":""},null,null,null,null,null,{"$error":"#DIV/0!"},null,null,{"$error":"#DIV/0!"},{"$error":"#DIV/0!"},{"$error":"#DIV/0!"}]
[199,{"$f":"IF(SISWA!B206=0,\"\",SISWA!B206)","v":""},{"$f":"IF(SISWA!C206=0,\"\",SISWA!C206)","v":""},{"$f":"IF(SISWA!D206=0,\"\",SISWA!D206)","v":""},{"$f":"IF(SISWA!E206=0,\"\",SISWA!E206)","v":""},null,null,null,null,null,{"$error":"#DIV/0!"},null,null,{"$error":"#DIV/0!"},{"$error":"#DIV/0!"},{"$error":"#DIV/0!"}]
[200,{"$f":"IF(SISWA!B207=0,\"\",SISWA!B207)","v":""},{"$f":"IF(SISWA!C207=0,\"\",SISWA!C207)","v":""},{"$f":"IF(SISWA!D207=0,\"\",SISWA!D207)","v":""},{"$f":"IF(SISWA!E207=0,\"\",SISWA!E207)","v":""},null,null,null,null,null,{"$error":"#DIV/0!"},null,null,{"$error":"#DIV/0!"},{"$error":"#DIV/0!"},{"$error":"#DIV/0!"}]

{"sheet":"SBK","index":12,"n_rows":108,"n_cols":16,"rows_kept":108,"cut":false,"hidden":false,"merged":[[4,13,6,13],[4,5,4,12],[0,0,0,9],[1,0,1,9],[2,0,2,9],[4,0,6,0],[4,1,6,1],[4,2,6,2],[4,3,6,3],[4,4,6,4],[5,5,5,9],[5,11,5,12]]}
["DAFTAR NILAI AKHIR SEKOLAH"]
[{"$f":"AA!A2","v":"MADRASAH IBTIDAIYAH NURUL ISLAM LABRUK KIDUL"}]
[{"$f":"AA!A3","v":"TAHUN PELAJARAN 2019/2020"}]
[]
["NO","No Induk","NISN","Nomor Peserta","Nama Peserta","SENI BUDAYA DAN KETERAMPILAN",null,null,null,null,null,null,null,"rata-rata UAM & PRAKTEK"]
[null,null,null,null,null,"Nilai Semester",null,null,null,null,"Rata- 2","NILAI UAM",null,null,null,"UAMNU"]
[null,null,null,null,null,7,8,9,10,11,"Rapor","TULIS","PRAKTIK",null,null,"TULIS"]
[1,{"$f":"IF(SISWA!B8=0,\"\",SISWA!B8)","v":4331},{"$f":"IF(SISWA!C8=0,\"\",SISWA!C8)","v":"0078140536"},{"$f":"IF(SISWA!D8=0,\"\",SISWA!D8)","v":"1-18-05-80-162-001-8"},{"$f":"IF(SISWA!E8=0,\"\",SISWA!E8)","v":"ACHMAD FATHIR IZUDDIN"},null,70,78,82,81,{"$f":"AVERAGE(F8:J8)","v":77.75},77.5,{"$f":"AVERAGE(H8:L8)","v":79.25},{"$f":"AVERAGE(L8:M8)","v":78.375},null,78.375]
[2,{"$f":"IF(SISWA!B9=0,\"\",SISWA!B9)","v":4333},{"$f":"IF(SISWA!C9=0,\"\",SISWA!C9)","v":"0084691896"},{"$f":"IF(SISWA!D9=0,\"\",SISWA!D9)","v":"1-18-05-80-162-002-7"},{"$f":"IF(SISWA!E9=0,\"\",SISWA!E9)","v":"AININ NAFISA FEBRIYANTI"},null,80,75,83,92,{"$f":"AVERAGE(F9:J9)","v":82.5},72.5,81,{"$f":"AVERAGE(L9:M9)","v":76.75},null,76.75]
[3,{"$f":"IF(SISWA!B10=0,\"\",SISWA!B10)","v":4334},{"$f":"IF(SISWA!C10=0,\"\",SISWA!C10)","v":"0075488897"},{"$f":"IF(SISWA!D10=0,\"\",SISWA!D10)","v":"1-18-05-80-162-003-6"},{"$f":"IF(SISWA!E10=0,\"\",SISWA!E10)","v":"AISYAH DWI ANDINI"},null,79,82,93,92,86.5,60,82.7,71.349999999999994,null,71.349999999999994]
[4,{"$f":"IF(SISWA!B11=0,\"\",SISWA!B11)","v":4335},{"$f":"IF(SISWA!C11=0,\"\",SISWA!C11)","v":"0077554289"},{"$f":"IF(SISWA!D11=0,\"\",SISWA!D11)","v":"1-18-05-80-162-004-5"},{"$f":"IF(SISWA!E11=0,\"\",SISWA!E11)","v":"AJENG AGUSTINA KIRANA PUTRI"},null,75,86,82,91,83.5,65,81.5,73.25,null,73.25]
[5,{"$f":"IF(SISWA!B12=0,\"\",SISWA!B12)","v":4336},{"$f":"IF(SISWA!C12=0,\"\",SISWA!C12)","v":"0078831956"},{"$f":"IF(SISWA!D12=0,\"\",SISWA!D12)","v":"1-18-05-80-162-005-4"},{"$f":"IF(SISWA!E12=0,\"\",SISWA!E12)","v":"ALVIAN FAIZULHAQQI"},null,73,75,85,81,78.5,60,75.900000000000006,67.95,null,67.95]
[6,{"$f":"IF(SISWA!B13=0,\"\",SISWA!B13)","v":4337},{"$f":"IF(SISWA!C13=0,\"\",SISWA!C13)","v":"0073667130"},{"$f":"IF(SISWA!D13=0,\"\",SISWA!D13)","v":"1-18-05-80-162-006-3"},{"$f":"IF(SISWA!E13=0,\"\",SISWA!E13)","v":"ANGGITA RIZKY YUGA MEISYA"},null,74,82,93,94,85.75,60,82.95,71.474999999999994,null,71.474999999999994]
[7,{"$f":"IF(SISWA!B14=0,\"\",SISWA!B14)","v":4338},{"$f":"IF(SISWA!C14=0,\"\",SISWA!C14)","v":"0074492973"},{"$f":"IF(SISWA!D14=0,\"\",SISWA!D14)","v":"1-18-05-80-162-007-2"},{"$f":"IF(SISWA!E14=0,\"\",SISWA!E14)","v":"AURA SALSABILA WULAN SARI"},null,77,77,85,90,82.25,60,78.849999999999994,69.424999999999997,null,69.424999999999997]
[8,{"$f":"IF(SISWA!B15=0,\"\",SISWA!B15)","v":4366},{"$f":"IF(SISWA!C15=0,\"\",SISWA!C15)","v":"0078989673"},{"$f":"IF(SISWA!D15=0,\"\",SISWA!D15)","v":"1-18-05-80-162-008-9"},{"$f":"IF(SISWA!E15=0,\"\",SISWA!E15)","v":"BALQIS NAILA AUDIA"},null,76,83,93,92,86,60,82.8,71.400000000000006,null,71.400000000000006]
[9,{"$f":"IF(SISWA!B16=0,\"\",SISWA!B16)","v":4440},{"$f":"IF(SISWA!C16=0,\"\",SISWA!C16)","v":"0082763386"},{"$f":"IF(SISWA!D16=0,\"\",SISWA!D16)","v":"1-18-05-80-162-009-8"},{"$f":"IF(SISWA!E16=0,\"\",SISWA!E16)","v":"BIMA ARYO SUSILO"},null,80,79,86,82,81.75,70,79.75,74.875,null,74.875]
[10,{"$f":"IF(SISWA!B17=0,\"\",SISWA!B17)","v":4367},{"$f":"IF(SISWA!C17=0,\"\",SISWA!C17)","v":"0078400392"},{"$f":"IF(SISWA!D17=0,\"\",SISWA!D17)","v":"1-18-05-80-162-010-7"},{"$f":"IF(SISWA!E17=0,\"\",SISWA!E17)","v":"BIMA SATRIA DIRGANTARA"},null,74,75,81,82,78,60,75.2,67.599999999999994,null,67.599999999999994]
[11,{"$f":"IF(SISWA!B18=0,\"\",SISWA!B18)","v":4339},{"$f":"IF(SISWA!C18=0,\"\",SISWA!C18)","v":"0086652599"},{"$f":"IF(SISWA!D18=0,\"\",SISWA!D18)","v":"1-18-05-80-162-011-6"},{"$f":"IF(SISWA!E18=0,\"\",SISWA!E18)","v":"DEVI KARUNIA RATNA PUTRI"},null,72,85,80,92,82.25,67.5,81.349999999999994,74.424999999999997,null,74.424999999999997]
[12,{"$f":"IF(SISWA!B19=0,\"\",SISWA!B19)","v":4340},{"$f":"IF(SISWA!C19=0,\"\",SISWA!C19)","v":"0089906682"},{"$f":"IF(SISWA!D19=0,\"\",SISWA!D19)","v":"1-18-05-80-162-012-5"},{"$f":"IF(SISWA!E19=0,\"\",SISWA!E19)","v":"DEVITA FEBRIANI PUTRI"},null,76,83,82,89,82.5,70,81.3,75.650000000000006,null,75.650000000000006]
[13,{"$f":"IF(SISWA!B20=0,\"\",SISWA!B20)","v":4370},{"$f":"IF(SISWA!C20=0,\"\",SISWA!C20)","v":"0074514146"},{"$f":"IF(SISWA!D20=0,\"\",SISWA!D20)","v":"1-18-05-80-162-013-4"},{"$f":"IF(SISWA!E20=0,\"\",SISWA!E20)","v":"FAKHIS GABRIL LIA"},null,73,78,91,88,82.5,60,79.900000000000006,69.95,null,69.95]
[14,{"$f":"IF(SISWA!B21=0,\"\",SISWA!B21)","v":4342},{"$f":"IF(SISWA!C21=0,\"\",SISWA!C21)","v":"0081081672"},{"$f":"IF(SISWA!D21=0,\"\",SISWA!D21)","v":"1-18-05-80-162-014-3"},{"$f":"IF(SISWA!E21=0,\"\",SISWA!E21)","v":"FARAH NAILATUL ALYAH"},null,89,78,83,93,85.75,60,79.95,69.974999999999994,null,69.974999999999994]
[15,{"$f":"IF(SISWA!B22=0,\"\",SISWA!B22)","v":4345},{"$f":"IF(SISWA!C22=0,\"\",SISWA!C22)","v":"0073420487"},{"$f":"IF(SISWA!D22=0,\"\",SISWA!D22)","v":"1-18-05-80-162-015-2"},{"$f":"IF(SISWA!E22=0,\"\",SISWA!E22)","v":"GALANG MARDHOTILLAH SATOTO"},null,79,77,87,81,81,60,77.2,68.599999999999994,null,68.599999999999994]
[16,{"$f":"IF(SISWA!B23=0,\"\",SISWA!B23)","v":4371},{"$f":"IF(SISWA!C23=0,\"\",SISWA!C23)","v":"0079870082"},{"$f":"IF(SISWA!D23=0,\"\",SISWA!D23)","v":"1-18-05-80-162-016-9"},{"$f":"IF(SISWA!E23=0,\"\",SISWA!E23)","v":"GALIH FAREL PRASTYO"},null,78,77,81,81,79.25,60,75.650000000000006,67.825000000000003,null,67.825000000000003]
[17,{"$f":"IF(SISWA!B24=0,\"\",SISWA!B24)","v":4466},{"$f":"IF(SISWA!C24=0,\"\",SISWA!C24)","v":"0081629504"},{"$f":"IF(SISWA!D24=0,\"\",SISWA!D24)","v":"1-18-05-80-162-017-8"},{"$f":"IF(SISWA!E24=0,\"\",SISWA!E24)","v":"HIBATULLAH MUSTAGHFIRY RUSLI"},null,80,78,87,81,81.5,60,77.5,68.75,null,68.75]
[18,{"$f":"IF(SISWA!B25=0,\"\",SISWA!B25)","v":4346},{"$f":"IF(SISWA!C25=0,\"\",SISWA!C25)","v":"0073608418"},{"$f":"IF(SISWA!D25=0,\"\",SISWA!D25)","v":"1-18-05-80-162-018-7"},{"$f":"IF(SISWA!E25=0,\"\",SISWA!E25)","v":"IKA KURNIA WATI AGUSTINA"},null,77,77,82,83,79.75,60,76.349999999999994,68.174999999999997,null,68.174999999999997]
[19,{"$f":"IF(SISWA!B26=0,\"\",SISWA!B26)","v":4350},{"$f":"IF(SISWA!C26=0,\"\",SISWA!C26)","v":"0072658586"},{"$f":"IF(SISWA!D26=0,\"\",SISWA!D26)","v":"1-18-05-80-162-019-6"},{"$f":"IF(SISWA!E26=0,\"\",SISWA!E26)","v":"MAYLUNA EKA PRATIWI"},null,91,86,87,94,89.5,60,83.3,71.650000000000006,null,71.650000000000006]
[20,{"$f":"IF(SISWA!B27=0,\"\",SISWA!B27)","v":4353},{"$f":"IF(SISWA!C27=0,\"\",SISWA!C27)","v":"0075464137"},{"$f":"IF(SISWA!D27=0,\"\",SISWA!D27)","v":"1-18-05-80-162-020-5"},{"$f":"IF(SISWA!E27=0,\"\",SISWA!E27)","v":"MOHAMAD DWIMAS FIRDAUS"},null,84,78,83,93,84.5,67.5,81.2,74.349999999999994,null,74.349999999999994]
[21,{"$f":"IF(SISWA!B28=0,\"\",SISWA!B28)","v":4375},{"$f":"IF(SISWA!C28=0,\"\",SISWA!C28)","v":"0075096831"},{"$f":"IF(SISWA!D28=0,\"\",SISWA!D28)","v":"1-18-05-80-162-021-4"},{"$f":"IF(SISWA!E28=0,\"\",SISWA!E28)","v":"MUHAMMAD AFFAN ABI SYAHPUTRA"},null,87,78,82,89,84,60,78.599999999999994,69.3,null,69.3]
[22,{"$f":"IF(SISWA!B29=0,\"\",SISWA!B29)","v":4354},{"$f":"IF(SISWA!C29=0,\"\",SISWA!C29)","v":"0075055640"},{"$f":"IF(SISWA!D29=0,\"\",SISWA!D29)","v":"1-18-05-80-162-022-3"},{"$f":"IF(SISWA!E29=0,\"\",SISWA!E29)","v":"MUHAMMAD ALVIN RIDHO"},null,77,78,86,81,80.5,85,82.1,83.55,null,83.55]
[23,{"$f":"IF(SISWA!B30=0,\"\",SISWA!B30)","v":4378},{"$f":"IF(SISWA!C30=0,\"\",SISWA!C30)","v":"0074268893"},{"$f":"IF(SISWA!D30=0,\"\",SISWA!D30)","v":"1-18-05-80-162-023-2"},{"$f":"IF(SISWA!E30=0,\"\",SISWA!E30)","v":"MUKHAMAD DAVID ARIF FIRDAUS"},null,88,80,89,84,85.25,60,79.650000000000006,69.825000000000003,null,69.825000000000003]
[24,{"$f":"IF(SISWA!B31=0,\"\",SISWA!B31)","v":4379},{"$f":"IF(SISWA!C31=0,\"\",SISWA!C31)","v":"0072757203"},{"$f":"IF(SISWA!D31=0,\"\",SISWA!D31)","v":"1-18-05-80-162-024-9"},{"$f":"IF(SISWA!E31=0,\"\",SISWA!E31)","v":"NAORA ISQI AINAYYA"},null,97,86,96,91,92.5,80,89.1,84.55,null,84.55]
[25,{"$f":"IF(SISWA!B32=0,\"\",SISWA!B32)","v":4380},{"$f":"IF(SISWA!C32=0,\"\",SISWA!C32)","v":"0079026285"},{"$f":"IF(SISWA!D32=0,\"\",SISWA!D32)","v":"1-18-05-80-162-025-8"},{"$f":"IF(SISWA!E32=0,\"\",SISWA!E32)","v":"NAZRA ISLAMAY PASHA"},null,81,80,83,92,84,77.5,83.3,80.400000000000006,null,80.400000000000006]
[26,{"$f":"IF(SISWA!B33=0,\"\",SISWA!B33)","v":4382},{"$f":"IF(SISWA!C33=0,\"\",SISWA!C33)","v":"0079872151"},{"$f":"IF(SISWA!D33=0,\"\",SISWA!D33)","v":"1-18-05-80-162-026-7"},{"$f":"IF(SISWA!E33=0,\"\",SISWA!E33)","v":"NUR ALYA NABILA"},null,86,82,86,92,86.5,60,81.3,70.650000000000006,null,70.650000000000006]
[27,{"$f":"IF(SISWA!B34=0,\"\",SISWA!B34)","v":4358},{"$f":"IF(SISWA!C34=0,\"\",SISWA!C34)","v":"0087558837"},{"$f":"IF(SISWA!D34=0,\"\",SISWA!D34)","v":"1-18-05-80-162-027-6"},{"$f":"IF(SISWA!E34=0,\"\",SISWA!E34)","v":"PUTRI SHOLIKHAH"},null,83,76,80,81,80,60,75.400000000000006,67.7,null,67.7]
[28,{"$f":"IF(SISWA!B35=0,\"\",SISWA!B35)","v":4384},{"$f":"IF(SISWA!C35=0,\"\",SISWA!C35)","v":"0071234523"},{"$f":"IF(SISWA!D35=0,\"\",SISWA!D35)","v":"1-18-05-80-162-028-5"},{"$f":"IF(SISWA!E35=0,\"\",SISWA!E35)","v":"RESTI FITRIANTI DWI OCTAVIANI"},null,81,78,85,90,83.5,60,79.3,69.650000000000006,null,69.650000000000006]
[29,{"$f":"IF(SISWA!B36=0,\"\",SISWA!B36)","v":4359},{"$f":"IF(SISWA!C36=0,\"\",SISWA!C36)","v":"0073122181"},{"$f":"IF(SISWA!D36=0,\"\",SISWA!D36)","v":"1-18-05-80-162-029-4"},{"$f":"IF(SISWA!E36=0,\"\",SISWA!E36)","v":"ROUDHOTUS SA'DIYAH"},null,84,81,86,86,84.25,65,80.45,72.724999999999994,null,72.724999999999994]
[30,{"$f":"IF(SISWA!B37=0,\"\",SISWA!B37)","v":4386},{"$f":"IF(SISWA!C37=0,\"\",SISWA!C37)","v":"0075344352"},{"$f":"IF(SISWA!D37=0,\"\",SISWA!D37)","v":"1-18-05-80-162-030-3"},{"$f":"IF(SISWA!E37=0,\"\",SISWA!E37)","v":"TIERSYA BETA RAMANUZAN"},null,92,80,89,91,88,82.5,86.1,84.3,null,84.3]
[31,{"$f":"IF(SISWA!B38=0,\"\",SISWA!B38)","v":4388},{"$f":"IF(SISWA!C38=0,\"\",SISWA!C38)","v":"0077423646"},{"$f":"IF(SISWA!D38=0,\"\",SISWA!D38)","v":"1-18-05-80-162-031-2"},{"$f":"IF(SISWA!E38=0,\"\",SISWA!E38)","v":"VERA MUSTIKA"},null,82,75,82,86,81.25,60,76.849999999999994,68.424999999999997,null,68.424999999999997]
[32,{"$f":"IF(SISWA!B39=0,\"\",SISWA!B39)","v":4360},{"$f":"IF(SISWA!C39=0,\"\",SISWA!C39)","v":"0077290990"},{"$f":"IF(SISWA!D39=0,\"\",SISWA!D39)","v":"1-18-05-80-162-032-9"},{"$f":"IF(SISWA!E39=0,\"\",SISWA!E39)","v":"ZIDNY ILMA NABILA"},null,93,77,90,93,88.25,80,85.65,82.825000000000003,null,82.825000000000003]
[33,{"$f":"IF(SISWA!B40=0,\"\",SISWA!B40)","v":4390},{"$f":"IF(SISWA!C40=0,\"\",SISWA!C40)","v":"0077722307"},{"$f":"IF(SISWA!D40=0,\"\",SISWA!D40)","v":"1-18-05-80-162-033-8"},{"$f":"IF(SISWA!E40=0,\"\",SISWA!E40)","v":"ZITNATUL AULIA ILLA"},null,97,78,87,91,88.25,65,81.849999999999994,73.424999999999997,null,73.424999999999997]
[34,{"$f":"IF(SISWA!B41=0,\"\",SISWA!B41)","v":4330},{"$f":"IF(SISWA!C41=0,\"\",SISWA!C41)","v":"0084736422"},{"$f":"IF(SISWA!D41=0,\"\",SISWA!D41)","v":"1-18-05-80-162-034-7"},{"$f":"IF(SISWA!E41=0,\"\",SISWA!E41)","v":"ACHID ATHIRIL ARDAN"},null,70,76,81,81,77,60,75,67.5,null,66.083333333333343]
[35,{"$f":"IF(SISWA!B42=0,\"\",SISWA!B42)","v":4361},{"$f":"IF(SISWA!C42=0,\"\",SISWA!C42)","v":"0075656390"},{"$f":"IF(SISWA!D42=0,\"\",SISWA!D42)","v":"1-18-05-80-162-035-6"},{"$f":"IF(SISWA!E42=0,\"\",SISWA!E42)","v":"ACHMAD SEPTIAN HAMDANI"},null,70,83,81,86,80,60,78,69,null,66.083333333333343]
[36,{"$f":"IF(SISWA!B43=0,\"\",SISWA!B43)","v":4362},{"$f":"IF(SISWA!C43=0,\"\",SISWA!C43)","v":"0071796138"},{"$f":"IF(SISWA!D43=0,\"\",SISWA!D43)","v":"1-18-05-80-162-036-5"},{"$f":"IF(SISWA!E43=0,\"\",SISWA!E43)","v":"ACHMAD SULAIMAN"},null,73,75,81,84,78.25,60,75.650000000000006,67.825000000000003,null,66.333333333333343]
[37,{"$f":"IF(SISWA!B44=0,\"\",SISWA!B44)","v":4364},{"$f":"IF(SISWA!C44=0,\"\",SISWA!C44)","v":"0079667684"},{"$f":"IF(SISWA!D44=0,\"\",SISWA!D44)","v":"1-18-05-80-162-037-4"},{"$f":"IF(SISWA!E44=0,\"\",SISWA!E44)","v":"AIRLANGGA DWIKA RIZQI"},null,60,76,81,86,75.75,60,75.75,67.875,null,65.25]
[38,{"$f":"IF(SISWA!B45=0,\"\",SISWA!B45)","v":4365},{"$f":"IF(SISWA!C45=0,\"\",SISWA!C45)","v":"0089321127"},{"$f":"IF(SISWA!D45=0,\"\",SISWA!D45)","v":"1-18-05-80-162-038-3"},{"$f":"IF(SISWA!E45=0,\"\",SISWA!E45)","v":"AUFAN AZKAL ABRORI"},null,72,76,85,82,78.75,60,76.349999999999994,68.174999999999997,null,67.25]
[39,{"$f":"IF(SISWA!B46=0,\"\",SISWA!B46)","v":4465},{"$f":"IF(SISWA!C46=0,\"\",SISWA!C46)","v":"0071776593"},{"$f":"IF(SISWA!D46=0,\"\",SISWA!D46)","v":"1-18-05-80-162-039-2"},{"$f":"IF(SISWA!E46=0,\"\",SISWA!E46)","v":"AZZA PRISHAL DWI PUTRA"},null,78,77,82,81,79.5,60,75.900000000000006,67.95,null,67]
[40,{"$f":"IF(SISWA!B47=0,\"\",SISWA!B47)","v":4368},{"$f":"IF(SISWA!C47=0,\"\",SISWA!C47)","v":"0074569410"},{"$f":"IF(SISWA!D47=0,\"\",SISWA!D47)","v":"1-18-05-80-162-040-9"},{"$f":"IF(SISWA!E47=0,\"\",SISWA!E47)","v":"EKA AULIYA` PUTRI"},null,75,82,85,89,82.75,60,79.75,69.875,null,67.5]
[41,{"$f":"IF(SISWA!B48=0,\"\",SISWA!B48)","v":4341},{"$f":"IF(SISWA!C48=0,\"\",SISWA!C48)","v":"0083684457"},{"$f":"IF(SISWA!D48=0,\"\",SISWA!D48)","v":"1-18-05-80-162-041-8"},{"$f":"IF(SISWA!E48=0,\"\",SISWA!E48)","v":"ERSA PUSPITA EKA ROSA LINDA"},null,70,82,86,89,81.75,60,79.75,69.875,null,67.333333333333343]
[42,{"$f":"IF(SISWA!B49=0,\"\",SISWA!B49)","v":4369},{"$f":"IF(SISWA!C49=0,\"\",SISWA!C49)","v":"0078481731"},{"$f":"IF(SISWA!D49=0,\"\",SISWA!D49)","v":"1-18-05-80-162-042-7"},{"$f":"IF(SISWA!E49=0,\"\",SISWA!E49)","v":"FABIYAN TRI BAKTI OKTAFIAN"},null,72,82,81,84,79.75,60,77.349999999999994,68.674999999999997,null,66.25]
[43,{"$f":"IF(SISWA!B50=0,\"\",SISWA!B50)","v":4343},{"$f":"IF(SISWA!C50=0,\"\",SISWA!C50)","v":3075965396},{"$f":"IF(SISWA!D50=0,\"\",SISWA!D50)","v":"1-18-05-80-162-043-6"},{"$f":"IF(SISWA!E50=0,\"\",SISWA!E50)","v":"FELISITA APRILIA NUR NIHAYA"},null,76,73,83,82,78.5,60,75.3,67.650000000000006,null,67.083333333333343]
[44,{"$f":"IF(SISWA!B51=0,\"\",SISWA!B51)","v":4344},{"$f":"IF(SISWA!C51=0,\"\",SISWA!C51)","v":3078948093},{"$f":"IF(SISWA!D51=0,\"\",SISWA!D51)","v":"1-18-05-80-162-044-5"},{"$f":"IF(SISWA!E51=0,\"\",SISWA!E51)","v":"FIRDA DWI ANDRIANI"},null,70,79,82,88,79.75,60,77.75,68.875,null,66.333333333333343]
[45,{"$f":"IF(SISWA!B52=0,\"\",SISWA!B52)","v":4372},{"$f":"IF(SISWA!C52=0,\"\",SISWA!C52)","v":"0087636520"},{"$f":"IF(SISWA!D52=0,\"\",SISWA!D52)","v":"1-18-05-80-162-045-4"},{"$f":"IF(SISWA!E52=0,\"\",SISWA!E52)","v":"GILANG AKBAR PRASETYO"},null,70,78,81,88,79.25,60,77.25,68.625,null,66.083333333333343]
[46,{"$f":"IF(SISWA!B53=0,\"\",SISWA!B53)","v":4373},{"$f":"IF(SISWA!C53=0,\"\",SISWA!C53)","v":"0087373224"},{"$f":"IF(SISWA!D53=0,\"\",SISWA!D53)","v":"1-18-05-80-162-046-3"},{"$f":"IF(SISWA!E53=0,\"\",SISWA!E53)","v":"IFTAH IZZAH EMILIA  MAHMUD"},null,63,78,81,80,75.5,60,74.900000000000006,67.45,null,65.5]
[47,{"$f":"IF(SISWA!B54=0,\"\",SISWA!B54)","v":4441},{"$f":"IF(SISWA!C54=0,\"\",SISWA!C54)","v":"0081758949"},{"$f":"IF(SISWA!D54=0,\"\",SISWA!D54)","v":"1-18-05-80-162-047-2"},{"$f":"IF(SISWA!E54=0,\"\",SISWA!E54)","v":"INES ARIFANI MAULINA"},null,73,84,82,89,82,60,79.400000000000006,69.7,null,66.583333333333343]
[48,{"$f":"IF(SISWA!B55=0,\"\",SISWA!B55)","v":4374},{"$f":"IF(SISWA!C55=0,\"\",SISWA!C55)","v":"0073409469"},{"$f":"IF(SISWA!D55=0,\"\",SISWA!D55)","v":"1-18-05-80-162-048-9"},{"$f":"IF(SISWA!E55=0,\"\",SISWA!E55)","v":"IYAAD AFLAKHA RAMZII"},null,76,85,84,82,81.75,60,78.55,69.275000000000006,null,67.333333333333343]
[49,{"$f":"IF(SISWA!B56=0,\"\",SISWA!B56)","v":4305},{"$f":"IF(SISWA!C56=0,\"\",SISWA!C56)","v":"0068258891"},{"$f":"IF(SISWA!D56=0,\"\",SISWA!D56)","v":"1-18-05-80-162-049-8"},{"$f":"IF(SISWA!E56=0,\"\",SISWA!E56)","v":"JULI ANDRIYANTO"},null,70,80,82,82,78.5,60,76.5,68.25,null,66.333333333333343]
[50,{"$f":"IF(SISWA!B57=0,\"\",SISWA!B57)","v":4347},{"$f":"IF(SISWA!C57=0,\"\",SISWA!C57)","v":"0076367763"},{"$f":"IF(SISWA!D57=0,\"\",SISWA!D57)","v":"1-18-05-80-162-050-7"},{"$f":"IF(SISWA!E57=0,\"\",SISWA!E57)","v":"LIYA FEBRIYANI"},null,78,90,87,93,87,60,83.4,71.7,null,68.25]
[51,{"$f":"IF(SISWA!B58=0,\"\",SISWA!B58)","v":4348},{"$f":"IF(SISWA!C58=0,\"\",SISWA!C58)","v":"0083034332"},{"$f":"IF(SISWA!D58=0,\"\",SISWA!D58)","v":"1-18-05-80-162-051-6"},{"$f":"IF(SISWA!E58=0,\"\",SISWA!E58)","v":"LIZATUL CHAIYUNI"},null,75,85,84,88,83,60,80,70,null,67.25]
[52,{"$f":"IF(SISWA!B59=0,\"\",SISWA!B59)","v":4531},{"$f":"IF(SISWA!C59=0,\"\",SISWA!C59)","v":3099539154},{"$f":"IF(SISWA!D59=0,\"\",SISWA!D59)","v":"1-18-05-80-162-052-5"},{"$f":"IF(SISWA!E59=0,\"\",SISWA!E59)","v":"M. ALHAFIS"},null,70,83,82,82,79.25,60,77.25,68.625,null,66.333333333333343]
[53,{"$f":"IF(SISWA!B60=0,\"\",SISWA!B60)","v":4530},{"$f":"IF(SISWA!C60=0,\"\",SISWA!C60)","v":"0077015789"},{"$f":"IF(SISWA!D60=0,\"\",SISWA!D60)","v":"1-18-05-80-162-053-4"},{"$f":"IF(SISWA!E60=0,\"\",SISWA!E60)","v":"MUHAMMAD RIZKI RIDWAN"},null,70,78,81,81,77.5,60,75.5,67.75,null,66.083333333333343]
[54,{"$f":"IF(SISWA!B61=0,\"\",SISWA!B61)","v":4351},{"$f":"IF(SISWA!C61=0,\"\",SISWA!C61)","v":"0076361559"},{"$f":"IF(SISWA!D61=0,\"\",SISWA!D61)","v":"1-18-05-80-162-054-3"},{"$f":"IF(SISWA!E61=0,\"\",SISWA!E61)","v":"MOCHAMAD RAFLI DIAN SAPUTRA"},null,70,76,81,82,77.25,60,75.25,67.625,null,66.083333333333343]
[55,{"$f":"IF(SISWA!B62=0,\"\",SISWA!B62)","v":4352},{"$f":"IF(SISWA!C62=0,\"\",SISWA!C62)","v":"0075591405"},{"$f":"IF(SISWA!D62=0,\"\",SISWA!D62)","v":"1-18-05-80-162-055-2"},{"$f":"IF(SISWA!E62=0,\"\",SISWA!E62)","v":"MOCHAMMAD AFAREL PUTRA RAMDHANA"},null,80,85,82,82,82.25,60,78.25,69.125,null,67.166666666666657]
[56,{"$f":"IF(SISWA!B63=0,\"\",SISWA!B63)","v":4355},{"$f":"IF(SISWA!C63=0,\"\",SISWA!C63)","v":"0075363258"},{"$f":"IF(SISWA!D63=0,\"\",SISWA!D63)","v":"1-18-05-80-162-056-9"},{"$f":"IF(SISWA!E63=0,\"\",SISWA!E63)","v":"MUHAMAD JEFRI MAULANA"},null,66,84,83,82,78.75,60,77.55,68.775000000000006,null,66.25]
[57,{"$f":"IF(SISWA!B64=0,\"\",SISWA!B64)","v":4376},{"$f":"IF(SISWA!C64=0,\"\",SISWA!C64)","v":"0072066741"},{"$f":"IF(SISWA!D64=0,\"\",SISWA!D64)","v":"1-18-05-80-162-057-8"},{"$f":"IF(SISWA!E64=0,\"\",SISWA!E64)","v":"MUHAMMAD DWI WILDAN BAGUS KURNIAWAN"},null,60,76,83,81,75,60,75,67.5,null,65.75]
[58,{"$f":"IF(SISWA!B65=0,\"\",SISWA!B65)","v":4377},{"$f":"IF(SISWA!C65=0,\"\",SISWA!C65)","v":"0071459044"},{"$f":"IF(SISWA!D65=0,\"\",SISWA!D65)","v":"1-18-05-80-162-058-7"},{"$f":"IF(SISWA!E65=0,\"\",SISWA!E65)","v":"MUHAMMAD FARIL FIRMANSYA"},null,61,76,83,81,75.25,60,75.05,67.525000000000006,null,65.833333333333343]
[59,{"$f":"IF(SISWA!B66=0,\"\",SISWA!B66)","v":4349},{"$f":"IF(SISWA!C66=0,\"\",SISWA!C66)","v":"0074206034"},{"$f":"IF(SISWA!D66=0,\"\",SISWA!D66)","v":"1-18-05-80-162-059-6"},{"$f":"IF(SISWA!E66=0,\"\",SISWA!E66)","v":"MUHAMMAD FARIZ UBAIDILLA"},null,76,83,83,90,83,60,79.8,69.900000000000006,null,67.083333333333343]
[60,{"$f":"IF(SISWA!B67=0,\"\",SISWA!B67)","v":4356},{"$f":"IF(SISWA!C67=0,\"\",SISWA!C67)","v":"0077937892"},{"$f":"IF(SISWA!D67=0,\"\",SISWA!D67)","v":"1-18-05-80-162-060-5"},{"$f":"IF(SISWA!E67=0,\"\",SISWA!E67)","v":"MUHAMMAD MAULANA ZIDANIL ILMI"},null,76,86,82,88,83,60,79.8,69.900000000000006,null,66.833333333333343]
[61,{"$f":"IF(SISWA!B68=0,\"\",SISWA!B68)","v":4357},{"$f":"IF(SISWA!C68=0,\"\",SISWA!C68)","v":"0078608527"},{"$f":"IF(SISWA!D68=0,\"\",SISWA!D68)","v":"1-18-05-80-162-061-4"},{"$f":"IF(SISWA!E68=0,\"\",SISWA!E68)","v":"MUHAMMAD SUTRISNO ISMAIL"},null,60,80,81,86,{"$f":"AVERAGE(F68:J68)","v":76.75},60,76.75,68.375,null,65.25]
[62,{"$f":"IF(SISWA!B69=0,\"\",SISWA!B69)","v":4381},{"$f":"IF(SISWA!C69=0,\"\",SISWA!C69)","v":"0072209435"},{"$f":"IF(SISWA!D69=0,\"\",SISWA!D69)","v":"1-18-05-80-162-062-3"},{"$f":"IF(SISWA!E69=0,\"\",SISWA!E69)","v":"NOVITA ERNIAWAN"},null,75,83,86,89,83.25,60,80.25,70.125,null,67.75]
[63,{"$f":"IF(SISWA!B70=0,\"\",SISWA!B70)","v":4383},{"$f":"IF(SISWA!C70=0,\"\",SISWA!C70)","v":"0077439834"},{"$f":"IF(SISWA!D70=0,\"\",SISWA!D70)","v":"1-18-05-80-162-063-2"},{"$f":"IF(SISWA!E70=0,\"\",SISWA!E70)","v":"PUTRI AULIA DWI AGUSTIN"},null,69,84,85,90,82,60,80.2,70.099999999999994,null,67]
[64,{"$f":"IF(SISWA!B71=0,\"\",SISWA!B71)","v":4385},{"$f":"IF(SISWA!C71=0,\"\",SISWA!C71)","v":"0073137310"},{"$f":"IF(SISWA!D71=0,\"\",SISWA!D71)","v":"1-18-05-80-162-064-9"},{"$f":"IF(SISWA!E71=0,\"\",SISWA!E71)","v":"STANY RAFIDAH RAHMANIA"},null,72,76,85,81,78.5,60,76.099999999999994,68.05,null,67.25]
[65,{"$f":"IF(SISWA!B72=0,\"\",SISWA!B72)","v":4387},{"$f":"IF(SISWA!C72=0,\"\",SISWA!C72)","v":"0077336427"},{"$f":"IF(SISWA!D72=0,\"\",SISWA!D72)","v":"1-18-05-80-162-065-8"},{"$f":"IF(SISWA!E72=0,\"\",SISWA!E72)","v":"USWATUN KHASANAH"},null,70,81,84,82,79.25,60,77.25,68.625,null,66.833333333333343]
[66,{"$f":"IF(SISWA!B73=0,\"\",SISWA!B73)","v":4389},{"$f":"IF(SISWA!C73=0,\"\",SISWA!C73)","v":"0078407631"},{"$f":"IF(SISWA!D73=0,\"\",SISWA!D73)","v":"1-18-05-80-162-066-7"},{"$f":"IF(SISWA!E73=0,\"\",SISWA!E73)","v":"VIKROUL KHAMILA"},null,75,84,84,86,82.25,60,79.25,{"$f":"AVERAGE(L73:M73)","v":69.625},null,67.25]
[67,{"$f":"IF(SISWA!B74=0,\"\",SISWA!B74)","v":""},{"$f":"IF(SISWA!C74=0,\"\",SISWA!C74)","v":""},{"$f":"IF(SISWA!D74=0,\"\",SISWA!D74)","v":""},{"$f":"IF(SISWA!E74=0,\"\",SISWA!E74)","v":""},null,null,null,null,null,{"$error":"#DIV/0!"},null,null,{"$error":"#DIV/0!"},null,{"$error":"#DIV/0!"}]
[68,{"$f":"IF(SISWA!B75=0,\"\",SISWA!B75)","v":""},{"$f":"IF(SISWA!C75=0,\"\",SISWA!C75)","v":""},{"$f":"IF(SISWA!D75=0,\"\",SISWA!D75)","v":""},{"$f":"IF(SISWA!E75=0,\"\",SISWA!E75)","v":""},null,null,null,null,null,{"$error":"#DIV/0!"},null,null,{"$error":"#DIV/0!"},null,{"$error":"#DIV/0!"}]
[69,{"$f":"IF(SISWA!B76=0,\"\",SISWA!B76)","v":""},{"$f":"IF(SISWA!C76=0,\"\",SISWA!C76)","v":""},{"$f":"IF(SISWA!D76=0,\"\",SISWA!D76)","v":""},{"$f":"IF(SISWA!E76=0,\"\",SISWA!E76)","v":""},null,null,null,null,null,{"$error":"#DIV/0!"},null,null,{"$error":"#DIV/0!"},null,{"$error":"#DIV/0!"}]
[70,{"$f":"IF(SISWA!B77=0,\"\",SISWA!B77)","v":""},{"$f":"IF(SISWA!C77=0,\"\",SISWA!C77)","v":""},{"$f":"IF(SISWA!D77=0,\"\",SISWA!D77)","v":""},{"$f":"IF(SISWA!E77=0,\"\",SISWA!E77)","v":""},null,null,null,null,null,{"$error":"#DIV/0!"},null,null,{"$error":"#DIV/0!"},null,{"$error":"#DIV/0!"}]
[71,{"$f":"IF(SISWA!B78=0,\"\",SISWA!B78)","v":""},{"$f":"IF(SISWA!C78=0,\"\",SISWA!C78)","v":""},{"$f":"IF(SISWA!D78=0,\"\",SISWA!D78)","v":""},{"$f":"IF(SISWA!E78=0,\"\",SISWA!E78)","v":""},null,null,null,null,null,{"$error":"#DIV/0!"},null,null,{"$error":"#DIV/0!"},null,{"$error":"#DIV/0!"}]
[72,{"$f":"IF(SISWA!B79=0,\"\",SISWA!B79)","v":""},{"$f":"IF(SISWA!C79=0,\"\",SISWA!C79)","v":""},{"$f":"IF(SISWA!D79=0,\"\",SISWA!D79)","v":""},{"$f":"IF(SISWA!E79=0,\"\",SISWA!E79)","v":""},null,null,null,null,null,{"$error":"#DIV/0!"},null,null,{"$error":"#DIV/0!"},null,{"$error":"#DIV/0!"}]
[73,{"$f":"IF(SISWA!B80=0,\"\",SISWA!B80)","v":""},{"$f":"IF(SISWA!C80=0,\"\",SISWA!C80)","v":""},{"$f":"IF(SISWA!D80=0,\"\",SISWA!D80)","v":""},{"$f":"IF(SISWA!E80=0,\"\",SISWA!E80)","v":""},null,null,null,null,null,{"$error":"#DIV/0!"},null,null,{"$error":"#DIV/0!"},null,{"$error":"#DIV/0!"}]
[74,{"$f":"IF(SISWA!B81=0,\"\",SISWA!B81)","v":""},{"$f":"IF(SISWA!C81=0,\"\",SISWA!C81)","v":""},{"$f":"IF(SISWA!D81=0,\"\",SISWA!D81)","v":""},{"$f":"IF(SISWA!E81=0,\"\",SISWA!E81)","v":""},null,null,null,null,null,{"$error":"#DIV/0!"},null,null,{"$error":"#DIV/0!"},null,{"$error":"#DIV/0!"}]
[75,{"$f":"IF(SISWA!B82=0,\"\",SISWA!B82)","v":""},{"$f":"IF(SISWA!C82=0,\"\",SISWA!C82)","v":""},{"$f":"IF(SISWA!D82=0,\"\",SISWA!D82)","v":""},{"$f":"IF(SISWA!E82=0,\"\",SISWA!E82)","v":""},null,null,null,null,null,{"$error":"#DIV/0!"},null,null,{"$error":"#DIV/0!"},null,{"$error":"#DIV/0!"}]
[76,{"$f":"IF(SISWA!B83=0,\"\",SISWA!B83)","v":""},{"$f":"IF(SISWA!C83=0,\"\",SISWA!C83)","v":""},{"$f":"IF(SISWA!D83=0,\"\",SISWA!D83)","v":""},{"$f":"IF(SISWA!E83=0,\"\",SISWA!E83)","v":""},null,null,null,null,null,{"$error":"#DIV/0!"},null,null,{"$error":"#DIV/0!"},null,{"$error":"#DIV/0!"}]
[77,{"$f":"IF(SISWA!B84=0,\"\",SISWA!B84)","v":""},{"$f":"IF(SISWA!C84=0,\"\",SISWA!C84)","v":""},{"$f":"IF(SISWA!D84=0,\"\",SISWA!D84)","v":""},{"$f":"IF(SISWA!E84=0,\"\",SISWA!E84)","v":""},null,null,null,null,null,{"$error":"#DIV/0!"},null,null,{"$error":"#DIV/0!"},null,{"$error":"#DIV/0!"}]
[78,{"$f":"IF(SISWA!B85=0,\"\",SISWA!B85)","v":""},{"$f":"IF(SISWA!C85=0,\"\",SISWA!C85)","v":""},{"$f":"IF(SISWA!D85=0,\"\",SISWA!D85)","v":""},{"$f":"IF(SISWA!E85=0,\"\",SISWA!E85)","v":""},null,null,null,null,null,{"$error":"#DIV/0!"},null,null,{"$error":"#DIV/0!"},null,{"$error":"#DIV/0!"}]
[79,{"$f":"IF(SISWA!B86=0,\"\",SISWA!B86)","v":""},{"$f":"IF(SISWA!C86=0,\"\",SISWA!C86)","v":""},{"$f":"IF(SISWA!D86=0,\"\",SISWA!D86)","v":""},{"$f":"IF(SISWA!E86=0,\"\",SISWA!E86)","v":""},null,null,null,null,null,{"$error":"#DIV/0!"},null,null,{"$error":"#DIV/0!"},null,{"$error":"#DIV/0!"}]
[80,{"$f":"IF(SISWA!B87=0,\"\",SISWA!B87)","v":""},{"$f":"IF(SISWA!C87=0,\"\",SISWA!C87)","v":""},{"$f":"IF(SISWA!D87=0,\"\",SISWA!D87)","v":""},{"$f":"IF(SISWA!E87=0,\"\",SISWA!E87)","v":""},null,null,null,null,null,{"$error":"#DIV/0!"},null,null,{"$error":"#DIV/0!"},null,{"$error":"#DIV/0!"}]
[81,{"$f":"IF(SISWA!B88=0,\"\",SISWA!B88)","v":""},{"$f":"IF(SISWA!C88=0,\"\",SISWA!C88)","v":""},{"$f":"IF(SISWA!D88=0,\"\",SISWA!D88)","v":""},{"$f":"IF(SISWA!E88=0,\"\",SISWA!E88)","v":""},null,null,null,null,null,{"$error":"#DIV/0!"},null,null,{"$error":"#DIV/0!"},null,{"$error":"#DIV/0!"}]
[82,{"$f":"IF(SISWA!B89=0,\"\",SISWA!B89)","v":""},{"$f":"IF(SISWA!C89=0,\"\",SISWA!C89)","v":""},{"$f":"IF(SISWA!D89=0,\"\",SISWA!D89)","v":""},{"$f":"IF(SISWA!E89=0,\"\",SISWA!E89)","v":""},null,null,null,null,null,{"$error":"#DIV/0!"},null,null,{"$error":"#DIV/0!"},null,{"$error":"#DIV/0!"}]
[83,{"$f":"IF(SISWA!B90=0,\"\",SISWA!B90)","v":""},{"$f":"IF(SISWA!C90=0,\"\",SISWA!C90)","v":""},{"$f":"IF(SISWA!D90=0,\"\",SISWA!D90)","v":""},{"$f":"IF(SISWA!E90=0,\"\",SISWA!E90)","v":""},null,null,null,null,null,{"$error":"#DIV/0!"},null,null,{"$error":"#DIV/0!"},null,{"$error":"#DIV/0!"}]
[84,{"$f":"IF(SISWA!B91=0,\"\",SISWA!B91)","v":""},{"$f":"IF(SISWA!C91=0,\"\",SISWA!C91)","v":""},{"$f":"IF(SISWA!D91=0,\"\",SISWA!D91)","v":""},{"$f":"IF(SISWA!E91=0,\"\",SISWA!E91)","v":""},null,null,null,null,null,{"$error":"#DIV/0!"},null,null,{"$error":"#DIV/0!"},null,{"$error":"#DIV/0!"}]
[85,{"$f":"IF(SISWA!B92=0,\"\",SISWA!B92)","v":""},{"$f":"IF(SISWA!C92=0,\"\",SISWA!C92)","v":""},{"$f":"IF(SISWA!D92=0,\"\",SISWA!D92)","v":""},{"$f":"IF(SISWA!E92=0,\"\",SISWA!E92)","v":""},null,null,null,null,null,{"$error":"#DIV/0!"},null,null,{"$error":"#DIV/0!"},null,{"$error":"#DIV/0!"}]
[86,{"$f":"IF(SISWA!B93=0,\"\",SISWA!B93)","v":""},{"$f":"IF(SISWA!C93=0,\"\",SISWA!C93)","v":""},{"$f":"IF(SISWA!D93=0,\"\",SISWA!D93)","v":""},{"$f":"IF(SISWA!E93=0,\"\",SISWA!E93)","v":""},null,null,null,null,null,{"$error":"#DIV/0!"},null,null,{"$error":"#DIV/0!"},null,{"$error":"#DIV/0!"}]
[87,{"$f":"IF(SISWA!B94=0,\"\",SISWA!B94)","v":""},{"$f":"IF(SISWA!C94=0,\"\",SISWA!C94)","v":""},{"$f":"IF(SISWA!D94=0,\"\",SISWA!D94)","v":""},{"$f":"IF(SISWA!E94=0,\"\",SISWA!E94)","v":""},null,null,null,null,null,{"$error":"#DIV/0!"},null,null,{"$error":"#DIV/0!"},null,{"$error":"#DIV/0!"}]
[88,{"$f":"IF(SISWA!B95=0,\"\",SISWA!B95)","v":""},{"$f":"IF(SISWA!C95=0,\"\",SISWA!C95)","v":""},{"$f":"IF(SISWA!D95=0,\"\",SISWA!D95)","v":""},{"$f":"IF(SISWA!E95=0,\"\",SISWA!E95)","v":""},null,null,null,null,null,{"$error":"#DIV/0!"},null,null,{"$error":"#DIV/0!"},null,{"$error":"#DIV/0!"}]
[89,{"$f":"IF(SISWA!B96=0,\"\",SISWA!B96)","v":""},{"$f":"IF(SISWA!C96=0,\"\",SISWA!C96)","v":""},{"$f":"IF(SISWA!D96=0,\"\",SISWA!D96)","v":""},{"$f":"IF(SISWA!E96=0,\"\",SISWA!E96)","v":""},null,null,null,null,null,{"$error":"#DIV/0!"},null,null,{"$error":"#DIV/0!"},null,{"$error":"#DIV/0!"}]
[90,{"$f":"IF(SISWA!B97=0,\"\",SISWA!B97)","v":""},{"$f":"IF(SISWA!C97=0,\"\",SISWA!C97)","v":""},{"$f":"IF(SISWA!D97=0,\"\",SISWA!D97)","v":""},{"$f":"IF(SISWA!E97=0,\"\",SISWA!E97)","v":""},null,null,null,null,null,{"$error":"#DIV/0!"},null,null,{"$error":"#DIV/0!"},null,{"$error":"#DIV/0!"}]
[91,{"$f":"IF(SISWA!B98=0,\"\",SISWA!B98)","v":""},{"$f":"IF(SISWA!C98=0,\"\",SISWA!C98)","v":""},{"$f":"IF(SISWA!D98=0,\"\",SISWA!D98)","v":""},{"$f":"IF(SISWA!E98=0,\"\",SISWA!E98)","v":""},null,null,null,null,null,{"$error":"#DIV/0!"},null,null,{"$error":"#DIV/0!"},null,{"$error":"#DIV/0!"}]
[92,{"$f":"IF(SISWA!B99=0,\"\",SISWA!B99)","v":""},{"$f":"IF(SISWA!C99=0,\"\",SISWA!C99)","v":""},{"$f":"IF(SISWA!D99=0,\"\",SISWA!D99)","v":""},{"$f":"IF(SISWA!E99=0,\"\",SISWA!E99)","v":""},null,null,null,null,null,{"$error":"#DIV/0!"},null,null,{"$error":"#DIV/0!"},null,{"$error":"#DIV/0!"}]
[93,{"$f":"IF(SISWA!B100=0,\"\",SISWA!B100)","v":""},{"$f":"IF(SISWA!C100=0,\"\",SISWA!C100)","v":""},{"$f":"IF(SISWA!D100=0,\"\",SISWA!D100)","v":""},{"$f":"IF(SISWA!E100=0,\"\",SISWA!E100)","v":""},null,null,null,null,null,{"$error":"#DIV/0!"},null,null,{"$error":"#DIV/0!"},null,{"$error":"#DIV/0!"}]
[94,{"$f":"IF(SISWA!B101=0,\"\",SISWA!B101)","v":""},{"$f":"IF(SISWA!C101=0,\"\",SISWA!C101)","v":""},{"$f":"IF(SISWA!D101=0,\"\",SISWA!D101)","v":""},{"$f":"IF(SISWA!E101=0,\"\",SISWA!E101)","v":""},null,null,null,null,null,{"$error":"#DIV/0!"},null,null,{"$error":"#DIV/0!"},null,{"$error":"#DIV/0!"}]
[95,{"$f":"IF(SISWA!B102=0,\"\",SISWA!B102)","v":""},{"$f":"IF(SISWA!C102=0,\"\",SISWA!C102)","v":""},{"$f":"IF(SISWA!D102=0,\"\",SISWA!D102)","v":""},{"$f":"IF(SISWA!E102=0,\"\",SISWA!E102)","v":""},null,null,null,null,null,{"$error":"#DIV/0!"},null,null,{"$error":"#DIV/0!"},null,{"$error":"#DIV/0!"}]
[96,{"$f":"IF(SISWA!B103=0,\"\",SISWA!B103)","v":""},{"$f":"IF(SISWA!C103=0,\"\",SISWA!C103)","v":""},{"$f":"IF(SISWA!D103=0,\"\",SISWA!D103)","v":""},{"$f":"IF(SISWA!E103=0,\"\",SISWA!E103)","v":""},null,null,null,null,null,{"$error":"#DIV/0!"},null,null,{"$error":"#DIV/0!"},null,{"$error":"#DIV/0!"}]
[97,{"$f":"IF(SISWA!B104=0,\"\",SISWA!B104)","v":""},{"$f":"IF(SISWA!C104=0,\"\",SISWA!C104)","v":""},{"$f":"IF(SISWA!D104=0,\"\",SISWA!D104)","v":""},{"$f":"IF(SISWA!E104=0,\"\",SISWA!E104)","v":""},null,null,null,null,null,{"$error":"#DIV/0!"},null,null,{"$error":"#DIV/0!"},null,{"$error":"#DIV/0!"}]
[98,{"$f":"IF(SISWA!B105=0,\"\",SISWA!B105)","v":""},{"$f":"IF(SISWA!C105=0,\"\",SISWA!C105)","v":""},{"$f":"IF(SISWA!D105=0,\"\",SISWA!D105)","v":""},{"$f":"IF(SISWA!E105=0,\"\",SISWA!E105)","v":""},null,null,null,null,null,{"$error":"#DIV/0!"},null,null,{"$error":"#DIV/0!"},null,{"$error":"#DIV/0!"}]
[99,{"$f":"IF(SISWA!B106=0,\"\",SISWA!B106)","v":""},{"$f":"IF(SISWA!C106=0,\"\",SISWA!C106)","v":""},{"$f":"IF(SISWA!D106=0,\"\",SISWA!D106)","v":""},{"$f":"IF(SISWA!E106=0,\"\",SISWA!E106)","v":""},null,null,null,null,null,{"$error":"#DIV/0!"},null,null,{"$error":"#DIV/0!"},null,{"$error":"#DIV/0!"}]
[100,{"$f":"IF(SISWA!B107=0,\"\",SISWA!B107)","v":""},{"$f":"IF(SISWA!C107=0,\"\",SISWA!C107)","v":""},{"$f":"IF(SISWA!D107=0,\"\",SISWA!D107)","v":""},{"$f":"IF(SISWA!E107=0,\"\",SISWA!E107)","v":""},null,null,null,null,null,{"$error":"#DIV/0!"},null,null,{"$error":"#DIV/0!"},null,{"$error":"#DIV/0!"}]
[101,{"$f":"IF(SISWA!B108=0,\"\",SISWA!B108)","v":""},{"$f":"IF(SISWA!C108=0,\"\",SISWA!C108)","v":""},{"$f":"IF(SISWA!D108=0,\"\",SISWA!D108)","v":""},{"$f":"IF(SISWA!E108=0,\"\",SISWA!E108)","v":""},null,null,null,null,null,{"$error":"#DIV/0!"},null,null,{"$error":"#DIV/0!"},null,{"$error":"#DIV/0!"}]

{"sheet":"PJK","index":13,"n_rows":108,"n_cols":16,"rows_kept":108,"cut":false,"hidden":false,"merged":[[4,13,6,13],[4,5,4,12],[0,0,0,9],[1,0,1,9],[2,0,2,9],[4,0,6,0],[4,1,6,1],[4,2,6,2],[4,3,6,3],[4,4,6,4],[5,5,5,9],[5,11,5,12]]}
["DAFTAR NILAI AKHIR SEKOLAH"]
[{"$f":"AA!A2","v":"MADRASAH IBTIDAIYAH NURUL ISLAM LABRUK KIDUL"}]
[{"$f":"AA!A3","v":"TAHUN PELAJARAN 2019/2020"}]
[]
["NO","No Induk","NISN","Nomor Peserta","Nama Peserta","PENJASORKES",null,null,null,null,null,null,null,"rata-rata UAM & PRAKTEK"]
[null,null,null,null,null,"Nilai Semester",null,null,null,null,"Rata- 2","NILAI UAM",null,null,null,"UAMNU"]
[null,null,null,null,null,7,8,9,10,11,"Rapor","TULIS","PRAKTIK",null,null,"TULIS"]
[1,{"$f":"IF(SISWA!B8=0,\"\",SISWA!B8)","v":4331},{"$f":"IF(SISWA!C8=0,\"\",SISWA!C8)","v":"0078140536"},{"$f":"IF(SISWA!D8=0,\"\",SISWA!D8)","v":"1-18-05-80-162-001-8"},{"$f":"IF(SISWA!E8=0,\"\",SISWA!E8)","v":"ACHMAD FATHIR IZUDDIN"},null,80,83,85,96,{"$f":"AVERAGE(F8:J8)","v":86},70,{"$f":"AVERAGE(H8:L8)","v":84},{"$f":"AVERAGE(L8:M8)","v":77},null,77]
[2,{"$f":"IF(SISWA!B9=0,\"\",SISWA!B9)","v":4333},{"$f":"IF(SISWA!C9=0,\"\",SISWA!C9)","v":"0084691896"},{"$f":"IF(SISWA!D9=0,\"\",SISWA!D9)","v":"1-18-05-80-162-002-7"},{"$f":"IF(SISWA!E9=0,\"\",SISWA!E9)","v":"AININ NAFISA FEBRIYANTI"},null,80,85,85,83,{"$f":"AVERAGE(F9:J9)","v":83.25},67.5,80.75,{"$f":"AVERAGE(L9:M9)","v":74.125},null,74.125]
[3,{"$f":"IF(SISWA!B10=0,\"\",SISWA!B10)","v":4334},{"$f":"IF(SISWA!C10=0,\"\",SISWA!C10)","v":"0075488897"},{"$f":"IF(SISWA!D10=0,\"\",SISWA!D10)","v":"1-18-05-80-162-003-6"},{"$f":"IF(SISWA!E10=0,\"\",SISWA!E10)","v":"AISYAH DWI ANDINI"},null,80,85,86,91,85.5,80,85.5,82.75,null,82.75]
[4,{"$f":"IF(SISWA!B11=0,\"\",SISWA!B11)","v":4335},{"$f":"IF(SISWA!C11=0,\"\",SISWA!C11)","v":"0077554289"},{"$f":"IF(SISWA!D11=0,\"\",SISWA!D11)","v":"1-18-05-80-162-004-5"},{"$f":"IF(SISWA!E11=0,\"\",SISWA!E11)","v":"AJENG AGUSTINA KIRANA PUTRI"},null,80,85,87,91,85.75,65,82.75,73.875,null,73.875]
[5,{"$f":"IF(SISWA!B12=0,\"\",SISWA!B12)","v":4336},{"$f":"IF(SISWA!C12=0,\"\",SISWA!C12)","v":"0078831956"},{"$f":"IF(SISWA!D12=0,\"\",SISWA!D12)","v":"1-18-05-80-162-005-4"},{"$f":"IF(SISWA!E12=0,\"\",SISWA!E12)","v":"ALVIAN FAIZULHAQQI"},null,80,83,87,87,84.25,77.5,83.75,80.625,null,80.625]
[6,{"$f":"IF(SISWA!B13=0,\"\",SISWA!B13)","v":4337},{"$f":"IF(SISWA!C13=0,\"\",SISWA!C13)","v":"0073667130"},{"$f":"IF(SISWA!D13=0,\"\",SISWA!D13)","v":"1-18-05-80-162-006-3"},{"$f":"IF(SISWA!E13=0,\"\",SISWA!E13)","v":"ANGGITA RIZKY YUGA MEISYA"},null,80,85,89,97,87.75,72.5,86.25,79.375,null,79.375]
[7,{"$f":"IF(SISWA!B14=0,\"\",SISWA!B14)","v":4338},{"$f":"IF(SISWA!C14=0,\"\",SISWA!C14)","v":"0074492973"},{"$f":"IF(SISWA!D14=0,\"\",SISWA!D14)","v":"1-18-05-80-162-007-2"},{"$f":"IF(SISWA!E14=0,\"\",SISWA!E14)","v":"AURA SALSABILA WULAN SARI"},null,83,84,86,90,85.75,82.5,85.65,84.075000000000003,null,84.075000000000003]
[8,{"$f":"IF(SISWA!B15=0,\"\",SISWA!B15)","v":4366},{"$f":"IF(SISWA!C15=0,\"\",SISWA!C15)","v":"0078989673"},{"$f":"IF(SISWA!D15=0,\"\",SISWA!D15)","v":"1-18-05-80-162-008-9"},{"$f":"IF(SISWA!E15=0,\"\",SISWA!E15)","v":"BALQIS NAILA AUDIA"},null,82,91,87,95,88.75,97.5,91.85,94.674999999999997,null,94.674999999999997]
[9,{"$f":"IF(SISWA!B16=0,\"\",SISWA!B16)","v":4440},{"$f":"IF(SISWA!C16=0,\"\",SISWA!C16)","v":"0082763386"},{"$f":"IF(SISWA!D16=0,\"\",SISWA!D16)","v":"1-18-05-80-162-009-8"},{"$f":"IF(SISWA!E16=0,\"\",SISWA!E16)","v":"BIMA ARYO SUSILO"},null,80,84,87,88,84.75,77.5,84.25,80.875,null,80.875]
[10,{"$f":"IF(SISWA!B17=0,\"\",SISWA!B17)","v":4367},{"$f":"IF(SISWA!C17=0,\"\",SISWA!C17)","v":"0078400392"},{"$f":"IF(SISWA!D17=0,\"\",SISWA!D17)","v":"1-18-05-80-162-010-7"},{"$f":"IF(SISWA!E17=0,\"\",SISWA!E17)","v":"BIMA SATRIA DIRGANTARA"},null,83,83,86,89,85.25,67.5,82.15,74.825000000000003,null,74.825000000000003]
[11,{"$f":"IF(SISWA!B18=0,\"\",SISWA!B18)","v":4339},{"$f":"IF(SISWA!C18=0,\"\",SISWA!C18)","v":"0086652599"},{"$f":"IF(SISWA!D18=0,\"\",SISWA!D18)","v":"1-18-05-80-162-011-6"},{"$f":"IF(SISWA!E18=0,\"\",SISWA!E18)","v":"DEVI KARUNIA RATNA PUTRI"},null,80,83,87,90,85,75,84,79.5,null,79.5]
[12,{"$f":"IF(SISWA!B19=0,\"\",SISWA!B19)","v":4340},{"$f":"IF(SISWA!C19=0,\"\",SISWA!C19)","v":"0089906682"},{"$f":"IF(SISWA!D19=0,\"\",SISWA!D19)","v":"1-18-05-80-162-012-5"},{"$f":"IF(SISWA!E19=0,\"\",SISWA!E19)","v":"DEVITA FEBRIANI PUTRI"},null,80,85,87,88,85,75,84,79.5,null,79.5]
[13,{"$f":"IF(SISWA!B20=0,\"\",SISWA!B20)","v":4370},{"$f":"IF(SISWA!C20=0,\"\",SISWA!C20)","v":"0074514146"},{"$f":"IF(SISWA!D20=0,\"\",SISWA!D20)","v":"1-18-05-80-162-013-4"},{"$f":"IF(SISWA!E20=0,\"\",SISWA!E20)","v":"FAKHIS GABRIL LIA"},null,80,83,85,89,84.25,75,83.25,79.125,null,79.125]
[14,{"$f":"IF(SISWA!B21=0,\"\",SISWA!B21)","v":4342},{"$f":"IF(SISWA!C21=0,\"\",SISWA!C21)","v":"0081081672"},{"$f":"IF(SISWA!D21=0,\"\",SISWA!D21)","v":"1-18-05-80-162-014-3"},{"$f":"IF(SISWA!E21=0,\"\",SISWA!E21)","v":"FARAH NAILATUL ALYAH"},null,80,86,85,86,84.25,60,80.25,70.125,null,70.125]
[15,{"$f":"IF(SISWA!B22=0,\"\",SISWA!B22)","v":4345},{"$f":"IF(SISWA!C22=0,\"\",SISWA!C22)","v":"0073420487"},{"$f":"IF(SISWA!D22=0,\"\",SISWA!D22)","v":"1-18-05-80-162-015-2"},{"$f":"IF(SISWA!E22=0,\"\",SISWA!E22)","v":"GALANG MARDHOTILLAH SATOTO"},null,80,83,86,93,85.5,60,81.5,70.75,null,70.75]
[16,{"$f":"IF(SISWA!B23=0,\"\",SISWA!B23)","v":4371},{"$f":"IF(SISWA!C23=0,\"\",SISWA!C23)","v":"0079870082"},{"$f":"IF(SISWA!D23=0,\"\",SISWA!D23)","v":"1-18-05-80-162-016-9"},{"$f":"IF(SISWA!E23=0,\"\",SISWA!E23)","v":"GALIH FAREL PRASTYO"},null,81,85,87,81,83.5,65,80.3,72.650000000000006,null,72.650000000000006]
[17,{"$f":"IF(SISWA!B24=0,\"\",SISWA!B24)","v":4466},{"$f":"IF(SISWA!C24=0,\"\",SISWA!C24)","v":"0081629504"},{"$f":"IF(SISWA!D24=0,\"\",SISWA!D24)","v":"1-18-05-80-162-017-8"},{"$f":"IF(SISWA!E24=0,\"\",SISWA!E24)","v":"HIBATULLAH MUSTAGHFIRY RUSLI"},null,80,83,87,85,83.75,60,79.75,69.875,null,69.875]
[18,{"$f":"IF(SISWA!B25=0,\"\",SISWA!B25)","v":4346},{"$f":"IF(SISWA!C25=0,\"\",SISWA!C25)","v":"0073608418"},{"$f":"IF(SISWA!D25=0,\"\",SISWA!D25)","v":"1-18-05-80-162-018-7"},{"$f":"IF(SISWA!E25=0,\"\",SISWA!E25)","v":"IKA KURNIA WATI AGUSTINA"},null,80,82,87,87,84,60,80,70,null,70]
[19,{"$f":"IF(SISWA!B26=0,\"\",SISWA!B26)","v":4350},{"$f":"IF(SISWA!C26=0,\"\",SISWA!C26)","v":"0072658586"},{"$f":"IF(SISWA!D26=0,\"\",SISWA!D26)","v":"1-18-05-80-162-019-6"},{"$f":"IF(SISWA!E26=0,\"\",SISWA!E26)","v":"MAYLUNA EKA PRATIWI"},null,80,85,88,94,86.75,60,82.75,71.375,null,71.375]
[20,{"$f":"IF(SISWA!B27=0,\"\",SISWA!B27)","v":4353},{"$f":"IF(SISWA!C27=0,\"\",SISWA!C27)","v":"0075464137"},{"$f":"IF(SISWA!D27=0,\"\",SISWA!D27)","v":"1-18-05-80-162-020-5"},{"$f":"IF(SISWA!E27=0,\"\",SISWA!E27)","v":"MOHAMAD DWIMAS FIRDAUS"},null,80,84,89,88,85.25,87.5,86.75,87.125,null,87.125]
[21,{"$f":"IF(SISWA!B28=0,\"\",SISWA!B28)","v":4375},{"$f":"IF(SISWA!C28=0,\"\",SISWA!C28)","v":"0075096831"},{"$f":"IF(SISWA!D28=0,\"\",SISWA!D28)","v":"1-18-05-80-162-021-4"},{"$f":"IF(SISWA!E28=0,\"\",SISWA!E28)","v":"MUHAMMAD AFFAN ABI SYAHPUTRA"},null,81,84,87,89,85.25,87.5,86.55,87.025000000000006,null,87.025000000000006]
[22,{"$f":"IF(SISWA!B29=0,\"\",SISWA!B29)","v":4354},{"$f":"IF(SISWA!C29=0,\"\",SISWA!C29)","v":"0075055640"},{"$f":"IF(SISWA!D29=0,\"\",SISWA!D29)","v":"1-18-05-80-162-022-3"},{"$f":"IF(SISWA!E29=0,\"\",SISWA!E29)","v":"MUHAMMAD ALVIN RIDHO"},null,80,85,88,87,85,82.5,85.5,84,null,84]
[23,{"$f":"IF(SISWA!B30=0,\"\",SISWA!B30)","v":4378},{"$f":"IF(SISWA!C30=0,\"\",SISWA!C30)","v":"0074268893"},{"$f":"IF(SISWA!D30=0,\"\",SISWA!D30)","v":"1-18-05-80-162-023-2"},{"$f":"IF(SISWA!E30=0,\"\",SISWA!E30)","v":"MUKHAMAD DAVID ARIF FIRDAUS"},null,80,87,87,97,87.75,77.5,87.25,82.375,null,82.375]
[24,{"$f":"IF(SISWA!B31=0,\"\",SISWA!B31)","v":4379},{"$f":"IF(SISWA!C31=0,\"\",SISWA!C31)","v":"0072757203"},{"$f":"IF(SISWA!D31=0,\"\",SISWA!D31)","v":"1-18-05-80-162-024-9"},{"$f":"IF(SISWA!E31=0,\"\",SISWA!E31)","v":"NAORA ISQI AINAYYA"},null,80,82,86,88,84,85,85,85,null,85]
[25,{"$f":"IF(SISWA!B32=0,\"\",SISWA!B32)","v":4380},{"$f":"IF(SISWA!C32=0,\"\",SISWA!C32)","v":"0079026285"},{"$f":"IF(SISWA!D32=0,\"\",SISWA!D32)","v":"1-18-05-80-162-025-8"},{"$f":"IF(SISWA!E32=0,\"\",SISWA!E32)","v":"NAZRA ISLAMAY PASHA"},null,80,82,86,86,83.5,65,80.5,72.75,null,72.75]
[26,{"$f":"IF(SISWA!B33=0,\"\",SISWA!B33)","v":4382},{"$f":"IF(SISWA!C33=0,\"\",SISWA!C33)","v":"0079872151"},{"$f":"IF(SISWA!D33=0,\"\",SISWA!D33)","v":"1-18-05-80-162-026-7"},{"$f":"IF(SISWA!E33=0,\"\",SISWA!E33)","v":"NUR ALYA NABILA"},null,80,81,87,88,84,60,80,70,null,70]
[27,{"$f":"IF(SISWA!B34=0,\"\",SISWA!B34)","v":4358},{"$f":"IF(SISWA!C34=0,\"\",SISWA!C34)","v":"0087558837"},{"$f":"IF(SISWA!D34=0,\"\",SISWA!D34)","v":"1-18-05-80-162-027-6"},{"$f":"IF(SISWA!E34=0,\"\",SISWA!E34)","v":"PUTRI SHOLIKHAH"},null,80,82,86,82,82.5,60,78.5,69.25,null,69.25]
[28,{"$f":"IF(SISWA!B35=0,\"\",SISWA!B35)","v":4384},{"$f":"IF(SISWA!C35=0,\"\",SISWA!C35)","v":"0071234523"},{"$f":"IF(SISWA!D35=0,\"\",SISWA!D35)","v":"1-18-05-80-162-028-5"},{"$f":"IF(SISWA!E35=0,\"\",SISWA!E35)","v":"RESTI FITRIANTI DWI OCTAVIANI"},null,80,82,85,88,83.75,67.5,81.25,74.375,null,74.375]
[29,{"$f":"IF(SISWA!B36=0,\"\",SISWA!B36)","v":4359},{"$f":"IF(SISWA!C36=0,\"\",SISWA!C36)","v":"0073122181"},{"$f":"IF(SISWA!D36=0,\"\",SISWA!D36)","v":"1-18-05-80-162-029-4"},{"$f":"IF(SISWA!E36=0,\"\",SISWA!E36)","v":"ROUDHOTUS SA'DIYAH"},null,80,83,86,89,84.5,75,83.5,79.25,null,79.25]
[30,{"$f":"IF(SISWA!B37=0,\"\",SISWA!B37)","v":4386},{"$f":"IF(SISWA!C37=0,\"\",SISWA!C37)","v":"0075344352"},{"$f":"IF(SISWA!D37=0,\"\",SISWA!D37)","v":"1-18-05-80-162-030-3"},{"$f":"IF(SISWA!E37=0,\"\",SISWA!E37)","v":"TIERSYA BETA RAMANUZAN"},null,80,83,86,87,84,85,85,85,null,85]
[31,{"$f":"IF(SISWA!B38=0,\"\",SISWA!B38)","v":4388},{"$f":"IF(SISWA!C38=0,\"\",SISWA!C38)","v":"0077423646"},{"$f":"IF(SISWA!D38=0,\"\",SISWA!D38)","v":"1-18-05-80-162-031-2"},{"$f":"IF(SISWA!E38=0,\"\",SISWA!E38)","v":"VERA MUSTIKA"},null,80,83,87,83,83.25,60,79.25,69.625,null,69.625]
[32,{"$f":"IF(SISWA!B39=0,\"\",SISWA!B39)","v":4360},{"$f":"IF(SISWA!C39=0,\"\",SISWA!C39)","v":"0077290990"},{"$f":"IF(SISWA!D39=0,\"\",SISWA!D39)","v":"1-18-05-80-162-032-9"},{"$f":"IF(SISWA!E39=0,\"\",SISWA!E39)","v":"ZIDNY ILMA NABILA"},null,80,84,90,90,86,65,83,74,null,74]
[33,{"$f":"IF(SISWA!B40=0,\"\",SISWA!B40)","v":4390},{"$f":"IF(SISWA!C40=0,\"\",SISWA!C40)","v":"0077722307"},{"$f":"IF(SISWA!D40=0,\"\",SISWA!D40)","v":"1-18-05-80-162-033-8"},{"$f":"IF(SISWA!E40=0,\"\",SISWA!E40)","v":"ZITNATUL AULIA ILLA"},null,80,86,90,89,86.25,82.5,86.75,84.625,null,84.625]
[34,{"$f":"IF(SISWA!B41=0,\"\",SISWA!B41)","v":4330},{"$f":"IF(SISWA!C41=0,\"\",SISWA!C41)","v":"0084736422"},{"$f":"IF(SISWA!D41=0,\"\",SISWA!D41)","v":"1-18-05-80-162-034-7"},{"$f":"IF(SISWA!E41=0,\"\",SISWA!E41)","v":"ACHID ATHIRIL ARDAN"},null,80,83,86,83,83,60,79,69.5,null,68.166666666666657]
[35,{"$f":"IF(SISWA!B42=0,\"\",SISWA!B42)","v":4361},{"$f":"IF(SISWA!C42=0,\"\",SISWA!C42)","v":"0075656390"},{"$f":"IF(SISWA!D42=0,\"\",SISWA!D42)","v":"1-18-05-80-162-035-6"},{"$f":"IF(SISWA!E42=0,\"\",SISWA!E42)","v":"ACHMAD SEPTIAN HAMDANI"},null,80,86,89,92,86.75,67.5,84.25,75.875,null,73.916666666666657]
[36,{"$f":"IF(SISWA!B43=0,\"\",SISWA!B43)","v":4362},{"$f":"IF(SISWA!C43=0,\"\",SISWA!C43)","v":"0071796138"},{"$f":"IF(SISWA!D43=0,\"\",SISWA!D43)","v":"1-18-05-80-162-036-5"},{"$f":"IF(SISWA!E43=0,\"\",SISWA!E43)","v":"ACHMAD SULAIMAN"},null,80,78,88,82,82,60,78,69,null,68.666666666666657]
[37,{"$f":"IF(SISWA!B44=0,\"\",SISWA!B44)","v":4364},{"$f":"IF(SISWA!C44=0,\"\",SISWA!C44)","v":"0079667684"},{"$f":"IF(SISWA!D44=0,\"\",SISWA!D44)","v":"1-18-05-80-162-037-4"},{"$f":"IF(SISWA!E44=0,\"\",SISWA!E44)","v":"AIRLANGGA DWIKA RIZQI"},null,78,80,89,82,82.25,60,78.650000000000006,69.325000000000003,null,68.75]
[38,{"$f":"IF(SISWA!B45=0,\"\",SISWA!B45)","v":4365},{"$f":"IF(SISWA!C45=0,\"\",SISWA!C45)","v":"0089321127"},{"$f":"IF(SISWA!D45=0,\"\",SISWA!D45)","v":"1-18-05-80-162-038-3"},{"$f":"IF(SISWA!E45=0,\"\",SISWA!E45)","v":"AUFAN AZKAL ABRORI"},null,80,84,91,82,84.25,60,80.25,70.125,null,69.416666666666657]
[39,{"$f":"IF(SISWA!B46=0,\"\",SISWA!B46)","v":4465},{"$f":"IF(SISWA!C46=0,\"\",SISWA!C46)","v":"0071776593"},{"$f":"IF(SISWA!D46=0,\"\",SISWA!D46)","v":"1-18-05-80-162-039-2"},{"$f":"IF(SISWA!E46=0,\"\",SISWA!E46)","v":"AZZA PRISHAL DWI PUTRA"},null,80,84,91,84,84.75,60,80.75,70.375,null,69.416666666666657]
[40,{"$f":"IF(SISWA!B47=0,\"\",SISWA!B47)","v":4368},{"$f":"IF(SISWA!C47=0,\"\",SISWA!C47)","v":"0074569410"},{"$f":"IF(SISWA!D47=0,\"\",SISWA!D47)","v":"1-18-05-80-162-040-9"},{"$f":"IF(SISWA!E47=0,\"\",SISWA!E47)","v":"EKA AULIYA` PUTRI"},null,80,84,88,84,84,60,80,70,null,68.666666666666657]
[41,{"$f":"IF(SISWA!B48=0,\"\",SISWA!B48)","v":4341},{"$f":"IF(SISWA!C48=0,\"\",SISWA!C48)","v":"0083684457"},{"$f":"IF(SISWA!D48=0,\"\",SISWA!D48)","v":"1-18-05-80-162-041-8"},{"$f":"IF(SISWA!E48=0,\"\",SISWA!E48)","v":"ERSA PUSPITA EKA ROSA LINDA"},null,80,84,88,86,84.5,60,80.5,70.25,null,68.666666666666657]
[42,{"$f":"IF(SISWA!B49=0,\"\",SISWA!B49)","v":4369},{"$f":"IF(SISWA!C49=0,\"\",SISWA!C49)","v":"0078481731"},{"$f":"IF(SISWA!D49=0,\"\",SISWA!D49)","v":"1-18-05-80-162-042-7"},{"$f":"IF(SISWA!E49=0,\"\",SISWA!E49)","v":"FABIYAN TRI BAKTI OKTAFIAN"},null,81,86,89,88,86,60,81.8,70.900000000000006,null,69]
[43,{"$f":"IF(SISWA!B50=0,\"\",SISWA!B50)","v":4343},{"$f":"IF(SISWA!C50=0,\"\",SISWA!C50)","v":3075965396},{"$f":"IF(SISWA!D50=0,\"\",SISWA!D50)","v":"1-18-05-80-162-043-6"},{"$f":"IF(SISWA!E50=0,\"\",SISWA!E50)","v":"FELISITA APRILIA NUR NIHAYA"},null,80,84,88,89,85.25,60,81.25,70.625,null,68.666666666666657]
[44,{"$f":"IF(SISWA!B51=0,\"\",SISWA!B51)","v":4344},{"$f":"IF(SISWA!C51=0,\"\",SISWA!C51)","v":3078948093},{"$f":"IF(SISWA!D51=0,\"\",SISWA!D51)","v":"1-18-05-80-162-044-5"},{"$f":"IF(SISWA!E51=0,\"\",SISWA!E51)","v":"FIRDA DWI ANDRIANI"},null,80,84,88,81,83.25,60,79.25,69.625,null,68.666666666666657]
[45,{"$f":"IF(SISWA!B52=0,\"\",SISWA!B52)","v":4372},{"$f":"IF(SISWA!C52=0,\"\",SISWA!C52)","v":"0087636520"},{"$f":"IF(SISWA!D52=0,\"\",SISWA!D52)","v":"1-18-05-80-162-045-4"},{"$f":"IF(SISWA!E52=0,\"\",SISWA!E52)","v":"GILANG AKBAR PRASETYO"},null,80,84,89,82,83.75,60,79.75,69.875,null,68.916666666666657]
[46,{"$f":"IF(SISWA!B53=0,\"\",SISWA!B53)","v":4373},{"$f":"IF(SISWA!C53=0,\"\",SISWA!C53)","v":"0087373224"},{"$f":"IF(SISWA!D53=0,\"\",SISWA!D53)","v":"1-18-05-80-162-046-3"},{"$f":"IF(SISWA!E53=0,\"\",SISWA!E53)","v":"IFTAH IZZAH EMILIA  MAHMUD"},null,80,85,88,81,83.5,60,79.5,69.75,null,68.666666666666657]
[47,{"$f":"IF(SISWA!B54=0,\"\",SISWA!B54)","v":4441},{"$f":"IF(SISWA!C54=0,\"\",SISWA!C54)","v":"0081758949"},{"$f":"IF(SISWA!D54=0,\"\",SISWA!D54)","v":"1-18-05-80-162-047-2"},{"$f":"IF(SISWA!E54=0,\"\",SISWA!E54)","v":"INES ARIFANI MAULINA"},null,80,82,88,81,82.75,82.5,83.25,82.875,null,83.666666666666657]
[48,{"$f":"IF(SISWA!B55=0,\"\",SISWA!B55)","v":4374},{"$f":"IF(SISWA!C55=0,\"\",SISWA!C55)","v":"0073409469"},{"$f":"IF(SISWA!D55=0,\"\",SISWA!D55)","v":"1-18-05-80-162-048-9"},{"$f":"IF(SISWA!E55=0,\"\",SISWA!E55)","v":"IYAAD AFLAKHA RAMZII"},null,80,84,89,84,84.25,60,80.25,70.125,null,68.916666666666657]
[49,{"$f":"IF(SISWA!B56=0,\"\",SISWA!B56)","v":4305},{"$f":"IF(SISWA!C56=0,\"\",SISWA!C56)","v":"0068258891"},{"$f":"IF(SISWA!D56=0,\"\",SISWA!D56)","v":"1-18-05-80-162-049-8"},{"$f":"IF(SISWA!E56=0,\"\",SISWA!E56)","v":"JULI ANDRIYANTO"},null,85,85,93,86,87.25,60,82.25,71.125,null,70.333333333333343]
[50,{"$f":"IF(SISWA!B57=0,\"\",SISWA!B57)","v":4347},{"$f":"IF(SISWA!C57=0,\"\",SISWA!C57)","v":"0076367763"},{"$f":"IF(SISWA!D57=0,\"\",SISWA!D57)","v":"1-18-05-80-162-050-7"},{"$f":"IF(SISWA!E57=0,\"\",SISWA!E57)","v":"LIYA FEBRIYANI"},null,80,83,88,82,83.25,65,80.25,72.625,null,72]
[51,{"$f":"IF(SISWA!B58=0,\"\",SISWA!B58)","v":4348},{"$f":"IF(SISWA!C58=0,\"\",SISWA!C58)","v":"0083034332"},{"$f":"IF(SISWA!D58=0,\"\",SISWA!D58)","v":"1-18-05-80-162-051-6"},{"$f":"IF(SISWA!E58=0,\"\",SISWA!E58)","v":"LIZATUL CHAIYUNI"},null,80,83,88,81,83,60,79,69.5,null,68.666666666666657]
[52,{"$f":"IF(SISWA!B59=0,\"\",SISWA!B59)","v":4531},{"$f":"IF(SISWA!C59=0,\"\",SISWA!C59)","v":3099539154},{"$f":"IF(SISWA!D59=0,\"\",SISWA!D59)","v":"1-18-05-80-162-052-5"},{"$f":"IF(SISWA!E59=0,\"\",SISWA!E59)","v":"M. ALHAFIS"},null,80,84,89,81,83.5,60,79.5,69.75,null,68.916666666666657]
[53,{"$f":"IF(SISWA!B60=0,\"\",SISWA!B60)","v":4530},{"$f":"IF(SISWA!C60=0,\"\",SISWA!C60)","v":"0077015789"},{"$f":"IF(SISWA!D60=0,\"\",SISWA!D60)","v":"1-18-05-80-162-053-4"},{"$f":"IF(SISWA!E60=0,\"\",SISWA!E60)","v":"MUHAMMAD RIZKI RIDWAN"},null,80,84,89,81,83.5,60,79.5,69.75,null,68.916666666666657]
[54,{"$f":"IF(SISWA!B61=0,\"\",SISWA!B61)","v":4351},{"$f":"IF(SISWA!C61=0,\"\",SISWA!C61)","v":"0076361559"},{"$f":"IF(SISWA!D61=0,\"\",SISWA!D61)","v":"1-18-05-80-162-054-3"},{"$f":"IF(SISWA!E61=0,\"\",SISWA!E61)","v":"MOCHAMAD RAFLI DIAN SAPUTRA"},null,80,82,90,82,83.5,75,82.5,78.75,null,79.166666666666657]
[55,{"$f":"IF(SISWA!B62=0,\"\",SISWA!B62)","v":4352},{"$f":"IF(SISWA!C62=0,\"\",SISWA!C62)","v":"0075591405"},{"$f":"IF(SISWA!D62=0,\"\",SISWA!D62)","v":"1-18-05-80-162-055-2"},{"$f":"IF(SISWA!E62=0,\"\",SISWA!E62)","v":"MOCHAMMAD AFAREL PUTRA RAMDHANA"},null,80,85,91,85,85.25,60,81.25,70.625,null,69.416666666666657]
[56,{"$f":"IF(SISWA!B63=0,\"\",SISWA!B63)","v":4355},{"$f":"IF(SISWA!C63=0,\"\",SISWA!C63)","v":"0075363258"},{"$f":"IF(SISWA!D63=0,\"\",SISWA!D63)","v":"1-18-05-80-162-056-9"},{"$f":"IF(SISWA!E63=0,\"\",SISWA!E63)","v":"MUHAMAD JEFRI MAULANA"},null,81,85,94,87,86.75,60,82.55,71.275000000000006,null,70.25]
[57,{"$f":"IF(SISWA!B64=0,\"\",SISWA!B64)","v":4376},{"$f":"IF(SISWA!C64=0,\"\",SISWA!C64)","v":"0072066741"},{"$f":"IF(SISWA!D64=0,\"\",SISWA!D64)","v":"1-18-05-80-162-057-8"},{"$f":"IF(SISWA!E64=0,\"\",SISWA!E64)","v":"MUHAMMAD DWI WILDAN BAGUS KURNIAWAN"},null,80,81,91,83,83.75,60,79.75,69.875,null,69.416666666666657]
[58,{"$f":"IF(SISWA!B65=0,\"\",SISWA!B65)","v":4377},{"$f":"IF(SISWA!C65=0,\"\",SISWA!C65)","v":"0071459044"},{"$f":"IF(SISWA!D65=0,\"\",SISWA!D65)","v":"1-18-05-80-162-058-7"},{"$f":"IF(SISWA!E65=0,\"\",SISWA!E65)","v":"MUHAMMAD FARIL FIRMANSYA"},null,80,82,89,86,84.25,65,81.25,73.125,null,72.25]
[59,{"$f":"IF(SISWA!B66=0,\"\",SISWA!B66)","v":4349},{"$f":"IF(SISWA!C66=0,\"\",SISWA!C66)","v":"0074206034"},{"$f":"IF(SISWA!D66=0,\"\",SISWA!D66)","v":"1-18-05-80-162-059-6"},{"$f":"IF(SISWA!E66=0,\"\",SISWA!E66)","v":"MUHAMMAD FARIZ UBAIDILLA"},null,80,84,89,81,83.5,72.5,82,77.25,null,77.25]
[60,{"$f":"IF(SISWA!B67=0,\"\",SISWA!B67)","v":4356},{"$f":"IF(SISWA!C67=0,\"\",SISWA!C67)","v":"0077937892"},{"$f":"IF(SISWA!D67=0,\"\",SISWA!D67)","v":"1-18-05-80-162-060-5"},{"$f":"IF(SISWA!E67=0,\"\",SISWA!E67)","v":"MUHAMMAD MAULANA ZIDANIL ILMI"},null,80,83,90,85,84.5,60,80.5,70.25,null,69.166666666666657]
[61,{"$f":"IF(SISWA!B68=0,\"\",SISWA!B68)","v":4357},{"$f":"IF(SISWA!C68=0,\"\",SISWA!C68)","v":"0078608527"},{"$f":"IF(SISWA!D68=0,\"\",SISWA!D68)","v":"1-18-05-80-162-061-4"},{"$f":"IF(SISWA!E68=0,\"\",SISWA!E68)","v":"MUHAMMAD SUTRISNO ISMAIL"},null,80,81,86,81,{"$f":"AVERAGE(F68:J68)","v":82},60,78,69,null,68.166666666666657]
[62,{"$f":"IF(SISWA!B69=0,\"\",SISWA!B69)","v":4381},{"$f":"IF(SISWA!C69=0,\"\",SISWA!C69)","v":"0072209435"},{"$f":"IF(SISWA!D69=0,\"\",SISWA!D69)","v":"1-18-05-80-162-062-3"},{"$f":"IF(SISWA!E69=0,\"\",SISWA!E69)","v":"NOVITA ERNIAWAN"},null,80,88,88,82,84.5,60,80.5,70.25,null,68.666666666666657]
[63,{"$f":"IF(SISWA!B70=0,\"\",SISWA!B70)","v":4383},{"$f":"IF(SISWA!C70=0,\"\",SISWA!C70)","v":"0077439834"},{"$f":"IF(SISWA!D70=0,\"\",SISWA!D70)","v":"1-18-05-80-162-063-2"},{"$f":"IF(SISWA!E70=0,\"\",SISWA!E70)","v":"PUTRI AULIA DWI AGUSTIN"},null,80,84,88,82,83.5,60,79.5,69.75,null,68.666666666666657]
[64,{"$f":"IF(SISWA!B71=0,\"\",SISWA!B71)","v":4385},{"$f":"IF(SISWA!C71=0,\"\",SISWA!C71)","v":"0073137310"},{"$f":"IF(SISWA!D71=0,\"\",SISWA!D71)","v":"1-18-05-80-162-064-9"},{"$f":"IF(SISWA!E71=0,\"\",SISWA!E71)","v":"STANY RAFIDAH RAHMANIA"},null,80,84,89,81,83.5,87.5,85,86.25,null,87.25]
[65,{"$f":"IF(SISWA!B72=0,\"\",SISWA!B72)","v":4387},{"$f":"IF(SISWA!C72=0,\"\",SISWA!C72)","v":"0077336427"},{"$f":"IF(SISWA!D72=0,\"\",SISWA!D72)","v":"1-18-05-80-162-065-8"},{"$f":"IF(SISWA!E72=0,\"\",SISWA!E72)","v":"USWATUN KHASANAH"},null,80,82,88,83,83.25,60,79.25,69.625,null,68.666666666666657]
[66,{"$f":"IF(SISWA!B73=0,\"\",SISWA!B73)","v":4389},{"$f":"IF(SISWA!C73=0,\"\",SISWA!C73)","v":"0078407631"},{"$f":"IF(SISWA!D73=0,\"\",SISWA!D73)","v":"1-18-05-80-162-066-7"},{"$f":"IF(SISWA!E73=0,\"\",SISWA!E73)","v":"VIKROUL KHAMILA"},null,80,84,88,83,83.75,60,79.75,{"$f":"AVERAGE(L73:M73)","v":69.875},null,68.666666666666657]
[67,{"$f":"IF(SISWA!B74=0,\"\",SISWA!B74)","v":""},{"$f":"IF(SISWA!C74=0,\"\",SISWA!C74)","v":""},{"$f":"IF(SISWA!D74=0,\"\",SISWA!D74)","v":""},{"$f":"IF(SISWA!E74=0,\"\",SISWA!E74)","v":""},null,null,null,null,null,{"$error":"#DIV/0!"},null,null,{"$error":"#DIV/0!"},null,{"$error":"#DIV/0!"}]
[68,{"$f":"IF(SISWA!B75=0,\"\",SISWA!B75)","v":""},{"$f":"IF(SISWA!C75=0,\"\",SISWA!C75)","v":""},{"$f":"IF(SISWA!D75=0,\"\",SISWA!D75)","v":""},{"$f":"IF(SISWA!E75=0,\"\",SISWA!E75)","v":""},null,null,null,null,null,{"$error":"#DIV/0!"},null,null,{"$error":"#DIV/0!"},null,{"$error":"#DIV/0!"}]
[69,{"$f":"IF(SISWA!B76=0,\"\",SISWA!B76)","v":""},{"$f":"IF(SISWA!C76=0,\"\",SISWA!C76)","v":""},{"$f":"IF(SISWA!D76=0,\"\",SISWA!D76)","v":""},{"$f":"IF(SISWA!E76=0,\"\",SISWA!E76)","v":""},null,null,null,null,null,{"$error":"#DIV/0!"},null,null,{"$error":"#DIV/0!"},null,{"$error":"#DIV/0!"}]
[70,{"$f":"IF(SISWA!B77=0,\"\",SISWA!B77)","v":""},{"$f":"IF(SISWA!C77=0,\"\",SISWA!C77)","v":""},{"$f":"IF(SISWA!D77=0,\"\",SISWA!D77)","v":""},{"$f":"IF(SISWA!E77=0,\"\",SISWA!E77)","v":""},null,null,null,null,null,{"$error":"#DIV/0!"},null,null,{"$error":"#DIV/0!"},null,{"$error":"#DIV/0!"}]
[71,{"$f":"IF(SISWA!B78=0,\"\",SISWA!B78)","v":""},{"$f":"IF(SISWA!C78=0,\"\",SISWA!C78)","v":""},{"$f":"IF(SISWA!D78=0,\"\",SISWA!D78)","v":""},{"$f":"IF(SISWA!E78=0,\"\",SISWA!E78)","v":""},null,null,null,null,null,{"$error":"#DIV/0!"},null,null,{"$error":"#DIV/0!"},null,{"$error":"#DIV/0!"}]
[72,{"$f":"IF(SISWA!B79=0,\"\",SISWA!B79)","v":""},{"$f":"IF(SISWA!C79=0,\"\",SISWA!C79)","v":""},{"$f":"IF(SISWA!D79=0,\"\",SISWA!D79)","v":""},{"$f":"IF(SISWA!E79=0,\"\",SISWA!E79)","v":""},null,null,null,null,null,{"$error":"#DIV/0!"},null,null,{"$error":"#DIV/0!"},null,{"$error":"#DIV/0!"}]
[73,{"$f":"IF(SISWA!B80=0,\"\",SISWA!B80)","v":""},{"$f":"IF(SISWA!C80=0,\"\",SISWA!C80)","v":""},{"$f":"IF(SISWA!D80=0,\"\",SISWA!D80)","v":""},{"$f":"IF(SISWA!E80=0,\"\",SISWA!E80)","v":""},null,null,null,null,null,{"$error":"#DIV/0!"},null,null,{"$error":"#DIV/0!"},null,{"$error":"#DIV/0!"}]
[74,{"$f":"IF(SISWA!B81=0,\"\",SISWA!B81)","v":""},{"$f":"IF(SISWA!C81=0,\"\",SISWA!C81)","v":""},{"$f":"IF(SISWA!D81=0,\"\",SISWA!D81)","v":""},{"$f":"IF(SISWA!E81=0,\"\",SISWA!E81)","v":""},null,null,null,null,null,{"$error":"#DIV/0!"},null,null,{"$error":"#DIV/0!"},null,{"$error":"#DIV/0!"}]
[75,{"$f":"IF(SISWA!B82=0,\"\",SISWA!B82)","v":""},{"$f":"IF(SISWA!C82=0,\"\",SISWA!C82)","v":""},{"$f":"IF(SISWA!D82=0,\"\",SISWA!D82)","v":""},{"$f":"IF(SISWA!E82=0,\"\",SISWA!E82)","v":""},null,null,null,null,null,{"$error":"#DIV/0!"},null,null,{"$error":"#DIV/0!"},null,{"$error":"#DIV/0!"}]
[76,{"$f":"IF(SISWA!B83=0,\"\",SISWA!B83)","v":""},{"$f":"IF(SISWA!C83=0,\"\",SISWA!C83)","v":""},{"$f":"IF(SISWA!D83=0,\"\",SISWA!D83)","v":""},{"$f":"IF(SISWA!E83=0,\"\",SISWA!E83)","v":""},null,null,null,null,null,{"$error":"#DIV/0!"},null,null,{"$error":"#DIV/0!"},null,{"$error":"#DIV/0!"}]
[77,{"$f":"IF(SISWA!B84=0,\"\",SISWA!B84)","v":""},{"$f":"IF(SISWA!C84=0,\"\",SISWA!C84)","v":""},{"$f":"IF(SISWA!D84=0,\"\",SISWA!D84)","v":""},{"$f":"IF(SISWA!E84=0,\"\",SISWA!E84)","v":""},null,null,null,null,null,{"$error":"#DIV/0!"},null,null,{"$error":"#DIV/0!"},null,{"$error":"#DIV/0!"}]
[78,{"$f":"IF(SISWA!B85=0,\"\",SISWA!B85)","v":""},{"$f":"IF(SISWA!C85=0,\"\",SISWA!C85)","v":""},{"$f":"IF(SISWA!D85=0,\"\",SISWA!D85)","v":""},{"$f":"IF(SISWA!E85=0,\"\",SISWA!E85)","v":""},null,null,null,null,null,{"$error":"#DIV/0!"},null,null,{"$error":"#DIV/0!"},null,{"$error":"#DIV/0!"}]
[79,{"$f":"IF(SISWA!B86=0,\"\",SISWA!B86)","v":""},{"$f":"IF(SISWA!C86=0,\"\",SISWA!C86)","v":""},{"$f":"IF(SISWA!D86=0,\"\",SISWA!D86)","v":""},{"$f":"IF(SISWA!E86=0,\"\",SISWA!E86)","v":""},null,null,null,null,null,{"$error":"#DIV/0!"},null,null,{"$error":"#DIV/0!"},null,{"$error":"#DIV/0!"}]
[80,{"$f":"IF(SISWA!B87=0,\"\",SISWA!B87)","v":""},{"$f":"IF(SISWA!C87=0,\"\",SISWA!C87)","v":""},{"$f":"IF(SISWA!D87=0,\"\",SISWA!D87)","v":""},{"$f":"IF(SISWA!E87=0,\"\",SISWA!E87)","v":""},null,null,null,null,null,{"$error":"#DIV/0!"},null,null,{"$error":"#DIV/0!"},null,{"$error":"#DIV/0!"}]
[81,{"$f":"IF(SISWA!B88=0,\"\",SISWA!B88)","v":""},{"$f":"IF(SISWA!C88=0,\"\",SISWA!C88)","v":""},{"$f":"IF(SISWA!D88=0,\"\",SISWA!D88)","v":""},{"$f":"IF(SISWA!E88=0,\"\",SISWA!E88)","v":""},null,null,null,null,null,{"$error":"#DIV/0!"},null,null,{"$error":"#DIV/0!"},null,{"$error":"#DIV/0!"}]
[82,{"$f":"IF(SISWA!B89=0,\"\",SISWA!B89)","v":""},{"$f":"IF(SISWA!C89=0,\"\",SISWA!C89)","v":""},{"$f":"IF(SISWA!D89=0,\"\",SISWA!D89)","v":""},{"$f":"IF(SISWA!E89=0,\"\",SISWA!E89)","v":""},null,null,null,null,null,{"$error":"#DIV/0!"},null,null,{"$error":"#DIV/0!"},null,{"$error":"#DIV/0!"}]
[83,{"$f":"IF(SISWA!B90=0,\"\",SISWA!B90)","v":""},{"$f":"IF(SISWA!C90=0,\"\",SISWA!C90)","v":""},{"$f":"IF(SISWA!D90=0,\"\",SISWA!D90)","v":""},{"$f":"IF(SISWA!E90=0,\"\",SISWA!E90)","v":""},null,null,null,null,null,{"$error":"#DIV/0!"},null,null,{"$error":"#DIV/0!"},null,{"$error":"#DIV/0!"}]
[84,{"$f":"IF(SISWA!B91=0,\"\",SISWA!B91)","v":""},{"$f":"IF(SISWA!C91=0,\"\",SISWA!C91)","v":""},{"$f":"IF(SISWA!D91=0,\"\",SISWA!D91)","v":""},{"$f":"IF(SISWA!E91=0,\"\",SISWA!E91)","v":""},null,null,null,null,null,{"$error":"#DIV/0!"},null,null,{"$error":"#DIV/0!"},null,{"$error":"#DIV/0!"}]
[85,{"$f":"IF(SISWA!B92=0,\"\",SISWA!B92)","v":""},{"$f":"IF(SISWA!C92=0,\"\",SISWA!C92)","v":""},{"$f":"IF(SISWA!D92=0,\"\",SISWA!D92)","v":""},{"$f":"IF(SISWA!E92=0,\"\",SISWA!E92)","v":""},null,null,null,null,null,{"$error":"#DIV/0!"},null,null,{"$error":"#DIV/0!"},null,{"$error":"#DIV/0!"}]
[86,{"$f":"IF(SISWA!B93=0,\"\",SISWA!B93)","v":""},{"$f":"IF(SISWA!C93=0,\"\",SISWA!C93)","v":""},{"$f":"IF(SISWA!D93=0,\"\",SISWA!D93)","v":""},{"$f":"IF(SISWA!E93=0,\"\",SISWA!E93)","v":""},null,null,null,null,null,{"$error":"#DIV/0!"},null,null,{"$error":"#DIV/0!"},null,{"$error":"#DIV/0!"}]
[87,{"$f":"IF(SISWA!B94=0,\"\",SISWA!B94)","v":""},{"$f":"IF(SISWA!C94=0,\"\",SISWA!C94)","v":""},{"$f":"IF(SISWA!D94=0,\"\",SISWA!D94)","v":""},{"$f":"IF(SISWA!E94=0,\"\",SISWA!E94)","v":""},null,null,null,null,null,{"$error":"#DIV/0!"},null,null,{"$error":"#DIV/0!"},null,{"$error":"#DIV/0!"}]
[88,{"$f":"IF(SISWA!B95=0,\"\",SISWA!B95)","v":""},{"$f":"IF(SISWA!C95=0,\"\",SISWA!C95)","v":""},{"$f":"IF(SISWA!D95=0,\"\",SISWA!D95)","v":""},{"$f":"IF(SISWA!E95=0,\"\",SISWA!E95)","v":""},null,null,null,null,null,{"$error":"#DIV/0!"},null,null,{"$error":"#DIV/0!"},null,{"$error":"#DIV/0!"}]
[89,{"$f":"IF(SISWA!B96=0,\"\",SISWA!B96)","v":""},{"$f":"IF(SISWA!C96=0,\"\",SISWA!C96)","v":""},{"$f":"IF(SISWA!D96=0,\"\",SISWA!D96)","v":""},{"$f":"IF(SISWA!E96=0,\"\",SISWA!E96)","v":""},null,null,null,null,null,{"$error":"#DIV/0!"},null,null,{"$error":"#DIV/0!"},null,{"$error":"#DIV/0!"}]
[90,{"$f":"IF(SISWA!B97=0,\"\",SISWA!B97)","v":""},{"$f":"IF(SISWA!C97=0,\"\",SISWA!C97)","v":""},{"$f":"IF(SISWA!D97=0,\"\",SISWA!D97)","v":""},{"$f":"IF(SISWA!E97=0,\"\",SISWA!E97)","v":""},null,null,null,null,null,{"$error":"#DIV/0!"},null,null,{"$error":"#DIV/0!"},null,{"$error":"#DIV/0!"}]
[91,{"$f":"IF(SISWA!B98=0,\"\",SISWA!B98)","v":""},{"$f":"IF(SISWA!C98=0,\"\",SISWA!C98)","v":""},{"$f":"IF(SISWA!D98=0,\"\",SISWA!D98)","v":""},{"$f":"IF(SISWA!E98=0,\"\",SISWA!E98)","v":""},null,null,null,null,null,{"$error":"#DIV/0!"},null,null,{"$error":"#DIV/0!"},null,{"$error":"#DIV/0!"}]
[92,{"$f":"IF(SISWA!B99=0,\"\",SISWA!B99)","v":""},{"$f":"IF(SISWA!C99=0,\"\",SISWA!C99)","v":""},{"$f":"IF(SISWA!D99=0,\"\",SISWA!D99)","v":""},{"$f":"IF(SISWA!E99=0,\"\",SISWA!E99)","v":""},null,null,null,null,null,{"$error":"#DIV/0!"},null,null,{"$error":"#DIV/0!"},null,{"$error":"#DIV/0!"}]
[93,{"$f":"IF(SISWA!B100=0,\"\",SISWA!B100)","v":""},{"$f":"IF(SISWA!C100=0,\"\",SISWA!C100)","v":""},{"$f":"IF(SISWA!D100=0,\"\",SISWA!D100)","v":""},{"$f":"IF(SISWA!E100=0,\"\",SISWA!E100)","v":""},null,null,null,null,null,{"$error":"#DIV/0!"},null,null,{"$error":"#DIV/0!"},null,{"$error":"#DIV/0!"}]
[94,{"$f":"IF(SISWA!B101=0,\"\",SISWA!B101)","v":""},{"$f":"IF(SISWA!C101=0,\"\",SISWA!C101)","v":""},{"$f":"IF(SISWA!D101=0,\"\",SISWA!D101)","v":""},{"$f":"IF(SISWA!E101=0,\"\",SISWA!E101)","v":""},null,null,null,null,null,{"$error":"#DIV/0!"},null,null,{"$error":"#DIV/0!"},null,{"$error":"#DIV/0!"}]
[95,{"$f":"IF(SISWA!B102=0,\"\",SISWA!B102)","v":""},{"$f":"IF(SISWA!C102=0,\"\",SISWA!C102)","v":""},{"$f":"IF(SISWA!D102=0,\"\",SISWA!D102)","v":""},{"$f":"IF(SISWA!E102=0,\"\",SISWA!E102)","v":""},null,null,null,null,null,{"$error":"#DIV/0!"},null,null,{"$error":"#DIV/0!"},null,{"$error":"#DIV/0!"}]
[96,{"$f":"IF(SISWA!B103=0,\"\",SISWA!B103)","v":""},{"$f":"IF(SISWA!C103=0,\"\",SISWA!C103)","v":""},{"$f":"IF(SISWA!D103=0,\"\",SISWA!D103)","v":""},{"$f":"IF(SISWA!E103=0,\"\",SISWA!E103)","v":""},null,null,null,null,null,{"$error":"#DIV/0!"},null,null,{"$error":"#DIV/0!"},null,{"$error":"#DIV/0!"}]
[97,{"$f":"IF(SISWA!B104=0,\"\",SISWA!B104)","v":""},{"$f":"IF(SISWA!C104=0,\"\",SISWA!C104)","v":""},{"$f":"IF(SISWA!D104=0,\"\",SISWA!D104)","v":""},{"$f":"IF(SISWA!E104=0,\"\",SISWA!E104)","v":""},null,null,null,null,null,{"$error":"#DIV/0!"},null,null,{"$error":"#DIV/0!"},null,{"$error":"#DIV/0!"}]
[98,{"$f":"IF(SISWA!B105=0,\"\",SISWA!B105)","v":""},{"$f":"IF(SISWA!C105=0,\"\",SISWA!C105)","v":""},{"$f":"IF(SISWA!D105=0,\"\",SISWA!D105)","v":""},{"$f":"IF(SISWA!E105=0,\"\",SISWA!E105)","v":""},null,null,null,null,null,{"$error":"#DIV/0!"},null,null,{"$error":"#DIV/0!"},null,{"$error":"#DIV/0!"}]
[99,{"$f":"IF(SISWA!B106=0,\"\",SISWA!B106)","v":""},{"$f":"IF(SISWA!C106=0,\"\",SISWA!C106)","v":""},{"$f":"IF(SISWA!D106=0,\"\",SISWA!D106)","v":""},{"$f":"IF(SISWA!E106=0,\"\",SISWA!E106)","v":""},null,null,null,null,null,{"$error":"#DIV/0!"},null,null,{"$error":"#DIV/0!"},null,{"$error":"#DIV/0!"}]
[100,{"$f":"IF(SISWA!B107=0,\"\",SISWA!B107)","v":""},{"$f":"IF(SISWA!C107=0,\"\",SISWA!C107)","v":""},{"$f":"IF(SISWA!D107=0,\"\",SISWA!D107)","v":""},{"$f":"IF(SISWA!E107=0,\"\",SISWA!E107)","v":""},null,null,null,null,null,{"$error":"#DIV/0!"},null,null,{"$error":"#DIV/0!"},null,{"$error":"#DIV/0!"}]
[101,{"$f":"IF(SISWA!B108=0,\"\",SISWA!B108)","v":""},{"$f":"IF(SISWA!C108=0,\"\",SISWA!C108)","v":""},{"$f":"IF(SISWA!D108=0,\"\",SISWA!D108)","v":""},{"$f":"IF(SISWA!E108=0,\"\",SISWA!E108)","v":""},null,null,null,null,null,{"$error":"#DIV/0!"},null,null,{"$error":"#DIV/0!"},null,{"$error":"#DIV/0!"}]

{"sheet":"BD","index":14,"n_rows":108,"n_cols":16,"rows_kept":108,"cut":false,"hidden":false,"merged":[[4,13,6,13],[4,5,4,12],[0,0,0,9],[1,0,1,9],[2,0,2,9],[4,0,6,0],[4,1,6,1],[4,2,6,2],[4,3,6,3],[4,4,6,4],[5,5,5,9],[5,11,5,12]]}
["DAFTAR NILAI AKHIR SEKOLAH"]
[{"$f":"AA!A2","v":"MADRASAH IBTIDAIYAH NURUL ISLAM LABRUK KIDUL"}]
[{"$f":"AA!A3","v":"TAHUN PELAJARAN 2019/2020"}]
[]
["NO","No Induk","NISN","Nomor Peserta","Nama Peserta","BAHASA DAERAH/MULOK 1",null,null,null,null,null,null,null,"rata-rata UAM & PRAKTEK"]
[null,null,null,null,null,"Nilai Semester",null,null,null,null,"Rata- 2","NILAI UAM",null,null,null,"UAMNU"]
[null,null,null,null,null,7,8,9,10,11,"Rapor","TULIS","PRAKTIK",null,null,"TULIS"]
[1,{"$f":"IF(SISWA!B8=0,\"\",SISWA!B8)","v":4331},{"$f":"IF(SISWA!C8=0,\"\",SISWA!C8)","v":"0078140536"},{"$f":"IF(SISWA!D8=0,\"\",SISWA!D8)","v":"1-18-05-80-162-001-8"},{"$f":"IF(SISWA!E8=0,\"\",SISWA!E8)","v":"ACHMAD FATHIR IZUDDIN"},null,60,73,82,82,{"$f":"AVERAGE(F8:J8)","v":74.25},60,{"$f":"AVERAGE(H8:L8)","v":74.25},{"$f":"AVERAGE(K8:L8)","v":67.125},null,67.125]
[2,{"$f":"IF(SISWA!B9=0,\"\",SISWA!B9)","v":4333},{"$f":"IF(SISWA!C9=0,\"\",SISWA!C9)","v":"0084691896"},{"$f":"IF(SISWA!D9=0,\"\",SISWA!D9)","v":"1-18-05-80-162-002-7"},{"$f":"IF(SISWA!E9=0,\"\",SISWA!E9)","v":"AININ NAFISA FEBRIYANTI"},null,64,74,81,84,{"$f":"AVERAGE(F9:J9)","v":75.75},60,74.95,{"$f":"AVERAGE(K9:L9)","v":67.875},null,67.875]
[3,{"$f":"IF(SISWA!B10=0,\"\",SISWA!B10)","v":4334},{"$f":"IF(SISWA!C10=0,\"\",SISWA!C10)","v":"0075488897"},{"$f":"IF(SISWA!D10=0,\"\",SISWA!D10)","v":"1-18-05-80-162-003-6"},{"$f":"IF(SISWA!E10=0,\"\",SISWA!E10)","v":"AISYAH DWI ANDINI"},null,61,76,81,85,75.75,60,75.55,67.875,null,67.875]
[4,{"$f":"IF(SISWA!B11=0,\"\",SISWA!B11)","v":4335},{"$f":"IF(SISWA!C11=0,\"\",SISWA!C11)","v":"0077554289"},{"$f":"IF(SISWA!D11=0,\"\",SISWA!D11)","v":"1-18-05-80-162-004-5"},{"$f":"IF(SISWA!E11=0,\"\",SISWA!E11)","v":"AJENG AGUSTINA KIRANA PUTRI"},null,70,71,81,87,77.25,60,75.25,68.625,null,68.625]
[5,{"$f":"IF(SISWA!B12=0,\"\",SISWA!B12)","v":4336},{"$f":"IF(SISWA!C12=0,\"\",SISWA!C12)","v":"0078831956"},{"$f":"IF(SISWA!D12=0,\"\",SISWA!D12)","v":"1-18-05-80-162-005-4"},{"$f":"IF(SISWA!E12=0,\"\",SISWA!E12)","v":"ALVIAN FAIZULHAQQI"},null,65,75,84,81,76.25,60,75.25,68.125,null,68.125]
[6,{"$f":"IF(SISWA!B13=0,\"\",SISWA!B13)","v":4337},{"$f":"IF(SISWA!C13=0,\"\",SISWA!C13)","v":"0073667130"},{"$f":"IF(SISWA!D13=0,\"\",SISWA!D13)","v":"1-18-05-80-162-006-3"},{"$f":"IF(SISWA!E13=0,\"\",SISWA!E13)","v":"ANGGITA RIZKY YUGA MEISYA"},null,65,78,86,87,79,60,78,69.5,null,69.5]
[7,{"$f":"IF(SISWA!B14=0,\"\",SISWA!B14)","v":4338},{"$f":"IF(SISWA!C14=0,\"\",SISWA!C14)","v":"0074492973"},{"$f":"IF(SISWA!D14=0,\"\",SISWA!D14)","v":"1-18-05-80-162-007-2"},{"$f":"IF(SISWA!E14=0,\"\",SISWA!E14)","v":"AURA SALSABILA WULAN SARI"},null,63,77,83,84,76.75,60,76.150000000000006,68.375,null,68.375]
[8,{"$f":"IF(SISWA!B15=0,\"\",SISWA!B15)","v":4366},{"$f":"IF(SISWA!C15=0,\"\",SISWA!C15)","v":"0078989673"},{"$f":"IF(SISWA!D15=0,\"\",SISWA!D15)","v":"1-18-05-80-162-008-9"},{"$f":"IF(SISWA!E15=0,\"\",SISWA!E15)","v":"BALQIS NAILA AUDIA"},null,64,78,83,89,78.5,70,79.7,74.25,null,74.25]
[9,{"$f":"IF(SISWA!B16=0,\"\",SISWA!B16)","v":4440},{"$f":"IF(SISWA!C16=0,\"\",SISWA!C16)","v":"0082763386"},{"$f":"IF(SISWA!D16=0,\"\",SISWA!D16)","v":"1-18-05-80-162-009-8"},{"$f":"IF(SISWA!E16=0,\"\",SISWA!E16)","v":"BIMA ARYO SUSILO"},null,60,76,84,81,75.25,60,75.25,67.625,null,67.625]
[10,{"$f":"IF(SISWA!B17=0,\"\",SISWA!B17)","v":4367},{"$f":"IF(SISWA!C17=0,\"\",SISWA!C17)","v":"0078400392"},{"$f":"IF(SISWA!D17=0,\"\",SISWA!D17)","v":"1-18-05-80-162-010-7"},{"$f":"IF(SISWA!E17=0,\"\",SISWA!E17)","v":"BIMA SATRIA DIRGANTARA"},null,60,76,83,81,75,60,75,67.5,null,67.5]
[11,{"$f":"IF(SISWA!B18=0,\"\",SISWA!B18)","v":4339},{"$f":"IF(SISWA!C18=0,\"\",SISWA!C18)","v":"0086652599"},{"$f":"IF(SISWA!D18=0,\"\",SISWA!D18)","v":"1-18-05-80-162-011-6"},{"$f":"IF(SISWA!E18=0,\"\",SISWA!E18)","v":"DEVI KARUNIA RATNA PUTRI"},null,65,73,83,86,76.75,67.5,77.25,72.125,null,72.125]
[12,{"$f":"IF(SISWA!B19=0,\"\",SISWA!B19)","v":4340},{"$f":"IF(SISWA!C19=0,\"\",SISWA!C19)","v":"0089906682"},{"$f":"IF(SISWA!D19=0,\"\",SISWA!D19)","v":"1-18-05-80-162-012-5"},{"$f":"IF(SISWA!E19=0,\"\",SISWA!E19)","v":"DEVITA FEBRIANI PUTRI"},null,60,74,83,84,75.25,60,75.25,67.625,null,67.625]
[13,{"$f":"IF(SISWA!B20=0,\"\",SISWA!B20)","v":4370},{"$f":"IF(SISWA!C20=0,\"\",SISWA!C20)","v":"0074514146"},{"$f":"IF(SISWA!D20=0,\"\",SISWA!D20)","v":"1-18-05-80-162-013-4"},{"$f":"IF(SISWA!E20=0,\"\",SISWA!E20)","v":"FAKHIS GABRIL LIA"},null,60,74,84,82,75,60,75,67.5,null,67.5]
[14,{"$f":"IF(SISWA!B21=0,\"\",SISWA!B21)","v":4342},{"$f":"IF(SISWA!C21=0,\"\",SISWA!C21)","v":"0081081672"},{"$f":"IF(SISWA!D21=0,\"\",SISWA!D21)","v":"1-18-05-80-162-014-3"},{"$f":"IF(SISWA!E21=0,\"\",SISWA!E21)","v":"FARAH NAILATUL ALYAH"},null,75,72,83,83,78.25,60,75.25,69.125,null,69.125]
[15,{"$f":"IF(SISWA!B22=0,\"\",SISWA!B22)","v":4345},{"$f":"IF(SISWA!C22=0,\"\",SISWA!C22)","v":"0073420487"},{"$f":"IF(SISWA!D22=0,\"\",SISWA!D22)","v":"1-18-05-80-162-015-2"},{"$f":"IF(SISWA!E22=0,\"\",SISWA!E22)","v":"GALANG MARDHOTILLAH SATOTO"},null,60,74,85,81,75,60,75,67.5,null,67.5]
[16,{"$f":"IF(SISWA!B23=0,\"\",SISWA!B23)","v":4371},{"$f":"IF(SISWA!C23=0,\"\",SISWA!C23)","v":"0079870082"},{"$f":"IF(SISWA!D23=0,\"\",SISWA!D23)","v":"1-18-05-80-162-016-9"},{"$f":"IF(SISWA!E23=0,\"\",SISWA!E23)","v":"GALIH FAREL PRASTYO"},null,60,73,82,82,74.25,60,74.25,67.125,null,67.125]
[17,{"$f":"IF(SISWA!B24=0,\"\",SISWA!B24)","v":4466},{"$f":"IF(SISWA!C24=0,\"\",SISWA!C24)","v":"0081629504"},{"$f":"IF(SISWA!D24=0,\"\",SISWA!D24)","v":"1-18-05-80-162-017-8"},{"$f":"IF(SISWA!E24=0,\"\",SISWA!E24)","v":"HIBATULLAH MUSTAGHFIRY RUSLI"},null,75,70,84,81,77.5,60,74.5,68.75,null,68.75]
[18,{"$f":"IF(SISWA!B25=0,\"\",SISWA!B25)","v":4346},{"$f":"IF(SISWA!C25=0,\"\",SISWA!C25)","v":"0073608418"},{"$f":"IF(SISWA!D25=0,\"\",SISWA!D25)","v":"1-18-05-80-162-018-7"},{"$f":"IF(SISWA!E25=0,\"\",SISWA!E25)","v":"IKA KURNIA WATI AGUSTINA"},null,60,76,81,81,74.5,60,74.5,67.25,null,67.25]
[19,{"$f":"IF(SISWA!B26=0,\"\",SISWA!B26)","v":4350},{"$f":"IF(SISWA!C26=0,\"\",SISWA!C26)","v":"0072658586"},{"$f":"IF(SISWA!D26=0,\"\",SISWA!D26)","v":"1-18-05-80-162-019-6"},{"$f":"IF(SISWA!E26=0,\"\",SISWA!E26)","v":"MAYLUNA EKA PRATIWI"},null,74,69,82,85,77.5,60,74.7,68.75,null,68.75]
[20,{"$f":"IF(SISWA!B27=0,\"\",SISWA!B27)","v":4353},{"$f":"IF(SISWA!C27=0,\"\",SISWA!C27)","v":"0075464137"},{"$f":"IF(SISWA!D27=0,\"\",SISWA!D27)","v":"1-18-05-80-162-020-5"},{"$f":"IF(SISWA!E27=0,\"\",SISWA!E27)","v":"MOHAMAD DWIMAS FIRDAUS"},null,76,77,82,84,79.75,60,76.55,69.875,null,69.875]
[21,{"$f":"IF(SISWA!B28=0,\"\",SISWA!B28)","v":4375},{"$f":"IF(SISWA!C28=0,\"\",SISWA!C28)","v":"0075096831"},{"$f":"IF(SISWA!D28=0,\"\",SISWA!D28)","v":"1-18-05-80-162-021-4"},{"$f":"IF(SISWA!E28=0,\"\",SISWA!E28)","v":"MUHAMMAD AFFAN ABI SYAHPUTRA"},null,75,70,82,81,77,75,77,76,null,76]
[22,{"$f":"IF(SISWA!B29=0,\"\",SISWA!B29)","v":4354},{"$f":"IF(SISWA!C29=0,\"\",SISWA!C29)","v":"0075055640"},{"$f":"IF(SISWA!D29=0,\"\",SISWA!D29)","v":"1-18-05-80-162-022-3"},{"$f":"IF(SISWA!E29=0,\"\",SISWA!E29)","v":"MUHAMMAD ALVIN RIDHO"},null,60,76,83,81,75,60,75,67.5,null,67.5]
[23,{"$f":"IF(SISWA!B30=0,\"\",SISWA!B30)","v":4378},{"$f":"IF(SISWA!C30=0,\"\",SISWA!C30)","v":"0074268893"},{"$f":"IF(SISWA!D30=0,\"\",SISWA!D30)","v":"1-18-05-80-162-023-2"},{"$f":"IF(SISWA!E30=0,\"\",SISWA!E30)","v":"MUKHAMAD DAVID ARIF FIRDAUS"},null,72,74,83,85,78.5,60,76.099999999999994,69.25,null,69.25]
[24,{"$f":"IF(SISWA!B31=0,\"\",SISWA!B31)","v":4379},{"$f":"IF(SISWA!C31=0,\"\",SISWA!C31)","v":"0072757203"},{"$f":"IF(SISWA!D31=0,\"\",SISWA!D31)","v":"1-18-05-80-162-024-9"},{"$f":"IF(SISWA!E31=0,\"\",SISWA!E31)","v":"NAORA ISQI AINAYYA"},null,76,76,86,87,81.25,60,78.05,70.625,null,70.625]
[25,{"$f":"IF(SISWA!B32=0,\"\",SISWA!B32)","v":4380},{"$f":"IF(SISWA!C32=0,\"\",SISWA!C32)","v":"0079026285"},{"$f":"IF(SISWA!D32=0,\"\",SISWA!D32)","v":"1-18-05-80-162-025-8"},{"$f":"IF(SISWA!E32=0,\"\",SISWA!E32)","v":"NAZRA ISLAMAY PASHA"},null,79,76,85,85,81.25,60,77.45,70.625,null,70.625]
[26,{"$f":"IF(SISWA!B33=0,\"\",SISWA!B33)","v":4382},{"$f":"IF(SISWA!C33=0,\"\",SISWA!C33)","v":"0079872151"},{"$f":"IF(SISWA!D33=0,\"\",SISWA!D33)","v":"1-18-05-80-162-026-7"},{"$f":"IF(SISWA!E33=0,\"\",SISWA!E33)","v":"NUR ALYA NABILA"},null,77,77,83,84,80.25,60,76.849999999999994,70.125,null,70.125]
[27,{"$f":"IF(SISWA!B34=0,\"\",SISWA!B34)","v":4358},{"$f":"IF(SISWA!C34=0,\"\",SISWA!C34)","v":"0087558837"},{"$f":"IF(SISWA!D34=0,\"\",SISWA!D34)","v":"1-18-05-80-162-027-6"},{"$f":"IF(SISWA!E34=0,\"\",SISWA!E34)","v":"PUTRI SHOLIKHAH"},null,73,73,86,82,78.5,60,75.900000000000006,69.25,null,69.25]
[28,{"$f":"IF(SISWA!B35=0,\"\",SISWA!B35)","v":4384},{"$f":"IF(SISWA!C35=0,\"\",SISWA!C35)","v":"0071234523"},{"$f":"IF(SISWA!D35=0,\"\",SISWA!D35)","v":"1-18-05-80-162-028-5"},{"$f":"IF(SISWA!E35=0,\"\",SISWA!E35)","v":"RESTI FITRIANTI DWI OCTAVIANI"},null,76,74,81,82,78.25,60,75.05,69.125,null,69.125]
[29,{"$f":"IF(SISWA!B36=0,\"\",SISWA!B36)","v":4359},{"$f":"IF(SISWA!C36=0,\"\",SISWA!C36)","v":"0073122181"},{"$f":"IF(SISWA!D36=0,\"\",SISWA!D36)","v":"1-18-05-80-162-029-4"},{"$f":"IF(SISWA!E36=0,\"\",SISWA!E36)","v":"ROUDHOTUS SA'DIYAH"},null,75,74,84,81,78.5,60,75.5,69.25,null,69.25]
[30,{"$f":"IF(SISWA!B37=0,\"\",SISWA!B37)","v":4386},{"$f":"IF(SISWA!C37=0,\"\",SISWA!C37)","v":"0075344352"},{"$f":"IF(SISWA!D37=0,\"\",SISWA!D37)","v":"1-18-05-80-162-030-3"},{"$f":"IF(SISWA!E37=0,\"\",SISWA!E37)","v":"TIERSYA BETA RAMANUZAN"},null,77,79,84,84,81,75,80.599999999999994,78,null,78]
[31,{"$f":"IF(SISWA!B38=0,\"\",SISWA!B38)","v":4388},{"$f":"IF(SISWA!C38=0,\"\",SISWA!C38)","v":"0077423646"},{"$f":"IF(SISWA!D38=0,\"\",SISWA!D38)","v":"1-18-05-80-162-031-2"},{"$f":"IF(SISWA!E38=0,\"\",SISWA!E38)","v":"VERA MUSTIKA"},null,73,74,83,81,77.75,60,75.150000000000006,68.875,null,68.875]
[32,{"$f":"IF(SISWA!B39=0,\"\",SISWA!B39)","v":4360},{"$f":"IF(SISWA!C39=0,\"\",SISWA!C39)","v":"0077290990"},{"$f":"IF(SISWA!D39=0,\"\",SISWA!D39)","v":"1-18-05-80-162-032-9"},{"$f":"IF(SISWA!E39=0,\"\",SISWA!E39)","v":"ZIDNY ILMA NABILA"},null,75,75,85,83,79.5,60,76.5,69.75,null,69.75]
[33,{"$f":"IF(SISWA!B40=0,\"\",SISWA!B40)","v":4390},{"$f":"IF(SISWA!C40=0,\"\",SISWA!C40)","v":"0077722307"},{"$f":"IF(SISWA!D40=0,\"\",SISWA!D40)","v":"1-18-05-80-162-033-8"},{"$f":"IF(SISWA!E40=0,\"\",SISWA!E40)","v":"ZITNATUL AULIA ILLA"},null,77,79,85,83,81,60,77.599999999999994,70.5,null,70.5]
[34,{"$f":"IF(SISWA!B41=0,\"\",SISWA!B41)","v":4330},{"$f":"IF(SISWA!C41=0,\"\",SISWA!C41)","v":"0084736422"},{"$f":"IF(SISWA!D41=0,\"\",SISWA!D41)","v":"1-18-05-80-162-034-7"},{"$f":"IF(SISWA!E41=0,\"\",SISWA!E41)","v":"ACHID ATHIRIL ARDAN"},null,74,72,75,83,76,60,73.2,68,null,67.25]
[35,{"$f":"IF(SISWA!B42=0,\"\",SISWA!B42)","v":4361},{"$f":"IF(SISWA!C42=0,\"\",SISWA!C42)","v":"0075656390"},{"$f":"IF(SISWA!D42=0,\"\",SISWA!D42)","v":"1-18-05-80-162-035-6"},{"$f":"IF(SISWA!E42=0,\"\",SISWA!E42)","v":"ACHMAD SEPTIAN HAMDANI"},null,60,74,75,82,72.75,60,72.75,66.375,null,65]
[36,{"$f":"IF(SISWA!B43=0,\"\",SISWA!B43)","v":4362},{"$f":"IF(SISWA!C43=0,\"\",SISWA!C43)","v":"0071796138"},{"$f":"IF(SISWA!D43=0,\"\",SISWA!D43)","v":"1-18-05-80-162-036-5"},{"$f":"IF(SISWA!E43=0,\"\",SISWA!E43)","v":"ACHMAD SULAIMAN"},null,60,73,76,81,72.5,60,72.5,66.25,null,65]
[37,{"$f":"IF(SISWA!B44=0,\"\",SISWA!B44)","v":4364},{"$f":"IF(SISWA!C44=0,\"\",SISWA!C44)","v":"0079667684"},{"$f":"IF(SISWA!D44=0,\"\",SISWA!D44)","v":"1-18-05-80-162-037-4"},{"$f":"IF(SISWA!E44=0,\"\",SISWA!E44)","v":"AIRLANGGA DWIKA RIZQI"},null,72,73,75,82,75.5,60,73.099999999999994,67.75,null,66.75]
[38,{"$f":"IF(SISWA!B45=0,\"\",SISWA!B45)","v":4365},{"$f":"IF(SISWA!C45=0,\"\",SISWA!C45)","v":"0089321127"},{"$f":"IF(SISWA!D45=0,\"\",SISWA!D45)","v":"1-18-05-80-162-038-3"},{"$f":"IF(SISWA!E45=0,\"\",SISWA!E45)","v":"AUFAN AZKAL ABRORI"},null,61,72,78,82,73.25,60,73.05,66.625,null,65]
[39,{"$f":"IF(SISWA!B46=0,\"\",SISWA!B46)","v":4465},{"$f":"IF(SISWA!C46=0,\"\",SISWA!C46)","v":"0071776593"},{"$f":"IF(SISWA!D46=0,\"\",SISWA!D46)","v":"1-18-05-80-162-039-2"},{"$f":"IF(SISWA!E46=0,\"\",SISWA!E46)","v":"AZZA PRISHAL DWI PUTRA"},null,70,74,76,82,75.5,60,73.5,67.75,null,66.5]
[40,{"$f":"IF(SISWA!B47=0,\"\",SISWA!B47)","v":4368},{"$f":"IF(SISWA!C47=0,\"\",SISWA!C47)","v":"0074569410"},{"$f":"IF(SISWA!D47=0,\"\",SISWA!D47)","v":"1-18-05-80-162-040-9"},{"$f":"IF(SISWA!E47=0,\"\",SISWA!E47)","v":"EKA AULIYA` PUTRI"},null,60,72,79,84,73.75,60,73.75,66.875,null,65]
[41,{"$f":"IF(SISWA!B48=0,\"\",SISWA!B48)","v":4341},{"$f":"IF(SISWA!C48=0,\"\",SISWA!C48)","v":"0083684457"},{"$f":"IF(SISWA!D48=0,\"\",SISWA!D48)","v":"1-18-05-80-162-041-8"},{"$f":"IF(SISWA!E48=0,\"\",SISWA!E48)","v":"ERSA PUSPITA EKA ROSA LINDA"},null,60,72,78,82,73,60,73,66.5,null,65]
[42,{"$f":"IF(SISWA!B49=0,\"\",SISWA!B49)","v":4369},{"$f":"IF(SISWA!C49=0,\"\",SISWA!C49)","v":"0078481731"},{"$f":"IF(SISWA!D49=0,\"\",SISWA!D49)","v":"1-18-05-80-162-042-7"},{"$f":"IF(SISWA!E49=0,\"\",SISWA!E49)","v":"FABIYAN TRI BAKTI OKTAFIAN"},null,60,72,77,82,72.75,60,72.75,66.375,null,65]
[43,{"$f":"IF(SISWA!B50=0,\"\",SISWA!B50)","v":4343},{"$f":"IF(SISWA!C50=0,\"\",SISWA!C50)","v":3075965396},{"$f":"IF(SISWA!D50=0,\"\",SISWA!D50)","v":"1-18-05-80-162-043-6"},{"$f":"IF(SISWA!E50=0,\"\",SISWA!E50)","v":"FELISITA APRILIA NUR NIHAYA"},null,60,72,78,82,73,60,73,66.5,null,65]
[44,{"$f":"IF(SISWA!B51=0,\"\",SISWA!B51)","v":4344},{"$f":"IF(SISWA!C51=0,\"\",SISWA!C51)","v":3078948093},{"$f":"IF(SISWA!D51=0,\"\",SISWA!D51)","v":"1-18-05-80-162-044-5"},{"$f":"IF(SISWA!E51=0,\"\",SISWA!E51)","v":"FIRDA DWI ANDRIANI"},null,60,72,77,83,73,60,73,66.5,null,65]
[45,{"$f":"IF(SISWA!B52=0,\"\",SISWA!B52)","v":4372},{"$f":"IF(SISWA!C52=0,\"\",SISWA!C52)","v":"0087636520"},{"$f":"IF(SISWA!D52=0,\"\",SISWA!D52)","v":"1-18-05-80-162-045-4"},{"$f":"IF(SISWA!E52=0,\"\",SISWA!E52)","v":"GILANG AKBAR PRASETYO"},null,60,73,77,81,72.75,60,72.75,66.375,null,65]
[46,{"$f":"IF(SISWA!B53=0,\"\",SISWA!B53)","v":4373},{"$f":"IF(SISWA!C53=0,\"\",SISWA!C53)","v":"0087373224"},{"$f":"IF(SISWA!D53=0,\"\",SISWA!D53)","v":"1-18-05-80-162-046-3"},{"$f":"IF(SISWA!E53=0,\"\",SISWA!E53)","v":"IFTAH IZZAH EMILIA  MAHMUD"},null,75,72,75,81,75.75,60,72.75,67.875,null,67.5]
[47,{"$f":"IF(SISWA!B54=0,\"\",SISWA!B54)","v":4441},{"$f":"IF(SISWA!C54=0,\"\",SISWA!C54)","v":"0081758949"},{"$f":"IF(SISWA!D54=0,\"\",SISWA!D54)","v":"1-18-05-80-162-047-2"},{"$f":"IF(SISWA!E54=0,\"\",SISWA!E54)","v":"INES ARIFANI MAULINA"},null,61,73,78,82,73.5,70,75.3,71.75,null,69.75]
[48,{"$f":"IF(SISWA!B55=0,\"\",SISWA!B55)","v":4374},{"$f":"IF(SISWA!C55=0,\"\",SISWA!C55)","v":"0073409469"},{"$f":"IF(SISWA!D55=0,\"\",SISWA!D55)","v":"1-18-05-80-162-048-9"},{"$f":"IF(SISWA!E55=0,\"\",SISWA!E55)","v":"IYAAD AFLAKHA RAMZII"},null,70,73,78,81,75.5,60,73.5,67.75,null,67]
[49,{"$f":"IF(SISWA!B56=0,\"\",SISWA!B56)","v":4305},{"$f":"IF(SISWA!C56=0,\"\",SISWA!C56)","v":"0068258891"},{"$f":"IF(SISWA!D56=0,\"\",SISWA!D56)","v":"1-18-05-80-162-049-8"},{"$f":"IF(SISWA!E56=0,\"\",SISWA!E56)","v":"JULI ANDRIYANTO"},null,60,74,76,83,73.25,60,73.25,66.625,null,65]
[50,{"$f":"IF(SISWA!B57=0,\"\",SISWA!B57)","v":4347},{"$f":"IF(SISWA!C57=0,\"\",SISWA!C57)","v":"0076367763"},{"$f":"IF(SISWA!D57=0,\"\",SISWA!D57)","v":"1-18-05-80-162-050-7"},{"$f":"IF(SISWA!E57=0,\"\",SISWA!E57)","v":"LIYA FEBRIYANI"},null,75,77,82,82,79,60,76,69.5,null,69.25]
[51,{"$f":"IF(SISWA!B58=0,\"\",SISWA!B58)","v":4348},{"$f":"IF(SISWA!C58=0,\"\",SISWA!C58)","v":"0083034332"},{"$f":"IF(SISWA!D58=0,\"\",SISWA!D58)","v":"1-18-05-80-162-051-6"},{"$f":"IF(SISWA!E58=0,\"\",SISWA!E58)","v":"LIZATUL CHAIYUNI"},null,74,74,80,82,77.5,60,74.7,68.75,null,68.5]
[52,{"$f":"IF(SISWA!B59=0,\"\",SISWA!B59)","v":4531},{"$f":"IF(SISWA!C59=0,\"\",SISWA!C59)","v":3099539154},{"$f":"IF(SISWA!D59=0,\"\",SISWA!D59)","v":"1-18-05-80-162-052-5"},{"$f":"IF(SISWA!E59=0,\"\",SISWA!E59)","v":"M. ALHAFIS"},null,74,72,76,81,75.75,60,72.95,67.875,null,67.5]
[53,{"$f":"IF(SISWA!B60=0,\"\",SISWA!B60)","v":4530},{"$f":"IF(SISWA!C60=0,\"\",SISWA!C60)","v":"0077015789"},{"$f":"IF(SISWA!D60=0,\"\",SISWA!D60)","v":"1-18-05-80-162-053-4"},{"$f":"IF(SISWA!E60=0,\"\",SISWA!E60)","v":"MUHAMMAD RIZKI RIDWAN"},null,60,72,75,82,72.25,60,72.25,66.125,null,65]
[54,{"$f":"IF(SISWA!B61=0,\"\",SISWA!B61)","v":4351},{"$f":"IF(SISWA!C61=0,\"\",SISWA!C61)","v":"0076361559"},{"$f":"IF(SISWA!D61=0,\"\",SISWA!D61)","v":"1-18-05-80-162-054-3"},{"$f":"IF(SISWA!E61=0,\"\",SISWA!E61)","v":"MOCHAMAD RAFLI DIAN SAPUTRA"},null,60,72,75,83,72.5,60,72.5,66.25,null,65]
[55,{"$f":"IF(SISWA!B62=0,\"\",SISWA!B62)","v":4352},{"$f":"IF(SISWA!C62=0,\"\",SISWA!C62)","v":"0075591405"},{"$f":"IF(SISWA!D62=0,\"\",SISWA!D62)","v":"1-18-05-80-162-055-2"},{"$f":"IF(SISWA!E62=0,\"\",SISWA!E62)","v":"MOCHAMMAD AFAREL PUTRA RAMDHANA"},null,74,72,77,81,76,60,73.2,68,null,67.75]
[56,{"$f":"IF(SISWA!B63=0,\"\",SISWA!B63)","v":4355},{"$f":"IF(SISWA!C63=0,\"\",SISWA!C63)","v":"0075363258"},{"$f":"IF(SISWA!D63=0,\"\",SISWA!D63)","v":"1-18-05-80-162-056-9"},{"$f":"IF(SISWA!E63=0,\"\",SISWA!E63)","v":"MUHAMAD JEFRI MAULANA"},null,75,72,77,81,76.25,60,73.25,68.125,null,68]
[57,{"$f":"IF(SISWA!B64=0,\"\",SISWA!B64)","v":4376},{"$f":"IF(SISWA!C64=0,\"\",SISWA!C64)","v":"0072066741"},{"$f":"IF(SISWA!D64=0,\"\",SISWA!D64)","v":"1-18-05-80-162-057-8"},{"$f":"IF(SISWA!E64=0,\"\",SISWA!E64)","v":"MUHAMMAD DWI WILDAN BAGUS KURNIAWAN"},null,75,72,76,81,76,60,73,68,null,67.75]
[58,{"$f":"IF(SISWA!B65=0,\"\",SISWA!B65)","v":4377},{"$f":"IF(SISWA!C65=0,\"\",SISWA!C65)","v":"0071459044"},{"$f":"IF(SISWA!D65=0,\"\",SISWA!D65)","v":"1-18-05-80-162-058-7"},{"$f":"IF(SISWA!E65=0,\"\",SISWA!E65)","v":"MUHAMMAD FARIL FIRMANSYA"},null,74,72,77,81,76,60,73.2,68,null,67.75]
[59,{"$f":"IF(SISWA!B66=0,\"\",SISWA!B66)","v":4349},{"$f":"IF(SISWA!C66=0,\"\",SISWA!C66)","v":"0074206034"},{"$f":"IF(SISWA!D66=0,\"\",SISWA!D66)","v":"1-18-05-80-162-059-6"},{"$f":"IF(SISWA!E66=0,\"\",SISWA!E66)","v":"MUHAMMAD FARIZ UBAIDILLA"},null,74,72,77,83,76.5,60,73.7,68.25,null,67.75]
[60,{"$f":"IF(SISWA!B67=0,\"\",SISWA!B67)","v":4356},{"$f":"IF(SISWA!C67=0,\"\",SISWA!C67)","v":"0077937892"},{"$f":"IF(SISWA!D67=0,\"\",SISWA!D67)","v":"1-18-05-80-162-060-5"},{"$f":"IF(SISWA!E67=0,\"\",SISWA!E67)","v":"MUHAMMAD MAULANA ZIDANIL ILMI"},null,76,73,78,81,77,60,73.8,68.5,null,68.5]
[61,{"$f":"IF(SISWA!B68=0,\"\",SISWA!B68)","v":4357},{"$f":"IF(SISWA!C68=0,\"\",SISWA!C68)","v":"0078608527"},{"$f":"IF(SISWA!D68=0,\"\",SISWA!D68)","v":"1-18-05-80-162-061-4"},{"$f":"IF(SISWA!E68=0,\"\",SISWA!E68)","v":"MUHAMMAD SUTRISNO ISMAIL"},null,76,73,76,81,76.5,60,73.3,68.25,null,68]
[62,{"$f":"IF(SISWA!B69=0,\"\",SISWA!B69)","v":4381},{"$f":"IF(SISWA!C69=0,\"\",SISWA!C69)","v":"0072209435"},{"$f":"IF(SISWA!D69=0,\"\",SISWA!D69)","v":"1-18-05-80-162-062-3"},{"$f":"IF(SISWA!E69=0,\"\",SISWA!E69)","v":"NOVITA ERNIAWAN"},null,75,73,78,84,77.5,60,74.5,68.75,null,68.25]
[63,{"$f":"IF(SISWA!B70=0,\"\",SISWA!B70)","v":4383},{"$f":"IF(SISWA!C70=0,\"\",SISWA!C70)","v":"0077439834"},{"$f":"IF(SISWA!D70=0,\"\",SISWA!D70)","v":"1-18-05-80-162-063-2"},{"$f":"IF(SISWA!E70=0,\"\",SISWA!E70)","v":"PUTRI AULIA DWI AGUSTIN"},null,75,77,81,82,78.75,60,75.75,69.375,null,69]
[64,{"$f":"IF(SISWA!B71=0,\"\",SISWA!B71)","v":4385},{"$f":"IF(SISWA!C71=0,\"\",SISWA!C71)","v":"0073137310"},{"$f":"IF(SISWA!D71=0,\"\",SISWA!D71)","v":"1-18-05-80-162-064-9"},{"$f":"IF(SISWA!E71=0,\"\",SISWA!E71)","v":"STANY RAFIDAH RAHMANIA"},null,60,74,79,82,73.75,60,73.75,66.875,null,65]
[65,{"$f":"IF(SISWA!B72=0,\"\",SISWA!B72)","v":4387},{"$f":"IF(SISWA!C72=0,\"\",SISWA!C72)","v":"0077336427"},{"$f":"IF(SISWA!D72=0,\"\",SISWA!D72)","v":"1-18-05-80-162-065-8"},{"$f":"IF(SISWA!E72=0,\"\",SISWA!E72)","v":"USWATUN KHASANAH"},null,60,72,79,82,73.25,60,73.25,66.625,null,65]
[66,{"$f":"IF(SISWA!B73=0,\"\",SISWA!B73)","v":4389},{"$f":"IF(SISWA!C73=0,\"\",SISWA!C73)","v":"0078407631"},{"$f":"IF(SISWA!D73=0,\"\",SISWA!D73)","v":"1-18-05-80-162-066-7"},{"$f":"IF(SISWA!E73=0,\"\",SISWA!E73)","v":"VIKROUL KHAMILA"},null,74,72,78,82,{"$f":"AVERAGE(F73:J73)","v":76.5},60,73.7,{"$f":"AVERAGE(K73:L73)","v":68.25},null,68]
[67,{"$f":"IF(SISWA!B74=0,\"\",SISWA!B74)","v":""},{"$f":"IF(SISWA!C74=0,\"\",SISWA!C74)","v":""},{"$f":"IF(SISWA!D74=0,\"\",SISWA!D74)","v":""},{"$f":"IF(SISWA!E74=0,\"\",SISWA!E74)","v":""},null,null,null,null,null,{"$error":"#DIV/0!"},null,null,{"$error":"#DIV/0!"},null,{"$error":"#DIV/0!"}]
[68,{"$f":"IF(SISWA!B75=0,\"\",SISWA!B75)","v":""},{"$f":"IF(SISWA!C75=0,\"\",SISWA!C75)","v":""},{"$f":"IF(SISWA!D75=0,\"\",SISWA!D75)","v":""},{"$f":"IF(SISWA!E75=0,\"\",SISWA!E75)","v":""},null,null,null,null,null,{"$error":"#DIV/0!"},null,null,{"$error":"#DIV/0!"},null,{"$error":"#DIV/0!"}]
[69,{"$f":"IF(SISWA!B76=0,\"\",SISWA!B76)","v":""},{"$f":"IF(SISWA!C76=0,\"\",SISWA!C76)","v":""},{"$f":"IF(SISWA!D76=0,\"\",SISWA!D76)","v":""},{"$f":"IF(SISWA!E76=0,\"\",SISWA!E76)","v":""},null,null,null,null,null,{"$error":"#DIV/0!"},null,null,{"$error":"#DIV/0!"},null,{"$error":"#DIV/0!"}]
[70,{"$f":"IF(SISWA!B77=0,\"\",SISWA!B77)","v":""},{"$f":"IF(SISWA!C77=0,\"\",SISWA!C77)","v":""},{"$f":"IF(SISWA!D77=0,\"\",SISWA!D77)","v":""},{"$f":"IF(SISWA!E77=0,\"\",SISWA!E77)","v":""},null,null,null,null,null,{"$error":"#DIV/0!"},null,null,{"$error":"#DIV/0!"},null,{"$error":"#DIV/0!"}]
[71,{"$f":"IF(SISWA!B78=0,\"\",SISWA!B78)","v":""},{"$f":"IF(SISWA!C78=0,\"\",SISWA!C78)","v":""},{"$f":"IF(SISWA!D78=0,\"\",SISWA!D78)","v":""},{"$f":"IF(SISWA!E78=0,\"\",SISWA!E78)","v":""},null,null,null,null,null,{"$error":"#DIV/0!"},null,null,{"$error":"#DIV/0!"},null,{"$error":"#DIV/0!"}]
[72,{"$f":"IF(SISWA!B79=0,\"\",SISWA!B79)","v":""},{"$f":"IF(SISWA!C79=0,\"\",SISWA!C79)","v":""},{"$f":"IF(SISWA!D79=0,\"\",SISWA!D79)","v":""},{"$f":"IF(SISWA!E79=0,\"\",SISWA!E79)","v":""},null,null,null,null,null,{"$error":"#DIV/0!"},null,null,{"$error":"#DIV/0!"},null,{"$error":"#DIV/0!"}]
[73,{"$f":"IF(SISWA!B80=0,\"\",SISWA!B80)","v":""},{"$f":"IF(SISWA!C80=0,\"\",SISWA!C80)","v":""},{"$f":"IF(SISWA!D80=0,\"\",SISWA!D80)","v":""},{"$f":"IF(SISWA!E80=0,\"\",SISWA!E80)","v":""},null,null,null,null,null,{"$error":"#DIV/0!"},null,null,{"$error":"#DIV/0!"},null,{"$error":"#DIV/0!"}]
[74,{"$f":"IF(SISWA!B81=0,\"\",SISWA!B81)","v":""},{"$f":"IF(SISWA!C81=0,\"\",SISWA!C81)","v":""},{"$f":"IF(SISWA!D81=0,\"\",SISWA!D81)","v":""},{"$f":"IF(SISWA!E81=0,\"\",SISWA!E81)","v":""},null,null,null,null,null,{"$error":"#DIV/0!"},null,null,{"$error":"#DIV/0!"},null,{"$error":"#DIV/0!"}]
[75,{"$f":"IF(SISWA!B82=0,\"\",SISWA!B82)","v":""},{"$f":"IF(SISWA!C82=0,\"\",SISWA!C82)","v":""},{"$f":"IF(SISWA!D82=0,\"\",SISWA!D82)","v":""},{"$f":"IF(SISWA!E82=0,\"\",SISWA!E82)","v":""},null,null,null,null,null,{"$error":"#DIV/0!"},null,null,{"$error":"#DIV/0!"},null,{"$error":"#DIV/0!"}]
[76,{"$f":"IF(SISWA!B83=0,\"\",SISWA!B83)","v":""},{"$f":"IF(SISWA!C83=0,\"\",SISWA!C83)","v":""},{"$f":"IF(SISWA!D83=0,\"\",SISWA!D83)","v":""},{"$f":"IF(SISWA!E83=0,\"\",SISWA!E83)","v":""},null,null,null,null,null,{"$error":"#DIV/0!"},null,null,{"$error":"#DIV/0!"},null,{"$error":"#DIV/0!"}]
[77,{"$f":"IF(SISWA!B84=0,\"\",SISWA!B84)","v":""},{"$f":"IF(SISWA!C84=0,\"\",SISWA!C84)","v":""},{"$f":"IF(SISWA!D84=0,\"\",SISWA!D84)","v":""},{"$f":"IF(SISWA!E84=0,\"\",SISWA!E84)","v":""},null,null,null,null,null,{"$error":"#DIV/0!"},null,null,{"$error":"#DIV/0!"},null,{"$error":"#DIV/0!"}]
[78,{"$f":"IF(SISWA!B85=0,\"\",SISWA!B85)","v":""},{"$f":"IF(SISWA!C85=0,\"\",SISWA!C85)","v":""},{"$f":"IF(SISWA!D85=0,\"\",SISWA!D85)","v":""},{"$f":"IF(SISWA!E85=0,\"\",SISWA!E85)","v":""},null,null,null,null,null,{"$error":"#DIV/0!"},null,null,{"$error":"#DIV/0!"},null,{"$error":"#DIV/0!"}]
[79,{"$f":"IF(SISWA!B86=0,\"\",SISWA!B86)","v":""},{"$f":"IF(SISWA!C86=0,\"\",SISWA!C86)","v":""},{"$f":"IF(SISWA!D86=0,\"\",SISWA!D86)","v":""},{"$f":"IF(SISWA!E86=0,\"\",SISWA!E86)","v":""},null,null,null,null,null,{"$error":"#DIV/0!"},null,null,{"$error":"#DIV/0!"},null,{"$error":"#DIV/0!"}]
[80,{"$f":"IF(SISWA!B87=0,\"\",SISWA!B87)","v":""},{"$f":"IF(SISWA!C87=0,\"\",SISWA!C87)","v":""},{"$f":"IF(SISWA!D87=0,\"\",SISWA!D87)","v":""},{"$f":"IF(SISWA!E87=0,\"\",SISWA!E87)","v":""},null,null,null,null,null,{"$error":"#DIV/0!"},null,null,{"$error":"#DIV/0!"},null,{"$error":"#DIV/0!"}]
[81,{"$f":"IF(SISWA!B88=0,\"\",SISWA!B88)","v":""},{"$f":"IF(SISWA!C88=0,\"\",SISWA!C88)","v":""},{"$f":"IF(SISWA!D88=0,\"\",SISWA!D88)","v":""},{"$f":"IF(SISWA!E88=0,\"\",SISWA!E88)","v":""},null,null,null,null,null,{"$error":"#DIV/0!"},null,null,{"$error":"#DIV/0!"},null,{"$error":"#DIV/0!"}]
[82,{"$f":"IF(SISWA!B89=0,\"\",SISWA!B89)","v":""},{"$f":"IF(SISWA!C89=0,\"\",SISWA!C89)","v":""},{"$f":"IF(SISWA!D89=0,\"\",SISWA!D89)","v":""},{"$f":"IF(SISWA!E89=0,\"\",SISWA!E89)","v":""},null,null,null,null,null,{"$error":"#DIV/0!"},null,null,{"$error":"#DIV/0!"},null,{"$error":"#DIV/0!"}]
[83,{"$f":"IF(SISWA!B90=0,\"\",SISWA!B90)","v":""},{"$f":"IF(SISWA!C90=0,\"\",SISWA!C90)","v":""},{"$f":"IF(SISWA!D90=0,\"\",SISWA!D90)","v":""},{"$f":"IF(SISWA!E90=0,\"\",SISWA!E90)","v":""},null,null,null,null,null,{"$error":"#DIV/0!"},null,null,{"$error":"#DIV/0!"},null,{"$error":"#DIV/0!"}]
[84,{"$f":"IF(SISWA!B91=0,\"\",SISWA!B91)","v":""},{"$f":"IF(SISWA!C91=0,\"\",SISWA!C91)","v":""},{"$f":"IF(SISWA!D91=0,\"\",SISWA!D91)","v":""},{"$f":"IF(SISWA!E91=0,\"\",SISWA!E91)","v":""},null,null,null,null,null,{"$error":"#DIV/0!"},null,null,{"$error":"#DIV/0!"},null,{"$error":"#DIV/0!"}]
[85,{"$f":"IF(SISWA!B92=0,\"\",SISWA!B92)","v":""},{"$f":"IF(SISWA!C92=0,\"\",SISWA!C92)","v":""},{"$f":"IF(SISWA!D92=0,\"\",SISWA!D92)","v":""},{"$f":"IF(SISWA!E92=0,\"\",SISWA!E92)","v":""},null,null,null,null,null,{"$error":"#DIV/0!"},null,null,{"$error":"#DIV/0!"},null,{"$error":"#DIV/0!"}]
[86,{"$f":"IF(SISWA!B93=0,\"\",SISWA!B93)","v":""},{"$f":"IF(SISWA!C93=0,\"\",SISWA!C93)","v":""},{"$f":"IF(SISWA!D93=0,\"\",SISWA!D93)","v":""},{"$f":"IF(SISWA!E93=0,\"\",SISWA!E93)","v":""},null,null,null,null,null,{"$error":"#DIV/0!"},null,null,{"$error":"#DIV/0!"},null,{"$error":"#DIV/0!"}]
[87,{"$f":"IF(SISWA!B94=0,\"\",SISWA!B94)","v":""},{"$f":"IF(SISWA!C94=0,\"\",SISWA!C94)","v":""},{"$f":"IF(SISWA!D94=0,\"\",SISWA!D94)","v":""},{"$f":"IF(SISWA!E94=0,\"\",SISWA!E94)","v":""},null,null,null,null,null,{"$error":"#DIV/0!"},null,null,{"$error":"#DIV/0!"},null,{"$error":"#DIV/0!"}]
[88,{"$f":"IF(SISWA!B95=0,\"\",SISWA!B95)","v":""},{"$f":"IF(SISWA!C95=0,\"\",SISWA!C95)","v":""},{"$f":"IF(SISWA!D95=0,\"\",SISWA!D95)","v":""},{"$f":"IF(SISWA!E95=0,\"\",SISWA!E95)","v":""},null,null,null,null,null,{"$error":"#DIV/0!"},null,null,{"$error":"#DIV/0!"},null,{"$error":"#DIV/0!"}]
[89,{"$f":"IF(SISWA!B96=0,\"\",SISWA!B96)","v":""},{"$f":"IF(SISWA!C96=0,\"\",SISWA!C96)","v":""},{"$f":"IF(SISWA!D96=0,\"\",SISWA!D96)","v":""},{"$f":"IF(SISWA!E96=0,\"\",SISWA!E96)","v":""},null,null,null,null,null,{"$error":"#DIV/0!"},null,null,{"$error":"#DIV/0!"},null,{"$error":"#DIV/0!"}]
[90,{"$f":"IF(SISWA!B97=0,\"\",SISWA!B97)","v":""},{"$f":"IF(SISWA!C97=0,\"\",SISWA!C97)","v":""},{"$f":"IF(SISWA!D97=0,\"\",SISWA!D97)","v":""},{"$f":"IF(SISWA!E97=0,\"\",SISWA!E97)","v":""},null,null,null,null,null,{"$error":"#DIV/0!"},null,null,{"$error":"#DIV/0!"},null,{"$error":"#DIV/0!"}]
[91,{"$f":"IF(SISWA!B98=0,\"\",SISWA!B98)","v":""},{"$f":"IF(SISWA!C98=0,\"\",SISWA!C98)","v":""},{"$f":"IF(SISWA!D98=0,\"\",SISWA!D98)","v":""},{"$f":"IF(SISWA!E98=0,\"\",SISWA!E98)","v":""},null,null,null,null,null,{"$error":"#DIV/0!"},null,null,{"$error":"#DIV/0!"},null,{"$error":"#DIV/0!"}]
[92,{"$f":"IF(SISWA!B99=0,\"\",SISWA!B99)","v":""},{"$f":"IF(SISWA!C99=0,\"\",SISWA!C99)","v":""},{"$f":"IF(SISWA!D99=0,\"\",SISWA!D99)","v":""},{"$f":"IF(SISWA!E99=0,\"\",SISWA!E99)","v":""},null,null,null,null,null,{"$error":"#DIV/0!"},null,null,{"$error":"#DIV/0!"},null,{"$error":"#DIV/0!"}]
[93,{"$f":"IF(SISWA!B100=0,\"\",SISWA!B100)","v":""},{"$f":"IF(SISWA!C100=0,\"\",SISWA!C100)","v":""},{"$f":"IF(SISWA!D100=0,\"\",SISWA!D100)","v":""},{"$f":"IF(SISWA!E100=0,\"\",SISWA!E100)","v":""},null,null,null,null,null,{"$error":"#DIV/0!"},null,null,{"$error":"#DIV/0!"},null,{"$error":"#DIV/0!"}]
[94,{"$f":"IF(SISWA!B101=0,\"\",SISWA!B101)","v":""},{"$f":"IF(SISWA!C101=0,\"\",SISWA!C101)","v":""},{"$f":"IF(SISWA!D101=0,\"\",SISWA!D101)","v":""},{"$f":"IF(SISWA!E101=0,\"\",SISWA!E101)","v":""},null,null,null,null,null,{"$error":"#DIV/0!"},null,null,{"$error":"#DIV/0!"},null,{"$error":"#DIV/0!"}]
[95,{"$f":"IF(SISWA!B102=0,\"\",SISWA!B102)","v":""},{"$f":"IF(SISWA!C102=0,\"\",SISWA!C102)","v":""},{"$f":"IF(SISWA!D102=0,\"\",SISWA!D102)","v":""},{"$f":"IF(SISWA!E102=0,\"\",SISWA!E102)","v":""},null,null,null,null,null,{"$error":"#DIV/0!"},null,null,{"$error":"#DIV/0!"},null,{"$error":"#DIV/0!"}]
[96,{"$f":"IF(SISWA!B103=0,\"\",SISWA!B103)","v":""},{"$f":"IF(SISWA!C103=0,\"\",SISWA!C103)","v":""},{"$f":"IF(SISWA!D103=0,\"\",SISWA!D103)","v":""},{"$f":"IF(SISWA!E103=0,\"\",SISWA!E103)","v":""},null,null,null,null,null,{"$error":"#DIV/0!"},null,null,{"$error":"#DIV/0!"},null,{"$error":"#DIV/0!"}]
[97,{"$f":"IF(SISWA!B104=0,\"\",SISWA!B104)","v":""},{"$f":"IF(SISWA!C104=0,\"\",SISWA!C104)","v":""},{"$f":"IF(SISWA!D104=0,\"\",SISWA!D104)","v":""},{"$f":"IF(SISWA!E104=0,\"\",SISWA!E104)","v":""},null,null,null,null,null,{"$error":"#DIV/0!"},null,null,{"$error":"#DIV/0!"},null,{"$error":"#DIV/0!"}]
[98,{"$f":"IF(SISWA!B105=0,\"\",SISWA!B105)","v":""},{"$f":"IF(SISWA!C105=0,\"\",SISWA!C105)","v":""},{"$f":"IF(SISWA!D105=0,\"\",SISWA!D105)","v":""},{"$f":"IF(SISWA!E105=0,\"\",SISWA!E105)","v":""},null,null,null,null,null,{"$error":"#DIV/0!"},null,null,{"$error":"#DIV/0!"},null,{"$error":"#DIV/0!"}]
[99,{"$f":"IF(SISWA!B106=0,\"\",SISWA!B106)","v":""},{"$f":"IF(SISWA!C106=0,\"\",SISWA!C106)","v":""},{"$f":"IF(SISWA!D106=0,\"\",SISWA!D106)","v":""},{"$f":"IF(SISWA!E106=0,\"\",SISWA!E106)","v":""},null,null,null,null,null,{"$error":"#DIV/0!"},null,null,{"$error":"#DIV/0!"},null,{"$error":"#DIV/0!"}]
[100,{"$f":"IF(SISWA!B107=0,\"\",SISWA!B107)","v":""},{"$f":"IF(SISWA!C107=0,\"\",SISWA!C107)","v":""},{"$f":"IF(SISWA!D107=0,\"\",SISWA!D107)","v":""},{"$f":"IF(SISWA!E107=0,\"\",SISWA!E107)","v":""},null,null,null,null,null,{"$error":"#DIV/0!"},null,null,{"$error":"#DIV/0!"},null,{"$error":"#DIV/0!"}]
[101,{"$f":"IF(SISWA!B108=0,\"\",SISWA!B108)","v":""},{"$f":"IF(SISWA!C108=0,\"\",SISWA!C108)","v":""},{"$f":"IF(SISWA!D108=0,\"\",SISWA!D108)","v":""},{"$f":"IF(SISWA!E108=0,\"\",SISWA!E108)","v":""},null,null,null,null,null,{"$error":"#DIV/0!"},null,null,{"$error":"#DIV/0!"},null,{"$error":"#DIV/0!"}]

{"sheet":"BIG","index":15,"n_rows":207,"n_cols":16,"rows_kept":207,"cut":false,"hidden":false,"merged":[[4,14,6,14],[4,5,4,12],[0,0,0,9],[1,0,1,9],[2,0,2,9],[4,0,6,0],[4,1,6,1],[4,2,6,2],[4,3,6,3],[4,4,6,4],[5,5,5,9],[5,11,5,12]]}
["DAFTAR NILAI AKHIR SEKOLAH"]
[{"$f":"AA!A2","v":"MADRASAH IBTIDAIYAH NURUL ISLAM LABRUK KIDUL"}]
[{"$f":"AA!A3","v":"TAHUN PELAJARAN 2019/2020"}]
[]
["NO","No Induk","NISN","Nomor Peserta","Nama Peserta","BAHASA INGGRIS/MULOK 2",null,null,null,null,null,null,null,null,"rata-rata UAM & PRAKTEK"]
[null,null,null,null,null,"Nilai Semester",null,null,null,null,"Rata- 2","NILAI UAM",null,null,null,"UAMNU"]
[null,null,null,null,null,7,8,9,10,11,"Rapor","TULIS","PRAKTIK",null,null,"TULIS"]
[1,{"$f":"IF(SISWA!B8=0,\"\",SISWA!B8)","v":4331},{"$f":"IF(SISWA!C8=0,\"\",SISWA!C8)","v":"0078140536"},{"$f":"IF(SISWA!D8=0,\"\",SISWA!D8)","v":"1-18-05-80-162-001-8"},{"$f":"IF(SISWA!E8=0,\"\",SISWA!E8)","v":"ACHMAD FATHIR IZUDDIN"},null,70,70,90,81,{"$f":"AVERAGE(F8:J8)","v":77.75},92.5,{"$f":"AVERAGE(H8:L8)","v":82.25},{"$f":"AVERAGE(L8:M8)","v":87.375},{"$f":"AVERAGE(L8:M8)","v":87.375},87.375]
[2,{"$f":"IF(SISWA!B9=0,\"\",SISWA!B9)","v":4333},{"$f":"IF(SISWA!C9=0,\"\",SISWA!C9)","v":"0084691896"},{"$f":"IF(SISWA!D9=0,\"\",SISWA!D9)","v":"1-18-05-80-162-002-7"},{"$f":"IF(SISWA!E9=0,\"\",SISWA!E9)","v":"AININ NAFISA FEBRIYANTI"},null,70,72,95,84,{"$f":"AVERAGE(F9:J9)","v":80.25},60,78.25,{"$f":"AVERAGE(L9:M9)","v":69.125},{"$f":"AVERAGE(L9:M9)","v":69.125},69.125]
[3,{"$f":"IF(SISWA!B10=0,\"\",SISWA!B10)","v":4334},{"$f":"IF(SISWA!C10=0,\"\",SISWA!C10)","v":"0075488897"},{"$f":"IF(SISWA!D10=0,\"\",SISWA!D10)","v":"1-18-05-80-162-003-6"},{"$f":"IF(SISWA!E10=0,\"\",SISWA!E10)","v":"AISYAH DWI ANDINI"},null,70,85,95,82,83,72.5,83.5,78,78,78]
[4,{"$f":"IF(SISWA!B11=0,\"\",SISWA!B11)","v":4335},{"$f":"IF(SISWA!C11=0,\"\",SISWA!C11)","v":"0077554289"},{"$f":"IF(SISWA!D11=0,\"\",SISWA!D11)","v":"1-18-05-80-162-004-5"},{"$f":"IF(SISWA!E11=0,\"\",SISWA!E11)","v":"AJENG AGUSTINA KIRANA PUTRI"},null,70,71,75,82,74.5,67.5,74,70.75,70.75,70.75]
[5,{"$f":"IF(SISWA!B12=0,\"\",SISWA!B12)","v":4336},{"$f":"IF(SISWA!C12=0,\"\",SISWA!C12)","v":"0078831956"},{"$f":"IF(SISWA!D12=0,\"\",SISWA!D12)","v":"1-18-05-80-162-005-4"},{"$f":"IF(SISWA!E12=0,\"\",SISWA!E12)","v":"ALVIAN FAIZULHAQQI"},null,68,77,75,81,75.25,60,73.650000000000006,66.825000000000003,66.825000000000003,66.825000000000003]
[6,{"$f":"IF(SISWA!B13=0,\"\",SISWA!B13)","v":4337},{"$f":"IF(SISWA!C13=0,\"\",SISWA!C13)","v":"0073667130"},{"$f":"IF(SISWA!D13=0,\"\",SISWA!D13)","v":"1-18-05-80-162-006-3"},{"$f":"IF(SISWA!E13=0,\"\",SISWA!E13)","v":"ANGGITA RIZKY YUGA MEISYA"},null,70,80,79,86,78.75,72.5,79.25,75.875,75.875,75.875]
[7,{"$f":"IF(SISWA!B14=0,\"\",SISWA!B14)","v":4338},{"$f":"IF(SISWA!C14=0,\"\",SISWA!C14)","v":"0074492973"},{"$f":"IF(SISWA!D14=0,\"\",SISWA!D14)","v":"1-18-05-80-162-007-2"},{"$f":"IF(SISWA!E14=0,\"\",SISWA!E14)","v":"AURA SALSABILA WULAN SARI"},null,70,90,90,92,85.5,77.5,87,82.25,82.25,82.25]
[8,{"$f":"IF(SISWA!B15=0,\"\",SISWA!B15)","v":4366},{"$f":"IF(SISWA!C15=0,\"\",SISWA!C15)","v":"0078989673"},{"$f":"IF(SISWA!D15=0,\"\",SISWA!D15)","v":"1-18-05-80-162-008-9"},{"$f":"IF(SISWA!E15=0,\"\",SISWA!E15)","v":"BALQIS NAILA AUDIA"},null,70,83,80,85,79.5,92.5,84,88.25,88.25,88.25]
[9,{"$f":"IF(SISWA!B16=0,\"\",SISWA!B16)","v":4440},{"$f":"IF(SISWA!C16=0,\"\",SISWA!C16)","v":"0082763386"},{"$f":"IF(SISWA!D16=0,\"\",SISWA!D16)","v":"1-18-05-80-162-009-8"},{"$f":"IF(SISWA!E16=0,\"\",SISWA!E16)","v":"BIMA ARYO SUSILO"},null,80,87,90,99,89,95,92,93.5,93.5,93.5]
[10,{"$f":"IF(SISWA!B17=0,\"\",SISWA!B17)","v":4367},{"$f":"IF(SISWA!C17=0,\"\",SISWA!C17)","v":"0078400392"},{"$f":"IF(SISWA!D17=0,\"\",SISWA!D17)","v":"1-18-05-80-162-010-7"},{"$f":"IF(SISWA!E17=0,\"\",SISWA!E17)","v":"BIMA SATRIA DIRGANTARA"},null,63,82,76,83,76,60,75.400000000000006,67.7,67.7,67.7]
[11,{"$f":"IF(SISWA!B18=0,\"\",SISWA!B18)","v":4339},{"$f":"IF(SISWA!C18=0,\"\",SISWA!C18)","v":"0086652599"},{"$f":"IF(SISWA!D18=0,\"\",SISWA!D18)","v":"1-18-05-80-162-011-6"},{"$f":"IF(SISWA!E18=0,\"\",SISWA!E18)","v":"DEVI KARUNIA RATNA PUTRI"},null,70,81,79,82,78,72.5,78.5,75.5,75.5,75.5]
[12,{"$f":"IF(SISWA!B19=0,\"\",SISWA!B19)","v":4340},{"$f":"IF(SISWA!C19=0,\"\",SISWA!C19)","v":"0089906682"},{"$f":"IF(SISWA!D19=0,\"\",SISWA!D19)","v":"1-18-05-80-162-012-5"},{"$f":"IF(SISWA!E19=0,\"\",SISWA!E19)","v":"DEVITA FEBRIANI PUTRI"},null,70,79,90,81,80,70,80,75,75,75]
[13,{"$f":"IF(SISWA!B20=0,\"\",SISWA!B20)","v":4370},{"$f":"IF(SISWA!C20=0,\"\",SISWA!C20)","v":"0074514146"},{"$f":"IF(SISWA!D20=0,\"\",SISWA!D20)","v":"1-18-05-80-162-013-4"},{"$f":"IF(SISWA!E20=0,\"\",SISWA!E20)","v":"FAKHIS GABRIL LIA"},null,70,70,78,83,75.25,80,77.25,78.625,78.625,78.625]
[14,{"$f":"IF(SISWA!B21=0,\"\",SISWA!B21)","v":4342},{"$f":"IF(SISWA!C21=0,\"\",SISWA!C21)","v":"0081081672"},{"$f":"IF(SISWA!D21=0,\"\",SISWA!D21)","v":"1-18-05-80-162-014-3"},{"$f":"IF(SISWA!E21=0,\"\",SISWA!E21)","v":"FARAH NAILATUL ALYAH"},null,80,80,74,92,81.5,65,78.5,71.75,71.75,71.75]
[15,{"$f":"IF(SISWA!B22=0,\"\",SISWA!B22)","v":4345},{"$f":"IF(SISWA!C22=0,\"\",SISWA!C22)","v":"0073420487"},{"$f":"IF(SISWA!D22=0,\"\",SISWA!D22)","v":"1-18-05-80-162-015-2"},{"$f":"IF(SISWA!E22=0,\"\",SISWA!E22)","v":"GALANG MARDHOTILLAH SATOTO"},null,70,73,76,81,75,85,78,81.5,81.5,81.5]
[16,{"$f":"IF(SISWA!B23=0,\"\",SISWA!B23)","v":4371},{"$f":"IF(SISWA!C23=0,\"\",SISWA!C23)","v":"0079870082"},{"$f":"IF(SISWA!D23=0,\"\",SISWA!D23)","v":"1-18-05-80-162-016-9"},{"$f":"IF(SISWA!E23=0,\"\",SISWA!E23)","v":"GALIH FAREL PRASTYO"},null,63,80,76,81,75,60,74.400000000000006,67.2,67.2,67.2]
[17,{"$f":"IF(SISWA!B24=0,\"\",SISWA!B24)","v":4466},{"$f":"IF(SISWA!C24=0,\"\",SISWA!C24)","v":"0081629504"},{"$f":"IF(SISWA!D24=0,\"\",SISWA!D24)","v":"1-18-05-80-162-017-8"},{"$f":"IF(SISWA!E24=0,\"\",SISWA!E24)","v":"HIBATULLAH MUSTAGHFIRY RUSLI"},null,80,84,74,94,83,98,86.6,92.3,92.3,92.3]
[18,{"$f":"IF(SISWA!B25=0,\"\",SISWA!B25)","v":4346},{"$f":"IF(SISWA!C25=0,\"\",SISWA!C25)","v":"0073608418"},{"$f":"IF(SISWA!D25=0,\"\",SISWA!D25)","v":"1-18-05-80-162-018-7"},{"$f":"IF(SISWA!E25=0,\"\",SISWA!E25)","v":"IKA KURNIA WATI AGUSTINA"},null,70,72,75,81,74.5,60,72.5,66.25,66.25,66.25]
[19,{"$f":"IF(SISWA!B26=0,\"\",SISWA!B26)","v":4350},{"$f":"IF(SISWA!C26=0,\"\",SISWA!C26)","v":"0072658586"},{"$f":"IF(SISWA!D26=0,\"\",SISWA!D26)","v":"1-18-05-80-162-019-6"},{"$f":"IF(SISWA!E26=0,\"\",SISWA!E26)","v":"MAYLUNA EKA PRATIWI"},null,70,81,80,86,79.25,60,77.25,68.625,68.625,68.625]
[20,{"$f":"IF(SISWA!B27=0,\"\",SISWA!B27)","v":4353},{"$f":"IF(SISWA!C27=0,\"\",SISWA!C27)","v":"0075464137"},{"$f":"IF(SISWA!D27=0,\"\",SISWA!D27)","v":"1-18-05-80-162-020-5"},{"$f":"IF(SISWA!E27=0,\"\",SISWA!E27)","v":"MOHAMAD DWIMAS FIRDAUS"},null,70,88,80,88,81.5,85,84.5,84.75,84.75,84.75]
[21,{"$f":"IF(SISWA!B28=0,\"\",SISWA!B28)","v":4375},{"$f":"IF(SISWA!C28=0,\"\",SISWA!C28)","v":"0075096831"},{"$f":"IF(SISWA!D28=0,\"\",SISWA!D28)","v":"1-18-05-80-162-021-4"},{"$f":"IF(SISWA!E28=0,\"\",SISWA!E28)","v":"MUHAMMAD AFFAN ABI SYAHPUTRA"},null,70,71,90,81,78,60,76,68,68,68]
[22,{"$f":"IF(SISWA!B29=0,\"\",SISWA!B29)","v":4354},{"$f":"IF(SISWA!C29=0,\"\",SISWA!C29)","v":"0075055640"},{"$f":"IF(SISWA!D29=0,\"\",SISWA!D29)","v":"1-18-05-80-162-022-3"},{"$f":"IF(SISWA!E29=0,\"\",SISWA!E29)","v":"MUHAMMAD ALVIN RIDHO"},null,68,77,78,81,76,85,79.400000000000006,82.2,82.2,82.2]
[23,{"$f":"IF(SISWA!B30=0,\"\",SISWA!B30)","v":4378},{"$f":"IF(SISWA!C30=0,\"\",SISWA!C30)","v":"0074268893"},{"$f":"IF(SISWA!D30=0,\"\",SISWA!D30)","v":"1-18-05-80-162-023-2"},{"$f":"IF(SISWA!E30=0,\"\",SISWA!E30)","v":"MUKHAMAD DAVID ARIF FIRDAUS"},null,70,87,80,88,81.25,70,81.25,75.625,75.625,75.625]
[24,{"$f":"IF(SISWA!B31=0,\"\",SISWA!B31)","v":4379},{"$f":"IF(SISWA!C31=0,\"\",SISWA!C31)","v":"0072757203"},{"$f":"IF(SISWA!D31=0,\"\",SISWA!D31)","v":"1-18-05-80-162-024-9"},{"$f":"IF(SISWA!E31=0,\"\",SISWA!E31)","v":"NAORA ISQI AINAYYA"},null,80,81,78,87,81.5,92.5,84,88.25,88.25,88.25]
[25,{"$f":"IF(SISWA!B32=0,\"\",SISWA!B32)","v":4380},{"$f":"IF(SISWA!C32=0,\"\",SISWA!C32)","v":"0079026285"},{"$f":"IF(SISWA!D32=0,\"\",SISWA!D32)","v":"1-18-05-80-162-025-8"},{"$f":"IF(SISWA!E32=0,\"\",SISWA!E32)","v":"NAZRA ISLAMAY PASHA"},null,70,81,78,88,79.25,98,84.85,91.424999999999997,91.424999999999997,91.424999999999997]
[26,{"$f":"IF(SISWA!B33=0,\"\",SISWA!B33)","v":4382},{"$f":"IF(SISWA!C33=0,\"\",SISWA!C33)","v":"0079872151"},{"$f":"IF(SISWA!D33=0,\"\",SISWA!D33)","v":"1-18-05-80-162-026-7"},{"$f":"IF(SISWA!E33=0,\"\",SISWA!E33)","v":"NUR ALYA NABILA"},null,70,80,76,81,76.75,75,77.75,76.375,76.375,76.375]
[27,{"$f":"IF(SISWA!B34=0,\"\",SISWA!B34)","v":4358},{"$f":"IF(SISWA!C34=0,\"\",SISWA!C34)","v":"0087558837"},{"$f":"IF(SISWA!D34=0,\"\",SISWA!D34)","v":"1-18-05-80-162-027-6"},{"$f":"IF(SISWA!E34=0,\"\",SISWA!E34)","v":"PUTRI SHOLIKHAH"},null,80,79,80,81,80,85,81,83,83,83]
[28,{"$f":"IF(SISWA!B35=0,\"\",SISWA!B35)","v":4384},{"$f":"IF(SISWA!C35=0,\"\",SISWA!C35)","v":"0071234523"},{"$f":"IF(SISWA!D35=0,\"\",SISWA!D35)","v":"1-18-05-80-162-028-5"},{"$f":"IF(SISWA!E35=0,\"\",SISWA!E35)","v":"RESTI FITRIANTI DWI OCTAVIANI"},null,70,81,78,81,77.5,60,75.5,67.75,67.75,67.75]
[29,{"$f":"IF(SISWA!B36=0,\"\",SISWA!B36)","v":4359},{"$f":"IF(SISWA!C36=0,\"\",SISWA!C36)","v":"0073122181"},{"$f":"IF(SISWA!D36=0,\"\",SISWA!D36)","v":"1-18-05-80-162-029-4"},{"$f":"IF(SISWA!E36=0,\"\",SISWA!E36)","v":"ROUDHOTUS SA'DIYAH"},null,70,80,80,87,79.25,80,81.25,80.625,80.625,80.625]
[30,{"$f":"IF(SISWA!B37=0,\"\",SISWA!B37)","v":4386},{"$f":"IF(SISWA!C37=0,\"\",SISWA!C37)","v":"0075344352"},{"$f":"IF(SISWA!D37=0,\"\",SISWA!D37)","v":"1-18-05-80-162-030-3"},{"$f":"IF(SISWA!E37=0,\"\",SISWA!E37)","v":"TIERSYA BETA RAMANUZAN"},null,70,80,80,83,78.25,85,81.25,83.125,83.125,83.125]
[31,{"$f":"IF(SISWA!B38=0,\"\",SISWA!B38)","v":4388},{"$f":"IF(SISWA!C38=0,\"\",SISWA!C38)","v":"0077423646"},{"$f":"IF(SISWA!D38=0,\"\",SISWA!D38)","v":"1-18-05-80-162-031-2"},{"$f":"IF(SISWA!E38=0,\"\",SISWA!E38)","v":"VERA MUSTIKA"},null,70,80,80,81,77.75,60,75.75,67.875,67.875,67.875]
[32,{"$f":"IF(SISWA!B39=0,\"\",SISWA!B39)","v":4360},{"$f":"IF(SISWA!C39=0,\"\",SISWA!C39)","v":"0077290990"},{"$f":"IF(SISWA!D39=0,\"\",SISWA!D39)","v":"1-18-05-80-162-032-9"},{"$f":"IF(SISWA!E39=0,\"\",SISWA!E39)","v":"ZIDNY ILMA NABILA"},null,70,80,79,87,79,72.5,79.5,76,76,76]
[33,{"$f":"IF(SISWA!B40=0,\"\",SISWA!B40)","v":4390},{"$f":"IF(SISWA!C40=0,\"\",SISWA!C40)","v":"0077722307"},{"$f":"IF(SISWA!D40=0,\"\",SISWA!D40)","v":"1-18-05-80-162-033-8"},{"$f":"IF(SISWA!E40=0,\"\",SISWA!E40)","v":"ZITNATUL AULIA ILLA"},null,80,83,90,92,86.25,90,88.25,89.125,89.125,89.125]
[34,{"$f":"IF(SISWA!B41=0,\"\",SISWA!B41)","v":4330},{"$f":"IF(SISWA!C41=0,\"\",SISWA!C41)","v":"0084736422"},{"$f":"IF(SISWA!D41=0,\"\",SISWA!D41)","v":"1-18-05-80-162-034-7"},{"$f":"IF(SISWA!E41=0,\"\",SISWA!E41)","v":"ACHID ATHIRIL ARDAN"},null,65,70,83,81,74.75,60,73.75,66.875,66.875,66.166666666666657]
[35,{"$f":"IF(SISWA!B42=0,\"\",SISWA!B42)","v":4361},{"$f":"IF(SISWA!C42=0,\"\",SISWA!C42)","v":"0075656390"},{"$f":"IF(SISWA!D42=0,\"\",SISWA!D42)","v":"1-18-05-80-162-035-6"},{"$f":"IF(SISWA!E42=0,\"\",SISWA!E42)","v":"ACHMAD SEPTIAN HAMDANI"},null,68,80,83,93,81,95,86.4,90.7,90.7,89.75]
[36,{"$f":"IF(SISWA!B43=0,\"\",SISWA!B43)","v":4362},{"$f":"IF(SISWA!C43=0,\"\",SISWA!C43)","v":"0071796138"},{"$f":"IF(SISWA!D43=0,\"\",SISWA!D43)","v":"1-18-05-80-162-036-5"},{"$f":"IF(SISWA!E43=0,\"\",SISWA!E43)","v":"ACHMAD SULAIMAN"},null,70,70,83,81,76,75,77,76,76,76.583333333333343]
[37,{"$f":"IF(SISWA!B44=0,\"\",SISWA!B44)","v":4364},{"$f":"IF(SISWA!C44=0,\"\",SISWA!C44)","v":"0079667684"},{"$f":"IF(SISWA!D44=0,\"\",SISWA!D44)","v":"1-18-05-80-162-037-4"},{"$f":"IF(SISWA!E44=0,\"\",SISWA!E44)","v":"AIRLANGGA DWIKA RIZQI"},null,70,83,85,94,83,92.5,87.5,90,90,88.75]
[38,{"$f":"IF(SISWA!B45=0,\"\",SISWA!B45)","v":4365},{"$f":"IF(SISWA!C45=0,\"\",SISWA!C45)","v":"0089321127"},{"$f":"IF(SISWA!D45=0,\"\",SISWA!D45)","v":"1-18-05-80-162-038-3"},{"$f":"IF(SISWA!E45=0,\"\",SISWA!E45)","v":"AUFAN AZKAL ABRORI"},null,70,82,83,81,79,60,77,68.5,68.5,66.583333333333343]
[39,{"$f":"IF(SISWA!B46=0,\"\",SISWA!B46)","v":4465},{"$f":"IF(SISWA!C46=0,\"\",SISWA!C46)","v":"0071776593"},{"$f":"IF(SISWA!D46=0,\"\",SISWA!D46)","v":"1-18-05-80-162-039-2"},{"$f":"IF(SISWA!E46=0,\"\",SISWA!E46)","v":"AZZA PRISHAL DWI PUTRA"},null,60,80,82,83,76.25,60,76.25,68.125,68.125,65.5]
[40,{"$f":"IF(SISWA!B47=0,\"\",SISWA!B47)","v":4368},{"$f":"IF(SISWA!C47=0,\"\",SISWA!C47)","v":"0074569410"},{"$f":"IF(SISWA!D47=0,\"\",SISWA!D47)","v":"1-18-05-80-162-040-9"},{"$f":"IF(SISWA!E47=0,\"\",SISWA!E47)","v":"EKA AULIYA` PUTRI"},null,70,70,87,87,78.5,60,76.5,68.25,68.25,67.583333333333343]
[41,{"$f":"IF(SISWA!B48=0,\"\",SISWA!B48)","v":4341},{"$f":"IF(SISWA!C48=0,\"\",SISWA!C48)","v":"0083684457"},{"$f":"IF(SISWA!D48=0,\"\",SISWA!D48)","v":"1-18-05-80-162-041-8"},{"$f":"IF(SISWA!E48=0,\"\",SISWA!E48)","v":"ERSA PUSPITA EKA ROSA LINDA"},null,68,81,82,82,78.25,60,76.650000000000006,68.325000000000003,68.325000000000003,66.166666666666657]
[42,{"$f":"IF(SISWA!B49=0,\"\",SISWA!B49)","v":4369},{"$f":"IF(SISWA!C49=0,\"\",SISWA!C49)","v":"0078481731"},{"$f":"IF(SISWA!D49=0,\"\",SISWA!D49)","v":"1-18-05-80-162-042-7"},{"$f":"IF(SISWA!E49=0,\"\",SISWA!E49)","v":"FABIYAN TRI BAKTI OKTAFIAN"},null,70,70,82,81,75.75,60,73.75,66.875,66.875,66.333333333333343]
[43,{"$f":"IF(SISWA!B50=0,\"\",SISWA!B50)","v":4343},{"$f":"IF(SISWA!C50=0,\"\",SISWA!C50)","v":3075965396},{"$f":"IF(SISWA!D50=0,\"\",SISWA!D50)","v":"1-18-05-80-162-043-6"},{"$f":"IF(SISWA!E50=0,\"\",SISWA!E50)","v":"FELISITA APRILIA NUR NIHAYA"},null,63,81,84,85,78.25,60,77.650000000000006,68.825000000000003,68.825000000000003,66.25]
[44,{"$f":"IF(SISWA!B51=0,\"\",SISWA!B51)","v":4344},{"$f":"IF(SISWA!C51=0,\"\",SISWA!C51)","v":3078948093},{"$f":"IF(SISWA!D51=0,\"\",SISWA!D51)","v":"1-18-05-80-162-044-5"},{"$f":"IF(SISWA!E51=0,\"\",SISWA!E51)","v":"FIRDA DWI ANDRIANI"},null,70,70,84,82,76.5,60,74.5,67.25,67.25,66.833333333333343]
[45,{"$f":"IF(SISWA!B52=0,\"\",SISWA!B52)","v":4372},{"$f":"IF(SISWA!C52=0,\"\",SISWA!C52)","v":"0087636520"},{"$f":"IF(SISWA!D52=0,\"\",SISWA!D52)","v":"1-18-05-80-162-045-4"},{"$f":"IF(SISWA!E52=0,\"\",SISWA!E52)","v":"GILANG AKBAR PRASETYO"},null,70,70,84,92,79,77.5,80.5,79,79,78.5]
[46,{"$f":"IF(SISWA!B53=0,\"\",SISWA!B53)","v":4373},{"$f":"IF(SISWA!C53=0,\"\",SISWA!C53)","v":"0087373224"},{"$f":"IF(SISWA!D53=0,\"\",SISWA!D53)","v":"1-18-05-80-162-046-3"},{"$f":"IF(SISWA!E53=0,\"\",SISWA!E53)","v":"IFTAH IZZAH EMILIA  MAHMUD"},null,6,70,84,81,60.25,60,71.05,65.525000000000006,65.525000000000006,61.5]
[47,{"$f":"IF(SISWA!B54=0,\"\",SISWA!B54)","v":4441},{"$f":"IF(SISWA!C54=0,\"\",SISWA!C54)","v":"0081758949"},{"$f":"IF(SISWA!D54=0,\"\",SISWA!D54)","v":"1-18-05-80-162-047-2"},{"$f":"IF(SISWA!E54=0,\"\",SISWA!E54)","v":"INES ARIFANI MAULINA"},null,63,75,84,85,76.75,77.5,79.650000000000006,78.575000000000003,78.575000000000003,77.916666666666657]
[48,{"$f":"IF(SISWA!B55=0,\"\",SISWA!B55)","v":4374},{"$f":"IF(SISWA!C55=0,\"\",SISWA!C55)","v":"0073409469"},{"$f":"IF(SISWA!D55=0,\"\",SISWA!D55)","v":"1-18-05-80-162-048-9"},{"$f":"IF(SISWA!E55=0,\"\",SISWA!E55)","v":"IYAAD AFLAKHA RAMZII"},null,70,70,84,82,76.5,60,74.5,67.25,67.25,66.833333333333343]
[49,{"$f":"IF(SISWA!B56=0,\"\",SISWA!B56)","v":4305},{"$f":"IF(SISWA!C56=0,\"\",SISWA!C56)","v":"0068258891"},{"$f":"IF(SISWA!D56=0,\"\",SISWA!D56)","v":"1-18-05-80-162-049-8"},{"$f":"IF(SISWA!E56=0,\"\",SISWA!E56)","v":"JULI ANDRIYANTO"},null,60,81,82,81,76,60,76,68,68,65.5]
[50,{"$f":"IF(SISWA!B57=0,\"\",SISWA!B57)","v":4347},{"$f":"IF(SISWA!C57=0,\"\",SISWA!C57)","v":"0076367763"},{"$f":"IF(SISWA!D57=0,\"\",SISWA!D57)","v":"1-18-05-80-162-050-7"},{"$f":"IF(SISWA!E57=0,\"\",SISWA!E57)","v":"LIYA FEBRIYANI"},null,70,80,89,84,80.75,60,78.75,69.375,69.375,68.083333333333343]
[51,{"$f":"IF(SISWA!B58=0,\"\",SISWA!B58)","v":4348},{"$f":"IF(SISWA!C58=0,\"\",SISWA!C58)","v":"0083034332"},{"$f":"IF(SISWA!D58=0,\"\",SISWA!D58)","v":"1-18-05-80-162-051-6"},{"$f":"IF(SISWA!E58=0,\"\",SISWA!E58)","v":"LIZATUL CHAIYUNI"},null,70,70,88,83,77.75,60,75.75,{"$f":"AVERAGE(L58:M58)","v":67.875},67.875,67.833333333333343]
[52,{"$f":"IF(SISWA!B59=0,\"\",SISWA!B59)","v":4531},{"$f":"IF(SISWA!C59=0,\"\",SISWA!C59)","v":3099539154},{"$f":"IF(SISWA!D59=0,\"\",SISWA!D59)","v":"1-18-05-80-162-052-5"},{"$f":"IF(SISWA!E59=0,\"\",SISWA!E59)","v":"M. ALHAFIS"},null,64,80,82,82,77,60,76.2,68.099999999999994,68.099999999999994,65.833333333333343]
[53,{"$f":"IF(SISWA!B60=0,\"\",SISWA!B60)","v":4530},{"$f":"IF(SISWA!C60=0,\"\",SISWA!C60)","v":"0077015789"},{"$f":"IF(SISWA!D60=0,\"\",SISWA!D60)","v":"1-18-05-80-162-053-4"},{"$f":"IF(SISWA!E60=0,\"\",SISWA!E60)","v":"MUHAMMAD RIZKI RIDWAN"},null,60,70,83,81,73.5,67.5,75,71.25,71.25,70.75]
[54,{"$f":"IF(SISWA!B61=0,\"\",SISWA!B61)","v":4351},{"$f":"IF(SISWA!C61=0,\"\",SISWA!C61)","v":"0076361559"},{"$f":"IF(SISWA!D61=0,\"\",SISWA!D61)","v":"1-18-05-80-162-054-3"},{"$f":"IF(SISWA!E61=0,\"\",SISWA!E61)","v":"MOCHAMAD RAFLI DIAN SAPUTRA"},null,60,70,84,81,73.75,60,73.75,66.875,66.875,66]
[55,{"$f":"IF(SISWA!B62=0,\"\",SISWA!B62)","v":4352},{"$f":"IF(SISWA!C62=0,\"\",SISWA!C62)","v":"0075591405"},{"$f":"IF(SISWA!D62=0,\"\",SISWA!D62)","v":"1-18-05-80-162-055-2"},{"$f":"IF(SISWA!E62=0,\"\",SISWA!E62)","v":"MOCHAMMAD AFAREL PUTRA RAMDHANA"},null,70,70,82,83,76.25,60,74.25,67.125,67.125,66.333333333333343]
[56,{"$f":"IF(SISWA!B63=0,\"\",SISWA!B63)","v":4355},{"$f":"IF(SISWA!C63=0,\"\",SISWA!C63)","v":"0075363258"},{"$f":"IF(SISWA!D63=0,\"\",SISWA!D63)","v":"1-18-05-80-162-056-9"},{"$f":"IF(SISWA!E63=0,\"\",SISWA!E63)","v":"MUHAMAD JEFRI MAULANA"},null,65,70,82,89,76.5,60,75.5,67.75,67.75,65.916666666666657]
[57,{"$f":"IF(SISWA!B64=0,\"\",SISWA!B64)","v":4376},{"$f":"IF(SISWA!C64=0,\"\",SISWA!C64)","v":"0072066741"},{"$f":"IF(SISWA!D64=0,\"\",SISWA!D64)","v":"1-18-05-80-162-057-8"},{"$f":"IF(SISWA!E64=0,\"\",SISWA!E64)","v":"MUHAMMAD DWI WILDAN BAGUS KURNIAWAN"},null,70,70,82,81,75.75,60,73.75,66.875,66.875,66.333333333333343]
[58,{"$f":"IF(SISWA!B65=0,\"\",SISWA!B65)","v":4377},{"$f":"IF(SISWA!C65=0,\"\",SISWA!C65)","v":"0071459044"},{"$f":"IF(SISWA!D65=0,\"\",SISWA!D65)","v":"1-18-05-80-162-058-7"},{"$f":"IF(SISWA!E65=0,\"\",SISWA!E65)","v":"MUHAMMAD FARIL FIRMANSYA"},null,70,70,82,85,76.75,60,74.75,67.375,67.375,66.333333333333343]
[59,{"$f":"IF(SISWA!B66=0,\"\",SISWA!B66)","v":4349},{"$f":"IF(SISWA!C66=0,\"\",SISWA!C66)","v":"0074206034"},{"$f":"IF(SISWA!D66=0,\"\",SISWA!D66)","v":"1-18-05-80-162-059-6"},{"$f":"IF(SISWA!E66=0,\"\",SISWA!E66)","v":"MUHAMMAD FARIZ UBAIDILLA"},null,70,80,82,82,78.5,82.5,81,81.75,81.75,81.333333333333343]
[60,{"$f":"IF(SISWA!B67=0,\"\",SISWA!B67)","v":4356},{"$f":"IF(SISWA!C67=0,\"\",SISWA!C67)","v":"0077937892"},{"$f":"IF(SISWA!D67=0,\"\",SISWA!D67)","v":"1-18-05-80-162-060-5"},{"$f":"IF(SISWA!E67=0,\"\",SISWA!E67)","v":"MUHAMMAD MAULANA ZIDANIL ILMI"},null,70,70,87,83,77.5,70,77.5,73.75,73.75,74.25]
[61,{"$f":"IF(SISWA!B68=0,\"\",SISWA!B68)","v":4357},{"$f":"IF(SISWA!C68=0,\"\",SISWA!C68)","v":"0078608527"},{"$f":"IF(SISWA!D68=0,\"\",SISWA!D68)","v":"1-18-05-80-162-061-4"},{"$f":"IF(SISWA!E68=0,\"\",SISWA!E68)","v":"MUHAMMAD SUTRISNO ISMAIL"},null,64,70,83,83,{"$f":"AVERAGE(F68:J68)","v":75},60,74.2,67.099999999999994,67.099999999999994,66.083333333333343]
[62,{"$f":"IF(SISWA!B69=0,\"\",SISWA!B69)","v":4381},{"$f":"IF(SISWA!C69=0,\"\",SISWA!C69)","v":"0072209435"},{"$f":"IF(SISWA!D69=0,\"\",SISWA!D69)","v":"1-18-05-80-162-062-3"},{"$f":"IF(SISWA!E69=0,\"\",SISWA!E69)","v":"NOVITA ERNIAWAN"},null,80,70,85,82,79.25,70,77.25,73.625,73.625,74.583333333333343]
[63,{"$f":"IF(SISWA!B70=0,\"\",SISWA!B70)","v":4383},{"$f":"IF(SISWA!C70=0,\"\",SISWA!C70)","v":"0077439834"},{"$f":"IF(SISWA!D70=0,\"\",SISWA!D70)","v":"1-18-05-80-162-063-2"},{"$f":"IF(SISWA!E70=0,\"\",SISWA!E70)","v":"PUTRI AULIA DWI AGUSTIN"},null,80,80,89,82,82.75,70,80.75,75.375,75.375,75.583333333333343]
[64,{"$f":"IF(SISWA!B71=0,\"\",SISWA!B71)","v":4385},{"$f":"IF(SISWA!C71=0,\"\",SISWA!C71)","v":"0073137310"},{"$f":"IF(SISWA!D71=0,\"\",SISWA!D71)","v":"1-18-05-80-162-064-9"},{"$f":"IF(SISWA!E71=0,\"\",SISWA!E71)","v":"STANY RAFIDAH RAHMANIA"},null,70,70,82,82,76,60,74,67,67,66.333333333333343]
[65,{"$f":"IF(SISWA!B72=0,\"\",SISWA!B72)","v":4387},{"$f":"IF(SISWA!C72=0,\"\",SISWA!C72)","v":"0077336427"},{"$f":"IF(SISWA!D72=0,\"\",SISWA!D72)","v":"1-18-05-80-162-065-8"},{"$f":"IF(SISWA!E72=0,\"\",SISWA!E72)","v":"USWATUN KHASANAH"},null,70,70,82,82,76,60,74,67,67,66.333333333333343]
[66,{"$f":"IF(SISWA!B73=0,\"\",SISWA!B73)","v":4389},{"$f":"IF(SISWA!C73=0,\"\",SISWA!C73)","v":"0078407631"},{"$f":"IF(SISWA!D73=0,\"\",SISWA!D73)","v":"1-18-05-80-162-066-7"},{"$f":"IF(SISWA!E73=0,\"\",SISWA!E73)","v":"VIKROUL KHAMILA"},null,80,70,82,82,78.5,60,74.5,67.25,{"$f":"AVERAGE(L73:M73)","v":67.25},67.166666666666657]
[67,{"$f":"IF(SISWA!B74=0,\"\",SISWA!B74)","v":""},{"$f":"IF(SISWA!C74=0,\"\",SISWA!C74)","v":""},{"$f":"IF(SISWA!D74=0,\"\",SISWA!D74)","v":""},{"$f":"IF(SISWA!E74=0,\"\",SISWA!E74)","v":""},null,null,null,null,null,{"$error":"#DIV/0!"},null,null,{"$error":"#DIV/0!"},{"$error":"#DIV/0!"},{"$error":"#DIV/0!"}]
[68,{"$f":"IF(SISWA!B75=0,\"\",SISWA!B75)","v":""},{"$f":"IF(SISWA!C75=0,\"\",SISWA!C75)","v":""},{"$f":"IF(SISWA!D75=0,\"\",SISWA!D75)","v":""},{"$f":"IF(SISWA!E75=0,\"\",SISWA!E75)","v":""},null,null,null,null,null,{"$error":"#DIV/0!"},null,null,{"$error":"#DIV/0!"},{"$error":"#DIV/0!"},{"$error":"#DIV/0!"}]
[69,{"$f":"IF(SISWA!B76=0,\"\",SISWA!B76)","v":""},{"$f":"IF(SISWA!C76=0,\"\",SISWA!C76)","v":""},{"$f":"IF(SISWA!D76=0,\"\",SISWA!D76)","v":""},{"$f":"IF(SISWA!E76=0,\"\",SISWA!E76)","v":""},null,null,null,null,null,{"$error":"#DIV/0!"},null,null,{"$error":"#DIV/0!"},{"$error":"#DIV/0!"},{"$error":"#DIV/0!"}]
[70,{"$f":"IF(SISWA!B77=0,\"\",SISWA!B77)","v":""},{"$f":"IF(SISWA!C77=0,\"\",SISWA!C77)","v":""},{"$f":"IF(SISWA!D77=0,\"\",SISWA!D77)","v":""},{"$f":"IF(SISWA!E77=0,\"\",SISWA!E77)","v":""},null,null,null,null,null,{"$error":"#DIV/0!"},null,null,{"$error":"#DIV/0!"},{"$error":"#DIV/0!"},{"$error":"#DIV/0!"}]
[71,{"$f":"IF(SISWA!B78=0,\"\",SISWA!B78)","v":""},{"$f":"IF(SISWA!C78=0,\"\",SISWA!C78)","v":""},{"$f":"IF(SISWA!D78=0,\"\",SISWA!D78)","v":""},{"$f":"IF(SISWA!E78=0,\"\",SISWA!E78)","v":""},null,null,null,null,null,{"$error":"#DIV/0!"},null,null,{"$error":"#DIV/0!"},{"$error":"#DIV/0!"},{"$error":"#DIV/0!"}]
[72,{"$f":"IF(SISWA!B79=0,\"\",SISWA!B79)","v":""},{"$f":"IF(SISWA!C79=0,\"\",SISWA!C79)","v":""},{"$f":"IF(SISWA!D79=0,\"\",SISWA!D79)","v":""},{"$f":"IF(SISWA!E79=0,\"\",SISWA!E79)","v":""},null,null,null,null,null,{"$error":"#DIV/0!"},null,null,{"$error":"#DIV/0!"},{"$error":"#DIV/0!"},{"$error":"#DIV/0!"}]
[73,{"$f":"IF(SISWA!B80=0,\"\",SISWA!B80)","v":""},{"$f":"IF(SISWA!C80=0,\"\",SISWA!C80)","v":""},{"$f":"IF(SISWA!D80=0,\"\",SISWA!D80)","v":""},{"$f":"IF(SISWA!E80=0,\"\",SISWA!E80)","v":""},null,null,null,null,null,{"$error":"#DIV/0!"},null,null,{"$error":"#DIV/0!"},{"$error":"#DIV/0!"},{"$error":"#DIV/0!"}]
[74,{"$f":"IF(SISWA!B81=0,\"\",SISWA!B81)","v":""},{"$f":"IF(SISWA!C81=0,\"\",SISWA!C81)","v":""},{"$f":"IF(SISWA!D81=0,\"\",SISWA!D81)","v":""},{"$f":"IF(SISWA!E81=0,\"\",SISWA!E81)","v":""},null,null,null,null,null,{"$error":"#DIV/0!"},null,null,{"$error":"#DIV/0!"},{"$error":"#DIV/0!"},{"$error":"#DIV/0!"}]
[75,{"$f":"IF(SISWA!B82=0,\"\",SISWA!B82)","v":""},{"$f":"IF(SISWA!C82=0,\"\",SISWA!C82)","v":""},{"$f":"IF(SISWA!D82=0,\"\",SISWA!D82)","v":""},{"$f":"IF(SISWA!E82=0,\"\",SISWA!E82)","v":""},null,null,null,null,null,{"$error":"#DIV/0!"},null,null,{"$error":"#DIV/0!"},{"$error":"#DIV/0!"},{"$error":"#DIV/0!"}]
[76,{"$f":"IF(SISWA!B83=0,\"\",SISWA!B83)","v":""},{"$f":"IF(SISWA!C83=0,\"\",SISWA!C83)","v":""},{"$f":"IF(SISWA!D83=0,\"\",SISWA!D83)","v":""},{"$f":"IF(SISWA!E83=0,\"\",SISWA!E83)","v":""},null,null,null,null,null,{"$error":"#DIV/0!"},null,null,{"$error":"#DIV/0!"},{"$error":"#DIV/0!"},{"$error":"#DIV/0!"}]
[77,{"$f":"IF(SISWA!B84=0,\"\",SISWA!B84)","v":""},{"$f":"IF(SISWA!C84=0,\"\",SISWA!C84)","v":""},{"$f":"IF(SISWA!D84=0,\"\",SISWA!D84)","v":""},{"$f":"IF(SISWA!E84=0,\"\",SISWA!E84)","v":""},null,null,null,null,null,{"$error":"#DIV/0!"},null,null,{"$error":"#DIV/0!"},{"$error":"#DIV/0!"},{"$error":"#DIV/0!"}]
[78,{"$f":"IF(SISWA!B85=0,\"\",SISWA!B85)","v":""},{"$f":"IF(SISWA!C85=0,\"\",SISWA!C85)","v":""},{"$f":"IF(SISWA!D85=0,\"\",SISWA!D85)","v":""},{"$f":"IF(SISWA!E85=0,\"\",SISWA!E85)","v":""},null,null,null,null,null,{"$error":"#DIV/0!"},null,null,{"$error":"#DIV/0!"},{"$error":"#DIV/0!"},{"$error":"#DIV/0!"}]
[79,{"$f":"IF(SISWA!B86=0,\"\",SISWA!B86)","v":""},{"$f":"IF(SISWA!C86=0,\"\",SISWA!C86)","v":""},{"$f":"IF(SISWA!D86=0,\"\",SISWA!D86)","v":""},{"$f":"IF(SISWA!E86=0,\"\",SISWA!E86)","v":""},null,null,null,null,null,{"$error":"#DIV/0!"},null,null,{"$error":"#DIV/0!"},{"$error":"#DIV/0!"},{"$error":"#DIV/0!"}]
[80,{"$f":"IF(SISWA!B87=0,\"\",SISWA!B87)","v":""},{"$f":"IF(SISWA!C87=0,\"\",SISWA!C87)","v":""},{"$f":"IF(SISWA!D87=0,\"\",SISWA!D87)","v":""},{"$f":"IF(SISWA!E87=0,\"\",SISWA!E87)","v":""},null,null,null,null,null,{"$error":"#DIV/0!"},null,null,{"$error":"#DIV/0!"},{"$error":"#DIV/0!"},{"$error":"#DIV/0!"}]
[81,{"$f":"IF(SISWA!B88=0,\"\",SISWA!B88)","v":""},{"$f":"IF(SISWA!C88=0,\"\",SISWA!C88)","v":""},{"$f":"IF(SISWA!D88=0,\"\",SISWA!D88)","v":""},{"$f":"IF(SISWA!E88=0,\"\",SISWA!E88)","v":""},null,null,null,null,null,{"$error":"#DIV/0!"},null,null,{"$error":"#DIV/0!"},{"$error":"#DIV/0!"},{"$error":"#DIV/0!"}]
[82,{"$f":"IF(SISWA!B89=0,\"\",SISWA!B89)","v":""},{"$f":"IF(SISWA!C89=0,\"\",SISWA!C89)","v":""},{"$f":"IF(SISWA!D89=0,\"\",SISWA!D89)","v":""},{"$f":"IF(SISWA!E89=0,\"\",SISWA!E89)","v":""},null,null,null,null,null,{"$error":"#DIV/0!"},null,null,{"$error":"#DIV/0!"},{"$error":"#DIV/0!"},{"$error":"#DIV/0!"}]
[83,{"$f":"IF(SISWA!B90=0,\"\",SISWA!B90)","v":""},{"$f":"IF(SISWA!C90=0,\"\",SISWA!C90)","v":""},{"$f":"IF(SISWA!D90=0,\"\",SISWA!D90)","v":""},{"$f":"IF(SISWA!E90=0,\"\",SISWA!E90)","v":""},null,null,null,null,null,{"$error":"#DIV/0!"},null,null,{"$error":"#DIV/0!"},{"$error":"#DIV/0!"},{"$error":"#DIV/0!"}]
[84,{"$f":"IF(SISWA!B91=0,\"\",SISWA!B91)","v":""},{"$f":"IF(SISWA!C91=0,\"\",SISWA!C91)","v":""},{"$f":"IF(SISWA!D91=0,\"\",SISWA!D91)","v":""},{"$f":"IF(SISWA!E91=0,\"\",SISWA!E91)","v":""},null,null,null,null,null,{"$error":"#DIV/0!"},null,null,{"$error":"#DIV/0!"},{"$error":"#DIV/0!"},{"$error":"#DIV/0!"}]
[85,{"$f":"IF(SISWA!B92=0,\"\",SISWA!B92)","v":""},{"$f":"IF(SISWA!C92=0,\"\",SISWA!C92)","v":""},{"$f":"IF(SISWA!D92=0,\"\",SISWA!D92)","v":""},{"$f":"IF(SISWA!E92=0,\"\",SISWA!E92)","v":""},null,null,null,null,null,{"$error":"#DIV/0!"},null,null,{"$error":"#DIV/0!"},{"$error":"#DIV/0!"},{"$error":"#DIV/0!"}]
[86,{"$f":"IF(SISWA!B93=0,\"\",SISWA!B93)","v":""},{"$f":"IF(SISWA!C93=0,\"\",SISWA!C93)","v":""},{"$f":"IF(SISWA!D93=0,\"\",SISWA!D93)","v":""},{"$f":"IF(SISWA!E93=0,\"\",SISWA!E93)","v":""},null,null,null,null,null,{"$error":"#DIV/0!"},null,null,{"$error":"#DIV/0!"},{"$error":"#DIV/0!"},{"$error":"#DIV/0!"}]
[87,{"$f":"IF(SISWA!B94=0,\"\",SISWA!B94)","v":""},{"$f":"IF(SISWA!C94=0,\"\",SISWA!C94)","v":""},{"$f":"IF(SISWA!D94=0,\"\",SISWA!D94)","v":""},{"$f":"IF(SISWA!E94=0,\"\",SISWA!E94)","v":""},null,null,null,null,null,{"$error":"#DIV/0!"},null,null,{"$error":"#DIV/0!"},{"$error":"#DIV/0!"},{"$error":"#DIV/0!"}]
[88,{"$f":"IF(SISWA!B95=0,\"\",SISWA!B95)","v":""},{"$f":"IF(SISWA!C95=0,\"\",SISWA!C95)","v":""},{"$f":"IF(SISWA!D95=0,\"\",SISWA!D95)","v":""},{"$f":"IF(SISWA!E95=0,\"\",SISWA!E95)","v":""},null,null,null,null,null,{"$error":"#DIV/0!"},null,null,{"$error":"#DIV/0!"},{"$error":"#DIV/0!"},{"$error":"#DIV/0!"}]
[89,{"$f":"IF(SISWA!B96=0,\"\",SISWA!B96)","v":""},{"$f":"IF(SISWA!C96=0,\"\",SISWA!C96)","v":""},{"$f":"IF(SISWA!D96=0,\"\",SISWA!D96)","v":""},{"$f":"IF(SISWA!E96=0,\"\",SISWA!E96)","v":""},null,null,null,null,null,{"$error":"#DIV/0!"},null,null,{"$error":"#DIV/0!"},{"$error":"#DIV/0!"},{"$error":"#DIV/0!"}]
[90,{"$f":"IF(SISWA!B97=0,\"\",SISWA!B97)","v":""},{"$f":"IF(SISWA!C97=0,\"\",SISWA!C97)","v":""},{"$f":"IF(SISWA!D97=0,\"\",SISWA!D97)","v":""},{"$f":"IF(SISWA!E97=0,\"\",SISWA!E97)","v":""},null,null,null,null,null,{"$error":"#DIV/0!"},null,null,{"$error":"#DIV/0!"},{"$error":"#DIV/0!"},{"$error":"#DIV/0!"}]
[91,{"$f":"IF(SISWA!B98=0,\"\",SISWA!B98)","v":""},{"$f":"IF(SISWA!C98=0,\"\",SISWA!C98)","v":""},{"$f":"IF(SISWA!D98=0,\"\",SISWA!D98)","v":""},{"$f":"IF(SISWA!E98=0,\"\",SISWA!E98)","v":""},null,null,null,null,null,{"$error":"#DIV/0!"},null,null,{"$error":"#DIV/0!"},{"$error":"#DIV/0!"},{"$error":"#DIV/0!"}]
[92,{"$f":"IF(SISWA!B99=0,\"\",SISWA!B99)","v":""},{"$f":"IF(SISWA!C99=0,\"\",SISWA!C99)","v":""},{"$f":"IF(SISWA!D99=0,\"\",SISWA!D99)","v":""},{"$f":"IF(SISWA!E99=0,\"\",SISWA!E99)","v":""},null,null,null,null,null,{"$error":"#DIV/0!"},null,null,{"$error":"#DIV/0!"},{"$error":"#DIV/0!"},{"$error":"#DIV/0!"}]
[93,{"$f":"IF(SISWA!B100=0,\"\",SISWA!B100)","v":""},{"$f":"IF(SISWA!C100=0,\"\",SISWA!C100)","v":""},{"$f":"IF(SISWA!D100=0,\"\",SISWA!D100)","v":""},{"$f":"IF(SISWA!E100=0,\"\",SISWA!E100)","v":""},null,null,null,null,null,{"$error":"#DIV/0!"},null,null,{"$error":"#DIV/0!"},{"$error":"#DIV/0!"},{"$error":"#DIV/0!"}]
[94,{"$f":"IF(SISWA!B101=0,\"\",SISWA!B101)","v":""},{"$f":"IF(SISWA!C101=0,\"\",SISWA!C101)","v":""},{"$f":"IF(SISWA!D101=0,\"\",SISWA!D101)","v":""},{"$f":"IF(SISWA!E101=0,\"\",SISWA!E101)","v":""},null,null,null,null,null,{"$error":"#DIV/0!"},null,null,{"$error":"#DIV/0!"},{"$error":"#DIV/0!"},{"$error":"#DIV/0!"}]
[95,{"$f":"IF(SISWA!B102=0,\"\",SISWA!B102)","v":""},{"$f":"IF(SISWA!C102=0,\"\",SISWA!C102)","v":""},{"$f":"IF(SISWA!D102=0,\"\",SISWA!D102)","v":""},{"$f":"IF(SISWA!E102=0,\"\",SISWA!E102)","v":""},null,null,null,null,null,{"$error":"#DIV/0!"},null,null,{"$error":"#DIV/0!"},{"$error":"#DIV/0!"},{"$error":"#DIV/0!"}]
[96,{"$f":"IF(SISWA!B103=0,\"\",SISWA!B103)","v":""},{"$f":"IF(SISWA!C103=0,\"\",SISWA!C103)","v":""},{"$f":"IF(SISWA!D103=0,\"\",SISWA!D103)","v":""},{"$f":"IF(SISWA!E103=0,\"\",SISWA!E103)","v":""},null,null,null,null,null,{"$error":"#DIV/0!"},null,null,{"$error":"#DIV/0!"},{"$error":"#DIV/0!"},{"$error":"#DIV/0!"}]
[97,{"$f":"IF(SISWA!B104=0,\"\",SISWA!B104)","v":""},{"$f":"IF(SISWA!C104=0,\"\",SISWA!C104)","v":""},{"$f":"IF(SISWA!D104=0,\"\",SISWA!D104)","v":""},{"$f":"IF(SISWA!E104=0,\"\",SISWA!E104)","v":""},null,null,null,null,null,{"$error":"#DIV/0!"},null,null,{"$error":"#DIV/0!"},{"$error":"#DIV/0!"},{"$error":"#DIV/0!"}]
[98,{"$f":"IF(SISWA!B105=0,\"\",SISWA!B105)","v":""},{"$f":"IF(SISWA!C105=0,\"\",SISWA!C105)","v":""},{"$f":"IF(SISWA!D105=0,\"\",SISWA!D105)","v":""},{"$f":"IF(SISWA!E105=0,\"\",SISWA!E105)","v":""},null,null,null,null,null,{"$error":"#DIV/0!"},null,null,{"$error":"#DIV/0!"},{"$error":"#DIV/0!"},{"$error":"#DIV/0!"}]
[99,{"$f":"IF(SISWA!B106=0,\"\",SISWA!B106)","v":""},{"$f":"IF(SISWA!C106=0,\"\",SISWA!C106)","v":""},{"$f":"IF(SISWA!D106=0,\"\",SISWA!D106)","v":""},{"$f":"IF(SISWA!E106=0,\"\",SISWA!E106)","v":""},null,null,null,null,null,{"$error":"#DIV/0!"},null,null,{"$error":"#DIV/0!"},{"$error":"#DIV/0!"},{"$error":"#DIV/0!"}]
[100,{"$f":"IF(SISWA!B107=0,\"\",SISWA!B107)","v":""},{"$f":"IF(SISWA!C107=0,\"\",SISWA!C107)","v":""},{"$f":"IF(SISWA!D107=0,\"\",SISWA!D107)","v":""},{"$f":"IF(SISWA!E107=0,\"\",SISWA!E107)","v":""},null,null,null,null,null,{"$error":"#DIV/0!"},null,null,{"$error":"#DIV/0!"},{"$error":"#DIV/0!"},{"$error":"#DIV/0!"}]
[101,{"$f":"IF(SISWA!B108=0,\"\",SISWA!B108)","v":""},{"$f":"IF(SISWA!C108=0,\"\",SISWA!C108)","v":""},{"$f":"IF(SISWA!D108=0,\"\",SISWA!D108)","v":""},{"$f":"IF(SISWA!E108=0,\"\",SISWA!E108)","v":""},null,null,null,null,null,{"$error":"#DIV/0!"},null,null,{"$error":"#DIV/0!"},{"$error":"#DIV/0!"},{"$error":"#DIV/0!"}]
[102,{"$f":"IF(SISWA!B109=0,\"\",SISWA!B109)","v":""},{"$f":"IF(SISWA!C109=0,\"\",SISWA!C109)","v":""},{"$f":"IF(SISWA!D109=0,\"\",SISWA!D109)","v":""},{"$f":"IF(SISWA!E109=0,\"\",SISWA!E109)","v":""},null,null,null,null,null,{"$error":"#DIV/0!"},null,null,{"$error":"#DIV/0!"},{"$error":"#DIV/0!"},{"$error":"#DIV/0!"}]
[103,{"$f":"IF(SISWA!B110=0,\"\",SISWA!B110)","v":""},{"$f":"IF(SISWA!C110=0,\"\",SISWA!C110)","v":""},{"$f":"IF(SISWA!D110=0,\"\",SISWA!D110)","v":""},{"$f":"IF(SISWA!E110=0,\"\",SISWA!E110)","v":""},null,null,null,null,null,{"$error":"#DIV/0!"},null,null,{"$error":"#DIV/0!"},{"$error":"#DIV/0!"},{"$error":"#DIV/0!"}]
[104,{"$f":"IF(SISWA!B111=0,\"\",SISWA!B111)","v":""},{"$f":"IF(SISWA!C111=0,\"\",SISWA!C111)","v":""},{"$f":"IF(SISWA!D111=0,\"\",SISWA!D111)","v":""},{"$f":"IF(SISWA!E111=0,\"\",SISWA!E111)","v":""},null,null,null,null,null,{"$error":"#DIV/0!"},null,null,{"$error":"#DIV/0!"},{"$error":"#DIV/0!"},{"$error":"#DIV/0!"}]
[105,{"$f":"IF(SISWA!B112=0,\"\",SISWA!B112)","v":""},{"$f":"IF(SISWA!C112=0,\"\",SISWA!C112)","v":""},{"$f":"IF(SISWA!D112=0,\"\",SISWA!D112)","v":""},{"$f":"IF(SISWA!E112=0,\"\",SISWA!E112)","v":""},null,null,null,null,null,{"$error":"#DIV/0!"},null,null,{"$error":"#DIV/0!"},{"$error":"#DIV/0!"},{"$error":"#DIV/0!"}]
[106,{"$f":"IF(SISWA!B113=0,\"\",SISWA!B113)","v":""},{"$f":"IF(SISWA!C113=0,\"\",SISWA!C113)","v":""},{"$f":"IF(SISWA!D113=0,\"\",SISWA!D113)","v":""},{"$f":"IF(SISWA!E113=0,\"\",SISWA!E113)","v":""},null,null,null,null,null,{"$error":"#DIV/0!"},null,null,{"$error":"#DIV/0!"},{"$error":"#DIV/0!"},{"$error":"#DIV/0!"}]
[107,{"$f":"IF(SISWA!B114=0,\"\",SISWA!B114)","v":""},{"$f":"IF(SISWA!C114=0,\"\",SISWA!C114)","v":""},{"$f":"IF(SISWA!D114=0,\"\",SISWA!D114)","v":""},{"$f":"IF(SISWA!E114=0,\"\",SISWA!E114)","v":""},null,null,null,null,null,{"$error":"#DIV/0!"},null,null,{"$error":"#DIV/0!"},{"$error":"#DIV/0!"},{"$error":"#DIV/0!"}]
[108,{"$f":"IF(SISWA!B115=0,\"\",SISWA!B115)","v":""},{"$f":"IF(SISWA!C115=0,\"\",SISWA!C115)","v":""},{"$f":"IF(SISWA!D115=0,\"\",SISWA!D115)","v":""},{"$f":"IF(SISWA!E115=0,\"\",SISWA!E115)","v":""},null,null,null,null,null,{"$error":"#DIV/0!"},null,null,{"$error":"#DIV/0!"},{"$error":"#DIV/0!"},{"$error":"#DIV/0!"}]
[109,{"$f":"IF(SISWA!B116=0,\"\",SISWA!B116)","v":""},{"$f":"IF(SISWA!C116=0,\"\",SISWA!C116)","v":""},{"$f":"IF(SISWA!D116=0,\"\",SISWA!D116)","v":""},{"$f":"IF(SISWA!E116=0,\"\",SISWA!E116)","v":""},null,null,null,null,null,{"$error":"#DIV/0!"},null,null,{"$error":"#DIV/0!"},{"$error":"#DIV/0!"},{"$error":"#DIV/0!"}]
[110,{"$f":"IF(SISWA!B117=0,\"\",SISWA!B117)","v":""},{"$f":"IF(SISWA!C117=0,\"\",SISWA!C117)","v":""},{"$f":"IF(SISWA!D117=0,\"\",SISWA!D117)","v":""},{"$f":"IF(SISWA!E117=0,\"\",SISWA!E117)","v":""},null,null,null,null,null,{"$error":"#DIV/0!"},null,null,{"$error":"#DIV/0!"},{"$error":"#DIV/0!"},{"$error":"#DIV/0!"}]
[111,{"$f":"IF(SISWA!B118=0,\"\",SISWA!B118)","v":""},{"$f":"IF(SISWA!C118=0,\"\",SISWA!C118)","v":""},{"$f":"IF(SISWA!D118=0,\"\",SISWA!D118)","v":""},{"$f":"IF(SISWA!E118=0,\"\",SISWA!E118)","v":""},null,null,null,null,null,{"$error":"#DIV/0!"},null,null,{"$error":"#DIV/0!"},{"$error":"#DIV/0!"},{"$error":"#DIV/0!"}]
[112,{"$f":"IF(SISWA!B119=0,\"\",SISWA!B119)","v":""},{"$f":"IF(SISWA!C119=0,\"\",SISWA!C119)","v":""},{"$f":"IF(SISWA!D119=0,\"\",SISWA!D119)","v":""},{"$f":"IF(SISWA!E119=0,\"\",SISWA!E119)","v":""},null,null,null,null,null,{"$error":"#DIV/0!"},null,null,{"$error":"#DIV/0!"},{"$error":"#DIV/0!"},{"$error":"#DIV/0!"}]
[113,{"$f":"IF(SISWA!B120=0,\"\",SISWA!B120)","v":""},{"$f":"IF(SISWA!C120=0,\"\",SISWA!C120)","v":""},{"$f":"IF(SISWA!D120=0,\"\",SISWA!D120)","v":""},{"$f":"IF(SISWA!E120=0,\"\",SISWA!E120)","v":""},null,null,null,null,null,{"$error":"#DIV/0!"},null,null,{"$error":"#DIV/0!"},{"$error":"#DIV/0!"},{"$error":"#DIV/0!"}]
[114,{"$f":"IF(SISWA!B121=0,\"\",SISWA!B121)","v":""},{"$f":"IF(SISWA!C121=0,\"\",SISWA!C121)","v":""},{"$f":"IF(SISWA!D121=0,\"\",SISWA!D121)","v":""},{"$f":"IF(SISWA!E121=0,\"\",SISWA!E121)","v":""},null,null,null,null,null,{"$error":"#DIV/0!"},null,null,{"$error":"#DIV/0!"},{"$error":"#DIV/0!"},{"$error":"#DIV/0!"}]
[115,{"$f":"IF(SISWA!B122=0,\"\",SISWA!B122)","v":""},{"$f":"IF(SISWA!C122=0,\"\",SISWA!C122)","v":""},{"$f":"IF(SISWA!D122=0,\"\",SISWA!D122)","v":""},{"$f":"IF(SISWA!E122=0,\"\",SISWA!E122)","v":""},null,null,null,null,null,{"$error":"#DIV/0!"},null,null,{"$f":"AVERAGE(L122:M122)","v":{"$error":"#DIV/0!"}},{"$error":"#DIV/0!"},{"$error":"#DIV/0!"}]
[116,{"$f":"IF(SISWA!B123=0,\"\",SISWA!B123)","v":""},{"$f":"IF(SISWA!C123=0,\"\",SISWA!C123)","v":""},{"$f":"IF(SISWA!D123=0,\"\",SISWA!D123)","v":""},{"$f":"IF(SISWA!E123=0,\"\",SISWA!E123)","v":""},null,null,null,null,null,{"$error":"#DIV/0!"},null,null,{"$error":"#DIV/0!"},{"$error":"#DIV/0!"},{"$error":"#DIV/0!"}]
[117,{"$f":"IF(SISWA!B124=0,\"\",SISWA!B124)","v":""},{"$f":"IF(SISWA!C124=0,\"\",SISWA!C124)","v":""},{"$f":"IF(SISWA!D124=0,\"\",SISWA!D124)","v":""},{"$f":"IF(SISWA!E124=0,\"\",SISWA!E124)","v":""},null,null,null,null,null,{"$error":"#DIV/0!"},null,null,{"$error":"#DIV/0!"},{"$error":"#DIV/0!"},{"$error":"#DIV/0!"}]
[118,{"$f":"IF(SISWA!B125=0,\"\",SISWA!B125)","v":""},{"$f":"IF(SISWA!C125=0,\"\",SISWA!C125)","v":""},{"$f":"IF(SISWA!D125=0,\"\",SISWA!D125)","v":""},{"$f":"IF(SISWA!E125=0,\"\",SISWA!E125)","v":""},null,null,null,null,null,{"$error":"#DIV/0!"},null,null,{"$error":"#DIV/0!"},{"$error":"#DIV/0!"},{"$error":"#DIV/0!"}]
[119,{"$f":"IF(SISWA!B126=0,\"\",SISWA!B126)","v":""},{"$f":"IF(SISWA!C126=0,\"\",SISWA!C126)","v":""},{"$f":"IF(SISWA!D126=0,\"\",SISWA!D126)","v":""},{"$f":"IF(SISWA!E126=0,\"\",SISWA!E126)","v":""},null,null,null,null,null,{"$error":"#DIV/0!"},null,null,{"$error":"#DIV/0!"},{"$error":"#DIV/0!"},{"$error":"#DIV/0!"}]
[120,{"$f":"IF(SISWA!B127=0,\"\",SISWA!B127)","v":""},{"$f":"IF(SISWA!C127=0,\"\",SISWA!C127)","v":""},{"$f":"IF(SISWA!D127=0,\"\",SISWA!D127)","v":""},{"$f":"IF(SISWA!E127=0,\"\",SISWA!E127)","v":""},null,null,null,null,null,{"$error":"#DIV/0!"},null,null,{"$error":"#DIV/0!"},{"$error":"#DIV/0!"},{"$error":"#DIV/0!"}]
[121,{"$f":"IF(SISWA!B128=0,\"\",SISWA!B128)","v":""},{"$f":"IF(SISWA!C128=0,\"\",SISWA!C128)","v":""},{"$f":"IF(SISWA!D128=0,\"\",SISWA!D128)","v":""},{"$f":"IF(SISWA!E128=0,\"\",SISWA!E128)","v":""},null,null,null,null,null,{"$error":"#DIV/0!"},null,null,{"$error":"#DIV/0!"},{"$error":"#DIV/0!"},{"$error":"#DIV/0!"}]
[122,{"$f":"IF(SISWA!B129=0,\"\",SISWA!B129)","v":""},{"$f":"IF(SISWA!C129=0,\"\",SISWA!C129)","v":""},{"$f":"IF(SISWA!D129=0,\"\",SISWA!D129)","v":""},{"$f":"IF(SISWA!E129=0,\"\",SISWA!E129)","v":""},null,null,null,null,null,{"$error":"#DIV/0!"},null,null,{"$error":"#DIV/0!"},{"$error":"#DIV/0!"},{"$error":"#DIV/0!"}]
[123,{"$f":"IF(SISWA!B130=0,\"\",SISWA!B130)","v":""},{"$f":"IF(SISWA!C130=0,\"\",SISWA!C130)","v":""},{"$f":"IF(SISWA!D130=0,\"\",SISWA!D130)","v":""},{"$f":"IF(SISWA!E130=0,\"\",SISWA!E130)","v":""},null,null,null,null,null,{"$error":"#DIV/0!"},null,null,{"$error":"#DIV/0!"},{"$error":"#DIV/0!"},{"$error":"#DIV/0!"}]
[124,{"$f":"IF(SISWA!B131=0,\"\",SISWA!B131)","v":""},{"$f":"IF(SISWA!C131=0,\"\",SISWA!C131)","v":""},{"$f":"IF(SISWA!D131=0,\"\",SISWA!D131)","v":""},{"$f":"IF(SISWA!E131=0,\"\",SISWA!E131)","v":""},null,null,null,null,null,{"$error":"#DIV/0!"},null,null,{"$error":"#DIV/0!"},{"$error":"#DIV/0!"},{"$error":"#DIV/0!"}]
[125,{"$f":"IF(SISWA!B132=0,\"\",SISWA!B132)","v":""},{"$f":"IF(SISWA!C132=0,\"\",SISWA!C132)","v":""},{"$f":"IF(SISWA!D132=0,\"\",SISWA!D132)","v":""},{"$f":"IF(SISWA!E132=0,\"\",SISWA!E132)","v":""},null,null,null,null,null,{"$f":"AVERAGE(F132:J132)","v":{"$error":"#DIV/0!"}},null,null,{"$error":"#DIV/0!"},{"$error":"#DIV/0!"},{"$error":"#DIV/0!"}]
[126,{"$f":"IF(SISWA!B133=0,\"\",SISWA!B133)","v":""},{"$f":"IF(SISWA!C133=0,\"\",SISWA!C133)","v":""},{"$f":"IF(SISWA!D133=0,\"\",SISWA!D133)","v":""},{"$f":"IF(SISWA!E133=0,\"\",SISWA!E133)","v":""},null,null,null,null,null,{"$error":"#DIV/0!"},null,null,{"$error":"#DIV/0!"},{"$error":"#DIV/0!"},{"$error":"#DIV/0!"}]
[127,{"$f":"IF(SISWA!B134=0,\"\",SISWA!B134)","v":""},{"$f":"IF(SISWA!C134=0,\"\",SISWA!C134)","v":""},{"$f":"IF(SISWA!D134=0,\"\",SISWA!D134)","v":""},{"$f":"IF(SISWA!E134=0,\"\",SISWA!E134)","v":""},null,null,null,null,null,{"$error":"#DIV/0!"},null,null,{"$error":"#DIV/0!"},{"$error":"#DIV/0!"},{"$error":"#DIV/0!"}]
[128,{"$f":"IF(SISWA!B135=0,\"\",SISWA!B135)","v":""},{"$f":"IF(SISWA!C135=0,\"\",SISWA!C135)","v":""},{"$f":"IF(SISWA!D135=0,\"\",SISWA!D135)","v":""},{"$f":"IF(SISWA!E135=0,\"\",SISWA!E135)","v":""},null,null,null,null,null,{"$error":"#DIV/0!"},null,null,{"$error":"#DIV/0!"},{"$error":"#DIV/0!"},{"$error":"#DIV/0!"}]
[129,{"$f":"IF(SISWA!B136=0,\"\",SISWA!B136)","v":""},{"$f":"IF(SISWA!C136=0,\"\",SISWA!C136)","v":""},{"$f":"IF(SISWA!D136=0,\"\",SISWA!D136)","v":""},{"$f":"IF(SISWA!E136=0,\"\",SISWA!E136)","v":""},null,null,null,null,null,{"$error":"#DIV/0!"},null,null,{"$error":"#DIV/0!"},{"$error":"#DIV/0!"},{"$error":"#DIV/0!"}]
[130,{"$f":"IF(SISWA!B137=0,\"\",SISWA!B137)","v":""},{"$f":"IF(SISWA!C137=0,\"\",SISWA!C137)","v":""},{"$f":"IF(SISWA!D137=0,\"\",SISWA!D137)","v":""},{"$f":"IF(SISWA!E137=0,\"\",SISWA!E137)","v":""},null,null,null,null,null,{"$error":"#DIV/0!"},null,null,{"$error":"#DIV/0!"},{"$f":"AVERAGE(L137:M137)","v":{"$error":"#DIV/0!"}},{"$error":"#DIV/0!"}]
[131,{"$f":"IF(SISWA!B138=0,\"\",SISWA!B138)","v":""},{"$f":"IF(SISWA!C138=0,\"\",SISWA!C138)","v":""},{"$f":"IF(SISWA!D138=0,\"\",SISWA!D138)","v":""},{"$f":"IF(SISWA!E138=0,\"\",SISWA!E138)","v":""},null,null,null,null,null,{"$error":"#DIV/0!"},null,null,{"$error":"#DIV/0!"},{"$error":"#DIV/0!"},{"$error":"#DIV/0!"}]
[132,{"$f":"IF(SISWA!B139=0,\"\",SISWA!B139)","v":""},{"$f":"IF(SISWA!C139=0,\"\",SISWA!C139)","v":""},{"$f":"IF(SISWA!D139=0,\"\",SISWA!D139)","v":""},{"$f":"IF(SISWA!E139=0,\"\",SISWA!E139)","v":""},null,null,null,null,null,{"$error":"#DIV/0!"},null,null,{"$error":"#DIV/0!"},{"$error":"#DIV/0!"},{"$error":"#DIV/0!"}]
[133,{"$f":"IF(SISWA!B140=0,\"\",SISWA!B140)","v":""},{"$f":"IF(SISWA!C140=0,\"\",SISWA!C140)","v":""},{"$f":"IF(SISWA!D140=0,\"\",SISWA!D140)","v":""},{"$f":"IF(SISWA!E140=0,\"\",SISWA!E140)","v":""},null,null,null,null,null,{"$error":"#DIV/0!"},null,null,{"$error":"#DIV/0!"},{"$error":"#DIV/0!"},{"$error":"#DIV/0!"}]
[134,{"$f":"IF(SISWA!B141=0,\"\",SISWA!B141)","v":""},{"$f":"IF(SISWA!C141=0,\"\",SISWA!C141)","v":""},{"$f":"IF(SISWA!D141=0,\"\",SISWA!D141)","v":""},{"$f":"IF(SISWA!E141=0,\"\",SISWA!E141)","v":""},null,null,null,null,null,{"$error":"#DIV/0!"},null,null,{"$error":"#DIV/0!"},{"$error":"#DIV/0!"},{"$error":"#DIV/0!"}]
[135,{"$f":"IF(SISWA!B142=0,\"\",SISWA!B142)","v":""},{"$f":"IF(SISWA!C142=0,\"\",SISWA!C142)","v":""},{"$f":"IF(SISWA!D142=0,\"\",SISWA!D142)","v":""},{"$f":"IF(SISWA!E142=0,\"\",SISWA!E142)","v":""},null,null,null,null,null,{"$error":"#DIV/0!"},null,null,{"$error":"#DIV/0!"},{"$error":"#DIV/0!"},{"$error":"#DIV/0!"}]
[136,{"$f":"IF(SISWA!B143=0,\"\",SISWA!B143)","v":""},{"$f":"IF(SISWA!C143=0,\"\",SISWA!C143)","v":""},{"$f":"IF(SISWA!D143=0,\"\",SISWA!D143)","v":""},{"$f":"IF(SISWA!E143=0,\"\",SISWA!E143)","v":""},null,null,null,null,null,{"$error":"#DIV/0!"},null,null,{"$error":"#DIV/0!"},{"$error":"#DIV/0!"},{"$error":"#DIV/0!"}]
[137,{"$f":"IF(SISWA!B144=0,\"\",SISWA!B144)","v":""},{"$f":"IF(SISWA!C144=0,\"\",SISWA!C144)","v":""},{"$f":"IF(SISWA!D144=0,\"\",SISWA!D144)","v":""},{"$f":"IF(SISWA!E144=0,\"\",SISWA!E144)","v":""},null,null,null,null,null,{"$error":"#DIV/0!"},null,null,{"$error":"#DIV/0!"},{"$error":"#DIV/0!"},{"$error":"#DIV/0!"}]
[138,{"$f":"IF(SISWA!B145=0,\"\",SISWA!B145)","v":""},{"$f":"IF(SISWA!C145=0,\"\",SISWA!C145)","v":""},{"$f":"IF(SISWA!D145=0,\"\",SISWA!D145)","v":""},{"$f":"IF(SISWA!E145=0,\"\",SISWA!E145)","v":""},null,null,null,null,null,{"$error":"#DIV/0!"},null,null,{"$error":"#DIV/0!"},{"$error":"#DIV/0!"},{"$error":"#DIV/0!"}]
[139,{"$f":"IF(SISWA!B146=0,\"\",SISWA!B146)","v":""},{"$f":"IF(SISWA!C146=0,\"\",SISWA!C146)","v":""},{"$f":"IF(SISWA!D146=0,\"\",SISWA!D146)","v":""},{"$f":"IF(SISWA!E146=0,\"\",SISWA!E146)","v":""},null,null,null,null,null,{"$error":"#DIV/0!"},null,null,{"$error":"#DIV/0!"},{"$error":"#DIV/0!"},{"$error":"#DIV/0!"}]
[140,{"$f":"IF(SISWA!B147=0,\"\",SISWA!B147)","v":""},{"$f":"IF(SISWA!C147=0,\"\",SISWA!C147)","v":""},{"$f":"IF(SISWA!D147=0,\"\",SISWA!D147)","v":""},{"$f":"IF(SISWA!E147=0,\"\",SISWA!E147)","v":""},null,null,null,null,null,{"$error":"#DIV/0!"},null,null,{"$error":"#DIV/0!"},{"$error":"#DIV/0!"},{"$error":"#DIV/0!"}]
[141,{"$f":"IF(SISWA!B148=0,\"\",SISWA!B148)","v":""},{"$f":"IF(SISWA!C148=0,\"\",SISWA!C148)","v":""},{"$f":"IF(SISWA!D148=0,\"\",SISWA!D148)","v":""},{"$f":"IF(SISWA!E148=0,\"\",SISWA!E148)","v":""},null,null,null,null,null,{"$error":"#DIV/0!"},null,null,{"$error":"#DIV/0!"},{"$error":"#DIV/0!"},{"$error":"#DIV/0!"}]
[142,{"$f":"IF(SISWA!B149=0,\"\",SISWA!B149)","v":""},{"$f":"IF(SISWA!C149=0,\"\",SISWA!C149)","v":""},{"$f":"IF(SISWA!D149=0,\"\",SISWA!D149)","v":""},{"$f":"IF(SISWA!E149=0,\"\",SISWA!E149)","v":""},null,null,null,null,null,{"$error":"#DIV/0!"},null,null,{"$error":"#DIV/0!"},{"$error":"#DIV/0!"},{"$error":"#DIV/0!"}]
[143,{"$f":"IF(SISWA!B150=0,\"\",SISWA!B150)","v":""},{"$f":"IF(SISWA!C150=0,\"\",SISWA!C150)","v":""},{"$f":"IF(SISWA!D150=0,\"\",SISWA!D150)","v":""},{"$f":"IF(SISWA!E150=0,\"\",SISWA!E150)","v":""},null,null,null,null,null,{"$error":"#DIV/0!"},null,null,{"$error":"#DIV/0!"},{"$error":"#DIV/0!"},{"$error":"#DIV/0!"}]
[144,{"$f":"IF(SISWA!B151=0,\"\",SISWA!B151)","v":""},{"$f":"IF(SISWA!C151=0,\"\",SISWA!C151)","v":""},{"$f":"IF(SISWA!D151=0,\"\",SISWA!D151)","v":""},{"$f":"IF(SISWA!E151=0,\"\",SISWA!E151)","v":""},null,null,null,null,null,{"$error":"#DIV/0!"},null,null,{"$error":"#DIV/0!"},{"$error":"#DIV/0!"},{"$error":"#DIV/0!"}]
[145,{"$f":"IF(SISWA!B152=0,\"\",SISWA!B152)","v":""},{"$f":"IF(SISWA!C152=0,\"\",SISWA!C152)","v":""},{"$f":"IF(SISWA!D152=0,\"\",SISWA!D152)","v":""},{"$f":"IF(SISWA!E152=0,\"\",SISWA!E152)","v":""},null,null,null,null,null,{"$error":"#DIV/0!"},null,null,{"$error":"#DIV/0!"},{"$error":"#DIV/0!"},{"$error":"#DIV/0!"}]
[146,{"$f":"IF(SISWA!B153=0,\"\",SISWA!B153)","v":""},{"$f":"IF(SISWA!C153=0,\"\",SISWA!C153)","v":""},{"$f":"IF(SISWA!D153=0,\"\",SISWA!D153)","v":""},{"$f":"IF(SISWA!E153=0,\"\",SISWA!E153)","v":""},null,null,null,null,null,{"$error":"#DIV/0!"},null,null,{"$error":"#DIV/0!"},{"$error":"#DIV/0!"},{"$error":"#DIV/0!"}]
[147,{"$f":"IF(SISWA!B154=0,\"\",SISWA!B154)","v":""},{"$f":"IF(SISWA!C154=0,\"\",SISWA!C154)","v":""},{"$f":"IF(SISWA!D154=0,\"\",SISWA!D154)","v":""},{"$f":"IF(SISWA!E154=0,\"\",SISWA!E154)","v":""},null,null,null,null,null,{"$error":"#DIV/0!"},null,null,{"$error":"#DIV/0!"},{"$error":"#DIV/0!"},{"$error":"#DIV/0!"}]
[148,{"$f":"IF(SISWA!B155=0,\"\",SISWA!B155)","v":""},{"$f":"IF(SISWA!C155=0,\"\",SISWA!C155)","v":""},{"$f":"IF(SISWA!D155=0,\"\",SISWA!D155)","v":""},{"$f":"IF(SISWA!E155=0,\"\",SISWA!E155)","v":""},null,null,null,null,null,{"$error":"#DIV/0!"},null,null,{"$error":"#DIV/0!"},{"$error":"#DIV/0!"},{"$error":"#DIV/0!"}]
[149,{"$f":"IF(SISWA!B156=0,\"\",SISWA!B156)","v":""},{"$f":"IF(SISWA!C156=0,\"\",SISWA!C156)","v":""},{"$f":"IF(SISWA!D156=0,\"\",SISWA!D156)","v":""},{"$f":"IF(SISWA!E156=0,\"\",SISWA!E156)","v":""},null,null,null,null,null,{"$error":"#DIV/0!"},null,null,{"$error":"#DIV/0!"},{"$error":"#DIV/0!"},{"$error":"#DIV/0!"}]
[150,{"$f":"IF(SISWA!B157=0,\"\",SISWA!B157)","v":""},{"$f":"IF(SISWA!C157=0,\"\",SISWA!C157)","v":""},{"$f":"IF(SISWA!D157=0,\"\",SISWA!D157)","v":""},{"$f":"IF(SISWA!E157=0,\"\",SISWA!E157)","v":""},null,null,null,null,null,{"$error":"#DIV/0!"},null,null,{"$error":"#DIV/0!"},{"$error":"#DIV/0!"},{"$error":"#DIV/0!"}]
[151,{"$f":"IF(SISWA!B158=0,\"\",SISWA!B158)","v":""},{"$f":"IF(SISWA!C158=0,\"\",SISWA!C158)","v":""},{"$f":"IF(SISWA!D158=0,\"\",SISWA!D158)","v":""},{"$f":"IF(SISWA!E158=0,\"\",SISWA!E158)","v":""},null,null,null,null,null,{"$error":"#DIV/0!"},null,null,{"$error":"#DIV/0!"},{"$error":"#DIV/0!"},{"$error":"#DIV/0!"}]
[152,{"$f":"IF(SISWA!B159=0,\"\",SISWA!B159)","v":""},{"$f":"IF(SISWA!C159=0,\"\",SISWA!C159)","v":""},{"$f":"IF(SISWA!D159=0,\"\",SISWA!D159)","v":""},{"$f":"IF(SISWA!E159=0,\"\",SISWA!E159)","v":""},null,null,null,null,null,{"$error":"#DIV/0!"},null,null,{"$error":"#DIV/0!"},{"$error":"#DIV/0!"},{"$error":"#DIV/0!"}]
[153,{"$f":"IF(SISWA!B160=0,\"\",SISWA!B160)","v":""},{"$f":"IF(SISWA!C160=0,\"\",SISWA!C160)","v":""},{"$f":"IF(SISWA!D160=0,\"\",SISWA!D160)","v":""},{"$f":"IF(SISWA!E160=0,\"\",SISWA!E160)","v":""},null,null,null,null,null,{"$error":"#DIV/0!"},null,null,{"$error":"#DIV/0!"},{"$error":"#DIV/0!"},{"$error":"#DIV/0!"}]
[154,{"$f":"IF(SISWA!B161=0,\"\",SISWA!B161)","v":""},{"$f":"IF(SISWA!C161=0,\"\",SISWA!C161)","v":""},{"$f":"IF(SISWA!D161=0,\"\",SISWA!D161)","v":""},{"$f":"IF(SISWA!E161=0,\"\",SISWA!E161)","v":""},null,null,null,null,null,{"$error":"#DIV/0!"},null,null,{"$error":"#DIV/0!"},{"$error":"#DIV/0!"},{"$error":"#DIV/0!"}]
[155,{"$f":"IF(SISWA!B162=0,\"\",SISWA!B162)","v":""},{"$f":"IF(SISWA!C162=0,\"\",SISWA!C162)","v":""},{"$f":"IF(SISWA!D162=0,\"\",SISWA!D162)","v":""},{"$f":"IF(SISWA!E162=0,\"\",SISWA!E162)","v":""},null,null,null,null,null,{"$error":"#DIV/0!"},null,null,{"$error":"#DIV/0!"},{"$error":"#DIV/0!"},{"$error":"#DIV/0!"}]
[156,{"$f":"IF(SISWA!B163=0,\"\",SISWA!B163)","v":""},{"$f":"IF(SISWA!C163=0,\"\",SISWA!C163)","v":""},{"$f":"IF(SISWA!D163=0,\"\",SISWA!D163)","v":""},{"$f":"IF(SISWA!E163=0,\"\",SISWA!E163)","v":""},null,null,null,null,null,{"$error":"#DIV/0!"},null,null,{"$error":"#DIV/0!"},{"$error":"#DIV/0!"},{"$error":"#DIV/0!"}]
[157,{"$f":"IF(SISWA!B164=0,\"\",SISWA!B164)","v":""},{"$f":"IF(SISWA!C164=0,\"\",SISWA!C164)","v":""},{"$f":"IF(SISWA!D164=0,\"\",SISWA!D164)","v":""},{"$f":"IF(SISWA!E164=0,\"\",SISWA!E164)","v":""},null,null,null,null,null,{"$error":"#DIV/0!"},null,null,{"$error":"#DIV/0!"},{"$error":"#DIV/0!"},{"$error":"#DIV/0!"}]
[158,{"$f":"IF(SISWA!B165=0,\"\",SISWA!B165)","v":""},{"$f":"IF(SISWA!C165=0,\"\",SISWA!C165)","v":""},{"$f":"IF(SISWA!D165=0,\"\",SISWA!D165)","v":""},{"$f":"IF(SISWA!E165=0,\"\",SISWA!E165)","v":""},null,null,null,null,null,{"$error":"#DIV/0!"},null,null,{"$error":"#DIV/0!"},{"$error":"#DIV/0!"},{"$error":"#DIV/0!"}]
[159,{"$f":"IF(SISWA!B166=0,\"\",SISWA!B166)","v":""},{"$f":"IF(SISWA!C166=0,\"\",SISWA!C166)","v":""},{"$f":"IF(SISWA!D166=0,\"\",SISWA!D166)","v":""},{"$f":"IF(SISWA!E166=0,\"\",SISWA!E166)","v":""},null,null,null,null,null,{"$error":"#DIV/0!"},null,null,{"$error":"#DIV/0!"},{"$error":"#DIV/0!"},{"$error":"#DIV/0!"}]
[160,{"$f":"IF(SISWA!B167=0,\"\",SISWA!B167)","v":""},{"$f":"IF(SISWA!C167=0,\"\",SISWA!C167)","v":""},{"$f":"IF(SISWA!D167=0,\"\",SISWA!D167)","v":""},{"$f":"IF(SISWA!E167=0,\"\",SISWA!E167)","v":""},null,null,null,null,null,{"$error":"#DIV/0!"},null,null,{"$error":"#DIV/0!"},{"$error":"#DIV/0!"},{"$error":"#DIV/0!"}]
[161,{"$f":"IF(SISWA!B168=0,\"\",SISWA!B168)","v":""},{"$f":"IF(SISWA!C168=0,\"\",SISWA!C168)","v":""},{"$f":"IF(SISWA!D168=0,\"\",SISWA!D168)","v":""},{"$f":"IF(SISWA!E168=0,\"\",SISWA!E168)","v":""},null,null,null,null,null,{"$error":"#DIV/0!"},null,null,{"$error":"#DIV/0!"},{"$error":"#DIV/0!"},{"$error":"#DIV/0!"}]
[162,{"$f":"IF(SISWA!B169=0,\"\",SISWA!B169)","v":""},{"$f":"IF(SISWA!C169=0,\"\",SISWA!C169)","v":""},{"$f":"IF(SISWA!D169=0,\"\",SISWA!D169)","v":""},{"$f":"IF(SISWA!E169=0,\"\",SISWA!E169)","v":""},null,null,null,null,null,{"$error":"#DIV/0!"},null,null,{"$error":"#DIV/0!"},{"$error":"#DIV/0!"},{"$error":"#DIV/0!"}]
[163,{"$f":"IF(SISWA!B170=0,\"\",SISWA!B170)","v":""},{"$f":"IF(SISWA!C170=0,\"\",SISWA!C170)","v":""},{"$f":"IF(SISWA!D170=0,\"\",SISWA!D170)","v":""},{"$f":"IF(SISWA!E170=0,\"\",SISWA!E170)","v":""},null,null,null,null,null,{"$error":"#DIV/0!"},null,null,{"$error":"#DIV/0!"},{"$error":"#DIV/0!"},{"$error":"#DIV/0!"}]
[164,{"$f":"IF(SISWA!B171=0,\"\",SISWA!B171)","v":""},{"$f":"IF(SISWA!C171=0,\"\",SISWA!C171)","v":""},{"$f":"IF(SISWA!D171=0,\"\",SISWA!D171)","v":""},{"$f":"IF(SISWA!E171=0,\"\",SISWA!E171)","v":""},null,null,null,null,null,{"$error":"#DIV/0!"},null,null,{"$error":"#DIV/0!"},{"$error":"#DIV/0!"},{"$error":"#DIV/0!"}]
[165,{"$f":"IF(SISWA!B172=0,\"\",SISWA!B172)","v":""},{"$f":"IF(SISWA!C172=0,\"\",SISWA!C172)","v":""},{"$f":"IF(SISWA!D172=0,\"\",SISWA!D172)","v":""},{"$f":"IF(SISWA!E172=0,\"\",SISWA!E172)","v":""},null,null,null,null,null,{"$error":"#DIV/0!"},null,null,{"$error":"#DIV/0!"},{"$error":"#DIV/0!"},{"$error":"#DIV/0!"}]
[166,{"$f":"IF(SISWA!B173=0,\"\",SISWA!B173)","v":""},{"$f":"IF(SISWA!C173=0,\"\",SISWA!C173)","v":""},{"$f":"IF(SISWA!D173=0,\"\",SISWA!D173)","v":""},{"$f":"IF(SISWA!E173=0,\"\",SISWA!E173)","v":""},null,null,null,null,null,{"$error":"#DIV/0!"},null,null,{"$error":"#DIV/0!"},{"$error":"#DIV/0!"},{"$error":"#DIV/0!"}]
[167,{"$f":"IF(SISWA!B174=0,\"\",SISWA!B174)","v":""},{"$f":"IF(SISWA!C174=0,\"\",SISWA!C174)","v":""},{"$f":"IF(SISWA!D174=0,\"\",SISWA!D174)","v":""},{"$f":"IF(SISWA!E174=0,\"\",SISWA!E174)","v":""},null,null,null,null,null,{"$error":"#DIV/0!"},null,null,{"$error":"#DIV/0!"},{"$error":"#DIV/0!"},{"$error":"#DIV/0!"}]
[168,{"$f":"IF(SISWA!B175=0,\"\",SISWA!B175)","v":""},{"$f":"IF(SISWA!C175=0,\"\",SISWA!C175)","v":""},{"$f":"IF(SISWA!D175=0,\"\",SISWA!D175)","v":""},{"$f":"IF(SISWA!E175=0,\"\",SISWA!E175)","v":""},null,null,null,null,null,{"$error":"#DIV/0!"},null,null,{"$error":"#DIV/0!"},{"$error":"#DIV/0!"},{"$error":"#DIV/0!"}]
[169,{"$f":"IF(SISWA!B176=0,\"\",SISWA!B176)","v":""},{"$f":"IF(SISWA!C176=0,\"\",SISWA!C176)","v":""},{"$f":"IF(SISWA!D176=0,\"\",SISWA!D176)","v":""},{"$f":"IF(SISWA!E176=0,\"\",SISWA!E176)","v":""},null,null,null,null,null,{"$error":"#DIV/0!"},null,null,{"$error":"#DIV/0!"},{"$error":"#DIV/0!"},{"$error":"#DIV/0!"}]
[170,{"$f":"IF(SISWA!B177=0,\"\",SISWA!B177)","v":""},{"$f":"IF(SISWA!C177=0,\"\",SISWA!C177)","v":""},{"$f":"IF(SISWA!D177=0,\"\",SISWA!D177)","v":""},{"$f":"IF(SISWA!E177=0,\"\",SISWA!E177)","v":""},null,null,null,null,null,{"$error":"#DIV/0!"},null,null,{"$error":"#DIV/0!"},{"$error":"#DIV/0!"},{"$error":"#DIV/0!"}]
[171,{"$f":"IF(SISWA!B178=0,\"\",SISWA!B178)","v":""},{"$f":"IF(SISWA!C178=0,\"\",SISWA!C178)","v":""},{"$f":"IF(SISWA!D178=0,\"\",SISWA!D178)","v":""},{"$f":"IF(SISWA!E178=0,\"\",SISWA!E178)","v":""},null,null,null,null,null,{"$error":"#DIV/0!"},null,null,{"$error":"#DIV/0!"},{"$error":"#DIV/0!"},{"$error":"#DIV/0!"}]
[172,{"$f":"IF(SISWA!B179=0,\"\",SISWA!B179)","v":""},{"$f":"IF(SISWA!C179=0,\"\",SISWA!C179)","v":""},{"$f":"IF(SISWA!D179=0,\"\",SISWA!D179)","v":""},{"$f":"IF(SISWA!E179=0,\"\",SISWA!E179)","v":""},null,null,null,null,null,{"$error":"#DIV/0!"},null,null,{"$error":"#DIV/0!"},{"$error":"#DIV/0!"},{"$error":"#DIV/0!"}]
[173,{"$f":"IF(SISWA!B180=0,\"\",SISWA!B180)","v":""},{"$f":"IF(SISWA!C180=0,\"\",SISWA!C180)","v":""},{"$f":"IF(SISWA!D180=0,\"\",SISWA!D180)","v":""},{"$f":"IF(SISWA!E180=0,\"\",SISWA!E180)","v":""},null,null,null,null,null,{"$error":"#DIV/0!"},null,null,{"$error":"#DIV/0!"},{"$error":"#DIV/0!"},{"$error":"#DIV/0!"}]
[174,{"$f":"IF(SISWA!B181=0,\"\",SISWA!B181)","v":""},{"$f":"IF(SISWA!C181=0,\"\",SISWA!C181)","v":""},{"$f":"IF(SISWA!D181=0,\"\",SISWA!D181)","v":""},{"$f":"IF(SISWA!E181=0,\"\",SISWA!E181)","v":""},null,null,null,null,null,{"$error":"#DIV/0!"},null,null,{"$error":"#DIV/0!"},{"$error":"#DIV/0!"},{"$error":"#DIV/0!"}]
[175,{"$f":"IF(SISWA!B182=0,\"\",SISWA!B182)","v":""},{"$f":"IF(SISWA!C182=0,\"\",SISWA!C182)","v":""},{"$f":"IF(SISWA!D182=0,\"\",SISWA!D182)","v":""},{"$f":"IF(SISWA!E182=0,\"\",SISWA!E182)","v":""},null,null,null,null,null,{"$error":"#DIV/0!"},null,null,{"$error":"#DIV/0!"},{"$error":"#DIV/0!"},{"$error":"#DIV/0!"}]
[176,{"$f":"IF(SISWA!B183=0,\"\",SISWA!B183)","v":""},{"$f":"IF(SISWA!C183=0,\"\",SISWA!C183)","v":""},{"$f":"IF(SISWA!D183=0,\"\",SISWA!D183)","v":""},{"$f":"IF(SISWA!E183=0,\"\",SISWA!E183)","v":""},null,null,null,null,null,{"$error":"#DIV/0!"},null,null,{"$error":"#DIV/0!"},{"$error":"#DIV/0!"},{"$error":"#DIV/0!"}]
[177,{"$f":"IF(SISWA!B184=0,\"\",SISWA!B184)","v":""},{"$f":"IF(SISWA!C184=0,\"\",SISWA!C184)","v":""},{"$f":"IF(SISWA!D184=0,\"\",SISWA!D184)","v":""},{"$f":"IF(SISWA!E184=0,\"\",SISWA!E184)","v":""},null,null,null,null,null,{"$error":"#DIV/0!"},null,null,{"$error":"#DIV/0!"},{"$error":"#DIV/0!"},{"$error":"#DIV/0!"}]
[178,{"$f":"IF(SISWA!B185=0,\"\",SISWA!B185)","v":""},{"$f":"IF(SISWA!C185=0,\"\",SISWA!C185)","v":""},{"$f":"IF(SISWA!D185=0,\"\",SISWA!D185)","v":""},{"$f":"IF(SISWA!E185=0,\"\",SISWA!E185)","v":""},null,null,null,null,null,{"$error":"#DIV/0!"},null,null,{"$error":"#DIV/0!"},{"$error":"#DIV/0!"},{"$error":"#DIV/0!"}]
[179,{"$f":"IF(SISWA!B186=0,\"\",SISWA!B186)","v":""},{"$f":"IF(SISWA!C186=0,\"\",SISWA!C186)","v":""},{"$f":"IF(SISWA!D186=0,\"\",SISWA!D186)","v":""},{"$f":"IF(SISWA!E186=0,\"\",SISWA!E186)","v":""},null,null,null,null,null,{"$error":"#DIV/0!"},null,null,{"$f":"AVERAGE(L186:M186)","v":{"$error":"#DIV/0!"}},{"$error":"#DIV/0!"},{"$error":"#DIV/0!"}]
[180,{"$f":"IF(SISWA!B187=0,\"\",SISWA!B187)","v":""},{"$f":"IF(SISWA!C187=0,\"\",SISWA!C187)","v":""},{"$f":"IF(SISWA!D187=0,\"\",SISWA!D187)","v":""},{"$f":"IF(SISWA!E187=0,\"\",SISWA!E187)","v":""},null,null,null,null,null,{"$error":"#DIV/0!"},null,null,{"$error":"#DIV/0!"},{"$error":"#DIV/0!"},{"$error":"#DIV/0!"}]
[181,{"$f":"IF(SISWA!B188=0,\"\",SISWA!B188)","v":""},{"$f":"IF(SISWA!C188=0,\"\",SISWA!C188)","v":""},{"$f":"IF(SISWA!D188=0,\"\",SISWA!D188)","v":""},{"$f":"IF(SISWA!E188=0,\"\",SISWA!E188)","v":""},null,null,null,null,null,{"$error":"#DIV/0!"},null,null,{"$error":"#DIV/0!"},{"$error":"#DIV/0!"},{"$error":"#DIV/0!"}]
[182,{"$f":"IF(SISWA!B189=0,\"\",SISWA!B189)","v":""},{"$f":"IF(SISWA!C189=0,\"\",SISWA!C189)","v":""},{"$f":"IF(SISWA!D189=0,\"\",SISWA!D189)","v":""},{"$f":"IF(SISWA!E189=0,\"\",SISWA!E189)","v":""},null,null,null,null,null,{"$error":"#DIV/0!"},null,null,{"$error":"#DIV/0!"},{"$error":"#DIV/0!"},{"$error":"#DIV/0!"}]
[183,{"$f":"IF(SISWA!B190=0,\"\",SISWA!B190)","v":""},{"$f":"IF(SISWA!C190=0,\"\",SISWA!C190)","v":""},{"$f":"IF(SISWA!D190=0,\"\",SISWA!D190)","v":""},{"$f":"IF(SISWA!E190=0,\"\",SISWA!E190)","v":""},null,null,null,null,null,{"$error":"#DIV/0!"},null,null,{"$error":"#DIV/0!"},{"$error":"#DIV/0!"},{"$error":"#DIV/0!"}]
[184,{"$f":"IF(SISWA!B191=0,\"\",SISWA!B191)","v":""},{"$f":"IF(SISWA!C191=0,\"\",SISWA!C191)","v":""},{"$f":"IF(SISWA!D191=0,\"\",SISWA!D191)","v":""},{"$f":"IF(SISWA!E191=0,\"\",SISWA!E191)","v":""},null,null,null,null,null,{"$error":"#DIV/0!"},null,null,{"$error":"#DIV/0!"},{"$error":"#DIV/0!"},{"$error":"#DIV/0!"}]
[185,{"$f":"IF(SISWA!B192=0,\"\",SISWA!B192)","v":""},{"$f":"IF(SISWA!C192=0,\"\",SISWA!C192)","v":""},{"$f":"IF(SISWA!D192=0,\"\",SISWA!D192)","v":""},{"$f":"IF(SISWA!E192=0,\"\",SISWA!E192)","v":""},null,null,null,null,null,{"$error":"#DIV/0!"},null,null,{"$error":"#DIV/0!"},{"$error":"#DIV/0!"},{"$error":"#DIV/0!"}]
[186,{"$f":"IF(SISWA!B193=0,\"\",SISWA!B193)","v":""},{"$f":"IF(SISWA!C193=0,\"\",SISWA!C193)","v":""},{"$f":"IF(SISWA!D193=0,\"\",SISWA!D193)","v":""},{"$f":"IF(SISWA!E193=0,\"\",SISWA!E193)","v":""},null,null,null,null,null,{"$error":"#DIV/0!"},null,null,{"$error":"#DIV/0!"},{"$error":"#DIV/0!"},{"$error":"#DIV/0!"}]
[187,{"$f":"IF(SISWA!B194=0,\"\",SISWA!B194)","v":""},{"$f":"IF(SISWA!C194=0,\"\",SISWA!C194)","v":""},{"$f":"IF(SISWA!D194=0,\"\",SISWA!D194)","v":""},{"$f":"IF(SISWA!E194=0,\"\",SISWA!E194)","v":""},null,null,null,null,null,{"$error":"#DIV/0!"},null,null,{"$error":"#DIV/0!"},{"$error":"#DIV/0!"},{"$error":"#DIV/0!"}]
[188,{"$f":"IF(SISWA!B195=0,\"\",SISWA!B195)","v":""},{"$f":"IF(SISWA!C195=0,\"\",SISWA!C195)","v":""},{"$f":"IF(SISWA!D195=0,\"\",SISWA!D195)","v":""},{"$f":"IF(SISWA!E195=0,\"\",SISWA!E195)","v":""},null,null,null,null,null,{"$error":"#DIV/0!"},null,null,{"$error":"#DIV/0!"},{"$error":"#DIV/0!"},{"$error":"#DIV/0!"}]
[189,{"$f":"IF(SISWA!B196=0,\"\",SISWA!B196)","v":""},{"$f":"IF(SISWA!C196=0,\"\",SISWA!C196)","v":""},{"$f":"IF(SISWA!D196=0,\"\",SISWA!D196)","v":""},{"$f":"IF(SISWA!E196=0,\"\",SISWA!E196)","v":""},null,null,null,null,null,{"$f":"AVERAGE(F196:J196)","v":{"$error":"#DIV/0!"}},null,null,{"$error":"#DIV/0!"},{"$error":"#DIV/0!"},{"$error":"#DIV/0!"}]
[190,{"$f":"IF(SISWA!B197=0,\"\",SISWA!B197)","v":""},{"$f":"IF(SISWA!C197=0,\"\",SISWA!C197)","v":""},{"$f":"IF(SISWA!D197=0,\"\",SISWA!D197)","v":""},{"$f":"IF(SISWA!E197=0,\"\",SISWA!E197)","v":""},null,null,null,null,null,{"$error":"#DIV/0!"},null,null,{"$error":"#DIV/0!"},{"$error":"#DIV/0!"},{"$error":"#DIV/0!"}]
[191,{"$f":"IF(SISWA!B198=0,\"\",SISWA!B198)","v":""},{"$f":"IF(SISWA!C198=0,\"\",SISWA!C198)","v":""},{"$f":"IF(SISWA!D198=0,\"\",SISWA!D198)","v":""},{"$f":"IF(SISWA!E198=0,\"\",SISWA!E198)","v":""},null,null,null,null,null,{"$error":"#DIV/0!"},null,null,{"$error":"#DIV/0!"},{"$error":"#DIV/0!"},{"$error":"#DIV/0!"}]
[192,{"$f":"IF(SISWA!B199=0,\"\",SISWA!B199)","v":""},{"$f":"IF(SISWA!C199=0,\"\",SISWA!C199)","v":""},{"$f":"IF(SISWA!D199=0,\"\",SISWA!D199)","v":""},{"$f":"IF(SISWA!E199=0,\"\",SISWA!E199)","v":""},null,null,null,null,null,{"$error":"#DIV/0!"},null,null,{"$error":"#DIV/0!"},{"$error":"#DIV/0!"},{"$error":"#DIV/0!"}]
[193,{"$f":"IF(SISWA!B200=0,\"\",SISWA!B200)","v":""},{"$f":"IF(SISWA!C200=0,\"\",SISWA!C200)","v":""},{"$f":"IF(SISWA!D200=0,\"\",SISWA!D200)","v":""},{"$f":"IF(SISWA!E200=0,\"\",SISWA!E200)","v":""},null,null,null,null,null,{"$error":"#DIV/0!"},null,null,{"$error":"#DIV/0!"},{"$error":"#DIV/0!"},{"$error":"#DIV/0!"}]
[194,{"$f":"IF(SISWA!B201=0,\"\",SISWA!B201)","v":""},{"$f":"IF(SISWA!C201=0,\"\",SISWA!C201)","v":""},{"$f":"IF(SISWA!D201=0,\"\",SISWA!D201)","v":""},{"$f":"IF(SISWA!E201=0,\"\",SISWA!E201)","v":""},null,null,null,null,null,{"$error":"#DIV/0!"},null,null,{"$error":"#DIV/0!"},{"$f":"AVERAGE(L201:M201)","v":{"$error":"#DIV/0!"}},{"$error":"#DIV/0!"}]
[195,{"$f":"IF(SISWA!B202=0,\"\",SISWA!B202)","v":""},{"$f":"IF(SISWA!C202=0,\"\",SISWA!C202)","v":""},{"$f":"IF(SISWA!D202=0,\"\",SISWA!D202)","v":""},{"$f":"IF(SISWA!E202=0,\"\",SISWA!E202)","v":""},null,null,null,null,null,{"$error":"#DIV/0!"},null,null,{"$error":"#DIV/0!"},{"$error":"#DIV/0!"},{"$error":"#DIV/0!"}]
[196,{"$f":"IF(SISWA!B203=0,\"\",SISWA!B203)","v":""},{"$f":"IF(SISWA!C203=0,\"\",SISWA!C203)","v":""},{"$f":"IF(SISWA!D203=0,\"\",SISWA!D203)","v":""},{"$f":"IF(SISWA!E203=0,\"\",SISWA!E203)","v":""},null,null,null,null,null,{"$error":"#DIV/0!"},null,null,{"$error":"#DIV/0!"},{"$error":"#DIV/0!"},{"$error":"#DIV/0!"}]
[197,{"$f":"IF(SISWA!B204=0,\"\",SISWA!B204)","v":""},{"$f":"IF(SISWA!C204=0,\"\",SISWA!C204)","v":""},{"$f":"IF(SISWA!D204=0,\"\",SISWA!D204)","v":""},{"$f":"IF(SISWA!E204=0,\"\",SISWA!E204)","v":""},null,null,null,null,null,{"$error":"#DIV/0!"},null,null,{"$error":"#DIV/0!"},{"$error":"#DIV/0!"},{"$error":"#DIV/0!"}]
[198,{"$f":"IF(SISWA!B205=0,\"\",SISWA!B205)","v":""},{"$f":"IF(SISWA!C205=0,\"\",SISWA!C205)","v":""},{"$f":"IF(SISWA!D205=0,\"\",SISWA!D205)","v":""},{"$f":"IF(SISWA!E205=0,\"\",SISWA!E205)","v":""},null,null,null,null,null,{"$error":"#DIV/0!"},null,null,{"$error":"#DIV/0!"},{"$error":"#DIV/0!"},{"$error":"#DIV/0!"}]
[199,{"$f":"IF(SISWA!B206=0,\"\",SISWA!B206)","v":""},{"$f":"IF(SISWA!C206=0,\"\",SISWA!C206)","v":""},{"$f":"IF(SISWA!D206=0,\"\",SISWA!D206)","v":""},{"$f":"IF(SISWA!E206=0,\"\",SISWA!E206)","v":""},null,null,null,null,null,{"$error":"#DIV/0!"},null,null,{"$error":"#DIV/0!"},{"$error":"#DIV/0!"},{"$error":"#DIV/0!"}]
[200,{"$f":"IF(SISWA!B207=0,\"\",SISWA!B207)","v":""},{"$f":"IF(SISWA!C207=0,\"\",SISWA!C207)","v":""},{"$f":"IF(SISWA!D207=0,\"\",SISWA!D207)","v":""},{"$f":"IF(SISWA!E207=0,\"\",SISWA!E207)","v":""},null,null,null,null,null,{"$error":"#DIV/0!"},null,null,{"$error":"#DIV/0!"},{"$error":"#DIV/0!"},{"$error":"#DIV/0!"}]

{"sheet":"AWJ","index":16,"n_rows":108,"n_cols":16,"rows_kept":108,"cut":false,"hidden":false,"merged":[[4,14,6,14],[5,5,5,9],[5,11,5,12],[0,0,0,9],[1,0,1,9],[2,0,2,9],[4,0,6,0],[4,1,6,1],[4,2,6,2],[4,3,6,3],[4,4,6,4],[4,5,4,12]]}
["DAFTAR NILAI AKHIR SEKOLAH"]
[{"$f":"AA!A2","v":"MADRASAH IBTIDAIYAH NURUL ISLAM LABRUK KIDUL"}]
[{"$f":"AA!A3","v":"TAHUN PELAJARAN 2019/2020"}]
[]
["NO","No Induk","NISN","Nomor Peserta","Nama Peserta","ASWAJA",null,null,null,null,null,null,null,null,"rata-rata UAM & PRAKTEK"]
[null,null,null,null,null,"Nilai Semester",null,null,null,null,"Rata- 2","NILAI UAM",null,null,null,"UAMNU"]
[null,null,null,null,null,7,8,9,10,11,"Rapor","TULIS","PRAKTIK",null,null,"TULIS"]
[1,{"$f":"IF(SISWA!B8=0,\"\",SISWA!B8)","v":4331},{"$f":"IF(SISWA!C8=0,\"\",SISWA!C8)","v":"0078140536"},{"$f":"IF(SISWA!D8=0,\"\",SISWA!D8)","v":"1-18-05-80-162-001-8"},{"$f":"IF(SISWA!E8=0,\"\",SISWA!E8)","v":"ACHMAD FATHIR IZUDDIN"},null,70,66,85,null,{"$f":"AVERAGE(F8:J8)","v":73.666666666666671},null,75,{"$f":"AVERAGE(L8:M8)","v":75},{"$f":"AVERAGE(L8:M8)","v":75},73.666666666666671]
[2,{"$f":"IF(SISWA!B9=0,\"\",SISWA!B9)","v":4333},{"$f":"IF(SISWA!C9=0,\"\",SISWA!C9)","v":"0084691896"},{"$f":"IF(SISWA!D9=0,\"\",SISWA!D9)","v":"1-18-05-80-162-002-7"},{"$f":"IF(SISWA!E9=0,\"\",SISWA!E9)","v":"AININ NAFISA FEBRIYANTI"},null,70,77,85,null,{"$f":"AVERAGE(F9:J9)","v":77.333333333333329},null,77,{"$f":"AVERAGE(L9:M9)","v":77},{"$f":"AVERAGE(L9:M9)","v":77},77.333333333333329]
[3,{"$f":"IF(SISWA!B10=0,\"\",SISWA!B10)","v":4334},{"$f":"IF(SISWA!C10=0,\"\",SISWA!C10)","v":"0075488897"},{"$f":"IF(SISWA!D10=0,\"\",SISWA!D10)","v":"1-18-05-80-162-003-6"},{"$f":"IF(SISWA!E10=0,\"\",SISWA!E10)","v":"AISYAH DWI ANDINI"},null,70,77,86,null,77.666666666666671,null,78,78,78,77.666666666666671]
[4,{"$f":"IF(SISWA!B11=0,\"\",SISWA!B11)","v":4335},{"$f":"IF(SISWA!C11=0,\"\",SISWA!C11)","v":"0077554289"},{"$f":"IF(SISWA!D11=0,\"\",SISWA!D11)","v":"1-18-05-80-162-004-5"},{"$f":"IF(SISWA!E11=0,\"\",SISWA!E11)","v":"AJENG AGUSTINA KIRANA PUTRI"},null,70,75,87,null,77.333333333333329,null,77,77,77,77.333333333333329]
[5,{"$f":"IF(SISWA!B12=0,\"\",SISWA!B12)","v":4336},{"$f":"IF(SISWA!C12=0,\"\",SISWA!C12)","v":"0078831956"},{"$f":"IF(SISWA!D12=0,\"\",SISWA!D12)","v":"1-18-05-80-162-005-4"},{"$f":"IF(SISWA!E12=0,\"\",SISWA!E12)","v":"ALVIAN FAIZULHAQQI"},null,68,65,84,null,72.333333333333329,null,73,73,73,72.333333333333329]
[6,{"$f":"IF(SISWA!B13=0,\"\",SISWA!B13)","v":4337},{"$f":"IF(SISWA!C13=0,\"\",SISWA!C13)","v":"0073667130"},{"$f":"IF(SISWA!D13=0,\"\",SISWA!D13)","v":"1-18-05-80-162-006-3"},{"$f":"IF(SISWA!E13=0,\"\",SISWA!E13)","v":"ANGGITA RIZKY YUGA MEISYA"},null,70,77,86,null,77.666666666666671,null,78,78,78,77.666666666666671]
[7,{"$f":"IF(SISWA!B14=0,\"\",SISWA!B14)","v":4338},{"$f":"IF(SISWA!C14=0,\"\",SISWA!C14)","v":"0074492973"},{"$f":"IF(SISWA!D14=0,\"\",SISWA!D14)","v":"1-18-05-80-162-007-2"},{"$f":"IF(SISWA!E14=0,\"\",SISWA!E14)","v":"AURA SALSABILA WULAN SARI"},null,70,75,86,null,77,null,77,77,77,77]
[8,{"$f":"IF(SISWA!B15=0,\"\",SISWA!B15)","v":4366},{"$f":"IF(SISWA!C15=0,\"\",SISWA!C15)","v":"0078989673"},{"$f":"IF(SISWA!D15=0,\"\",SISWA!D15)","v":"1-18-05-80-162-008-9"},{"$f":"IF(SISWA!E15=0,\"\",SISWA!E15)","v":"BALQIS NAILA AUDIA"},null,70,78,88,null,78.666666666666671,null,79,79,79,78.666666666666671]
[9,{"$f":"IF(SISWA!B16=0,\"\",SISWA!B16)","v":4440},{"$f":"IF(SISWA!C16=0,\"\",SISWA!C16)","v":"0082763386"},{"$f":"IF(SISWA!D16=0,\"\",SISWA!D16)","v":"1-18-05-80-162-009-8"},{"$f":"IF(SISWA!E16=0,\"\",SISWA!E16)","v":"BIMA ARYO SUSILO"},null,70,73,86,null,76.333333333333329,null,76,76,76,76.333333333333329]
[10,{"$f":"IF(SISWA!B17=0,\"\",SISWA!B17)","v":4367},{"$f":"IF(SISWA!C17=0,\"\",SISWA!C17)","v":"0078400392"},{"$f":"IF(SISWA!D17=0,\"\",SISWA!D17)","v":"1-18-05-80-162-010-7"},{"$f":"IF(SISWA!E17=0,\"\",SISWA!E17)","v":"BIMA SATRIA DIRGANTARA"},null,63,70,86,null,73,null,73,73,73,73]
[11,{"$f":"IF(SISWA!B18=0,\"\",SISWA!B18)","v":4339},{"$f":"IF(SISWA!C18=0,\"\",SISWA!C18)","v":"0086652599"},{"$f":"IF(SISWA!D18=0,\"\",SISWA!D18)","v":"1-18-05-80-162-011-6"},{"$f":"IF(SISWA!E18=0,\"\",SISWA!E18)","v":"DEVI KARUNIA RATNA PUTRI"},null,70,75,88,null,77.666666666666671,null,78,78,78,77.666666666666671]
[12,{"$f":"IF(SISWA!B19=0,\"\",SISWA!B19)","v":4340},{"$f":"IF(SISWA!C19=0,\"\",SISWA!C19)","v":"0089906682"},{"$f":"IF(SISWA!D19=0,\"\",SISWA!D19)","v":"1-18-05-80-162-012-5"},{"$f":"IF(SISWA!E19=0,\"\",SISWA!E19)","v":"DEVITA FEBRIANI PUTRI"},null,70,75,88,null,77.666666666666671,null,78,78,78,77.666666666666671]
[13,{"$f":"IF(SISWA!B20=0,\"\",SISWA!B20)","v":4370},{"$f":"IF(SISWA!C20=0,\"\",SISWA!C20)","v":"0074514146"},{"$f":"IF(SISWA!D20=0,\"\",SISWA!D20)","v":"1-18-05-80-162-013-4"},{"$f":"IF(SISWA!E20=0,\"\",SISWA!E20)","v":"FAKHIS GABRIL LIA"},null,70,75,86,null,77,null,{"$f":"K20","v":77},77,77,77]
[14,{"$f":"IF(SISWA!B21=0,\"\",SISWA!B21)","v":4342},{"$f":"IF(SISWA!C21=0,\"\",SISWA!C21)","v":"0081081672"},{"$f":"IF(SISWA!D21=0,\"\",SISWA!D21)","v":"1-18-05-80-162-014-3"},{"$f":"IF(SISWA!E21=0,\"\",SISWA!E21)","v":"FARAH NAILATUL ALYAH"},null,null,75,86,null,80.5,null,80.5,80.5,80.5,80.5]
[15,{"$f":"IF(SISWA!B22=0,\"\",SISWA!B22)","v":4345},{"$f":"IF(SISWA!C22=0,\"\",SISWA!C22)","v":"0073420487"},{"$f":"IF(SISWA!D22=0,\"\",SISWA!D22)","v":"1-18-05-80-162-015-2"},{"$f":"IF(SISWA!E22=0,\"\",SISWA!E22)","v":"GALANG MARDHOTILLAH SATOTO"},null,70,70,85,null,75,null,75,75,75,75]
[16,{"$f":"IF(SISWA!B23=0,\"\",SISWA!B23)","v":4371},{"$f":"IF(SISWA!C23=0,\"\",SISWA!C23)","v":"0079870082"},{"$f":"IF(SISWA!D23=0,\"\",SISWA!D23)","v":"1-18-05-80-162-016-9"},{"$f":"IF(SISWA!E23=0,\"\",SISWA!E23)","v":"GALIH FAREL PRASTYO"},null,63,73,86,null,74,null,74,74,74,74]
[17,{"$f":"IF(SISWA!B24=0,\"\",SISWA!B24)","v":4466},{"$f":"IF(SISWA!C24=0,\"\",SISWA!C24)","v":"0081629504"},{"$f":"IF(SISWA!D24=0,\"\",SISWA!D24)","v":"1-18-05-80-162-017-8"},{"$f":"IF(SISWA!E24=0,\"\",SISWA!E24)","v":"HIBATULLAH MUSTAGHFIRY RUSLI"},null,null,72,86,null,79,null,79,79,79,79]
[18,{"$f":"IF(SISWA!B25=0,\"\",SISWA!B25)","v":4346},{"$f":"IF(SISWA!C25=0,\"\",SISWA!C25)","v":"0073608418"},{"$f":"IF(SISWA!D25=0,\"\",SISWA!D25)","v":"1-18-05-80-162-018-7"},{"$f":"IF(SISWA!E25=0,\"\",SISWA!E25)","v":"IKA KURNIA WATI AGUSTINA"},null,70,70,87,null,75.666666666666671,null,75.666666666666671,75.666666666666671,75.666666666666671,75.666666666666671]
[19,{"$f":"IF(SISWA!B26=0,\"\",SISWA!B26)","v":4350},{"$f":"IF(SISWA!C26=0,\"\",SISWA!C26)","v":"0072658586"},{"$f":"IF(SISWA!D26=0,\"\",SISWA!D26)","v":"1-18-05-80-162-019-6"},{"$f":"IF(SISWA!E26=0,\"\",SISWA!E26)","v":"MAYLUNA EKA PRATIWI"},null,null,73,88,null,80.5,null,80.5,80.5,80.5,80.5]
[20,{"$f":"IF(SISWA!B27=0,\"\",SISWA!B27)","v":4353},{"$f":"IF(SISWA!C27=0,\"\",SISWA!C27)","v":"0075464137"},{"$f":"IF(SISWA!D27=0,\"\",SISWA!D27)","v":"1-18-05-80-162-020-5"},{"$f":"IF(SISWA!E27=0,\"\",SISWA!E27)","v":"MOHAMAD DWIMAS FIRDAUS"},null,null,64,86,null,75,null,75,75,75,75]
[21,{"$f":"IF(SISWA!B28=0,\"\",SISWA!B28)","v":4375},{"$f":"IF(SISWA!C28=0,\"\",SISWA!C28)","v":"0075096831"},{"$f":"IF(SISWA!D28=0,\"\",SISWA!D28)","v":"1-18-05-80-162-021-4"},{"$f":"IF(SISWA!E28=0,\"\",SISWA!E28)","v":"MUHAMMAD AFFAN ABI SYAHPUTRA"},null,null,72,85,null,78.5,null,78.5,78.5,78.5,78.5]
[22,{"$f":"IF(SISWA!B29=0,\"\",SISWA!B29)","v":4354},{"$f":"IF(SISWA!C29=0,\"\",SISWA!C29)","v":"0075055640"},{"$f":"IF(SISWA!D29=0,\"\",SISWA!D29)","v":"1-18-05-80-162-022-3"},{"$f":"IF(SISWA!E29=0,\"\",SISWA!E29)","v":"MUHAMMAD ALVIN RIDHO"},null,68,65,86,null,73,null,73,73,73,73]
[23,{"$f":"IF(SISWA!B30=0,\"\",SISWA!B30)","v":4378},{"$f":"IF(SISWA!C30=0,\"\",SISWA!C30)","v":"0074268893"},{"$f":"IF(SISWA!D30=0,\"\",SISWA!D30)","v":"1-18-05-80-162-023-2"},{"$f":"IF(SISWA!E30=0,\"\",SISWA!E30)","v":"MUKHAMAD DAVID ARIF FIRDAUS"},null,null,70,87,null,78.5,null,78.5,78.5,78.5,78.5]
[24,{"$f":"IF(SISWA!B31=0,\"\",SISWA!B31)","v":4379},{"$f":"IF(SISWA!C31=0,\"\",SISWA!C31)","v":"0072757203"},{"$f":"IF(SISWA!D31=0,\"\",SISWA!D31)","v":"1-18-05-80-162-024-9"},{"$f":"IF(SISWA!E31=0,\"\",SISWA!E31)","v":"NAORA ISQI AINAYYA"},null,null,73,88,null,80.5,null,80.5,80.5,80.5,80.5]
[25,{"$f":"IF(SISWA!B32=0,\"\",SISWA!B32)","v":4380},{"$f":"IF(SISWA!C32=0,\"\",SISWA!C32)","v":"0079026285"},{"$f":"IF(SISWA!D32=0,\"\",SISWA!D32)","v":"1-18-05-80-162-025-8"},{"$f":"IF(SISWA!E32=0,\"\",SISWA!E32)","v":"NAZRA ISLAMAY PASHA"},null,null,73,87,null,80,null,80,80,80,80]
[26,{"$f":"IF(SISWA!B33=0,\"\",SISWA!B33)","v":4382},{"$f":"IF(SISWA!C33=0,\"\",SISWA!C33)","v":"0079872151"},{"$f":"IF(SISWA!D33=0,\"\",SISWA!D33)","v":"1-18-05-80-162-026-7"},{"$f":"IF(SISWA!E33=0,\"\",SISWA!E33)","v":"NUR ALYA NABILA"},null,null,73,87,null,80,null,80,80,80,80]
[27,{"$f":"IF(SISWA!B34=0,\"\",SISWA!B34)","v":4358},{"$f":"IF(SISWA!C34=0,\"\",SISWA!C34)","v":"0087558837"},{"$f":"IF(SISWA!D34=0,\"\",SISWA!D34)","v":"1-18-05-80-162-027-6"},{"$f":"IF(SISWA!E34=0,\"\",SISWA!E34)","v":"PUTRI SHOLIKHAH"},null,null,73,86,null,79.5,null,79.5,79.5,79.5,79.5]
[28,{"$f":"IF(SISWA!B35=0,\"\",SISWA!B35)","v":4384},{"$f":"IF(SISWA!C35=0,\"\",SISWA!C35)","v":"0071234523"},{"$f":"IF(SISWA!D35=0,\"\",SISWA!D35)","v":"1-18-05-80-162-028-5"},{"$f":"IF(SISWA!E35=0,\"\",SISWA!E35)","v":"RESTI FITRIANTI DWI OCTAVIANI"},null,null,73,85,null,79,null,79,79,79,79]
[29,{"$f":"IF(SISWA!B36=0,\"\",SISWA!B36)","v":4359},{"$f":"IF(SISWA!C36=0,\"\",SISWA!C36)","v":"0073122181"},{"$f":"IF(SISWA!D36=0,\"\",SISWA!D36)","v":"1-18-05-80-162-029-4"},{"$f":"IF(SISWA!E36=0,\"\",SISWA!E36)","v":"ROUDHOTUS SA'DIYAH"},null,null,73,86,null,79.5,null,79.5,79.5,79.5,79.5]
[30,{"$f":"IF(SISWA!B37=0,\"\",SISWA!B37)","v":4386},{"$f":"IF(SISWA!C37=0,\"\",SISWA!C37)","v":"0075344352"},{"$f":"IF(SISWA!D37=0,\"\",SISWA!D37)","v":"1-18-05-80-162-030-3"},{"$f":"IF(SISWA!E37=0,\"\",SISWA!E37)","v":"TIERSYA BETA RAMANUZAN"},null,null,77,89,null,83,null,83,83,83,83]
[31,{"$f":"IF(SISWA!B38=0,\"\",SISWA!B38)","v":4388},{"$f":"IF(SISWA!C38=0,\"\",SISWA!C38)","v":"0077423646"},{"$f":"IF(SISWA!D38=0,\"\",SISWA!D38)","v":"1-18-05-80-162-031-2"},{"$f":"IF(SISWA!E38=0,\"\",SISWA!E38)","v":"VERA MUSTIKA"},null,null,75,86,null,80.5,null,80.5,80.5,80.5,80.5]
[32,{"$f":"IF(SISWA!B39=0,\"\",SISWA!B39)","v":4360},{"$f":"IF(SISWA!C39=0,\"\",SISWA!C39)","v":"0077290990"},{"$f":"IF(SISWA!D39=0,\"\",SISWA!D39)","v":"1-18-05-80-162-032-9"},{"$f":"IF(SISWA!E39=0,\"\",SISWA!E39)","v":"ZIDNY ILMA NABILA"},null,null,77,88,null,82.5,null,82.5,82.5,82.5,82.5]
[33,{"$f":"IF(SISWA!B40=0,\"\",SISWA!B40)","v":4390},{"$f":"IF(SISWA!C40=0,\"\",SISWA!C40)","v":"0077722307"},{"$f":"IF(SISWA!D40=0,\"\",SISWA!D40)","v":"1-18-05-80-162-033-8"},{"$f":"IF(SISWA!E40=0,\"\",SISWA!E40)","v":"ZITNATUL AULIA ILLA"},null,null,77,88,null,82.5,null,82.5,82.5,82.5,82.5]
[34,{"$f":"IF(SISWA!B41=0,\"\",SISWA!B41)","v":4330},{"$f":"IF(SISWA!C41=0,\"\",SISWA!C41)","v":"0084736422"},{"$f":"IF(SISWA!D41=0,\"\",SISWA!D41)","v":"1-18-05-80-162-034-7"},{"$f":"IF(SISWA!E41=0,\"\",SISWA!E41)","v":"ACHID ATHIRIL ARDAN"},null,65,null,null,null,65,null,65,65,65,65]
[35,{"$f":"IF(SISWA!B42=0,\"\",SISWA!B42)","v":4361},{"$f":"IF(SISWA!C42=0,\"\",SISWA!C42)","v":"0075656390"},{"$f":"IF(SISWA!D42=0,\"\",SISWA!D42)","v":"1-18-05-80-162-035-6"},{"$f":"IF(SISWA!E42=0,\"\",SISWA!E42)","v":"ACHMAD SEPTIAN HAMDANI"},null,68,null,null,null,68,null,68,68,68,68]
[36,{"$f":"IF(SISWA!B43=0,\"\",SISWA!B43)","v":4362},{"$f":"IF(SISWA!C43=0,\"\",SISWA!C43)","v":"0071796138"},{"$f":"IF(SISWA!D43=0,\"\",SISWA!D43)","v":"1-18-05-80-162-036-5"},{"$f":"IF(SISWA!E43=0,\"\",SISWA!E43)","v":"ACHMAD SULAIMAN"},null,70,null,null,null,70,null,70,70,70,70]
[37,{"$f":"IF(SISWA!B44=0,\"\",SISWA!B44)","v":4364},{"$f":"IF(SISWA!C44=0,\"\",SISWA!C44)","v":"0079667684"},{"$f":"IF(SISWA!D44=0,\"\",SISWA!D44)","v":"1-18-05-80-162-037-4"},{"$f":"IF(SISWA!E44=0,\"\",SISWA!E44)","v":"AIRLANGGA DWIKA RIZQI"},null,65,null,null,null,65,null,65,65,65,65]
[38,{"$f":"IF(SISWA!B45=0,\"\",SISWA!B45)","v":4365},{"$f":"IF(SISWA!C45=0,\"\",SISWA!C45)","v":"0089321127"},{"$f":"IF(SISWA!D45=0,\"\",SISWA!D45)","v":"1-18-05-80-162-038-3"},{"$f":"IF(SISWA!E45=0,\"\",SISWA!E45)","v":"AUFAN AZKAL ABRORI"},null,70,null,null,null,70,null,70,70,70,70]
[39,{"$f":"IF(SISWA!B46=0,\"\",SISWA!B46)","v":4465},{"$f":"IF(SISWA!C46=0,\"\",SISWA!C46)","v":"0071776593"},{"$f":"IF(SISWA!D46=0,\"\",SISWA!D46)","v":"1-18-05-80-162-039-2"},{"$f":"IF(SISWA!E46=0,\"\",SISWA!E46)","v":"AZZA PRISHAL DWI PUTRA"},null,65,null,null,null,65,null,65,65,65,65]
[40,{"$f":"IF(SISWA!B47=0,\"\",SISWA!B47)","v":4368},{"$f":"IF(SISWA!C47=0,\"\",SISWA!C47)","v":"0074569410"},{"$f":"IF(SISWA!D47=0,\"\",SISWA!D47)","v":"1-18-05-80-162-040-9"},{"$f":"IF(SISWA!E47=0,\"\",SISWA!E47)","v":"EKA AULIYA` PUTRI"},null,70,null,null,null,70,null,70,70,70,70]
[41,{"$f":"IF(SISWA!B48=0,\"\",SISWA!B48)","v":4341},{"$f":"IF(SISWA!C48=0,\"\",SISWA!C48)","v":"0083684457"},{"$f":"IF(SISWA!D48=0,\"\",SISWA!D48)","v":"1-18-05-80-162-041-8"},{"$f":"IF(SISWA!E48=0,\"\",SISWA!E48)","v":"ERSA PUSPITA EKA ROSA LINDA"},null,68,null,null,null,68,null,68,68,68,68]
[42,{"$f":"IF(SISWA!B49=0,\"\",SISWA!B49)","v":4369},{"$f":"IF(SISWA!C49=0,\"\",SISWA!C49)","v":"0078481731"},{"$f":"IF(SISWA!D49=0,\"\",SISWA!D49)","v":"1-18-05-80-162-042-7"},{"$f":"IF(SISWA!E49=0,\"\",SISWA!E49)","v":"FABIYAN TRI BAKTI OKTAFIAN"},null,70,null,null,null,70,null,70,70,70,70]
[43,{"$f":"IF(SISWA!B50=0,\"\",SISWA!B50)","v":4343},{"$f":"IF(SISWA!C50=0,\"\",SISWA!C50)","v":3075965396},{"$f":"IF(SISWA!D50=0,\"\",SISWA!D50)","v":"1-18-05-80-162-043-6"},{"$f":"IF(SISWA!E50=0,\"\",SISWA!E50)","v":"FELISITA APRILIA NUR NIHAYA"},null,63,null,null,null,63,null,63,63,63,63]
[44,{"$f":"IF(SISWA!B51=0,\"\",SISWA!B51)","v":4344},{"$f":"IF(SISWA!C51=0,\"\",SISWA!C51)","v":3078948093},{"$f":"IF(SISWA!D51=0,\"\",SISWA!D51)","v":"1-18-05-80-162-044-5"},{"$f":"IF(SISWA!E51=0,\"\",SISWA!E51)","v":"FIRDA DWI ANDRIANI"},null,70,null,null,null,70,null,70,70,70,70]
[45,{"$f":"IF(SISWA!B52=0,\"\",SISWA!B52)","v":4372},{"$f":"IF(SISWA!C52=0,\"\",SISWA!C52)","v":"0087636520"},{"$f":"IF(SISWA!D52=0,\"\",SISWA!D52)","v":"1-18-05-80-162-045-4"},{"$f":"IF(SISWA!E52=0,\"\",SISWA!E52)","v":"GILANG AKBAR PRASETYO"},null,70,null,null,null,70,null,70,70,70,70]
[46,{"$f":"IF(SISWA!B53=0,\"\",SISWA!B53)","v":4373},{"$f":"IF(SISWA!C53=0,\"\",SISWA!C53)","v":"0087373224"},{"$f":"IF(SISWA!D53=0,\"\",SISWA!D53)","v":"1-18-05-80-162-046-3"},{"$f":"IF(SISWA!E53=0,\"\",SISWA!E53)","v":"IFTAH IZZAH EMILIA  MAHMUD"},null,65,null,null,null,65,null,65,65,65,65]
[47,{"$f":"IF(SISWA!B54=0,\"\",SISWA!B54)","v":4441},{"$f":"IF(SISWA!C54=0,\"\",SISWA!C54)","v":"0081758949"},{"$f":"IF(SISWA!D54=0,\"\",SISWA!D54)","v":"1-18-05-80-162-047-2"},{"$f":"IF(SISWA!E54=0,\"\",SISWA!E54)","v":"INES ARIFANI MAULINA"},null,63,null,null,null,63,null,63,63,63,63]
[48,{"$f":"IF(SISWA!B55=0,\"\",SISWA!B55)","v":4374},{"$f":"IF(SISWA!C55=0,\"\",SISWA!C55)","v":"0073409469"},{"$f":"IF(SISWA!D55=0,\"\",SISWA!D55)","v":"1-18-05-80-162-048-9"},{"$f":"IF(SISWA!E55=0,\"\",SISWA!E55)","v":"IYAAD AFLAKHA RAMZII"},null,70,null,null,null,70,null,70,70,70,70]
[49,{"$f":"IF(SISWA!B56=0,\"\",SISWA!B56)","v":4305},{"$f":"IF(SISWA!C56=0,\"\",SISWA!C56)","v":"0068258891"},{"$f":"IF(SISWA!D56=0,\"\",SISWA!D56)","v":"1-18-05-80-162-049-8"},{"$f":"IF(SISWA!E56=0,\"\",SISWA!E56)","v":"JULI ANDRIYANTO"},null,65,null,null,null,65,null,65,65,65,65]
[50,{"$f":"IF(SISWA!B57=0,\"\",SISWA!B57)","v":4347},{"$f":"IF(SISWA!C57=0,\"\",SISWA!C57)","v":"0076367763"},{"$f":"IF(SISWA!D57=0,\"\",SISWA!D57)","v":"1-18-05-80-162-050-7"},{"$f":"IF(SISWA!E57=0,\"\",SISWA!E57)","v":"LIYA FEBRIYANI"},null,65,null,null,null,65,null,65,65,65,65]
[51,{"$f":"IF(SISWA!B58=0,\"\",SISWA!B58)","v":4348},{"$f":"IF(SISWA!C58=0,\"\",SISWA!C58)","v":"0083034332"},{"$f":"IF(SISWA!D58=0,\"\",SISWA!D58)","v":"1-18-05-80-162-051-6"},{"$f":"IF(SISWA!E58=0,\"\",SISWA!E58)","v":"LIZATUL CHAIYUNI"},null,65,null,null,null,65,null,65,65,65,65]
[52,{"$f":"IF(SISWA!B59=0,\"\",SISWA!B59)","v":4531},{"$f":"IF(SISWA!C59=0,\"\",SISWA!C59)","v":3099539154},{"$f":"IF(SISWA!D59=0,\"\",SISWA!D59)","v":"1-18-05-80-162-052-5"},{"$f":"IF(SISWA!E59=0,\"\",SISWA!E59)","v":"M. ALHAFIS"},null,65,null,null,null,65,null,65,65,65,65]
[53,{"$f":"IF(SISWA!B60=0,\"\",SISWA!B60)","v":4530},{"$f":"IF(SISWA!C60=0,\"\",SISWA!C60)","v":"0077015789"},{"$f":"IF(SISWA!D60=0,\"\",SISWA!D60)","v":"1-18-05-80-162-053-4"},{"$f":"IF(SISWA!E60=0,\"\",SISWA!E60)","v":"MUHAMMAD RIZKI RIDWAN"},null,65,null,null,null,65,null,65,65,65,65]
[54,{"$f":"IF(SISWA!B61=0,\"\",SISWA!B61)","v":4351},{"$f":"IF(SISWA!C61=0,\"\",SISWA!C61)","v":"0076361559"},{"$f":"IF(SISWA!D61=0,\"\",SISWA!D61)","v":"1-18-05-80-162-054-3"},{"$f":"IF(SISWA!E61=0,\"\",SISWA!E61)","v":"MOCHAMAD RAFLI DIAN SAPUTRA"},null,65,null,null,null,65,null,65,65,65,65]
[55,{"$f":"IF(SISWA!B62=0,\"\",SISWA!B62)","v":4352},{"$f":"IF(SISWA!C62=0,\"\",SISWA!C62)","v":"0075591405"},{"$f":"IF(SISWA!D62=0,\"\",SISWA!D62)","v":"1-18-05-80-162-055-2"},{"$f":"IF(SISWA!E62=0,\"\",SISWA!E62)","v":"MOCHAMMAD AFAREL PUTRA RAMDHANA"},null,65,null,null,null,65,null,65,65,65,65]
[56,{"$f":"IF(SISWA!B63=0,\"\",SISWA!B63)","v":4355},{"$f":"IF(SISWA!C63=0,\"\",SISWA!C63)","v":"0075363258"},{"$f":"IF(SISWA!D63=0,\"\",SISWA!D63)","v":"1-18-05-80-162-056-9"},{"$f":"IF(SISWA!E63=0,\"\",SISWA!E63)","v":"MUHAMAD JEFRI MAULANA"},null,65,null,null,null,65,null,65,65,65,65]
[57,{"$f":"IF(SISWA!B64=0,\"\",SISWA!B64)","v":4376},{"$f":"IF(SISWA!C64=0,\"\",SISWA!C64)","v":"0072066741"},{"$f":"IF(SISWA!D64=0,\"\",SISWA!D64)","v":"1-18-05-80-162-057-8"},{"$f":"IF(SISWA!E64=0,\"\",SISWA!E64)","v":"MUHAMMAD DWI WILDAN BAGUS KURNIAWAN"},null,65,null,null,null,65,null,65,65,65,65]
[58,{"$f":"IF(SISWA!B65=0,\"\",SISWA!B65)","v":4377},{"$f":"IF(SISWA!C65=0,\"\",SISWA!C65)","v":"0071459044"},{"$f":"IF(SISWA!D65=0,\"\",SISWA!D65)","v":"1-18-05-80-162-058-7"},{"$f":"IF(SISWA!E65=0,\"\",SISWA!E65)","v":"MUHAMMAD FARIL FIRMANSYA"},null,65,null,null,null,65,null,65,65,65,65]
[59,{"$f":"IF(SISWA!B66=0,\"\",SISWA!B66)","v":4349},{"$f":"IF(SISWA!C66=0,\"\",SISWA!C66)","v":"0074206034"},{"$f":"IF(SISWA!D66=0,\"\",SISWA!D66)","v":"1-18-05-80-162-059-6"},{"$f":"IF(SISWA!E66=0,\"\",SISWA!E66)","v":"MUHAMMAD FARIZ UBAIDILLA"},null,65,null,null,null,65,null,65,65,65,65]
[60,{"$f":"IF(SISWA!B67=0,\"\",SISWA!B67)","v":4356},{"$f":"IF(SISWA!C67=0,\"\",SISWA!C67)","v":"0077937892"},{"$f":"IF(SISWA!D67=0,\"\",SISWA!D67)","v":"1-18-05-80-162-060-5"},{"$f":"IF(SISWA!E67=0,\"\",SISWA!E67)","v":"MUHAMMAD MAULANA ZIDANIL ILMI"},null,65,null,null,null,65,null,65,65,65,65]
[61,{"$f":"IF(SISWA!B68=0,\"\",SISWA!B68)","v":4357},{"$f":"IF(SISWA!C68=0,\"\",SISWA!C68)","v":"0078608527"},{"$f":"IF(SISWA!D68=0,\"\",SISWA!D68)","v":"1-18-05-80-162-061-4"},{"$f":"IF(SISWA!E68=0,\"\",SISWA!E68)","v":"MUHAMMAD SUTRISNO ISMAIL"},null,65,null,null,null,65,null,65,65,65,65]
[62,{"$f":"IF(SISWA!B69=0,\"\",SISWA!B69)","v":4381},{"$f":"IF(SISWA!C69=0,\"\",SISWA!C69)","v":"0072209435"},{"$f":"IF(SISWA!D69=0,\"\",SISWA!D69)","v":"1-18-05-80-162-062-3"},{"$f":"IF(SISWA!E69=0,\"\",SISWA!E69)","v":"NOVITA ERNIAWAN"},null,65,null,null,null,65,null,65,65,65,65]
[63,{"$f":"IF(SISWA!B70=0,\"\",SISWA!B70)","v":4383},{"$f":"IF(SISWA!C70=0,\"\",SISWA!C70)","v":"0077439834"},{"$f":"IF(SISWA!D70=0,\"\",SISWA!D70)","v":"1-18-05-80-162-063-2"},{"$f":"IF(SISWA!E70=0,\"\",SISWA!E70)","v":"PUTRI AULIA DWI AGUSTIN"},null,65,null,null,null,65,null,65,65,65,65]
[64,{"$f":"IF(SISWA!B71=0,\"\",SISWA!B71)","v":4385},{"$f":"IF(SISWA!C71=0,\"\",SISWA!C71)","v":"0073137310"},{"$f":"IF(SISWA!D71=0,\"\",SISWA!D71)","v":"1-18-05-80-162-064-9"},{"$f":"IF(SISWA!E71=0,\"\",SISWA!E71)","v":"STANY RAFIDAH RAHMANIA"},null,70,null,null,null,70,null,70,70,70,70]
[65,{"$f":"IF(SISWA!B72=0,\"\",SISWA!B72)","v":4387},{"$f":"IF(SISWA!C72=0,\"\",SISWA!C72)","v":"0077336427"},{"$f":"IF(SISWA!D72=0,\"\",SISWA!D72)","v":"1-18-05-80-162-065-8"},{"$f":"IF(SISWA!E72=0,\"\",SISWA!E72)","v":"USWATUN KHASANAH"},null,70,null,null,null,70,null,70,70,70,70]
[66,{"$f":"IF(SISWA!B73=0,\"\",SISWA!B73)","v":4389},{"$f":"IF(SISWA!C73=0,\"\",SISWA!C73)","v":"0078407631"},{"$f":"IF(SISWA!D73=0,\"\",SISWA!D73)","v":"1-18-05-80-162-066-7"},{"$f":"IF(SISWA!E73=0,\"\",SISWA!E73)","v":"VIKROUL KHAMILA"},null,65,null,null,null,{"$f":"AVERAGE(F73:J73)","v":65},null,{"$f":"K73","v":65},{"$f":"AVERAGE(L73:M73)","v":65},{"$f":"AVERAGE(L73:M73)","v":65},65]
[67,{"$f":"IF(SISWA!B74=0,\"\",SISWA!B74)","v":""},{"$f":"IF(SISWA!C74=0,\"\",SISWA!C74)","v":""},{"$f":"IF(SISWA!D74=0,\"\",SISWA!D74)","v":""},{"$f":"IF(SISWA!E74=0,\"\",SISWA!E74)","v":""},null,null,null,null,null,{"$error":"#DIV/0!"},null,null,{"$error":"#DIV/0!"},{"$error":"#DIV/0!"},{"$error":"#DIV/0!"}]
[68,{"$f":"IF(SISWA!B75=0,\"\",SISWA!B75)","v":""},{"$f":"IF(SISWA!C75=0,\"\",SISWA!C75)","v":""},{"$f":"IF(SISWA!D75=0,\"\",SISWA!D75)","v":""},{"$f":"IF(SISWA!E75=0,\"\",SISWA!E75)","v":""},null,null,null,null,null,{"$error":"#DIV/0!"},null,null,{"$error":"#DIV/0!"},{"$error":"#DIV/0!"},{"$error":"#DIV/0!"}]
[69,{"$f":"IF(SISWA!B76=0,\"\",SISWA!B76)","v":""},{"$f":"IF(SISWA!C76=0,\"\",SISWA!C76)","v":""},{"$f":"IF(SISWA!D76=0,\"\",SISWA!D76)","v":""},{"$f":"IF(SISWA!E76=0,\"\",SISWA!E76)","v":""},null,null,null,null,null,{"$error":"#DIV/0!"},null,null,{"$error":"#DIV/0!"},{"$error":"#DIV/0!"},{"$error":"#DIV/0!"}]
[70,{"$f":"IF(SISWA!B77=0,\"\",SISWA!B77)","v":""},{"$f":"IF(SISWA!C77=0,\"\",SISWA!C77)","v":""},{"$f":"IF(SISWA!D77=0,\"\",SISWA!D77)","v":""},{"$f":"IF(SISWA!E77=0,\"\",SISWA!E77)","v":""},null,null,null,null,null,{"$error":"#DIV/0!"},null,null,{"$error":"#DIV/0!"},{"$error":"#DIV/0!"},{"$error":"#DIV/0!"}]
[71,{"$f":"IF(SISWA!B78=0,\"\",SISWA!B78)","v":""},{"$f":"IF(SISWA!C78=0,\"\",SISWA!C78)","v":""},{"$f":"IF(SISWA!D78=0,\"\",SISWA!D78)","v":""},{"$f":"IF(SISWA!E78=0,\"\",SISWA!E78)","v":""},null,null,null,null,null,{"$error":"#DIV/0!"},null,null,{"$error":"#DIV/0!"},{"$error":"#DIV/0!"},{"$error":"#DIV/0!"}]
[72,{"$f":"IF(SISWA!B79=0,\"\",SISWA!B79)","v":""},{"$f":"IF(SISWA!C79=0,\"\",SISWA!C79)","v":""},{"$f":"IF(SISWA!D79=0,\"\",SISWA!D79)","v":""},{"$f":"IF(SISWA!E79=0,\"\",SISWA!E79)","v":""},null,null,null,null,null,{"$error":"#DIV/0!"},null,null,{"$error":"#DIV/0!"},{"$error":"#DIV/0!"},{"$error":"#DIV/0!"}]
[73,{"$f":"IF(SISWA!B80=0,\"\",SISWA!B80)","v":""},{"$f":"IF(SISWA!C80=0,\"\",SISWA!C80)","v":""},{"$f":"IF(SISWA!D80=0,\"\",SISWA!D80)","v":""},{"$f":"IF(SISWA!E80=0,\"\",SISWA!E80)","v":""},null,null,null,null,null,{"$error":"#DIV/0!"},null,null,{"$error":"#DIV/0!"},{"$error":"#DIV/0!"},{"$error":"#DIV/0!"}]
[74,{"$f":"IF(SISWA!B81=0,\"\",SISWA!B81)","v":""},{"$f":"IF(SISWA!C81=0,\"\",SISWA!C81)","v":""},{"$f":"IF(SISWA!D81=0,\"\",SISWA!D81)","v":""},{"$f":"IF(SISWA!E81=0,\"\",SISWA!E81)","v":""},null,null,null,null,null,{"$error":"#DIV/0!"},null,null,{"$error":"#DIV/0!"},{"$error":"#DIV/0!"},{"$error":"#DIV/0!"}]
[75,{"$f":"IF(SISWA!B82=0,\"\",SISWA!B82)","v":""},{"$f":"IF(SISWA!C82=0,\"\",SISWA!C82)","v":""},{"$f":"IF(SISWA!D82=0,\"\",SISWA!D82)","v":""},{"$f":"IF(SISWA!E82=0,\"\",SISWA!E82)","v":""},null,null,null,null,null,{"$error":"#DIV/0!"},null,null,{"$error":"#DIV/0!"},{"$error":"#DIV/0!"},{"$error":"#DIV/0!"}]
[76,{"$f":"IF(SISWA!B83=0,\"\",SISWA!B83)","v":""},{"$f":"IF(SISWA!C83=0,\"\",SISWA!C83)","v":""},{"$f":"IF(SISWA!D83=0,\"\",SISWA!D83)","v":""},{"$f":"IF(SISWA!E83=0,\"\",SISWA!E83)","v":""},null,null,null,null,null,{"$error":"#DIV/0!"},null,null,{"$error":"#DIV/0!"},{"$error":"#DIV/0!"},{"$error":"#DIV/0!"}]
[77,{"$f":"IF(SISWA!B84=0,\"\",SISWA!B84)","v":""},{"$f":"IF(SISWA!C84=0,\"\",SISWA!C84)","v":""},{"$f":"IF(SISWA!D84=0,\"\",SISWA!D84)","v":""},{"$f":"IF(SISWA!E84=0,\"\",SISWA!E84)","v":""},null,null,null,null,null,{"$error":"#DIV/0!"},null,null,{"$error":"#DIV/0!"},{"$error":"#DIV/0!"},{"$error":"#DIV/0!"}]
[78,{"$f":"IF(SISWA!B85=0,\"\",SISWA!B85)","v":""},{"$f":"IF(SISWA!C85=0,\"\",SISWA!C85)","v":""},{"$f":"IF(SISWA!D85=0,\"\",SISWA!D85)","v":""},{"$f":"IF(SISWA!E85=0,\"\",SISWA!E85)","v":""},null,null,null,null,null,{"$error":"#DIV/0!"},null,null,{"$error":"#DIV/0!"},{"$error":"#DIV/0!"},{"$error":"#DIV/0!"}]
[79,{"$f":"IF(SISWA!B86=0,\"\",SISWA!B86)","v":""},{"$f":"IF(SISWA!C86=0,\"\",SISWA!C86)","v":""},{"$f":"IF(SISWA!D86=0,\"\",SISWA!D86)","v":""},{"$f":"IF(SISWA!E86=0,\"\",SISWA!E86)","v":""},null,null,null,null,null,{"$error":"#DIV/0!"},null,null,{"$error":"#DIV/0!"},{"$error":"#DIV/0!"},{"$error":"#DIV/0!"}]
[80,{"$f":"IF(SISWA!B87=0,\"\",SISWA!B87)","v":""},{"$f":"IF(SISWA!C87=0,\"\",SISWA!C87)","v":""},{"$f":"IF(SISWA!D87=0,\"\",SISWA!D87)","v":""},{"$f":"IF(SISWA!E87=0,\"\",SISWA!E87)","v":""},null,null,null,null,null,{"$error":"#DIV/0!"},null,null,{"$error":"#DIV/0!"},{"$error":"#DIV/0!"},{"$error":"#DIV/0!"}]
[81,{"$f":"IF(SISWA!B88=0,\"\",SISWA!B88)","v":""},{"$f":"IF(SISWA!C88=0,\"\",SISWA!C88)","v":""},{"$f":"IF(SISWA!D88=0,\"\",SISWA!D88)","v":""},{"$f":"IF(SISWA!E88=0,\"\",SISWA!E88)","v":""},null,null,null,null,null,{"$error":"#DIV/0!"},null,null,{"$error":"#DIV/0!"},{"$error":"#DIV/0!"},{"$error":"#DIV/0!"}]
[82,{"$f":"IF(SISWA!B89=0,\"\",SISWA!B89)","v":""},{"$f":"IF(SISWA!C89=0,\"\",SISWA!C89)","v":""},{"$f":"IF(SISWA!D89=0,\"\",SISWA!D89)","v":""},{"$f":"IF(SISWA!E89=0,\"\",SISWA!E89)","v":""},null,null,null,null,null,{"$error":"#DIV/0!"},null,null,{"$error":"#DIV/0!"},{"$error":"#DIV/0!"},{"$error":"#DIV/0!"}]
[83,{"$f":"IF(SISWA!B90=0,\"\",SISWA!B90)","v":""},{"$f":"IF(SISWA!C90=0,\"\",SISWA!C90)","v":""},{"$f":"IF(SISWA!D90=0,\"\",SISWA!D90)","v":""},{"$f":"IF(SISWA!E90=0,\"\",SISWA!E90)","v":""},null,null,null,null,null,{"$error":"#DIV/0!"},null,null,{"$error":"#DIV/0!"},{"$error":"#DIV/0!"},{"$error":"#DIV/0!"}]
[84,{"$f":"IF(SISWA!B91=0,\"\",SISWA!B91)","v":""},{"$f":"IF(SISWA!C91=0,\"\",SISWA!C91)","v":""},{"$f":"IF(SISWA!D91=0,\"\",SISWA!D91)","v":""},{"$f":"IF(SISWA!E91=0,\"\",SISWA!E91)","v":""},null,null,null,null,null,{"$error":"#DIV/0!"},null,null,{"$error":"#DIV/0!"},{"$error":"#DIV/0!"},{"$error":"#DIV/0!"}]
[85,{"$f":"IF(SISWA!B92=0,\"\",SISWA!B92)","v":""},{"$f":"IF(SISWA!C92=0,\"\",SISWA!C92)","v":""},{"$f":"IF(SISWA!D92=0,\"\",SISWA!D92)","v":""},{"$f":"IF(SISWA!E92=0,\"\",SISWA!E92)","v":""},null,null,null,null,null,{"$error":"#DIV/0!"},null,null,{"$error":"#DIV/0!"},{"$error":"#DIV/0!"},{"$error":"#DIV/0!"}]
[86,{"$f":"IF(SISWA!B93=0,\"\",SISWA!B93)","v":""},{"$f":"IF(SISWA!C93=0,\"\",SISWA!C93)","v":""},{"$f":"IF(SISWA!D93=0,\"\",SISWA!D93)","v":""},{"$f":"IF(SISWA!E93=0,\"\",SISWA!E93)","v":""},null,null,null,null,null,{"$error":"#DIV/0!"},null,null,{"$error":"#DIV/0!"},{"$error":"#DIV/0!"},{"$error":"#DIV/0!"}]
[87,{"$f":"IF(SISWA!B94=0,\"\",SISWA!B94)","v":""},{"$f":"IF(SISWA!C94=0,\"\",SISWA!C94)","v":""},{"$f":"IF(SISWA!D94=0,\"\",SISWA!D94)","v":""},{"$f":"IF(SISWA!E94=0,\"\",SISWA!E94)","v":""},null,null,null,null,null,{"$error":"#DIV/0!"},null,null,{"$error":"#DIV/0!"},{"$error":"#DIV/0!"},{"$error":"#DIV/0!"}]
[88,{"$f":"IF(SISWA!B95=0,\"\",SISWA!B95)","v":""},{"$f":"IF(SISWA!C95=0,\"\",SISWA!C95)","v":""},{"$f":"IF(SISWA!D95=0,\"\",SISWA!D95)","v":""},{"$f":"IF(SISWA!E95=0,\"\",SISWA!E95)","v":""},null,null,null,null,null,{"$error":"#DIV/0!"},null,null,{"$error":"#DIV/0!"},{"$error":"#DIV/0!"},{"$error":"#DIV/0!"}]
[89,{"$f":"IF(SISWA!B96=0,\"\",SISWA!B96)","v":""},{"$f":"IF(SISWA!C96=0,\"\",SISWA!C96)","v":""},{"$f":"IF(SISWA!D96=0,\"\",SISWA!D96)","v":""},{"$f":"IF(SISWA!E96=0,\"\",SISWA!E96)","v":""},null,null,null,null,null,{"$error":"#DIV/0!"},null,null,{"$error":"#DIV/0!"},{"$error":"#DIV/0!"},{"$error":"#DIV/0!"}]
[90,{"$f":"IF(SISWA!B97=0,\"\",SISWA!B97)","v":""},{"$f":"IF(SISWA!C97=0,\"\",SISWA!C97)","v":""},{"$f":"IF(SISWA!D97=0,\"\",SISWA!D97)","v":""},{"$f":"IF(SISWA!E97=0,\"\",SISWA!E97)","v":""},null,null,null,null,null,{"$error":"#DIV/0!"},null,null,{"$error":"#DIV/0!"},{"$error":"#DIV/0!"},{"$error":"#DIV/0!"}]
[91,{"$f":"IF(SISWA!B98=0,\"\",SISWA!B98)","v":""},{"$f":"IF(SISWA!C98=0,\"\",SISWA!C98)","v":""},{"$f":"IF(SISWA!D98=0,\"\",SISWA!D98)","v":""},{"$f":"IF(SISWA!E98=0,\"\",SISWA!E98)","v":""},null,null,null,null,null,{"$error":"#DIV/0!"},null,null,{"$error":"#DIV/0!"},{"$error":"#DIV/0!"},{"$error":"#DIV/0!"}]
[92,{"$f":"IF(SISWA!B99=0,\"\",SISWA!B99)","v":""},{"$f":"IF(SISWA!C99=0,\"\",SISWA!C99)","v":""},{"$f":"IF(SISWA!D99=0,\"\",SISWA!D99)","v":""},{"$f":"IF(SISWA!E99=0,\"\",SISWA!E99)","v":""},null,null,null,null,null,{"$error":"#DIV/0!"},null,null,{"$error":"#DIV/0!"},{"$error":"#DIV/0!"},{"$error":"#DIV/0!"}]
[93,{"$f":"IF(SISWA!B100=0,\"\",SISWA!B100)","v":""},{"$f":"IF(SISWA!C100=0,\"\",SISWA!C100)","v":""},{"$f":"IF(SISWA!D100=0,\"\",SISWA!D100)","v":""},{"$f":"IF(SISWA!E100=0,\"\",SISWA!E100)","v":""},null,null,null,null,null,{"$error":"#DIV/0!"},null,null,{"$error":"#DIV/0!"},{"$error":"#DIV/0!"},{"$error":"#DIV/0!"}]
[94,{"$f":"IF(SISWA!B101=0,\"\",SISWA!B101)","v":""},{"$f":"IF(SISWA!C101=0,\"\",SISWA!C101)","v":""},{"$f":"IF(SISWA!D101=0,\"\",SISWA!D101)","v":""},{"$f":"IF(SISWA!E101=0,\"\",SISWA!E101)","v":""},null,null,null,null,null,{"$error":"#DIV/0!"},null,null,{"$error":"#DIV/0!"},{"$error":"#DIV/0!"},{"$error":"#DIV/0!"}]
[95,{"$f":"IF(SISWA!B102=0,\"\",SISWA!B102)","v":""},{"$f":"IF(SISWA!C102=0,\"\",SISWA!C102)","v":""},{"$f":"IF(SISWA!D102=0,\"\",SISWA!D102)","v":""},{"$f":"IF(SISWA!E102=0,\"\",SISWA!E102)","v":""},null,null,null,null,null,{"$error":"#DIV/0!"},null,null,{"$error":"#DIV/0!"},{"$error":"#DIV/0!"},{"$error":"#DIV/0!"}]
[96,{"$f":"IF(SISWA!B103=0,\"\",SISWA!B103)","v":""},{"$f":"IF(SISWA!C103=0,\"\",SISWA!C103)","v":""},{"$f":"IF(SISWA!D103=0,\"\",SISWA!D103)","v":""},{"$f":"IF(SISWA!E103=0,\"\",SISWA!E103)","v":""},null,null,null,null,null,{"$error":"#DIV/0!"},null,null,{"$error":"#DIV/0!"},{"$error":"#DIV/0!"},{"$error":"#DIV/0!"}]
[97,{"$f":"IF(SISWA!B104=0,\"\",SISWA!B104)","v":""},{"$f":"IF(SISWA!C104=0,\"\",SISWA!C104)","v":""},{"$f":"IF(SISWA!D104=0,\"\",SISWA!D104)","v":""},{"$f":"IF(SISWA!E104=0,\"\",SISWA!E104)","v":""},null,null,null,null,null,{"$error":"#DIV/0!"},null,null,{"$error":"#DIV/0!"},{"$error":"#DIV/0!"},{"$error":"#DIV/0!"}]
[98,{"$f":"IF(SISWA!B105=0,\"\",SISWA!B105)","v":""},{"$f":"IF(SISWA!C105=0,\"\",SISWA!C105)","v":""},{"$f":"IF(SISWA!D105=0,\"\",SISWA!D105)","v":""},{"$f":"IF(SISWA!E105=0,\"\",SISWA!E105)","v":""},null,null,null,null,null,{"$error":"#DIV/0!"},null,null,{"$error":"#DIV/0!"},{"$error":"#DIV/0!"},{"$error":"#DIV/0!"}]
[99,{"$f":"IF(SISWA!B106=0,\"\",SISWA!B106)","v":""},{"$f":"IF(SISWA!C106=0,\"\",SISWA!C106)","v":""},{"$f":"IF(SISWA!D106=0,\"\",SISWA!D106)","v":""},{"$f":"IF(SISWA!E106=0,\"\",SISWA!E106)","v":""},null,null,null,null,null,{"$error":"#DIV/0!"},null,null,{"$error":"#DIV/0!"},{"$error":"#DIV/0!"},{"$error":"#DIV/0!"}]
[100,{"$f":"IF(SISWA!B107=0,\"\",SISWA!B107)","v":""},{"$f":"IF(SISWA!C107=0,\"\",SISWA!C107)","v":""},{"$f":"IF(SISWA!D107=0,\"\",SISWA!D107)","v":""},{"$f":"IF(SISWA!E107=0,\"\",SISWA!E107)","v":""},null,null,null,null,null,{"$error":"#DIV/0!"},null,null,{"$error":"#DIV/0!"},{"$error":"#DIV/0!"},{"$error":"#DIV/0!"}]
[101,{"$f":"IF(SISWA!B108=0,\"\",SISWA!B108)","v":""},{"$f":"IF(SISWA!C108=0,\"\",SISWA!C108)","v":""},{"$f":"IF(SISWA!D108=0,\"\",SISWA!D108)","v":""},{"$f":"IF(SISWA!E108=0,\"\",SISWA!E108)","v":""},null,null,null,null,null,{"$error":"#DIV/0!"},null,null,{"$error":"#DIV/0!"},{"$error":"#DIV/0!"},{"$error":"#DIV/0!"}]

{"sheet":"DAKOLUN","index":17,"n_rows":208,"n_cols":95,"rows_kept":208,"cut":false,"hidden":false,"merged":[[1,79,2,87],[5,66,7,66],[5,68,6,70],[5,71,6,73],[5,74,6,76],[1,68,2,76],[5,79,6,81],[5,82,6,84],[5,85,6,87],[5,67,7,67],[5,6,7,6],[5,7,6,9],[5,22,6,24],[5,25,6,27],[5,31,6,33],[5,10,6,12],[5,13,6,15],[5,16,6,18],[5,19,6,21],[5,5,7,5],[5,0,7,0],[5,1,7,1],[5,2,7,2],[5,3,7,3],[5,4,7,4],[5,28,6,30],[5,62,6,64],[5,65,7,65],[6,46,6,48],[6,49,6,51],[5,34,6,36],[5,37,6,39],[5,40,6,42],[5,43,6,45],[5,46,5,48],[5,49,5,51],[5,55,7,55],[5,56,6,58],[5,59,6,61],[5,52,5,54],[6,52,6,54],[5,91,7,91],[5,92,7,92],[5,90,7,90],[5,88,7,88]]}
[null,null,null,"DAFTAR NILAI UJIAN "]
[null,null,null,{"$f":"DEPAN!Y6&\" \"&DEPAN!AA6","v":"Madrasah Ibtidaiyah Nurul Islam Labruk Kidul"},null,null,null,null,null,null,null,null,null,null,null,null,null,null,null,null,null,null,null,null,null,null,null,null,null,null,null,null,null,null,null,null,null,null,null,null,null,null,null,null,null,null,null,null,null,null,null,null,null,null,null,null,null,null,null,null,null,null,null,null,null,null,null,null,"NILAI SEKOLAH",null,null,null,null,null,null,null,null,null,null,"NILAI AKHIR"]
[null,null,null,{"$f":"PROPER(DEPAN!Y16)","v":"Tahun Pelajaran 2019/2020"}]
[null,null,null,"NILAI SEKOLAH = 60% NILAI RAPOT + 40% NILAI UJIAN SEKOLAH"]
[1,2,3,4,5,6,7,8,9,10,11,12,13,14,15,16,17,18,19,20,21,22,23,24,25,26,27,28,29,30,31,32,33,34,35,36,37,38,39,40,41,42,43,44,45,46,47,48,49,50,51,52,53,54,55,56,57,58,59,60,61,62,63,64,65,66,67,68,69,70,71,72,73,74,75,76,77,78,79,80,81,82,83,84,85,86,87,88,89,90,91,92,93]
["NO","No \nInduk","NISN","Nomor Peserta","Nama Peserta","Tempat\nTanggal Lahir","Nama\nOrang Tua","PAI",null,null,"AA",null,null,"AH",null,null,"FIQH",null,null,"SKI",null,null,"PKN",null,null,"   B.   INDONESIA",null,null,"BA",null,null,"MATEMATIKA",null,null,"IPA",null,null,"IPS",null,null,"SBK",null,null,"PENJAS",null,null,"MULOK 1",null,null,"MULOK 2",null,null,"MULOK 3",null,null,"RATA-RATA NS","B. INDONESIA",null,null,"MATEMATIKA",null,null,"IPA",null,null,"Rata-rata UN","JUMLAH (dibagi nilai raport)","JUMLAH (tanpa nilai raport)","   B.   INDONESIA",null,null,"MATEMATIKA",null,null,"IPA",null,null,null,null,"B. INDONESIA",null,null,"MATEMATIKA",null,null,"IPA",null,null,"Rata-rata UN",null,"No. Surat SKHU SEMENTARA","No. Surat SKHU ASLI","No. Surat IJAZAH ASLI"]
[null,null,null,null,null,null,null,null,null,null,null,null,null,null,null,null,null,null,null,null,null,null,null,null,null,null,null,null,null,null,null,null,null,null,null,null,null,null,null,null,null,null,null,null,null,null,"B. DAERAH",null,null,"B. INGGRIS",null,null,"ASWAJA"]
[null,null,null,null,null,null,null,"NRR","NUS","NS","NRR","NUS","NS","NRR","NUS","NS","NRR","NUS","NS","NRR","NUS","NS","NRR","NUS","NS","NRR","NUS","NS","NRR","NUS","NS","NRR","NUS","NS","NRR","NUS","NS","NRR","NUS","NS","NRR","NUS","NS","NRR","NUS","NS","NRR","NUS","NS","NRR","NUS","NS","NRR","NUS","NS",null,"NS","NUN","NA","NS","NUN","NA","NS","NUN","NA",null,null,null,"NRR","NUS","NS","NRR","NUS","NS","NRR","NUS","NS",null,null,"NS","NUN","NA","NS","NUN","NA","NS","NUN","NA"]
[{"$f":"SISWA!A8","v":1},{"$f":"IF(SISWA!B8=0,\"\",SISWA!B8)","v":4331},{"$f":"IF(SISWA!C8=0,\"\",SISWA!C8)","v":"0078140536"},{"$f":"IF(SISWA!D8=0,\"\",SISWA!D8)","v":"1-18-05-80-162-001-8"},{"$f":"IF(SISWA!E8=0,\"\",SISWA!E8)","v":"ACHMAD FATHIR IZUDDIN"},{"$f":"IF(SISWA!P7=0,\"\",SISWA!P7)","v":"Lumajang, 09 November 2007"},{"$f":"IF(SISWA!H8=0,\"\",SISWA!H8)","v":"NURUDDIN"},{"$f":"#REF!","v":{"$error":"#REF!"}},{"$f":"#REF!","v":{"$error":"#REF!"}},{"$f":"(H9*60%)+(I9*40%)","v":{"$error":"#REF!"}},{"$f":"AA!K8","v":84.5},{"$f":"AA!N8","v":93.15},{"$f":"(K9*60%)+(L9*40%)","v":87.960000000000008},{"$f":"AH!K8","v":85},{"$f":"AH!N8","v":82.5},{"$f":"(N9*60%)+(O9*40%)","v":84},{"$f":"FQ!K8","v":82.75},{"$f":"FQ!N8","v":82.625},{"$f":"(Q9*60%)+(R9*40%)","v":82.7},{"$f":"SKI!K8","v":80.5},{"$f":"SKI!N8","v":72.95},{"$f":"(T9*60%)+(U9*40%)","v":77.48},{"$f":"PKn!K8","v":77.5},{"$f":"PKn!N8","v":70},{"$f":"(W9*60%)+(X9*40%)","v":74.5},{"$f":"BID!K8","v":75},{"$f":"BID!N8","v":70},{"$f":"(Z9*60%)+(AA9*40%)","v":73},{"$f":"BA!K8","v":80.5},{"$f":"BA!N8","v":75.650000000000006},{"$f":"(AC9*60%)+(AD9*40%)","v":78.56},{"$f":"MTK!K8","v":81},{"$f":"MTK!L8","v":67.857142857142861},{"$f":"(AF9*60%)+(AG9*40%)","v":75.742857142857147},{"$f":"IPA!K8","v":75.75},{"$f":"IPA!N8","v":75},{"$f":"(AI9*60%)+(AJ9*40%)","v":75.449999999999989},{"$f":"IPS!K8","v":76},{"$f":"IPS!L8","v":60},{"$f":"(AL9*60%)+(AM9*40%)","v":69.599999999999994},{"$f":"SBK!K8","v":77.75},{"$f":"SBK!N8","v":78.375},{"$f":"(AO9*60%)+(AP9*40%)","v":78},{"$f":"PJK!K8","v":86},{"$f":"PJK!N8","v":77},{"$f":"(AR9*60%)+(AS9*40%)","v":82.4},{"$f":"BD!K8","v":74.25},{"$f":"BD!N8","v":67.125},{"$f":"(AU9*60%)+(AV9*40%)","v":71.400000000000006},{"$f":"BIG!K8","v":77.75},{"$f":"BIG!N8","v":87.375},{"$f":"(AX9*60%)+(AY9*40%)","v":81.599999999999994},{"$f":"AWJ!N8","v":75},{"$f":"AWJ!P8","v":73.666666666666671},{"$f":"(BA9*60%)+(BB9*40%)","v":74.466666666666669},{"$f":"AVERAGE(M9,P9,S9,V9,Y9,AB9,AE9,AH9,AK9,AN9,AQ9,AT9,AW9,AZ9)","v":78.02806122448979},{"$f":"AB9","v":73},{"$f":"BID!L8","v":65},{"$f":"(BE9*60%)+(BF9*40%)","v":69.8},{"$f":"AH9","v":75.742857142857147},{"$f":"MTK!L8","v":67.857142857142861},{"$f":"(BH9*60%)+(BI9*40%)","v":72.588571428571441},{"$f":"AK9","v":75.449999999999989},{"$f":"IPA!L8","v":75},{"$f":"(BK9*60%)+(BL9*40%)","v":75.269999999999982},{"$f":"AVERAGE(BF9,BI9,BL9)","v":69.285714285714292},{"$f":"SUM(BG9,BJ9,BM9)","v":217.65857142857141},{"$f":"SUM(BF9,BI9,BL9)","v":207.85714285714286},{"$f":"Z9","v":75},{"$f":"AA9","v":70},{"$f":"AB9","v":73},{"$f":"AF9","v":81},67.857142857142861,75.742857142857147,75.75,75,75.449999999999989,null,null,{"$f":"BE9","v":73},{"$f":"BF9","v":65},{"$f":"BG9","v":69.8},{"$f":"BH9","v":75.742857142857147},{"$f":"BI9","v":67.857142857142861},72.588571428571441,75.449999999999989,{"$f":"BL9","v":75},{"$f":"BM9","v":75.269999999999982},{"$f":"BN9","v":69.285714285714292},null,{"$f":"SISWA!S7","v":"051/MINI.L-Kid/30.02.02/S.1-2/VI/2020"},null,{"$f":"\"00\"&A9&\"/Mi.13.05.162/PP.01.1/06/2020\"","v":"001/Mi.13.05.162/PP.01.1/06/2020"},null,1]
[{"$f":"SISWA!A9","v":2},{"$f":"IF(SISWA!B9=0,\"\",SISWA!B9)","v":4333},{"$f":"IF(SISWA!C9=0,\"\",SISWA!C9)","v":"0084691896"},{"$f":"IF(SISWA!D9=0,\"\",SISWA!D9)","v":"1-18-05-80-162-002-7"},{"$f":"IF(SISWA!E9=0,\"\",SISWA!E9)","v":"AININ NAFISA FEBRIYANTI"},{"$f":"IF(SISWA!P8=0,\"\",SISWA!P8)","v":"Lumajang, 12 Februari 2008"},{"$f":"IF(SISWA!H9=0,\"\",SISWA!H9)","v":"SUBOWO"},{"$f":"#REF!","v":{"$error":"#REF!"}},{"$f":"#REF!","v":{"$error":"#REF!"}},{"$f":"(H10*60%)+(I10*40%)","v":{"$error":"#REF!"}},{"$f":"AA!K9","v":86.5},{"$f":"AA!N9","v":91.15},{"$f":"(K10*60%)+(L10*40%)","v":88.36},{"$f":"AH!K9","v":86.75},{"$f":"AH!N9","v":84.625},{"$f":"(N10*60%)+(O10*40%)","v":85.9},{"$f":"FQ!K9","v":86.5},{"$f":"FQ!N9","v":79.5},{"$f":"(Q10*60%)+(R10*40%)","v":83.7},{"$f":"SKI!K9","v":83.5},{"$f":"SKI!N9","v":70.95},{"$f":"(T10*60%)+(U10*40%)","v":78.48},{"$f":"PKn!K9","v":78.75},{"$f":"PKn!N9","v":67.5},{"$f":"(W10*60%)+(X10*40%)","v":74.25},{"$f":"BID!K9","v":76.666666666666671},{"$f":"BID!N9","v":70.833333333333343},{"$f":"(Z10*60%)+(AA10*40%)","v":74.333333333333343},{"$f":"BA!K9","v":84.5},{"$f":"BA!N9","v":71.25},{"$f":"(AC10*60%)+(AD10*40%)","v":79.199999999999989},{"$f":"MTK!K9","v":82.25},{"$f":"MTK!L9","v":60},{"$f":"(AF10*60%)+(AG10*40%)","v":73.349999999999994},{"$f":"IPA!K9","v":77.25},{"$f":"IPA!N9","v":60},{"$f":"(AI10*60%)+(AJ10*40%)","v":70.349999999999994},{"$f":"IPS!K9","v":78.5},{"$f":"IPS!L9","v":60},{"$f":"(AL10*60%)+(AM10*40%)","v":71.099999999999994},{"$f":"SBK!K9","v":82.5},{"$f":"SBK!N9","v":76.75},{"$f":"(AO10*60%)+(AP10*40%)","v":80.2},{"$f":"PJK!K9","v":83.25},{"$f":"PJK!N9","v":74.125},{"$f":"(AR10*60%)+(AS10*40%)","v":79.599999999999994},{"$f":"BD!K9","v":75.75},{"$f":"BD!N9","v":67.875},{"$f":"(AU10*60%)+(AV10*40%)","v":72.599999999999994},{"$f":"BIG!K9","v":80.25},{"$f":"BIG!N9","v":69.125},{"$f":"(AX10*60%)+(AY10*40%)","v":75.8},{"$f":"AWJ!N9","v":77},{"$f":"AWJ!P9","v":77.333333333333329},77.133333333333326,{"$f":"AVERAGE(M10,P10,S10,V10,Y10,AB10,AE10,AH10,AK10,AN10,AQ10,AT10,AW10,AZ10)","v":77.658809523809538},{"$f":"AB10","v":74.333333333333343},{"$f":"BID!L9","v":65},70.599999999999994,73.349999999999994,{"$f":"MTK!L9","v":60},68.009999999999991,70.349999999999994,{"$f":"IPA!L9","v":60},66.209999999999994,{"$f":"AVERAGE(BF10,BI10,BL10)","v":61.666666666666664},{"$f":"SUM(BG10,BJ10,BM10)","v":204.82},{"$f":"SUM(BF10,BI10,BL10)","v":185},{"$f":"Z10","v":76.666666666666671},{"$f":"AA10","v":70.833333333333343},{"$f":"AB10","v":74.333333333333343},{"$f":"AF10","v":82.25},{"$f":"AG10","v":60},{"$f":"AH10","v":73.349999999999994},{"$f":"AI10","v":77.25},{"$f":"AJ10","v":60},{"$f":"AK10","v":70.349999999999994},null,null,{"$f":"BE10","v":74.333333333333343},{"$f":"BF10","v":65},{"$f":"BG10","v":70.599999999999994},{"$f":"BH10","v":73.349999999999994},{"$f":"BI10","v":60},{"$f":"BJ10","v":68.009999999999991},{"$f":"BK10","v":70.349999999999994},{"$f":"BL10","v":60},{"$f":"BM10","v":66.209999999999994},{"$f":"BN10","v":61.666666666666664},null,{"$f":"SISWA!S8","v":"052/MINI.L-Kid/30.02.02/S.1-2/VI/2020"},null,{"$f":"\"00\"&A10&\"/Mi.13.05.162/PP.01.1/06/2020\"","v":"002/Mi.13.05.162/PP.01.1/06/2020"},null,2]
[{"$f":"SISWA!A10","v":3},{"$f":"IF(SISWA!B10=0,\"\",SISWA!B10)","v":4334},{"$f":"IF(SISWA!C10=0,\"\",SISWA!C10)","v":"0075488897"},{"$f":"IF(SISWA!D10=0,\"\",SISWA!D10)","v":"1-18-05-80-162-003-6"},{"$f":"IF(SISWA!E10=0,\"\",SISWA!E10)","v":"AISYAH DWI ANDINI"},{"$f":"IF(SISWA!P9=0,\"\",SISWA!P9)","v":"Lumajang, 30 September 2007"},{"$f":"IF(SISWA!H10=0,\"\",SISWA!H10)","v":"SAIFUL ANAM"},{"$f":"#REF!","v":{"$error":"#REF!"}},{"$f":"#REF!","v":{"$error":"#REF!"}},{"$error":"#REF!"},{"$f":"AA!K10","v":87.25},{"$f":"AA!N10","v":90.025000000000006},88.360000000000014,{"$f":"AH!K10","v":87.5},{"$f":"AH!N10","v":82.5},85.5,{"$f":"FQ!K10","v":90.5},{"$f":"FQ!N10","v":84},87.9,{"$f":"SKI!K10","v":84.75},{"$f":"SKI!N10","v":71.174999999999997},79.319999999999993,{"$f":"PKn!K10","v":85.25},{"$f":"PKn!N10","v":72.5},80.150000000000006,{"$f":"BID!K10","v":81.333333333333329},{"$f":"BID!N10","v":75.388888888888886},78.955555555555549,{"$f":"BA!K10","v":86.75},{"$f":"BA!N10","v":72.375},81,{"$f":"MTK!K10","v":85},{"$f":"MTK!L10","v":60},75,{"$f":"IPA!K10","v":81.75},{"$f":"IPA!N10","v":60},73.05,{"$f":"IPS!K10","v":83.25},{"$f":"IPS!L10","v":60},73.949999999999989,{"$f":"SBK!K10","v":86.5},{"$f":"SBK!N10","v":71.349999999999994},80.44,{"$f":"PJK!K10","v":85.5},{"$f":"PJK!N10","v":82.75},84.4,{"$f":"BD!K10","v":75.75},{"$f":"BD!N10","v":67.875},72.599999999999994,{"$f":"BIG!K10","v":83},{"$f":"BIG!N10","v":78},81,{"$f":"AWJ!N10","v":78},{"$f":"AWJ!P10","v":77.666666666666671},77.866666666666674,80.11611111111111,78.955555555555549,{"$f":"BID!L10","v":69.444444444444443},75.151111111111106,75,{"$f":"MTK!L10","v":60},69,73.05,{"$f":"IPA!L10","v":60},67.83,63.148148148148152,211.98111111111109,189.44444444444446,81.333333333333329,75.388888888888886,78.955555555555549,85,60,75,81.75,60,73.05,null,null,78.955555555555549,69.444444444444443,75.151111111111106,75,60,69,73.05,60,67.83,63.148148148148152,null,{"$f":"SISWA!S9","v":"053/MINI.L-Kid/30.02.02/S.1-2/VI/2020"},null,"003/Mi.13.05.162/PP.01.1/06/2020",null,3]
[{"$f":"SISWA!A11","v":4},{"$f":"IF(SISWA!B11=0,\"\",SISWA!B11)","v":4335},{"$f":"IF(SISWA!C11=0,\"\",SISWA!C11)","v":"0077554289"},{"$f":"IF(SISWA!D11=0,\"\",SISWA!D11)","v":"1-18-05-80-162-004-5"},{"$f":"IF(SISWA!E11=0,\"\",SISWA!E11)","v":"AJENG AGUSTINA KIRANA PUTRI"},{"$f":"IF(SISWA!P10=0,\"\",SISWA!P10)","v":"Hanau, 31 Juli 2007"},{"$f":"IF(SISWA!H11=0,\"\",SISWA!H11)","v":"SUKIRNO"},{"$f":"#REF!","v":{"$error":"#REF!"}},{"$f":"#REF!","v":{"$error":"#REF!"}},{"$error":"#REF!"},{"$f":"AA!K11","v":82.75},{"$f":"AA!N11","v":70.474999999999994},77.84,{"$f":"AH!K11","v":87.75},{"$f":"AH!N11","v":73.875},82.2,{"$f":"FQ!K11","v":86.25},{"$f":"FQ!N11","v":73.125},81,{"$f":"SKI!K11","v":82.25},{"$f":"SKI!N11","v":70.825000000000003},77.680000000000007,{"$f":"PKn!K11","v":78.75},{"$f":"PKn!N11","v":60},71.25,{"$f":"BID!K11","v":75.666666666666671},{"$f":"BID!N11","v":67.833333333333343},72.533333333333331,{"$f":"BA!K11","v":84.75},{"$f":"BA!N11","v":71.375},79.400000000000006,{"$f":"MTK!K11","v":86.25},{"$f":"MTK!L11","v":60},75.75,{"$f":"IPA!K11","v":78.25},{"$f":"IPA!N11","v":60},70.949999999999989,{"$f":"IPS!K11","v":80},{"$f":"IPS!L11","v":60},72,{"$f":"SBK!K11","v":83.5},{"$f":"SBK!N11","v":73.25},79.400000000000006,{"$f":"PJK!K11","v":85.75},{"$f":"PJK!N11","v":73.875},81,{"$f":"BD!K11","v":77.25},{"$f":"BD!N11","v":68.625},73.800000000000011,{"$f":"BIG!K11","v":74.5},{"$f":"BIG!N11","v":70.75},73,{"$f":"AWJ!N11","v":77},{"$f":"AWJ!P11","v":77.333333333333329},77.133333333333326,76.271666666666661,72.533333333333331,{"$f":"BID!L11","v":60},67.52,75.75,{"$f":"MTK!L11","v":60},69.449999999999989,70.949999999999989,{"$f":"IPA!L11","v":60},66.569999999999993,60,203.53999999999996,180,75.666666666666671,67.833333333333343,72.533333333333331,86.25,60,75.75,78.25,60,70.949999999999989,null,null,72.533333333333331,60,67.52,75.75,60,69.449999999999989,70.949999999999989,60,66.569999999999993,60,null,{"$f":"SISWA!S10","v":"054/MINI.L-Kid/30.02.02/S.1-2/VI/2020"},null,"004/Mi.13.05.162/PP.01.1/06/2020",null,4]
[{"$f":"SISWA!A12","v":5},{"$f":"IF(SISWA!B12=0,\"\",SISWA!B12)","v":4336},{"$f":"IF(SISWA!C12=0,\"\",SISWA!C12)","v":"0078831956"},{"$f":"IF(SISWA!D12=0,\"\",SISWA!D12)","v":"1-18-05-80-162-005-4"},{"$f":"IF(SISWA!E12=0,\"\",SISWA!E12)","v":"ALVIAN FAIZULHAQQI"},{"$f":"IF(SISWA!P11=0,\"\",SISWA!P11)","v":"Lumajang, 20 Mei 2007"},{"$f":"IF(SISWA!H12=0,\"\",SISWA!H12)","v":"MUKHAMAD FAUZI"},{"$f":"#REF!","v":{"$error":"#REF!"}},{"$f":"#REF!","v":{"$error":"#REF!"}},{"$error":"#REF!"},{"$f":"AA!K12","v":83.25},{"$f":"AA!N12","v":70.724999999999994},78.239999999999995,{"$f":"AH!K12","v":83.75},{"$f":"AH!N12","v":71.875},79,{"$f":"FQ!K12","v":86.25},{"$f":"FQ!N12","v":75.625},82,{"$f":"SKI!K12","v":78},{"$f":"SKI!N12","v":69.3},74.52,{"$f":"PKn!K12","v":76},{"$f":"PKn!N12","v":60},69.599999999999994,{"$f":"BID!K12","v":77.666666666666671},{"$f":"BID!N12","v":68.833333333333343},74.13333333333334,{"$f":"BA!K12","v":80.75},{"$f":"BA!N12","v":69.575000000000003},76.28,{"$f":"MTK!K12","v":81.25},{"$f":"MTK!L12","v":60},72.75,{"$f":"IPA!K12","v":77.5},{"$f":"IPA!N12","v":60},70.5,{"$f":"IPS!K12","v":76},{"$f":"IPS!L12","v":60},69.599999999999994,{"$f":"SBK!K12","v":78.5},{"$f":"SBK!N12","v":67.95},74.28,{"$f":"PJK!K12","v":84.25},{"$f":"PJK!N12","v":80.625},82.8,{"$f":"BD!K12","v":76.25},{"$f":"BD!N12","v":68.125},73,{"$f":"BIG!K12","v":75.25},{"$f":"BIG!N12","v":66.825000000000003},71.88,{"$f":"AWJ!N12","v":73},{"$f":"AWJ!P12","v":72.333333333333329},72.733333333333334,74.898809523809518,74.13333333333334,{"$f":"BID!L12","v":60},68.48,72.75,{"$f":"MTK!L12","v":60},67.650000000000006,70.5,{"$f":"IPA!L12","v":60},66.3,60,202.43,180,77.666666666666671,68.833333333333343,74.13333333333334,81.25,60,72.75,77.5,60,70.5,null,null,74.13333333333334,60,68.48,72.75,60,67.650000000000006,70.5,60,66.3,60,null,{"$f":"SISWA!S11","v":"055/MINI.L-Kid/30.02.02/S.1-2/VI/2020"},null,"005/Mi.13.05.162/PP.01.1/06/2020",null,5]
[{"$f":"SISWA!A13","v":6},{"$f":"IF(SISWA!B13=0,\"\",SISWA!B13)","v":4337},{"$f":"IF(SISWA!C13=0,\"\",SISWA!C13)","v":"0073667130"},{"$f":"IF(SISWA!D13=0,\"\",SISWA!D13)","v":"1-18-05-80-162-006-3"},{"$f":"IF(SISWA!E13=0,\"\",SISWA!E13)","v":"ANGGITA RIZKY YUGA MEISYA"},{"$f":"IF(SISWA!P12=0,\"\",SISWA!P12)","v":"Lumajang, 31 Mei 2007"},{"$f":"IF(SISWA!H13=0,\"\",SISWA!H13)","v":"GALIH DWI APRIYANTO"},{"$f":"#REF!","v":{"$error":"#REF!"}},{"$f":"#REF!","v":{"$error":"#REF!"}},{"$error":"#REF!"},{"$f":"AA!K13","v":89.25},{"$f":"AA!N13","v":93.56785714285715},90.977142857142866,{"$f":"AH!K13","v":86.25},{"$f":"AH!N13","v":73.125},81,{"$f":"FQ!K13","v":90.25},{"$f":"FQ!N13","v":83.339285714285722},87.485714285714295,{"$f":"SKI!K13","v":83.5},{"$f":"SKI!N13","v":71.349999999999994},78.64,{"$f":"PKn!K13","v":83},{"$f":"PKn!N13","v":65},75.8,{"$f":"BID!K13","v":79.666666666666671},{"$f":"BID!N13","v":69.833333333333343},75.733333333333348,{"$f":"BA!K13","v":85.75},{"$f":"BA!N13","v":71.474999999999994},80.039999999999992,{"$f":"MTK!K13","v":85},{"$f":"MTK!L13","v":60},75,{"$f":"IPA!K13","v":82},{"$f":"IPA!N13","v":60},73.199999999999989,{"$f":"IPS!K13","v":82.25},{"$f":"IPS!L13","v":60},73.349999999999994,{"$f":"SBK!K13","v":85.75},{"$f":"SBK!N13","v":71.474999999999994},80.039999999999992,{"$f":"PJK!K13","v":87.75},{"$f":"PJK!N13","v":79.375},84.4,{"$f":"BD!K13","v":79},{"$f":"BD!N13","v":69.5},75.2,{"$f":"BIG!K13","v":78.75},{"$f":"BIG!N13","v":75.875},77.599999999999994,{"$f":"AWJ!N13","v":78},{"$f":"AWJ!P13","v":77.666666666666671},77.866666666666674,79.176156462585027,75.733333333333348,{"$f":"BID!L13","v":60},69.44,75,{"$f":"MTK!L13","v":60},69,73.199999999999989,{"$f":"IPA!L13","v":60},67.919999999999987,60,206.35999999999999,180,79.666666666666671,69.833333333333343,75.733333333333348,85,60,75,82,60,73.199999999999989,null,null,75.733333333333348,60,69.44,75,60,69,73.199999999999989,60,67.919999999999987,60,null,{"$f":"SISWA!S12","v":"056/MINI.L-Kid/30.02.02/S.1-2/VI/2020"},null,"006/Mi.13.05.162/PP.01.1/06/2020",null,6]
[{"$f":"SISWA!A14","v":7},{"$f":"IF(SISWA!B14=0,\"\",SISWA!B14)","v":4338},{"$f":"IF(SISWA!C14=0,\"\",SISWA!C14)","v":"0074492973"},{"$f":"IF(SISWA!D14=0,\"\",SISWA!D14)","v":"1-18-05-80-162-007-2"},{"$f":"IF(SISWA!E14=0,\"\",SISWA!E14)","v":"AURA SALSABILA WULAN SARI"},{"$f":"IF(SISWA!P13=0,\"\",SISWA!P13)","v":"Lumajang, 18 Mei 2007"},{"$f":"IF(SISWA!H14=0,\"\",SISWA!H14)","v":"SAIFUL"},{"$f":"#REF!","v":{"$error":"#REF!"}},{"$f":"#REF!","v":{"$error":"#REF!"}},{"$error":"#REF!"},{"$f":"AA!K14","v":84},{"$f":"AA!N14","v":87.3},85.32,{"$f":"AH!K14","v":85.75},{"$f":"AH!N14","v":72.875},80.599999999999994,{"$f":"FQ!K14","v":90.5},{"$f":"FQ!N14","v":81.5},86.9,{"$f":"SKI!K14","v":83},{"$f":"SKI!N14","v":70.599999999999994},78.039999999999992,{"$f":"PKn!K14","v":81.25},{"$f":"PKn!N14","v":70},76.75,{"$f":"BID!K14","v":76},{"$f":"BID!N14","v":71.611111111111114},74.24444444444444,{"$f":"BA!K14","v":83},{"$f":"BA!N14","v":70.400000000000006},77.960000000000008,{"$f":"MTK!K14","v":83.75},{"$f":"MTK!L14","v":60},74.25,{"$f":"IPA!K14","v":81.75},{"$f":"IPA!N14","v":65},75.05,{"$f":"IPS!K14","v":81.75},{"$f":"IPS!L14","v":60},73.05,{"$f":"SBK!K14","v":82.25},{"$f":"SBK!N14","v":69.424999999999997},77.12,{"$f":"PJK!K14","v":85.75},{"$f":"PJK!N14","v":84.075000000000003},85.08,{"$f":"BD!K14","v":76.75},{"$f":"BD!N14","v":68.375},73.400000000000006,{"$f":"BIG!K14","v":85.5},{"$f":"BIG!N14","v":82.25},84.199999999999989,{"$f":"AWJ!N14","v":77},{"$f":"AWJ!P14","v":77},77,78.711746031746017,74.24444444444444,{"$f":"BID!L14","v":67.222222222222229},71.435555555555553,74.25,{"$f":"MTK!L14","v":60},68.55,75.05,{"$f":"IPA!L14","v":65},71.03,64.074074074074076,211.01555555555555,192.22222222222223,76,71.611111111111114,74.24444444444444,83.75,60,74.25,81.75,65,75.05,null,null,74.24444444444444,67.222222222222229,71.435555555555553,74.25,60,68.55,75.05,65,71.03,64.074074074074076,null,{"$f":"SISWA!S13","v":"057/MINI.L-Kid/30.02.02/S.1-2/VI/2020"},null,{"$f":"\"00\"&A15&\"/Mi.13.05.162/PP.01.1/06/2020\"","v":"007/Mi.13.05.162/PP.01.1/06/2020"},null,7]
[{"$f":"SISWA!A15","v":8},{"$f":"IF(SISWA!B15=0,\"\",SISWA!B15)","v":4366},{"$f":"IF(SISWA!C15=0,\"\",SISWA!C15)","v":"0078989673"},{"$f":"IF(SISWA!D15=0,\"\",SISWA!D15)","v":"1-18-05-80-162-008-9"},{"$f":"IF(SISWA!E15=0,\"\",SISWA!E15)","v":"BALQIS NAILA AUDIA"},{"$f":"IF(SISWA!P14=0,\"\",SISWA!P14)","v":"Lumajang, 16 Oktober 2007"},{"$f":"IF(SISWA!H15=0,\"\",SISWA!H15)","v":"SAMSUL HUDA"},{"$f":"#REF!","v":{"$error":"#REF!"}},{"$f":"#REF!","v":{"$error":"#REF!"}},{"$error":"#REF!"},{"$f":"AA!K15","v":88.75},{"$f":"AA!N15","v":89.474999999999994},89.039999999999992,{"$f":"AH!K15","v":91.5},{"$f":"AH!N15","v":84.5},88.7,{"$f":"FQ!K15","v":90.25},{"$f":"FQ!N15","v":83.875},87.7,{"$f":"SKI!K15","v":90.5},{"$f":"SKI!N15","v":72.849999999999994},83.44,{"$f":"PKn!K15","v":84},{"$f":"PKn!N15","v":67.5},77.400000000000006,{"$f":"BID!K15","v":84.333333333333329},{"$f":"BID!N15","v":72.166666666666657},79.466666666666654,{"$f":"BA!K15","v":90},{"$f":"BA!N15","v":78.900000000000006},85.56,{"$f":"MTK!K15","v":87.25},{"$f":"MTK!L15","v":60},76.349999999999994,{"$f":"IPA!K15","v":83},{"$f":"IPA!N15","v":72.5},78.8,{"$f":"IPS!K15","v":85.25},{"$f":"IPS!L15","v":60},75.150000000000006,{"$f":"SBK!K15","v":86},{"$f":"SBK!N15","v":71.400000000000006},80.16,{"$f":"PJK!K15","v":88.75},{"$f":"PJK!N15","v":94.674999999999997},91.12,{"$f":"BD!K15","v":78.5},{"$f":"BD!N15","v":74.25},76.800000000000011,{"$f":"BIG!K15","v":79.5},{"$f":"BIG!N15","v":88.25},83,{"$f":"AWJ!N15","v":79},{"$f":"AWJ!P15","v":78.666666666666671},78.866666666666674,82.334761904761891,79.466666666666654,{"$f":"BID!L15","v":60},71.679999999999993,76.349999999999994,{"$f":"MTK!L15","v":60},69.81,78.8,{"$f":"IPA!L15","v":72.5},76.28,64.166666666666671,217.77,192.5,84.333333333333329,72.166666666666657,79.466666666666654,87.25,60,76.349999999999994,83,72.5,78.8,null,null,79.466666666666654,60,71.679999999999993,76.349999999999994,60,69.81,78.8,72.5,76.28,64.166666666666671,null,{"$f":"SISWA!S14","v":"058/MINI.L-Kid/30.02.02/S.1-2/VI/2020"},null,"008/Mi.13.05.162/PP.01.1/06/2020",null,8]
[{"$f":"SISWA!A16","v":9},{"$f":"IF(SISWA!B16=0,\"\",SISWA!B16)","v":4440},{"$f":"IF(SISWA!C16=0,\"\",SISWA!C16)","v":"0082763386"},{"$f":"IF(SISWA!D16=0,\"\",SISWA!D16)","v":"1-18-05-80-162-009-8"},{"$f":"IF(SISWA!E16=0,\"\",SISWA!E16)","v":"BIMA ARYO SUSILO"},{"$f":"IF(SISWA!P15=0,\"\",SISWA!P15)","v":"Blitar, 04 Februari 2008"},{"$f":"IF(SISWA!H16=0,\"\",SISWA!H16)","v":"SISWOKO"},{"$f":"#REF!","v":{"$error":"#REF!"}},{"$f":"#REF!","v":{"$error":"#REF!"}},{"$error":"#REF!"},{"$f":"AA!K16","v":85},{"$f":"AA!N16","v":76.5},81.599999999999994,{"$f":"AH!K16","v":86.5},{"$f":"AH!N16","v":73.25},81.2,{"$f":"FQ!K16","v":86.5},{"$f":"FQ!N16","v":75.75},82.2,{"$f":"SKI!K16","v":84.75},{"$f":"SKI!N16","v":70.375},79,{"$f":"PKn!K16","v":83.5},{"$f":"PKn!N16","v":67.5},77.099999999999994,{"$f":"BID!K16","v":81.333333333333329},{"$f":"BID!N16","v":70.666666666666657},77.066666666666663,{"$f":"BA!K16","v":82.5},{"$f":"BA!N16","v":70.25},77.599999999999994,{"$f":"MTK!K16","v":87.25},{"$f":"MTK!L16","v":60},76.349999999999994,{"$f":"IPA!K16","v":81.75},{"$f":"IPA!N16","v":65},75.05,{"$f":"IPS!K16","v":84},{"$f":"IPS!L16","v":60},74.400000000000006,{"$f":"SBK!K16","v":81.75},{"$f":"SBK!N16","v":74.875},79,{"$f":"PJK!K16","v":84.75},{"$f":"PJK!N16","v":80.875},83.2,{"$f":"BD!K16","v":75.25},{"$f":"BD!N16","v":67.625},72.2,{"$f":"BIG!K16","v":89},{"$f":"BIG!N16","v":93.5},90.8,{"$f":"AWJ!N16","v":76},{"$f":"AWJ!P16","v":76.333333333333329},76.133333333333326,79.054761904761904,77.066666666666663,{"$f":"BID!L16","v":60},70.239999999999995,76.349999999999994,{"$f":"MTK!L16","v":60},69.81,75.05,{"$f":"IPA!L16","v":65},71.03,61.666666666666664,211.08,185,81.333333333333329,70.666666666666657,77.066666666666663,87.25,60,76.349999999999994,81.75,65,75.05,null,null,77.066666666666663,60,70.239999999999995,76.349999999999994,60,69.81,75.05,65,71.03,61.666666666666664,null,{"$f":"SISWA!S15","v":"059/MINI.L-Kid/30.02.02/S.1-2/VI/2020"},null,{"$f":"\"00\"&A17&\"/Mi.13.05.162/PP.01.1/06/2020\"","v":"009/Mi.13.05.162/PP.01.1/06/2020"},null,9]
[{"$f":"SISWA!A17","v":10},{"$f":"IF(SISWA!B17=0,\"\",SISWA!B17)","v":4367},{"$f":"IF(SISWA!C17=0,\"\",SISWA!C17)","v":"0078400392"},{"$f":"IF(SISWA!D17=0,\"\",SISWA!D17)","v":"1-18-05-80-162-010-7"},{"$f":"IF(SISWA!E17=0,\"\",SISWA!E17)","v":"BIMA SATRIA DIRGANTARA"},{"$f":"IF(SISWA!P16=0,\"\",SISWA!P16)","v":"Lumajang, 18 Oktober 2007"},{"$f":"IF(SISWA!H17=0,\"\",SISWA!H17)","v":"JOKO SAMBANG"},{"$f":"#REF!","v":{"$error":"#REF!"}},{"$f":"#REF!","v":{"$error":"#REF!"}},{"$error":"#REF!"},{"$f":"AA!K17","v":87.25},{"$f":"AA!N17","v":72.125},81.2,{"$f":"AH!K17","v":85},{"$f":"AH!N17","v":72.5},80,{"$f":"FQ!K17","v":83.5},{"$f":"FQ!N17","v":71.75},78.800000000000011,{"$f":"SKI!K17","v":78.75},{"$f":"SKI!N17","v":69.375},75,{"$f":"PKn!K17","v":76.25},{"$f":"PKn!N17","v":60},69.75,{"$f":"BID!K17","v":74.333333333333329},{"$f":"BID!N17","v":67.166666666666657},71.466666666666654,{"$f":"BA!K17","v":84.25},{"$f":"BA!N17","v":70.924999999999997},78.92,{"$f":"MTK!K17","v":81.5},{"$f":"MTK!L17","v":60},72.900000000000006,{"$f":"IPA!K17","v":78.5},{"$f":"IPA!N17","v":60},71.099999999999994,{"$f":"IPS!K17","v":78},{"$f":"IPS!L17","v":60},70.8,{"$f":"SBK!K17","v":78},{"$f":"SBK!N17","v":67.599999999999994},73.84,{"$f":"PJK!K17","v":85.25},{"$f":"PJK!N17","v":74.825000000000003},81.08,{"$f":"BD!K17","v":75},{"$f":"BD!N17","v":67.5},72,{"$f":"BIG!K17","v":76},{"$f":"BIG!N17","v":67.7},72.680000000000007,{"$f":"AWJ!N17","v":73},{"$f":"AWJ!P17","v":73},73,74.966904761904757,71.466666666666654,{"$f":"BID!L17","v":60},66.88,72.900000000000006,{"$f":"MTK!L17","v":60},67.740000000000009,71.099999999999994,{"$f":"IPA!L17","v":60},66.66,60,201.28,180,74.333333333333329,67.166666666666657,71.466666666666654,81.5,60,72.900000000000006,78.5,60,71.099999999999994,null,null,71.466666666666654,60,66.88,72.900000000000006,60,67.740000000000009,71.099999999999994,60,66.66,60,null,{"$f":"SISWA!S16","v":"060/MINI.L-Kid/30.02.02/S.1-2/VI/2020"},null,{"$f":"\"0\"&A18&\"/Mi.13.05.162/PP.01.1/06/2020\"","v":"010/Mi.13.05.162/PP.01.1/06/2020"},null,10]
[{"$f":"SISWA!A18","v":11},{"$f":"IF(SISWA!B18=0,\"\",SISWA!B18)","v":4339},{"$f":"IF(SISWA!C18=0,\"\",SISWA!C18)","v":"0086652599"},{"$f":"IF(SISWA!D18=0,\"\",SISWA!D18)","v":"1-18-05-80-162-011-6"},{"$f":"IF(SISWA!E18=0,\"\",SISWA!E18)","v":"DEVI KARUNIA RATNA PUTRI"},{"$f":"IF(SISWA!P17=0,\"\",SISWA!P17)","v":"Lumajang, 28 Januari 2008"},{"$f":"IF(SISWA!H18=0,\"\",SISWA!H18)","v":"MUKHAMMAD KHOZIN AS'ARI"},{"$f":"#REF!","v":{"$error":"#REF!"}},{"$f":"#REF!","v":{"$error":"#REF!"}},{"$error":"#REF!"},{"$f":"AA!K18","v":87.75},{"$f":"AA!N18","v":86.075000000000003},87.08,{"$f":"AH!K18","v":86.75},{"$f":"AH!N18","v":79.625},83.9,{"$f":"FQ!K18","v":88},{"$f":"FQ!N18","v":76.5},83.4,{"$f":"SKI!K18","v":84},{"$f":"SKI!N18","v":71.3},78.92,{"$f":"PKn!K18","v":80.5},{"$f":"PKn!N18","v":60},72.3,{"$f":"BID!K18","v":80},{"$f":"BID!N18","v":70},76,{"$f":"BA!K18","v":84.75},{"$f":"BA!N18","v":71.375},79.400000000000006,{"$f":"MTK!K18","v":84.25},{"$f":"MTK!L18","v":65},76.55,{"$f":"IPA!K18","v":81.5},{"$f":"IPA!N18","v":60},72.900000000000006,{"$f":"IPS!K18","v":83.25},{"$f":"IPS!L18","v":60},73.949999999999989,{"$f":"SBK!K18","v":82.25},{"$f":"SBK!N18","v":74.424999999999997},79.12,{"$f":"PJK!K18","v":85},{"$f":"PJK!N18","v":79.5},82.8,{"$f":"BD!K18","v":76.75},{"$f":"BD!N18","v":72.125},74.900000000000006,{"$f":"BIG!K18","v":78},{"$f":"BIG!N18","v":75.5},77,{"$f":"AWJ!N18","v":78},{"$f":"AWJ!P18","v":77.666666666666671},77.866666666666674,78.444285714285698,76,{"$f":"BID!L18","v":60},69.599999999999994,76.55,{"$f":"MTK!L18","v":65},71.930000000000007,72.900000000000006,{"$f":"IPA!L18","v":60},67.740000000000009,61.666666666666664,209.27,185,80,70,76,84.25,65,76.55,81.5,60,72.900000000000006,null,null,76,60,69.599999999999994,76.55,65,71.930000000000007,72.900000000000006,60,67.740000000000009,61.666666666666664,null,{"$f":"SISWA!S17","v":"061/MINI.L-Kid/30.02.02/S.1-2/VI/2020"},null,{"$f":"\"0\"&A19&\"/Mi.13.05.162/PP.01.1/06/2020\"","v":"011/Mi.13.05.162/PP.01.1/06/2020"},null,11]
[{"$f":"SISWA!A19","v":12},{"$f":"IF(SISWA!B19=0,\"\",SISWA!B19)","v":4340},{"$f":"IF(SISWA!C19=0,\"\",SISWA!C19)","v":"0089906682"},{"$f":"IF(SISWA!D19=0,\"\",SISWA!D19)","v":"1-18-05-80-162-012-5"},{"$f":"IF(SISWA!E19=0,\"\",SISWA!E19)","v":"DEVITA FEBRIANI PUTRI"},{"$f":"IF(SISWA!P18=0,\"\",SISWA!P18)","v":"Lumajang, 17 Februari 2008"},{"$f":"IF(SISWA!H19=0,\"\",SISWA!H19)","v":"BINADI"},{"$f":"#REF!","v":{"$error":"#REF!"}},{"$f":"#REF!","v":{"$error":"#REF!"}},{"$error":"#REF!"},{"$f":"AA!K19","v":85.75},{"$f":"AA!N19","v":94.275000000000006},89.16,{"$f":"AH!K19","v":87.5},{"$f":"AH!N19","v":73.75},82,{"$f":"FQ!K19","v":88.75},{"$f":"FQ!N19","v":76.875},84,{"$f":"SKI!K19","v":83.75},{"$f":"SKI!N19","v":71.174999999999997},78.72,{"$f":"PKn!K19","v":80},{"$f":"PKn!N19","v":70},76,{"$f":"BID!K19","v":76.666666666666671},{"$f":"BID!N19","v":68.333333333333343},73.333333333333343,{"$f":"BA!K19","v":82.75},{"$f":"BA!N19","v":70.375},77.8,{"$f":"MTK!K19","v":83.5},{"$f":"MTK!L19","v":60},74.099999999999994,{"$f":"IPA!K19","v":79.25},{"$f":"IPA!N19","v":60},71.55,{"$f":"IPS!K19","v":81.25},{"$f":"IPS!L19","v":60},72.75,{"$f":"SBK!K19","v":82.5},{"$f":"SBK!N19","v":75.650000000000006},79.760000000000005,{"$f":"PJK!K19","v":85},{"$f":"PJK!N19","v":79.5},82.8,{"$f":"BD!K19","v":75.25},{"$f":"BD!N19","v":67.625},72.2,{"$f":"BIG!K19","v":80},{"$f":"BIG!N19","v":75},78,{"$f":"AWJ!N19","v":78},{"$f":"AWJ!P19","v":77.666666666666671},77.866666666666674,78.012380952380937,73.333333333333343,{"$f":"BID!L19","v":60},68,74.099999999999994,{"$f":"MTK!L19","v":60},68.459999999999994,71.55,{"$f":"IPA!L19","v":60},66.930000000000007,60,203.39,180,76.666666666666671,68.333333333333343,73.333333333333343,83.5,60,74.099999999999994,79.25,60,71.55,null,null,73.333333333333343,60,68,74.099999999999994,60,68.459999999999994,71.55,60,66.930000000000007,60,null,{"$f":"SISWA!S18","v":"062/MINI.L-Kid/30.02.02/S.1-2/VI/2020"},null,"012/Mi.13.05.162/PP.01.1/06/2020",null,12]
[{"$f":"SISWA!A20","v":13},{"$f":"IF(SISWA!B20=0,\"\",SISWA!B20)","v":4370},{"$f":"IF(SISWA!C20=0,\"\",SISWA!C20)","v":"0074514146"},{"$f":"IF(SISWA!D20=0,\"\",SISWA!D20)","v":"1-18-05-80-162-013-4"},{"$f":"IF(SISWA!E20=0,\"\",SISWA!E20)","v":"FAKHIS GABRIL LIA"},{"$f":"IF(SISWA!P19=0,\"\",SISWA!P19)","v":"Lumajang, 04 Mei 2007"},{"$f":"IF(SISWA!H20=0,\"\",SISWA!H20)","v":"DONI HARIADI"},{"$f":"#REF!","v":{"$error":"#REF!"}},{"$f":"#REF!","v":{"$error":"#REF!"}},{"$error":"#REF!"},{"$f":"AA!K20","v":85.75},{"$f":"AA!N20","v":94.575000000000003},89.28,{"$f":"AH!K20","v":88.5},{"$f":"AH!N20","v":80.5},85.300000000000011,{"$f":"FQ!K20","v":86.75},{"$f":"FQ!N20","v":83.375},85.4,{"$f":"SKI!K20","v":81.75},{"$f":"SKI!N20","v":70.474999999999994},77.239999999999995,{"$f":"PKn!K20","v":81.75},{"$f":"PKn!N20","v":67.5},76.05,{"$f":"BID!K20","v":78},{"$f":"BID!N20","v":69},74.400000000000006,{"$f":"BA!K20","v":87},{"$f":"BA!N20","v":72.099999999999994},81.039999999999992,{"$f":"MTK!K20","v":84.5},{"$f":"MTK!L20","v":60},74.699999999999989,{"$f":"IPA!K20","v":77.75},{"$f":"IPA!N20","v":70},74.650000000000006,{"$f":"IPS!K20","v":79.5},{"$f":"IPS!L20","v":60},71.699999999999989,{"$f":"SBK!K20","v":82.5},{"$f":"SBK!N20","v":69.95},77.48,{"$f":"PJK!K20","v":84.25},{"$f":"PJK!N20","v":79.125},82.2,{"$f":"BD!K20","v":75},{"$f":"BD!N20","v":67.5},72,{"$f":"BIG!K20","v":75.25},{"$f":"BIG!N20","v":78.625},76.599999999999994,{"$f":"AWJ!N20","v":77},{"$f":"AWJ!P20","v":77},77,78.431428571428569,74.400000000000006,{"$f":"BID!L20","v":60},68.64,74.699999999999989,{"$f":"MTK!L20","v":60},68.819999999999993,74.650000000000006,{"$f":"IPA!L20","v":70},72.789999999999992,63.333333333333336,210.24999999999997,190,78,69,74.400000000000006,84.5,60,74.699999999999989,77.75,70,74.650000000000006,null,null,74.400000000000006,60,68.64,74.699999999999989,60,68.819999999999993,74.650000000000006,70,72.789999999999992,63.333333333333336,null,{"$f":"SISWA!S19","v":"063/MINI.L-Kid/30.02.02/S.1-2/VI/2020"},null,"013/Mi.13.05.162/PP.01.1/06/2020",null,13]
[{"$f":"SISWA!A21","v":14},{"$f":"IF(SISWA!B21=0,\"\",SISWA!B21)","v":4342},{"$f":"IF(SISWA!C21=0,\"\",SISWA!C21)","v":"0081081672"},{"$f":"IF(SISWA!D21=0,\"\",SISWA!D21)","v":"1-18-05-80-162-014-3"},{"$f":"IF(SISWA!E21=0,\"\",SISWA!E21)","v":"FARAH NAILATUL ALYAH"},{"$f":"IF(SISWA!P20=0,\"\",SISWA!P20)","v":"Lumajang, 27 Februari 2008"},{"$f":"IF(SISWA!H21=0,\"\",SISWA!H21)","v":"HASAN SANUSI"},{"$f":"#REF!","v":{"$error":"#REF!"}},{"$f":"#REF!","v":{"$error":"#REF!"}},{"$error":"#REF!"},{"$f":"AA!K21","v":88.5},{"$f":"AA!N21","v":88.95},88.68,{"$f":"AH!K21","v":93.25},{"$f":"AH!N21","v":82.875},89.1,{"$f":"FQ!K21","v":89.5},{"$f":"FQ!N21","v":82.25},86.6,{"$f":"SKI!K21","v":86.5},{"$f":"SKI!N21","v":70.650000000000006},80.16,{"$f":"PKn!K21","v":86.5},{"$f":"PKn!N21","v":70},79.900000000000006,{"$f":"BID!K21","v":82},{"$f":"BID!N21","v":75.722222222222229},79.48888888888888,{"$f":"BA!K21","v":86},{"$f":"BA!N21","v":71.2},80.080000000000013,{"$f":"MTK!K21","v":85.75},{"$f":"MTK!L21","v":60},75.449999999999989,{"$f":"IPA!K21","v":84.25},{"$f":"IPA!N21","v":60},74.55,{"$f":"IPS!K21","v":84.5},{"$f":"IPS!L21","v":60},74.699999999999989,{"$f":"SBK!K21","v":85.75},{"$f":"SBK!N21","v":69.974999999999994},79.44,{"$f":"PJK!K21","v":84.25},{"$f":"PJK!N21","v":70.125},78.599999999999994,{"$f":"BD!K21","v":78.25},{"$f":"BD!N21","v":69.125},74.599999999999994,{"$f":"BIG!K21","v":81.5},{"$f":"BIG!N21","v":71.75},77.599999999999994,{"$f":"AWJ!N21","v":80.5},{"$f":"AWJ!P21","v":80.5},80.5,79.924920634920639,79.48888888888888,{"$f":"BID!L21","v":69.444444444444443},75.471111111111099,75.449999999999989,{"$f":"MTK!L21","v":60},69.269999999999982,74.55,{"$f":"IPA!L21","v":60},68.72999999999999,63.148148148148152,213.47111111111107,189.44444444444446,82,75.722222222222229,79.48888888888888,85.75,60,75.449999999999989,84.25,60,74.55,null,null,79.48888888888888,69.444444444444443,75.471111111111099,75.449999999999989,60,69.269999999999982,74.55,60,68.72999999999999,63.148148148148152,null,{"$f":"SISWA!S20","v":"064/MINI.L-Kid/30.02.02/S.1-2/VI/2020"},null,"014/Mi.13.05.162/PP.01.1/06/2020",null,14]
[{"$f":"SISWA!A22","v":15},{"$f":"IF(SISWA!B22=0,\"\",SISWA!B22)","v":4345},{"$f":"IF(SISWA!C22=0,\"\",SISWA!C22)","v":"0073420487"},{"$f":"IF(SISWA!D22=0,\"\",SISWA!D22)","v":"1-18-05-80-162-015-2"},{"$f":"IF(SISWA!E22=0,\"\",SISWA!E22)","v":"GALANG MARDHOTILLAH SATOTO"},{"$f":"IF(SISWA!P21=0,\"\",SISWA!P21)","v":"Lumajang, 12 Juli 2007"},{"$f":"IF(SISWA!H22=0,\"\",SISWA!H22)","v":"AGUNG SUJUD SATOTO"},{"$f":"#REF!","v":{"$error":"#REF!"}},{"$f":"#REF!","v":{"$error":"#REF!"}},{"$error":"#REF!"},{"$f":"AA!K22","v":80.75},{"$f":"AA!N22","v":80.275000000000006},80.56,{"$f":"AH!K22","v":83.75},{"$f":"AH!N22","v":71.875},79,{"$f":"FQ!K22","v":81.75},{"$f":"FQ!N22","v":75.875},79.400000000000006,{"$f":"SKI!K22","v":78.75},{"$f":"SKI!N22","v":69.275000000000006},74.960000000000008,{"$f":"PKn!K22","v":80.5},{"$f":"PKn!N22","v":60},72.3,{"$f":"BID!K22","v":75.666666666666671},{"$f":"BID!N22","v":67.833333333333343},72.533333333333331,{"$f":"BA!K22","v":82.25},{"$f":"BA!N22","v":70.224999999999994},77.44,{"$f":"MTK!K22","v":81.5},{"$f":"MTK!L22","v":60},72.900000000000006,{"$f":"IPA!K22","v":78},{"$f":"IPA!N22","v":60},70.8,{"$f":"IPS!K22","v":78.75},{"$f":"IPS!L22","v":60},71.25,{"$f":"SBK!K22","v":81},{"$f":"SBK!N22","v":68.599999999999994},76.039999999999992,{"$f":"PJK!K22","v":85.5},{"$f":"PJK!N22","v":70.75},79.599999999999994,{"$f":"BD!K22","v":75},{"$f":"BD!N22","v":67.5},72,{"$f":"BIG!K22","v":75},{"$f":"BIG!N22","v":81.5},77.599999999999994,{"$f":"AWJ!N22","v":75},{"$f":"AWJ!P22","v":75},75,75.455952380952368,72.533333333333331,{"$f":"BID!L22","v":60},67.52,72.900000000000006,{"$f":"MTK!L22","v":60},67.740000000000009,70.8,{"$f":"IPA!L22","v":60},66.47999999999999,60,201.73999999999998,180,75.666666666666671,67.833333333333343,72.533333333333331,81.5,60,72.900000000000006,78,60,70.8,null,null,72.533333333333331,60,67.52,72.900000000000006,60,67.740000000000009,70.8,60,66.47999999999999,60,null,{"$f":"SISWA!S21","v":"065/MINI.L-Kid/30.02.02/S.1-2/VI/2020"},null,"015/Mi.13.05.162/PP.01.1/06/2020",null,15]
[{"$f":"SISWA!A23","v":16},{"$f":"IF(SISWA!B23=0,\"\",SISWA!B23)","v":4371},{"$f":"IF(SISWA!C23=0,\"\",SISWA!C23)","v":"0079870082"},{"$f":"IF(SISWA!D23=0,\"\",SISWA!D23)","v":"1-18-05-80-162-016-9"},{"$f":"IF(SISWA!E23=0,\"\",SISWA!E23)","v":"GALIH FAREL PRASTYO"},{"$f":"IF(SISWA!P22=0,\"\",SISWA!P22)","v":"Lumajang, 03 Juli 2007"},{"$f":"IF(SISWA!H23=0,\"\",SISWA!H23)","v":"MOHAMAD ARIFIN"},{"$f":"#REF!","v":{"$error":"#REF!"}},{"$f":"#REF!","v":{"$error":"#REF!"}},{"$error":"#REF!"},{"$f":"AA!K23","v":81},{"$f":"AA!N23","v":70},76.599999999999994,{"$f":"AH!K23","v":86.5},{"$f":"AH!N23","v":73.25},81.2,{"$f":"FQ!K23","v":82.75},{"$f":"FQ!N23","v":71.375},78.2,{"$f":"SKI!K23","v":79.75},{"$f":"SKI!N23","v":69.575000000000003},75.680000000000007,{"$f":"PKn!K23","v":78.25},{"$f":"PKn!N23","v":60},70.949999999999989,{"$f":"BID!K23","v":75.666666666666671},{"$f":"BID!N23","v":67.833333333333343},72.533333333333331,{"$f":"BA!K23","v":84},{"$f":"BA!N23","v":70.7},78.680000000000007,{"$f":"MTK!K23","v":80.5},{"$f":"MTK!L23","v":60},72.3,{"$f":"IPA!K23","v":78.75},{"$f":"IPA!N23","v":60},71.25,{"$f":"IPS!K23","v":77},{"$f":"IPS!L23","v":60},70.199999999999989,{"$f":"SBK!K23","v":79.25},{"$f":"SBK!N23","v":67.825000000000003},74.680000000000007,{"$f":"PJK!K23","v":83.5},{"$f":"PJK!N23","v":72.650000000000006},79.16,{"$f":"BD!K23","v":74.25},{"$f":"BD!N23","v":67.125},71.400000000000006,{"$f":"BIG!K23","v":75},{"$f":"BIG!N23","v":67.2},71.88,{"$f":"AWJ!N23","v":74},{"$f":"AWJ!P23","v":74},74,74.622380952380936,72.533333333333331,{"$f":"BID!L23","v":60},67.52,72.3,{"$f":"MTK!L23","v":60},67.38,71.25,{"$f":"IPA!L23","v":60},66.75,60,201.64999999999998,180,75.666666666666671,67.833333333333343,72.533333333333331,80.5,60,72.3,78.75,60,71.25,null,null,72.533333333333331,60,67.52,72.3,60,67.38,71.25,60,66.75,60,null,{"$f":"SISWA!S22","v":"066/MINI.L-Kid/30.02.02/S.1-2/VI/2020"},null,"016/Mi.13.05.162/PP.01.1/06/2020",null,16]
[{"$f":"SISWA!A24","v":17},{"$f":"IF(SISWA!B24=0,\"\",SISWA!B24)","v":4466},{"$f":"IF(SISWA!C24=0,\"\",SISWA!C24)","v":"0081629504"},{"$f":"IF(SISWA!D24=0,\"\",SISWA!D24)","v":"1-18-05-80-162-017-8"},{"$f":"IF(SISWA!E24=0,\"\",SISWA!E24)","v":"HIBATULLAH MUSTAGHFIRY RUSLI"},{"$f":"IF(SISWA!P23=0,\"\",SISWA!P23)","v":"Bondowoso, 05 Mei 2008"},{"$f":"IF(SISWA!H24=0,\"\",SISWA!H24)","v":"HAJI AMIR RUSLI"},{"$f":"#REF!","v":{"$error":"#REF!"}},{"$f":"#REF!","v":{"$error":"#REF!"}},{"$error":"#REF!"},{"$f":"AA!K24","v":84.75},{"$f":"AA!N24","v":77.474999999999994},81.84,{"$f":"AH!K24","v":84.75},{"$f":"AH!N24","v":72.375},79.800000000000011,{"$f":"FQ!K24","v":86.75},{"$f":"FQ!N24","v":77.125},82.9,{"$f":"SKI!K24","v":84.5},{"$f":"SKI!N24","v":69.95},78.680000000000007,{"$f":"PKn!K24","v":82.25},{"$f":"PKn!N24","v":60},73.349999999999994,{"$f":"BID!K24","v":80},{"$f":"BID!N24","v":70},76,{"$f":"BA!K24","v":83.25},{"$f":"BA!N24","v":69.825000000000003},77.88,{"$f":"MTK!K24","v":80},{"$f":"MTK!L24","v":60},72,{"$f":"IPA!K24","v":80},{"$f":"IPA!N24","v":60},72,{"$f":"IPS!K24","v":83},{"$f":"IPS!L24","v":60},73.8,{"$f":"SBK!K24","v":81.5},{"$f":"SBK!N24","v":68.75},76.400000000000006,{"$f":"PJK!K24","v":83.75},{"$f":"PJK!N24","v":69.875},78.2,{"$f":"BD!K24","v":77.5},{"$f":"BD!N24","v":68.75},74,{"$f":"BIG!K24","v":83},{"$f":"BIG!N24","v":92.3},86.72,{"$f":"AWJ!N24","v":79},{"$f":"AWJ!P24","v":79},79,77.397857142857134,76,{"$f":"BID!L24","v":60},69.599999999999994,72,{"$f":"MTK!L24","v":60},67.199999999999989,72,{"$f":"IPA!L24","v":60},67.199999999999989,60,203.99999999999997,180,80,70,76,80,60,72,80,60,72,null,null,76,60,69.599999999999994,72,60,67.199999999999989,72,60,67.199999999999989,60,null,{"$f":"SISWA!S23","v":"067/MINI.L-Kid/30.02.02/S.1-2/VI/2020"},null,"017/Mi.13.05.162/PP.01.1/06/2020",null,17]
[{"$f":"SISWA!A25","v":18},{"$f":"IF(SISWA!B25=0,\"\",SISWA!B25)","v":4346},{"$f":"IF(SISWA!C25=0,\"\",SISWA!C25)","v":"0073608418"},{"$f":"IF(SISWA!D25=0,\"\",SISWA!D25)","v":"1-18-05-80-162-018-7"},{"$f":"IF(SISWA!E25=0,\"\",SISWA!E25)","v":"IKA KURNIA WATI AGUSTINA"},{"$f":"IF(SISWA!P24=0,\"\",SISWA!P24)","v":"Lumajang, 19 Agustus 2007"},{"$f":"IF(SISWA!H25=0,\"\",SISWA!H25)","v":"SUPANDI ARIS SUMARGIONO"},{"$f":"#REF!","v":{"$error":"#REF!"}},{"$f":"#REF!","v":{"$error":"#REF!"}},{"$error":"#REF!"},{"$f":"AA!K25","v":83.75},{"$f":"AA!N25","v":89.174999999999997},85.92,{"$f":"AH!K25","v":85.25},{"$f":"AH!N25","v":72.625},80.2,{"$f":"FQ!K25","v":82},{"$f":"FQ!N25","v":71},77.599999999999994,{"$f":"SKI!K25","v":80.75},{"$f":"SKI!N25","v":69.775000000000006},76.36,{"$f":"PKn!K25","v":76.5},{"$f":"PKn!N25","v":60},69.900000000000006,{"$f":"BID!K25","v":76},{"$f":"BID!N25","v":68},72.800000000000011,{"$f":"BA!K25","v":82.25},{"$f":"BA!N25","v":70.125},77.400000000000006,{"$f":"MTK!K25","v":79.75},{"$f":"MTK!L25","v":60},71.849999999999994,{"$f":"IPA!K25","v":77.75},{"$f":"IPA!N25","v":60},70.650000000000006,{"$f":"IPS!K25","v":78.5},{"$f":"IPS!L25","v":60},71.099999999999994,{"$f":"SBK!K25","v":79.75},{"$f":"SBK!N25","v":68.174999999999997},75.12,{"$f":"PJK!K25","v":84},{"$f":"PJK!N25","v":70},78.400000000000006,{"$f":"BD!K25","v":74.5},{"$f":"BD!N25","v":67.25},71.599999999999994,{"$f":"BIG!K25","v":74.5},{"$f":"BIG!N25","v":66.25},71.199999999999989,{"$f":"AWJ!N25","v":75.666666666666671},{"$f":"AWJ!P25","v":75.666666666666671},75.666666666666671,75.007142857142867,72.800000000000011,{"$f":"BID!L25","v":60},67.680000000000007,71.849999999999994,{"$f":"MTK!L25","v":60},67.109999999999985,70.650000000000006,{"$f":"IPA!L25","v":60},66.39,60,201.18,180,76,68,72.800000000000011,79.75,60,71.849999999999994,77.75,60,70.650000000000006,null,null,72.800000000000011,60,67.680000000000007,71.849999999999994,60,67.109999999999985,70.650000000000006,60,66.39,60,null,{"$f":"SISWA!S24","v":"068/MINI.L-Kid/30.02.02/S.1-2/VI/2020"},null,"018/Mi.13.05.162/PP.01.1/06/2020",null,18]
[{"$f":"SISWA!A26","v":19},{"$f":"IF(SISWA!B26=0,\"\",SISWA!B26)","v":4350},{"$f":"IF(SISWA!C26=0,\"\",SISWA!C26)","v":"0072658586"},{"$f":"IF(SISWA!D26=0,\"\",SISWA!D26)","v":"1-18-05-80-162-019-6"},{"$f":"IF(SISWA!E26=0,\"\",SISWA!E26)","v":"MAYLUNA EKA PRATIWI"},{"$f":"IF(SISWA!P25=0,\"\",SISWA!P25)","v":"Lumajang, 25 Mei 2007"},{"$f":"IF(SISWA!H26=0,\"\",SISWA!H26)","v":"MOCHAMAD SYAMSUL HUDA"},{"$f":"#REF!","v":{"$error":"#REF!"}},{"$f":"#REF!","v":{"$error":"#REF!"}},{"$error":"#REF!"},{"$f":"AA!K26","v":91.25},{"$f":"AA!N26","v":88.625},90.2,{"$f":"AH!K26","v":92},{"$f":"AH!N26","v":76},85.6,{"$f":"FQ!K26","v":93.5},{"$f":"FQ!N26","v":88},91.300000000000011,{"$f":"SKI!K26","v":89},{"$f":"SKI!N26","v":79.3},85.12,{"$f":"PKn!K26","v":89.25},{"$f":"PKn!N26","v":60},77.55,{"$f":"BID!K26","v":87},{"$f":"BID!N26","v":73.5},81.599999999999994,{"$f":"BA!K26","v":87.75},{"$f":"BA!N26","v":71.875},81.400000000000006,{"$f":"MTK!K26","v":86.5},{"$f":"MTK!L26","v":60},75.900000000000006,{"$f":"IPA!K26","v":85.5},{"$f":"IPA!N26","v":60},75.3,{"$f":"IPS!K26","v":88.75},{"$f":"IPS!L26","v":60},77.25,{"$f":"SBK!K26","v":89.5},{"$f":"SBK!N26","v":71.650000000000006},82.36,{"$f":"PJK!K26","v":86.75},{"$f":"PJK!N26","v":71.375},80.599999999999994,{"$f":"BD!K26","v":77.5},{"$f":"BD!N26","v":68.75},74,{"$f":"BIG!K26","v":79.25},{"$f":"BIG!N26","v":68.625},75,{"$f":"AWJ!N26","v":80.5},{"$f":"AWJ!P26","v":80.5},80.5,80.94142857142856,81.599999999999994,{"$f":"BID!L26","v":60},72.959999999999994,75.900000000000006,{"$f":"MTK!L26","v":60},69.539999999999992,75.3,{"$f":"IPA!L26","v":60},69.180000000000007,60,211.68,180,87,73.5,81.599999999999994,86.5,60,75.900000000000006,85.5,60,75.3,null,null,81.599999999999994,60,72.959999999999994,75.900000000000006,60,69.539999999999992,75.3,60,69.180000000000007,60,null,{"$f":"SISWA!S25","v":"069/MINI.L-Kid/30.02.02/S.1-2/VI/2020"},null,"019/Mi.13.05.162/PP.01.1/06/2020",null,19]
[{"$f":"SISWA!A27","v":20},{"$f":"IF(SISWA!B27=0,\"\",SISWA!B27)","v":4353},{"$f":"IF(SISWA!C27=0,\"\",SISWA!C27)","v":"0075464137"},{"$f":"IF(SISWA!D27=0,\"\",SISWA!D27)","v":"1-18-05-80-162-020-5"},{"$f":"IF(SISWA!E27=0,\"\",SISWA!E27)","v":"MOHAMAD DWIMAS FIRDAUS"},{"$f":"IF(SISWA!P26=0,\"\",SISWA!P26)","v":"Lumajang, 14 Mei 2007"},{"$f":"IF(SISWA!H27=0,\"\",SISWA!H27)","v":"MOHAMAD UMAR"},{"$f":"#REF!","v":{"$error":"#REF!"}},{"$f":"#REF!","v":{"$error":"#REF!"}},{"$error":"#REF!"},{"$f":"AA!K27","v":86.75},{"$f":"AA!N27","v":84.575000000000003},85.88,{"$f":"AH!K27","v":86.5},{"$f":"AH!N27","v":73.25},81.2,{"$f":"FQ!K27","v":89.5},{"$f":"FQ!N27","v":74.75},83.6,{"$f":"SKI!K27","v":86},{"$f":"SKI!N27","v":71.3},80.12,{"$f":"PKn!K27","v":84.5},{"$f":"PKn!N27","v":60},74.699999999999989,{"$f":"BID!K27","v":81.666666666666671},{"$f":"BID!N27","v":70.833333333333343},77.333333333333343,{"$f":"BA!K27","v":80},{"$f":"BA!N27","v":69.2},75.680000000000007,{"$f":"MTK!K27","v":79.25},{"$f":"MTK!L27","v":60},71.55,{"$f":"IPA!K27","v":84.25},{"$f":"IPA!N27","v":60},74.55,{"$f":"IPS!K27","v":84},{"$f":"IPS!L27","v":67.5},77.400000000000006,{"$f":"SBK!K27","v":84.5},{"$f":"SBK!N27","v":74.349999999999994},80.44,{"$f":"PJK!K27","v":85.25},{"$f":"PJK!N27","v":87.125},86,{"$f":"BD!K27","v":79.75},{"$f":"BD!N27","v":69.875},75.800000000000011,{"$f":"BIG!K27","v":81.5},{"$f":"BIG!N27","v":84.75},82.8,{"$f":"AWJ!N27","v":75},{"$f":"AWJ!P27","v":75},75,79.075238095238078,77.333333333333343,{"$f":"BID!L27","v":60},70.400000000000006,71.55,{"$f":"MTK!L27","v":60},66.930000000000007,74.55,{"$f":"IPA!L27","v":60},68.72999999999999,60,206.06,180,81.666666666666671,70.833333333333343,77.333333333333343,79.25,60,71.55,84.25,60,74.55,null,null,77.333333333333343,60,70.400000000000006,71.55,60,66.930000000000007,74.55,60,68.72999999999999,60,null,{"$f":"SISWA!S26","v":"070/MINI.L-Kid/30.02.02/S.1-2/VI/2020"},null,"020/Mi.13.05.162/PP.01.1/06/2020",null,20]
[{"$f":"SISWA!A28","v":21},{"$f":"IF(SISWA!B28=0,\"\",SISWA!B28)","v":4375},{"$f":"IF(SISWA!C28=0,\"\",SISWA!C28)","v":"0075096831"},{"$f":"IF(SISWA!D28=0,\"\",SISWA!D28)","v":"1-18-05-80-162-021-4"},{"$f":"IF(SISWA!E28=0,\"\",SISWA!E28)","v":"MUHAMMAD AFFAN ABI SYAHPUTRA"},{"$f":"IF(SISWA!P27=0,\"\",SISWA!P27)","v":"Lumajang, 06 November 2007"},{"$f":"IF(SISWA!H28=0,\"\",SISWA!H28)","v":"EDI SANTOSO"},{"$f":"#REF!","v":{"$error":"#REF!"}},{"$f":"#REF!","v":{"$error":"#REF!"}},{"$error":"#REF!"},{"$f":"AA!K28","v":85.5},{"$f":"AA!N28","v":70.849999999999994},79.64,{"$f":"AH!K28","v":84.5},{"$f":"AH!N28","v":72.25},79.599999999999994,{"$f":"FQ!K28","v":82.75},{"$f":"FQ!N28","v":71.375},78.2,{"$f":"SKI!K28","v":83.5},{"$f":"SKI!N28","v":70.05},78.12,{"$f":"PKn!K28","v":81.5},{"$f":"PKn!N28","v":60},72.900000000000006,{"$f":"BID!K28","v":81.666666666666671},{"$f":"BID!N28","v":70.833333333333343},77.333333333333343,{"$f":"BA!K28","v":82},{"$f":"BA!N28","v":69.7},77.08,{"$f":"MTK!K28","v":81.5},{"$f":"MTK!L28","v":60},72.900000000000006,{"$f":"IPA!K28","v":81.5},{"$f":"IPA!N28","v":60},72.900000000000006,{"$f":"IPS!K28","v":82.5},{"$f":"IPS!L28","v":60},73.5,{"$f":"SBK!K28","v":84},{"$f":"SBK!N28","v":69.3},78.12,{"$f":"PJK!K28","v":85.25},{"$f":"PJK!N28","v":87.025000000000006},85.960000000000008,{"$f":"BD!K28","v":77},{"$f":"BD!N28","v":76},76.599999999999994,{"$f":"BIG!K28","v":78},{"$f":"BIG!N28","v":68},74,{"$f":"AWJ!N28","v":78.5},{"$f":"AWJ!P28","v":78.5},78.5,76.918095238095248,77.333333333333343,{"$f":"BID!L28","v":60},70.400000000000006,72.900000000000006,{"$f":"MTK!L28","v":60},67.740000000000009,72.900000000000006,{"$f":"IPA!L28","v":60},67.740000000000009,60,205.88000000000002,180,81.666666666666671,70.833333333333343,77.333333333333343,81.5,60,72.900000000000006,81.5,60,72.900000000000006,null,null,77.333333333333343,60,70.400000000000006,72.900000000000006,60,67.740000000000009,72.900000000000006,60,67.740000000000009,60,null,{"$f":"SISWA!S27","v":"071/MINI.L-Kid/30.02.02/S.1-2/VI/2020"},null,"021/Mi.13.05.162/PP.01.1/06/2020",null,21]
[{"$f":"SISWA!A29","v":22},{"$f":"IF(SISWA!B29=0,\"\",SISWA!B29)","v":4354},{"$f":"IF(SISWA!C29=0,\"\",SISWA!C29)","v":"0075055640"},{"$f":"IF(SISWA!D29=0,\"\",SISWA!D29)","v":"1-18-05-80-162-022-3"},{"$f":"IF(SISWA!E29=0,\"\",SISWA!E29)","v":"MUHAMMAD ALVIN RIDHO"},{"$f":"IF(SISWA!P28=0,\"\",SISWA!P28)","v":"Lumajang, 13 Agustus 2007"},{"$f":"IF(SISWA!H29=0,\"\",SISWA!H29)","v":"MACHMUD ALI RIDHO"},{"$f":"#REF!","v":{"$error":"#REF!"}},{"$f":"#REF!","v":{"$error":"#REF!"}},{"$error":"#REF!"},{"$f":"AA!K29","v":86.25},{"$f":"AA!N29","v":94.625},89.6,{"$f":"AH!K29","v":83.25},{"$f":"AH!N29","v":80.375},82.1,{"$f":"FQ!K29","v":84},{"$f":"FQ!N29","v":79.5},82.2,{"$f":"SKI!K29","v":79.75},{"$f":"SKI!N29","v":80.075000000000003},79.88,{"$f":"PKn!K29","v":79},{"$f":"PKn!N29","v":77.5},78.400000000000006,{"$f":"BID!K29","v":76},{"$f":"BID!N29","v":72.722222222222229},74.688888888888897,{"$f":"BA!K29","v":79.5},{"$f":"BA!N29","v":69.150000000000006},75.36,{"$f":"MTK!K29","v":82},{"$f":"MTK!L29","v":60},73.199999999999989,{"$f":"IPA!K29","v":77},{"$f":"IPA!N29","v":65},72.199999999999989,{"$f":"IPS!K29","v":76.5},{"$f":"IPS!L29","v":75},75.900000000000006,{"$f":"SBK!K29","v":80.5},{"$f":"SBK!N29","v":83.55},81.72,{"$f":"PJK!K29","v":85},{"$f":"PJK!N29","v":84},84.6,{"$f":"BD!K29","v":75},{"$f":"BD!N29","v":67.5},72,{"$f":"BIG!K29","v":76},{"$f":"BIG!N29","v":82.2},78.48,{"$f":"AWJ!N29","v":73},{"$f":"AWJ!P29","v":73},73,78.594920634920641,74.688888888888897,{"$f":"BID!L29","v":69.444444444444443},72.591111111111118,73.199999999999989,{"$f":"MTK!L29","v":60},67.919999999999987,72.199999999999989,{"$f":"IPA!L29","v":65},69.319999999999993,64.814814814814824,209.83111111111111,194.44444444444446,76,72.722222222222229,74.688888888888897,82,60,73.199999999999989,77,65,72.199999999999989,null,null,74.688888888888897,69.444444444444443,72.591111111111118,73.199999999999989,60,67.919999999999987,72.199999999999989,65,69.319999999999993,64.814814814814824,null,{"$f":"SISWA!S28","v":"072/MINI.L-Kid/30.02.02/S.1-2/VI/2020"},null,"022/Mi.13.05.162/PP.01.1/06/2020",null,22]
[{"$f":"SISWA!A30","v":23},{"$f":"IF(SISWA!B30=0,\"\",SISWA!B30)","v":4378},{"$f":"IF(SISWA!C30=0,\"\",SISWA!C30)","v":"0074268893"},{"$f":"IF(SISWA!D30=0,\"\",SISWA!D30)","v":"1-18-05-80-162-023-2"},{"$f":"IF(SISWA!E30=0,\"\",SISWA!E30)","v":"MUKHAMAD DAVID ARIF FIRDAUS"},{"$f":"IF(SISWA!P29=0,\"\",SISWA!P29)","v":"Lumajang, 06 Juli 2007"},{"$f":"IF(SISWA!H30=0,\"\",SISWA!H30)","v":"SAMSUL ARIFIN"},{"$f":"#REF!","v":{"$error":"#REF!"}},{"$f":"#REF!","v":{"$error":"#REF!"}},{"$error":"#REF!"},{"$f":"AA!K30","v":93.5},{"$f":"AA!N30","v":90.15},92.16,{"$f":"AH!K30","v":88.25},{"$f":"AH!N30","v":80.375},85.1,{"$f":"FQ!K30","v":92.5},{"$f":"FQ!N30","v":85},89.5,{"$f":"SKI!K30","v":87.25},{"$f":"SKI!N30","v":71.424999999999997},80.92,{"$f":"PKn!K30","v":85.75},{"$f":"PKn!N30","v":60},75.449999999999989,{"$f":"BID!K30","v":86.666666666666671},{"$f":"BID!N30","v":73.333333333333343},81.333333333333343,{"$f":"BA!K30","v":88.75},{"$f":"BA!N30","v":72.275000000000006},82.16,{"$f":"MTK!K30","v":87.5},{"$f":"MTK!L30","v":60},76.5,{"$f":"IPA!K30","v":84.5},{"$f":"IPA!N30","v":60},74.699999999999989,{"$f":"IPS!K30","v":84.75},{"$f":"IPS!L30","v":60},74.849999999999994,{"$f":"SBK!K30","v":85.25},{"$f":"SBK!N30","v":69.825000000000003},79.08,{"$f":"PJK!K30","v":87.75},{"$f":"PJK!N30","v":82.375},85.6,{"$f":"BD!K30","v":78.5},{"$f":"BD!N30","v":69.25},74.800000000000011,{"$f":"BIG!K30","v":81.25},{"$f":"BIG!N30","v":75.625},79,{"$f":"AWJ!N30","v":78.5},{"$f":"AWJ!P30","v":78.5},78.5,80.796666666666667,81.333333333333343,{"$f":"BID!L30","v":60},72.800000000000011,76.5,{"$f":"MTK!L30","v":60},69.900000000000006,74.699999999999989,{"$f":"IPA!L30","v":60},68.819999999999993,60,211.52,180,86.666666666666671,73.333333333333343,81.333333333333343,87.5,60,76.5,84.5,60,74.699999999999989,null,null,81.333333333333343,60,72.800000000000011,76.5,60,69.900000000000006,74.699999999999989,60,68.819999999999993,60,null,{"$f":"SISWA!S29","v":"073/MINI.L-Kid/30.02.02/S.1-2/VI/2020"},null,"023/Mi.13.05.162/PP.01.1/06/2020",null,23]
[{"$f":"SISWA!A31","v":24},{"$f":"IF(SISWA!B31=0,\"\",SISWA!B31)","v":4379},{"$f":"IF(SISWA!C31=0,\"\",SISWA!C31)","v":"0072757203"},{"$f":"IF(SISWA!D31=0,\"\",SISWA!D31)","v":"1-18-05-80-162-024-9"},{"$f":"IF(SISWA!E31=0,\"\",SISWA!E31)","v":"NAORA ISQI AINAYYA"},{"$f":"IF(SISWA!P30=0,\"\",SISWA!P30)","v":"Lumajang, 08 Desember 2007"},{"$f":"IF(SISWA!H31=0,\"\",SISWA!H31)","v":"MASYHURI AYATULLOH"},{"$f":"#REF!","v":{"$error":"#REF!"}},{"$f":"#REF!","v":{"$error":"#REF!"}},{"$error":"#REF!"},{"$f":"AA!K31","v":94.25},{"$f":"AA!N31","v":96.224999999999994},95.039999999999992,{"$f":"AH!K31","v":92.75},{"$f":"AH!N31","v":88.875},91.2,{"$f":"FQ!K31","v":97.25},{"$f":"FQ!N31","v":93.625},95.8,{"$f":"SKI!K31","v":92.75},{"$f":"SKI!N31","v":78.674999999999997},87.12,{"$f":"PKn!K31","v":93},{"$f":"PKn!N31","v":77.5},86.8,{"$f":"BID!K31","v":92.333333333333329},{"$f":"BID!N31","v":79.777777777777771},87.311111111111103,{"$f":"BA!K31","v":92.75},{"$f":"BA!N31","v":82.674999999999997},88.72,{"$f":"MTK!K31","v":89.5},{"$f":"MTK!L31","v":60},77.699999999999989,{"$f":"IPA!K31","v":89.75},{"$f":"IPA!N31","v":77.5},84.85,{"$f":"IPS!K31","v":92},{"$f":"IPS!L31","v":60},79.199999999999989,{"$f":"SBK!K31","v":92.5},{"$f":"SBK!N31","v":84.55},89.32,{"$f":"PJK!K31","v":84},{"$f":"PJK!N31","v":85},84.4,{"$f":"BD!K31","v":81.25},{"$f":"BD!N31","v":70.625},77,{"$f":"BIG!K31","v":81.5},{"$f":"BIG!N31","v":88.25},84.2,{"$f":"AWJ!N31","v":80.5},{"$f":"AWJ!P31","v":80.5},80.5,86.332936507936523,87.311111111111103,{"$f":"BID!L31","v":67.222222222222229},79.275555555555556,77.699999999999989,{"$f":"MTK!L31","v":60},70.61999999999999,84.85,{"$f":"IPA!L31","v":77.5},81.91,68.240740740740748,231.80555555555554,204.72222222222223,92.333333333333329,79.777777777777771,87.311111111111103,89.5,60,77.699999999999989,89.75,77.5,84.85,null,null,87.311111111111103,67.222222222222229,79.275555555555556,77.699999999999989,60,70.61999999999999,84.85,77.5,81.91,68.240740740740748,null,{"$f":"SISWA!S30","v":"074/MINI.L-Kid/30.02.02/S.1-2/VI/2020"},null,"024/Mi.13.05.162/PP.01.1/06/2020",null,24]
[{"$f":"SISWA!A32","v":25},{"$f":"IF(SISWA!B32=0,\"\",SISWA!B32)","v":4380},{"$f":"IF(SISWA!C32=0,\"\",SISWA!C32)","v":"0079026285"},{"$f":"IF(SISWA!D32=0,\"\",SISWA!D32)","v":"1-18-05-80-162-025-8"},{"$f":"IF(SISWA!E32=0,\"\",SISWA!E32)","v":"NAZRA ISLAMAY PASHA"},{"$f":"IF(SISWA!P31=0,\"\",SISWA!P31)","v":"Jombang, 08 Mei 2007"},{"$f":"IF(SISWA!H32=0,\"\",SISWA!H32)","v":"ABDUL QOSIM"},{"$f":"#REF!","v":{"$error":"#REF!"}},{"$f":"#REF!","v":{"$error":"#REF!"}},{"$error":"#REF!"},{"$f":"AA!K32","v":86.75},{"$f":"AA!N32","v":92.075000000000003},88.88,{"$f":"AH!K32","v":87.75},{"$f":"AH!N32","v":83.875},86.2,{"$f":"FQ!K32","v":87.75},{"$f":"FQ!N32","v":81.375},85.2,{"$f":"SKI!K32","v":85.5},{"$f":"SKI!N32","v":78.25},82.6,{"$f":"PKn!K32","v":83.5},{"$f":"PKn!N32","v":60},74.099999999999994,{"$f":"BID!K32","v":83.333333333333329},{"$f":"BID!N32","v":71.666666666666657},78.666666666666657,{"$f":"BA!K32","v":90.75},{"$f":"BA!N32","v":79.174999999999997},86.12,{"$f":"MTK!K32","v":81.75},{"$f":"MTK!L32","v":60},73.05,{"$f":"IPA!K32","v":82.5},{"$f":"IPA!N32","v":60},73.5,{"$f":"IPS!K32","v":86.25},{"$f":"IPS!L32","v":60},75.75,{"$f":"SBK!K32","v":84},{"$f":"SBK!N32","v":80.400000000000006},82.56,{"$f":"PJK!K32","v":83.5},{"$f":"PJK!N32","v":72.75},79.2,{"$f":"BD!K32","v":81.25},{"$f":"BD!N32","v":70.625},77,{"$f":"BIG!K32","v":79.25},{"$f":"BIG!N32","v":91.424999999999997},84.12,{"$f":"AWJ!N32","v":80},{"$f":"AWJ!P32","v":80},80,80.496190476190478,78.666666666666657,{"$f":"BID!L32","v":60},71.199999999999989,73.05,{"$f":"MTK!L32","v":60},67.83,73.5,{"$f":"IPA!L32","v":60},68.099999999999994,60,207.12999999999997,180,83.333333333333329,71.666666666666657,78.666666666666657,81.75,60,73.05,82.5,60,73.5,null,null,78.666666666666657,60,71.199999999999989,73.05,60,67.83,73.5,60,68.099999999999994,60,null,{"$f":"SISWA!S31","v":"075/MINI.L-Kid/30.02.02/S.1-2/VI/2020"},null,"025/Mi.13.05.162/PP.01.1/06/2020",null,25]
[{"$f":"SISWA!A33","v":26},{"$f":"IF(SISWA!B33=0,\"\",SISWA!B33)","v":4382},{"$f":"IF(SISWA!C33=0,\"\",SISWA!C33)","v":"0079872151"},{"$f":"IF(SISWA!D33=0,\"\",SISWA!D33)","v":"1-18-05-80-162-026-7"},{"$f":"IF(SISWA!E33=0,\"\",SISWA!E33)","v":"NUR ALYA NABILA"},{"$f":"IF(SISWA!P32=0,\"\",SISWA!P32)","v":"Lumajang, 02 September 2007"},{"$f":"IF(SISWA!H33=0,\"\",SISWA!H33)","v":"MASHURI"},{"$f":"#REF!","v":{"$error":"#REF!"}},{"$f":"#REF!","v":{"$error":"#REF!"}},{"$error":"#REF!"},{"$f":"AA!K33","v":89.25},{"$f":"AA!N33","v":91.325000000000003},90.08,{"$f":"AH!K33","v":87.25},{"$f":"AH!N33","v":79.875},84.300000000000011,{"$f":"FQ!K33","v":85.75},{"$f":"FQ!N33","v":85.375},85.6,{"$f":"SKI!K33","v":84.75},{"$f":"SKI!N33","v":79.575000000000003},82.68,{"$f":"PKn!K33","v":84.5},{"$f":"PKn!N33","v":72.5},79.699999999999989,{"$f":"BID!K33","v":80},{"$f":"BID!N33","v":73.611111111111114},77.444444444444443,{"$f":"BA!K33","v":87.75},{"$f":"BA!N33","v":72.375},81.599999999999994,{"$f":"MTK!K33","v":80.25},{"$f":"MTK!L33","v":60},72.150000000000006,{"$f":"IPA!K33","v":80.25},{"$f":"IPA!N33","v":60},72.150000000000006,{"$f":"IPS!K33","v":84},{"$f":"IPS!L33","v":65},76.400000000000006,{"$f":"SBK!K33","v":86.5},{"$f":"SBK!N33","v":70.650000000000006},80.16,{"$f":"PJK!K33","v":84},{"$f":"PJK!N33","v":70},78.400000000000006,{"$f":"BD!K33","v":80.25},{"$f":"BD!N33","v":70.125},76.2,{"$f":"BIG!K33","v":76.75},{"$f":"BIG!N33","v":76.375},76.599999999999994,{"$f":"AWJ!N33","v":80},{"$f":"AWJ!P33","v":80},80,79.533174603174601,77.444444444444443,{"$f":"BID!L33","v":67.222222222222229},73.355555555555554,72.150000000000006,{"$f":"MTK!L33","v":60},67.289999999999992,72.150000000000006,{"$f":"IPA!L33","v":60},67.289999999999992,62.407407407407412,207.93555555555554,187.22222222222223,80,73.611111111111114,77.444444444444443,80.25,60,72.150000000000006,80.25,60,72.150000000000006,null,null,77.444444444444443,67.222222222222229,73.355555555555554,72.150000000000006,60,67.289999999999992,72.150000000000006,60,67.289999999999992,62.407407407407412,null,{"$f":"SISWA!S32","v":"076/MINI.L-Kid/30.02.02/S.1-2/VI/2020"},null,"026/Mi.13.05.162/PP.01.1/06/2020",null,26]
[{"$f":"SISWA!A34","v":27},{"$f":"IF(SISWA!B34=0,\"\",SISWA!B34)","v":4358},{"$f":"IF(SISWA!C34=0,\"\",SISWA!C34)","v":"0087558837"},{"$f":"IF(SISWA!D34=0,\"\",SISWA!D34)","v":"1-18-05-80-162-027-6"},{"$f":"IF(SISWA!E34=0,\"\",SISWA!E34)","v":"PUTRI SHOLIKHAH"},{"$f":"IF(SISWA!P33=0,\"\",SISWA!P33)","v":"Lumajang, 10 Februari 2008"},{"$f":"IF(SISWA!H34=0,\"\",SISWA!H34)","v":"MULYONO"},{"$f":"#REF!","v":{"$error":"#REF!"}},{"$f":"#REF!","v":{"$error":"#REF!"}},{"$error":"#REF!"},{"$f":"AA!K34","v":86.25},{"$f":"AA!N34","v":85.224999999999994},85.84,{"$f":"AH!K34","v":86},{"$f":"AH!N34","v":73},80.800000000000011,{"$f":"FQ!K34","v":84.75},{"$f":"FQ!N34","v":72.375},79.800000000000011,{"$f":"SKI!K34","v":83.75},{"$f":"SKI!N34","v":70.075000000000003},78.28,{"$f":"PKn!K34","v":81},{"$f":"PKn!N34","v":67.5},75.599999999999994,{"$f":"BID!K34","v":78.666666666666671},{"$f":"BID!N34","v":69.333333333333343},74.933333333333337,{"$f":"BA!K34","v":84.25},{"$f":"BA!N34","v":71.025000000000006},78.960000000000008,{"$f":"MTK!K34","v":79.75},{"$f":"MTK!L34","v":60},71.849999999999994,{"$f":"IPA!K34","v":79.5},{"$f":"IPA!N34","v":60},71.699999999999989,{"$f":"IPS!K34","v":81},{"$f":"IPS!L34","v":60},72.599999999999994,{"$f":"SBK!K34","v":80},{"$f":"SBK!N34","v":67.7},75.08,{"$f":"PJK!K34","v":82.5},{"$f":"PJK!N34","v":69.25},77.2,{"$f":"BD!K34","v":78.5},{"$f":"BD!N34","v":69.25},74.800000000000011,{"$f":"BIG!K34","v":80},{"$f":"BIG!N34","v":83},81.2,{"$f":"AWJ!N34","v":79.5},{"$f":"AWJ!P34","v":79.5},79.5,77.045952380952386,74.933333333333337,{"$f":"BID!L34","v":60},68.960000000000008,71.849999999999994,{"$f":"MTK!L34","v":60},67.109999999999985,71.699999999999989,{"$f":"IPA!L34","v":60},67.019999999999982,60,203.08999999999997,180,78.666666666666671,69.333333333333343,74.933333333333337,79.75,60,71.849999999999994,79.5,60,71.699999999999989,null,null,74.933333333333337,60,68.960000000000008,71.849999999999994,60,67.109999999999985,71.699999999999989,60,67.019999999999982,60,null,{"$f":"SISWA!S33","v":"077/MINI.L-Kid/30.02.02/S.1-2/VI/2020"},null,"027/Mi.13.05.162/PP.01.1/06/2020",null,27]
[{"$f":"SISWA!A35","v":28},{"$f":"IF(SISWA!B35=0,\"\",SISWA!B35)","v":4384},{"$f":"IF(SISWA!C35=0,\"\",SISWA!C35)","v":"0071234523"},{"$f":"IF(SISWA!D35=0,\"\",SISWA!D35)","v":"1-18-05-80-162-028-5"},{"$f":"IF(SISWA!E35=0,\"\",SISWA!E35)","v":"RESTI FITRIANTI DWI OCTAVIANI"},{"$f":"IF(SISWA!P34=0,\"\",SISWA!P34)","v":"Lumajang, 22 Oktober 2007"},{"$f":"IF(SISWA!H35=0,\"\",SISWA!H35)","v":"MUHAMMAD BASHORI"},{"$f":"#REF!","v":{"$error":"#REF!"}},{"$f":"#REF!","v":{"$error":"#REF!"}},{"$error":"#REF!"},{"$f":"AA!K35","v":87.25},{"$f":"AA!N35","v":91.025000000000006},88.76,{"$f":"AH!K35","v":84.25},{"$f":"AH!N35","v":72.125},79.400000000000006,{"$f":"FQ!K35","v":86.75},{"$f":"FQ!N35","v":73.375},81.400000000000006,{"$f":"SKI!K35","v":85.5},{"$f":"SKI!N35","v":75.25},81.400000000000006,{"$f":"PKn!K35","v":83},{"$f":"PKn!N35","v":60},73.8,{"$f":"BID!K35","v":79.666666666666671},{"$f":"BID!N35","v":69.833333333333343},75.733333333333348,{"$f":"BA!K35","v":85},{"$f":"BA!N35","v":71.099999999999994},79.44,{"$f":"MTK!K35","v":83.25},{"$f":"MTK!L35","v":60},73.949999999999989,{"$f":"IPA!K35","v":82.75},{"$f":"IPA!N35","v":60},73.650000000000006,{"$f":"IPS!K35","v":81.75},{"$f":"IPS!L35","v":60},73.05,{"$f":"SBK!K35","v":83.5},{"$f":"SBK!N35","v":69.650000000000006},77.960000000000008,{"$f":"PJK!K35","v":83.75},{"$f":"PJK!N35","v":74.375},80,{"$f":"BD!K35","v":78.25},{"$f":"BD!N35","v":69.125},74.599999999999994,{"$f":"BIG!K35","v":77.5},{"$f":"BIG!N35","v":67.75},73.599999999999994,{"$f":"AWJ!N35","v":79},{"$f":"AWJ!P35","v":79},79,77.624523809523808,75.733333333333348,{"$f":"BID!L35","v":60},69.44,73.949999999999989,{"$f":"MTK!L35","v":60},68.36999999999999,73.650000000000006,{"$f":"IPA!L35","v":60},68.19,60,206,180,79.666666666666671,69.833333333333343,75.733333333333348,83.25,60,73.949999999999989,82.75,60,73.650000000000006,null,null,75.733333333333348,60,69.44,73.949999999999989,60,68.36999999999999,73.650000000000006,60,68.19,60,null,{"$f":"SISWA!S34","v":"078/MINI.L-Kid/30.02.02/S.1-2/VI/2020"},null,"028/Mi.13.05.162/PP.01.1/06/2020",null,28]
[{"$f":"SISWA!A36","v":29},{"$f":"IF(SISWA!B36=0,\"\",SISWA!B36)","v":4359},{"$f":"IF(SISWA!C36=0,\"\",SISWA!C36)","v":"0073122181"},{"$f":"IF(SISWA!D36=0,\"\",SISWA!D36)","v":"1-18-05-80-162-029-4"},{"$f":"IF(SISWA!E36=0,\"\",SISWA!E36)","v":"ROUDHOTUS SA'DIYAH"},{"$f":"IF(SISWA!P35=0,\"\",SISWA!P35)","v":"Lumajang, 07 September 2007"},{"$f":"IF(SISWA!H36=0,\"\",SISWA!H36)","v":"ABDUL BASIT"},{"$f":"#REF!","v":{"$error":"#REF!"}},{"$f":"#REF!","v":{"$error":"#REF!"}},{"$error":"#REF!"},{"$f":"AA!K36","v":87.5},{"$f":"AA!N36","v":93.75},90,{"$f":"AH!K36","v":87.25},{"$f":"AH!N36","v":73.625},81.800000000000011,{"$f":"FQ!K36","v":85.5},{"$f":"FQ!N36","v":86.5},85.9,{"$f":"SKI!K36","v":85.75},{"$f":"SKI!N36","v":78.174999999999997},82.72,{"$f":"PKn!K36","v":85},{"$f":"PKn!N36","v":67.5},78,{"$f":"BID!K36","v":81},{"$f":"BID!N36","v":70.5},76.800000000000011,{"$f":"BA!K36","v":84.75},{"$f":"BA!N36","v":70.775000000000006},79.16,{"$f":"MTK!K36","v":82.25},{"$f":"MTK!L36","v":60},73.349999999999994,{"$f":"IPA!K36","v":81},{"$f":"IPA!N36","v":60},72.599999999999994,{"$f":"IPS!K36","v":83.5},{"$f":"IPS!L36","v":60},74.099999999999994,{"$f":"SBK!K36","v":84.25},{"$f":"SBK!N36","v":72.724999999999994},79.64,{"$f":"PJK!K36","v":84.5},{"$f":"PJK!N36","v":79.25},82.4,{"$f":"BD!K36","v":78.5},{"$f":"BD!N36","v":69.25},74.800000000000011,{"$f":"BIG!K36","v":79.25},{"$f":"BIG!N36","v":80.625},79.8,{"$f":"AWJ!N36","v":79.5},{"$f":"AWJ!P36","v":79.5},79.5,79.362142857142871,76.800000000000011,{"$f":"BID!L36","v":60},70.080000000000013,73.349999999999994,{"$f":"MTK!L36","v":60},68.009999999999991,72.599999999999994,{"$f":"IPA!L36","v":60},67.56,60,205.65,180,81,70.5,76.800000000000011,82.25,60,73.349999999999994,81,60,72.599999999999994,null,null,76.800000000000011,60,70.080000000000013,73.349999999999994,60,68.009999999999991,72.599999999999994,60,67.56,60,null,{"$f":"SISWA!S35","v":"079/MINI.L-Kid/30.02.02/S.1-2/VI/2020"},null,"029/Mi.13.05.162/PP.01.1/06/2020",null,29]
[{"$f":"SISWA!A37","v":30},{"$f":"IF(SISWA!B37=0,\"\",SISWA!B37)","v":4386},{"$f":"IF(SISWA!C37=0,\"\",SISWA!C37)","v":"0075344352"},{"$f":"IF(SISWA!D37=0,\"\",SISWA!D37)","v":"1-18-05-80-162-030-3"},{"$f":"IF(SISWA!E37=0,\"\",SISWA!E37)","v":"TIERSYA BETA RAMANUZAN"},{"$f":"IF(SISWA!P36=0,\"\",SISWA!P36)","v":"Lumajang, 20 Juni 2007"},{"$f":"IF(SISWA!H37=0,\"\",SISWA!H37)","v":"KOMAI RIZAL MALIK AFDILLAH"},{"$f":"#REF!","v":{"$error":"#REF!"}},{"$f":"#REF!","v":{"$error":"#REF!"}},{"$error":"#REF!"},{"$f":"AA!K37","v":90.75},{"$f":"AA!N37","v":94.875},92.4,{"$f":"AH!K37","v":89.25},{"$f":"AH!N37","v":89.625},89.4,{"$f":"FQ!K37","v":90.75},{"$f":"FQ!N37","v":90.375},90.6,{"$f":"SKI!K37","v":91.5},{"$f":"SKI!N37","v":84.15},88.56,{"$f":"PKn!K37","v":88},{"$f":"PKn!N37","v":67.5},79.8,{"$f":"BID!K37","v":86.666666666666671},{"$f":"BID!N37","v":76.944444444444457},82.777777777777786,{"$f":"BA!K37","v":89.5},{"$f":"BA!N37","v":72.05},82.52,{"$f":"MTK!K37","v":89.5},{"$f":"MTK!L37","v":60},77.699999999999989,{"$f":"IPA!K37","v":87.75},{"$f":"IPA!N37","v":65},78.650000000000006,{"$f":"IPS!K37","v":89},{"$f":"IPS!L37","v":72.5},82.4,{"$f":"SBK!K37","v":88},{"$f":"SBK!N37","v":84.3},86.52,{"$f":"PJK!K37","v":84},{"$f":"PJK!N37","v":85},84.4,{"$f":"BD!K37","v":81},{"$f":"BD!N37","v":78},79.800000000000011,{"$f":"BIG!K37","v":78.25},{"$f":"BIG!N37","v":83.125},80.199999999999989,{"$f":"AWJ!N37","v":83},{"$f":"AWJ!P37","v":83},83,83.980555555555569,82.777777777777786,{"$f":"BID!L37","v":67.222222222222229},76.555555555555571,77.699999999999989,{"$f":"MTK!L37","v":60},70.61999999999999,78.650000000000006,{"$f":"IPA!L37","v":65},73.19,64.074074074074076,220.36555555555555,192.22222222222223,86.666666666666671,76.944444444444457,82.777777777777786,89.5,60,77.699999999999989,87.75,65,78.650000000000006,null,null,82.777777777777786,67.222222222222229,76.555555555555571,77.699999999999989,60,70.61999999999999,78.650000000000006,65,73.19,64.074074074074076,null,{"$f":"SISWA!S36","v":"080/MINI.L-Kid/30.02.02/S.1-2/VI/2020"},null,"030/Mi.13.05.162/PP.01.1/06/2020",null,30]
[{"$f":"SISWA!A38","v":31},{"$f":"IF(SISWA!B38=0,\"\",SISWA!B38)","v":4388},{"$f":"IF(SISWA!C38=0,\"\",SISWA!C38)","v":"0077423646"},{"$f":"IF(SISWA!D38=0,\"\",SISWA!D38)","v":"1-18-05-80-162-031-2"},{"$f":"IF(SISWA!E38=0,\"\",SISWA!E38)","v":"VERA MUSTIKA"},{"$f":"IF(SISWA!P37=0,\"\",SISWA!P37)","v":"Lumajang, 09 November 2007"},{"$f":"IF(SISWA!H38=0,\"\",SISWA!H38)","v":"MOCH. YASIN EFENDI"},{"$f":"#REF!","v":{"$error":"#REF!"}},{"$f":"#REF!","v":{"$error":"#REF!"}},{"$error":"#REF!"},{"$f":"AA!K38","v":88.25},{"$f":"AA!N38","v":71.424999999999997},81.52,{"$f":"AH!K38","v":86},{"$f":"AH!N38","v":73},80.800000000000011,{"$f":"FQ!K38","v":86.25},{"$f":"FQ!N38","v":73.125},81,{"$f":"SKI!K38","v":85.25},{"$f":"SKI!N38","v":70.424999999999997},79.319999999999993,{"$f":"PKn!K38","v":81.5},{"$f":"PKn!N38","v":60},72.900000000000006,{"$f":"BID!K38","v":79.333333333333329},{"$f":"BID!N38","v":69.666666666666657},75.466666666666654,{"$f":"BA!K38","v":85.5},{"$f":"BA!N38","v":71.25},79.8,{"$f":"MTK!K38","v":79.25},{"$f":"MTK!L38","v":60},71.55,{"$f":"IPA!K38","v":82.75},{"$f":"IPA!N38","v":60},73.650000000000006,{"$f":"IPS!K38","v":84.25},{"$f":"IPS!L38","v":60},74.55,{"$f":"SBK!K38","v":81.25},{"$f":"SBK!N38","v":68.424999999999997},76.12,{"$f":"PJK!K38","v":83.25},{"$f":"PJK!N38","v":69.625},77.8,{"$f":"BD!K38","v":77.75},{"$f":"BD!N38","v":68.875},74.2,{"$f":"BIG!K38","v":77.75},{"$f":"BIG!N38","v":67.875},73.8,{"$f":"AWJ!N38","v":80.5},{"$f":"AWJ!P38","v":80.5},80.5,76.605476190476182,75.466666666666654,{"$f":"BID!L38","v":60},69.28,71.55,{"$f":"MTK!L38","v":60},66.930000000000007,73.650000000000006,{"$f":"IPA!L38","v":60},68.19,60,204.4,180,79.333333333333329,69.666666666666657,75.466666666666654,79.25,60,71.55,82.75,60,73.650000000000006,null,null,75.466666666666654,60,69.28,71.55,60,66.930000000000007,73.650000000000006,60,68.19,60,null,{"$f":"SISWA!S37","v":"081/MINI.L-Kid/30.02.02/S.1-2/VI/2020"},null,"031/Mi.13.05.162/PP.01.1/06/2020",null,31]
[{"$f":"SISWA!A39","v":32},{"$f":"IF(SISWA!B39=0,\"\",SISWA!B39)","v":4360},{"$f":"IF(SISWA!C39=0,\"\",SISWA!C39)","v":"0077290990"},{"$f":"IF(SISWA!D39=0,\"\",SISWA!D39)","v":"1-18-05-80-162-032-9"},{"$f":"IF(SISWA!E39=0,\"\",SISWA!E39)","v":"ZIDNY ILMA NABILA"},{"$f":"IF(SISWA!P38=0,\"\",SISWA!P38)","v":"Lumajang, 29 Juli 2007"},{"$f":"IF(SISWA!H39=0,\"\",SISWA!H39)","v":"SUDARMAN"},{"$f":"#REF!","v":{"$error":"#REF!"}},{"$f":"#REF!","v":{"$error":"#REF!"}},{"$error":"#REF!"},{"$f":"AA!K39","v":92.25},{"$f":"AA!N39","v":95.125},93.4,{"$f":"AH!K39","v":93},{"$f":"AH!N39","v":79},87.4,{"$f":"FQ!K39","v":91.5},{"$f":"FQ!N39","v":82},87.7,{"$f":"SKI!K39","v":89.25},{"$f":"SKI!N39","v":84.924999999999997},87.52,{"$f":"PKn!K39","v":91},{"$f":"PKn!N39","v":65},80.599999999999994,{"$f":"BID!K39","v":88.333333333333329},{"$f":"BID!N39","v":74.166666666666657},82.666666666666657,{"$f":"BA!K39","v":94.25},{"$f":"BA!N39","v":74.025000000000006},86.16,{"$f":"MTK!K39","v":88},{"$f":"MTK!L39","v":65},78.8,{"$f":"IPA!K39","v":89.25},{"$f":"IPA!N39","v":72.5},82.55,{"$f":"IPS!K39","v":89},{"$f":"IPS!L39","v":60},77.400000000000006,{"$f":"SBK!K39","v":88.25},{"$f":"SBK!N39","v":82.825000000000003},86.08,{"$f":"PJK!K39","v":86},{"$f":"PJK!N39","v":74},81.2,{"$f":"BD!K39","v":79.5},{"$f":"BD!N39","v":69.75},75.599999999999994,{"$f":"BIG!K39","v":79},{"$f":"BIG!N39","v":76},77.8,{"$f":"AWJ!N39","v":82.5},{"$f":"AWJ!P39","v":82.5},82.5,83.205476190476176,82.666666666666657,{"$f":"BID!L39","v":60},73.599999999999994,78.8,{"$f":"MTK!L39","v":65},73.28,82.55,{"$f":"IPA!L39","v":72.5},78.53,65.833333333333329,225.41,197.5,88.333333333333329,74.166666666666657,82.666666666666657,88,65,78.8,89.25,72.5,82.55,null,null,82.666666666666657,60,73.599999999999994,78.8,65,73.28,82.55,72.5,78.53,65.833333333333329,null,{"$f":"SISWA!S38","v":"082/MINI.L-Kid/30.02.02/S.1-2/VI/2020"},null,"032/Mi.13.05.162/PP.01.1/06/2020",null,32]
[{"$f":"SISWA!A40","v":33},{"$f":"IF(SISWA!B40=0,\"\",SISWA!B40)","v":4390},{"$f":"IF(SISWA!C40=0,\"\",SISWA!C40)","v":"0077722307"},{"$f":"IF(SISWA!D40=0,\"\",SISWA!D40)","v":"1-18-05-80-162-033-8"},{"$f":"IF(SISWA!E40=0,\"\",SISWA!E40)","v":"ZITNATUL AULIA ILLA"},{"$f":"IF(SISWA!P39=0,\"\",SISWA!P39)","v":"Lumajang, 10 September 2007"},{"$f":"IF(SISWA!H40=0,\"\",SISWA!H40)","v":"SISWANDONO"},{"$f":"#REF!","v":{"$error":"#REF!"}},{"$f":"#REF!","v":{"$error":"#REF!"}},{"$error":"#REF!"},{"$f":"AA!K40","v":95},{"$f":"AA!N40","v":96.1},95.44,{"$f":"AH!K40","v":94.25},{"$f":"AH!N40","v":87.125},91.4,{"$f":"FQ!K40","v":95.5},{"$f":"FQ!N40","v":96.5},95.9,{"$f":"SKI!K40","v":90},{"$f":"SKI!N40","v":86.7},88.68,{"$f":"PKn!K40","v":88},{"$f":"PKn!N40","v":80},84.8,{"$f":"BID!K40","v":89.666666666666671},{"$f":"BID!N40","v":82.888888888888886},86.955555555555563,{"$f":"BA!K40","v":94.75},{"$f":"BA!N40","v":89.174999999999997},92.52000000000001,{"$f":"MTK!K40","v":87.5},{"$f":"MTK!L40","v":60},76.5,{"$f":"IPA!K40","v":86.5},{"$f":"IPA!N40","v":67.5},78.900000000000006,{"$f":"IPS!K40","v":90.5},{"$f":"IPS!L40","v":60},78.3,{"$f":"SBK!K40","v":88.25},{"$f":"SBK!N40","v":73.424999999999997},82.32,{"$f":"PJK!K40","v":86.25},{"$f":"PJK!N40","v":84.625},85.6,{"$f":"BD!K40","v":81},{"$f":"BD!N40","v":70.5},76.800000000000011,{"$f":"BIG!K40","v":86.25},{"$f":"BIG!N40","v":89.125},87.4,{"$f":"AWJ!N40","v":82.5},{"$f":"AWJ!P40","v":82.5},82.5,85.82253968253967,{"$f":"AB41","v":86.955555555555563},{"$f":"BID!L40","v":76.111111111111114},{"$f":"(BE41*60%)+(BF41*40%)","v":82.617777777777789},{"$f":"AH41","v":76.5},{"$f":"MTK!L40","v":60},{"$f":"(BH41*60%)+(BI41*40%)","v":69.900000000000006},{"$f":"AK41","v":78.900000000000006},{"$f":"IPA!L40","v":67.5},{"$f":"(BK41*60%)+(BL41*40%)","v":74.34},67.870370370370367,{"$f":"SUM(BG41,BJ41,BM41)","v":226.85777777777778},203.61111111111111,89.666666666666671,82.888888888888886,86.955555555555563,87.5,60,76.5,86.5,67.5,78.900000000000006,null,null,86.955555555555563,76.111111111111114,82.617777777777789,76.5,60,69.900000000000006,78.900000000000006,67.5,74.34,67.870370370370367,null,{"$f":"SISWA!S39","v":"083/MINI.L-Kid/30.02.02/S.1-2/VI/2020"},null,"033/Mi.13.05.162/PP.01.1/06/2020",null,33]
[{"$f":"SISWA!A41","v":34},{"$f":"IF(SISWA!B41=0,\"\",SISWA!B41)","v":4330},{"$f":"IF(SISWA!C41=0,\"\",SISWA!C41)","v":"0084736422"},{"$f":"IF(SISWA!D41=0,\"\",SISWA!D41)","v":"1-18-05-80-162-034-7"},{"$f":"IF(SISWA!E41=0,\"\",SISWA!E41)","v":"ACHID ATHIRIL ARDAN"},{"$f":"IF(SISWA!P40=0,\"\",SISWA!P40)","v":"Lumajang, 01 Agustus 2008"},{"$f":"IF(SISWA!H41=0,\"\",SISWA!H41)","v":"IMAM KHAMBALI"},{"$f":"#REF!","v":{"$error":"#REF!"}},{"$f":"#REF!","v":{"$error":"#REF!"}},{"$error":"#REF!"},{"$f":"AA!K41","v":81},{"$f":"AA!N41","v":69},76.2,{"$f":"AH!K41","v":80.5},{"$f":"AH!N41","v":70.25},76.400000000000006,{"$f":"FQ!K41","v":80.25},{"$f":"FQ!N41","v":70.125},76.2,{"$f":"SKI!K41","v":79.75},{"$f":"SKI!N41","v":69.174999999999997},75.52000000000001,{"$f":"PKn!K41","v":80.75},{"$f":"PKn!N41","v":60},72.449999999999989,{"$f":"BID!K41","v":81.75},{"$f":"BID!N41","v":70.875},77.400000000000006,{"$f":"BA!K41","v":79.75},{"$f":"BA!N41","v":69.075000000000003},75.48,{"$f":"MTK!K41","v":78.25},{"$f":"MTK!L41","v":60},70.949999999999989,{"$f":"IPA!K41","v":79.25},{"$f":"IPA!N41","v":60},71.55,{"$f":"IPS!K41","v":76.75},{"$f":"IPS!L41","v":60},70.05,{"$f":"SBK!K41","v":77},{"$f":"SBK!N41","v":67.5},73.199999999999989,{"$f":"PJK!K41","v":83},{"$f":"PJK!N41","v":69.5},77.599999999999994,{"$f":"BD!K41","v":76},{"$f":"BD!N41","v":68},72.800000000000011,{"$f":"BIG!K41","v":74.75},{"$f":"BIG!N41","v":66.875},71.599999999999994,{"$f":"AWJ!N41","v":65},{"$f":"AWJ!P41","v":65},65,74.100000000000009,77.400000000000006,{"$f":"BID!L41","v":60},70.44,70.949999999999989,{"$f":"MTK!L41","v":60},66.569999999999993,71.55,{"$f":"IPA!L41","v":60},66.930000000000007,60,203.94,180,81.75,70.875,77.400000000000006,78.25,60,70.949999999999989,79.25,60,71.55,null,null,77.400000000000006,60,70.44,70.949999999999989,60,66.569999999999993,71.55,60,66.930000000000007,60,null,{"$f":"SISWA!S40","v":"084/MINI.L-Kid/30.02.02/S.1-2/VI/2020"},null,"034/Mi.13.05.162/PP.01.1/06/2020",null,34]
[{"$f":"SISWA!A42","v":35},{"$f":"IF(SISWA!B42=0,\"\",SISWA!B42)","v":4361},{"$f":"IF(SISWA!C42=0,\"\",SISWA!C42)","v":"0075656390"},{"$f":"IF(SISWA!D42=0,\"\",SISWA!D42)","v":"1-18-05-80-162-035-6"},{"$f":"IF(SISWA!E42=0,\"\",SISWA!E42)","v":"ACHMAD SEPTIAN HAMDANI"},{"$f":"IF(SISWA!P41=0,\"\",SISWA!P41)","v":"Lumajang, 10 September 2007"},{"$f":"IF(SISWA!H42=0,\"\",SISWA!H42)","v":"SYAIFUL ARIS"},{"$f":"#REF!","v":{"$error":"#REF!"}},{"$f":"#REF!","v":{"$error":"#REF!"}},{"$error":"#REF!"},{"$f":"AA!K42","v":83.25},{"$f":"AA!N42","v":73.924999999999997},79.52,{"$f":"AH!K42","v":84},{"$f":"AH!N42","v":72},79.2,{"$f":"FQ!K42","v":84.5},{"$f":"FQ!N42","v":72.25},79.599999999999994,{"$f":"SKI!K42","v":77.5},{"$f":"SKI!N42","v":68.650000000000006},73.960000000000008,{"$f":"PKn!K42","v":76.75},{"$f":"PKn!N42","v":65},72.05,{"$f":"BID!K42","v":78.5},{"$f":"BID!N42","v":69.25},74.800000000000011,{"$f":"BA!K42","v":80.5},{"$f":"BA!N42","v":69.45},76.08,{"$f":"MTK!K42","v":77.25},{"$f":"MTK!L42","v":60},70.349999999999994,{"$f":"IPA!K42","v":79.5},{"$f":"IPA!N42","v":60},71.699999999999989,{"$f":"IPS!K42","v":75.75},{"$f":"IPS!L42","v":60},69.449999999999989,{"$f":"SBK!K42","v":80},{"$f":"SBK!N42","v":69},75.599999999999994,{"$f":"PJK!K42","v":86.75},{"$f":"PJK!N42","v":75.875},82.4,{"$f":"BD!K42","v":72.75},{"$f":"BD!N42","v":66.375},70.2,{"$f":"BIG!K42","v":81},{"$f":"BIG!N42","v":90.7},84.88,{"$f":"AWJ!N42","v":68},{"$f":"AWJ!P42","v":68},68,75.699285714285708,74.800000000000011,{"$f":"BID!L42","v":60},68.88,70.349999999999994,{"$f":"MTK!L42","v":60},66.209999999999994,71.699999999999989,{"$f":"IPA!L42","v":60},67.019999999999982,60,202.10999999999996,180,78.5,69.25,74.800000000000011,77.25,60,70.349999999999994,79.5,60,71.699999999999989,null,null,74.800000000000011,60,68.88,70.349999999999994,60,66.209999999999994,71.699999999999989,60,67.019999999999982,60,null,{"$f":"SISWA!S41","v":"085/MINI.L-Kid/30.02.02/S.1-2/VI/2020"},null,"035/Mi.13.05.162/PP.01.1/06/2020",null,35]
[{"$f":"SISWA!A43","v":36},{"$f":"IF(SISWA!B43=0,\"\",SISWA!B43)","v":4362},{"$f":"IF(SISWA!C43=0,\"\",SISWA!C43)","v":"0071796138"},{"$f":"IF(SISWA!D43=0,\"\",SISWA!D43)","v":"1-18-05-80-162-036-5"},{"$f":"IF(SISWA!E43=0,\"\",SISWA!E43)","v":"ACHMAD SULAIMAN"},{"$f":"IF(SISWA!P42=0,\"\",SISWA!P42)","v":"Lumajang, 26 Juli 2007"},{"$f":"IF(SISWA!H43=0,\"\",SISWA!H43)","v":"AGUS SULAIMAN"},{"$f":"#REF!","v":{"$error":"#REF!"}},{"$f":"#REF!","v":{"$error":"#REF!"}},{"$error":"#REF!"},{"$f":"AA!K43","v":77},{"$f":"AA!N43","v":75.400000000000006},76.36,{"$f":"AH!K43","v":79},{"$f":"AH!N43","v":69.5},75.2,{"$f":"FQ!K43","v":80.75},{"$f":"FQ!N43","v":75.375},78.599999999999994,{"$f":"SKI!K43","v":77.75},{"$f":"SKI!N43","v":68.875},74.2,{"$f":"PKn!K43","v":75.5},{"$f":"PKn!N43","v":60},69.3,{"$f":"BID!K43","v":75.5},{"$f":"BID!N43","v":67.75},72.400000000000006,{"$f":"BA!K43","v":80.25},{"$f":"BA!N43","v":69.424999999999997},75.92,{"$f":"MTK!K43","v":73.25},{"$f":"MTK!L43","v":60},67.949999999999989,{"$f":"IPA!K43","v":76.5},{"$f":"IPA!N43","v":60},69.900000000000006,{"$f":"IPS!K43","v":73.75},{"$f":"IPS!L43","v":60},68.25,{"$f":"SBK!K43","v":78.25},{"$f":"SBK!N43","v":67.825000000000003},74.08,{"$f":"PJK!K43","v":82},{"$f":"PJK!N43","v":69},76.8,{"$f":"BD!K43","v":72.5},{"$f":"BD!N43","v":66.25},70,{"$f":"BIG!K43","v":76},{"$f":"BIG!N43","v":76},76,{"$f":"AWJ!N43","v":70},{"$f":"AWJ!P43","v":70},70,73.21142857142857,72.400000000000006,{"$f":"BID!L43","v":60},67.44,67.949999999999989,{"$f":"MTK!L43","v":60},64.769999999999982,69.900000000000006,{"$f":"IPA!L43","v":60},65.94,60,198.14999999999998,180,75.5,67.75,72.400000000000006,73.25,60,67.949999999999989,76.5,60,69.900000000000006,null,null,72.400000000000006,60,67.44,67.949999999999989,60,64.769999999999982,69.900000000000006,60,65.94,60,null,{"$f":"SISWA!S42","v":"086/MINI.L-Kid/30.02.02/S.1-2/VI/2020"},null,"036/Mi.13.05.162/PP.01.1/06/2020",null,36]
[{"$f":"SISWA!A44","v":37},{"$f":"IF(SISWA!B44=0,\"\",SISWA!B44)","v":4364},{"$f":"IF(SISWA!C44=0,\"\",SISWA!C44)","v":"0079667684"},{"$f":"IF(SISWA!D44=0,\"\",SISWA!D44)","v":"1-18-05-80-162-037-4"},{"$f":"IF(SISWA!E44=0,\"\",SISWA!E44)","v":"AIRLANGGA DWIKA RIZQI"},{"$f":"IF(SISWA!P43=0,\"\",SISWA!P43)","v":"Lumajang, 17 Desember 2007"},{"$f":"IF(SISWA!H44=0,\"\",SISWA!H44)","v":"ERIEK ISROFIL"},{"$f":"#REF!","v":{"$error":"#REF!"}},{"$f":"#REF!","v":{"$error":"#REF!"}},{"$error":"#REF!"},{"$f":"AA!K44","v":75.75},{"$f":"AA!N44","v":67.775000000000006},72.56,{"$f":"AH!K44","v":75},{"$f":"AH!N44","v":67.5},72,{"$f":"FQ!K44","v":77},{"$f":"FQ!N44","v":68.5},73.599999999999994,{"$f":"SKI!K44","v":77},{"$f":"SKI!N44","v":68.7},73.680000000000007,{"$f":"PKn!K44","v":79},{"$f":"PKn!N44","v":60},71.400000000000006,{"$f":"BID!K44","v":75.75},{"$f":"BID!N44","v":67.875},72.599999999999994,{"$f":"BA!K44","v":80},{"$f":"BA!N44","v":69.099999999999994},75.64,{"$f":"MTK!K44","v":74.75},{"$f":"MTK!L44","v":60},68.849999999999994,{"$f":"IPA!K44","v":74.75},{"$f":"IPA!N44","v":60},68.849999999999994,{"$f":"IPS!K44","v":74},{"$f":"IPS!L44","v":60},68.400000000000006,{"$f":"SBK!K44","v":75.75},{"$f":"SBK!N44","v":67.875},72.599999999999994,{"$f":"PJK!K44","v":82.25},{"$f":"PJK!N44","v":69.325000000000003},77.080000000000013,{"$f":"BD!K44","v":75.5},{"$f":"BD!N44","v":67.75},72.400000000000006,{"$f":"BIG!K44","v":83},{"$f":"BIG!N44","v":90},85.8,{"$f":"AWJ!N44","v":65},{"$f":"AWJ!P44","v":65},65,73.247142857142862,72.599999999999994,{"$f":"BID!L44","v":60},67.56,68.849999999999994,{"$f":"MTK!L44","v":60},65.31,68.849999999999994,{"$f":"IPA!L44","v":60},65.31,60,198.18,180,75.75,67.875,72.599999999999994,74.75,60,68.849999999999994,74.75,60,68.849999999999994,null,null,72.599999999999994,60,67.56,68.849999999999994,60,65.31,68.849999999999994,60,65.31,60,null,{"$f":"SISWA!S43","v":"087/MINI.L-Kid/30.02.02/S.1-2/VI/2020"},null,"037/Mi.13.05.162/PP.01.1/06/2020",null,37]
[{"$f":"SISWA!A45","v":38},{"$f":"IF(SISWA!B45=0,\"\",SISWA!B45)","v":4365},{"$f":"IF(SISWA!C45=0,\"\",SISWA!C45)","v":"0089321127"},{"$f":"IF(SISWA!D45=0,\"\",SISWA!D45)","v":"1-18-05-80-162-038-3"},{"$f":"IF(SISWA!E45=0,\"\",SISWA!E45)","v":"AUFAN AZKAL ABRORI"},{"$f":"IF(SISWA!P44=0,\"\",SISWA!P44)","v":"Lumajang, 16 Mei 2008"},{"$f":"IF(SISWA!H45=0,\"\",SISWA!H45)","v":"AHMAD AJMAIN"},{"$f":"#REF!","v":{"$error":"#REF!"}},{"$f":"#REF!","v":{"$error":"#REF!"}},{"$error":"#REF!"},{"$f":"AA!K45","v":78.25},{"$f":"AA!N45","v":68.424999999999997},74.319999999999993,{"$f":"AH!K45","v":83.25},{"$f":"AH!N45","v":71.625},78.599999999999994,{"$f":"FQ!K45","v":83.5},{"$f":"FQ!N45","v":71.75},78.800000000000011,{"$f":"SKI!K45","v":77.75},{"$f":"SKI!N45","v":68.974999999999994},74.239999999999995,{"$f":"PKn!K45","v":77.75},{"$f":"PKn!N45","v":60},70.650000000000006,{"$f":"BID!K45","v":79.75},{"$f":"BID!N45","v":69.875},75.800000000000011,{"$f":"BA!K45","v":82},{"$f":"BA!N45","v":69.900000000000006},77.16,{"$f":"MTK!K45","v":79.75},{"$f":"MTK!L45","v":60},71.849999999999994,{"$f":"IPA!K45","v":80.5},{"$f":"IPA!N45","v":60},72.3,{"$f":"IPS!K45","v":76.5},{"$f":"IPS!L45","v":60},69.900000000000006,{"$f":"SBK!K45","v":78.75},{"$f":"SBK!N45","v":68.174999999999997},74.52,{"$f":"PJK!K45","v":84.25},{"$f":"PJK!N45","v":70.125},78.599999999999994,{"$f":"BD!K45","v":73.25},{"$f":"BD!N45","v":66.625},70.599999999999994,{"$f":"BIG!K45","v":79},{"$f":"BIG!N45","v":68.5},74.8,{"$f":"AWJ!N45","v":70},{"$f":"AWJ!P45","v":70},70,74.438571428571436,75.800000000000011,{"$f":"BID!L45","v":60},69.48,71.849999999999994,{"$f":"MTK!L45","v":60},67.109999999999985,72.3,{"$f":"IPA!L45","v":60},67.38,60,203.96999999999997,180,79.75,69.875,75.800000000000011,79.75,60,71.849999999999994,80.5,60,72.3,null,null,75.800000000000011,60,69.48,71.849999999999994,60,67.109999999999985,72.3,60,67.38,60,null,{"$f":"SISWA!S44","v":"088/MINI.L-Kid/30.02.02/S.1-2/VI/2020"},null,"038/Mi.13.05.162/PP.01.1/06/2020",null,38]
[{"$f":"SISWA!A46","v":39},{"$f":"IF(SISWA!B46=0,\"\",SISWA!B46)","v":4465},{"$f":"IF(SISWA!C46=0,\"\",SISWA!C46)","v":"0071776593"},{"$f":"IF(SISWA!D46=0,\"\",SISWA!D46)","v":"1-18-05-80-162-039-2"},{"$f":"IF(SISWA!E46=0,\"\",SISWA!E46)","v":"AZZA PRISHAL DWI PUTRA"},{"$f":"IF(SISWA!P45=0,\"\",SISWA!P45)","v":"Lumajang, 14 Agustus 2007"},{"$f":"IF(SISWA!H46=0,\"\",SISWA!H46)","v":"MOHAMMAD SHOLEH"},{"$f":"#REF!","v":{"$error":"#REF!"}},{"$f":"#REF!","v":{"$error":"#REF!"}},{"$error":"#REF!"},{"$f":"AA!K46","v":57.5},{"$f":"AA!N46","v":58.65},57.96,{"$f":"AH!K46","v":83},{"$f":"AH!N46","v":71.5},78.400000000000006,{"$f":"FQ!K46","v":80.5},{"$f":"FQ!N46","v":70.25},76.400000000000006,{"$f":"SKI!K46","v":78},{"$f":"SKI!N46","v":68.900000000000006},74.36,{"$f":"PKn!K46","v":76.75},{"$f":"PKn!N46","v":60},70.05,{"$f":"BID!K46","v":59.25},{"$f":"BID!N46","v":59.625},59.4,{"$f":"BA!K46","v":81.75},{"$f":"BA!N46","v":69.674999999999997},76.92,{"$f":"MTK!K46","v":80.25},{"$f":"MTK!L46","v":60},72.150000000000006,{"$f":"IPA!K46","v":76.75},{"$f":"IPA!N46","v":60},70.05,{"$f":"IPS!K46","v":76},{"$f":"IPS!L46","v":60},69.599999999999994,{"$f":"SBK!K46","v":79.5},{"$f":"SBK!N46","v":67.95},74.88,{"$f":"PJK!K46","v":84.75},{"$f":"PJK!N46","v":70.375},79,{"$f":"BD!K46","v":75.5},{"$f":"BD!N46","v":67.75},72.400000000000006,{"$f":"BIG!K46","v":76.25},{"$f":"BIG!N46","v":68.125},73,{"$f":"AWJ!N46","v":65},{"$f":"AWJ!P46","v":65},65,71.754999999999995,59.4,{"$f":"BID!L46","v":60},59.64,72.150000000000006,{"$f":"MTK!L46","v":60},67.289999999999992,70.05,{"$f":"IPA!L46","v":60},66.03,60,192.95999999999998,180,59.25,59.625,59.4,80.25,60,72.150000000000006,76.75,60,70.05,null,null,59.4,60,59.64,72.150000000000006,60,67.289999999999992,70.05,60,66.03,60,null,{"$f":"SISWA!S45","v":"089/MINI.L-Kid/30.02.02/S.1-2/VI/2020"},null,"039/Mi.13.05.162/PP.01.1/06/2020",null,39]
[{"$f":"SISWA!A47","v":40},{"$f":"IF(SISWA!B47=0,\"\",SISWA!B47)","v":4368},{"$f":"IF(SISWA!C47=0,\"\",SISWA!C47)","v":"0074569410"},{"$f":"IF(SISWA!D47=0,\"\",SISWA!D47)","v":"1-18-05-80-162-040-9"},{"$f":"IF(SISWA!E47=0,\"\",SISWA!E47)","v":"EKA AULIYA` PUTRI"},{"$f":"IF(SISWA!P46=0,\"\",SISWA!P46)","v":"Lumajang, 07 Desember 2007"},{"$f":"IF(SISWA!H47=0,\"\",SISWA!H47)","v":"BASHORI ALWI"},{"$f":"#REF!","v":{"$error":"#REF!"}},{"$f":"#REF!","v":{"$error":"#REF!"}},{"$error":"#REF!"},{"$f":"AA!K47","v":82.25},{"$f":"AA!N47","v":88.224999999999994},84.64,{"$f":"AH!K47","v":89.5},{"$f":"AH!N47","v":74.75},83.6,{"$f":"FQ!K47","v":84.25},{"$f":"FQ!N47","v":72.125},79.400000000000006,{"$f":"SKI!K47","v":81.5},{"$f":"SKI!N47","v":70.349999999999994},77.039999999999992,{"$f":"PKn!K47","v":81.75},{"$f":"PKn!N47","v":60},73.05,{"$f":"BID!K47","v":78.5},{"$f":"BID!N47","v":69.25},74.800000000000011,{"$f":"BA!K47","v":83.5},{"$f":"BA!N47","v":70.45},78.28,{"$f":"MTK!K47","v":76},{"$f":"MTK!L47","v":60},69.599999999999994,{"$f":"IPA!K47","v":82.25},{"$f":"IPA!N47","v":60},73.349999999999994,{"$f":"IPS!K47","v":77.25},{"$f":"IPS!L47","v":60},70.349999999999994,{"$f":"SBK!K47","v":82.75},{"$f":"SBK!N47","v":69.875},77.599999999999994,{"$f":"PJK!K47","v":84},{"$f":"PJK!N47","v":70},78.400000000000006,{"$f":"BD!K47","v":73.75},{"$f":"BD!N47","v":66.875},71,{"$f":"BIG!K47","v":78.5},{"$f":"BIG!N47","v":68.25},74.400000000000006,{"$f":"AWJ!N47","v":70},{"$f":"AWJ!P47","v":70},70,76.107857142857156,74.800000000000011,{"$f":"BID!L47","v":60},68.88,69.599999999999994,{"$f":"MTK!L47","v":60},65.759999999999991,73.349999999999994,{"$f":"IPA!L47","v":60},68.009999999999991,60,202.64999999999998,180,78.5,69.25,74.800000000000011,76,60,69.599999999999994,82.25,60,73.349999999999994,null,null,74.800000000000011,60,68.88,69.599999999999994,60,65.759999999999991,73.349999999999994,60,68.009999999999991,60,null,{"$f":"SISWA!S46","v":"090/MINI.L-Kid/30.02.02/S.1-2/VI/2020"},null,"040/Mi.13.05.162/PP.01.1/06/2020",null,40]
[{"$f":"SISWA!A48","v":41},{"$f":"IF(SISWA!B48=0,\"\",SISWA!B48)","v":4341},{"$f":"IF(SISWA!C48=0,\"\",SISWA!C48)","v":"0083684457"},{"$f":"IF(SISWA!D48=0,\"\",SISWA!D48)","v":"1-18-05-80-162-041-8"},{"$f":"IF(SISWA!E48=0,\"\",SISWA!E48)","v":"ERSA PUSPITA EKA ROSA LINDA"},{"$f":"IF(SISWA!P47=0,\"\",SISWA!P47)","v":"Lumajang, 01 Maret 2008"},{"$f":"IF(SISWA!H48=0,\"\",SISWA!H48)","v":"SOLIKIN"},{"$f":"#REF!","v":{"$error":"#REF!"}},{"$f":"#REF!","v":{"$error":"#REF!"}},{"$error":"#REF!"},{"$f":"AA!K48","v":83},{"$f":"AA!N48","v":70.5},78,{"$f":"AH!K48","v":86.75},{"$f":"AH!N48","v":73.375},81.400000000000006,{"$f":"FQ!K48","v":81.25},{"$f":"FQ!N48","v":70.625},77,{"$f":"SKI!K48","v":77.75},{"$f":"SKI!N48","v":69.375},74.400000000000006,{"$f":"PKn!K48","v":80.25},{"$f":"PKn!N48","v":60},72.150000000000006,{"$f":"BID!K48","v":81.75},{"$f":"BID!N48","v":70.875},77.400000000000006,{"$f":"BA!K48","v":82.5},{"$f":"BA!N48","v":70.45},77.680000000000007,{"$f":"MTK!K48","v":81.5},{"$f":"MTK!L48","v":60},72.900000000000006,{"$f":"IPA!K48","v":81.5},{"$f":"IPA!N48","v":60},72.900000000000006,{"$f":"IPS!K48","v":77},{"$f":"IPS!L48","v":60},70.199999999999989,{"$f":"SBK!K48","v":81.75},{"$f":"SBK!N48","v":69.875},77,{"$f":"PJK!K48","v":84.5},{"$f":"PJK!N48","v":70.25},78.8,{"$f":"BD!K48","v":73},{"$f":"BD!N48","v":66.5},70.400000000000006,{"$f":"BIG!K48","v":78.25},{"$f":"BIG!N48","v":68.325000000000003},74.28,{"$f":"AWJ!N48","v":68},{"$f":"AWJ!P48","v":68},68,75.32214285714285,77.400000000000006,{"$f":"BID!L48","v":60},70.44,72.900000000000006,{"$f":"MTK!L48","v":60},67.740000000000009,72.900000000000006,{"$f":"IPA!L48","v":60},67.740000000000009,60,205.92000000000002,180,81.75,70.875,77.400000000000006,81.5,60,72.900000000000006,81.5,60,72.900000000000006,null,null,77.400000000000006,60,70.44,72.900000000000006,60,67.740000000000009,72.900000000000006,60,67.740000000000009,60,null,{"$f":"SISWA!S47","v":"091/MINI.L-Kid/30.02.02/S.1-2/VI/2020"},null,"041/Mi.13.05.162/PP.01.1/06/2020",null,41]
[{"$f":"SISWA!A49","v":42},{"$f":"IF(SISWA!B49=0,\"\",SISWA!B49)","v":4369},{"$f":"IF(SISWA!C49=0,\"\",SISWA!C49)","v":"0078481731"},{"$f":"IF(SISWA!D49=0,\"\",SISWA!D49)","v":"1-18-05-80-162-042-7"},{"$f":"IF(SISWA!E49=0,\"\",SISWA!E49)","v":"FABIYAN TRI BAKTI OKTAFIAN"},{"$f":"IF(SISWA!P48=0,\"\",SISWA!P48)","v":"Lumajang, 26 Oktober 2007"},{"$f":"IF(SISWA!H49=0,\"\",SISWA!H49)","v":"FADLOLI"},{"$f":"#REF!","v":{"$error":"#REF!"}},{"$f":"#REF!","v":{"$error":"#REF!"}},{"$error":"#REF!"},{"$f":"AA!K49","v":77.75},{"$f":"AA!N49","v":68.474999999999994},74.039999999999992,{"$f":"AH!K49","v":84.25},{"$f":"AH!N49","v":72.125},79.400000000000006,{"$f":"FQ!K49","v":85},{"$f":"FQ!N49","v":72.5},80,{"$f":"SKI!K49","v":77.75},{"$f":"SKI!N49","v":68.674999999999997},74.12,{"$f":"PKn!K49","v":78},{"$f":"PKn!N49","v":60},70.8,{"$f":"BID!K49","v":79.75},{"$f":"BID!N49","v":69.875},75.800000000000011,{"$f":"BA!K49","v":82.5},{"$f":"BA!N49","v":70.45},77.680000000000007,{"$f":"MTK!K49","v":76.25},{"$f":"MTK!L49","v":60},69.75,{"$f":"IPA!K49","v":78.75},{"$f":"IPA!N49","v":60},71.25,{"$f":"IPS!K49","v":76.25},{"$f":"IPS!L49","v":60},69.75,{"$f":"SBK!K49","v":79.75},{"$f":"SBK!N49","v":68.674999999999997},75.319999999999993,{"$f":"PJK!K49","v":86},{"$f":"PJK!N49","v":70.900000000000006},79.960000000000008,{"$f":"BD!K49","v":72.75},{"$f":"BD!N49","v":66.375},70.2,{"$f":"BIG!K49","v":75.75},{"$f":"BIG!N49","v":66.875},72.199999999999989,{"$f":"AWJ!N49","v":70},{"$f":"AWJ!P49","v":70},70,74.305000000000021,75.800000000000011,{"$f":"BID!L49","v":60},69.48,69.75,{"$f":"MTK!L49","v":60},65.849999999999994,71.25,{"$f":"IPA!L49","v":60},66.75,60,202.07999999999998,180,79.75,69.875,75.800000000000011,76.25,60,69.75,78.75,60,71.25,null,null,75.800000000000011,60,69.48,69.75,60,65.849999999999994,71.25,60,66.75,60,null,{"$f":"SISWA!S48","v":"092/MINI.L-Kid/30.02.02/S.1-2/VI/2020"},null,"042/Mi.13.05.162/PP.01.1/06/2020",null,42]
[{"$f":"SISWA!A50","v":43},{"$f":"IF(SISWA!B50=0,\"\",SISWA!B50)","v":4343},{"$f":"IF(SISWA!C50=0,\"\",SISWA!C50)","v":3075965396},{"$f":"IF(SISWA!D50=0,\"\",SISWA!D50)","v":"1-18-05-80-162-043-6"},{"$f":"IF(SISWA!E50=0,\"\",SISWA!E50)","v":"FELISITA APRILIA NUR NIHAYA"},{"$f":"IF(SISWA!P49=0,\"\",SISWA!P49)","v":"Lumajang, 24 April 2007"},{"$f":"IF(SISWA!H50=0,\"\",SISWA!H50)","v":"EDI SISWANTO"},{"$f":"#REF!","v":{"$error":"#REF!"}},{"$f":"#REF!","v":{"$error":"#REF!"}},{"$error":"#REF!"},{"$f":"AA!K50","v":80.5},{"$f":"AA!N50","v":76.849999999999994},79.039999999999992,{"$f":"AH!K50","v":81.75},{"$f":"AH!N50","v":70.875},77.400000000000006,{"$f":"FQ!K50","v":82.25},{"$f":"FQ!N50","v":71.125},77.800000000000011,{"$f":"SKI!K50","v":80},{"$f":"SKI!N50","v":69.7},75.88,{"$f":"PKn!K50","v":80.5},{"$f":"PKn!N50","v":60},72.3,{"$f":"BID!K50","v":79.5},{"$f":"BID!N50","v":69.75},75.599999999999994,{"$f":"BA!K50","v":82.25},{"$f":"BA!N50","v":70.025000000000006},77.360000000000014,{"$f":"MTK!K50","v":79},{"$f":"MTK!L50","v":60},71.400000000000006,{"$f":"IPA!K50","v":78.75},{"$f":"IPA!N50","v":60},71.25,{"$f":"IPS!K50","v":77.25},{"$f":"IPS!L50","v":60},70.349999999999994,{"$f":"SBK!K50","v":78.5},{"$f":"SBK!N50","v":67.650000000000006},74.16,{"$f":"PJK!K50","v":85.25},{"$f":"PJK!N50","v":70.625},79.400000000000006,{"$f":"BD!K50","v":73},{"$f":"BD!N50","v":66.5},70.400000000000006,{"$f":"BIG!K50","v":78.25},{"$f":"BIG!N50","v":68.825000000000003},74.47999999999999,{"$f":"AWJ!N50","v":63},{"$f":"AWJ!P50","v":63},63,74.772857142857134,75.599999999999994,{"$f":"BID!L50","v":60},69.359999999999985,71.400000000000006,{"$f":"MTK!L50","v":60},66.84,71.25,{"$f":"IPA!L50","v":60},66.75,60,202.95,180,79.5,69.75,75.599999999999994,79,60,71.400000000000006,78.75,60,71.25,null,null,75.599999999999994,60,69.359999999999985,71.400000000000006,60,66.84,71.25,60,66.75,60,null,{"$f":"SISWA!S49","v":"093/MINI.L-Kid/30.02.02/S.1-2/VI/2020"},null,"043/Mi.13.05.162/PP.01.1/06/2020",null,43]
[{"$f":"SISWA!A51","v":44},{"$f":"IF(SISWA!B51=0,\"\",SISWA!B51)","v":4344},{"$f":"IF(SISWA!C51=0,\"\",SISWA!C51)","v":3078948093},{"$f":"IF(SISWA!D51=0,\"\",SISWA!D51)","v":"1-18-05-80-162-044-5"},{"$f":"IF(SISWA!E51=0,\"\",SISWA!E51)","v":"FIRDA DWI ANDRIANI"},{"$f":"IF(SISWA!P50=0,\"\",SISWA!P50)","v":"Lumajang, 23 November 2007"},{"$f":"IF(SISWA!H51=0,\"\",SISWA!H51)","v":"MISNATUN"},{"$f":"#REF!","v":{"$error":"#REF!"}},{"$f":"#REF!","v":{"$error":"#REF!"}},{"$error":"#REF!"},{"$f":"AA!K51","v":81.5},{"$f":"AA!N51","v":70.349999999999994},77.039999999999992,{"$f":"AH!K51","v":88.5},{"$f":"AH!N51","v":74.25},82.800000000000011,{"$f":"FQ!K51","v":84},{"$f":"FQ!N51","v":72},79.2,{"$f":"SKI!K51","v":75.5},{"$f":"SKI!N51","v":68.650000000000006},72.760000000000005,{"$f":"PKn!K51","v":76.75},{"$f":"PKn!N51","v":60},70.05,{"$f":"BID!K51","v":79.25},{"$f":"BID!N51","v":69.625},75.400000000000006,{"$f":"BA!K51","v":80.25},{"$f":"BA!N51","v":69.424999999999997},75.92,{"$f":"MTK!K51","v":74.75},{"$f":"MTK!L51","v":60},68.849999999999994,{"$f":"IPA!K51","v":79},{"$f":"IPA!N51","v":60},71.400000000000006,{"$f":"IPS!K51","v":76.5},{"$f":"IPS!L51","v":60},69.900000000000006,{"$f":"SBK!K51","v":79.75},{"$f":"SBK!N51","v":68.875},75.400000000000006,{"$f":"PJK!K51","v":83.25},{"$f":"PJK!N51","v":69.625},77.8,{"$f":"BD!K51","v":73},{"$f":"BD!N51","v":66.5},70.400000000000006,{"$f":"BIG!K51","v":76.5},{"$f":"BIG!N51","v":67.25},72.8,{"$f":"AWJ!N51","v":70},{"$f":"AWJ!P51","v":70},70,74.265714285714267,75.400000000000006,{"$f":"BID!L51","v":60},69.240000000000009,68.849999999999994,{"$f":"MTK!L51","v":60},65.31,71.400000000000006,{"$f":"IPA!L51","v":60},66.84,60,201.39000000000001,180,79.25,69.625,75.400000000000006,74.75,60,68.849999999999994,79,60,71.400000000000006,null,null,75.400000000000006,60,69.240000000000009,68.849999999999994,60,65.31,71.400000000000006,60,66.84,60,null,{"$f":"SISWA!S50","v":"094/MINI.L-Kid/30.02.02/S.1-2/VI/2020"},null,"044/Mi.13.05.162/PP.01.1/06/2020",null,44]
[{"$f":"SISWA!A52","v":45},{"$f":"IF(SISWA!B52=0,\"\",SISWA!B52)","v":4372},{"$f":"IF(SISWA!C52=0,\"\",SISWA!C52)","v":"0087636520"},{"$f":"IF(SISWA!D52=0,\"\",SISWA!D52)","v":"1-18-05-80-162-045-4"},{"$f":"IF(SISWA!E52=0,\"\",SISWA!E52)","v":"GILANG AKBAR PRASETYO"},{"$f":"IF(SISWA!P51=0,\"\",SISWA!P51)","v":"Lumajang, 09 Januari 2008"},{"$f":"IF(SISWA!H52=0,\"\",SISWA!H52)","v":"AINUN AZIZAH"},{"$f":"#REF!","v":{"$error":"#REF!"}},{"$f":"#REF!","v":{"$error":"#REF!"}},{"$error":"#REF!"},{"$f":"AA!K52","v":76.5},{"$f":"AA!N52","v":68.05},73.12,{"$f":"AH!K52","v":80.5},{"$f":"AH!N52","v":70.25},76.400000000000006,{"$f":"FQ!K52","v":82.5},{"$f":"FQ!N52","v":71.25},78,{"$f":"SKI!K52","v":76.25},{"$f":"SKI!N52","v":68.825000000000003},73.28,{"$f":"PKn!K52","v":76.25},{"$f":"PKn!N52","v":60},69.75,{"$f":"BID!K52","v":78.5},{"$f":"BID!N52","v":69.25},74.800000000000011,{"$f":"BA!K52","v":79},{"$f":"BA!N52","v":69},75,{"$f":"MTK!K52","v":77},{"$f":"MTK!L52","v":60},70.199999999999989,{"$f":"IPA!K52","v":77.75},{"$f":"IPA!N52","v":60},70.650000000000006,{"$f":"IPS!K52","v":75.5},{"$f":"IPS!L52","v":60},69.3,{"$f":"SBK!K52","v":79.25},{"$f":"SBK!N52","v":68.625},75,{"$f":"PJK!K52","v":83.75},{"$f":"PJK!N52","v":69.875},78.2,{"$f":"BD!K52","v":72.75},{"$f":"BD!N52","v":66.375},70.2,{"$f":"BIG!K52","v":79},{"$f":"BIG!N52","v":79},79,{"$f":"AWJ!N52","v":70},{"$f":"AWJ!P52","v":70},70,73.778571428571439,74.800000000000011,{"$f":"BID!L52","v":60},68.88,70.199999999999989,{"$f":"MTK!L52","v":60},66.11999999999999,70.650000000000006,{"$f":"IPA!L52","v":60},66.39,60,201.39,180,78.5,69.25,74.800000000000011,77,60,70.199999999999989,77.75,60,70.650000000000006,null,null,74.800000000000011,60,68.88,70.199999999999989,60,66.11999999999999,70.650000000000006,60,66.39,60,null,{"$f":"SISWA!S51","v":"095/MINI.L-Kid/30.02.02/S.1-2/VI/2020"},null,"045/Mi.13.05.162/PP.01.1/06/2020",null,45]
[{"$f":"SISWA!A53","v":46},{"$f":"IF(SISWA!B53=0,\"\",SISWA!B53)","v":4373},{"$f":"IF(SISWA!C53=0,\"\",SISWA!C53)","v":"0087373224"},{"$f":"IF(SISWA!D53=0,\"\",SISWA!D53)","v":"1-18-05-80-162-046-3"},{"$f":"IF(SISWA!E53=0,\"\",SISWA!E53)","v":"IFTAH IZZAH EMILIA  MAHMUD"},{"$f":"IF(SISWA!P52=0,\"\",SISWA!P52)","v":"Lumajang, 07 April 2008"},{"$f":"IF(SISWA!H53=0,\"\",SISWA!H53)","v":"AMAR MAKHMUD"},{"$f":"#REF!","v":{"$error":"#REF!"}},{"$f":"#REF!","v":{"$error":"#REF!"}},{"$error":"#REF!"},{"$f":"AA!K53","v":77.75},{"$f":"AA!N53","v":79.875},78.599999999999994,{"$f":"AH!K53","v":76},{"$f":"AH!N53","v":68},72.800000000000011,{"$f":"FQ!K53","v":79.25},{"$f":"FQ!N53","v":72.125},76.400000000000006,{"$f":"SKI!K53","v":78},{"$f":"SKI!N53","v":68.599999999999994},74.239999999999995,{"$f":"PKn!K53","v":77.75},{"$f":"PKn!N53","v":60},70.650000000000006,{"$f":"BID!K53","v":76.25},{"$f":"BID!N53","v":68.125},73,{"$f":"BA!K53","v":82.25},{"$f":"BA!N53","v":69.424999999999997},77.12,{"$f":"MTK!K53","v":76.25},{"$f":"MTK!L53","v":60},69.75,{"$f":"IPA!K53","v":76.25},{"$f":"IPA!N53","v":60},69.75,{"$f":"IPS!K53","v":75.5},{"$f":"IPS!L53","v":60},69.3,{"$f":"SBK!K53","v":75.5},{"$f":"SBK!N53","v":67.45},72.28,{"$f":"PJK!K53","v":83.5},{"$f":"PJK!N53","v":69.75},78,{"$f":"BD!K53","v":75.75},{"$f":"BD!N53","v":67.875},72.599999999999994,{"$f":"BIG!K53","v":60.25},{"$f":"BIG!N53","v":65.525000000000006},62.36,{"$f":"AWJ!N53","v":65},{"$f":"AWJ!P53","v":65},65,72.632142857142853,73,{"$f":"BID!L53","v":60},67.8,69.75,{"$f":"MTK!L53","v":60},65.849999999999994,69.75,{"$f":"IPA!L53","v":60},65.849999999999994,60,199.49999999999997,180,76.25,68.125,73,76.25,60,69.75,76.25,60,69.75,null,null,73,60,67.8,69.75,60,65.849999999999994,69.75,60,65.849999999999994,60,null,{"$f":"SISWA!S52","v":"096/MINI.L-Kid/30.02.02/S.1-2/VI/2020"},null,"046/Mi.13.05.162/PP.01.1/06/2020",null,46]
[{"$f":"SISWA!A54","v":47},{"$f":"IF(SISWA!B54=0,\"\",SISWA!B54)","v":4441},{"$f":"IF(SISWA!C54=0,\"\",SISWA!C54)","v":"0081758949"},{"$f":"IF(SISWA!D54=0,\"\",SISWA!D54)","v":"1-18-05-80-162-047-2"},{"$f":"IF(SISWA!E54=0,\"\",SISWA!E54)","v":"INES ARIFANI MAULINA"},{"$f":"IF(SISWA!P53=0,\"\",SISWA!P53)","v":"Lumajang, 04 April 2008"},{"$f":"IF(SISWA!H54=0,\"\",SISWA!H54)","v":"MOHAMAD BADRI"},{"$f":"#REF!","v":{"$error":"#REF!"}},{"$f":"#REF!","v":{"$error":"#REF!"}},{"$error":"#REF!"},{"$f":"AA!K54","v":80.25},{"$f":"AA!N54","v":89.125},83.8,{"$f":"AH!K54","v":90},{"$f":"AH!N54","v":83.75},87.5,{"$f":"FQ!K54","v":83.75},{"$f":"FQ!N54","v":79.375},82,{"$f":"SKI!K54","v":78.75},{"$f":"SKI!N54","v":72.674999999999997},76.319999999999993,{"$f":"PKn!K54","v":79.75},{"$f":"PKn!N54","v":65},73.849999999999994,{"$f":"BID!K54","v":81.5},{"$f":"BID!N54","v":70.75},77.2,{"$f":"BA!K54","v":80},{"$f":"BA!N54","v":69.2},75.680000000000007,{"$f":"MTK!K54","v":82.75},{"$f":"MTK!L54","v":73.571428571428569},79.078571428571422,{"$f":"IPA!K54","v":80.5},{"$f":"IPA!N54","v":60},72.3,{"$f":"IPS!K54","v":78.25},{"$f":"IPS!L54","v":60},70.949999999999989,{"$f":"SBK!K54","v":82},{"$f":"SBK!N54","v":69.7},77.08,{"$f":"PJK!K54","v":82.75},{"$f":"PJK!N54","v":82.875},82.8,{"$f":"BD!K54","v":73.5},{"$f":"BD!N54","v":71.75},72.800000000000011,{"$f":"BIG!K54","v":76.75},{"$f":"BIG!N54","v":78.575000000000003},77.48,{"$f":"AWJ!N54","v":63},{"$f":"AWJ!P54","v":63},63,77.774183673469381,77.2,{"$f":"BID!L54","v":60},70.319999999999993,79.078571428571422,{"$f":"MTK!L54","v":73.571428571428569},76.875714285714281,72.3,{"$f":"IPA!L54","v":60},67.38,64.523809523809518,214.57571428571427,193.57142857142856,81.5,70.75,77.2,82.75,73.571428571428569,79.078571428571422,80.5,60,72.3,null,null,77.2,60,70.319999999999993,79.078571428571422,73.571428571428569,76.875714285714281,72.3,60,67.38,64.523809523809518,null,{"$f":"SISWA!S53","v":"097/MINI.L-Kid/30.02.02/S.1-2/VI/2020"},null,"047/Mi.13.05.162/PP.01.1/06/2020",null,47]
[{"$f":"SISWA!A55","v":48},{"$f":"IF(SISWA!B55=0,\"\",SISWA!B55)","v":4374},{"$f":"IF(SISWA!C55=0,\"\",SISWA!C55)","v":"0073409469"},{"$f":"IF(SISWA!D55=0,\"\",SISWA!D55)","v":"1-18-05-80-162-048-9"},{"$f":"IF(SISWA!E55=0,\"\",SISWA!E55)","v":"IYAAD AFLAKHA RAMZII"},{"$f":"IF(SISWA!P54=0,\"\",SISWA!P54)","v":"Lumajang, 10 Agustus 2007"},{"$f":"IF(SISWA!H55=0,\"\",SISWA!H55)","v":"ATHO'ILLAH"},{"$f":"#REF!","v":{"$error":"#REF!"}},{"$f":"#REF!","v":{"$error":"#REF!"}},{"$error":"#REF!"},{"$f":"AA!K55","v":81.5},{"$f":"AA!N55","v":74.849999999999994},78.84,{"$f":"AH!K55","v":89.75},{"$f":"AH!N55","v":74.875},83.800000000000011,{"$f":"FQ!K55","v":84.5},{"$f":"FQ!N55","v":72.25},79.599999999999994,{"$f":"SKI!K55","v":78.5},{"$f":"SKI!N55","v":69.150000000000006},74.760000000000005,{"$f":"PKn!K55","v":80},{"$f":"PKn!N55","v":60},72,{"$f":"BID!K55","v":81},{"$f":"BID!N55","v":77.444444444444443},79.577777777777783,{"$f":"BA!K55","v":81.75},{"$f":"BA!N55","v":69.775000000000006},76.960000000000008,{"$f":"MTK!K55","v":77.25},{"$f":"MTK!L55","v":60},70.349999999999994,{"$f":"IPA!K55","v":81.75},{"$f":"IPA!N55","v":60},73.05,{"$f":"IPS!K55","v":78.25},{"$f":"IPS!L55","v":60},70.949999999999989,{"$f":"SBK!K55","v":81.75},{"$f":"SBK!N55","v":69.275000000000006},76.760000000000005,{"$f":"PJK!K55","v":84.25},{"$f":"PJK!N55","v":70.125},78.599999999999994,{"$f":"BD!K55","v":75.5},{"$f":"BD!N55","v":67.75},72.400000000000006,{"$f":"BIG!K55","v":76.5},{"$f":"BIG!N55","v":67.25},72.8,{"$f":"AWJ!N55","v":70},{"$f":"AWJ!P55","v":70},70,75.746269841269836,79.577777777777783,{"$f":"BID!L55","v":73.888888888888886},77.302222222222227,70.349999999999994,{"$f":"MTK!L55","v":60},66.209999999999994,73.05,{"$f":"IPA!L55","v":60},67.83,64.629629629629633,211.34222222222223,193.88888888888889,81,77.444444444444443,79.577777777777783,77.25,60,70.349999999999994,81.75,60,73.05,null,null,79.577777777777783,73.888888888888886,77.302222222222227,70.349999999999994,60,66.209999999999994,73.05,60,67.83,64.629629629629633,null,{"$f":"SISWA!S54","v":"098/MINI.L-Kid/30.02.02/S.1-2/VI/2020"},null,"048/Mi.13.05.162/PP.01.1/06/2020",null,48]
[{"$f":"SISWA!A56","v":49},{"$f":"IF(SISWA!B56=0,\"\",SISWA!B56)","v":4305},{"$f":"IF(SISWA!C56=0,\"\",SISWA!C56)","v":"0068258891"},{"$f":"IF(SISWA!D56=0,\"\",SISWA!D56)","v":"1-18-05-80-162-049-8"},{"$f":"IF(SISWA!E56=0,\"\",SISWA!E56)","v":"JULI ANDRIYANTO"},{"$f":"IF(SISWA!P55=0,\"\",SISWA!P55)","v":"Lumajang, 11 Juli 2006"},{"$f":"IF(SISWA!H56=0,\"\",SISWA!H56)","v":"SIAMAN"},{"$f":"#REF!","v":{"$error":"#REF!"}},{"$f":"#REF!","v":{"$error":"#REF!"}},{"$error":"#REF!"},{"$f":"AA!K56","v":78.25},{"$f":"AA!N56","v":68.724999999999994},74.44,{"$f":"AH!K56","v":81.75},{"$f":"AH!N56","v":70.875},77.400000000000006,{"$f":"FQ!K56","v":85},{"$f":"FQ!N56","v":72.5},80,{"$f":"SKI!K56","v":77.75},{"$f":"SKI!N56","v":69.075000000000003},74.28,{"$f":"PKn!K56","v":77.75},{"$f":"PKn!N56","v":60},70.650000000000006,{"$f":"BID!K56","v":78.75},{"$f":"BID!N56","v":69.375},75,{"$f":"BA!K56","v":79.5},{"$f":"BA!N56","v":69.150000000000006},75.36,{"$f":"MTK!K56","v":76},{"$f":"MTK!L56","v":60},69.599999999999994,{"$f":"IPA!K56","v":77.25},{"$f":"IPA!N56","v":60},70.349999999999994,{"$f":"IPS!K56","v":76.75},{"$f":"IPS!L56","v":60},70.05,{"$f":"SBK!K56","v":78.5},{"$f":"SBK!N56","v":68.25},74.400000000000006,{"$f":"PJK!K56","v":87.25},{"$f":"PJK!N56","v":71.125},80.800000000000011,{"$f":"BD!K56","v":73.25},{"$f":"BD!N56","v":66.625},70.599999999999994,{"$f":"BIG!K56","v":76},{"$f":"BIG!N56","v":68},72.800000000000011,{"$f":"AWJ!N56","v":65},{"$f":"AWJ!P56","v":65},65,73.980714285714285,75,{"$f":"BID!L56","v":60},69,69.599999999999994,{"$f":"MTK!L56","v":60},65.759999999999991,70.349999999999994,{"$f":"IPA!L56","v":60},66.209999999999994,60,200.96999999999997,180,78.75,69.375,75,76,60,69.599999999999994,77.25,60,70.349999999999994,null,null,75,60,69,69.599999999999994,60,65.759999999999991,70.349999999999994,60,66.209999999999994,60,null,{"$f":"SISWA!S55","v":"099/MINI.L-Kid/30.02.02/S.1-2/VI/2020"},null,"049/Mi.13.05.162/PP.01.1/06/2020",null,49]
[{"$f":"SISWA!A57","v":50},{"$f":"IF(SISWA!B57=0,\"\",SISWA!B57)","v":4347},{"$f":"IF(SISWA!C57=0,\"\",SISWA!C57)","v":"0076367763"},{"$f":"IF(SISWA!D57=0,\"\",SISWA!D57)","v":"1-18-05-80-162-050-7"},{"$f":"IF(SISWA!E57=0,\"\",SISWA!E57)","v":"LIYA FEBRIYANI"},{"$f":"IF(SISWA!P56=0,\"\",SISWA!P56)","v":"Lumajang, 03 Februari 2007"},{"$f":"IF(SISWA!H57=0,\"\",SISWA!H57)","v":"MALIK"},{"$f":"#REF!","v":{"$error":"#REF!"}},{"$f":"#REF!","v":{"$error":"#REF!"}},{"$error":"#REF!"},{"$f":"AA!K57","v":89.25},{"$f":"AA!N57","v":87.525000000000006},88.56,{"$f":"AH!K57","v":89.75},{"$f":"AH!N57","v":74.875},83.800000000000011,{"$f":"FQ!K57","v":87.5},{"$f":"FQ!N57","v":78.75},84,{"$f":"SKI!K57","v":84.5},{"$f":"SKI!N57","v":70.75},79,{"$f":"PKn!K57","v":88.5},{"$f":"PKn!N57","v":60},77.099999999999994,{"$f":"BID!K57","v":84.75},{"$f":"BID!N57","v":72.375},79.800000000000011,{"$f":"BA!K57","v":85.25},{"$f":"BA!N57","v":71.125},79.599999999999994,{"$f":"MTK!K57","v":79.75},{"$f":"MTK!L57","v":60},71.849999999999994,{"$f":"IPA!K57","v":85.5},{"$f":"IPA!N57","v":60},75.3,{"$f":"IPS!K57","v":84.25},{"$f":"IPS!L57","v":60},74.55,{"$f":"SBK!K57","v":87},{"$f":"SBK!N57","v":71.7},80.88,{"$f":"PJK!K57","v":83.25},{"$f":"PJK!N57","v":72.625},79,{"$f":"BD!K57","v":79},{"$f":"BD!N57","v":69.5},75.2,{"$f":"BIG!K57","v":80.75},{"$f":"BIG!N57","v":69.375},76.199999999999989,{"$f":"AWJ!N57","v":65},{"$f":"AWJ!P57","v":65},65,78.917142857142849,79.800000000000011,{"$f":"BID!L57","v":60},71.88,71.849999999999994,{"$f":"MTK!L57","v":60},67.109999999999985,75.3,{"$f":"IPA!L57","v":60},69.180000000000007,60,208.17,180,84.75,72.375,79.800000000000011,79.75,60,71.849999999999994,85.5,60,75.3,null,null,79.800000000000011,60,71.88,71.849999999999994,60,67.109999999999985,75.3,60,69.180000000000007,60,null,{"$f":"SISWA!S56","v":"100/MINI.L-Kid/30.02.02/S.1-2/VI/2020"},null,"050/Mi.13.05.162/PP.01.1/06/2020",null,50]
[{"$f":"SISWA!A58","v":51},{"$f":"IF(SISWA!B58=0,\"\",SISWA!B58)","v":4348},{"$f":"IF(SISWA!C58=0,\"\",SISWA!C58)","v":"0083034332"},{"$f":"IF(SISWA!D58=0,\"\",SISWA!D58)","v":"1-18-05-80-162-051-6"},{"$f":"IF(SISWA!E58=0,\"\",SISWA!E58)","v":"LIZATUL CHAIYUNI"},{"$f":"IF(SISWA!P57=0,\"\",SISWA!P57)","v":"Lumajang, 22 April 2008"},{"$f":"IF(SISWA!H58=0,\"\",SISWA!H58)","v":"MUCHAMAD BAHRUJI"},{"$f":"#REF!","v":{"$error":"#REF!"}},{"$f":"#REF!","v":{"$error":"#REF!"}},{"$error":"#REF!"},{"$f":"AA!K58","v":84},{"$f":"AA!N58","v":82.3},83.32,{"$f":"AH!K58","v":84},{"$f":"AH!N58","v":72},79.2,{"$f":"FQ!K58","v":83.5},{"$f":"FQ!N58","v":76.75},80.800000000000011,{"$f":"SKI!K58","v":82.75},{"$f":"SKI!N58","v":69.974999999999994},77.64,{"$f":"PKn!K58","v":84.75},{"$f":"PKn!N58","v":60},74.849999999999994,{"$f":"BID!K58","v":83.25},{"$f":"BID!N58","v":71.625},78.599999999999994,{"$f":"BA!K58","v":84.25},{"$f":"BA!N58","v":70.625},78.8,{"$f":"MTK!K58","v":78.5},{"$f":"MTK!L58","v":60},71.099999999999994,{"$f":"IPA!K58","v":83.25},{"$f":"IPA!N58","v":60},73.949999999999989,{"$f":"IPS!K58","v":82.25},{"$f":"IPS!L58","v":60},73.349999999999994,{"$f":"SBK!K58","v":83},{"$f":"SBK!N58","v":70},77.8,{"$f":"PJK!K58","v":83},{"$f":"PJK!N58","v":69.5},77.599999999999994,{"$f":"BD!K58","v":77.5},{"$f":"BD!N58","v":68.75},74,{"$f":"BIG!K58","v":77.75},{"$f":"BIG!N58","v":67.875},73.8,{"$f":"AWJ!N58","v":65},{"$f":"AWJ!P58","v":65},65,76.772142857142853,78.599999999999994,{"$f":"BID!L58","v":60},71.16,71.099999999999994,{"$f":"MTK!L58","v":60},66.66,73.949999999999989,{"$f":"IPA!L58","v":60},68.36999999999999,60,206.19,180,83.25,71.625,78.599999999999994,78.5,60,71.099999999999994,83.25,60,73.949999999999989,null,null,78.599999999999994,60,71.16,71.099999999999994,60,66.66,73.949999999999989,60,68.36999999999999,60,null,{"$f":"SISWA!S57","v":"101/MINI.L-Kid/30.02.02/S.1-2/VI/2020"},null,"051/Mi.13.05.162/PP.01.1/06/2020",null,51]
[{"$f":"SISWA!A59","v":52},{"$f":"IF(SISWA!B59=0,\"\",SISWA!B59)","v":4531},{"$f":"IF(SISWA!C59=0,\"\",SISWA!C59)","v":3099539154},{"$f":"IF(SISWA!D59=0,\"\",SISWA!D59)","v":"1-18-05-80-162-052-5"},{"$f":"IF(SISWA!E59=0,\"\",SISWA!E59)","v":"M. ALHAFIS"},{"$f":"IF(SISWA!P58=0,\"\",SISWA!P58)","v":"Kayu Besar, 17 Maret 2009"},{"$f":"IF(SISWA!H59=0,\"\",SISWA!H59)","v":"RAMLI"},{"$f":"#REF!","v":{"$error":"#REF!"}},{"$f":"#REF!","v":{"$error":"#REF!"}},{"$error":"#REF!"},{"$f":"AA!K59","v":83},{"$f":"AA!N59","v":69.599999999999994},77.64,{"$f":"AH!K59","v":80},{"$f":"AH!N59","v":70},76,{"$f":"FQ!K59","v":79},{"$f":"FQ!N59","v":69.5},75.2,{"$f":"SKI!K59","v":79.25},{"$f":"SKI!N59","v":69.025000000000006},75.16,{"$f":"PKn!K59","v":83.25},{"$f":"PKn!N59","v":60},73.949999999999989,{"$f":"BID!K59","v":77},{"$f":"BID!N59","v":68.5},73.599999999999994,{"$f":"BA!K59","v":80.5},{"$f":"BA!N59","v":69.45},76.08,{"$f":"MTK!K59","v":75.75},{"$f":"MTK!L59","v":60},69.449999999999989,{"$f":"IPA!K59","v":77.25},{"$f":"IPA!N59","v":60},70.349999999999994,{"$f":"IPS!K59","v":78},{"$f":"IPS!L59","v":60},70.8,{"$f":"SBK!K59","v":79.25},{"$f":"SBK!N59","v":68.625},75,{"$f":"PJK!K59","v":83.5},{"$f":"PJK!N59","v":69.75},78,{"$f":"BD!K59","v":75.75},{"$f":"BD!N59","v":67.875},72.599999999999994,{"$f":"BIG!K59","v":77},{"$f":"BIG!N59","v":68.099999999999994},73.44,{"$f":"AWJ!N59","v":65},{"$f":"AWJ!P59","v":65},65,74.090714285714284,73.599999999999994,{"$f":"BID!L59","v":60},68.16,69.449999999999989,{"$f":"MTK!L59","v":60},65.669999999999987,70.349999999999994,{"$f":"IPA!L59","v":60},66.209999999999994,60,200.03999999999996,180,77,68.5,73.599999999999994,75.75,60,69.449999999999989,77.25,60,70.349999999999994,null,null,73.599999999999994,60,68.16,69.449999999999989,60,65.669999999999987,70.349999999999994,60,66.209999999999994,60,null,{"$f":"SISWA!S58","v":"102/MINI.L-Kid/30.02.02/S.1-2/VI/2020"},null,"052/Mi.13.05.162/PP.01.1/06/2020",null,52]
[{"$f":"SISWA!A60","v":53},{"$f":"IF(SISWA!B60=0,\"\",SISWA!B60)","v":4530},{"$f":"IF(SISWA!C60=0,\"\",SISWA!C60)","v":"0077015789"},{"$f":"IF(SISWA!D60=0,\"\",SISWA!D60)","v":"1-18-05-80-162-053-4"},{"$f":"IF(SISWA!E60=0,\"\",SISWA!E60)","v":"MUHAMMAD RIZKI RIDWAN"},{"$f":"IF(SISWA!P59=0,\"\",SISWA!P59)","v":"Lumajang, 25 November 2007"},{"$f":"IF(SISWA!H60=0,\"\",SISWA!H60)","v":"MOCH. SYAIKHU RIFA'I"},{"$f":"#REF!","v":{"$error":"#REF!"}},{"$f":"#REF!","v":{"$error":"#REF!"}},{"$error":"#REF!"},{"$f":"AA!K60","v":77},{"$f":"AA!N60","v":74.099999999999994},75.84,{"$f":"AH!K60","v":78.75},{"$f":"AH!N60","v":69.375},75,{"$f":"FQ!K60","v":79.75},{"$f":"FQ!N60","v":69.875},75.800000000000011,{"$f":"SKI!K60","v":76.75},{"$f":"SKI!N60","v":68.674999999999997},73.52,{"$f":"PKn!K60","v":75.75},{"$f":"PKn!N60","v":60},69.449999999999989,{"$f":"BID!K60","v":78.5},{"$f":"BID!N60","v":69.25},74.800000000000011,{"$f":"BA!K60","v":82.75},{"$f":"BA!N60","v":70.275000000000006},77.760000000000005,{"$f":"MTK!K60","v":73.75},{"$f":"MTK!L60","v":60},68.25,{"$f":"IPA!K60","v":75},{"$f":"IPA!N60","v":60},69,{"$f":"IPS!K60","v":74.5},{"$f":"IPS!L60","v":60},68.699999999999989,{"$f":"SBK!K60","v":77.5},{"$f":"SBK!N60","v":67.75},73.599999999999994,{"$f":"PJK!K60","v":83.5},{"$f":"PJK!N60","v":69.75},78,{"$f":"BD!K60","v":72.25},{"$f":"BD!N60","v":66.125},69.800000000000011,{"$f":"BIG!K60","v":73.5},{"$f":"BIG!N60","v":71.25},72.599999999999994,{"$f":"AWJ!N60","v":65},{"$f":"AWJ!P60","v":65},65,73.008571428571443,74.800000000000011,{"$f":"BID!L60","v":60},68.88,68.25,{"$f":"MTK!L60","v":60},64.949999999999989,69,{"$f":"IPA!L60","v":60},65.400000000000006,60,199.23,180,78.5,69.25,74.800000000000011,73.75,60,68.25,75,60,69,null,null,74.800000000000011,60,68.88,68.25,60,64.949999999999989,69,60,65.400000000000006,60,null,{"$f":"SISWA!S59","v":"103/MINI.L-Kid/30.02.02/S.1-2/VI/2020"},null,"053/Mi.13.05.162/PP.01.1/06/2020",null,53]
[{"$f":"SISWA!A61","v":54},{"$f":"IF(SISWA!B61=0,\"\",SISWA!B61)","v":4351},{"$f":"IF(SISWA!C61=0,\"\",SISWA!C61)","v":"0076361559"},{"$f":"IF(SISWA!D61=0,\"\",SISWA!D61)","v":"1-18-05-80-162-054-3"},{"$f":"IF(SISWA!E61=0,\"\",SISWA!E61)","v":"MOCHAMAD RAFLI DIAN SAPUTRA"},{"$f":"IF(SISWA!P60=0,\"\",SISWA!P60)","v":"Lumajang, 28 Juli 2007"},{"$f":"IF(SISWA!H61=0,\"\",SISWA!H61)","v":"SAMSUL ARIFIN"},{"$f":"#REF!","v":{"$error":"#REF!"}},{"$f":"#REF!","v":{"$error":"#REF!"}},{"$error":"#REF!"},{"$f":"AA!K61","v":77.75},{"$f":"AA!N61","v":68.474999999999994},74.039999999999992,{"$f":"AH!K61","v":79.75},{"$f":"AH!N61","v":69.875},75.800000000000011,{"$f":"FQ!K61","v":84},{"$f":"FQ!N61","v":72},79.2,{"$f":"SKI!K61","v":76.5},{"$f":"SKI!N61","v":68.650000000000006},73.36,{"$f":"PKn!K61","v":76},{"$f":"PKn!N61","v":60},69.599999999999994,{"$f":"BID!K61","v":77.5},{"$f":"BID!N61","v":68.75},74,{"$f":"BA!K61","v":79.75},{"$f":"BA!N61","v":69.375},75.599999999999994,{"$f":"MTK!K61","v":77.5},{"$f":"MTK!L61","v":60},70.5,{"$f":"IPA!K61","v":76.25},{"$f":"IPA!N61","v":60},69.75,{"$f":"IPS!K61","v":75.25},{"$f":"IPS!L61","v":60},69.150000000000006,{"$f":"SBK!K61","v":77.25},{"$f":"SBK!N61","v":67.625},73.400000000000006,{"$f":"PJK!K61","v":83.5},{"$f":"PJK!N61","v":78.75},81.599999999999994,{"$f":"BD!K61","v":72.5},{"$f":"BD!N61","v":66.25},70,{"$f":"BIG!K61","v":73.75},{"$f":"BIG!N61","v":66.875},71,{"$f":"AWJ!N61","v":65},{"$f":"AWJ!P61","v":65},65,73.357142857142861,74,{"$f":"BID!L61","v":60},68.400000000000006,70.5,{"$f":"MTK!L61","v":60},66.3,69.75,{"$f":"IPA!L61","v":60},65.849999999999994,60,200.54999999999998,180,77.5,68.75,74,77.5,60,70.5,76.25,60,69.75,null,null,74,60,68.400000000000006,70.5,60,66.3,69.75,60,65.849999999999994,60,null,{"$f":"SISWA!S60","v":"104/MINI.L-Kid/30.02.02/S.1-2/VI/2020"},null,"054/Mi.13.05.162/PP.01.1/06/2020",null,54]
[{"$f":"SISWA!A62","v":55},{"$f":"IF(SISWA!B62=0,\"\",SISWA!B62)","v":4352},{"$f":"IF(SISWA!C62=0,\"\",SISWA!C62)","v":"0075591405"},{"$f":"IF(SISWA!D62=0,\"\",SISWA!D62)","v":"1-18-05-80-162-055-2"},{"$f":"IF(SISWA!E62=0,\"\",SISWA!E62)","v":"MOCHAMMAD AFAREL PUTRA RAMDHANA"},{"$f":"IF(SISWA!P61=0,\"\",SISWA!P61)","v":"Lumajang, 10 Oktober 2007"},{"$f":"IF(SISWA!H62=0,\"\",SISWA!H62)","v":"MOCH MISKI"},{"$f":"#REF!","v":{"$error":"#REF!"}},{"$f":"#REF!","v":{"$error":"#REF!"}},{"$error":"#REF!"},{"$f":"AA!K62","v":83.5},{"$f":"AA!N62","v":69.650000000000006},77.960000000000008,{"$f":"AH!K62","v":84.75},{"$f":"AH!N62","v":72.375},79.800000000000011,{"$f":"FQ!K62","v":83.75},{"$f":"FQ!N62","v":71.875},79,{"$f":"SKI!K62","v":81.5},{"$f":"SKI!N62","v":69.349999999999994},76.64,{"$f":"PKn!K62","v":81.25},{"$f":"PKn!N62","v":60},72.75,{"$f":"BID!K62","v":82.5},{"$f":"BID!N62","v":71.25},78,{"$f":"BA!K62","v":80},{"$f":"BA!N62","v":69.099999999999994},75.64,{"$f":"MTK!K62","v":82},{"$f":"MTK!L62","v":60},73.199999999999989,{"$f":"IPA!K62","v":80.75},{"$f":"IPA!N62","v":60},72.449999999999989,{"$f":"IPS!K62","v":80.75},{"$f":"IPS!L62","v":60},72.449999999999989,{"$f":"SBK!K62","v":82.25},{"$f":"SBK!N62","v":69.125},77,{"$f":"PJK!K62","v":85.25},{"$f":"PJK!N62","v":70.625},79.400000000000006,{"$f":"BD!K62","v":76},{"$f":"BD!N62","v":68},72.800000000000011,{"$f":"BIG!K62","v":76.25},{"$f":"BIG!N62","v":67.125},72.599999999999994,{"$f":"AWJ!N62","v":65},{"$f":"AWJ!P62","v":65},65,75.692142857142855,78,{"$f":"BID!L62","v":60},70.8,73.199999999999989,{"$f":"MTK!L62","v":60},67.919999999999987,72.449999999999989,{"$f":"IPA!L62","v":60},67.47,60,206.18999999999997,180,82.5,71.25,78,82,60,73.199999999999989,80.75,60,72.449999999999989,null,null,78,60,70.8,73.199999999999989,60,67.919999999999987,72.449999999999989,60,67.47,60,null,{"$f":"SISWA!S61","v":"105/MINI.L-Kid/30.02.02/S.1-2/VI/2020"},null,"055/Mi.13.05.162/PP.01.1/06/2020",null,55]
[{"$f":"SISWA!A63","v":56},{"$f":"IF(SISWA!B63=0,\"\",SISWA!B63)","v":4355},{"$f":"IF(SISWA!C63=0,\"\",SISWA!C63)","v":"0075363258"},{"$f":"IF(SISWA!D63=0,\"\",SISWA!D63)","v":"1-18-05-80-162-056-9"},{"$f":"IF(SISWA!E63=0,\"\",SISWA!E63)","v":"MUHAMAD JEFRI MAULANA"},{"$f":"IF(SISWA!P62=0,\"\",SISWA!P62)","v":"Lumajang, 10 Maret 2007"},{"$f":"IF(SISWA!H63=0,\"\",SISWA!H63)","v":"RODEK SUGIANTORO"},{"$f":"#REF!","v":{"$error":"#REF!"}},{"$f":"#REF!","v":{"$error":"#REF!"}},{"$error":"#REF!"},{"$f":"AA!K63","v":81},{"$f":"AA!N63","v":69.099999999999994},76.240000000000009,{"$f":"AH!K63","v":79.75},{"$f":"AH!N63","v":69.875},75.800000000000011,{"$f":"FQ!K63","v":79.25},{"$f":"FQ!N63","v":69.625},75.400000000000006,{"$f":"SKI!K63","v":80.75},{"$f":"SKI!N63","v":69.474999999999994},76.239999999999995,{"$f":"PKn!K63","v":80.75},{"$f":"PKn!N63","v":60},72.449999999999989,{"$f":"BID!K63","v":76.75},{"$f":"BID!N63","v":68.375},73.400000000000006,{"$f":"BA!K63","v":81.75},{"$f":"BA!N63","v":69.674999999999997},76.92,{"$f":"MTK!K63","v":77},{"$f":"MTK!L63","v":60},70.199999999999989,{"$f":"IPA!K63","v":80},{"$f":"IPA!N63","v":60},72,{"$f":"IPS!K63","v":77.75},{"$f":"IPS!L63","v":60},70.650000000000006,{"$f":"SBK!K63","v":78.75},{"$f":"SBK!N63","v":68.775000000000006},74.760000000000005,{"$f":"PJK!K63","v":86.75},{"$f":"PJK!N63","v":71.275000000000006},80.56,{"$f":"BD!K63","v":76.25},{"$f":"BD!N63","v":68.125},73,{"$f":"BIG!K63","v":76.5},{"$f":"BIG!N63","v":67.75},73,{"$f":"AWJ!N63","v":65},{"$f":"AWJ!P63","v":65},65,74.33,73.400000000000006,{"$f":"BID!L63","v":60},68.039999999999992,70.199999999999989,{"$f":"MTK!L63","v":60},66.11999999999999,72,{"$f":"IPA!L63","v":60},67.199999999999989,60,201.35999999999996,180,76.75,68.375,73.400000000000006,77,60,70.199999999999989,80,60,72,null,null,73.400000000000006,60,68.039999999999992,70.199999999999989,60,66.11999999999999,72,60,67.199999999999989,60,null,{"$f":"SISWA!S62","v":"106/MINI.L-Kid/30.02.02/S.1-2/VI/2020"},null,"056/Mi.13.05.162/PP.01.1/06/2020",null,56]
[{"$f":"SISWA!A64","v":57},{"$f":"IF(SISWA!B64=0,\"\",SISWA!B64)","v":4376},{"$f":"IF(SISWA!C64=0,\"\",SISWA!C64)","v":"0072066741"},{"$f":"IF(SISWA!D64=0,\"\",SISWA!D64)","v":"1-18-05-80-162-057-8"},{"$f":"IF(SISWA!E64=0,\"\",SISWA!E64)","v":"MUHAMMAD DWI WILDAN BAGUS KURNIAWAN"},{"$f":"IF(SISWA!P63=0,\"\",SISWA!P63)","v":"Lumajang, 11 Juli 2007"},{"$f":"IF(SISWA!H64=0,\"\",SISWA!H64)","v":"MOCH SAREH"},{"$f":"#REF!","v":{"$error":"#REF!"}},{"$f":"#REF!","v":{"$error":"#REF!"}},{"$error":"#REF!"},{"$f":"AA!K64","v":76},{"$f":"AA!N64","v":68},72.800000000000011,{"$f":"AH!K64","v":76.25},{"$f":"AH!N64","v":68.125},73,{"$f":"FQ!K64","v":75.75},{"$f":"FQ!N64","v":67.875},72.599999999999994,{"$f":"SKI!K64","v":79.25},{"$f":"SKI!N64","v":69.025000000000006},75.16,{"$f":"PKn!K64","v":76.25},{"$f":"PKn!N64","v":60},69.75,{"$f":"BID!K64","v":77.25},{"$f":"BID!N64","v":68.625},73.800000000000011,{"$f":"BA!K64","v":80},{"$f":"BA!N64","v":69.400000000000006},75.760000000000005,{"$f":"MTK!K64","v":74.25},{"$f":"MTK!L64","v":60},68.55,{"$f":"IPA!K64","v":75.75},{"$f":"IPA!N64","v":60},69.449999999999989,{"$f":"IPS!K64","v":74.75},{"$f":"IPS!L64","v":60},68.849999999999994,{"$f":"SBK!K64","v":75},{"$f":"SBK!N64","v":67.5},72,{"$f":"PJK!K64","v":83.75},{"$f":"PJK!N64","v":69.875},78.2,{"$f":"BD!K64","v":76},{"$f":"BD!N64","v":68},72.800000000000011,{"$f":"BIG!K64","v":75.75},{"$f":"BIG!N64","v":66.875},72.199999999999989,{"$f":"AWJ!N64","v":65},{"$f":"AWJ!P64","v":65},65,72.494285714285724,73.800000000000011,{"$f":"BID!L64","v":60},68.28,68.55,{"$f":"MTK!L64","v":60},65.13,69.449999999999989,{"$f":"IPA!L64","v":60},65.669999999999987,60,199.07999999999998,180,77.25,68.625,73.800000000000011,74.25,60,68.55,75.75,60,69.449999999999989,null,null,73.800000000000011,60,68.28,68.55,60,65.13,69.449999999999989,60,65.669999999999987,60,null,{"$f":"SISWA!S63","v":"107/MINI.L-Kid/30.02.02/S.1-2/VI/2020"},null,"057/Mi.13.05.162/PP.01.1/06/2020",null,57]
[{"$f":"SISWA!A65","v":58},{"$f":"IF(SISWA!B65=0,\"\",SISWA!B65)","v":4377},{"$f":"IF(SISWA!C65=0,\"\",SISWA!C65)","v":"0071459044"},{"$f":"IF(SISWA!D65=0,\"\",SISWA!D65)","v":"1-18-05-80-162-058-7"},{"$f":"IF(SISWA!E65=0,\"\",SISWA!E65)","v":"MUHAMMAD FARIL FIRMANSYA"},{"$f":"IF(SISWA!P64=0,\"\",SISWA!P64)","v":"Lumajang, 01 Agustus 2007"},{"$f":"IF(SISWA!H65=0,\"\",SISWA!H65)","v":"ANDIK SUHARTONO"},{"$f":"#REF!","v":{"$error":"#REF!"}},{"$f":"#REF!","v":{"$error":"#REF!"}},{"$error":"#REF!"},{"$f":"AA!K65","v":77.5},{"$f":"AA!N65","v":68.349999999999994},73.84,{"$f":"AH!K65","v":76.5},{"$f":"AH!N65","v":68.25},73.2,{"$f":"FQ!K65","v":78.5},{"$f":"FQ!N65","v":69.25},74.800000000000011,{"$f":"SKI!K65","v":78.5},{"$f":"SKI!N65","v":68.95},74.680000000000007,{"$f":"PKn!K65","v":76},{"$f":"PKn!N65","v":60},69.599999999999994,{"$f":"BID!K65","v":79.25},{"$f":"BID!N65","v":69.625},75.400000000000006,{"$f":"BA!K65","v":79.75},{"$f":"BA!N65","v":69.075000000000003},75.48,{"$f":"MTK!K65","v":75.75},{"$f":"MTK!L65","v":60},69.449999999999989,{"$f":"IPA!K65","v":77.75},{"$f":"IPA!N65","v":60},70.650000000000006,{"$f":"IPS!K65","v":76},{"$f":"IPS!L65","v":60},69.599999999999994,{"$f":"SBK!K65","v":75.25},{"$f":"SBK!N65","v":67.525000000000006},72.16,{"$f":"PJK!K65","v":84.25},{"$f":"PJK!N65","v":73.125},79.8,{"$f":"BD!K65","v":76},{"$f":"BD!N65","v":68},72.800000000000011,{"$f":"BIG!K65","v":76.75},{"$f":"BIG!N65","v":67.375},73,{"$f":"AWJ!N65","v":65},{"$f":"AWJ!P65","v":65},65,73.175714285714292,75.400000000000006,{"$f":"BID!L65","v":60},69.240000000000009,69.449999999999989,{"$f":"MTK!L65","v":60},65.669999999999987,70.650000000000006,{"$f":"IPA!L65","v":60},66.39,60,201.3,180,79.25,69.625,75.400000000000006,75.75,60,69.449999999999989,77.75,60,70.650000000000006,null,null,75.400000000000006,60,69.240000000000009,69.449999999999989,60,65.669999999999987,70.650000000000006,60,66.39,60,null,{"$f":"SISWA!S64","v":"108"},null,"058/Mi.13.05.162/PP.01.1/06/2020",null,58]
[{"$f":"SISWA!A66","v":59},{"$f":"IF(SISWA!B66=0,\"\",SISWA!B66)","v":4349},{"$f":"IF(SISWA!C66=0,\"\",SISWA!C66)","v":"0074206034"},{"$f":"IF(SISWA!D66=0,\"\",SISWA!D66)","v":"1-18-05-80-162-059-6"},{"$f":"IF(SISWA!E66=0,\"\",SISWA!E66)","v":"MUHAMMAD FARIZ UBAIDILLA"},{"$f":"IF(SISWA!P65=0,\"\",SISWA!P65)","v":"Lumajang, 05 September 2007"},{"$f":"IF(SISWA!H66=0,\"\",SISWA!H66)","v":"MUHAMMAD HERI PRIBADI"},{"$f":"#REF!","v":{"$error":"#REF!"}},{"$f":"#REF!","v":{"$error":"#REF!"}},{"$error":"#REF!"},{"$f":"AA!K66","v":84.25},{"$f":"AA!N66","v":76.125},81,{"$f":"AH!K66","v":86.25},{"$f":"AH!N66","v":73.125},81,{"$f":"FQ!K66","v":85},{"$f":"FQ!N66","v":72.5},80,{"$f":"SKI!K66","v":81.75},{"$f":"SKI!N66","v":69.375},76.8,{"$f":"PKn!K66","v":80.5},{"$f":"PKn!N66","v":60},72.3,{"$f":"BID!K66","v":78.25},{"$f":"BID!N66","v":69.125},74.599999999999994,{"$f":"BA!K66","v":80.5},{"$f":"BA!N66","v":69.45},76.08,{"$f":"MTK!K66","v":79.25},{"$f":"MTK!L66","v":60},71.55,{"$f":"IPA!K66","v":80.25},{"$f":"IPA!N66","v":60},72.150000000000006,{"$f":"IPS!K66","v":80.25},{"$f":"IPS!L66","v":60},72.150000000000006,{"$f":"SBK!K66","v":83},{"$f":"SBK!N66","v":69.900000000000006},77.760000000000005,{"$f":"PJK!K66","v":83.5},{"$f":"PJK!N66","v":77.25},81,{"$f":"BD!K66","v":76.5},{"$f":"BD!N66","v":68.25},73.2,{"$f":"BIG!K66","v":78.5},{"$f":"BIG!N66","v":81.75},79.800000000000011,{"$f":"AWJ!N66","v":65},{"$f":"AWJ!P66","v":65},65,76.385000000000005,74.599999999999994,{"$f":"BID!L66","v":60},68.759999999999991,71.55,{"$f":"MTK!L66","v":60},66.930000000000007,72.150000000000006,{"$f":"IPA!L66","v":60},67.289999999999992,60,202.98,180,78.25,69.125,74.599999999999994,79.25,60,71.55,80.25,60,72.150000000000006,null,null,74.599999999999994,60,68.759999999999991,71.55,60,66.930000000000007,72.150000000000006,60,67.289999999999992,60,null,{"$f":"SISWA!S65","v":"109"},null,"059/Mi.13.05.162/PP.01.1/06/2020",null,59]
[{"$f":"SISWA!A67","v":60},{"$f":"IF(SISWA!B67=0,\"\",SISWA!B67)","v":4356},{"$f":"IF(SISWA!C67=0,\"\",SISWA!C67)","v":"0077937892"},{"$f":"IF(SISWA!D67=0,\"\",SISWA!D67)","v":"1-18-05-80-162-060-5"},{"$f":"IF(SISWA!E67=0,\"\",SISWA!E67)","v":"MUHAMMAD MAULANA ZIDANIL ILMI"},{"$f":"IF(SISWA!P66=0,\"\",SISWA!P66)","v":"Lumajang, 28 November 2007"},{"$f":"IF(SISWA!H67=0,\"\",SISWA!H67)","v":"ABDUL ROZAQ"},{"$f":"#REF!","v":{"$error":"#REF!"}},{"$f":"#REF!","v":{"$error":"#REF!"}},{"$error":"#REF!"},{"$f":"AA!K67","v":87},{"$f":"AA!N67","v":82.1},85.039999999999992,{"$f":"AH!K67","v":87.75},{"$f":"AH!N67","v":73.875},82.2,{"$f":"FQ!K67","v":85.75},{"$f":"FQ!N67","v":72.875},80.599999999999994,{"$f":"SKI!K67","v":82.25},{"$f":"SKI!N67","v":69.625},77.2,{"$f":"PKn!K67","v":86.25},{"$f":"PKn!N67","v":60},75.75,{"$f":"BID!K67","v":83.25},{"$f":"BID!N67","v":71.625},78.599999999999994,{"$f":"BA!K67","v":82.25},{"$f":"BA!N67","v":69.724999999999994},77.240000000000009,{"$f":"MTK!K67","v":78.5},{"$f":"MTK!L67","v":60},71.099999999999994,{"$f":"IPA!K67","v":83.75},{"$f":"IPA!N67","v":60},74.25,{"$f":"IPS!K67","v":81.75},{"$f":"IPS!L67","v":60},73.05,{"$f":"SBK!K67","v":83},{"$f":"SBK!N67","v":69.900000000000006},77.760000000000005,{"$f":"PJK!K67","v":84.5},{"$f":"PJK!N67","v":70.25},78.8,{"$f":"BD!K67","v":77},{"$f":"BD!N67","v":68.5},73.599999999999994,{"$f":"BIG!K67","v":77.5},{"$f":"BIG!N67","v":73.75},76,{"$f":"AWJ!N67","v":65},{"$f":"AWJ!P67","v":65},65,77.227857142857147,78.599999999999994,{"$f":"BID!L67","v":60},71.16,71.099999999999994,{"$f":"MTK!L67","v":60},66.66,74.25,{"$f":"IPA!L67","v":60},68.55,60,206.37,180,83.25,71.625,78.599999999999994,78.5,60,71.099999999999994,83.75,60,74.25,null,null,78.599999999999994,60,71.16,71.099999999999994,60,66.66,74.25,60,68.55,60,null,{"$f":"SISWA!S66","v":"110"},null,"060/Mi.13.05.162/PP.01.1/06/2020",null,60]
[{"$f":"SISWA!A68","v":61},{"$f":"IF(SISWA!B68=0,\"\",SISWA!B68)","v":4357},{"$f":"IF(SISWA!C68=0,\"\",SISWA!C68)","v":"0078608527"},{"$f":"IF(SISWA!D68=0,\"\",SISWA!D68)","v":"1-18-05-80-162-061-4"},{"$f":"IF(SISWA!E68=0,\"\",SISWA!E68)","v":"MUHAMMAD SUTRISNO ISMAIL"},{"$f":"IF(SISWA!P67=0,\"\",SISWA!P67)","v":"Lumajang, 15 Juli 2007"},{"$f":"IF(SISWA!H68=0,\"\",SISWA!H68)","v":"GATOT ISMAIL"},{"$f":"#REF!","v":{"$error":"#REF!"}},{"$f":"#REF!","v":{"$error":"#REF!"}},{"$error":"#REF!"},{"$f":"AA!K68","v":80},{"$f":"AA!N68","v":91.4},84.56,{"$f":"AH!K68","v":75.75},{"$f":"AH!N68","v":77.875},76.599999999999994,{"$f":"FQ!K68","v":77},{"$f":"FQ!N68","v":79.75},78.099999999999994,{"$f":"SKI!K68","v":79},{"$f":"SKI!N68","v":69},75,{"$f":"PKn!K68","v":75.5},{"$f":"PKn!N68","v":60},69.3,{"$f":"BID!K68","v":77},{"$f":"BID!N68","v":68.5},73.599999999999994,{"$f":"BA!K68","v":80.5},{"$f":"BA!N68","v":69.55},76.12,{"$f":"MTK!K68","v":77.25},{"$f":"MTK!L68","v":79.285714285714292},78.064285714285717,{"$f":"IPA!K68","v":75},{"$f":"IPA!N68","v":60},69,{"$f":"IPS!K68","v":74},{"$f":"IPS!L68","v":60},68.400000000000006,{"$f":"SBK!K68","v":76.75},{"$f":"SBK!N68","v":68.375},73.400000000000006,{"$f":"PJK!K68","v":82},{"$f":"PJK!N68","v":69},76.8,{"$f":"BD!K68","v":76.5},{"$f":"BD!N68","v":68.25},73.2,{"$f":"BIG!K68","v":75},{"$f":"BIG!N68","v":67.099999999999994},71.84,{"$f":"AWJ!N68","v":65},{"$f":"AWJ!P68","v":65},65,74.570306122448969,73.599999999999994,{"$f":"BID!L68","v":60},68.16,78.064285714285717,{"$f":"MTK!L68","v":79.285714285714292},78.55285714285715,69,{"$f":"IPA!L68","v":60},65.400000000000006,66.428571428571431,212.11285714285717,199.28571428571428,77,68.5,73.599999999999994,77.25,79.285714285714292,78.064285714285717,75,60,69,null,null,73.599999999999994,60,68.16,78.064285714285717,79.285714285714292,78.55285714285715,69,60,65.400000000000006,66.428571428571431,null,{"$f":"SISWA!S67","v":"111"},null,"061/Mi.13.05.162/PP.01.1/06/2020",null,61]
[{"$f":"SISWA!A69","v":62},{"$f":"IF(SISWA!B69=0,\"\",SISWA!B69)","v":4381},{"$f":"IF(SISWA!C69=0,\"\",SISWA!C69)","v":"0072209435"},{"$f":"IF(SISWA!D69=0,\"\",SISWA!D69)","v":"1-18-05-80-162-062-3"},{"$f":"IF(SISWA!E69=0,\"\",SISWA!E69)","v":"NOVITA ERNIAWAN"},{"$f":"IF(SISWA!P68=0,\"\",SISWA!P68)","v":"Lumajang, 10 November 2007"},{"$f":"IF(SISWA!H69=0,\"\",SISWA!H69)","v":"SABAR SETIAWAN"},{"$f":"#REF!","v":{"$error":"#REF!"}},{"$f":"#REF!","v":{"$error":"#REF!"}},{"$error":"#REF!"},{"$f":"AA!K69","v":84.5},{"$f":"AA!N69","v":72.95},79.88,{"$f":"AH!K69","v":86.75},{"$f":"AH!N69","v":73.375},81.400000000000006,{"$f":"FQ!K69","v":84.5},{"$f":"FQ!N69","v":72.25},79.599999999999994,{"$f":"SKI!K69","v":82.75},{"$f":"SKI!N69","v":70.075000000000003},77.680000000000007,{"$f":"PKn!K69","v":85},{"$f":"PKn!N69","v":60},75,{"$f":"BID!K69","v":81.5},{"$f":"BID!N69","v":70.75},77.2,{"$f":"BA!K69","v":82},{"$f":"BA!N69","v":69.900000000000006},77.16,{"$f":"MTK!K69","v":79.5},{"$f":"MTK!L69","v":60},71.699999999999989,{"$f":"IPA!K69","v":83},{"$f":"IPA!N69","v":60},73.8,{"$f":"IPS!K69","v":81.25},{"$f":"IPS!L69","v":60},72.75,{"$f":"SBK!K69","v":83.25},{"$f":"SBK!N69","v":70.125},78,{"$f":"PJK!K69","v":84.5},{"$f":"PJK!N69","v":70.25},78.8,{"$f":"BD!K69","v":77.5},{"$f":"BD!N69","v":68.75},74,{"$f":"BIG!K69","v":79.25},{"$f":"BIG!N69","v":73.625},77,{"$f":"AWJ!N69","v":65},{"$f":"AWJ!P69","v":65},65,76.712142857142837,77.2,{"$f":"BID!L69","v":60},70.319999999999993,71.699999999999989,{"$f":"MTK!L69","v":60},67.019999999999982,73.8,{"$f":"IPA!L69","v":60},68.28,60,205.61999999999998,180,81.5,70.75,77.2,79.5,60,71.699999999999989,83,60,73.8,null,null,77.2,60,70.319999999999993,71.699999999999989,60,67.019999999999982,73.8,60,68.28,60,null,{"$f":"SISWA!S68","v":"112"},null,"062/Mi.13.05.162/PP.01.1/06/2020",null,62]
[{"$f":"SISWA!A70","v":63},{"$f":"IF(SISWA!B70=0,\"\",SISWA!B70)","v":4383},{"$f":"IF(SISWA!C70=0,\"\",SISWA!C70)","v":"0077439834"},{"$f":"IF(SISWA!D70=0,\"\",SISWA!D70)","v":"1-18-05-80-162-063-2"},{"$f":"IF(SISWA!E70=0,\"\",SISWA!E70)","v":"PUTRI AULIA DWI AGUSTIN"},{"$f":"IF(SISWA!P69=0,\"\",SISWA!P69)","v":"Lumajang, 07 Agustus 2007"},{"$f":"IF(SISWA!H70=0,\"\",SISWA!H70)","v":"SAHURI"},{"$f":"#REF!","v":{"$error":"#REF!"}},{"$f":"#REF!","v":{"$error":"#REF!"}},{"$error":"#REF!"},{"$f":"AA!K70","v":85},{"$f":"AA!N70","v":76.900000000000006},81.760000000000005,{"$f":"AH!K70","v":89.75},{"$f":"AH!N70","v":74.875},83.800000000000011,{"$f":"FQ!K70","v":86.5},{"$f":"FQ!N70","v":73.25},81.2,{"$f":"SKI!K70","v":81.5},{"$f":"SKI!N70","v":69.55},76.72,{"$f":"PKn!K70","v":86.75},{"$f":"PKn!N70","v":60},76.05,{"$f":"BID!K70","v":84.5},{"$f":"BID!N70","v":72.25},79.599999999999994,{"$f":"BA!K70","v":85.5},{"$f":"BA!N70","v":71.25},79.8,{"$f":"MTK!K70","v":81.75},{"$f":"MTK!L70","v":60},73.05,{"$f":"IPA!K70","v":84.5},{"$f":"IPA!N70","v":60},74.699999999999989,{"$f":"IPS!K70","v":81.75},{"$f":"IPS!L70","v":60},73.05,{"$f":"SBK!K70","v":82},{"$f":"SBK!N70","v":70.099999999999994},77.239999999999995,{"$f":"PJK!K70","v":83.5},{"$f":"PJK!N70","v":69.75},78,{"$f":"BD!K70","v":78.75},{"$f":"BD!N70","v":69.375},75,{"$f":"BIG!K70","v":82.75},{"$f":"BIG!N70","v":75.375},79.8,{"$f":"AWJ!N70","v":65},{"$f":"AWJ!P70","v":65},65,77.84071428571427,79.599999999999994,{"$f":"BID!L70","v":60},71.759999999999991,73.05,{"$f":"MTK!L70","v":60},67.83,74.699999999999989,{"$f":"IPA!L70","v":60},68.819999999999993,60,208.40999999999997,180,84.5,72.25,79.599999999999994,81.75,60,73.05,84.5,60,74.699999999999989,null,null,79.599999999999994,60,71.759999999999991,73.05,60,67.83,74.699999999999989,60,68.819999999999993,60,null,{"$f":"SISWA!S69","v":"113"},null,"063/Mi.13.05.162/PP.01.1/06/2020",null,63]
[{"$f":"SISWA!A71","v":64},{"$f":"IF(SISWA!B71=0,\"\",SISWA!B71)","v":4385},{"$f":"IF(SISWA!C71=0,\"\",SISWA!C71)","v":"0073137310"},{"$f":"IF(SISWA!D71=0,\"\",SISWA!D71)","v":"1-18-05-80-162-064-9"},{"$f":"IF(SISWA!E71=0,\"\",SISWA!E71)","v":"STANY RAFIDAH RAHMANIA"},{"$f":"IF(SISWA!P70=0,\"\",SISWA!P70)","v":"Lumajang, 26 Juli 2007"},{"$f":"IF(SISWA!H71=0,\"\",SISWA!H71)","v":"SUNARIADI"},{"$f":"#REF!","v":{"$error":"#REF!"}},{"$f":"#REF!","v":{"$error":"#REF!"}},{"$error":"#REF!"},{"$f":"AA!K71","v":77.75},{"$f":"AA!N71","v":68.474999999999994},74.039999999999992,{"$f":"AH!K71","v":77},{"$f":"AH!N71","v":68.5},73.599999999999994,{"$f":"FQ!K71","v":81.75},{"$f":"FQ!N71","v":70.875},77.400000000000006,{"$f":"SKI!K71","v":78.5},{"$f":"SKI!N71","v":69.150000000000006},74.760000000000005,{"$f":"PKn!K71","v":77.5},{"$f":"PKn!N71","v":60},70.5,{"$f":"BID!K71","v":79.5},{"$f":"BID!N71","v":69.75},75.599999999999994,{"$f":"BA!K71","v":81},{"$f":"BA!N71","v":69.8},76.52000000000001,{"$f":"MTK!K71","v":77},{"$f":"MTK!L71","v":60},70.199999999999989,{"$f":"IPA!K71","v":79},{"$f":"IPA!N71","v":60},71.400000000000006,{"$f":"IPS!K71","v":75.75},{"$f":"IPS!L71","v":60},69.449999999999989,{"$f":"SBK!K71","v":78.5},{"$f":"SBK!N71","v":68.05},74.319999999999993,{"$f":"PJK!K71","v":83.5},{"$f":"PJK!N71","v":86.25},84.6,{"$f":"BD!K71","v":73.75},{"$f":"BD!N71","v":66.875},71,{"$f":"BIG!K71","v":76},{"$f":"BIG!N71","v":67},72.400000000000006,{"$f":"AWJ!N71","v":70},{"$f":"AWJ!P71","v":70},70,73.984999999999985,75.599999999999994,{"$f":"BID!L71","v":60},69.359999999999985,70.199999999999989,{"$f":"MTK!L71","v":60},66.11999999999999,71.400000000000006,{"$f":"IPA!L71","v":60},66.84,60,202.31999999999996,180,79.5,69.75,75.599999999999994,77,60,70.199999999999989,79,60,71.400000000000006,null,null,75.599999999999994,60,69.359999999999985,70.199999999999989,60,66.11999999999999,71.400000000000006,60,66.84,60,null,{"$f":"SISWA!S70","v":"114"},null,"064/Mi.13.05.162/PP.01.1/06/2020",null,64]
[{"$f":"SISWA!A72","v":65},{"$f":"IF(SISWA!B72=0,\"\",SISWA!B72)","v":4387},{"$f":"IF(SISWA!C72=0,\"\",SISWA!C72)","v":"0077336427"},{"$f":"IF(SISWA!D72=0,\"\",SISWA!D72)","v":"1-18-05-80-162-065-8"},{"$f":"IF(SISWA!E72=0,\"\",SISWA!E72)","v":"USWATUN KHASANAH"},{"$f":"IF(SISWA!P71=0,\"\",SISWA!P71)","v":"Lumajang, 17 Juli 2007"},{"$f":"IF(SISWA!H72=0,\"\",SISWA!H72)","v":"SATUKAN"},{"$f":"#REF!","v":{"$error":"#REF!"}},{"$f":"#REF!","v":{"$error":"#REF!"}},{"$error":"#REF!"},{"$f":"AA!K72","v":80.5},{"$f":"AA!N72","v":72.849999999999994},77.44,{"$f":"AH!K72","v":77.25},{"$f":"AH!N72","v":68.625},73.800000000000011,{"$f":"FQ!K72","v":82.25},{"$f":"FQ!N72","v":71.125},77.800000000000011,{"$f":"SKI!K72","v":76.5},{"$f":"SKI!N72","v":68.650000000000006},73.36,{"$f":"PKn!K72","v":81.25},{"$f":"PKn!N72","v":60},72.75,{"$f":"BID!K72","v":81.25},{"$f":"BID!N72","v":70.625},77,{"$f":"BA!K72","v":81.25},{"$f":"BA!N72","v":69.825000000000003},76.680000000000007,{"$f":"MTK!K72","v":76.5},{"$f":"MTK!L72","v":60},69.900000000000006,{"$f":"IPA!K72","v":78.75},{"$f":"IPA!N72","v":60},71.25,{"$f":"IPS!K72","v":75.75},{"$f":"IPS!L72","v":60},69.449999999999989,{"$f":"SBK!K72","v":79.25},{"$f":"SBK!N72","v":68.625},75,{"$f":"PJK!K72","v":83.25},{"$f":"PJK!N72","v":69.625},77.8,{"$f":"BD!K72","v":73.25},{"$f":"BD!N72","v":66.625},70.599999999999994,{"$f":"BIG!K72","v":76},{"$f":"BIG!N72","v":67},72.400000000000006,{"$f":"AWJ!N72","v":70},{"$f":"AWJ!P72","v":70},{"$f":"(BA73*60%)+(BB73*40%)","v":70},73.945000000000007,{"$f":"AB73","v":77},{"$f":"BID!L72","v":60},{"$f":"(BE73*60%)+(BF73*40%)","v":70.199999999999989},{"$f":"AH73","v":69.900000000000006},{"$f":"MTK!L72","v":60},{"$f":"(BH73*60%)+(BI73*40%)","v":65.94},{"$f":"AK73","v":71.25},{"$f":"IPA!L72","v":60},{"$f":"(BK73*60%)+(BL73*40%)","v":66.75},60,{"$f":"SUM(BG73,BJ73,BM73)","v":202.89},180,81.25,70.625,77,76.5,60,69.900000000000006,78.75,60,71.25,null,null,77,60,70.199999999999989,69.900000000000006,60,65.94,71.25,60,66.75,60,null,{"$f":"SISWA!S71","v":"115"},null,"065/Mi.13.05.162/PP.01.1/06/2020",null,65]
[{"$f":"SISWA!A73","v":66},{"$f":"IF(SISWA!B73=0,\"\",SISWA!B73)","v":4389},{"$f":"IF(SISWA!C73=0,\"\",SISWA!C73)","v":"0078407631"},{"$f":"IF(SISWA!D73=0,\"\",SISWA!D73)","v":"1-18-05-80-162-066-7"},{"$f":"IF(SISWA!E73=0,\"\",SISWA!E73)","v":"VIKROUL KHAMILA"},{"$f":"IF(SISWA!P72=0,\"\",SISWA!P72)","v":"Lumajang, 19 April 2007"},{"$f":"IF(SISWA!H73=0,\"\",SISWA!H73)","v":"AKHMADIYONO"},{"$f":"#REF!","v":{"$error":"#REF!"}},{"$f":"#REF!","v":{"$error":"#REF!"}},{"$f":"(H74*60%)+(I74*40%)","v":{"$error":"#REF!"}},{"$f":"AA!K73","v":84.75},{"$f":"AA!N73","v":70.575000000000003},{"$f":"(K74*60%)+(L74*40%)","v":79.080000000000013},{"$f":"AH!K73","v":83.75},{"$f":"AH!N73","v":71.875},{"$f":"(N74*60%)+(O74*40%)","v":79},{"$f":"FQ!K73","v":78.75},{"$f":"FQ!N73","v":69.375},{"$f":"(Q74*60%)+(R74*40%)","v":75},{"$f":"SKI!K73","v":82.5},{"$f":"SKI!N73","v":69.849999999999994},{"$f":"(T74*60%)+(U74*40%)","v":77.44},{"$f":"PKn!K73","v":84.25},{"$f":"PKn!N73","v":60},{"$f":"(W74*60%)+(X74*40%)","v":74.55},{"$f":"BID!K73","v":81.75},{"$f":"BID!N73","v":70.875},{"$f":"(Z74*60%)+(AA74*40%)","v":77.400000000000006},{"$f":"BA!K73","v":81.25},{"$f":"BA!N73","v":69.525000000000006},{"$f":"(AC74*60%)+(AD74*40%)","v":76.56},{"$f":"MTK!K73","v":80.25},{"$f":"MTK!L73","v":60},{"$f":"(AF74*60%)+(AG74*40%)","v":72.150000000000006},{"$f":"IPA!K73","v":81.75},{"$f":"IPA!N73","v":60},{"$f":"(AI74*60%)+(AJ74*40%)","v":73.05},{"$f":"IPS!K73","v":80.75},{"$f":"IPS!L73","v":60},{"$f":"(AL74*60%)+(AM74*40%)","v":72.449999999999989},{"$f":"SBK!K73","v":82.25},{"$f":"SBK!N73","v":69.625},{"$f":"(AO74*60%)+(AP74*40%)","v":77.2},{"$f":"PJK!K73","v":83.75},{"$f":"PJK!N73","v":69.875},{"$f":"(AR74*60%)+(AS74*40%)","v":78.2},{"$f":"BD!K73","v":76.5},{"$f":"BD!N73","v":68.25},{"$f":"(AU74*60%)+(AV74*40%)","v":73.2},{"$f":"BIG!K73","v":78.5},{"$f":"BIG!N73","v":67.25},{"$f":"(AX74*60%)+(AY74*40%)","v":74},{"$f":"AWJ!N73","v":65},{"$f":"AWJ!P73","v":65},65,{"$f":"AVERAGE(M74,P74,S74,V74,Y74,AB74,AE74,AH74,AK74,AN74,AQ74,AT74,AW74,AZ74)","v":75.662857142857135},77.400000000000006,{"$f":"BID!L73","v":60},70.44,72.150000000000006,{"$f":"MTK!L73","v":60},67.289999999999992,73.05,{"$f":"IPA!L73","v":60},67.83,{"$f":"AVERAGE(BF74,BI74,BL74)","v":60},205.56,{"$f":"SUM(BF74,BI74,BL74)","v":180},{"$f":"Z74","v":81.75},{"$f":"AA74","v":70.875},{"$f":"AB74","v":77.400000000000006},{"$f":"AF74","v":80.25},{"$f":"AG74","v":60},{"$f":"AH74","v":72.150000000000006},{"$f":"AI74","v":81.75},{"$f":"AJ74","v":60},{"$f":"AK74","v":73.05},null,null,{"$f":"BE74","v":77.400000000000006},{"$f":"BF74","v":60},{"$f":"BG74","v":70.44},{"$f":"BH74","v":72.150000000000006},{"$f":"BI74","v":60},{"$f":"BJ74","v":67.289999999999992},{"$f":"BK74","v":73.05},{"$f":"BL74","v":60},{"$f":"BM74","v":67.83},{"$f":"BN74","v":60},null,{"$f":"SISWA!S72","v":"116"},null,"066/Mi.13.05.162/PP.01.1/06/2020",null,66]
[{"$f":"SISWA!A74","v":67},{"$f":"IF(SISWA!B74=0,\"\",SISWA!B74)","v":""},{"$f":"IF(SISWA!C74=0,\"\",SISWA!C74)","v":""},{"$f":"IF(SISWA!D74=0,\"\",SISWA!D74)","v":""},{"$f":"IF(SISWA!E74=0,\"\",SISWA!E74)","v":""},{"$f":"IF(SISWA!P73=0,\"\",SISWA!P73)","v":", 00 Januari 1900"},{"$f":"IF(SISWA!H74=0,\"\",SISWA!H74)","v":""},{"$f":"#REF!","v":{"$error":"#REF!"}},{"$f":"#REF!","v":{"$error":"#REF!"}},{"$error":"#REF!"},{"$f":"AA!K74","v":{"$error":"#DIV/0!"}},{"$f":"AA!N74","v":{"$error":"#DIV/0!"}},{"$error":"#DIV/0!"},{"$f":"AH!K74","v":{"$error":"#DIV/0!"}},{"$f":"AH!N74","v":{"$error":"#DIV/0!"}},{"$error":"#DIV/0!"},{"$f":"FQ!K74","v":{"$error":"#DIV/0!"}},{"$f":"FQ!N74","v":{"$error":"#DIV/0!"}},{"$error":"#DIV/0!"},{"$f":"SKI!K74","v":{"$error":"#DIV/0!"}},{"$f":"SKI!N74","v":{"$error":"#DIV/0!"}},{"$error":"#DIV/0!"},{"$f":"PKn!K74","v":{"$error":"#DIV/0!"}},{"$f":"PKn!N74","v":0},{"$error":"#DIV/0!"},{"$f":"BID!K74","v":{"$error":"#DIV/0!"}},{"$f":"BID!N74","v":{"$error":"#DIV/0!"}},{"$error":"#DIV/0!"},{"$f":"BA!K74","v":{"$error":"#DIV/0!"}},{"$f":"BA!N74","v":{"$error":"#DIV/0!"}},{"$error":"#DIV/0!"},{"$f":"MTK!K74","v":{"$error":"#DIV/0!"}},{"$f":"MTK!L74","v":0},{"$error":"#DIV/0!"},{"$f":"IPA!K74","v":{"$error":"#DIV/0!"}},{"$f":"IPA!N74","v":{"$error":"#DIV/0!"}},{"$error":"#DIV/0!"},{"$f":"IPS!K74","v":{"$error":"#DIV/0!"}},{"$f":"IPS!L74","v":0},{"$error":"#DIV/0!"},{"$f":"SBK!K74","v":{"$error":"#DIV/0!"}},{"$f":"SBK!N74","v":{"$error":"#DIV/0!"}},{"$error":"#DIV/0!"},{"$f":"PJK!K74","v":{"$error":"#DIV/0!"}},{"$f":"PJK!N74","v":{"$error":"#DIV/0!"}},{"$error":"#DIV/0!"},{"$f":"BD!K74","v":{"$error":"#DIV/0!"}},{"$f":"BD!N74","v":{"$error":"#DIV/0!"}},{"$error":"#DIV/0!"},{"$f":"BIG!K74","v":{"$error":"#DIV/0!"}},{"$f":"BIG!N74","v":{"$error":"#DIV/0!"}},{"$error":"#DIV/0!"},{"$f":"AWJ!N74","v":{"$error":"#DIV/0!"}},{"$f":"AWJ!P74","v":{"$error":"#DIV/0!"}},{"$error":"#DIV/0!"},{"$error":"#DIV/0!"},{"$error":"#DIV/0!"},null,{"$error":"#DIV/0!"},{"$error":"#DIV/0!"},null,{"$error":"#DIV/0!"},{"$error":"#DIV/0!"},{"$f":"IPA!L74","v":0},{"$error":"#DIV/0!"},0,{"$error":"#DIV/0!"},0,{"$error":"#DIV/0!"},{"$error":"#DIV/0!"},{"$error":"#DIV/0!"},{"$error":"#DIV/0!"},0,{"$error":"#DIV/0!"},{"$error":"#DIV/0!"},{"$error":"#DIV/0!"},{"$error":"#DIV/0!"},null,null,{"$error":"#DIV/0!"},0,{"$error":"#DIV/0!"},{"$error":"#DIV/0!"},0,{"$error":"#DIV/0!"},{"$error":"#DIV/0!"},0,{"$error":"#DIV/0!"},0,null,{"$f":"SISWA!S73","v":"117"},null,"067/Mi.13.05.162/PP.01.1/06/2020",null,67]
[{"$f":"SISWA!A75","v":68},{"$f":"IF(SISWA!B75=0,\"\",SISWA!B75)","v":""},{"$f":"IF(SISWA!C75=0,\"\",SISWA!C75)","v":""},{"$f":"IF(SISWA!D75=0,\"\",SISWA!D75)","v":""},{"$f":"IF(SISWA!E75=0,\"\",SISWA!E75)","v":""},{"$f":"IF(SISWA!P74=0,\"\",SISWA!P74)","v":", 00 Januari 1900"},{"$f":"IF(SISWA!H75=0,\"\",SISWA!H75)","v":""},{"$f":"#REF!","v":{"$error":"#REF!"}},{"$f":"#REF!","v":{"$error":"#REF!"}},{"$error":"#REF!"},{"$f":"AA!K75","v":{"$error":"#DIV/0!"}},{"$f":"AA!N75","v":{"$error":"#DIV/0!"}},{"$error":"#DIV/0!"},{"$f":"AH!K75","v":{"$error":"#DIV/0!"}},{"$f":"AH!N75","v":{"$error":"#DIV/0!"}},{"$error":"#DIV/0!"},{"$f":"FQ!K75","v":{"$error":"#DIV/0!"}},{"$f":"FQ!N75","v":{"$error":"#DIV/0!"}},{"$error":"#DIV/0!"},{"$f":"SKI!K75","v":{"$error":"#DIV/0!"}},{"$f":"SKI!N75","v":{"$error":"#DIV/0!"}},{"$error":"#DIV/0!"},{"$f":"PKn!K75","v":{"$error":"#DIV/0!"}},{"$f":"PKn!N75","v":0},{"$error":"#DIV/0!"},{"$f":"BID!K75","v":{"$error":"#DIV/0!"}},{"$f":"BID!N75","v":{"$error":"#DIV/0!"}},{"$error":"#DIV/0!"},{"$f":"BA!K75","v":{"$error":"#DIV/0!"}},{"$f":"BA!N75","v":{"$error":"#DIV/0!"}},{"$error":"#DIV/0!"},{"$f":"MTK!K75","v":{"$error":"#DIV/0!"}},{"$f":"MTK!L75","v":0},{"$error":"#DIV/0!"},{"$f":"IPA!K75","v":{"$error":"#DIV/0!"}},{"$f":"IPA!N75","v":{"$error":"#DIV/0!"}},{"$error":"#DIV/0!"},{"$f":"IPS!K75","v":{"$error":"#DIV/0!"}},{"$f":"IPS!L75","v":0},{"$error":"#DIV/0!"},{"$f":"SBK!K75","v":{"$error":"#DIV/0!"}},{"$f":"SBK!N75","v":{"$error":"#DIV/0!"}},{"$error":"#DIV/0!"},{"$f":"PJK!K75","v":{"$error":"#DIV/0!"}},{"$f":"PJK!N75","v":{"$error":"#DIV/0!"}},{"$error":"#DIV/0!"},{"$f":"BD!K75","v":{"$error":"#DIV/0!"}},{"$f":"BD!N75","v":{"$error":"#DIV/0!"}},{"$error":"#DIV/0!"},{"$f":"BIG!K75","v":{"$error":"#DIV/0!"}},{"$f":"BIG!N75","v":{"$error":"#DIV/0!"}},{"$error":"#DIV/0!"},{"$f":"AWJ!N75","v":{"$error":"#DIV/0!"}},{"$f":"AWJ!P75","v":{"$error":"#DIV/0!"}},{"$error":"#DIV/0!"},{"$error":"#DIV/0!"},{"$error":"#DIV/0!"},null,{"$error":"#DIV/0!"},{"$error":"#DIV/0!"},null,{"$error":"#DIV/0!"},{"$error":"#DIV/0!"},{"$f":"IPA!L75","v":0},{"$error":"#DIV/0!"},0,{"$error":"#DIV/0!"},0,{"$error":"#DIV/0!"},{"$error":"#DIV/0!"},{"$error":"#DIV/0!"},{"$error":"#DIV/0!"},0,{"$error":"#DIV/0!"},{"$error":"#DIV/0!"},{"$error":"#DIV/0!"},{"$error":"#DIV/0!"},null,null,{"$error":"#DIV/0!"},0,{"$error":"#DIV/0!"},{"$error":"#DIV/0!"},0,{"$error":"#DIV/0!"},{"$error":"#DIV/0!"},0,{"$error":"#DIV/0!"},0,null,{"$f":"SISWA!S74","v":"118"},null,"068/Mi.13.05.162/PP.01.1/06/2020",null,68]
[{"$f":"SISWA!A76","v":69},{"$f":"IF(SISWA!B76=0,\"\",SISWA!B76)","v":""},{"$f":"IF(SISWA!C76=0,\"\",SISWA!C76)","v":""},{"$f":"IF(SISWA!D76=0,\"\",SISWA!D76)","v":""},{"$f":"IF(SISWA!E76=0,\"\",SISWA!E76)","v":""},{"$f":"IF(SISWA!P75=0,\"\",SISWA!P75)","v":", 00 Januari 1900"},{"$f":"IF(SISWA!H76=0,\"\",SISWA!H76)","v":""},{"$f":"#REF!","v":{"$error":"#REF!"}},{"$f":"#REF!","v":{"$error":"#REF!"}},{"$error":"#REF!"},{"$f":"AA!K76","v":{"$error":"#DIV/0!"}},{"$f":"AA!N76","v":{"$error":"#DIV/0!"}},{"$error":"#DIV/0!"},{"$f":"AH!K76","v":{"$error":"#DIV/0!"}},{"$f":"AH!N76","v":{"$error":"#DIV/0!"}},{"$error":"#DIV/0!"},{"$f":"FQ!K76","v":{"$error":"#DIV/0!"}},{"$f":"FQ!N76","v":{"$error":"#DIV/0!"}},{"$error":"#DIV/0!"},{"$f":"SKI!K76","v":{"$error":"#DIV/0!"}},{"$f":"SKI!N76","v":{"$error":"#DIV/0!"}},{"$error":"#DIV/0!"},{"$f":"PKn!K76","v":{"$error":"#DIV/0!"}},{"$f":"PKn!N76","v":0},{"$error":"#DIV/0!"},{"$f":"BID!K76","v":{"$error":"#DIV/0!"}},{"$f":"BID!N76","v":{"$error":"#DIV/0!"}},{"$error":"#DIV/0!"},{"$f":"BA!K76","v":{"$error":"#DIV/0!"}},{"$f":"BA!N76","v":{"$error":"#DIV/0!"}},{"$error":"#DIV/0!"},{"$f":"MTK!K76","v":{"$error":"#DIV/0!"}},{"$f":"MTK!L76","v":0},{"$error":"#DIV/0!"},{"$f":"IPA!K76","v":{"$error":"#DIV/0!"}},{"$f":"IPA!N76","v":{"$error":"#DIV/0!"}},{"$error":"#DIV/0!"},{"$f":"IPS!K76","v":{"$error":"#DIV/0!"}},{"$f":"IPS!L76","v":0},{"$error":"#DIV/0!"},{"$f":"SBK!K76","v":{"$error":"#DIV/0!"}},{"$f":"SBK!N76","v":{"$error":"#DIV/0!"}},{"$error":"#DIV/0!"},{"$f":"PJK!K76","v":{"$error":"#DIV/0!"}},{"$f":"PJK!N76","v":{"$error":"#DIV/0!"}},{"$error":"#DIV/0!"},{"$f":"BD!K76","v":{"$error":"#DIV/0!"}},{"$f":"BD!N76","v":{"$error":"#DIV/0!"}},{"$error":"#DIV/0!"},{"$f":"BIG!K76","v":{"$error":"#DIV/0!"}},{"$f":"BIG!N76","v":{"$error":"#DIV/0!"}},{"$error":"#DIV/0!"},{"$f":"AWJ!N76","v":{"$error":"#DIV/0!"}},{"$f":"AWJ!P76","v":{"$error":"#DIV/0!"}},{"$error":"#DIV/0!"},{"$error":"#DIV/0!"},{"$error":"#DIV/0!"},null,{"$error":"#DIV/0!"},{"$error":"#DIV/0!"},null,{"$error":"#DIV/0!"},{"$error":"#DIV/0!"},{"$f":"IPA!L76","v":0},{"$error":"#DIV/0!"},0,{"$error":"#DIV/0!"},0,{"$error":"#DIV/0!"},{"$error":"#DIV/0!"},{"$error":"#DIV/0!"},{"$error":"#DIV/0!"},0,{"$error":"#DIV/0!"},{"$error":"#DIV/0!"},{"$error":"#DIV/0!"},{"$error":"#DIV/0!"},null,null,{"$error":"#DIV/0!"},0,{"$error":"#DIV/0!"},{"$error":"#DIV/0!"},0,{"$error":"#DIV/0!"},{"$error":"#DIV/0!"},0,{"$error":"#DIV/0!"},0,null,{"$f":"SISWA!S75","v":"119"},null,"069/Mi.13.05.162/PP.01.1/06/2020",null,69]
[{"$f":"SISWA!A77","v":70},{"$f":"IF(SISWA!B77=0,\"\",SISWA!B77)","v":""},{"$f":"IF(SISWA!C77=0,\"\",SISWA!C77)","v":""},{"$f":"IF(SISWA!D77=0,\"\",SISWA!D77)","v":""},{"$f":"IF(SISWA!E77=0,\"\",SISWA!E77)","v":""},{"$f":"IF(SISWA!P76=0,\"\",SISWA!P76)","v":", 00 Januari 1900"},{"$f":"IF(SISWA!H77=0,\"\",SISWA!H77)","v":""},{"$f":"#REF!","v":{"$error":"#REF!"}},{"$f":"#REF!","v":{"$error":"#REF!"}},{"$error":"#REF!"},{"$f":"AA!K77","v":{"$error":"#DIV/0!"}},{"$f":"AA!N77","v":{"$error":"#DIV/0!"}},{"$error":"#DIV/0!"},{"$f":"AH!K77","v":{"$error":"#DIV/0!"}},{"$f":"AH!N77","v":{"$error":"#DIV/0!"}},{"$error":"#DIV/0!"},{"$f":"FQ!K77","v":{"$error":"#DIV/0!"}},{"$f":"FQ!N77","v":{"$error":"#DIV/0!"}},{"$error":"#DIV/0!"},{"$f":"SKI!K77","v":{"$error":"#DIV/0!"}},{"$f":"SKI!N77","v":{"$error":"#DIV/0!"}},{"$error":"#DIV/0!"},{"$f":"PKn!K77","v":{"$error":"#DIV/0!"}},{"$f":"PKn!N77","v":0},{"$error":"#DIV/0!"},{"$f":"BID!K77","v":{"$error":"#DIV/0!"}},{"$f":"BID!N77","v":{"$error":"#DIV/0!"}},{"$error":"#DIV/0!"},{"$f":"BA!K77","v":{"$error":"#DIV/0!"}},{"$f":"BA!N77","v":{"$error":"#DIV/0!"}},{"$error":"#DIV/0!"},{"$f":"MTK!K77","v":{"$error":"#DIV/0!"}},{"$f":"MTK!L77","v":0},{"$error":"#DIV/0!"},{"$f":"IPA!K77","v":{"$error":"#DIV/0!"}},{"$f":"IPA!N77","v":{"$error":"#DIV/0!"}},{"$error":"#DIV/0!"},{"$f":"IPS!K77","v":{"$error":"#DIV/0!"}},{"$f":"IPS!L77","v":0},{"$error":"#DIV/0!"},{"$f":"SBK!K77","v":{"$error":"#DIV/0!"}},{"$f":"SBK!N77","v":{"$error":"#DIV/0!"}},{"$error":"#DIV/0!"},{"$f":"PJK!K77","v":{"$error":"#DIV/0!"}},{"$f":"PJK!N77","v":{"$error":"#DIV/0!"}},{"$error":"#DIV/0!"},{"$f":"BD!K77","v":{"$error":"#DIV/0!"}},{"$f":"BD!N77","v":{"$error":"#DIV/0!"}},{"$error":"#DIV/0!"},{"$f":"BIG!K77","v":{"$error":"#DIV/0!"}},{"$f":"BIG!N77","v":{"$error":"#DIV/0!"}},{"$error":"#DIV/0!"},{"$f":"AWJ!N77","v":{"$error":"#DIV/0!"}},{"$f":"AWJ!P77","v":{"$error":"#DIV/0!"}},{"$error":"#DIV/0!"},{"$error":"#DIV/0!"},{"$error":"#DIV/0!"},null,{"$error":"#DIV/0!"},{"$error":"#DIV/0!"},null,{"$error":"#DIV/0!"},{"$error":"#DIV/0!"},{"$f":"IPA!L77","v":0},{"$error":"#DIV/0!"},0,{"$error":"#DIV/0!"},0,{"$error":"#DIV/0!"},{"$error":"#DIV/0!"},{"$error":"#DIV/0!"},{"$error":"#DIV/0!"},0,{"$error":"#DIV/0!"},{"$error":"#DIV/0!"},{"$error":"#DIV/0!"},{"$error":"#DIV/0!"},null,null,{"$error":"#DIV/0!"},0,{"$error":"#DIV/0!"},{"$error":"#DIV/0!"},0,{"$error":"#DIV/0!"},{"$error":"#DIV/0!"},0,{"$error":"#DIV/0!"},0,null,{"$f":"SISWA!S76","v":"120"},null,"070/Mi.13.05.162/PP.01.1/06/2020",null,70]
[{"$f":"SISWA!A78","v":71},{"$f":"IF(SISWA!B78=0,\"\",SISWA!B78)","v":""},{"$f":"IF(SISWA!C78=0,\"\",SISWA!C78)","v":""},{"$f":"IF(SISWA!D78=0,\"\",SISWA!D78)","v":""},{"$f":"IF(SISWA!E78=0,\"\",SISWA!E78)","v":""},{"$f":"IF(SISWA!P77=0,\"\",SISWA!P77)","v":", 00 Januari 1900"},{"$f":"IF(SISWA!H78=0,\"\",SISWA!H78)","v":""},{"$f":"#REF!","v":{"$error":"#REF!"}},{"$f":"#REF!","v":{"$error":"#REF!"}},{"$error":"#REF!"},{"$f":"AA!K78","v":{"$error":"#DIV/0!"}},{"$f":"AA!N78","v":{"$error":"#DIV/0!"}},{"$error":"#DIV/0!"},{"$f":"AH!K78","v":{"$error":"#DIV/0!"}},{"$f":"AH!N78","v":{"$error":"#DIV/0!"}},{"$error":"#DIV/0!"},{"$f":"FQ!K78","v":{"$error":"#DIV/0!"}},{"$f":"FQ!N78","v":{"$error":"#DIV/0!"}},{"$error":"#DIV/0!"},{"$f":"SKI!K78","v":{"$error":"#DIV/0!"}},{"$f":"SKI!N78","v":{"$error":"#DIV/0!"}},{"$error":"#DIV/0!"},{"$f":"PKn!K78","v":{"$error":"#DIV/0!"}},{"$f":"PKn!N78","v":0},{"$error":"#DIV/0!"},{"$f":"BID!K78","v":{"$error":"#DIV/0!"}},{"$f":"BID!N78","v":{"$error":"#DIV/0!"}},{"$error":"#DIV/0!"},{"$f":"BA!K78","v":{"$error":"#DIV/0!"}},{"$f":"BA!N78","v":{"$error":"#DIV/0!"}},{"$error":"#DIV/0!"},{"$f":"MTK!K78","v":{"$error":"#DIV/0!"}},{"$f":"MTK!L78","v":0},{"$error":"#DIV/0!"},{"$f":"IPA!K78","v":{"$error":"#DIV/0!"}},{"$f":"IPA!N78","v":{"$error":"#DIV/0!"}},{"$error":"#DIV/0!"},{"$f":"IPS!K78","v":{"$error":"#DIV/0!"}},{"$f":"IPS!L78","v":0},{"$error":"#DIV/0!"},{"$f":"SBK!K78","v":{"$error":"#DIV/0!"}},{"$f":"SBK!N78","v":{"$error":"#DIV/0!"}},{"$error":"#DIV/0!"},{"$f":"PJK!K78","v":{"$error":"#DIV/0!"}},{"$f":"PJK!N78","v":{"$error":"#DIV/0!"}},{"$error":"#DIV/0!"},{"$f":"BD!K78","v":{"$error":"#DIV/0!"}},{"$f":"BD!N78","v":{"$error":"#DIV/0!"}},{"$error":"#DIV/0!"},{"$f":"BIG!K78","v":{"$error":"#DIV/0!"}},{"$f":"BIG!N78","v":{"$error":"#DIV/0!"}},{"$error":"#DIV/0!"},{"$f":"AWJ!N78","v":{"$error":"#DIV/0!"}},{"$f":"AWJ!P78","v":{"$error":"#DIV/0!"}},{"$error":"#DIV/0!"},{"$error":"#DIV/0!"},{"$error":"#DIV/0!"},null,{"$error":"#DIV/0!"},{"$error":"#DIV/0!"},null,{"$error":"#DIV/0!"},{"$error":"#DIV/0!"},{"$f":"IPA!L78","v":0},{"$error":"#DIV/0!"},0,{"$error":"#DIV/0!"},0,{"$error":"#DIV/0!"},{"$error":"#DIV/0!"},{"$error":"#DIV/0!"},{"$error":"#DIV/0!"},0,{"$error":"#DIV/0!"},{"$error":"#DIV/0!"},{"$error":"#DIV/0!"},{"$error":"#DIV/0!"},null,null,{"$error":"#DIV/0!"},0,{"$error":"#DIV/0!"},{"$error":"#DIV/0!"},0,{"$error":"#DIV/0!"},{"$error":"#DIV/0!"},0,{"$error":"#DIV/0!"},0,null,{"$f":"SISWA!S77","v":"121"},null,"071/Mi.13.05.162/PP.01.1/06/2020",null,71]
[{"$f":"SISWA!A79","v":72},{"$f":"IF(SISWA!B79=0,\"\",SISWA!B79)","v":""},{"$f":"IF(SISWA!C79=0,\"\",SISWA!C79)","v":""},{"$f":"IF(SISWA!D79=0,\"\",SISWA!D79)","v":""},{"$f":"IF(SISWA!E79=0,\"\",SISWA!E79)","v":""},{"$f":"IF(SISWA!P78=0,\"\",SISWA!P78)","v":", 00 Januari 1900"},{"$f":"IF(SISWA!H79=0,\"\",SISWA!H79)","v":""},{"$f":"#REF!","v":{"$error":"#REF!"}},{"$f":"#REF!","v":{"$error":"#REF!"}},{"$error":"#REF!"},{"$f":"AA!K79","v":{"$error":"#DIV/0!"}},{"$f":"AA!N79","v":{"$error":"#DIV/0!"}},{"$error":"#DIV/0!"},{"$f":"AH!K79","v":{"$error":"#DIV/0!"}},{"$f":"AH!N79","v":{"$error":"#DIV/0!"}},{"$error":"#DIV/0!"},{"$f":"FQ!K79","v":{"$error":"#DIV/0!"}},{"$f":"FQ!N79","v":{"$error":"#DIV/0!"}},{"$error":"#DIV/0!"},{"$f":"SKI!K79","v":{"$error":"#DIV/0!"}},{"$f":"SKI!N79","v":{"$error":"#DIV/0!"}},{"$error":"#DIV/0!"},{"$f":"PKn!K79","v":{"$error":"#DIV/0!"}},{"$f":"PKn!N79","v":0},{"$error":"#DIV/0!"},{"$f":"BID!K79","v":{"$error":"#DIV/0!"}},{"$f":"BID!N79","v":{"$error":"#DIV/0!"}},{"$error":"#DIV/0!"},{"$f":"BA!K79","v":{"$error":"#DIV/0!"}},{"$f":"BA!N79","v":{"$error":"#DIV/0!"}},{"$error":"#DIV/0!"},{"$f":"MTK!K79","v":{"$error":"#DIV/0!"}},{"$f":"MTK!L79","v":0},{"$error":"#DIV/0!"},{"$f":"IPA!K79","v":{"$error":"#DIV/0!"}},{"$f":"IPA!N79","v":{"$error":"#DIV/0!"}},{"$error":"#DIV/0!"},{"$f":"IPS!K79","v":{"$error":"#DIV/0!"}},{"$f":"IPS!L79","v":0},{"$error":"#DIV/0!"},{"$f":"SBK!K79","v":{"$error":"#DIV/0!"}},{"$f":"SBK!N79","v":{"$error":"#DIV/0!"}},{"$error":"#DIV/0!"},{"$f":"PJK!K79","v":{"$error":"#DIV/0!"}},{"$f":"PJK!N79","v":{"$error":"#DIV/0!"}},{"$error":"#DIV/0!"},{"$f":"BD!K79","v":{"$error":"#DIV/0!"}},{"$f":"BD!N79","v":{"$error":"#DIV/0!"}},{"$error":"#DIV/0!"},{"$f":"BIG!K79","v":{"$error":"#DIV/0!"}},{"$f":"BIG!N79","v":{"$error":"#DIV/0!"}},{"$error":"#DIV/0!"},{"$f":"AWJ!N79","v":{"$error":"#DIV/0!"}},{"$f":"AWJ!P79","v":{"$error":"#DIV/0!"}},{"$error":"#DIV/0!"},{"$error":"#DIV/0!"},{"$error":"#DIV/0!"},null,{"$error":"#DIV/0!"},{"$error":"#DIV/0!"},null,{"$error":"#DIV/0!"},{"$error":"#DIV/0!"},{"$f":"IPA!L79","v":0},{"$error":"#DIV/0!"},0,{"$error":"#DIV/0!"},0,{"$error":"#DIV/0!"},{"$error":"#DIV/0!"},{"$error":"#DIV/0!"},{"$error":"#DIV/0!"},0,{"$error":"#DIV/0!"},{"$error":"#DIV/0!"},{"$error":"#DIV/0!"},{"$error":"#DIV/0!"},null,null,{"$error":"#DIV/0!"},0,{"$error":"#DIV/0!"},{"$error":"#DIV/0!"},0,{"$error":"#DIV/0!"},{"$error":"#DIV/0!"},0,{"$error":"#DIV/0!"},0,null,{"$f":"SISWA!S78","v":"122"},null,"072/Mi.13.05.162/PP.01.1/06/2020",null,72]
[{"$f":"SISWA!A80","v":73},{"$f":"IF(SISWA!B80=0,\"\",SISWA!B80)","v":""},{"$f":"IF(SISWA!C80=0,\"\",SISWA!C80)","v":""},{"$f":"IF(SISWA!D80=0,\"\",SISWA!D80)","v":""},{"$f":"IF(SISWA!E80=0,\"\",SISWA!E80)","v":""},{"$f":"IF(SISWA!P79=0,\"\",SISWA!P79)","v":", 00 Januari 1900"},{"$f":"IF(SISWA!H80=0,\"\",SISWA!H80)","v":""},{"$f":"#REF!","v":{"$error":"#REF!"}},{"$f":"#REF!","v":{"$error":"#REF!"}},{"$error":"#REF!"},{"$f":"AA!K80","v":{"$error":"#DIV/0!"}},{"$f":"AA!N80","v":{"$error":"#DIV/0!"}},{"$error":"#DIV/0!"},{"$f":"AH!K80","v":{"$error":"#DIV/0!"}},{"$f":"AH!N80","v":{"$error":"#DIV/0!"}},{"$error":"#DIV/0!"},{"$f":"FQ!K80","v":{"$error":"#DIV/0!"}},{"$f":"FQ!N80","v":{"$error":"#DIV/0!"}},{"$error":"#DIV/0!"},{"$f":"SKI!K80","v":{"$error":"#DIV/0!"}},{"$f":"SKI!N80","v":{"$error":"#DIV/0!"}},{"$error":"#DIV/0!"},{"$f":"PKn!K80","v":{"$error":"#DIV/0!"}},{"$f":"PKn!N80","v":0},{"$error":"#DIV/0!"},{"$f":"BID!K80","v":{"$error":"#DIV/0!"}},{"$f":"BID!N80","v":{"$error":"#DIV/0!"}},{"$error":"#DIV/0!"},{"$f":"BA!K80","v":{"$error":"#DIV/0!"}},{"$f":"BA!N80","v":{"$error":"#DIV/0!"}},{"$error":"#DIV/0!"},{"$f":"MTK!K80","v":{"$error":"#DIV/0!"}},{"$f":"MTK!L80","v":0},{"$error":"#DIV/0!"},{"$f":"IPA!K80","v":{"$error":"#DIV/0!"}},{"$f":"IPA!N80","v":{"$error":"#DIV/0!"}},{"$error":"#DIV/0!"},{"$f":"IPS!K80","v":{"$error":"#DIV/0!"}},{"$f":"IPS!L80","v":0},{"$error":"#DIV/0!"},{"$f":"SBK!K80","v":{"$error":"#DIV/0!"}},{"$f":"SBK!N80","v":{"$error":"#DIV/0!"}},{"$error":"#DIV/0!"},{"$f":"PJK!K80","v":{"$error":"#DIV/0!"}},{"$f":"PJK!N80","v":{"$error":"#DIV/0!"}},{"$error":"#DIV/0!"},{"$f":"BD!K80","v":{"$error":"#DIV/0!"}},{"$f":"BD!N80","v":{"$error":"#DIV/0!"}},{"$error":"#DIV/0!"},{"$f":"BIG!K80","v":{"$error":"#DIV/0!"}},{"$f":"BIG!N80","v":{"$error":"#DIV/0!"}},{"$error":"#DIV/0!"},{"$f":"AWJ!N80","v":{"$error":"#DIV/0!"}},{"$f":"AWJ!P80","v":{"$error":"#DIV/0!"}},{"$error":"#DIV/0!"},{"$error":"#DIV/0!"},{"$error":"#DIV/0!"},null,{"$error":"#DIV/0!"},{"$error":"#DIV/0!"},null,{"$error":"#DIV/0!"},{"$error":"#DIV/0!"},{"$f":"IPA!L80","v":0},{"$error":"#DIV/0!"},0,{"$error":"#DIV/0!"},0,{"$error":"#DIV/0!"},{"$error":"#DIV/0!"},{"$error":"#DIV/0!"},{"$error":"#DIV/0!"},0,{"$error":"#DIV/0!"},{"$error":"#DIV/0!"},{"$error":"#DIV/0!"},{"$error":"#DIV/0!"},null,null,{"$error":"#DIV/0!"},0,{"$error":"#DIV/0!"},{"$error":"#DIV/0!"},0,{"$error":"#DIV/0!"},{"$error":"#DIV/0!"},0,{"$error":"#DIV/0!"},0,null,{"$f":"SISWA!S79","v":"123"},null,"073/Mi.13.05.162/PP.01.1/06/2020",null,73]
[{"$f":"SISWA!A81","v":74},{"$f":"IF(SISWA!B81=0,\"\",SISWA!B81)","v":""},{"$f":"IF(SISWA!C81=0,\"\",SISWA!C81)","v":""},{"$f":"IF(SISWA!D81=0,\"\",SISWA!D81)","v":""},{"$f":"IF(SISWA!E81=0,\"\",SISWA!E81)","v":""},{"$f":"IF(SISWA!P80=0,\"\",SISWA!P80)","v":", 00 Januari 1900"},{"$f":"IF(SISWA!H81=0,\"\",SISWA!H81)","v":""},{"$f":"#REF!","v":{"$error":"#REF!"}},{"$f":"#REF!","v":{"$error":"#REF!"}},{"$error":"#REF!"},{"$f":"AA!K81","v":{"$error":"#DIV/0!"}},{"$f":"AA!N81","v":{"$error":"#DIV/0!"}},{"$error":"#DIV/0!"},{"$f":"AH!K81","v":{"$error":"#DIV/0!"}},{"$f":"AH!N81","v":{"$error":"#DIV/0!"}},{"$error":"#DIV/0!"},{"$f":"FQ!K81","v":{"$error":"#DIV/0!"}},{"$f":"FQ!N81","v":{"$error":"#DIV/0!"}},{"$error":"#DIV/0!"},{"$f":"SKI!K81","v":{"$error":"#DIV/0!"}},{"$f":"SKI!N81","v":{"$error":"#DIV/0!"}},{"$error":"#DIV/0!"},{"$f":"PKn!K81","v":{"$error":"#DIV/0!"}},{"$f":"PKn!N81","v":0},{"$error":"#DIV/0!"},{"$f":"BID!K81","v":{"$error":"#DIV/0!"}},{"$f":"BID!N81","v":{"$error":"#DIV/0!"}},{"$error":"#DIV/0!"},{"$f":"BA!K81","v":{"$error":"#DIV/0!"}},{"$f":"BA!N81","v":{"$error":"#DIV/0!"}},{"$error":"#DIV/0!"},{"$f":"MTK!K81","v":{"$error":"#DIV/0!"}},{"$f":"MTK!L81","v":0},{"$error":"#DIV/0!"},{"$f":"IPA!K81","v":{"$error":"#DIV/0!"}},{"$f":"IPA!N81","v":{"$error":"#DIV/0!"}},{"$error":"#DIV/0!"},{"$f":"IPS!K81","v":{"$error":"#DIV/0!"}},{"$f":"IPS!L81","v":0},{"$error":"#DIV/0!"},{"$f":"SBK!K81","v":{"$error":"#DIV/0!"}},{"$f":"SBK!N81","v":{"$error":"#DIV/0!"}},{"$error":"#DIV/0!"},{"$f":"PJK!K81","v":{"$error":"#DIV/0!"}},{"$f":"PJK!N81","v":{"$error":"#DIV/0!"}},{"$error":"#DIV/0!"},{"$f":"BD!K81","v":{"$error":"#DIV/0!"}},{"$f":"BD!N81","v":{"$error":"#DIV/0!"}},{"$error":"#DIV/0!"},{"$f":"BIG!K81","v":{"$error":"#DIV/0!"}},{"$f":"BIG!N81","v":{"$error":"#DIV/0!"}},{"$error":"#DIV/0!"},{"$f":"AWJ!N81","v":{"$error":"#DIV/0!"}},{"$f":"AWJ!P81","v":{"$error":"#DIV/0!"}},{"$error":"#DIV/0!"},{"$error":"#DIV/0!"},{"$error":"#DIV/0!"},null,{"$error":"#DIV/0!"},{"$error":"#DIV/0!"},null,{"$error":"#DIV/0!"},{"$error":"#DIV/0!"},{"$f":"IPA!L81","v":0},{"$error":"#DIV/0!"},0,{"$error":"#DIV/0!"},0,{"$error":"#DIV/0!"},{"$error":"#DIV/0!"},{"$error":"#DIV/0!"},{"$error":"#DIV/0!"},0,{"$error":"#DIV/0!"},{"$error":"#DIV/0!"},{"$error":"#DIV/0!"},{"$error":"#DIV/0!"},null,null,{"$error":"#DIV/0!"},0,{"$error":"#DIV/0!"},{"$error":"#DIV/0!"},0,{"$error":"#DIV/0!"},{"$error":"#DIV/0!"},0,{"$error":"#DIV/0!"},0,null,{"$f":"SISWA!S80","v":"124"},null,"074/Mi.13.05.162/PP.01.1/06/2020",null,74]
[{"$f":"SISWA!A82","v":75},{"$f":"IF(SISWA!B82=0,\"\",SISWA!B82)","v":""},{"$f":"IF(SISWA!C82=0,\"\",SISWA!C82)","v":""},{"$f":"IF(SISWA!D82=0,\"\",SISWA!D82)","v":""},{"$f":"IF(SISWA!E82=0,\"\",SISWA!E82)","v":""},{"$f":"IF(SISWA!P81=0,\"\",SISWA!P81)","v":", 00 Januari 1900"},{"$f":"IF(SISWA!H82=0,\"\",SISWA!H82)","v":""},{"$f":"#REF!","v":{"$error":"#REF!"}},{"$f":"#REF!","v":{"$error":"#REF!"}},{"$error":"#REF!"},{"$f":"AA!K82","v":{"$error":"#DIV/0!"}},{"$f":"AA!N82","v":{"$error":"#DIV/0!"}},{"$error":"#DIV/0!"},{"$f":"AH!K82","v":{"$error":"#DIV/0!"}},{"$f":"AH!N82","v":{"$error":"#DIV/0!"}},{"$error":"#DIV/0!"},{"$f":"FQ!K82","v":{"$error":"#DIV/0!"}},{"$f":"FQ!N82","v":{"$error":"#DIV/0!"}},{"$error":"#DIV/0!"},{"$f":"SKI!K82","v":{"$error":"#DIV/0!"}},{"$f":"SKI!N82","v":{"$error":"#DIV/0!"}},{"$error":"#DIV/0!"},{"$f":"PKn!K82","v":{"$error":"#DIV/0!"}},{"$f":"PKn!N82","v":0},{"$error":"#DIV/0!"},{"$f":"BID!K82","v":{"$error":"#DIV/0!"}},{"$f":"BID!N82","v":{"$error":"#DIV/0!"}},{"$error":"#DIV/0!"},{"$f":"BA!K82","v":{"$error":"#DIV/0!"}},{"$f":"BA!N82","v":{"$error":"#DIV/0!"}},{"$error":"#DIV/0!"},{"$f":"MTK!K82","v":{"$error":"#DIV/0!"}},{"$f":"MTK!L82","v":0},{"$error":"#DIV/0!"},{"$f":"IPA!K82","v":{"$error":"#DIV/0!"}},{"$f":"IPA!N82","v":{"$error":"#DIV/0!"}},{"$error":"#DIV/0!"},{"$f":"IPS!K82","v":{"$error":"#DIV/0!"}},{"$f":"IPS!L82","v":0},{"$error":"#DIV/0!"},{"$f":"SBK!K82","v":{"$error":"#DIV/0!"}},{"$f":"SBK!N82","v":{"$error":"#DIV/0!"}},{"$error":"#DIV/0!"},{"$f":"PJK!K82","v":{"$error":"#DIV/0!"}},{"$f":"PJK!N82","v":{"$error":"#DIV/0!"}},{"$error":"#DIV/0!"},{"$f":"BD!K82","v":{"$error":"#DIV/0!"}},{"$f":"BD!N82","v":{"$error":"#DIV/0!"}},{"$error":"#DIV/0!"},{"$f":"BIG!K82","v":{"$error":"#DIV/0!"}},{"$f":"BIG!N82","v":{"$error":"#DIV/0!"}},{"$error":"#DIV/0!"},{"$f":"AWJ!N82","v":{"$error":"#DIV/0!"}},{"$f":"AWJ!P82","v":{"$error":"#DIV/0!"}},{"$error":"#DIV/0!"},{"$error":"#DIV/0!"},{"$error":"#DIV/0!"},null,{"$error":"#DIV/0!"},{"$error":"#DIV/0!"},null,{"$error":"#DIV/0!"},{"$error":"#DIV/0!"},{"$f":"IPA!L82","v":0},{"$error":"#DIV/0!"},0,{"$error":"#DIV/0!"},0,{"$error":"#DIV/0!"},{"$error":"#DIV/0!"},{"$error":"#DIV/0!"},{"$error":"#DIV/0!"},0,{"$error":"#DIV/0!"},{"$error":"#DIV/0!"},{"$error":"#DIV/0!"},{"$error":"#DIV/0!"},null,null,{"$error":"#DIV/0!"},0,{"$error":"#DIV/0!"},{"$error":"#DIV/0!"},0,{"$error":"#DIV/0!"},{"$error":"#DIV/0!"},0,{"$error":"#DIV/0!"},0,null,{"$f":"SISWA!S81","v":"125"},null,{"$f":"\"0\"&A83&\"/Mi.13.05.162/PP.01.1/06/2020\"","v":"075/Mi.13.05.162/PP.01.1/06/2020"},null,75]
[{"$f":"SISWA!A83","v":76},{"$f":"IF(SISWA!B83=0,\"\",SISWA!B83)","v":""},{"$f":"IF(SISWA!C83=0,\"\",SISWA!C83)","v":""},{"$f":"IF(SISWA!D83=0,\"\",SISWA!D83)","v":""},{"$f":"IF(SISWA!E83=0,\"\",SISWA!E83)","v":""},{"$f":"IF(SISWA!P82=0,\"\",SISWA!P82)","v":", 00 Januari 1900"},{"$f":"IF(SISWA!H83=0,\"\",SISWA!H83)","v":""},{"$f":"#REF!","v":{"$error":"#REF!"}},{"$f":"#REF!","v":{"$error":"#REF!"}},{"$error":"#REF!"},{"$f":"AA!K83","v":{"$error":"#DIV/0!"}},{"$f":"AA!N83","v":{"$error":"#DIV/0!"}},{"$error":"#DIV/0!"},{"$f":"AH!K83","v":{"$error":"#DIV/0!"}},{"$f":"AH!N83","v":{"$error":"#DIV/0!"}},{"$error":"#DIV/0!"},{"$f":"FQ!K83","v":{"$error":"#DIV/0!"}},{"$f":"FQ!N83","v":{"$error":"#DIV/0!"}},{"$error":"#DIV/0!"},{"$f":"SKI!K83","v":{"$error":"#DIV/0!"}},{"$f":"SKI!N83","v":{"$error":"#DIV/0!"}},{"$error":"#DIV/0!"},{"$f":"PKn!K83","v":{"$error":"#DIV/0!"}},{"$f":"PKn!N83","v":0},{"$error":"#DIV/0!"},{"$f":"BID!K83","v":{"$error":"#DIV/0!"}},{"$f":"BID!N83","v":{"$error":"#DIV/0!"}},{"$error":"#DIV/0!"},{"$f":"BA!K83","v":{"$error":"#DIV/0!"}},{"$f":"BA!N83","v":{"$error":"#DIV/0!"}},{"$error":"#DIV/0!"},{"$f":"MTK!K83","v":{"$error":"#DIV/0!"}},{"$f":"MTK!L83","v":0},{"$error":"#DIV/0!"},{"$f":"IPA!K83","v":{"$error":"#DIV/0!"}},{"$f":"IPA!N83","v":{"$error":"#DIV/0!"}},{"$error":"#DIV/0!"},{"$f":"IPS!K83","v":{"$error":"#DIV/0!"}},{"$f":"IPS!L83","v":0},{"$error":"#DIV/0!"},{"$f":"SBK!K83","v":{"$error":"#DIV/0!"}},{"$f":"SBK!N83","v":{"$error":"#DIV/0!"}},{"$error":"#DIV/0!"},{"$f":"PJK!K83","v":{"$error":"#DIV/0!"}},{"$f":"PJK!N83","v":{"$error":"#DIV/0!"}},{"$error":"#DIV/0!"},{"$f":"BD!K83","v":{"$error":"#DIV/0!"}},{"$f":"BD!N83","v":{"$error":"#DIV/0!"}},{"$error":"#DIV/0!"},{"$f":"BIG!K83","v":{"$error":"#DIV/0!"}},{"$f":"BIG!N83","v":{"$error":"#DIV/0!"}},{"$error":"#DIV/0!"},{"$f":"AWJ!N83","v":{"$error":"#DIV/0!"}},{"$f":"AWJ!P83","v":{"$error":"#DIV/0!"}},{"$error":"#DIV/0!"},{"$error":"#DIV/0!"},{"$error":"#DIV/0!"},null,{"$error":"#DIV/0!"},{"$error":"#DIV/0!"},null,{"$error":"#DIV/0!"},{"$error":"#DIV/0!"},{"$f":"IPA!L83","v":0},{"$error":"#DIV/0!"},0,{"$error":"#DIV/0!"},0,{"$error":"#DIV/0!"},{"$error":"#DIV/0!"},{"$error":"#DIV/0!"},{"$error":"#DIV/0!"},0,{"$error":"#DIV/0!"},{"$error":"#DIV/0!"},{"$error":"#DIV/0!"},{"$error":"#DIV/0!"},null,null,{"$error":"#DIV/0!"},0,{"$error":"#DIV/0!"},{"$error":"#DIV/0!"},0,{"$error":"#DIV/0!"},{"$error":"#DIV/0!"},0,{"$error":"#DIV/0!"},0,null,{"$f":"SISWA!S82","v":"126"},null,"076/Mi.13.05.162/PP.01.1/06/2020",null,76]
[{"$f":"SISWA!A84","v":77},{"$f":"IF(SISWA!B84=0,\"\",SISWA!B84)","v":""},{"$f":"IF(SISWA!C84=0,\"\",SISWA!C84)","v":""},{"$f":"IF(SISWA!D84=0,\"\",SISWA!D84)","v":""},{"$f":"IF(SISWA!E84=0,\"\",SISWA!E84)","v":""},{"$f":"IF(SISWA!P83=0,\"\",SISWA!P83)","v":", 00 Januari 1900"},{"$f":"IF(SISWA!H84=0,\"\",SISWA!H84)","v":""},{"$f":"#REF!","v":{"$error":"#REF!"}},{"$f":"#REF!","v":{"$error":"#REF!"}},{"$error":"#REF!"},{"$f":"AA!K84","v":{"$error":"#DIV/0!"}},{"$f":"AA!N84","v":{"$error":"#DIV/0!"}},{"$error":"#DIV/0!"},{"$f":"AH!K84","v":{"$error":"#DIV/0!"}},{"$f":"AH!N84","v":{"$error":"#DIV/0!"}},{"$error":"#DIV/0!"},{"$f":"FQ!K84","v":{"$error":"#DIV/0!"}},{"$f":"FQ!N84","v":{"$error":"#DIV/0!"}},{"$error":"#DIV/0!"},{"$f":"SKI!K84","v":{"$error":"#DIV/0!"}},{"$f":"SKI!N84","v":{"$error":"#DIV/0!"}},{"$error":"#DIV/0!"},{"$f":"PKn!K84","v":{"$error":"#DIV/0!"}},{"$f":"PKn!N84","v":0},{"$error":"#DIV/0!"},{"$f":"BID!K84","v":{"$error":"#DIV/0!"}},{"$f":"BID!N84","v":{"$error":"#DIV/0!"}},{"$error":"#DIV/0!"},{"$f":"BA!K84","v":{"$error":"#DIV/0!"}},{"$f":"BA!N84","v":{"$error":"#DIV/0!"}},{"$error":"#DIV/0!"},{"$f":"MTK!K84","v":{"$error":"#DIV/0!"}},{"$f":"MTK!L84","v":0},{"$error":"#DIV/0!"},{"$f":"IPA!K84","v":{"$error":"#DIV/0!"}},{"$f":"IPA!N84","v":{"$error":"#DIV/0!"}},{"$error":"#DIV/0!"},{"$f":"IPS!K84","v":{"$error":"#DIV/0!"}},{"$f":"IPS!L84","v":0},{"$error":"#DIV/0!"},{"$f":"SBK!K84","v":{"$error":"#DIV/0!"}},{"$f":"SBK!N84","v":{"$error":"#DIV/0!"}},{"$error":"#DIV/0!"},{"$f":"PJK!K84","v":{"$error":"#DIV/0!"}},{"$f":"PJK!N84","v":{"$error":"#DIV/0!"}},{"$error":"#DIV/0!"},{"$f":"BD!K84","v":{"$error":"#DIV/0!"}},{"$f":"BD!N84","v":{"$error":"#DIV/0!"}},{"$error":"#DIV/0!"},{"$f":"BIG!K84","v":{"$error":"#DIV/0!"}},{"$f":"BIG!N84","v":{"$error":"#DIV/0!"}},{"$error":"#DIV/0!"},{"$f":"AWJ!N84","v":{"$error":"#DIV/0!"}},{"$f":"AWJ!P84","v":{"$error":"#DIV/0!"}},{"$error":"#DIV/0!"},{"$error":"#DIV/0!"},{"$error":"#DIV/0!"},null,{"$error":"#DIV/0!"},{"$error":"#DIV/0!"},null,{"$error":"#DIV/0!"},{"$error":"#DIV/0!"},{"$f":"IPA!L84","v":0},{"$error":"#DIV/0!"},0,{"$error":"#DIV/0!"},0,{"$error":"#DIV/0!"},{"$error":"#DIV/0!"},{"$error":"#DIV/0!"},{"$error":"#DIV/0!"},0,{"$error":"#DIV/0!"},{"$error":"#DIV/0!"},{"$error":"#DIV/0!"},{"$error":"#DIV/0!"},null,null,{"$error":"#DIV/0!"},0,{"$error":"#DIV/0!"},{"$error":"#DIV/0!"},0,{"$error":"#DIV/0!"},{"$error":"#DIV/0!"},0,{"$error":"#DIV/0!"},0,null,{"$f":"SISWA!S83","v":"127"},null,"077/Mi.13.05.162/PP.01.1/06/2020",null,77]
[{"$f":"SISWA!A85","v":78},{"$f":"IF(SISWA!B85=0,\"\",SISWA!B85)","v":""},{"$f":"IF(SISWA!C85=0,\"\",SISWA!C85)","v":""},{"$f":"IF(SISWA!D85=0,\"\",SISWA!D85)","v":""},{"$f":"IF(SISWA!E85=0,\"\",SISWA!E85)","v":""},{"$f":"IF(SISWA!P84=0,\"\",SISWA!P84)","v":", 00 Januari 1900"},{"$f":"IF(SISWA!H85=0,\"\",SISWA!H85)","v":""},{"$f":"#REF!","v":{"$error":"#REF!"}},{"$f":"#REF!","v":{"$error":"#REF!"}},{"$error":"#REF!"},{"$f":"AA!K85","v":{"$error":"#DIV/0!"}},{"$f":"AA!N85","v":{"$error":"#DIV/0!"}},{"$error":"#DIV/0!"},{"$f":"AH!K85","v":{"$error":"#DIV/0!"}},{"$f":"AH!N85","v":{"$error":"#DIV/0!"}},{"$error":"#DIV/0!"},{"$f":"FQ!K85","v":{"$error":"#DIV/0!"}},{"$f":"FQ!N85","v":{"$error":"#DIV/0!"}},{"$error":"#DIV/0!"},{"$f":"SKI!K85","v":{"$error":"#DIV/0!"}},{"$f":"SKI!N85","v":{"$error":"#DIV/0!"}},{"$error":"#DIV/0!"},{"$f":"PKn!K85","v":{"$error":"#DIV/0!"}},{"$f":"PKn!N85","v":0},{"$error":"#DIV/0!"},{"$f":"BID!K85","v":{"$error":"#DIV/0!"}},{"$f":"BID!N85","v":{"$error":"#DIV/0!"}},{"$error":"#DIV/0!"},{"$f":"BA!K85","v":{"$error":"#DIV/0!"}},{"$f":"BA!N85","v":{"$error":"#DIV/0!"}},{"$error":"#DIV/0!"},{"$f":"MTK!K85","v":{"$error":"#DIV/0!"}},{"$f":"MTK!L85","v":0},{"$error":"#DIV/0!"},{"$f":"IPA!K85","v":{"$error":"#DIV/0!"}},{"$f":"IPA!N85","v":{"$error":"#DIV/0!"}},{"$error":"#DIV/0!"},{"$f":"IPS!K85","v":{"$error":"#DIV/0!"}},{"$f":"IPS!L85","v":0},{"$error":"#DIV/0!"},{"$f":"SBK!K85","v":{"$error":"#DIV/0!"}},{"$f":"SBK!N85","v":{"$error":"#DIV/0!"}},{"$error":"#DIV/0!"},{"$f":"PJK!K85","v":{"$error":"#DIV/0!"}},{"$f":"PJK!N85","v":{"$error":"#DIV/0!"}},{"$error":"#DIV/0!"},{"$f":"BD!K85","v":{"$error":"#DIV/0!"}},{"$f":"BD!N85","v":{"$error":"#DIV/0!"}},{"$error":"#DIV/0!"},{"$f":"BIG!K85","v":{"$error":"#DIV/0!"}},{"$f":"BIG!N85","v":{"$error":"#DIV/0!"}},{"$error":"#DIV/0!"},{"$f":"AWJ!N85","v":{"$error":"#DIV/0!"}},{"$f":"AWJ!P85","v":{"$error":"#DIV/0!"}},{"$error":"#DIV/0!"},{"$error":"#DIV/0!"},{"$error":"#DIV/0!"},null,{"$error":"#DIV/0!"},{"$error":"#DIV/0!"},null,{"$error":"#DIV/0!"},{"$error":"#DIV/0!"},{"$f":"IPA!L85","v":0},{"$error":"#DIV/0!"},0,{"$error":"#DIV/0!"},0,{"$error":"#DIV/0!"},{"$error":"#DIV/0!"},{"$error":"#DIV/0!"},{"$error":"#DIV/0!"},0,{"$error":"#DIV/0!"},{"$error":"#DIV/0!"},{"$error":"#DIV/0!"},{"$error":"#DIV/0!"},null,null,{"$error":"#DIV/0!"},0,{"$error":"#DIV/0!"},{"$error":"#DIV/0!"},0,{"$error":"#DIV/0!"},{"$error":"#DIV/0!"},0,{"$error":"#DIV/0!"},0,null,{"$f":"SISWA!S84","v":"128"},null,"078/Mi.13.05.162/PP.01.1/06/2020",null,78]
[{"$f":"SISWA!A86","v":79},{"$f":"IF(SISWA!B86=0,\"\",SISWA!B86)","v":""},{"$f":"IF(SISWA!C86=0,\"\",SISWA!C86)","v":""},{"$f":"IF(SISWA!D86=0,\"\",SISWA!D86)","v":""},{"$f":"IF(SISWA!E86=0,\"\",SISWA!E86)","v":""},{"$f":"IF(SISWA!P85=0,\"\",SISWA!P85)","v":", 00 Januari 1900"},{"$f":"IF(SISWA!H86=0,\"\",SISWA!H86)","v":""},{"$f":"#REF!","v":{"$error":"#REF!"}},{"$f":"#REF!","v":{"$error":"#REF!"}},{"$error":"#REF!"},{"$f":"AA!K86","v":{"$error":"#DIV/0!"}},{"$f":"AA!N86","v":{"$error":"#DIV/0!"}},{"$error":"#DIV/0!"},{"$f":"AH!K86","v":{"$error":"#DIV/0!"}},{"$f":"AH!N86","v":{"$error":"#DIV/0!"}},{"$error":"#DIV/0!"},{"$f":"FQ!K86","v":{"$error":"#DIV/0!"}},{"$f":"FQ!N86","v":{"$error":"#DIV/0!"}},{"$error":"#DIV/0!"},{"$f":"SKI!K86","v":{"$error":"#DIV/0!"}},{"$f":"SKI!N86","v":{"$error":"#DIV/0!"}},{"$error":"#DIV/0!"},{"$f":"PKn!K86","v":{"$error":"#DIV/0!"}},{"$f":"PKn!N86","v":0},{"$error":"#DIV/0!"},{"$f":"BID!K86","v":{"$error":"#DIV/0!"}},{"$f":"BID!N86","v":{"$error":"#DIV/0!"}},{"$error":"#DIV/0!"},{"$f":"BA!K86","v":{"$error":"#DIV/0!"}},{"$f":"BA!N86","v":{"$error":"#DIV/0!"}},{"$error":"#DIV/0!"},{"$f":"MTK!K86","v":{"$error":"#DIV/0!"}},{"$f":"MTK!L86","v":0},{"$error":"#DIV/0!"},{"$f":"IPA!K86","v":{"$error":"#DIV/0!"}},{"$f":"IPA!N86","v":{"$error":"#DIV/0!"}},{"$error":"#DIV/0!"},{"$f":"IPS!K86","v":{"$error":"#DIV/0!"}},{"$f":"IPS!L86","v":0},{"$error":"#DIV/0!"},{"$f":"SBK!K86","v":{"$error":"#DIV/0!"}},{"$f":"SBK!N86","v":{"$error":"#DIV/0!"}},{"$error":"#DIV/0!"},{"$f":"PJK!K86","v":{"$error":"#DIV/0!"}},{"$f":"PJK!N86","v":{"$error":"#DIV/0!"}},{"$error":"#DIV/0!"},{"$f":"BD!K86","v":{"$error":"#DIV/0!"}},{"$f":"BD!N86","v":{"$error":"#DIV/0!"}},{"$error":"#DIV/0!"},{"$f":"BIG!K86","v":{"$error":"#DIV/0!"}},{"$f":"BIG!N86","v":{"$error":"#DIV/0!"}},{"$error":"#DIV/0!"},{"$f":"AWJ!N86","v":{"$error":"#DIV/0!"}},{"$f":"AWJ!P86","v":{"$error":"#DIV/0!"}},{"$error":"#DIV/0!"},{"$error":"#DIV/0!"},{"$error":"#DIV/0!"},null,{"$error":"#DIV/0!"},{"$error":"#DIV/0!"},null,{"$error":"#DIV/0!"},{"$error":"#DIV/0!"},{"$f":"IPA!L86","v":0},{"$error":"#DIV/0!"},0,{"$error":"#DIV/0!"},0,{"$error":"#DIV/0!"},{"$error":"#DIV/0!"},{"$error":"#DIV/0!"},{"$error":"#DIV/0!"},0,{"$error":"#DIV/0!"},{"$error":"#DIV/0!"},{"$error":"#DIV/0!"},{"$error":"#DIV/0!"},null,null,{"$error":"#DIV/0!"},0,{"$error":"#DIV/0!"},{"$error":"#DIV/0!"},0,{"$error":"#DIV/0!"},{"$error":"#DIV/0!"},0,{"$error":"#DIV/0!"},0,null,{"$f":"SISWA!S85","v":"129"},null,"079/Mi.13.05.162/PP.01.1/06/2020",null,79]
[{"$f":"SISWA!A87","v":80},{"$f":"IF(SISWA!B87=0,\"\",SISWA!B87)","v":""},{"$f":"IF(SISWA!C87=0,\"\",SISWA!C87)","v":""},{"$f":"IF(SISWA!D87=0,\"\",SISWA!D87)","v":""},{"$f":"IF(SISWA!E87=0,\"\",SISWA!E87)","v":""},{"$f":"IF(SISWA!P86=0,\"\",SISWA!P86)","v":", 00 Januari 1900"},{"$f":"IF(SISWA!H87=0,\"\",SISWA!H87)","v":""},{"$f":"#REF!","v":{"$error":"#REF!"}},{"$f":"#REF!","v":{"$error":"#REF!"}},{"$error":"#REF!"},{"$f":"AA!K87","v":{"$error":"#DIV/0!"}},{"$f":"AA!N87","v":{"$error":"#DIV/0!"}},{"$error":"#DIV/0!"},{"$f":"AH!K87","v":{"$error":"#DIV/0!"}},{"$f":"AH!N87","v":{"$error":"#DIV/0!"}},{"$error":"#DIV/0!"},{"$f":"FQ!K87","v":{"$error":"#DIV/0!"}},{"$f":"FQ!N87","v":{"$error":"#DIV/0!"}},{"$error":"#DIV/0!"},{"$f":"SKI!K87","v":{"$error":"#DIV/0!"}},{"$f":"SKI!N87","v":{"$error":"#DIV/0!"}},{"$error":"#DIV/0!"},{"$f":"PKn!K87","v":{"$error":"#DIV/0!"}},{"$f":"PKn!N87","v":0},{"$error":"#DIV/0!"},{"$f":"BID!K87","v":{"$error":"#DIV/0!"}},{"$f":"BID!N87","v":{"$error":"#DIV/0!"}},{"$error":"#DIV/0!"},{"$f":"BA!K87","v":{"$error":"#DIV/0!"}},{"$f":"BA!N87","v":{"$error":"#DIV/0!"}},{"$error":"#DIV/0!"},{"$f":"MTK!K87","v":{"$error":"#DIV/0!"}},{"$f":"MTK!L87","v":0},{"$error":"#DIV/0!"},{"$f":"IPA!K87","v":{"$error":"#DIV/0!"}},{"$f":"IPA!N87","v":{"$error":"#DIV/0!"}},{"$error":"#DIV/0!"},{"$f":"IPS!K87","v":{"$error":"#DIV/0!"}},{"$f":"IPS!L87","v":0},{"$error":"#DIV/0!"},{"$f":"SBK!K87","v":{"$error":"#DIV/0!"}},{"$f":"SBK!N87","v":{"$error":"#DIV/0!"}},{"$error":"#DIV/0!"},{"$f":"PJK!K87","v":{"$error":"#DIV/0!"}},{"$f":"PJK!N87","v":{"$error":"#DIV/0!"}},{"$error":"#DIV/0!"},{"$f":"BD!K87","v":{"$error":"#DIV/0!"}},{"$f":"BD!N87","v":{"$error":"#DIV/0!"}},{"$error":"#DIV/0!"},{"$f":"BIG!K87","v":{"$error":"#DIV/0!"}},{"$f":"BIG!N87","v":{"$error":"#DIV/0!"}},{"$error":"#DIV/0!"},{"$f":"AWJ!N87","v":{"$error":"#DIV/0!"}},{"$f":"AWJ!P87","v":{"$error":"#DIV/0!"}},{"$error":"#DIV/0!"},{"$error":"#DIV/0!"},{"$error":"#DIV/0!"},null,{"$error":"#DIV/0!"},{"$error":"#DIV/0!"},null,{"$error":"#DIV/0!"},{"$error":"#DIV/0!"},{"$f":"IPA!L87","v":0},{"$error":"#DIV/0!"},0,{"$error":"#DIV/0!"},0,{"$error":"#DIV/0!"},{"$error":"#DIV/0!"},{"$error":"#DIV/0!"},{"$error":"#DIV/0!"},0,{"$error":"#DIV/0!"},{"$error":"#DIV/0!"},{"$error":"#DIV/0!"},{"$error":"#DIV/0!"},null,null,{"$error":"#DIV/0!"},0,{"$error":"#DIV/0!"},{"$error":"#DIV/0!"},0,{"$error":"#DIV/0!"},{"$error":"#DIV/0!"},0,{"$error":"#DIV/0!"},0,null,{"$f":"SISWA!S86","v":"130"},null,"080/Mi.13.05.162/PP.01.1/06/2020",null,80]
[{"$f":"SISWA!A88","v":81},{"$f":"IF(SISWA!B88=0,\"\",SISWA!B88)","v":""},{"$f":"IF(SISWA!C88=0,\"\",SISWA!C88)","v":""},{"$f":"IF(SISWA!D88=0,\"\",SISWA!D88)","v":""},{"$f":"IF(SISWA!E88=0,\"\",SISWA!E88)","v":""},{"$f":"IF(SISWA!P87=0,\"\",SISWA!P87)","v":", 00 Januari 1900"},{"$f":"IF(SISWA!H88=0,\"\",SISWA!H88)","v":""},{"$f":"#REF!","v":{"$error":"#REF!"}},{"$f":"#REF!","v":{"$error":"#REF!"}},{"$error":"#REF!"},{"$f":"AA!K88","v":{"$error":"#DIV/0!"}},{"$f":"AA!N88","v":{"$error":"#DIV/0!"}},{"$error":"#DIV/0!"},{"$f":"AH!K88","v":{"$error":"#DIV/0!"}},{"$f":"AH!N88","v":{"$error":"#DIV/0!"}},{"$error":"#DIV/0!"},{"$f":"FQ!K88","v":{"$error":"#DIV/0!"}},{"$f":"FQ!N88","v":{"$error":"#DIV/0!"}},{"$error":"#DIV/0!"},{"$f":"SKI!K88","v":{"$error":"#DIV/0!"}},{"$f":"SKI!N88","v":{"$error":"#DIV/0!"}},{"$error":"#DIV/0!"},{"$f":"PKn!K88","v":{"$error":"#DIV/0!"}},{"$f":"PKn!N88","v":0},{"$error":"#DIV/0!"},{"$f":"BID!K88","v":{"$error":"#DIV/0!"}},{"$f":"BID!N88","v":{"$error":"#DIV/0!"}},{"$error":"#DIV/0!"},{"$f":"BA!K88","v":{"$error":"#DIV/0!"}},{"$f":"BA!N88","v":{"$error":"#DIV/0!"}},{"$error":"#DIV/0!"},{"$f":"MTK!K88","v":{"$error":"#DIV/0!"}},{"$f":"MTK!L88","v":0},{"$error":"#DIV/0!"},{"$f":"IPA!K88","v":{"$error":"#DIV/0!"}},{"$f":"IPA!N88","v":{"$error":"#DIV/0!"}},{"$error":"#DIV/0!"},{"$f":"IPS!K88","v":{"$error":"#DIV/0!"}},{"$f":"IPS!L88","v":0},{"$error":"#DIV/0!"},{"$f":"SBK!K88","v":{"$error":"#DIV/0!"}},{"$f":"SBK!N88","v":{"$error":"#DIV/0!"}},{"$error":"#DIV/0!"},{"$f":"PJK!K88","v":{"$error":"#DIV/0!"}},{"$f":"PJK!N88","v":{"$error":"#DIV/0!"}},{"$error":"#DIV/0!"},{"$f":"BD!K88","v":{"$error":"#DIV/0!"}},{"$f":"BD!N88","v":{"$error":"#DIV/0!"}},{"$error":"#DIV/0!"},{"$f":"BIG!K88","v":{"$error":"#DIV/0!"}},{"$f":"BIG!N88","v":{"$error":"#DIV/0!"}},{"$error":"#DIV/0!"},{"$f":"AWJ!N88","v":{"$error":"#DIV/0!"}},{"$f":"AWJ!P88","v":{"$error":"#DIV/0!"}},{"$error":"#DIV/0!"},{"$error":"#DIV/0!"},{"$error":"#DIV/0!"},null,{"$error":"#DIV/0!"},{"$error":"#DIV/0!"},null,{"$error":"#DIV/0!"},{"$error":"#DIV/0!"},{"$f":"IPA!L88","v":0},{"$error":"#DIV/0!"},0,{"$error":"#DIV/0!"},0,{"$error":"#DIV/0!"},{"$error":"#DIV/0!"},{"$error":"#DIV/0!"},{"$error":"#DIV/0!"},0,{"$error":"#DIV/0!"},{"$error":"#DIV/0!"},{"$error":"#DIV/0!"},{"$error":"#DIV/0!"},null,null,{"$error":"#DIV/0!"},0,{"$error":"#DIV/0!"},{"$error":"#DIV/0!"},0,{"$error":"#DIV/0!"},{"$error":"#DIV/0!"},0,{"$error":"#DIV/0!"},0,null,{"$f":"SISWA!S87","v":"131"},null,"081/Mi.13.05.162/PP.01.1/06/2020",null,81]
[{"$f":"SISWA!A89","v":82},{"$f":"IF(SISWA!B89=0,\"\",SISWA!B89)","v":""},{"$f":"IF(SISWA!C89=0,\"\",SISWA!C89)","v":""},{"$f":"IF(SISWA!D89=0,\"\",SISWA!D89)","v":""},{"$f":"IF(SISWA!E89=0,\"\",SISWA!E89)","v":""},{"$f":"IF(SISWA!P88=0,\"\",SISWA!P88)","v":", 00 Januari 1900"},{"$f":"IF(SISWA!H89=0,\"\",SISWA!H89)","v":""},{"$f":"#REF!","v":{"$error":"#REF!"}},{"$f":"#REF!","v":{"$error":"#REF!"}},{"$error":"#REF!"},{"$f":"AA!K89","v":{"$error":"#DIV/0!"}},{"$f":"AA!N89","v":{"$error":"#DIV/0!"}},{"$error":"#DIV/0!"},{"$f":"AH!K89","v":{"$error":"#DIV/0!"}},{"$f":"AH!N89","v":{"$error":"#DIV/0!"}},{"$error":"#DIV/0!"},{"$f":"FQ!K89","v":{"$error":"#DIV/0!"}},{"$f":"FQ!N89","v":{"$error":"#DIV/0!"}},{"$error":"#DIV/0!"},{"$f":"SKI!K89","v":{"$error":"#DIV/0!"}},{"$f":"SKI!N89","v":{"$error":"#DIV/0!"}},{"$error":"#DIV/0!"},{"$f":"PKn!K89","v":{"$error":"#DIV/0!"}},{"$f":"PKn!N89","v":0},{"$error":"#DIV/0!"},{"$f":"BID!K89","v":{"$error":"#DIV/0!"}},{"$f":"BID!N89","v":{"$error":"#DIV/0!"}},{"$error":"#DIV/0!"},{"$f":"BA!K89","v":{"$error":"#DIV/0!"}},{"$f":"BA!N89","v":{"$error":"#DIV/0!"}},{"$error":"#DIV/0!"},{"$f":"MTK!K89","v":{"$error":"#DIV/0!"}},{"$f":"MTK!L89","v":0},{"$error":"#DIV/0!"},{"$f":"IPA!K89","v":{"$error":"#DIV/0!"}},{"$f":"IPA!N89","v":{"$error":"#DIV/0!"}},{"$error":"#DIV/0!"},{"$f":"IPS!K89","v":{"$error":"#DIV/0!"}},{"$f":"IPS!L89","v":0},{"$error":"#DIV/0!"},{"$f":"SBK!K89","v":{"$error":"#DIV/0!"}},{"$f":"SBK!N89","v":{"$error":"#DIV/0!"}},{"$error":"#DIV/0!"},{"$f":"PJK!K89","v":{"$error":"#DIV/0!"}},{"$f":"PJK!N89","v":{"$error":"#DIV/0!"}},{"$error":"#DIV/0!"},{"$f":"BD!K89","v":{"$error":"#DIV/0!"}},{"$f":"BD!N89","v":{"$error":"#DIV/0!"}},{"$error":"#DIV/0!"},{"$f":"BIG!K89","v":{"$error":"#DIV/0!"}},{"$f":"BIG!N89","v":{"$error":"#DIV/0!"}},{"$error":"#DIV/0!"},{"$f":"AWJ!N89","v":{"$error":"#DIV/0!"}},{"$f":"AWJ!P89","v":{"$error":"#DIV/0!"}},{"$error":"#DIV/0!"},{"$error":"#DIV/0!"},{"$error":"#DIV/0!"},null,{"$error":"#DIV/0!"},{"$error":"#DIV/0!"},null,{"$error":"#DIV/0!"},{"$error":"#DIV/0!"},{"$f":"IPA!L89","v":0},{"$error":"#DIV/0!"},0,{"$error":"#DIV/0!"},0,{"$error":"#DIV/0!"},{"$error":"#DIV/0!"},{"$error":"#DIV/0!"},{"$error":"#DIV/0!"},0,{"$error":"#DIV/0!"},{"$error":"#DIV/0!"},{"$error":"#DIV/0!"},{"$error":"#DIV/0!"},null,null,{"$error":"#DIV/0!"},0,{"$error":"#DIV/0!"},{"$error":"#DIV/0!"},0,{"$error":"#DIV/0!"},{"$error":"#DIV/0!"},0,{"$error":"#DIV/0!"},0,null,{"$f":"SISWA!S88","v":"132"},null,"082/Mi.13.05.162/PP.01.1/06/2020",null,82]
[{"$f":"SISWA!A90","v":83},{"$f":"IF(SISWA!B90=0,\"\",SISWA!B90)","v":""},{"$f":"IF(SISWA!C90=0,\"\",SISWA!C90)","v":""},{"$f":"IF(SISWA!D90=0,\"\",SISWA!D90)","v":""},{"$f":"IF(SISWA!E90=0,\"\",SISWA!E90)","v":""},{"$f":"IF(SISWA!P89=0,\"\",SISWA!P89)","v":", 00 Januari 1900"},{"$f":"IF(SISWA!H90=0,\"\",SISWA!H90)","v":""},{"$f":"#REF!","v":{"$error":"#REF!"}},{"$f":"#REF!","v":{"$error":"#REF!"}},{"$error":"#REF!"},{"$f":"AA!K90","v":{"$error":"#DIV/0!"}},{"$f":"AA!N90","v":{"$error":"#DIV/0!"}},{"$error":"#DIV/0!"},{"$f":"AH!K90","v":{"$error":"#DIV/0!"}},{"$f":"AH!N90","v":{"$error":"#DIV/0!"}},{"$error":"#DIV/0!"},{"$f":"FQ!K90","v":{"$error":"#DIV/0!"}},{"$f":"FQ!N90","v":{"$error":"#DIV/0!"}},{"$error":"#DIV/0!"},{"$f":"SKI!K90","v":{"$error":"#DIV/0!"}},{"$f":"SKI!N90","v":{"$error":"#DIV/0!"}},{"$error":"#DIV/0!"},{"$f":"PKn!K90","v":{"$error":"#DIV/0!"}},{"$f":"PKn!N90","v":0},{"$error":"#DIV/0!"},{"$f":"BID!K90","v":{"$error":"#DIV/0!"}},{"$f":"BID!N90","v":{"$error":"#DIV/0!"}},{"$error":"#DIV/0!"},{"$f":"BA!K90","v":{"$error":"#DIV/0!"}},{"$f":"BA!N90","v":{"$error":"#DIV/0!"}},{"$error":"#DIV/0!"},{"$f":"MTK!K90","v":{"$error":"#DIV/0!"}},{"$f":"MTK!L90","v":0},{"$error":"#DIV/0!"},{"$f":"IPA!K90","v":{"$error":"#DIV/0!"}},{"$f":"IPA!N90","v":{"$error":"#DIV/0!"}},{"$error":"#DIV/0!"},{"$f":"IPS!K90","v":{"$error":"#DIV/0!"}},{"$f":"IPS!L90","v":0},{"$error":"#DIV/0!"},{"$f":"SBK!K90","v":{"$error":"#DIV/0!"}},{"$f":"SBK!N90","v":{"$error":"#DIV/0!"}},{"$error":"#DIV/0!"},{"$f":"PJK!K90","v":{"$error":"#DIV/0!"}},{"$f":"PJK!N90","v":{"$error":"#DIV/0!"}},{"$error":"#DIV/0!"},{"$f":"BD!K90","v":{"$error":"#DIV/0!"}},{"$f":"BD!N90","v":{"$error":"#DIV/0!"}},{"$error":"#DIV/0!"},{"$f":"BIG!K90","v":{"$error":"#DIV/0!"}},{"$f":"BIG!N90","v":{"$error":"#DIV/0!"}},{"$error":"#DIV/0!"},{"$f":"AWJ!N90","v":{"$error":"#DIV/0!"}},{"$f":"AWJ!P90","v":{"$error":"#DIV/0!"}},{"$error":"#DIV/0!"},{"$error":"#DIV/0!"},{"$error":"#DIV/0!"},null,{"$error":"#DIV/0!"},{"$error":"#DIV/0!"},null,{"$error":"#DIV/0!"},{"$error":"#DIV/0!"},{"$f":"IPA!L90","v":0},{"$error":"#DIV/0!"},0,{"$error":"#DIV/0!"},0,{"$error":"#DIV/0!"},{"$error":"#DIV/0!"},{"$error":"#DIV/0!"},{"$error":"#DIV/0!"},0,{"$error":"#DIV/0!"},{"$error":"#DIV/0!"},{"$error":"#DIV/0!"},{"$error":"#DIV/0!"},null,null,{"$error":"#DIV/0!"},0,{"$error":"#DIV/0!"},{"$error":"#DIV/0!"},0,{"$error":"#DIV/0!"},{"$error":"#DIV/0!"},0,{"$error":"#DIV/0!"},0,null,{"$f":"SISWA!S89","v":"133"},null,"083/Mi.13.05.162/PP.01.1/06/2020",null,83]
[{"$f":"SISWA!A91","v":84},{"$f":"IF(SISWA!B91=0,\"\",SISWA!B91)","v":""},{"$f":"IF(SISWA!C91=0,\"\",SISWA!C91)","v":""},{"$f":"IF(SISWA!D91=0,\"\",SISWA!D91)","v":""},{"$f":"IF(SISWA!E91=0,\"\",SISWA!E91)","v":""},{"$f":"IF(SISWA!P90=0,\"\",SISWA!P90)","v":", 00 Januari 1900"},{"$f":"IF(SISWA!H91=0,\"\",SISWA!H91)","v":""},{"$f":"#REF!","v":{"$error":"#REF!"}},{"$f":"#REF!","v":{"$error":"#REF!"}},{"$error":"#REF!"},{"$f":"AA!K91","v":{"$error":"#DIV/0!"}},{"$f":"AA!N91","v":{"$error":"#DIV/0!"}},{"$error":"#DIV/0!"},{"$f":"AH!K91","v":{"$error":"#DIV/0!"}},{"$f":"AH!N91","v":{"$error":"#DIV/0!"}},{"$error":"#DIV/0!"},{"$f":"FQ!K91","v":{"$error":"#DIV/0!"}},{"$f":"FQ!N91","v":{"$error":"#DIV/0!"}},{"$error":"#DIV/0!"},{"$f":"SKI!K91","v":{"$error":"#DIV/0!"}},{"$f":"SKI!N91","v":{"$error":"#DIV/0!"}},{"$error":"#DIV/0!"},{"$f":"PKn!K91","v":{"$error":"#DIV/0!"}},{"$f":"PKn!N91","v":0},{"$error":"#DIV/0!"},{"$f":"BID!K91","v":{"$error":"#DIV/0!"}},{"$f":"BID!N91","v":{"$error":"#DIV/0!"}},{"$error":"#DIV/0!"},{"$f":"BA!K91","v":{"$error":"#DIV/0!"}},{"$f":"BA!N91","v":{"$error":"#DIV/0!"}},{"$error":"#DIV/0!"},{"$f":"MTK!K91","v":{"$error":"#DIV/0!"}},{"$f":"MTK!L91","v":0},{"$error":"#DIV/0!"},{"$f":"IPA!K91","v":{"$error":"#DIV/0!"}},{"$f":"IPA!N91","v":{"$error":"#DIV/0!"}},{"$error":"#DIV/0!"},{"$f":"IPS!K91","v":{"$error":"#DIV/0!"}},{"$f":"IPS!L91","v":0},{"$error":"#DIV/0!"},{"$f":"SBK!K91","v":{"$error":"#DIV/0!"}},{"$f":"SBK!N91","v":{"$error":"#DIV/0!"}},{"$error":"#DIV/0!"},{"$f":"PJK!K91","v":{"$error":"#DIV/0!"}},{"$f":"PJK!N91","v":{"$error":"#DIV/0!"}},{"$error":"#DIV/0!"},{"$f":"BD!K91","v":{"$error":"#DIV/0!"}},{"$f":"BD!N91","v":{"$error":"#DIV/0!"}},{"$error":"#DIV/0!"},{"$f":"BIG!K91","v":{"$error":"#DIV/0!"}},{"$f":"BIG!N91","v":{"$error":"#DIV/0!"}},{"$error":"#DIV/0!"},{"$f":"AWJ!N91","v":{"$error":"#DIV/0!"}},{"$f":"AWJ!P91","v":{"$error":"#DIV/0!"}},{"$error":"#DIV/0!"},{"$error":"#DIV/0!"},{"$error":"#DIV/0!"},null,{"$error":"#DIV/0!"},{"$error":"#DIV/0!"},null,{"$error":"#DIV/0!"},{"$error":"#DIV/0!"},{"$f":"IPA!L91","v":0},{"$error":"#DIV/0!"},0,{"$error":"#DIV/0!"},0,{"$error":"#DIV/0!"},{"$error":"#DIV/0!"},{"$error":"#DIV/0!"},{"$error":"#DIV/0!"},0,{"$error":"#DIV/0!"},{"$error":"#DIV/0!"},{"$error":"#DIV/0!"},{"$error":"#DIV/0!"},null,null,{"$error":"#DIV/0!"},0,{"$error":"#DIV/0!"},{"$error":"#DIV/0!"},0,{"$error":"#DIV/0!"},{"$error":"#DIV/0!"},0,{"$error":"#DIV/0!"},0,null,{"$f":"SISWA!S90","v":"134"},null,"084/Mi.13.05.162/PP.01.1/06/2020",null,84]
[{"$f":"SISWA!A92","v":85},{"$f":"IF(SISWA!B92=0,\"\",SISWA!B92)","v":""},{"$f":"IF(SISWA!C92=0,\"\",SISWA!C92)","v":""},{"$f":"IF(SISWA!D92=0,\"\",SISWA!D92)","v":""},{"$f":"IF(SISWA!E92=0,\"\",SISWA!E92)","v":""},{"$f":"IF(SISWA!P91=0,\"\",SISWA!P91)","v":", 00 Januari 1900"},{"$f":"IF(SISWA!H92=0,\"\",SISWA!H92)","v":""},{"$f":"#REF!","v":{"$error":"#REF!"}},{"$f":"#REF!","v":{"$error":"#REF!"}},{"$error":"#REF!"},{"$f":"AA!K92","v":{"$error":"#DIV/0!"}},{"$f":"AA!N92","v":{"$error":"#DIV/0!"}},{"$error":"#DIV/0!"},{"$f":"AH!K92","v":{"$error":"#DIV/0!"}},{"$f":"AH!N92","v":{"$error":"#DIV/0!"}},{"$error":"#DIV/0!"},{"$f":"FQ!K92","v":{"$error":"#DIV/0!"}},{"$f":"FQ!N92","v":{"$error":"#DIV/0!"}},{"$error":"#DIV/0!"},{"$f":"SKI!K92","v":{"$error":"#DIV/0!"}},{"$f":"SKI!N92","v":{"$error":"#DIV/0!"}},{"$error":"#DIV/0!"},{"$f":"PKn!K92","v":{"$error":"#DIV/0!"}},{"$f":"PKn!N92","v":0},{"$error":"#DIV/0!"},{"$f":"BID!K92","v":{"$error":"#DIV/0!"}},{"$f":"BID!N92","v":{"$error":"#DIV/0!"}},{"$error":"#DIV/0!"},{"$f":"BA!K92","v":{"$error":"#DIV/0!"}},{"$f":"BA!N92","v":{"$error":"#DIV/0!"}},{"$error":"#DIV/0!"},{"$f":"MTK!K92","v":{"$error":"#DIV/0!"}},{"$f":"MTK!L92","v":0},{"$error":"#DIV/0!"},{"$f":"IPA!K92","v":{"$error":"#DIV/0!"}},{"$f":"IPA!N92","v":{"$error":"#DIV/0!"}},{"$error":"#DIV/0!"},{"$f":"IPS!K92","v":{"$error":"#DIV/0!"}},{"$f":"IPS!L92","v":0},{"$error":"#DIV/0!"},{"$f":"SBK!K92","v":{"$error":"#DIV/0!"}},{"$f":"SBK!N92","v":{"$error":"#DIV/0!"}},{"$error":"#DIV/0!"},{"$f":"PJK!K92","v":{"$error":"#DIV/0!"}},{"$f":"PJK!N92","v":{"$error":"#DIV/0!"}},{"$error":"#DIV/0!"},{"$f":"BD!K92","v":{"$error":"#DIV/0!"}},{"$f":"BD!N92","v":{"$error":"#DIV/0!"}},{"$error":"#DIV/0!"},{"$f":"BIG!K92","v":{"$error":"#DIV/0!"}},{"$f":"BIG!N92","v":{"$error":"#DIV/0!"}},{"$error":"#DIV/0!"},{"$f":"AWJ!N92","v":{"$error":"#DIV/0!"}},{"$f":"AWJ!P92","v":{"$error":"#DIV/0!"}},{"$error":"#DIV/0!"},{"$error":"#DIV/0!"},{"$error":"#DIV/0!"},null,{"$error":"#DIV/0!"},{"$error":"#DIV/0!"},null,{"$error":"#DIV/0!"},{"$error":"#DIV/0!"},{"$f":"IPA!L92","v":0},{"$error":"#DIV/0!"},0,{"$error":"#DIV/0!"},0,{"$error":"#DIV/0!"},{"$error":"#DIV/0!"},{"$error":"#DIV/0!"},{"$error":"#DIV/0!"},0,{"$error":"#DIV/0!"},{"$error":"#DIV/0!"},{"$error":"#DIV/0!"},{"$error":"#DIV/0!"},null,null,{"$error":"#DIV/0!"},0,{"$error":"#DIV/0!"},{"$error":"#DIV/0!"},0,{"$error":"#DIV/0!"},{"$error":"#DIV/0!"},0,{"$error":"#DIV/0!"},0,null,{"$f":"SISWA!S91","v":"135"},null,"085/Mi.13.05.162/PP.01.1/06/2020",null,85]
[{"$f":"SISWA!A93","v":86},{"$f":"IF(SISWA!B93=0,\"\",SISWA!B93)","v":""},{"$f":"IF(SISWA!C93=0,\"\",SISWA!C93)","v":""},{"$f":"IF(SISWA!D93=0,\"\",SISWA!D93)","v":""},{"$f":"IF(SISWA!E93=0,\"\",SISWA!E93)","v":""},{"$f":"IF(SISWA!P92=0,\"\",SISWA!P92)","v":", 00 Januari 1900"},{"$f":"IF(SISWA!H93=0,\"\",SISWA!H93)","v":""},{"$f":"#REF!","v":{"$error":"#REF!"}},{"$f":"#REF!","v":{"$error":"#REF!"}},{"$error":"#REF!"},{"$f":"AA!K93","v":{"$error":"#DIV/0!"}},{"$f":"AA!N93","v":{"$error":"#DIV/0!"}},{"$error":"#DIV/0!"},{"$f":"AH!K93","v":{"$error":"#DIV/0!"}},{"$f":"AH!N93","v":{"$error":"#DIV/0!"}},{"$error":"#DIV/0!"},{"$f":"FQ!K93","v":{"$error":"#DIV/0!"}},{"$f":"FQ!N93","v":{"$error":"#DIV/0!"}},{"$error":"#DIV/0!"},{"$f":"SKI!K93","v":{"$error":"#DIV/0!"}},{"$f":"SKI!N93","v":{"$error":"#DIV/0!"}},{"$error":"#DIV/0!"},{"$f":"PKn!K93","v":{"$error":"#DIV/0!"}},{"$f":"PKn!N93","v":0},{"$error":"#DIV/0!"},{"$f":"BID!K93","v":{"$error":"#DIV/0!"}},{"$f":"BID!N93","v":{"$error":"#DIV/0!"}},{"$error":"#DIV/0!"},{"$f":"BA!K93","v":{"$error":"#DIV/0!"}},{"$f":"BA!N93","v":{"$error":"#DIV/0!"}},{"$error":"#DIV/0!"},{"$f":"MTK!K93","v":{"$error":"#DIV/0!"}},{"$f":"MTK!L93","v":0},{"$error":"#DIV/0!"},{"$f":"IPA!K93","v":{"$error":"#DIV/0!"}},{"$f":"IPA!N93","v":{"$error":"#DIV/0!"}},{"$error":"#DIV/0!"},{"$f":"IPS!K93","v":{"$error":"#DIV/0!"}},{"$f":"IPS!L93","v":0},{"$error":"#DIV/0!"},{"$f":"SBK!K93","v":{"$error":"#DIV/0!"}},{"$f":"SBK!N93","v":{"$error":"#DIV/0!"}},{"$error":"#DIV/0!"},{"$f":"PJK!K93","v":{"$error":"#DIV/0!"}},{"$f":"PJK!N93","v":{"$error":"#DIV/0!"}},{"$error":"#DIV/0!"},{"$f":"BD!K93","v":{"$error":"#DIV/0!"}},{"$f":"BD!N93","v":{"$error":"#DIV/0!"}},{"$error":"#DIV/0!"},{"$f":"BIG!K93","v":{"$error":"#DIV/0!"}},{"$f":"BIG!N93","v":{"$error":"#DIV/0!"}},{"$error":"#DIV/0!"},{"$f":"AWJ!N93","v":{"$error":"#DIV/0!"}},{"$f":"AWJ!P93","v":{"$error":"#DIV/0!"}},{"$error":"#DIV/0!"},{"$error":"#DIV/0!"},{"$error":"#DIV/0!"},null,{"$error":"#DIV/0!"},{"$error":"#DIV/0!"},null,{"$error":"#DIV/0!"},{"$error":"#DIV/0!"},{"$f":"IPA!L93","v":0},{"$error":"#DIV/0!"},0,{"$error":"#DIV/0!"},0,{"$error":"#DIV/0!"},{"$error":"#DIV/0!"},{"$error":"#DIV/0!"},{"$error":"#DIV/0!"},0,{"$error":"#DIV/0!"},{"$error":"#DIV/0!"},{"$error":"#DIV/0!"},{"$error":"#DIV/0!"},null,null,{"$error":"#DIV/0!"},0,{"$error":"#DIV/0!"},{"$error":"#DIV/0!"},0,{"$error":"#DIV/0!"},{"$error":"#DIV/0!"},0,{"$error":"#DIV/0!"},0,null,{"$f":"SISWA!S92","v":"136"},null,"086/Mi.13.05.162/PP.01.1/06/2020",null,86]
[{"$f":"SISWA!A94","v":87},{"$f":"IF(SISWA!B94=0,\"\",SISWA!B94)","v":""},{"$f":"IF(SISWA!C94=0,\"\",SISWA!C94)","v":""},{"$f":"IF(SISWA!D94=0,\"\",SISWA!D94)","v":""},{"$f":"IF(SISWA!E94=0,\"\",SISWA!E94)","v":""},{"$f":"IF(SISWA!P93=0,\"\",SISWA!P93)","v":", 00 Januari 1900"},{"$f":"IF(SISWA!H94=0,\"\",SISWA!H94)","v":""},{"$f":"#REF!","v":{"$error":"#REF!"}},{"$f":"#REF!","v":{"$error":"#REF!"}},{"$error":"#REF!"},{"$f":"AA!K94","v":{"$error":"#DIV/0!"}},{"$f":"AA!N94","v":{"$error":"#DIV/0!"}},{"$error":"#DIV/0!"},{"$f":"AH!K94","v":{"$error":"#DIV/0!"}},{"$f":"AH!N94","v":{"$error":"#DIV/0!"}},{"$error":"#DIV/0!"},{"$f":"FQ!K94","v":{"$error":"#DIV/0!"}},{"$f":"FQ!N94","v":{"$error":"#DIV/0!"}},{"$error":"#DIV/0!"},{"$f":"SKI!K94","v":{"$error":"#DIV/0!"}},{"$f":"SKI!N94","v":{"$error":"#DIV/0!"}},{"$error":"#DIV/0!"},{"$f":"PKn!K94","v":{"$error":"#DIV/0!"}},{"$f":"PKn!N94","v":0},{"$error":"#DIV/0!"},{"$f":"BID!K94","v":{"$error":"#DIV/0!"}},{"$f":"BID!N94","v":{"$error":"#DIV/0!"}},{"$error":"#DIV/0!"},{"$f":"BA!K94","v":{"$error":"#DIV/0!"}},{"$f":"BA!N94","v":{"$error":"#DIV/0!"}},{"$error":"#DIV/0!"},{"$f":"MTK!K94","v":{"$error":"#DIV/0!"}},{"$f":"MTK!L94","v":0},{"$error":"#DIV/0!"},{"$f":"IPA!K94","v":{"$error":"#DIV/0!"}},{"$f":"IPA!N94","v":{"$error":"#DIV/0!"}},{"$error":"#DIV/0!"},{"$f":"IPS!K94","v":{"$error":"#DIV/0!"}},{"$f":"IPS!L94","v":0},{"$error":"#DIV/0!"},{"$f":"SBK!K94","v":{"$error":"#DIV/0!"}},{"$f":"SBK!N94","v":{"$error":"#DIV/0!"}},{"$error":"#DIV/0!"},{"$f":"PJK!K94","v":{"$error":"#DIV/0!"}},{"$f":"PJK!N94","v":{"$error":"#DIV/0!"}},{"$error":"#DIV/0!"},{"$f":"BD!K94","v":{"$error":"#DIV/0!"}},{"$f":"BD!N94","v":{"$error":"#DIV/0!"}},{"$error":"#DIV/0!"},{"$f":"BIG!K94","v":{"$error":"#DIV/0!"}},{"$f":"BIG!N94","v":{"$error":"#DIV/0!"}},{"$error":"#DIV/0!"},{"$f":"AWJ!N94","v":{"$error":"#DIV/0!"}},{"$f":"AWJ!P94","v":{"$error":"#DIV/0!"}},{"$error":"#DIV/0!"},{"$error":"#DIV/0!"},{"$error":"#DIV/0!"},null,{"$error":"#DIV/0!"},{"$error":"#DIV/0!"},null,{"$error":"#DIV/0!"},{"$error":"#DIV/0!"},{"$f":"IPA!L94","v":0},{"$error":"#DIV/0!"},0,{"$error":"#DIV/0!"},0,{"$error":"#DIV/0!"},{"$error":"#DIV/0!"},{"$error":"#DIV/0!"},{"$error":"#DIV/0!"},0,{"$error":"#DIV/0!"},{"$error":"#DIV/0!"},{"$error":"#DIV/0!"},{"$error":"#DIV/0!"},null,null,{"$error":"#DIV/0!"},0,{"$error":"#DIV/0!"},{"$error":"#DIV/0!"},0,{"$error":"#DIV/0!"},{"$error":"#DIV/0!"},0,{"$error":"#DIV/0!"},0,null,{"$f":"SISWA!S93","v":"137"},null,"087/Mi.13.05.162/PP.01.1/06/2020",null,87]
[{"$f":"SISWA!A95","v":88},{"$f":"IF(SISWA!B95=0,\"\",SISWA!B95)","v":""},{"$f":"IF(SISWA!C95=0,\"\",SISWA!C95)","v":""},{"$f":"IF(SISWA!D95=0,\"\",SISWA!D95)","v":""},{"$f":"IF(SISWA!E95=0,\"\",SISWA!E95)","v":""},{"$f":"IF(SISWA!P94=0,\"\",SISWA!P94)","v":", 00 Januari 1900"},{"$f":"IF(SISWA!H95=0,\"\",SISWA!H95)","v":""},{"$f":"#REF!","v":{"$error":"#REF!"}},{"$f":"#REF!","v":{"$error":"#REF!"}},{"$error":"#REF!"},{"$f":"AA!K95","v":{"$error":"#DIV/0!"}},{"$f":"AA!N95","v":{"$error":"#DIV/0!"}},{"$error":"#DIV/0!"},{"$f":"AH!K95","v":{"$error":"#DIV/0!"}},{"$f":"AH!N95","v":{"$error":"#DIV/0!"}},{"$error":"#DIV/0!"},{"$f":"FQ!K95","v":{"$error":"#DIV/0!"}},{"$f":"FQ!N95","v":{"$error":"#DIV/0!"}},{"$error":"#DIV/0!"},{"$f":"SKI!K95","v":{"$error":"#DIV/0!"}},{"$f":"SKI!N95","v":{"$error":"#DIV/0!"}},{"$error":"#DIV/0!"},{"$f":"PKn!K95","v":{"$error":"#DIV/0!"}},{"$f":"PKn!N95","v":0},{"$error":"#DIV/0!"},{"$f":"BID!K95","v":{"$error":"#DIV/0!"}},{"$f":"BID!N95","v":{"$error":"#DIV/0!"}},{"$error":"#DIV/0!"},{"$f":"BA!K95","v":{"$error":"#DIV/0!"}},{"$f":"BA!N95","v":{"$error":"#DIV/0!"}},{"$error":"#DIV/0!"},{"$f":"MTK!K95","v":{"$error":"#DIV/0!"}},{"$f":"MTK!L95","v":0},{"$error":"#DIV/0!"},{"$f":"IPA!K95","v":{"$error":"#DIV/0!"}},{"$f":"IPA!N95","v":{"$error":"#DIV/0!"}},{"$error":"#DIV/0!"},{"$f":"IPS!K95","v":{"$error":"#DIV/0!"}},{"$f":"IPS!L95","v":0},{"$error":"#DIV/0!"},{"$f":"SBK!K95","v":{"$error":"#DIV/0!"}},{"$f":"SBK!N95","v":{"$error":"#DIV/0!"}},{"$error":"#DIV/0!"},{"$f":"PJK!K95","v":{"$error":"#DIV/0!"}},{"$f":"PJK!N95","v":{"$error":"#DIV/0!"}},{"$error":"#DIV/0!"},{"$f":"BD!K95","v":{"$error":"#DIV/0!"}},{"$f":"BD!N95","v":{"$error":"#DIV/0!"}},{"$error":"#DIV/0!"},{"$f":"BIG!K95","v":{"$error":"#DIV/0!"}},{"$f":"BIG!N95","v":{"$error":"#DIV/0!"}},{"$error":"#DIV/0!"},{"$f":"AWJ!N95","v":{"$error":"#DIV/0!"}},{"$f":"AWJ!P95","v":{"$error":"#DIV/0!"}},{"$error":"#DIV/0!"},{"$error":"#DIV/0!"},{"$error":"#DIV/0!"},null,{"$error":"#DIV/0!"},{"$error":"#DIV/0!"},null,{"$error":"#DIV/0!"},{"$error":"#DIV/0!"},{"$f":"IPA!L95","v":0},{"$error":"#DIV/0!"},0,{"$error":"#DIV/0!"},0,{"$error":"#DIV/0!"},{"$error":"#DIV/0!"},{"$error":"#DIV/0!"},{"$error":"#DIV/0!"},0,{"$error":"#DIV/0!"},{"$error":"#DIV/0!"},{"$error":"#DIV/0!"},{"$error":"#DIV/0!"},null,null,{"$error":"#DIV/0!"},0,{"$error":"#DIV/0!"},{"$error":"#DIV/0!"},0,{"$error":"#DIV/0!"},{"$error":"#DIV/0!"},0,{"$error":"#DIV/0!"},0,null,{"$f":"SISWA!S94","v":"138"},null,"088/Mi.13.05.162/PP.01.1/06/2020",null,88]
[{"$f":"SISWA!A96","v":89},{"$f":"IF(SISWA!B96=0,\"\",SISWA!B96)","v":""},{"$f":"IF(SISWA!C96=0,\"\",SISWA!C96)","v":""},{"$f":"IF(SISWA!D96=0,\"\",SISWA!D96)","v":""},{"$f":"IF(SISWA!E96=0,\"\",SISWA!E96)","v":""},{"$f":"IF(SISWA!P95=0,\"\",SISWA!P95)","v":", 00 Januari 1900"},{"$f":"IF(SISWA!H96=0,\"\",SISWA!H96)","v":""},{"$f":"#REF!","v":{"$error":"#REF!"}},{"$f":"#REF!","v":{"$error":"#REF!"}},{"$error":"#REF!"},{"$f":"AA!K96","v":{"$error":"#DIV/0!"}},{"$f":"AA!N96","v":{"$error":"#DIV/0!"}},{"$error":"#DIV/0!"},{"$f":"AH!K96","v":{"$error":"#DIV/0!"}},{"$f":"AH!N96","v":{"$error":"#DIV/0!"}},{"$error":"#DIV/0!"},{"$f":"FQ!K96","v":{"$error":"#DIV/0!"}},{"$f":"FQ!N96","v":{"$error":"#DIV/0!"}},{"$error":"#DIV/0!"},{"$f":"SKI!K96","v":{"$error":"#DIV/0!"}},{"$f":"SKI!N96","v":{"$error":"#DIV/0!"}},{"$error":"#DIV/0!"},{"$f":"PKn!K96","v":{"$error":"#DIV/0!"}},{"$f":"PKn!N96","v":0},{"$error":"#DIV/0!"},{"$f":"BID!K96","v":{"$error":"#DIV/0!"}},{"$f":"BID!N96","v":{"$error":"#DIV/0!"}},{"$error":"#DIV/0!"},{"$f":"BA!K96","v":{"$error":"#DIV/0!"}},{"$f":"BA!N96","v":{"$error":"#DIV/0!"}},{"$error":"#DIV/0!"},{"$f":"MTK!K96","v":{"$error":"#DIV/0!"}},{"$f":"MTK!L96","v":0},{"$error":"#DIV/0!"},{"$f":"IPA!K96","v":{"$error":"#DIV/0!"}},{"$f":"IPA!N96","v":{"$error":"#DIV/0!"}},{"$error":"#DIV/0!"},{"$f":"IPS!K96","v":{"$error":"#DIV/0!"}},{"$f":"IPS!L96","v":0},{"$error":"#DIV/0!"},{"$f":"SBK!K96","v":{"$error":"#DIV/0!"}},{"$f":"SBK!N96","v":{"$error":"#DIV/0!"}},{"$error":"#DIV/0!"},{"$f":"PJK!K96","v":{"$error":"#DIV/0!"}},{"$f":"PJK!N96","v":{"$error":"#DIV/0!"}},{"$error":"#DIV/0!"},{"$f":"BD!K96","v":{"$error":"#DIV/0!"}},{"$f":"BD!N96","v":{"$error":"#DIV/0!"}},{"$error":"#DIV/0!"},{"$f":"BIG!K96","v":{"$error":"#DIV/0!"}},{"$f":"BIG!N96","v":{"$error":"#DIV/0!"}},{"$error":"#DIV/0!"},{"$f":"AWJ!N96","v":{"$error":"#DIV/0!"}},{"$f":"AWJ!P96","v":{"$error":"#DIV/0!"}},{"$error":"#DIV/0!"},{"$error":"#DIV/0!"},{"$error":"#DIV/0!"},null,{"$error":"#DIV/0!"},{"$error":"#DIV/0!"},null,{"$error":"#DIV/0!"},{"$error":"#DIV/0!"},{"$f":"IPA!L96","v":0},{"$error":"#DIV/0!"},0,{"$error":"#DIV/0!"},0,{"$error":"#DIV/0!"},{"$error":"#DIV/0!"},{"$error":"#DIV/0!"},{"$error":"#DIV/0!"},0,{"$error":"#DIV/0!"},{"$error":"#DIV/0!"},{"$error":"#DIV/0!"},{"$error":"#DIV/0!"},null,null,{"$error":"#DIV/0!"},0,{"$error":"#DIV/0!"},{"$error":"#DIV/0!"},0,{"$error":"#DIV/0!"},{"$error":"#DIV/0!"},0,{"$error":"#DIV/0!"},0,null,{"$f":"SISWA!S95","v":"139"},null,"089/Mi.13.05.162/PP.01.1/06/2020",null,89]
[{"$f":"SISWA!A97","v":90},{"$f":"IF(SISWA!B97=0,\"\",SISWA!B97)","v":""},{"$f":"IF(SISWA!C97=0,\"\",SISWA!C97)","v":""},{"$f":"IF(SISWA!D97=0,\"\",SISWA!D97)","v":""},{"$f":"IF(SISWA!E97=0,\"\",SISWA!E97)","v":""},{"$f":"IF(SISWA!P96=0,\"\",SISWA!P96)","v":", 00 Januari 1900"},{"$f":"IF(SISWA!H97=0,\"\",SISWA!H97)","v":""},{"$f":"#REF!","v":{"$error":"#REF!"}},{"$f":"#REF!","v":{"$error":"#REF!"}},{"$error":"#REF!"},{"$f":"AA!K97","v":{"$error":"#DIV/0!"}},{"$f":"AA!N97","v":{"$error":"#DIV/0!"}},{"$error":"#DIV/0!"},{"$f":"AH!K97","v":{"$error":"#DIV/0!"}},{"$f":"AH!N97","v":{"$error":"#DIV/0!"}},{"$error":"#DIV/0!"},{"$f":"FQ!K97","v":{"$error":"#DIV/0!"}},{"$f":"FQ!N97","v":{"$error":"#DIV/0!"}},{"$error":"#DIV/0!"},{"$f":"SKI!K97","v":{"$error":"#DIV/0!"}},{"$f":"SKI!N97","v":{"$error":"#DIV/0!"}},{"$error":"#DIV/0!"},{"$f":"PKn!K97","v":{"$error":"#DIV/0!"}},{"$f":"PKn!N97","v":0},{"$error":"#DIV/0!"},{"$f":"BID!K97","v":{"$error":"#DIV/0!"}},{"$f":"BID!N97","v":{"$error":"#DIV/0!"}},{"$error":"#DIV/0!"},{"$f":"BA!K97","v":{"$error":"#DIV/0!"}},{"$f":"BA!N97","v":{"$error":"#DIV/0!"}},{"$error":"#DIV/0!"},{"$f":"MTK!K97","v":{"$error":"#DIV/0!"}},{"$f":"MTK!L97","v":0},{"$error":"#DIV/0!"},{"$f":"IPA!K97","v":{"$error":"#DIV/0!"}},{"$f":"IPA!N97","v":{"$error":"#DIV/0!"}},{"$error":"#DIV/0!"},{"$f":"IPS!K97","v":{"$error":"#DIV/0!"}},{"$f":"IPS!L97","v":0},{"$error":"#DIV/0!"},{"$f":"SBK!K97","v":{"$error":"#DIV/0!"}},{"$f":"SBK!N97","v":{"$error":"#DIV/0!"}},{"$error":"#DIV/0!"},{"$f":"PJK!K97","v":{"$error":"#DIV/0!"}},{"$f":"PJK!N97","v":{"$error":"#DIV/0!"}},{"$error":"#DIV/0!"},{"$f":"BD!K97","v":{"$error":"#DIV/0!"}},{"$f":"BD!N97","v":{"$error":"#DIV/0!"}},{"$error":"#DIV/0!"},{"$f":"BIG!K97","v":{"$error":"#DIV/0!"}},{"$f":"BIG!N97","v":{"$error":"#DIV/0!"}},{"$error":"#DIV/0!"},{"$f":"AWJ!N97","v":{"$error":"#DIV/0!"}},{"$f":"AWJ!P97","v":{"$error":"#DIV/0!"}},{"$error":"#DIV/0!"},{"$error":"#DIV/0!"},{"$error":"#DIV/0!"},null,{"$error":"#DIV/0!"},{"$error":"#DIV/0!"},null,{"$error":"#DIV/0!"},{"$error":"#DIV/0!"},{"$f":"IPA!L97","v":0},{"$error":"#DIV/0!"},0,{"$error":"#DIV/0!"},0,{"$error":"#DIV/0!"},{"$error":"#DIV/0!"},{"$error":"#DIV/0!"},{"$error":"#DIV/0!"},0,{"$error":"#DIV/0!"},{"$error":"#DIV/0!"},{"$error":"#DIV/0!"},{"$error":"#DIV/0!"},null,null,{"$error":"#DIV/0!"},0,{"$error":"#DIV/0!"},{"$error":"#DIV/0!"},0,{"$error":"#DIV/0!"},{"$error":"#DIV/0!"},0,{"$error":"#DIV/0!"},0,null,{"$f":"SISWA!S96","v":"140"},null,"090/Mi.13.05.162/PP.01.1/06/2020",null,90]
[{"$f":"SISWA!A98","v":91},{"$f":"IF(SISWA!B98=0,\"\",SISWA!B98)","v":""},{"$f":"IF(SISWA!C98=0,\"\",SISWA!C98)","v":""},{"$f":"IF(SISWA!D98=0,\"\",SISWA!D98)","v":""},{"$f":"IF(SISWA!E98=0,\"\",SISWA!E98)","v":""},{"$f":"IF(SISWA!P97=0,\"\",SISWA!P97)","v":", 00 Januari 1900"},{"$f":"IF(SISWA!H98=0,\"\",SISWA!H98)","v":""},{"$f":"#REF!","v":{"$error":"#REF!"}},{"$f":"#REF!","v":{"$error":"#REF!"}},{"$error":"#REF!"},{"$f":"AA!K98","v":{"$error":"#DIV/0!"}},{"$f":"AA!N98","v":{"$error":"#DIV/0!"}},{"$error":"#DIV/0!"},{"$f":"AH!K98","v":{"$error":"#DIV/0!"}},{"$f":"AH!N98","v":{"$error":"#DIV/0!"}},{"$error":"#DIV/0!"},{"$f":"FQ!K98","v":{"$error":"#DIV/0!"}},{"$f":"FQ!N98","v":{"$error":"#DIV/0!"}},{"$error":"#DIV/0!"},{"$f":"SKI!K98","v":{"$error":"#DIV/0!"}},{"$f":"SKI!N98","v":{"$error":"#DIV/0!"}},{"$error":"#DIV/0!"},{"$f":"PKn!K98","v":{"$error":"#DIV/0!"}},{"$f":"PKn!N98","v":0},{"$error":"#DIV/0!"},{"$f":"BID!K98","v":{"$error":"#DIV/0!"}},{"$f":"BID!N98","v":{"$error":"#DIV/0!"}},{"$error":"#DIV/0!"},{"$f":"BA!K98","v":{"$error":"#DIV/0!"}},{"$f":"BA!N98","v":{"$error":"#DIV/0!"}},{"$error":"#DIV/0!"},{"$f":"MTK!K98","v":{"$error":"#DIV/0!"}},{"$f":"MTK!L98","v":0},{"$error":"#DIV/0!"},{"$f":"IPA!K98","v":{"$error":"#DIV/0!"}},{"$f":"IPA!N98","v":{"$error":"#DIV/0!"}},{"$error":"#DIV/0!"},{"$f":"IPS!K98","v":{"$error":"#DIV/0!"}},{"$f":"IPS!L98","v":0},{"$error":"#DIV/0!"},{"$f":"SBK!K98","v":{"$error":"#DIV/0!"}},{"$f":"SBK!N98","v":{"$error":"#DIV/0!"}},{"$error":"#DIV/0!"},{"$f":"PJK!K98","v":{"$error":"#DIV/0!"}},{"$f":"PJK!N98","v":{"$error":"#DIV/0!"}},{"$error":"#DIV/0!"},{"$f":"BD!K98","v":{"$error":"#DIV/0!"}},{"$f":"BD!N98","v":{"$error":"#DIV/0!"}},{"$error":"#DIV/0!"},{"$f":"BIG!K98","v":{"$error":"#DIV/0!"}},{"$f":"BIG!N98","v":{"$error":"#DIV/0!"}},{"$error":"#DIV/0!"},{"$f":"AWJ!N98","v":{"$error":"#DIV/0!"}},{"$f":"AWJ!P98","v":{"$error":"#DIV/0!"}},{"$error":"#DIV/0!"},{"$error":"#DIV/0!"},{"$error":"#DIV/0!"},null,{"$error":"#DIV/0!"},{"$error":"#DIV/0!"},null,{"$error":"#DIV/0!"},{"$error":"#DIV/0!"},{"$f":"IPA!L98","v":0},{"$error":"#DIV/0!"},0,{"$error":"#DIV/0!"},0,{"$error":"#DIV/0!"},{"$error":"#DIV/0!"},{"$error":"#DIV/0!"},{"$error":"#DIV/0!"},0,{"$error":"#DIV/0!"},{"$error":"#DIV/0!"},{"$error":"#DIV/0!"},{"$error":"#DIV/0!"},null,null,{"$error":"#DIV/0!"},0,{"$error":"#DIV/0!"},{"$error":"#DIV/0!"},0,{"$error":"#DIV/0!"},{"$error":"#DIV/0!"},0,{"$error":"#DIV/0!"},0,null,{"$f":"SISWA!S97","v":"141"},null,"091/Mi.13.05.162/PP.01.1/06/2020",null,91]
[{"$f":"SISWA!A99","v":92},{"$f":"IF(SISWA!B99=0,\"\",SISWA!B99)","v":""},{"$f":"IF(SISWA!C99=0,\"\",SISWA!C99)","v":""},{"$f":"IF(SISWA!D99=0,\"\",SISWA!D99)","v":""},{"$f":"IF(SISWA!E99=0,\"\",SISWA!E99)","v":""},{"$f":"IF(SISWA!P98=0,\"\",SISWA!P98)","v":", 00 Januari 1900"},{"$f":"IF(SISWA!H99=0,\"\",SISWA!H99)","v":""},{"$f":"#REF!","v":{"$error":"#REF!"}},{"$f":"#REF!","v":{"$error":"#REF!"}},{"$error":"#REF!"},{"$f":"AA!K99","v":{"$error":"#DIV/0!"}},{"$f":"AA!N99","v":{"$error":"#DIV/0!"}},{"$error":"#DIV/0!"},{"$f":"AH!K99","v":{"$error":"#DIV/0!"}},{"$f":"AH!N99","v":{"$error":"#DIV/0!"}},{"$error":"#DIV/0!"},{"$f":"FQ!K99","v":{"$error":"#DIV/0!"}},{"$f":"FQ!N99","v":{"$error":"#DIV/0!"}},{"$error":"#DIV/0!"},{"$f":"SKI!K99","v":{"$error":"#DIV/0!"}},{"$f":"SKI!N99","v":{"$error":"#DIV/0!"}},{"$error":"#DIV/0!"},{"$f":"PKn!K99","v":{"$error":"#DIV/0!"}},{"$f":"PKn!N99","v":0},{"$error":"#DIV/0!"},{"$f":"BID!K99","v":{"$error":"#DIV/0!"}},{"$f":"BID!N99","v":{"$error":"#DIV/0!"}},{"$error":"#DIV/0!"},{"$f":"BA!K99","v":{"$error":"#DIV/0!"}},{"$f":"BA!N99","v":{"$error":"#DIV/0!"}},{"$error":"#DIV/0!"},{"$f":"MTK!K99","v":{"$error":"#DIV/0!"}},{"$f":"MTK!L99","v":0},{"$error":"#DIV/0!"},{"$f":"IPA!K99","v":{"$error":"#DIV/0!"}},{"$f":"IPA!N99","v":{"$error":"#DIV/0!"}},{"$error":"#DIV/0!"},{"$f":"IPS!K99","v":{"$error":"#DIV/0!"}},{"$f":"IPS!L99","v":0},{"$error":"#DIV/0!"},{"$f":"SBK!K99","v":{"$error":"#DIV/0!"}},{"$f":"SBK!N99","v":{"$error":"#DIV/0!"}},{"$error":"#DIV/0!"},{"$f":"PJK!K99","v":{"$error":"#DIV/0!"}},{"$f":"PJK!N99","v":{"$error":"#DIV/0!"}},{"$error":"#DIV/0!"},{"$f":"BD!K99","v":{"$error":"#DIV/0!"}},{"$f":"BD!N99","v":{"$error":"#DIV/0!"}},{"$error":"#DIV/0!"},{"$f":"BIG!K99","v":{"$error":"#DIV/0!"}},{"$f":"BIG!N99","v":{"$error":"#DIV/0!"}},{"$error":"#DIV/0!"},{"$f":"AWJ!N99","v":{"$error":"#DIV/0!"}},{"$f":"AWJ!P99","v":{"$error":"#DIV/0!"}},{"$error":"#DIV/0!"},{"$error":"#DIV/0!"},{"$error":"#DIV/0!"},null,{"$error":"#DIV/0!"},{"$error":"#DIV/0!"},null,{"$error":"#DIV/0!"},{"$error":"#DIV/0!"},{"$f":"IPA!L99","v":0},{"$error":"#DIV/0!"},0,{"$error":"#DIV/0!"},0,{"$error":"#DIV/0!"},{"$error":"#DIV/0!"},{"$error":"#DIV/0!"},{"$error":"#DIV/0!"},0,{"$error":"#DIV/0!"},{"$error":"#DIV/0!"},{"$error":"#DIV/0!"},{"$error":"#DIV/0!"},null,null,{"$error":"#DIV/0!"},0,{"$error":"#DIV/0!"},{"$error":"#DIV/0!"},0,{"$error":"#DIV/0!"},{"$error":"#DIV/0!"},0,{"$error":"#DIV/0!"},0,null,{"$f":"SISWA!S98","v":"142"},null,"092/Mi.13.05.162/PP.01.1/06/2020",null,92]
[{"$f":"SISWA!A100","v":93},{"$f":"IF(SISWA!B100=0,\"\",SISWA!B100)","v":""},{"$f":"IF(SISWA!C100=0,\"\",SISWA!C100)","v":""},{"$f":"IF(SISWA!D100=0,\"\",SISWA!D100)","v":""},{"$f":"IF(SISWA!E100=0,\"\",SISWA!E100)","v":""},{"$f":"IF(SISWA!P99=0,\"\",SISWA!P99)","v":", 00 Januari 1900"},{"$f":"IF(SISWA!H100=0,\"\",SISWA!H100)","v":""},{"$f":"#REF!","v":{"$error":"#REF!"}},{"$f":"#REF!","v":{"$error":"#REF!"}},{"$error":"#REF!"},{"$f":"AA!K100","v":{"$error":"#DIV/0!"}},{"$f":"AA!N100","v":{"$error":"#DIV/0!"}},{"$error":"#DIV/0!"},{"$f":"AH!K100","v":{"$error":"#DIV/0!"}},{"$f":"AH!N100","v":{"$error":"#DIV/0!"}},{"$error":"#DIV/0!"},{"$f":"FQ!K100","v":{"$error":"#DIV/0!"}},{"$f":"FQ!N100","v":{"$error":"#DIV/0!"}},{"$error":"#DIV/0!"},{"$f":"SKI!K100","v":{"$error":"#DIV/0!"}},{"$f":"SKI!N100","v":{"$error":"#DIV/0!"}},{"$error":"#DIV/0!"},{"$f":"PKn!K100","v":{"$error":"#DIV/0!"}},{"$f":"PKn!N100","v":0},{"$error":"#DIV/0!"},{"$f":"BID!K100","v":{"$error":"#DIV/0!"}},{"$f":"BID!N100","v":{"$error":"#DIV/0!"}},{"$error":"#DIV/0!"},{"$f":"BA!K100","v":{"$error":"#DIV/0!"}},{"$f":"BA!N100","v":{"$error":"#DIV/0!"}},{"$error":"#DIV/0!"},{"$f":"MTK!K100","v":{"$error":"#DIV/0!"}},{"$f":"MTK!L100","v":0},{"$error":"#DIV/0!"},{"$f":"IPA!K100","v":{"$error":"#DIV/0!"}},{"$f":"IPA!N100","v":{"$error":"#DIV/0!"}},{"$error":"#DIV/0!"},{"$f":"IPS!K100","v":{"$error":"#DIV/0!"}},{"$f":"IPS!L100","v":0},{"$error":"#DIV/0!"},{"$f":"SBK!K100","v":{"$error":"#DIV/0!"}},{"$f":"SBK!N100","v":{"$error":"#DIV/0!"}},{"$error":"#DIV/0!"},{"$f":"PJK!K100","v":{"$error":"#DIV/0!"}},{"$f":"PJK!N100","v":{"$error":"#DIV/0!"}},{"$error":"#DIV/0!"},{"$f":"BD!K100","v":{"$error":"#DIV/0!"}},{"$f":"BD!N100","v":{"$error":"#DIV/0!"}},{"$error":"#DIV/0!"},{"$f":"BIG!K100","v":{"$error":"#DIV/0!"}},{"$f":"BIG!N100","v":{"$error":"#DIV/0!"}},{"$error":"#DIV/0!"},{"$f":"AWJ!N100","v":{"$error":"#DIV/0!"}},{"$f":"AWJ!P100","v":{"$error":"#DIV/0!"}},{"$error":"#DIV/0!"},{"$error":"#DIV/0!"},{"$error":"#DIV/0!"},null,{"$error":"#DIV/0!"},{"$error":"#DIV/0!"},null,{"$error":"#DIV/0!"},{"$error":"#DIV/0!"},{"$f":"IPA!L100","v":0},{"$error":"#DIV/0!"},0,{"$error":"#DIV/0!"},0,{"$error":"#DIV/0!"},{"$error":"#DIV/0!"},{"$error":"#DIV/0!"},{"$error":"#DIV/0!"},0,{"$error":"#DIV/0!"},{"$error":"#DIV/0!"},{"$error":"#DIV/0!"},{"$error":"#DIV/0!"},null,null,{"$error":"#DIV/0!"},0,{"$error":"#DIV/0!"},{"$error":"#DIV/0!"},0,{"$error":"#DIV/0!"},{"$error":"#DIV/0!"},0,{"$error":"#DIV/0!"},0,null,{"$f":"SISWA!S99","v":"143"},null,"093/Mi.13.05.162/PP.01.1/06/2020",null,93]
[{"$f":"SISWA!A101","v":94},{"$f":"IF(SISWA!B101=0,\"\",SISWA!B101)","v":""},{"$f":"IF(SISWA!C101=0,\"\",SISWA!C101)","v":""},{"$f":"IF(SISWA!D101=0,\"\",SISWA!D101)","v":""},{"$f":"IF(SISWA!E101=0,\"\",SISWA!E101)","v":""},{"$f":"IF(SISWA!P100=0,\"\",SISWA!P100)","v":", 00 Januari 1900"},{"$f":"IF(SISWA!H101=0,\"\",SISWA!H101)","v":""},{"$f":"#REF!","v":{"$error":"#REF!"}},{"$f":"#REF!","v":{"$error":"#REF!"}},{"$error":"#REF!"},{"$f":"AA!K101","v":{"$error":"#DIV/0!"}},{"$f":"AA!N101","v":{"$error":"#DIV/0!"}},{"$error":"#DIV/0!"},{"$f":"AH!K101","v":{"$error":"#DIV/0!"}},{"$f":"AH!N101","v":{"$error":"#DIV/0!"}},{"$error":"#DIV/0!"},{"$f":"FQ!K101","v":{"$error":"#DIV/0!"}},{"$f":"FQ!N101","v":{"$error":"#DIV/0!"}},{"$error":"#DIV/0!"},{"$f":"SKI!K101","v":{"$error":"#DIV/0!"}},{"$f":"SKI!N101","v":{"$error":"#DIV/0!"}},{"$error":"#DIV/0!"},{"$f":"PKn!K101","v":{"$error":"#DIV/0!"}},{"$f":"PKn!N101","v":0},{"$error":"#DIV/0!"},{"$f":"BID!K101","v":{"$error":"#DIV/0!"}},{"$f":"BID!N101","v":{"$error":"#DIV/0!"}},{"$error":"#DIV/0!"},{"$f":"BA!K101","v":{"$error":"#DIV/0!"}},{"$f":"BA!N101","v":{"$error":"#DIV/0!"}},{"$error":"#DIV/0!"},{"$f":"MTK!K101","v":{"$error":"#DIV/0!"}},{"$f":"MTK!L101","v":0},{"$error":"#DIV/0!"},{"$f":"IPA!K101","v":{"$error":"#DIV/0!"}},{"$f":"IPA!N101","v":{"$error":"#DIV/0!"}},{"$error":"#DIV/0!"},{"$f":"IPS!K101","v":{"$error":"#DIV/0!"}},{"$f":"IPS!L101","v":0},{"$error":"#DIV/0!"},{"$f":"SBK!K101","v":{"$error":"#DIV/0!"}},{"$f":"SBK!N101","v":{"$error":"#DIV/0!"}},{"$error":"#DIV/0!"},{"$f":"PJK!K101","v":{"$error":"#DIV/0!"}},{"$f":"PJK!N101","v":{"$error":"#DIV/0!"}},{"$error":"#DIV/0!"},{"$f":"BD!K101","v":{"$error":"#DIV/0!"}},{"$f":"BD!N101","v":{"$error":"#DIV/0!"}},{"$error":"#DIV/0!"},{"$f":"BIG!K101","v":{"$error":"#DIV/0!"}},{"$f":"BIG!N101","v":{"$error":"#DIV/0!"}},{"$error":"#DIV/0!"},{"$f":"AWJ!N101","v":{"$error":"#DIV/0!"}},{"$f":"AWJ!P101","v":{"$error":"#DIV/0!"}},{"$error":"#DIV/0!"},{"$error":"#DIV/0!"},{"$error":"#DIV/0!"},null,{"$error":"#DIV/0!"},{"$error":"#DIV/0!"},null,{"$error":"#DIV/0!"},{"$error":"#DIV/0!"},{"$f":"IPA!L101","v":0},{"$error":"#DIV/0!"},0,{"$error":"#DIV/0!"},0,{"$error":"#DIV/0!"},{"$error":"#DIV/0!"},{"$error":"#DIV/0!"},{"$error":"#DIV/0!"},0,{"$error":"#DIV/0!"},{"$error":"#DIV/0!"},{"$error":"#DIV/0!"},{"$error":"#DIV/0!"},null,null,{"$error":"#DIV/0!"},0,{"$error":"#DIV/0!"},{"$error":"#DIV/0!"},0,{"$error":"#DIV/0!"},{"$error":"#DIV/0!"},0,{"$error":"#DIV/0!"},0,null,{"$f":"SISWA!S100","v":"144"},null,"094/Mi.13.05.162/PP.01.1/06/2020"]
[{"$f":"SISWA!A102","v":95},{"$f":"IF(SISWA!B102=0,\"\",SISWA!B102)","v":""},{"$f":"IF(SISWA!C102=0,\"\",SISWA!C102)","v":""},{"$f":"IF(SISWA!D102=0,\"\",SISWA!D102)","v":""},{"$f":"IF(SISWA!E102=0,\"\",SISWA!E102)","v":""},{"$f":"IF(SISWA!P101=0,\"\",SISWA!P101)","v":", 00 Januari 1900"},{"$f":"IF(SISWA!H102=0,\"\",SISWA!H102)","v":""},{"$f":"#REF!","v":{"$error":"#REF!"}},{"$f":"#REF!","v":{"$error":"#REF!"}},{"$error":"#REF!"},{"$f":"AA!#REF!","v":{"$error":"#REF!"}},{"$f":"AA!#REF!","v":{"$error":"#REF!"}},{"$error":"#REF!"},{"$f":"AH!#REF!","v":{"$error":"#REF!"}},{"$f":"AH!#REF!","v":{"$error":"#REF!"}},{"$error":"#REF!"},{"$f":"FQ!K102","v":{"$error":"#DIV/0!"}},{"$f":"FQ!N102","v":{"$error":"#DIV/0!"}},{"$error":"#DIV/0!"},{"$f":"SKI!K102","v":{"$error":"#DIV/0!"}},{"$f":"SKI!N102","v":{"$error":"#DIV/0!"}},{"$error":"#DIV/0!"},{"$f":"PKn!K102","v":{"$error":"#DIV/0!"}},{"$f":"PKn!N102","v":0},{"$error":"#DIV/0!"},{"$f":"BID!K102","v":{"$error":"#DIV/0!"}},{"$f":"BID!N102","v":{"$error":"#DIV/0!"}},{"$error":"#DIV/0!"},{"$f":"BA!K102","v":{"$error":"#DIV/0!"}},{"$f":"BA!N102","v":{"$error":"#DIV/0!"}},{"$error":"#DIV/0!"},{"$f":"MTK!K102","v":{"$error":"#DIV/0!"}},{"$f":"MTK!L102","v":0},{"$error":"#DIV/0!"},{"$f":"IPA!K102","v":{"$error":"#DIV/0!"}},{"$f":"IPA!N102","v":{"$error":"#DIV/0!"}},{"$error":"#DIV/0!"},{"$f":"IPS!#REF!","v":{"$error":"#REF!"}},{"$f":"IPS!#REF!","v":{"$error":"#REF!"}},{"$error":"#REF!"},{"$f":"SBK!K102","v":{"$error":"#DIV/0!"}},{"$f":"SBK!N102","v":{"$error":"#DIV/0!"}},{"$error":"#DIV/0!"},{"$f":"PJK!K102","v":{"$error":"#DIV/0!"}},{"$f":"PJK!N102","v":{"$error":"#DIV/0!"}},{"$error":"#DIV/0!"},{"$f":"BD!K102","v":{"$error":"#DIV/0!"}},{"$f":"BD!N102","v":{"$error":"#DIV/0!"}},{"$error":"#DIV/0!"},{"$f":"BIG!K102","v":{"$error":"#DIV/0!"}},{"$f":"BIG!N102","v":{"$error":"#DIV/0!"}},{"$error":"#DIV/0!"},{"$f":"AWJ!N102","v":{"$error":"#DIV/0!"}},{"$f":"AWJ!P102","v":{"$error":"#DIV/0!"}},{"$error":"#DIV/0!"},{"$error":"#REF!"},{"$error":"#DIV/0!"},null,{"$error":"#DIV/0!"},{"$error":"#DIV/0!"},null,{"$error":"#DIV/0!"},{"$error":"#DIV/0!"},{"$f":"IPA!L102","v":0},{"$error":"#DIV/0!"},0,{"$error":"#DIV/0!"},0,{"$error":"#DIV/0!"},{"$error":"#DIV/0!"},{"$error":"#DIV/0!"},{"$error":"#DIV/0!"},0,{"$error":"#DIV/0!"},{"$error":"#DIV/0!"},{"$error":"#DIV/0!"},{"$error":"#DIV/0!"},null,null,{"$error":"#DIV/0!"},0,{"$error":"#DIV/0!"},{"$error":"#DIV/0!"},0,{"$error":"#DIV/0!"},{"$error":"#DIV/0!"},0,{"$error":"#DIV/0!"},0,null,{"$f":"SISWA!S101","v":"145"},null,"095/Mi.13.05.162/PP.01.1/06/2020"]
[{"$f":"SISWA!A103","v":96},{"$f":"IF(SISWA!B103=0,\"\",SISWA!B103)","v":""},{"$f":"IF(SISWA!C103=0,\"\",SISWA!C103)","v":""},{"$f":"IF(SISWA!D103=0,\"\",SISWA!D103)","v":""},{"$f":"IF(SISWA!E103=0,\"\",SISWA!E103)","v":""},{"$f":"IF(SISWA!P102=0,\"\",SISWA!P102)","v":", 00 Januari 1900"},{"$f":"IF(SISWA!H103=0,\"\",SISWA!H103)","v":""},{"$f":"#REF!","v":{"$error":"#REF!"}},{"$f":"#REF!","v":{"$error":"#REF!"}},{"$error":"#REF!"},{"$f":"AA!#REF!","v":{"$error":"#REF!"}},{"$f":"AA!#REF!","v":{"$error":"#REF!"}},{"$error":"#REF!"},{"$f":"AH!#REF!","v":{"$error":"#REF!"}},{"$f":"AH!#REF!","v":{"$error":"#REF!"}},{"$error":"#REF!"},{"$f":"FQ!K103","v":{"$error":"#DIV/0!"}},{"$f":"FQ!N103","v":{"$error":"#DIV/0!"}},{"$error":"#DIV/0!"},{"$f":"SKI!K103","v":{"$error":"#DIV/0!"}},{"$f":"SKI!N103","v":{"$error":"#DIV/0!"}},{"$error":"#DIV/0!"},{"$f":"PKn!K103","v":{"$error":"#DIV/0!"}},{"$f":"PKn!N103","v":0},{"$error":"#DIV/0!"},{"$f":"BID!K103","v":{"$error":"#DIV/0!"}},{"$f":"BID!N103","v":{"$error":"#DIV/0!"}},{"$error":"#DIV/0!"},{"$f":"BA!K103","v":{"$error":"#DIV/0!"}},{"$f":"BA!N103","v":{"$error":"#DIV/0!"}},{"$error":"#DIV/0!"},{"$f":"MTK!K103","v":{"$error":"#DIV/0!"}},{"$f":"MTK!L103","v":0},{"$error":"#DIV/0!"},{"$f":"IPA!K103","v":{"$error":"#DIV/0!"}},{"$f":"IPA!N103","v":{"$error":"#DIV/0!"}},{"$error":"#DIV/0!"},{"$f":"IPS!#REF!","v":{"$error":"#REF!"}},{"$f":"IPS!#REF!","v":{"$error":"#REF!"}},{"$error":"#REF!"},{"$f":"SBK!K103","v":{"$error":"#DIV/0!"}},{"$f":"SBK!N103","v":{"$error":"#DIV/0!"}},{"$error":"#DIV/0!"},{"$f":"PJK!K103","v":{"$error":"#DIV/0!"}},{"$f":"PJK!N103","v":{"$error":"#DIV/0!"}},{"$error":"#DIV/0!"},{"$f":"BD!K103","v":{"$error":"#DIV/0!"}},{"$f":"BD!N103","v":{"$error":"#DIV/0!"}},{"$error":"#DIV/0!"},{"$f":"BIG!K103","v":{"$error":"#DIV/0!"}},{"$f":"BIG!N103","v":{"$error":"#DIV/0!"}},{"$error":"#DIV/0!"},{"$f":"AWJ!N103","v":{"$error":"#DIV/0!"}},{"$f":"AWJ!P103","v":{"$error":"#DIV/0!"}},{"$error":"#DIV/0!"},{"$error":"#REF!"},{"$error":"#DIV/0!"},null,{"$error":"#DIV/0!"},{"$error":"#DIV/0!"},null,{"$error":"#DIV/0!"},{"$error":"#DIV/0!"},{"$f":"IPA!L103","v":0},{"$error":"#DIV/0!"},0,{"$error":"#DIV/0!"},0,{"$error":"#DIV/0!"},{"$error":"#DIV/0!"},{"$error":"#DIV/0!"},{"$error":"#DIV/0!"},0,{"$error":"#DIV/0!"},{"$error":"#DIV/0!"},{"$error":"#DIV/0!"},{"$error":"#DIV/0!"},null,null,{"$error":"#DIV/0!"},0,{"$error":"#DIV/0!"},{"$error":"#DIV/0!"},0,{"$error":"#DIV/0!"},{"$error":"#DIV/0!"},0,{"$error":"#DIV/0!"},0,null,{"$f":"SISWA!S102","v":"146"},null,"096/Mi.13.05.162/PP.01.1/06/2020"]
[{"$f":"SISWA!A104","v":97},{"$f":"IF(SISWA!B104=0,\"\",SISWA!B104)","v":""},{"$f":"IF(SISWA!C104=0,\"\",SISWA!C104)","v":""},{"$f":"IF(SISWA!D104=0,\"\",SISWA!D104)","v":""},{"$f":"IF(SISWA!E104=0,\"\",SISWA!E104)","v":""},{"$f":"IF(SISWA!P103=0,\"\",SISWA!P103)","v":", 00 Januari 1900"},{"$f":"IF(SISWA!H104=0,\"\",SISWA!H104)","v":""},{"$f":"#REF!","v":{"$error":"#REF!"}},{"$f":"#REF!","v":{"$error":"#REF!"}},{"$error":"#REF!"},{"$f":"AA!#REF!","v":{"$error":"#REF!"}},{"$f":"AA!#REF!","v":{"$error":"#REF!"}},{"$error":"#REF!"},{"$f":"AH!#REF!","v":{"$error":"#REF!"}},{"$f":"AH!#REF!","v":{"$error":"#REF!"}},{"$error":"#REF!"},{"$f":"FQ!K104","v":{"$error":"#DIV/0!"}},{"$f":"FQ!N104","v":{"$error":"#DIV/0!"}},{"$error":"#DIV/0!"},{"$f":"SKI!K104","v":{"$error":"#DIV/0!"}},{"$f":"SKI!N104","v":{"$error":"#DIV/0!"}},{"$error":"#DIV/0!"},{"$f":"PKn!K104","v":{"$error":"#DIV/0!"}},{"$f":"PKn!N104","v":0},{"$error":"#DIV/0!"},{"$f":"BID!K104","v":{"$error":"#DIV/0!"}},{"$f":"BID!N104","v":{"$error":"#DIV/0!"}},{"$error":"#DIV/0!"},{"$f":"BA!K104","v":{"$error":"#DIV/0!"}},{"$f":"BA!N104","v":{"$error":"#DIV/0!"}},{"$error":"#DIV/0!"},{"$f":"MTK!K104","v":{"$error":"#DIV/0!"}},{"$f":"MTK!L104","v":0},{"$error":"#DIV/0!"},{"$f":"IPA!K104","v":{"$error":"#DIV/0!"}},{"$f":"IPA!N104","v":{"$error":"#DIV/0!"}},{"$error":"#DIV/0!"},{"$f":"IPS!#REF!","v":{"$error":"#REF!"}},{"$f":"IPS!#REF!","v":{"$error":"#REF!"}},{"$error":"#REF!"},{"$f":"SBK!K104","v":{"$error":"#DIV/0!"}},{"$f":"SBK!N104","v":{"$error":"#DIV/0!"}},{"$error":"#DIV/0!"},{"$f":"PJK!K104","v":{"$error":"#DIV/0!"}},{"$f":"PJK!N104","v":{"$error":"#DIV/0!"}},{"$error":"#DIV/0!"},{"$f":"BD!K104","v":{"$error":"#DIV/0!"}},{"$f":"BD!N104","v":{"$error":"#DIV/0!"}},{"$error":"#DIV/0!"},{"$f":"BIG!K104","v":{"$error":"#DIV/0!"}},{"$f":"BIG!N104","v":{"$error":"#DIV/0!"}},{"$error":"#DIV/0!"},{"$f":"AWJ!N104","v":{"$error":"#DIV/0!"}},{"$f":"AWJ!P104","v":{"$error":"#DIV/0!"}},{"$error":"#DIV/0!"},{"$error":"#REF!"},{"$f":"AB105","v":{"$error":"#DIV/0!"}},null,{"$f":"(BE105*60%)+(BF105*40%)","v":{"$error":"#DIV/0!"}},{"$f":"AH105","v":{"$error":"#DIV/0!"}},null,{"$f":"(BH105*60%)+(BI105*40%)","v":{"$error":"#DIV/0!"}},{"$f":"AK105","v":{"$error":"#DIV/0!"}},{"$f":"IPA!L104","v":0},{"$f":"(BK105*60%)+(BL105*40%)","v":{"$error":"#DIV/0!"}},0,{"$f":"SUM(BG105,BJ105,BM105)","v":{"$error":"#DIV/0!"}},0,{"$error":"#DIV/0!"},{"$error":"#DIV/0!"},{"$error":"#DIV/0!"},{"$error":"#DIV/0!"},0,{"$error":"#DIV/0!"},{"$error":"#DIV/0!"},{"$error":"#DIV/0!"},{"$error":"#DIV/0!"},null,null,{"$error":"#DIV/0!"},0,{"$error":"#DIV/0!"},{"$error":"#DIV/0!"},0,{"$error":"#DIV/0!"},{"$error":"#DIV/0!"},0,{"$error":"#DIV/0!"},0,null,{"$f":"SISWA!S103","v":"147"},null,"097/Mi.13.05.162/PP.01.1/06/2020"]
[{"$f":"SISWA!A105","v":98},{"$f":"IF(SISWA!B105=0,\"\",SISWA!B105)","v":""},{"$f":"IF(SISWA!C105=0,\"\",SISWA!C105)","v":""},{"$f":"IF(SISWA!D105=0,\"\",SISWA!D105)","v":""},{"$f":"IF(SISWA!E105=0,\"\",SISWA!E105)","v":""},{"$f":"IF(SISWA!P104=0,\"\",SISWA!P104)","v":", 00 Januari 1900"},{"$f":"IF(SISWA!H105=0,\"\",SISWA!H105)","v":""},{"$f":"#REF!","v":{"$error":"#REF!"}},{"$f":"#REF!","v":{"$error":"#REF!"}},{"$error":"#REF!"},{"$f":"AA!#REF!","v":{"$error":"#REF!"}},{"$f":"AA!#REF!","v":{"$error":"#REF!"}},{"$error":"#REF!"},{"$f":"AH!#REF!","v":{"$error":"#REF!"}},{"$f":"AH!#REF!","v":{"$error":"#REF!"}},{"$error":"#REF!"},{"$f":"FQ!K105","v":{"$error":"#DIV/0!"}},{"$f":"FQ!N105","v":{"$error":"#DIV/0!"}},{"$error":"#DIV/0!"},{"$f":"SKI!K105","v":{"$error":"#DIV/0!"}},{"$f":"SKI!N105","v":{"$error":"#DIV/0!"}},{"$error":"#DIV/0!"},{"$f":"PKn!K105","v":{"$error":"#DIV/0!"}},{"$f":"PKn!N105","v":0},{"$error":"#DIV/0!"},{"$f":"BID!K105","v":{"$error":"#DIV/0!"}},{"$f":"BID!N105","v":{"$error":"#DIV/0!"}},{"$error":"#DIV/0!"},{"$f":"BA!K105","v":{"$error":"#DIV/0!"}},{"$f":"BA!N105","v":{"$error":"#DIV/0!"}},{"$error":"#DIV/0!"},{"$f":"MTK!K105","v":{"$error":"#DIV/0!"}},{"$f":"MTK!L105","v":0},{"$error":"#DIV/0!"},{"$f":"IPA!K105","v":{"$error":"#DIV/0!"}},{"$f":"IPA!N105","v":{"$error":"#DIV/0!"}},{"$error":"#DIV/0!"},{"$f":"IPS!#REF!","v":{"$error":"#REF!"}},{"$f":"IPS!#REF!","v":{"$error":"#REF!"}},{"$error":"#REF!"},{"$f":"SBK!K105","v":{"$error":"#DIV/0!"}},{"$f":"SBK!N105","v":{"$error":"#DIV/0!"}},{"$error":"#DIV/0!"},{"$f":"PJK!K105","v":{"$error":"#DIV/0!"}},{"$f":"PJK!N105","v":{"$error":"#DIV/0!"}},{"$error":"#DIV/0!"},{"$f":"BD!K105","v":{"$error":"#DIV/0!"}},{"$f":"BD!N105","v":{"$error":"#DIV/0!"}},{"$error":"#DIV/0!"},{"$f":"BIG!K105","v":{"$error":"#DIV/0!"}},{"$f":"BIG!N105","v":{"$error":"#DIV/0!"}},{"$error":"#DIV/0!"},{"$f":"AWJ!N105","v":{"$error":"#DIV/0!"}},{"$f":"AWJ!P105","v":{"$error":"#DIV/0!"}},{"$error":"#DIV/0!"},{"$error":"#REF!"},{"$error":"#DIV/0!"},null,{"$error":"#DIV/0!"},{"$error":"#DIV/0!"},null,{"$error":"#DIV/0!"},{"$error":"#DIV/0!"},{"$f":"IPA!L105","v":0},{"$error":"#DIV/0!"},0,{"$error":"#DIV/0!"},0,{"$error":"#DIV/0!"},{"$error":"#DIV/0!"},{"$error":"#DIV/0!"},{"$error":"#DIV/0!"},0,{"$error":"#DIV/0!"},{"$error":"#DIV/0!"},{"$error":"#DIV/0!"},{"$error":"#DIV/0!"},null,null,{"$error":"#DIV/0!"},0,{"$error":"#DIV/0!"},{"$error":"#DIV/0!"},0,{"$error":"#DIV/0!"},{"$error":"#DIV/0!"},0,{"$error":"#DIV/0!"},0,null,{"$f":"SISWA!S104","v":"148"},null,"098/Mi.13.05.162/PP.01.1/06/2020"]
[{"$f":"SISWA!A106","v":99},{"$f":"IF(SISWA!B106=0,\"\",SISWA!B106)","v":""},{"$f":"IF(SISWA!C106=0,\"\",SISWA!C106)","v":""},{"$f":"IF(SISWA!D106=0,\"\",SISWA!D106)","v":""},{"$f":"IF(SISWA!E106=0,\"\",SISWA!E106)","v":""},{"$f":"IF(SISWA!P105=0,\"\",SISWA!P105)","v":", 00 Januari 1900"},{"$f":"IF(SISWA!H106=0,\"\",SISWA!H106)","v":""},{"$f":"#REF!","v":{"$error":"#REF!"}},{"$f":"#REF!","v":{"$error":"#REF!"}},{"$error":"#REF!"},{"$f":"AA!#REF!","v":{"$error":"#REF!"}},{"$f":"AA!#REF!","v":{"$error":"#REF!"}},{"$error":"#REF!"},{"$f":"AH!#REF!","v":{"$error":"#REF!"}},{"$f":"AH!#REF!","v":{"$error":"#REF!"}},{"$error":"#REF!"},{"$f":"FQ!K106","v":{"$error":"#DIV/0!"}},{"$f":"FQ!N106","v":{"$error":"#DIV/0!"}},{"$error":"#DIV/0!"},{"$f":"SKI!K106","v":{"$error":"#DIV/0!"}},{"$f":"SKI!N106","v":{"$error":"#DIV/0!"}},{"$error":"#DIV/0!"},{"$f":"PKn!K106","v":{"$error":"#DIV/0!"}},{"$f":"PKn!N106","v":0},{"$error":"#DIV/0!"},{"$f":"BID!K106","v":{"$error":"#DIV/0!"}},{"$f":"BID!N106","v":{"$error":"#DIV/0!"}},{"$error":"#DIV/0!"},{"$f":"BA!K106","v":{"$error":"#DIV/0!"}},{"$f":"BA!N106","v":{"$error":"#DIV/0!"}},{"$error":"#DIV/0!"},{"$f":"MTK!K106","v":{"$error":"#DIV/0!"}},{"$f":"MTK!L106","v":0},{"$error":"#DIV/0!"},{"$f":"IPA!K106","v":{"$error":"#DIV/0!"}},{"$f":"IPA!N106","v":{"$error":"#DIV/0!"}},{"$error":"#DIV/0!"},{"$f":"IPS!#REF!","v":{"$error":"#REF!"}},{"$f":"IPS!#REF!","v":{"$error":"#REF!"}},{"$error":"#REF!"},{"$f":"SBK!K106","v":{"$error":"#DIV/0!"}},{"$f":"SBK!N106","v":{"$error":"#DIV/0!"}},{"$error":"#DIV/0!"},{"$f":"PJK!K106","v":{"$error":"#DIV/0!"}},{"$f":"PJK!N106","v":{"$error":"#DIV/0!"}},{"$error":"#DIV/0!"},{"$f":"BD!K106","v":{"$error":"#DIV/0!"}},{"$f":"BD!N106","v":{"$error":"#DIV/0!"}},{"$error":"#DIV/0!"},{"$f":"BIG!K106","v":{"$error":"#DIV/0!"}},{"$f":"BIG!N106","v":{"$error":"#DIV/0!"}},{"$error":"#DIV/0!"},{"$f":"AWJ!N106","v":{"$error":"#DIV/0!"}},{"$f":"AWJ!P106","v":{"$error":"#DIV/0!"}},{"$error":"#DIV/0!"},{"$error":"#REF!"},{"$error":"#DIV/0!"},null,{"$error":"#DIV/0!"},{"$error":"#DIV/0!"},null,{"$error":"#DIV/0!"},{"$error":"#DIV/0!"},{"$f":"IPA!L106","v":0},{"$error":"#DIV/0!"},0,{"$error":"#DIV/0!"},0,{"$error":"#DIV/0!"},{"$error":"#DIV/0!"},{"$error":"#DIV/0!"},{"$error":"#DIV/0!"},0,{"$error":"#DIV/0!"},{"$error":"#DIV/0!"},{"$error":"#DIV/0!"},{"$error":"#DIV/0!"},null,null,{"$error":"#DIV/0!"},0,{"$error":"#DIV/0!"},{"$error":"#DIV/0!"},0,{"$error":"#DIV/0!"},{"$error":"#DIV/0!"},0,{"$error":"#DIV/0!"},0,null,{"$f":"SISWA!S105","v":"149"},null,"099/Mi.13.05.162/PP.01.1/06/2020"]
[{"$f":"SISWA!A107","v":100},{"$f":"IF(SISWA!B107=0,\"\",SISWA!B107)","v":""},{"$f":"IF(SISWA!C107=0,\"\",SISWA!C107)","v":""},{"$f":"IF(SISWA!D107=0,\"\",SISWA!D107)","v":""},{"$f":"IF(SISWA!E107=0,\"\",SISWA!E107)","v":""},{"$f":"IF(SISWA!P106=0,\"\",SISWA!P106)","v":", 00 Januari 1900"},{"$f":"IF(SISWA!H107=0,\"\",SISWA!H107)","v":""},{"$f":"#REF!","v":{"$error":"#REF!"}},{"$f":"#REF!","v":{"$error":"#REF!"}},{"$error":"#REF!"},{"$f":"AA!#REF!","v":{"$error":"#REF!"}},{"$f":"AA!#REF!","v":{"$error":"#REF!"}},{"$error":"#REF!"},{"$f":"AH!#REF!","v":{"$error":"#REF!"}},{"$f":"AH!#REF!","v":{"$error":"#REF!"}},{"$error":"#REF!"},{"$f":"FQ!K107","v":{"$error":"#DIV/0!"}},{"$f":"FQ!N107","v":{"$error":"#DIV/0!"}},{"$error":"#DIV/0!"},{"$f":"SKI!K107","v":{"$error":"#DIV/0!"}},{"$f":"SKI!N107","v":{"$error":"#DIV/0!"}},{"$error":"#DIV/0!"},{"$f":"PKn!K107","v":{"$error":"#DIV/0!"}},{"$f":"PKn!N107","v":0},{"$error":"#DIV/0!"},{"$f":"BID!K107","v":{"$error":"#DIV/0!"}},{"$f":"BID!N107","v":{"$error":"#DIV/0!"}},{"$error":"#DIV/0!"},{"$f":"BA!K107","v":{"$error":"#DIV/0!"}},{"$f":"BA!N107","v":{"$error":"#DIV/0!"}},{"$error":"#DIV/0!"},{"$f":"MTK!K107","v":{"$error":"#DIV/0!"}},{"$f":"MTK!L107","v":0},{"$error":"#DIV/0!"},{"$f":"IPA!K107","v":{"$error":"#DIV/0!"}},{"$f":"IPA!N107","v":{"$error":"#DIV/0!"}},{"$error":"#DIV/0!"},{"$f":"IPS!#REF!","v":{"$error":"#REF!"}},{"$f":"IPS!#REF!","v":{"$error":"#REF!"}},{"$error":"#REF!"},{"$f":"SBK!K107","v":{"$error":"#DIV/0!"}},{"$f":"SBK!N107","v":{"$error":"#DIV/0!"}},{"$error":"#DIV/0!"},{"$f":"PJK!K107","v":{"$error":"#DIV/0!"}},{"$f":"PJK!N107","v":{"$error":"#DIV/0!"}},{"$error":"#DIV/0!"},{"$f":"BD!K107","v":{"$error":"#DIV/0!"}},{"$f":"BD!N107","v":{"$error":"#DIV/0!"}},{"$error":"#DIV/0!"},{"$f":"BIG!K107","v":{"$error":"#DIV/0!"}},{"$f":"BIG!N107","v":{"$error":"#DIV/0!"}},{"$error":"#DIV/0!"},{"$f":"AWJ!N107","v":{"$error":"#DIV/0!"}},{"$f":"AWJ!P107","v":{"$error":"#DIV/0!"}},{"$error":"#DIV/0!"},{"$error":"#REF!"},{"$error":"#DIV/0!"},null,{"$error":"#DIV/0!"},{"$error":"#DIV/0!"},null,{"$error":"#DIV/0!"},{"$error":"#DIV/0!"},{"$f":"IPA!L107","v":0},{"$error":"#DIV/0!"},0,{"$error":"#DIV/0!"},0,{"$error":"#DIV/0!"},{"$error":"#DIV/0!"},{"$error":"#DIV/0!"},{"$error":"#DIV/0!"},0,{"$error":"#DIV/0!"},{"$error":"#DIV/0!"},{"$error":"#DIV/0!"},{"$error":"#DIV/0!"},null,null,{"$error":"#DIV/0!"},0,{"$error":"#DIV/0!"},{"$error":"#DIV/0!"},0,{"$error":"#DIV/0!"},{"$error":"#DIV/0!"},0,{"$error":"#DIV/0!"},0,null,{"$f":"SISWA!S106","v":"150"},null,{"$f":"A108&\"/Mi.13.05.162/PP.01.1/06/2020\"","v":"100/Mi.13.05.162/PP.01.1/06/2020"}]
[{"$f":"SISWA!A108","v":101},{"$f":"IF(SISWA!B108=0,\"\",SISWA!B108)","v":""},{"$f":"IF(SISWA!C108=0,\"\",SISWA!C108)","v":""},{"$f":"IF(SISWA!D108=0,\"\",SISWA!D108)","v":""},{"$f":"IF(SISWA!E108=0,\"\",SISWA!E108)","v":""},{"$f":"IF(SISWA!P107=0,\"\",SISWA!P107)","v":", 00 Januari 1900"},{"$f":"IF(SISWA!H108=0,\"\",SISWA!H108)","v":""},{"$f":"#REF!","v":{"$error":"#REF!"}},{"$f":"#REF!","v":{"$error":"#REF!"}},{"$error":"#REF!"},{"$f":"AA!#REF!","v":{"$error":"#REF!"}},{"$f":"AA!#REF!","v":{"$error":"#REF!"}},{"$error":"#REF!"},{"$f":"AH!#REF!","v":{"$error":"#REF!"}},{"$f":"AH!#REF!","v":{"$error":"#REF!"}},{"$error":"#REF!"},{"$f":"FQ!K108","v":{"$error":"#DIV/0!"}},{"$f":"FQ!N108","v":{"$error":"#DIV/0!"}},{"$error":"#DIV/0!"},{"$f":"SKI!K108","v":{"$error":"#DIV/0!"}},{"$f":"SKI!N108","v":{"$error":"#DIV/0!"}},{"$error":"#DIV/0!"},{"$f":"PKn!K108","v":{"$error":"#DIV/0!"}},{"$f":"PKn!N108","v":0},{"$error":"#DIV/0!"},{"$f":"BID!K108","v":{"$error":"#DIV/0!"}},{"$f":"BID!N108","v":{"$error":"#DIV/0!"}},{"$error":"#DIV/0!"},{"$f":"BA!K108","v":{"$error":"#DIV/0!"}},{"$f":"BA!N108","v":{"$error":"#DIV/0!"}},{"$error":"#DIV/0!"},{"$f":"MTK!K108","v":{"$error":"#DIV/0!"}},{"$f":"MTK!L108","v":0},{"$error":"#DIV/0!"},{"$f":"IPA!K108","v":{"$error":"#DIV/0!"}},{"$f":"IPA!N108","v":{"$error":"#DIV/0!"}},{"$error":"#DIV/0!"},{"$f":"IPS!#REF!","v":{"$error":"#REF!"}},{"$f":"IPS!#REF!","v":{"$error":"#REF!"}},{"$error":"#REF!"},{"$f":"SBK!K108","v":{"$error":"#DIV/0!"}},{"$f":"SBK!N108","v":{"$error":"#DIV/0!"}},{"$error":"#DIV/0!"},{"$f":"PJK!K108","v":{"$error":"#DIV/0!"}},{"$f":"PJK!N108","v":{"$error":"#DIV/0!"}},{"$error":"#DIV/0!"},{"$f":"BD!K108","v":{"$error":"#DIV/0!"}},{"$f":"BD!N108","v":{"$error":"#DIV/0!"}},{"$error":"#DIV/0!"},{"$f":"BIG!K108","v":{"$error":"#DIV/0!"}},{"$f":"BIG!N108","v":{"$error":"#DIV/0!"}},{"$error":"#DIV/0!"},{"$f":"AWJ!N108","v":{"$error":"#DIV/0!"}},{"$f":"AWJ!P108","v":{"$error":"#DIV/0!"}},{"$error":"#DIV/0!"},{"$error":"#REF!"},{"$error":"#DIV/0!"},null,{"$error":"#DIV/0!"},{"$error":"#DIV/0!"},null,{"$error":"#DIV/0!"},{"$error":"#DIV/0!"},{"$f":"IPA!L108","v":0},{"$error":"#DIV/0!"},0,{"$error":"#DIV/0!"},0,{"$error":"#DIV/0!"},{"$error":"#DIV/0!"},{"$error":"#DIV/0!"},{"$error":"#DIV/0!"},0,{"$error":"#DIV/0!"},{"$error":"#DIV/0!"},{"$error":"#DIV/0!"},{"$error":"#DIV/0!"},null,null,{"$error":"#DIV/0!"},0,{"$error":"#DIV/0!"},{"$error":"#DIV/0!"},0,{"$error":"#DIV/0!"},{"$error":"#DIV/0!"},0,{"$error":"#DIV/0!"},0,null,{"$f":"SISWA!S107","v":"151"},null,{"$f":"A109&\"/Mi.13.05.162/PP.01.1/06/2020\"","v":"101/Mi.13.05.162/PP.01.1/06/2020"}]
[{"$f":"SISWA!A109","v":102},{"$f":"IF(SISWA!B109=0,\"\",SISWA!B109)","v":""},{"$f":"IF(SISWA!C109=0,\"\",SISWA!C109)","v":""},{"$f":"IF(SISWA!D109=0,\"\",SISWA!D109)","v":""},{"$f":"IF(SISWA!E109=0,\"\",SISWA!E109)","v":""},{"$f":"IF(SISWA!P108=0,\"\",SISWA!P108)","v":", 00 Januari 1900"},{"$f":"IF(SISWA!H109=0,\"\",SISWA!H109)","v":""},{"$f":"#REF!","v":{"$error":"#REF!"}},{"$f":"#REF!","v":{"$error":"#REF!"}},{"$error":"#REF!"},{"$f":"AA!#REF!","v":{"$error":"#REF!"}},{"$f":"AA!#REF!","v":{"$error":"#REF!"}},{"$error":"#REF!"},{"$f":"AH!#REF!","v":{"$error":"#REF!"}},{"$f":"AH!#REF!","v":{"$error":"#REF!"}},{"$error":"#REF!"},{"$f":"FQ!#REF!","v":{"$error":"#REF!"}},{"$f":"FQ!#REF!","v":{"$error":"#REF!"}},{"$error":"#REF!"},{"$f":"SKI!#REF!","v":{"$error":"#REF!"}},{"$f":"SKI!#REF!","v":{"$error":"#REF!"}},{"$error":"#REF!"},{"$f":"PKn!#REF!","v":{"$error":"#REF!"}},{"$f":"PKn!#REF!","v":{"$error":"#REF!"}},{"$error":"#REF!"},{"$f":"BID!#REF!","v":{"$error":"#REF!"}},{"$f":"BID!#REF!","v":{"$error":"#REF!"}},{"$error":"#REF!"},{"$f":"BA!#REF!","v":{"$error":"#REF!"}},{"$f":"BA!#REF!","v":{"$error":"#REF!"}},{"$error":"#REF!"},{"$f":"MTK!#REF!","v":{"$error":"#REF!"}},{"$f":"MTK!#REF!","v":{"$error":"#REF!"}},{"$error":"#REF!"},{"$f":"IPA!K109","v":{"$error":"#DIV/0!"}},{"$f":"IPA!N109","v":{"$error":"#DIV/0!"}},{"$error":"#DIV/0!"},{"$f":"IPS!#REF!","v":{"$error":"#REF!"}},{"$f":"IPS!#REF!","v":{"$error":"#REF!"}},{"$error":"#REF!"},{"$f":"SBK!#REF!","v":{"$error":"#REF!"}},{"$f":"SBK!#REF!","v":{"$error":"#REF!"}},{"$error":"#REF!"},{"$f":"PJK!#REF!","v":{"$error":"#REF!"}},{"$f":"PJK!#REF!","v":{"$error":"#REF!"}},{"$error":"#REF!"},{"$f":"BD!#REF!","v":{"$error":"#REF!"}},{"$f":"BD!#REF!","v":{"$error":"#REF!"}},{"$error":"#REF!"},{"$f":"BIG!K109","v":{"$error":"#DIV/0!"}},{"$f":"BIG!N109","v":{"$error":"#DIV/0!"}},{"$error":"#DIV/0!"},{"$f":"AWJ!N109","v":0},{"$f":"AWJ!P109","v":0},0,{"$error":"#REF!"},{"$error":"#REF!"},null,{"$error":"#REF!"},{"$error":"#REF!"},null,{"$error":"#REF!"},{"$error":"#DIV/0!"},{"$f":"IPA!L109","v":0},{"$error":"#DIV/0!"},0,{"$error":"#REF!"},0,{"$error":"#REF!"},{"$error":"#REF!"},{"$error":"#REF!"},{"$error":"#REF!"},{"$error":"#REF!"},{"$error":"#REF!"},{"$error":"#DIV/0!"},{"$error":"#DIV/0!"},{"$error":"#DIV/0!"},null,null,{"$error":"#REF!"},0,{"$error":"#REF!"},{"$error":"#REF!"},0,{"$error":"#REF!"},{"$error":"#DIV/0!"},0,{"$error":"#DIV/0!"},0,null,{"$f":"SISWA!S108","v":"152"},null,"102/Mi.13.05.162/PP.01.1/06/2020"]
[{"$f":"SISWA!A110","v":103},{"$f":"IF(SISWA!B110=0,\"\",SISWA!B110)","v":""},{"$f":"IF(SISWA!C110=0,\"\",SISWA!C110)","v":""},{"$f":"IF(SISWA!D110=0,\"\",SISWA!D110)","v":""},{"$f":"IF(SISWA!E110=0,\"\",SISWA!E110)","v":""},{"$f":"IF(SISWA!P109=0,\"\",SISWA!P109)","v":", 00 Januari 1900"},{"$f":"IF(SISWA!H110=0,\"\",SISWA!H110)","v":""},{"$f":"#REF!","v":{"$error":"#REF!"}},{"$f":"#REF!","v":{"$error":"#REF!"}},{"$error":"#REF!"},{"$f":"AA!#REF!","v":{"$error":"#REF!"}},{"$f":"AA!#REF!","v":{"$error":"#REF!"}},{"$error":"#REF!"},{"$f":"AH!#REF!","v":{"$error":"#REF!"}},{"$f":"AH!#REF!","v":{"$error":"#REF!"}},{"$error":"#REF!"},{"$f":"FQ!#REF!","v":{"$error":"#REF!"}},{"$f":"FQ!#REF!","v":{"$error":"#REF!"}},{"$error":"#REF!"},{"$f":"SKI!#REF!","v":{"$error":"#REF!"}},{"$f":"SKI!#REF!","v":{"$error":"#REF!"}},{"$error":"#REF!"},{"$f":"PKn!#REF!","v":{"$error":"#REF!"}},{"$f":"PKn!#REF!","v":{"$error":"#REF!"}},{"$error":"#REF!"},{"$f":"BID!#REF!","v":{"$error":"#REF!"}},{"$f":"BID!#REF!","v":{"$error":"#REF!"}},{"$error":"#REF!"},{"$f":"BA!#REF!","v":{"$error":"#REF!"}},{"$f":"BA!#REF!","v":{"$error":"#REF!"}},{"$error":"#REF!"},{"$f":"MTK!#REF!","v":{"$error":"#REF!"}},{"$f":"MTK!#REF!","v":{"$error":"#REF!"}},{"$error":"#REF!"},{"$f":"IPA!K110","v":{"$error":"#DIV/0!"}},{"$f":"IPA!N110","v":{"$error":"#DIV/0!"}},{"$error":"#DIV/0!"},{"$f":"IPS!#REF!","v":{"$error":"#REF!"}},{"$f":"IPS!#REF!","v":{"$error":"#REF!"}},{"$error":"#REF!"},{"$f":"SBK!#REF!","v":{"$error":"#REF!"}},{"$f":"SBK!#REF!","v":{"$error":"#REF!"}},{"$error":"#REF!"},{"$f":"PJK!#REF!","v":{"$error":"#REF!"}},{"$f":"PJK!#REF!","v":{"$error":"#REF!"}},{"$error":"#REF!"},{"$f":"BD!#REF!","v":{"$error":"#REF!"}},{"$f":"BD!#REF!","v":{"$error":"#REF!"}},{"$error":"#REF!"},{"$f":"BIG!K110","v":{"$error":"#DIV/0!"}},{"$f":"BIG!N110","v":{"$error":"#DIV/0!"}},{"$error":"#DIV/0!"},{"$f":"AWJ!N110","v":0},{"$f":"AWJ!P110","v":0},0,{"$error":"#REF!"},{"$error":"#REF!"},null,{"$error":"#REF!"},{"$error":"#REF!"},null,{"$error":"#REF!"},{"$error":"#DIV/0!"},{"$f":"IPA!L110","v":0},{"$error":"#DIV/0!"},0,{"$error":"#REF!"},0,{"$error":"#REF!"},{"$error":"#REF!"},{"$error":"#REF!"},{"$error":"#REF!"},{"$error":"#REF!"},{"$error":"#REF!"},{"$error":"#DIV/0!"},{"$error":"#DIV/0!"},{"$error":"#DIV/0!"},null,null,{"$error":"#REF!"},0,{"$error":"#REF!"},{"$error":"#REF!"},0,{"$error":"#REF!"},{"$error":"#DIV/0!"},0,{"$error":"#DIV/0!"},0,null,{"$f":"SISWA!S109","v":"153"},null,"103/Mi.13.05.162/PP.01.1/06/2020"]
[{"$f":"SISWA!A111","v":104},{"$f":"IF(SISWA!B111=0,\"\",SISWA!B111)","v":""},{"$f":"IF(SISWA!C111=0,\"\",SISWA!C111)","v":""},{"$f":"IF(SISWA!D111=0,\"\",SISWA!D111)","v":""},{"$f":"IF(SISWA!E111=0,\"\",SISWA!E111)","v":""},{"$f":"IF(SISWA!P110=0,\"\",SISWA!P110)","v":", 00 Januari 1900"},{"$f":"IF(SISWA!H111=0,\"\",SISWA!H111)","v":""},{"$f":"#REF!","v":{"$error":"#REF!"}},{"$f":"#REF!","v":{"$error":"#REF!"}},{"$error":"#REF!"},{"$f":"AA!#REF!","v":{"$error":"#REF!"}},{"$f":"AA!#REF!","v":{"$error":"#REF!"}},{"$error":"#REF!"},{"$f":"AH!#REF!","v":{"$error":"#REF!"}},{"$f":"AH!#REF!","v":{"$error":"#REF!"}},{"$error":"#REF!"},{"$f":"FQ!#REF!","v":{"$error":"#REF!"}},{"$f":"FQ!#REF!","v":{"$error":"#REF!"}},{"$error":"#REF!"},{"$f":"SKI!#REF!","v":{"$error":"#REF!"}},{"$f":"SKI!#REF!","v":{"$error":"#REF!"}},{"$error":"#REF!"},{"$f":"PKn!#REF!","v":{"$error":"#REF!"}},{"$f":"PKn!#REF!","v":{"$error":"#REF!"}},{"$error":"#REF!"},{"$f":"BID!#REF!","v":{"$error":"#REF!"}},{"$f":"BID!#REF!","v":{"$error":"#REF!"}},{"$error":"#REF!"},{"$f":"BA!#REF!","v":{"$error":"#REF!"}},{"$f":"BA!#REF!","v":{"$error":"#REF!"}},{"$error":"#REF!"},{"$f":"MTK!#REF!","v":{"$error":"#REF!"}},{"$f":"MTK!#REF!","v":{"$error":"#REF!"}},{"$error":"#REF!"},{"$f":"IPA!K111","v":{"$error":"#DIV/0!"}},{"$f":"IPA!N111","v":{"$error":"#DIV/0!"}},{"$error":"#DIV/0!"},{"$f":"IPS!#REF!","v":{"$error":"#REF!"}},{"$f":"IPS!#REF!","v":{"$error":"#REF!"}},{"$error":"#REF!"},{"$f":"SBK!#REF!","v":{"$error":"#REF!"}},{"$f":"SBK!#REF!","v":{"$error":"#REF!"}},{"$error":"#REF!"},{"$f":"PJK!#REF!","v":{"$error":"#REF!"}},{"$f":"PJK!#REF!","v":{"$error":"#REF!"}},{"$error":"#REF!"},{"$f":"BD!#REF!","v":{"$error":"#REF!"}},{"$f":"BD!#REF!","v":{"$error":"#REF!"}},{"$error":"#REF!"},{"$f":"BIG!K111","v":{"$error":"#DIV/0!"}},{"$f":"BIG!N111","v":{"$error":"#DIV/0!"}},{"$error":"#DIV/0!"},{"$f":"AWJ!N111","v":0},{"$f":"AWJ!P111","v":0},0,{"$error":"#REF!"},{"$error":"#REF!"},null,{"$error":"#REF!"},{"$error":"#REF!"},null,{"$error":"#REF!"},{"$error":"#DIV/0!"},{"$f":"IPA!L111","v":0},{"$error":"#DIV/0!"},0,{"$error":"#REF!"},0,{"$error":"#REF!"},{"$error":"#REF!"},{"$error":"#REF!"},{"$error":"#REF!"},{"$error":"#REF!"},{"$error":"#REF!"},{"$error":"#DIV/0!"},{"$error":"#DIV/0!"},{"$error":"#DIV/0!"},null,null,{"$error":"#REF!"},0,{"$error":"#REF!"},{"$error":"#REF!"},0,{"$error":"#REF!"},{"$error":"#DIV/0!"},0,{"$error":"#DIV/0!"},0,null,{"$f":"SISWA!S110","v":"154"},null,"104/Mi.13.05.162/PP.01.1/06/2020"]
[{"$f":"SISWA!A112","v":105},{"$f":"IF(SISWA!B112=0,\"\",SISWA!B112)","v":""},{"$f":"IF(SISWA!C112=0,\"\",SISWA!C112)","v":""},{"$f":"IF(SISWA!D112=0,\"\",SISWA!D112)","v":""},{"$f":"IF(SISWA!E112=0,\"\",SISWA!E112)","v":""},{"$f":"IF(SISWA!P111=0,\"\",SISWA!P111)","v":", 00 Januari 1900"},{"$f":"IF(SISWA!H112=0,\"\",SISWA!H112)","v":""},{"$f":"#REF!","v":{"$error":"#REF!"}},{"$f":"#REF!","v":{"$error":"#REF!"}},{"$error":"#REF!"},{"$f":"AA!#REF!","v":{"$error":"#REF!"}},{"$f":"AA!#REF!","v":{"$error":"#REF!"}},{"$error":"#REF!"},{"$f":"AH!#REF!","v":{"$error":"#REF!"}},{"$f":"AH!#REF!","v":{"$error":"#REF!"}},{"$error":"#REF!"},{"$f":"FQ!#REF!","v":{"$error":"#REF!"}},{"$f":"FQ!#REF!","v":{"$error":"#REF!"}},{"$error":"#REF!"},{"$f":"SKI!#REF!","v":{"$error":"#REF!"}},{"$f":"SKI!#REF!","v":{"$error":"#REF!"}},{"$error":"#REF!"},{"$f":"PKn!#REF!","v":{"$error":"#REF!"}},{"$f":"PKn!#REF!","v":{"$error":"#REF!"}},{"$error":"#REF!"},{"$f":"BID!#REF!","v":{"$error":"#REF!"}},{"$f":"BID!#REF!","v":{"$error":"#REF!"}},{"$error":"#REF!"},{"$f":"BA!#REF!","v":{"$error":"#REF!"}},{"$f":"BA!#REF!","v":{"$error":"#REF!"}},{"$error":"#REF!"},{"$f":"MTK!#REF!","v":{"$error":"#REF!"}},{"$f":"MTK!#REF!","v":{"$error":"#REF!"}},{"$error":"#REF!"},{"$f":"IPA!K112","v":{"$error":"#DIV/0!"}},{"$f":"IPA!N112","v":{"$error":"#DIV/0!"}},{"$error":"#DIV/0!"},{"$f":"IPS!#REF!","v":{"$error":"#REF!"}},{"$f":"IPS!#REF!","v":{"$error":"#REF!"}},{"$error":"#REF!"},{"$f":"SBK!#REF!","v":{"$error":"#REF!"}},{"$f":"SBK!#REF!","v":{"$error":"#REF!"}},{"$error":"#REF!"},{"$f":"PJK!#REF!","v":{"$error":"#REF!"}},{"$f":"PJK!#REF!","v":{"$error":"#REF!"}},{"$error":"#REF!"},{"$f":"BD!#REF!","v":{"$error":"#REF!"}},{"$f":"BD!#REF!","v":{"$error":"#REF!"}},{"$error":"#REF!"},{"$f":"BIG!K112","v":{"$error":"#DIV/0!"}},{"$f":"BIG!N112","v":{"$error":"#DIV/0!"}},{"$error":"#DIV/0!"},{"$f":"AWJ!N112","v":0},{"$f":"AWJ!P112","v":0},0,{"$error":"#REF!"},{"$error":"#REF!"},null,{"$error":"#REF!"},{"$error":"#REF!"},null,{"$error":"#REF!"},{"$error":"#DIV/0!"},{"$f":"IPA!L112","v":0},{"$error":"#DIV/0!"},0,{"$error":"#REF!"},0,{"$error":"#REF!"},{"$error":"#REF!"},{"$error":"#REF!"},{"$error":"#REF!"},{"$error":"#REF!"},{"$error":"#REF!"},{"$error":"#DIV/0!"},{"$error":"#DIV/0!"},{"$error":"#DIV/0!"},null,null,{"$error":"#REF!"},0,{"$error":"#REF!"},{"$error":"#REF!"},0,{"$error":"#REF!"},{"$error":"#DIV/0!"},0,{"$error":"#DIV/0!"},0,null,{"$f":"SISWA!S111","v":"155"},null,"105/Mi.13.05.162/PP.01.1/06/2020"]
[{"$f":"SISWA!A113","v":106},{"$f":"IF(SISWA!B113=0,\"\",SISWA!B113)","v":""},{"$f":"IF(SISWA!C113=0,\"\",SISWA!C113)","v":""},{"$f":"IF(SISWA!D113=0,\"\",SISWA!D113)","v":""},{"$f":"IF(SISWA!E113=0,\"\",SISWA!E113)","v":""},{"$f":"IF(SISWA!P112=0,\"\",SISWA!P112)","v":", 00 Januari 1900"},{"$f":"IF(SISWA!H113=0,\"\",SISWA!H113)","v":""},{"$f":"#REF!","v":{"$error":"#REF!"}},{"$f":"#REF!","v":{"$error":"#REF!"}},{"$error":"#REF!"},{"$f":"AA!#REF!","v":{"$error":"#REF!"}},{"$f":"AA!#REF!","v":{"$error":"#REF!"}},{"$error":"#REF!"},{"$f":"AH!#REF!","v":{"$error":"#REF!"}},{"$f":"AH!#REF!","v":{"$error":"#REF!"}},{"$error":"#REF!"},{"$f":"FQ!#REF!","v":{"$error":"#REF!"}},{"$f":"FQ!#REF!","v":{"$error":"#REF!"}},{"$error":"#REF!"},{"$f":"SKI!#REF!","v":{"$error":"#REF!"}},{"$f":"SKI!#REF!","v":{"$error":"#REF!"}},{"$error":"#REF!"},{"$f":"PKn!#REF!","v":{"$error":"#REF!"}},{"$f":"PKn!#REF!","v":{"$error":"#REF!"}},{"$error":"#REF!"},{"$f":"BID!#REF!","v":{"$error":"#REF!"}},{"$f":"BID!#REF!","v":{"$error":"#REF!"}},{"$error":"#REF!"},{"$f":"BA!#REF!","v":{"$error":"#REF!"}},{"$f":"BA!#REF!","v":{"$error":"#REF!"}},{"$error":"#REF!"},{"$f":"MTK!#REF!","v":{"$error":"#REF!"}},{"$f":"MTK!#REF!","v":{"$error":"#REF!"}},{"$error":"#REF!"},{"$f":"IPA!K113","v":{"$error":"#DIV/0!"}},{"$f":"IPA!N113","v":{"$error":"#DIV/0!"}},{"$error":"#DIV/0!"},{"$f":"IPS!#REF!","v":{"$error":"#REF!"}},{"$f":"IPS!#REF!","v":{"$error":"#REF!"}},{"$error":"#REF!"},{"$f":"SBK!#REF!","v":{"$error":"#REF!"}},{"$f":"SBK!#REF!","v":{"$error":"#REF!"}},{"$error":"#REF!"},{"$f":"PJK!#REF!","v":{"$error":"#REF!"}},{"$f":"PJK!#REF!","v":{"$error":"#REF!"}},{"$error":"#REF!"},{"$f":"BD!#REF!","v":{"$error":"#REF!"}},{"$f":"BD!#REF!","v":{"$error":"#REF!"}},{"$error":"#REF!"},{"$f":"BIG!K113","v":{"$error":"#DIV/0!"}},{"$f":"BIG!N113","v":{"$error":"#DIV/0!"}},{"$error":"#DIV/0!"},{"$f":"AWJ!N113","v":0},{"$f":"AWJ!P113","v":0},0,{"$error":"#REF!"},{"$error":"#REF!"},null,{"$error":"#REF!"},{"$error":"#REF!"},null,{"$error":"#REF!"},{"$error":"#DIV/0!"},{"$f":"IPA!L113","v":0},{"$error":"#DIV/0!"},0,{"$error":"#REF!"},0,{"$error":"#REF!"},{"$error":"#REF!"},{"$error":"#REF!"},{"$error":"#REF!"},{"$error":"#REF!"},{"$error":"#REF!"},{"$error":"#DIV/0!"},{"$error":"#DIV/0!"},{"$error":"#DIV/0!"},null,null,{"$error":"#REF!"},0,{"$error":"#REF!"},{"$error":"#REF!"},0,{"$error":"#REF!"},{"$error":"#DIV/0!"},0,{"$error":"#DIV/0!"},0,null,{"$f":"SISWA!S112","v":"156"},null,"106/Mi.13.05.162/PP.01.1/06/2020"]
[{"$f":"SISWA!A114","v":107},{"$f":"IF(SISWA!B114=0,\"\",SISWA!B114)","v":""},{"$f":"IF(SISWA!C114=0,\"\",SISWA!C114)","v":""},{"$f":"IF(SISWA!D114=0,\"\",SISWA!D114)","v":""},{"$f":"IF(SISWA!E114=0,\"\",SISWA!E114)","v":""},{"$f":"IF(SISWA!P113=0,\"\",SISWA!P113)","v":", 00 Januari 1900"},{"$f":"IF(SISWA!H114=0,\"\",SISWA!H114)","v":""},{"$f":"#REF!","v":{"$error":"#REF!"}},{"$f":"#REF!","v":{"$error":"#REF!"}},{"$error":"#REF!"},{"$f":"AA!#REF!","v":{"$error":"#REF!"}},{"$f":"AA!#REF!","v":{"$error":"#REF!"}},{"$error":"#REF!"},{"$f":"AH!#REF!","v":{"$error":"#REF!"}},{"$f":"AH!#REF!","v":{"$error":"#REF!"}},{"$error":"#REF!"},{"$f":"FQ!#REF!","v":{"$error":"#REF!"}},{"$f":"FQ!#REF!","v":{"$error":"#REF!"}},{"$error":"#REF!"},{"$f":"SKI!#REF!","v":{"$error":"#REF!"}},{"$f":"SKI!#REF!","v":{"$error":"#REF!"}},{"$error":"#REF!"},{"$f":"PKn!#REF!","v":{"$error":"#REF!"}},{"$f":"PKn!#REF!","v":{"$error":"#REF!"}},{"$error":"#REF!"},{"$f":"BID!#REF!","v":{"$error":"#REF!"}},{"$f":"BID!#REF!","v":{"$error":"#REF!"}},{"$error":"#REF!"},{"$f":"BA!#REF!","v":{"$error":"#REF!"}},{"$f":"BA!#REF!","v":{"$error":"#REF!"}},{"$error":"#REF!"},{"$f":"MTK!#REF!","v":{"$error":"#REF!"}},{"$f":"MTK!#REF!","v":{"$error":"#REF!"}},{"$error":"#REF!"},{"$f":"IPA!K114","v":{"$error":"#DIV/0!"}},{"$f":"IPA!N114","v":{"$error":"#DIV/0!"}},{"$error":"#DIV/0!"},{"$f":"IPS!#REF!","v":{"$error":"#REF!"}},{"$f":"IPS!#REF!","v":{"$error":"#REF!"}},{"$error":"#REF!"},{"$f":"SBK!#REF!","v":{"$error":"#REF!"}},{"$f":"SBK!#REF!","v":{"$error":"#REF!"}},{"$error":"#REF!"},{"$f":"PJK!#REF!","v":{"$error":"#REF!"}},{"$f":"PJK!#REF!","v":{"$error":"#REF!"}},{"$error":"#REF!"},{"$f":"BD!#REF!","v":{"$error":"#REF!"}},{"$f":"BD!#REF!","v":{"$error":"#REF!"}},{"$error":"#REF!"},{"$f":"BIG!K114","v":{"$error":"#DIV/0!"}},{"$f":"BIG!N114","v":{"$error":"#DIV/0!"}},{"$error":"#DIV/0!"},{"$f":"AWJ!N114","v":0},{"$f":"AWJ!P114","v":0},0,{"$error":"#REF!"},{"$error":"#REF!"},null,{"$error":"#REF!"},{"$error":"#REF!"},null,{"$error":"#REF!"},{"$error":"#DIV/0!"},{"$f":"IPA!L114","v":0},{"$error":"#DIV/0!"},0,{"$error":"#REF!"},0,{"$error":"#REF!"},{"$error":"#REF!"},{"$error":"#REF!"},{"$error":"#REF!"},{"$error":"#REF!"},{"$error":"#REF!"},{"$error":"#DIV/0!"},{"$error":"#DIV/0!"},{"$error":"#DIV/0!"},null,null,{"$error":"#REF!"},0,{"$error":"#REF!"},{"$error":"#REF!"},0,{"$error":"#REF!"},{"$error":"#DIV/0!"},0,{"$error":"#DIV/0!"},0,null,{"$f":"SISWA!S113","v":"157"},null,"107/Mi.13.05.162/PP.01.1/06/2020"]
[{"$f":"SISWA!A115","v":108},{"$f":"IF(SISWA!B115=0,\"\",SISWA!B115)","v":""},{"$f":"IF(SISWA!C115=0,\"\",SISWA!C115)","v":""},{"$f":"IF(SISWA!D115=0,\"\",SISWA!D115)","v":""},{"$f":"IF(SISWA!E115=0,\"\",SISWA!E115)","v":""},{"$f":"IF(SISWA!P114=0,\"\",SISWA!P114)","v":", 00 Januari 1900"},{"$f":"IF(SISWA!H115=0,\"\",SISWA!H115)","v":""},{"$f":"#REF!","v":{"$error":"#REF!"}},{"$f":"#REF!","v":{"$error":"#REF!"}},{"$error":"#REF!"},{"$f":"AA!#REF!","v":{"$error":"#REF!"}},{"$f":"AA!#REF!","v":{"$error":"#REF!"}},{"$error":"#REF!"},{"$f":"AH!#REF!","v":{"$error":"#REF!"}},{"$f":"AH!#REF!","v":{"$error":"#REF!"}},{"$error":"#REF!"},{"$f":"FQ!#REF!","v":{"$error":"#REF!"}},{"$f":"FQ!#REF!","v":{"$error":"#REF!"}},{"$error":"#REF!"},{"$f":"SKI!#REF!","v":{"$error":"#REF!"}},{"$f":"SKI!#REF!","v":{"$error":"#REF!"}},{"$error":"#REF!"},{"$f":"PKn!#REF!","v":{"$error":"#REF!"}},{"$f":"PKn!#REF!","v":{"$error":"#REF!"}},{"$error":"#REF!"},{"$f":"BID!#REF!","v":{"$error":"#REF!"}},{"$f":"BID!#REF!","v":{"$error":"#REF!"}},{"$error":"#REF!"},{"$f":"BA!#REF!","v":{"$error":"#REF!"}},{"$f":"BA!#REF!","v":{"$error":"#REF!"}},{"$error":"#REF!"},{"$f":"MTK!#REF!","v":{"$error":"#REF!"}},{"$f":"MTK!#REF!","v":{"$error":"#REF!"}},{"$error":"#REF!"},{"$f":"IPA!K115","v":{"$error":"#DIV/0!"}},{"$f":"IPA!N115","v":{"$error":"#DIV/0!"}},{"$error":"#DIV/0!"},{"$f":"IPS!#REF!","v":{"$error":"#REF!"}},{"$f":"IPS!#REF!","v":{"$error":"#REF!"}},{"$error":"#REF!"},{"$f":"SBK!#REF!","v":{"$error":"#REF!"}},{"$f":"SBK!#REF!","v":{"$error":"#REF!"}},{"$error":"#REF!"},{"$f":"PJK!#REF!","v":{"$error":"#REF!"}},{"$f":"PJK!#REF!","v":{"$error":"#REF!"}},{"$error":"#REF!"},{"$f":"BD!#REF!","v":{"$error":"#REF!"}},{"$f":"BD!#REF!","v":{"$error":"#REF!"}},{"$error":"#REF!"},{"$f":"BIG!K115","v":{"$error":"#DIV/0!"}},{"$f":"BIG!N115","v":{"$error":"#DIV/0!"}},{"$error":"#DIV/0!"},{"$f":"AWJ!N115","v":0},{"$f":"AWJ!P115","v":0},0,{"$error":"#REF!"},{"$error":"#REF!"},null,{"$error":"#REF!"},{"$error":"#REF!"},null,{"$error":"#REF!"},{"$error":"#DIV/0!"},{"$f":"IPA!L115","v":0},{"$error":"#DIV/0!"},0,{"$error":"#REF!"},0,{"$error":"#REF!"},{"$error":"#REF!"},{"$error":"#REF!"},{"$error":"#REF!"},{"$error":"#REF!"},{"$error":"#REF!"},{"$error":"#DIV/0!"},{"$error":"#DIV/0!"},{"$error":"#DIV/0!"},null,null,{"$error":"#REF!"},0,{"$error":"#REF!"},{"$error":"#REF!"},0,{"$error":"#REF!"},{"$error":"#DIV/0!"},0,{"$error":"#DIV/0!"},0,null,{"$f":"SISWA!S114","v":"158"},null,"108/Mi.13.05.162/PP.01.1/06/2020"]
[{"$f":"SISWA!A116","v":109},{"$f":"IF(SISWA!B116=0,\"\",SISWA!B116)","v":""},{"$f":"IF(SISWA!C116=0,\"\",SISWA!C116)","v":""},{"$f":"IF(SISWA!D116=0,\"\",SISWA!D116)","v":""},{"$f":"IF(SISWA!E116=0,\"\",SISWA!E116)","v":""},{"$f":"IF(SISWA!P115=0,\"\",SISWA!P115)","v":", 00 Januari 1900"},{"$f":"IF(SISWA!H116=0,\"\",SISWA!H116)","v":""},{"$f":"#REF!","v":{"$error":"#REF!"}},{"$f":"#REF!","v":{"$error":"#REF!"}},{"$error":"#REF!"},{"$f":"AA!#REF!","v":{"$error":"#REF!"}},{"$f":"AA!#REF!","v":{"$error":"#REF!"}},{"$error":"#REF!"},{"$f":"AH!#REF!","v":{"$error":"#REF!"}},{"$f":"AH!#REF!","v":{"$error":"#REF!"}},{"$error":"#REF!"},{"$f":"FQ!#REF!","v":{"$error":"#REF!"}},{"$f":"FQ!#REF!","v":{"$error":"#REF!"}},{"$error":"#REF!"},{"$f":"SKI!#REF!","v":{"$error":"#REF!"}},{"$f":"SKI!#REF!","v":{"$error":"#REF!"}},{"$error":"#REF!"},{"$f":"PKn!#REF!","v":{"$error":"#REF!"}},{"$f":"PKn!#REF!","v":{"$error":"#REF!"}},{"$error":"#REF!"},{"$f":"BID!#REF!","v":{"$error":"#REF!"}},{"$f":"BID!#REF!","v":{"$error":"#REF!"}},{"$error":"#REF!"},{"$f":"BA!#REF!","v":{"$error":"#REF!"}},{"$f":"BA!#REF!","v":{"$error":"#REF!"}},{"$error":"#REF!"},{"$f":"MTK!#REF!","v":{"$error":"#REF!"}},{"$f":"MTK!#REF!","v":{"$error":"#REF!"}},{"$error":"#REF!"},{"$f":"IPA!K116","v":{"$error":"#DIV/0!"}},{"$f":"IPA!N116","v":{"$error":"#DIV/0!"}},{"$error":"#DIV/0!"},{"$f":"IPS!#REF!","v":{"$error":"#REF!"}},{"$f":"IPS!#REF!","v":{"$error":"#REF!"}},{"$error":"#REF!"},{"$f":"SBK!#REF!","v":{"$error":"#REF!"}},{"$f":"SBK!#REF!","v":{"$error":"#REF!"}},{"$error":"#REF!"},{"$f":"PJK!#REF!","v":{"$error":"#REF!"}},{"$f":"PJK!#REF!","v":{"$error":"#REF!"}},{"$error":"#REF!"},{"$f":"BD!#REF!","v":{"$error":"#REF!"}},{"$f":"BD!#REF!","v":{"$error":"#REF!"}},{"$error":"#REF!"},{"$f":"BIG!K116","v":{"$error":"#DIV/0!"}},{"$f":"BIG!N116","v":{"$error":"#DIV/0!"}},{"$error":"#DIV/0!"},{"$f":"AWJ!N116","v":0},{"$f":"AWJ!P116","v":0},0,{"$error":"#REF!"},{"$error":"#REF!"},null,{"$error":"#REF!"},{"$error":"#REF!"},null,{"$error":"#REF!"},{"$error":"#DIV/0!"},{"$f":"IPA!L116","v":0},{"$error":"#DIV/0!"},0,{"$error":"#REF!"},0,{"$error":"#REF!"},{"$error":"#REF!"},{"$error":"#REF!"},{"$error":"#REF!"},{"$error":"#REF!"},{"$error":"#REF!"},{"$error":"#DIV/0!"},{"$error":"#DIV/0!"},{"$error":"#DIV/0!"},null,null,{"$error":"#REF!"},0,{"$error":"#REF!"},{"$error":"#REF!"},0,{"$error":"#REF!"},{"$error":"#DIV/0!"},0,{"$error":"#DIV/0!"},0,null,null,null,"109/Mi.13.05.162/PP.01.1/06/2020"]
[{"$f":"SISWA!A117","v":110},{"$f":"IF(SISWA!B117=0,\"\",SISWA!B117)","v":""},{"$f":"IF(SISWA!C117=0,\"\",SISWA!C117)","v":""},{"$f":"IF(SISWA!D117=0,\"\",SISWA!D117)","v":""},{"$f":"IF(SISWA!E117=0,\"\",SISWA!E117)","v":""},{"$f":"IF(SISWA!P116=0,\"\",SISWA!P116)","v":", 00 Januari 1900"},{"$f":"IF(SISWA!H117=0,\"\",SISWA!H117)","v":""},{"$f":"#REF!","v":{"$error":"#REF!"}},{"$f":"#REF!","v":{"$error":"#REF!"}},{"$error":"#REF!"},{"$f":"AA!#REF!","v":{"$error":"#REF!"}},{"$f":"AA!#REF!","v":{"$error":"#REF!"}},{"$error":"#REF!"},{"$f":"AH!#REF!","v":{"$error":"#REF!"}},{"$f":"AH!#REF!","v":{"$error":"#REF!"}},{"$error":"#REF!"},{"$f":"FQ!#REF!","v":{"$error":"#REF!"}},{"$f":"FQ!#REF!","v":{"$error":"#REF!"}},{"$error":"#REF!"},{"$f":"SKI!#REF!","v":{"$error":"#REF!"}},{"$f":"SKI!#REF!","v":{"$error":"#REF!"}},{"$error":"#REF!"},{"$f":"PKn!#REF!","v":{"$error":"#REF!"}},{"$f":"PKn!#REF!","v":{"$error":"#REF!"}},{"$error":"#REF!"},{"$f":"BID!#REF!","v":{"$error":"#REF!"}},{"$f":"BID!#REF!","v":{"$error":"#REF!"}},{"$error":"#REF!"},{"$f":"BA!#REF!","v":{"$error":"#REF!"}},{"$f":"BA!#REF!","v":{"$error":"#REF!"}},{"$error":"#REF!"},{"$f":"MTK!#REF!","v":{"$error":"#REF!"}},{"$f":"MTK!#REF!","v":{"$error":"#REF!"}},{"$error":"#REF!"},{"$f":"IPA!K117","v":{"$error":"#DIV/0!"}},{"$f":"IPA!N117","v":{"$error":"#DIV/0!"}},{"$error":"#DIV/0!"},{"$f":"IPS!#REF!","v":{"$error":"#REF!"}},{"$f":"IPS!#REF!","v":{"$error":"#REF!"}},{"$error":"#REF!"},{"$f":"SBK!#REF!","v":{"$error":"#REF!"}},{"$f":"SBK!#REF!","v":{"$error":"#REF!"}},{"$error":"#REF!"},{"$f":"PJK!#REF!","v":{"$error":"#REF!"}},{"$f":"PJK!#REF!","v":{"$error":"#REF!"}},{"$error":"#REF!"},{"$f":"BD!#REF!","v":{"$error":"#REF!"}},{"$f":"BD!#REF!","v":{"$error":"#REF!"}},{"$error":"#REF!"},{"$f":"BIG!K117","v":{"$error":"#DIV/0!"}},{"$f":"BIG!N117","v":{"$error":"#DIV/0!"}},{"$error":"#DIV/0!"},{"$f":"AWJ!N117","v":0},{"$f":"AWJ!P117","v":0},0,{"$error":"#REF!"},{"$error":"#REF!"},null,{"$error":"#REF!"},{"$error":"#REF!"},null,{"$error":"#REF!"},{"$error":"#DIV/0!"},{"$f":"IPA!L117","v":0},{"$error":"#DIV/0!"},0,{"$error":"#REF!"},0,{"$error":"#REF!"},{"$error":"#REF!"},{"$error":"#REF!"},{"$error":"#REF!"},{"$error":"#REF!"},{"$error":"#REF!"},{"$error":"#DIV/0!"},{"$error":"#DIV/0!"},{"$error":"#DIV/0!"},null,null,{"$error":"#REF!"},0,{"$error":"#REF!"},{"$error":"#REF!"},0,{"$error":"#REF!"},{"$error":"#DIV/0!"},0,{"$error":"#DIV/0!"},0,null,null,null,"110/Mi.13.05.162/PP.01.1/06/2020"]
[{"$f":"SISWA!A118","v":111},{"$f":"IF(SISWA!B118=0,\"\",SISWA!B118)","v":""},{"$f":"IF(SISWA!C118=0,\"\",SISWA!C118)","v":""},{"$f":"IF(SISWA!D118=0,\"\",SISWA!D118)","v":""},{"$f":"IF(SISWA!E118=0,\"\",SISWA!E118)","v":""},{"$f":"IF(SISWA!P117=0,\"\",SISWA!P117)","v":", 00 Januari 1900"},{"$f":"IF(SISWA!H118=0,\"\",SISWA!H118)","v":""},{"$f":"#REF!","v":{"$error":"#REF!"}},{"$f":"#REF!","v":{"$error":"#REF!"}},{"$error":"#REF!"},{"$f":"AA!#REF!","v":{"$error":"#REF!"}},{"$f":"AA!#REF!","v":{"$error":"#REF!"}},{"$error":"#REF!"},{"$f":"AH!#REF!","v":{"$error":"#REF!"}},{"$f":"AH!#REF!","v":{"$error":"#REF!"}},{"$error":"#REF!"},{"$f":"FQ!#REF!","v":{"$error":"#REF!"}},{"$f":"FQ!#REF!","v":{"$error":"#REF!"}},{"$error":"#REF!"},{"$f":"SKI!#REF!","v":{"$error":"#REF!"}},{"$f":"SKI!#REF!","v":{"$error":"#REF!"}},{"$error":"#REF!"},{"$f":"PKn!#REF!","v":{"$error":"#REF!"}},{"$f":"PKn!#REF!","v":{"$error":"#REF!"}},{"$error":"#REF!"},{"$f":"BID!#REF!","v":{"$error":"#REF!"}},{"$f":"BID!#REF!","v":{"$error":"#REF!"}},{"$error":"#REF!"},{"$f":"BA!#REF!","v":{"$error":"#REF!"}},{"$f":"BA!#REF!","v":{"$error":"#REF!"}},{"$error":"#REF!"},{"$f":"MTK!#REF!","v":{"$error":"#REF!"}},{"$f":"MTK!#REF!","v":{"$error":"#REF!"}},{"$error":"#REF!"},{"$f":"IPA!K118","v":{"$error":"#DIV/0!"}},{"$f":"IPA!N118","v":{"$error":"#DIV/0!"}},{"$error":"#DIV/0!"},{"$f":"IPS!#REF!","v":{"$error":"#REF!"}},{"$f":"IPS!#REF!","v":{"$error":"#REF!"}},{"$error":"#REF!"},{"$f":"SBK!#REF!","v":{"$error":"#REF!"}},{"$f":"SBK!#REF!","v":{"$error":"#REF!"}},{"$error":"#REF!"},{"$f":"PJK!#REF!","v":{"$error":"#REF!"}},{"$f":"PJK!#REF!","v":{"$error":"#REF!"}},{"$error":"#REF!"},{"$f":"BD!#REF!","v":{"$error":"#REF!"}},{"$f":"BD!#REF!","v":{"$error":"#REF!"}},{"$error":"#REF!"},{"$f":"BIG!K118","v":{"$error":"#DIV/0!"}},{"$f":"BIG!N118","v":{"$error":"#DIV/0!"}},{"$error":"#DIV/0!"},{"$f":"AWJ!N118","v":0},{"$f":"AWJ!P118","v":0},0,{"$error":"#REF!"},{"$error":"#REF!"},null,{"$error":"#REF!"},{"$error":"#REF!"},null,{"$error":"#REF!"},{"$error":"#DIV/0!"},{"$f":"IPA!L118","v":0},{"$error":"#DIV/0!"},0,{"$error":"#REF!"},0,{"$error":"#REF!"},{"$error":"#REF!"},{"$error":"#REF!"},{"$error":"#REF!"},{"$error":"#REF!"},{"$error":"#REF!"},{"$error":"#DIV/0!"},{"$error":"#DIV/0!"},{"$error":"#DIV/0!"},null,null,{"$error":"#REF!"},0,{"$error":"#REF!"},{"$error":"#REF!"},0,{"$error":"#REF!"},{"$error":"#DIV/0!"},0,{"$error":"#DIV/0!"},0,null,null,null,"111/Mi.13.05.162/PP.01.1/06/2020"]
[{"$f":"SISWA!A119","v":112},{"$f":"IF(SISWA!B119=0,\"\",SISWA!B119)","v":""},{"$f":"IF(SISWA!C119=0,\"\",SISWA!C119)","v":""},{"$f":"IF(SISWA!D119=0,\"\",SISWA!D119)","v":""},{"$f":"IF(SISWA!E119=0,\"\",SISWA!E119)","v":""},{"$f":"IF(SISWA!P118=0,\"\",SISWA!P118)","v":", 00 Januari 1900"},{"$f":"IF(SISWA!H119=0,\"\",SISWA!H119)","v":""},{"$f":"#REF!","v":{"$error":"#REF!"}},{"$f":"#REF!","v":{"$error":"#REF!"}},{"$error":"#REF!"},{"$f":"AA!#REF!","v":{"$error":"#REF!"}},{"$f":"AA!#REF!","v":{"$error":"#REF!"}},{"$error":"#REF!"},{"$f":"AH!#REF!","v":{"$error":"#REF!"}},{"$f":"AH!#REF!","v":{"$error":"#REF!"}},{"$error":"#REF!"},{"$f":"FQ!#REF!","v":{"$error":"#REF!"}},{"$f":"FQ!#REF!","v":{"$error":"#REF!"}},{"$error":"#REF!"},{"$f":"SKI!#REF!","v":{"$error":"#REF!"}},{"$f":"SKI!#REF!","v":{"$error":"#REF!"}},{"$error":"#REF!"},{"$f":"PKn!#REF!","v":{"$error":"#REF!"}},{"$f":"PKn!#REF!","v":{"$error":"#REF!"}},{"$error":"#REF!"},{"$f":"BID!#REF!","v":{"$error":"#REF!"}},{"$f":"BID!#REF!","v":{"$error":"#REF!"}},{"$error":"#REF!"},{"$f":"BA!#REF!","v":{"$error":"#REF!"}},{"$f":"BA!#REF!","v":{"$error":"#REF!"}},{"$error":"#REF!"},{"$f":"MTK!#REF!","v":{"$error":"#REF!"}},{"$f":"MTK!#REF!","v":{"$error":"#REF!"}},{"$error":"#REF!"},{"$f":"IPA!K119","v":{"$error":"#DIV/0!"}},{"$f":"IPA!N119","v":{"$error":"#DIV/0!"}},{"$error":"#DIV/0!"},{"$f":"IPS!#REF!","v":{"$error":"#REF!"}},{"$f":"IPS!#REF!","v":{"$error":"#REF!"}},{"$error":"#REF!"},{"$f":"SBK!#REF!","v":{"$error":"#REF!"}},{"$f":"SBK!#REF!","v":{"$error":"#REF!"}},{"$error":"#REF!"},{"$f":"PJK!#REF!","v":{"$error":"#REF!"}},{"$f":"PJK!#REF!","v":{"$error":"#REF!"}},{"$error":"#REF!"},{"$f":"BD!#REF!","v":{"$error":"#REF!"}},{"$f":"BD!#REF!","v":{"$error":"#REF!"}},{"$error":"#REF!"},{"$f":"BIG!K119","v":{"$error":"#DIV/0!"}},{"$f":"BIG!N119","v":{"$error":"#DIV/0!"}},{"$error":"#DIV/0!"},{"$f":"AWJ!N119","v":0},{"$f":"AWJ!P119","v":0},0,{"$error":"#REF!"},{"$error":"#REF!"},null,{"$error":"#REF!"},{"$error":"#REF!"},null,{"$error":"#REF!"},{"$error":"#DIV/0!"},{"$f":"IPA!L119","v":0},{"$error":"#DIV/0!"},0,{"$error":"#REF!"},0,{"$error":"#REF!"},{"$error":"#REF!"},{"$error":"#REF!"},{"$error":"#REF!"},{"$error":"#REF!"},{"$error":"#REF!"},{"$error":"#DIV/0!"},{"$error":"#DIV/0!"},{"$error":"#DIV/0!"},null,null,{"$error":"#REF!"},0,{"$error":"#REF!"},{"$error":"#REF!"},0,{"$error":"#REF!"},{"$error":"#DIV/0!"},0,{"$error":"#DIV/0!"},0,null,null,null,"112/Mi.13.05.162/PP.01.1/06/2020"]
[{"$f":"SISWA!A120","v":113},{"$f":"IF(SISWA!B120=0,\"\",SISWA!B120)","v":""},{"$f":"IF(SISWA!C120=0,\"\",SISWA!C120)","v":""},{"$f":"IF(SISWA!D120=0,\"\",SISWA!D120)","v":""},{"$f":"IF(SISWA!E120=0,\"\",SISWA!E120)","v":""},{"$f":"IF(SISWA!P119=0,\"\",SISWA!P119)","v":", 00 Januari 1900"},{"$f":"IF(SISWA!H120=0,\"\",SISWA!H120)","v":""},{"$f":"#REF!","v":{"$error":"#REF!"}},{"$f":"#REF!","v":{"$error":"#REF!"}},{"$error":"#REF!"},{"$f":"AA!#REF!","v":{"$error":"#REF!"}},{"$f":"AA!#REF!","v":{"$error":"#REF!"}},{"$error":"#REF!"},{"$f":"AH!#REF!","v":{"$error":"#REF!"}},{"$f":"AH!#REF!","v":{"$error":"#REF!"}},{"$error":"#REF!"},{"$f":"FQ!#REF!","v":{"$error":"#REF!"}},{"$f":"FQ!#REF!","v":{"$error":"#REF!"}},{"$error":"#REF!"},{"$f":"SKI!#REF!","v":{"$error":"#REF!"}},{"$f":"SKI!#REF!","v":{"$error":"#REF!"}},{"$error":"#REF!"},{"$f":"PKn!#REF!","v":{"$error":"#REF!"}},{"$f":"PKn!#REF!","v":{"$error":"#REF!"}},{"$error":"#REF!"},{"$f":"BID!#REF!","v":{"$error":"#REF!"}},{"$f":"BID!#REF!","v":{"$error":"#REF!"}},{"$error":"#REF!"},{"$f":"BA!#REF!","v":{"$error":"#REF!"}},{"$f":"BA!#REF!","v":{"$error":"#REF!"}},{"$error":"#REF!"},{"$f":"MTK!#REF!","v":{"$error":"#REF!"}},{"$f":"MTK!#REF!","v":{"$error":"#REF!"}},{"$error":"#REF!"},{"$f":"IPA!K120","v":{"$error":"#DIV/0!"}},{"$f":"IPA!N120","v":{"$error":"#DIV/0!"}},{"$error":"#DIV/0!"},{"$f":"IPS!#REF!","v":{"$error":"#REF!"}},{"$f":"IPS!#REF!","v":{"$error":"#REF!"}},{"$error":"#REF!"},{"$f":"SBK!#REF!","v":{"$error":"#REF!"}},{"$f":"SBK!#REF!","v":{"$error":"#REF!"}},{"$error":"#REF!"},{"$f":"PJK!#REF!","v":{"$error":"#REF!"}},{"$f":"PJK!#REF!","v":{"$error":"#REF!"}},{"$error":"#REF!"},{"$f":"BD!#REF!","v":{"$error":"#REF!"}},{"$f":"BD!#REF!","v":{"$error":"#REF!"}},{"$error":"#REF!"},{"$f":"BIG!K120","v":{"$error":"#DIV/0!"}},{"$f":"BIG!N120","v":{"$error":"#DIV/0!"}},{"$error":"#DIV/0!"},{"$f":"AWJ!N120","v":0},{"$f":"AWJ!P120","v":0},0,{"$error":"#REF!"},{"$error":"#REF!"},null,{"$error":"#REF!"},{"$error":"#REF!"},null,{"$error":"#REF!"},{"$error":"#DIV/0!"},{"$f":"IPA!L120","v":0},{"$error":"#DIV/0!"},0,{"$error":"#REF!"},0,{"$error":"#REF!"},{"$error":"#REF!"},{"$error":"#REF!"},{"$error":"#REF!"},{"$error":"#REF!"},{"$error":"#REF!"},{"$error":"#DIV/0!"},{"$error":"#DIV/0!"},{"$error":"#DIV/0!"},null,null,{"$error":"#REF!"},0,{"$error":"#REF!"},{"$error":"#REF!"},0,{"$error":"#REF!"},{"$error":"#DIV/0!"},0,{"$error":"#DIV/0!"},0,null,null,null,"113/Mi.13.05.162/PP.01.1/06/2020"]
[{"$f":"SISWA!A121","v":114},{"$f":"IF(SISWA!B121=0,\"\",SISWA!B121)","v":""},{"$f":"IF(SISWA!C121=0,\"\",SISWA!C121)","v":""},{"$f":"IF(SISWA!D121=0,\"\",SISWA!D121)","v":""},{"$f":"IF(SISWA!E121=0,\"\",SISWA!E121)","v":""},{"$f":"IF(SISWA!P120=0,\"\",SISWA!P120)","v":", 00 Januari 1900"},{"$f":"IF(SISWA!H121=0,\"\",SISWA!H121)","v":""},{"$f":"#REF!","v":{"$error":"#REF!"}},{"$f":"#REF!","v":{"$error":"#REF!"}},{"$error":"#REF!"},{"$f":"AA!#REF!","v":{"$error":"#REF!"}},{"$f":"AA!#REF!","v":{"$error":"#REF!"}},{"$error":"#REF!"},{"$f":"AH!#REF!","v":{"$error":"#REF!"}},{"$f":"AH!#REF!","v":{"$error":"#REF!"}},{"$error":"#REF!"},{"$f":"FQ!#REF!","v":{"$error":"#REF!"}},{"$f":"FQ!#REF!","v":{"$error":"#REF!"}},{"$error":"#REF!"},{"$f":"SKI!#REF!","v":{"$error":"#REF!"}},{"$f":"SKI!#REF!","v":{"$error":"#REF!"}},{"$error":"#REF!"},{"$f":"PKn!#REF!","v":{"$error":"#REF!"}},{"$f":"PKn!#REF!","v":{"$error":"#REF!"}},{"$error":"#REF!"},{"$f":"BID!#REF!","v":{"$error":"#REF!"}},{"$f":"BID!#REF!","v":{"$error":"#REF!"}},{"$error":"#REF!"},{"$f":"BA!#REF!","v":{"$error":"#REF!"}},{"$f":"BA!#REF!","v":{"$error":"#REF!"}},{"$error":"#REF!"},{"$f":"MTK!#REF!","v":{"$error":"#REF!"}},{"$f":"MTK!#REF!","v":{"$error":"#REF!"}},{"$error":"#REF!"},{"$f":"IPA!K121","v":{"$error":"#DIV/0!"}},{"$f":"IPA!N121","v":{"$error":"#DIV/0!"}},{"$error":"#DIV/0!"},{"$f":"IPS!#REF!","v":{"$error":"#REF!"}},{"$f":"IPS!#REF!","v":{"$error":"#REF!"}},{"$error":"#REF!"},{"$f":"SBK!#REF!","v":{"$error":"#REF!"}},{"$f":"SBK!#REF!","v":{"$error":"#REF!"}},{"$error":"#REF!"},{"$f":"PJK!#REF!","v":{"$error":"#REF!"}},{"$f":"PJK!#REF!","v":{"$error":"#REF!"}},{"$error":"#REF!"},{"$f":"BD!#REF!","v":{"$error":"#REF!"}},{"$f":"BD!#REF!","v":{"$error":"#REF!"}},{"$error":"#REF!"},{"$f":"BIG!K121","v":{"$error":"#DIV/0!"}},{"$f":"BIG!N121","v":{"$error":"#DIV/0!"}},{"$error":"#DIV/0!"},{"$f":"AWJ!N121","v":0},{"$f":"AWJ!P121","v":0},0,{"$error":"#REF!"},{"$error":"#REF!"},null,{"$error":"#REF!"},{"$error":"#REF!"},null,{"$error":"#REF!"},{"$error":"#DIV/0!"},{"$f":"IPA!L121","v":0},{"$error":"#DIV/0!"},0,{"$error":"#REF!"},0,{"$error":"#REF!"},{"$error":"#REF!"},{"$error":"#REF!"},{"$error":"#REF!"},{"$error":"#REF!"},{"$error":"#REF!"},{"$error":"#DIV/0!"},{"$error":"#DIV/0!"},{"$error":"#DIV/0!"},null,null,{"$error":"#REF!"},0,{"$error":"#REF!"},{"$error":"#REF!"},0,{"$error":"#REF!"},{"$error":"#DIV/0!"},0,{"$error":"#DIV/0!"},0,null,null,null,"114/Mi.13.05.162/PP.01.1/06/2020"]
[{"$f":"SISWA!A122","v":115},{"$f":"IF(SISWA!B122=0,\"\",SISWA!B122)","v":""},{"$f":"IF(SISWA!C122=0,\"\",SISWA!C122)","v":""},{"$f":"IF(SISWA!D122=0,\"\",SISWA!D122)","v":""},{"$f":"IF(SISWA!E122=0,\"\",SISWA!E122)","v":""},{"$f":"IF(SISWA!P121=0,\"\",SISWA!P121)","v":", 00 Januari 1900"},{"$f":"IF(SISWA!H122=0,\"\",SISWA!H122)","v":""},{"$f":"#REF!","v":{"$error":"#REF!"}},{"$f":"#REF!","v":{"$error":"#REF!"}},{"$error":"#REF!"},{"$f":"AA!#REF!","v":{"$error":"#REF!"}},{"$f":"AA!#REF!","v":{"$error":"#REF!"}},{"$error":"#REF!"},{"$f":"AH!#REF!","v":{"$error":"#REF!"}},{"$f":"AH!#REF!","v":{"$error":"#REF!"}},{"$error":"#REF!"},{"$f":"FQ!#REF!","v":{"$error":"#REF!"}},{"$f":"FQ!#REF!","v":{"$error":"#REF!"}},{"$error":"#REF!"},{"$f":"SKI!#REF!","v":{"$error":"#REF!"}},{"$f":"SKI!#REF!","v":{"$error":"#REF!"}},{"$error":"#REF!"},{"$f":"PKn!#REF!","v":{"$error":"#REF!"}},{"$f":"PKn!#REF!","v":{"$error":"#REF!"}},{"$error":"#REF!"},{"$f":"BID!#REF!","v":{"$error":"#REF!"}},{"$f":"BID!#REF!","v":{"$error":"#REF!"}},{"$error":"#REF!"},{"$f":"BA!#REF!","v":{"$error":"#REF!"}},{"$f":"BA!#REF!","v":{"$error":"#REF!"}},{"$error":"#REF!"},{"$f":"MTK!#REF!","v":{"$error":"#REF!"}},{"$f":"MTK!#REF!","v":{"$error":"#REF!"}},{"$error":"#REF!"},{"$f":"IPA!K122","v":{"$error":"#DIV/0!"}},{"$f":"IPA!N122","v":{"$error":"#DIV/0!"}},{"$error":"#DIV/0!"},{"$f":"IPS!#REF!","v":{"$error":"#REF!"}},{"$f":"IPS!#REF!","v":{"$error":"#REF!"}},{"$error":"#REF!"},{"$f":"SBK!#REF!","v":{"$error":"#REF!"}},{"$f":"SBK!#REF!","v":{"$error":"#REF!"}},{"$error":"#REF!"},{"$f":"PJK!#REF!","v":{"$error":"#REF!"}},{"$f":"PJK!#REF!","v":{"$error":"#REF!"}},{"$error":"#REF!"},{"$f":"BD!#REF!","v":{"$error":"#REF!"}},{"$f":"BD!#REF!","v":{"$error":"#REF!"}},{"$error":"#REF!"},{"$f":"BIG!K122","v":{"$error":"#DIV/0!"}},{"$f":"BIG!N122","v":{"$error":"#DIV/0!"}},{"$error":"#DIV/0!"},{"$f":"AWJ!N122","v":0},{"$f":"AWJ!P122","v":0},0,{"$error":"#REF!"},{"$error":"#REF!"},null,{"$error":"#REF!"},{"$error":"#REF!"},null,{"$error":"#REF!"},{"$error":"#DIV/0!"},{"$f":"IPA!L122","v":0},{"$error":"#DIV/0!"},0,{"$error":"#REF!"},0,{"$error":"#REF!"},{"$error":"#REF!"},{"$error":"#REF!"},{"$error":"#REF!"},{"$error":"#REF!"},{"$error":"#REF!"},{"$error":"#DIV/0!"},{"$error":"#DIV/0!"},{"$error":"#DIV/0!"},null,null,{"$error":"#REF!"},0,{"$error":"#REF!"},{"$error":"#REF!"},0,{"$error":"#REF!"},{"$error":"#DIV/0!"},0,{"$error":"#DIV/0!"},0,null,null,null,"115/Mi.13.05.162/PP.01.1/06/2020"]
[{"$f":"SISWA!A123","v":116},{"$f":"IF(SISWA!B123=0,\"\",SISWA!B123)","v":""},{"$f":"IF(SISWA!C123=0,\"\",SISWA!C123)","v":""},{"$f":"IF(SISWA!D123=0,\"\",SISWA!D123)","v":""},{"$f":"IF(SISWA!E123=0,\"\",SISWA!E123)","v":""},{"$f":"IF(SISWA!P122=0,\"\",SISWA!P122)","v":", 00 Januari 1900"},{"$f":"IF(SISWA!H123=0,\"\",SISWA!H123)","v":""},{"$f":"#REF!","v":{"$error":"#REF!"}},{"$f":"#REF!","v":{"$error":"#REF!"}},{"$error":"#REF!"},{"$f":"AA!#REF!","v":{"$error":"#REF!"}},{"$f":"AA!#REF!","v":{"$error":"#REF!"}},{"$error":"#REF!"},{"$f":"AH!#REF!","v":{"$error":"#REF!"}},{"$f":"AH!#REF!","v":{"$error":"#REF!"}},{"$error":"#REF!"},{"$f":"FQ!#REF!","v":{"$error":"#REF!"}},{"$f":"FQ!#REF!","v":{"$error":"#REF!"}},{"$error":"#REF!"},{"$f":"SKI!#REF!","v":{"$error":"#REF!"}},{"$f":"SKI!#REF!","v":{"$error":"#REF!"}},{"$error":"#REF!"},{"$f":"PKn!#REF!","v":{"$error":"#REF!"}},{"$f":"PKn!#REF!","v":{"$error":"#REF!"}},{"$error":"#REF!"},{"$f":"BID!#REF!","v":{"$error":"#REF!"}},{"$f":"BID!#REF!","v":{"$error":"#REF!"}},{"$error":"#REF!"},{"$f":"BA!#REF!","v":{"$error":"#REF!"}},{"$f":"BA!#REF!","v":{"$error":"#REF!"}},{"$error":"#REF!"},{"$f":"MTK!#REF!","v":{"$error":"#REF!"}},{"$f":"MTK!#REF!","v":{"$error":"#REF!"}},{"$error":"#REF!"},{"$f":"IPA!K123","v":{"$error":"#DIV/0!"}},{"$f":"IPA!N123","v":{"$error":"#DIV/0!"}},{"$error":"#DIV/0!"},{"$f":"IPS!#REF!","v":{"$error":"#REF!"}},{"$f":"IPS!#REF!","v":{"$error":"#REF!"}},{"$error":"#REF!"},{"$f":"SBK!#REF!","v":{"$error":"#REF!"}},{"$f":"SBK!#REF!","v":{"$error":"#REF!"}},{"$error":"#REF!"},{"$f":"PJK!#REF!","v":{"$error":"#REF!"}},{"$f":"PJK!#REF!","v":{"$error":"#REF!"}},{"$error":"#REF!"},{"$f":"BD!#REF!","v":{"$error":"#REF!"}},{"$f":"BD!#REF!","v":{"$error":"#REF!"}},{"$error":"#REF!"},{"$f":"BIG!K123","v":{"$error":"#DIV/0!"}},{"$f":"BIG!N123","v":{"$error":"#DIV/0!"}},{"$error":"#DIV/0!"},{"$f":"AWJ!N123","v":0},{"$f":"AWJ!P123","v":0},0,{"$error":"#REF!"},{"$error":"#REF!"},null,{"$error":"#REF!"},{"$error":"#REF!"},null,{"$error":"#REF!"},{"$error":"#DIV/0!"},{"$f":"IPA!L123","v":0},{"$error":"#DIV/0!"},0,{"$error":"#REF!"},0,{"$error":"#REF!"},{"$error":"#REF!"},{"$error":"#REF!"},{"$error":"#REF!"},{"$error":"#REF!"},{"$error":"#REF!"},{"$error":"#DIV/0!"},{"$error":"#DIV/0!"},{"$error":"#DIV/0!"},null,null,{"$error":"#REF!"},0,{"$error":"#REF!"},{"$error":"#REF!"},0,{"$error":"#REF!"},{"$error":"#DIV/0!"},0,{"$error":"#DIV/0!"},0,null,null,null,"116/Mi.13.05.162/PP.01.1/06/2020"]
[{"$f":"SISWA!A124","v":117},{"$f":"IF(SISWA!B124=0,\"\",SISWA!B124)","v":""},{"$f":"IF(SISWA!C124=0,\"\",SISWA!C124)","v":""},{"$f":"IF(SISWA!D124=0,\"\",SISWA!D124)","v":""},{"$f":"IF(SISWA!E124=0,\"\",SISWA!E124)","v":""},{"$f":"IF(SISWA!P123=0,\"\",SISWA!P123)","v":", 00 Januari 1900"},{"$f":"IF(SISWA!H124=0,\"\",SISWA!H124)","v":""},{"$f":"#REF!","v":{"$error":"#REF!"}},{"$f":"#REF!","v":{"$error":"#REF!"}},{"$error":"#REF!"},{"$f":"AA!#REF!","v":{"$error":"#REF!"}},{"$f":"AA!#REF!","v":{"$error":"#REF!"}},{"$error":"#REF!"},{"$f":"AH!#REF!","v":{"$error":"#REF!"}},{"$f":"AH!#REF!","v":{"$error":"#REF!"}},{"$error":"#REF!"},{"$f":"FQ!#REF!","v":{"$error":"#REF!"}},{"$f":"FQ!#REF!","v":{"$error":"#REF!"}},{"$error":"#REF!"},{"$f":"SKI!#REF!","v":{"$error":"#REF!"}},{"$f":"SKI!#REF!","v":{"$error":"#REF!"}},{"$error":"#REF!"},{"$f":"PKn!#REF!","v":{"$error":"#REF!"}},{"$f":"PKn!#REF!","v":{"$error":"#REF!"}},{"$error":"#REF!"},{"$f":"BID!#REF!","v":{"$error":"#REF!"}},{"$f":"BID!#REF!","v":{"$error":"#REF!"}},{"$error":"#REF!"},{"$f":"BA!#REF!","v":{"$error":"#REF!"}},{"$f":"BA!#REF!","v":{"$error":"#REF!"}},{"$error":"#REF!"},{"$f":"MTK!#REF!","v":{"$error":"#REF!"}},{"$f":"MTK!#REF!","v":{"$error":"#REF!"}},{"$error":"#REF!"},{"$f":"IPA!K124","v":{"$error":"#DIV/0!"}},{"$f":"IPA!N124","v":{"$error":"#DIV/0!"}},{"$error":"#DIV/0!"},{"$f":"IPS!#REF!","v":{"$error":"#REF!"}},{"$f":"IPS!#REF!","v":{"$error":"#REF!"}},{"$error":"#REF!"},{"$f":"SBK!#REF!","v":{"$error":"#REF!"}},{"$f":"SBK!#REF!","v":{"$error":"#REF!"}},{"$error":"#REF!"},{"$f":"PJK!#REF!","v":{"$error":"#REF!"}},{"$f":"PJK!#REF!","v":{"$error":"#REF!"}},{"$error":"#REF!"},{"$f":"BD!#REF!","v":{"$error":"#REF!"}},{"$f":"BD!#REF!","v":{"$error":"#REF!"}},{"$error":"#REF!"},{"$f":"BIG!K124","v":{"$error":"#DIV/0!"}},{"$f":"BIG!N124","v":{"$error":"#DIV/0!"}},{"$error":"#DIV/0!"},{"$f":"AWJ!N124","v":0},{"$f":"AWJ!P124","v":0},0,{"$error":"#REF!"},{"$error":"#REF!"},null,{"$error":"#REF!"},{"$error":"#REF!"},null,{"$error":"#REF!"},{"$error":"#DIV/0!"},{"$f":"IPA!L124","v":0},{"$error":"#DIV/0!"},0,{"$error":"#REF!"},0,{"$error":"#REF!"},{"$error":"#REF!"},{"$error":"#REF!"},{"$error":"#REF!"},{"$error":"#REF!"},{"$error":"#REF!"},{"$error":"#DIV/0!"},{"$error":"#DIV/0!"},{"$error":"#DIV/0!"},null,null,{"$error":"#REF!"},0,{"$error":"#REF!"},{"$error":"#REF!"},0,{"$error":"#REF!"},{"$error":"#DIV/0!"},0,{"$error":"#DIV/0!"},0,null,null,null,"117/Mi.13.05.162/PP.01.1/06/2020"]
[{"$f":"SISWA!A125","v":118},{"$f":"IF(SISWA!B125=0,\"\",SISWA!B125)","v":""},{"$f":"IF(SISWA!C125=0,\"\",SISWA!C125)","v":""},{"$f":"IF(SISWA!D125=0,\"\",SISWA!D125)","v":""},{"$f":"IF(SISWA!E125=0,\"\",SISWA!E125)","v":""},{"$f":"IF(SISWA!P124=0,\"\",SISWA!P124)","v":", 00 Januari 1900"},{"$f":"IF(SISWA!H125=0,\"\",SISWA!H125)","v":""},{"$f":"#REF!","v":{"$error":"#REF!"}},{"$f":"#REF!","v":{"$error":"#REF!"}},{"$error":"#REF!"},{"$f":"AA!#REF!","v":{"$error":"#REF!"}},{"$f":"AA!#REF!","v":{"$error":"#REF!"}},{"$error":"#REF!"},{"$f":"AH!#REF!","v":{"$error":"#REF!"}},{"$f":"AH!#REF!","v":{"$error":"#REF!"}},{"$error":"#REF!"},{"$f":"FQ!#REF!","v":{"$error":"#REF!"}},{"$f":"FQ!#REF!","v":{"$error":"#REF!"}},{"$error":"#REF!"},{"$f":"SKI!#REF!","v":{"$error":"#REF!"}},{"$f":"SKI!#REF!","v":{"$error":"#REF!"}},{"$error":"#REF!"},{"$f":"PKn!#REF!","v":{"$error":"#REF!"}},{"$f":"PKn!#REF!","v":{"$error":"#REF!"}},{"$error":"#REF!"},{"$f":"BID!#REF!","v":{"$error":"#REF!"}},{"$f":"BID!#REF!","v":{"$error":"#REF!"}},{"$error":"#REF!"},{"$f":"BA!#REF!","v":{"$error":"#REF!"}},{"$f":"BA!#REF!","v":{"$error":"#REF!"}},{"$error":"#REF!"},{"$f":"MTK!#REF!","v":{"$error":"#REF!"}},{"$f":"MTK!#REF!","v":{"$error":"#REF!"}},{"$error":"#REF!"},{"$f":"IPA!K125","v":{"$error":"#DIV/0!"}},{"$f":"IPA!N125","v":{"$error":"#DIV/0!"}},{"$error":"#DIV/0!"},{"$f":"IPS!#REF!","v":{"$error":"#REF!"}},{"$f":"IPS!#REF!","v":{"$error":"#REF!"}},{"$error":"#REF!"},{"$f":"SBK!#REF!","v":{"$error":"#REF!"}},{"$f":"SBK!#REF!","v":{"$error":"#REF!"}},{"$error":"#REF!"},{"$f":"PJK!#REF!","v":{"$error":"#REF!"}},{"$f":"PJK!#REF!","v":{"$error":"#REF!"}},{"$error":"#REF!"},{"$f":"BD!#REF!","v":{"$error":"#REF!"}},{"$f":"BD!#REF!","v":{"$error":"#REF!"}},{"$error":"#REF!"},{"$f":"BIG!K125","v":{"$error":"#DIV/0!"}},{"$f":"BIG!N125","v":{"$error":"#DIV/0!"}},{"$error":"#DIV/0!"},{"$f":"AWJ!N125","v":0},{"$f":"AWJ!P125","v":0},0,{"$error":"#REF!"},{"$error":"#REF!"},null,{"$error":"#REF!"},{"$error":"#REF!"},null,{"$error":"#REF!"},{"$error":"#DIV/0!"},{"$f":"IPA!L125","v":0},{"$error":"#DIV/0!"},0,{"$error":"#REF!"},0,{"$error":"#REF!"},{"$error":"#REF!"},{"$error":"#REF!"},{"$error":"#REF!"},{"$error":"#REF!"},{"$error":"#REF!"},{"$error":"#DIV/0!"},{"$error":"#DIV/0!"},{"$error":"#DIV/0!"},null,null,{"$error":"#REF!"},0,{"$error":"#REF!"},{"$error":"#REF!"},0,{"$error":"#REF!"},{"$error":"#DIV/0!"},0,{"$error":"#DIV/0!"},0,null,null,null,"118/Mi.13.05.162/PP.01.1/06/2020"]
[{"$f":"SISWA!A126","v":119},{"$f":"IF(SISWA!B126=0,\"\",SISWA!B126)","v":""},{"$f":"IF(SISWA!C126=0,\"\",SISWA!C126)","v":""},{"$f":"IF(SISWA!D126=0,\"\",SISWA!D126)","v":""},{"$f":"IF(SISWA!E126=0,\"\",SISWA!E126)","v":""},{"$f":"IF(SISWA!P125=0,\"\",SISWA!P125)","v":", 00 Januari 1900"},{"$f":"IF(SISWA!H126=0,\"\",SISWA!H126)","v":""},{"$f":"#REF!","v":{"$error":"#REF!"}},{"$f":"#REF!","v":{"$error":"#REF!"}},{"$error":"#REF!"},{"$f":"AA!#REF!","v":{"$error":"#REF!"}},{"$f":"AA!#REF!","v":{"$error":"#REF!"}},{"$error":"#REF!"},{"$f":"AH!#REF!","v":{"$error":"#REF!"}},{"$f":"AH!#REF!","v":{"$error":"#REF!"}},{"$error":"#REF!"},{"$f":"FQ!#REF!","v":{"$error":"#REF!"}},{"$f":"FQ!#REF!","v":{"$error":"#REF!"}},{"$error":"#REF!"},{"$f":"SKI!#REF!","v":{"$error":"#REF!"}},{"$f":"SKI!#REF!","v":{"$error":"#REF!"}},{"$error":"#REF!"},{"$f":"PKn!#REF!","v":{"$error":"#REF!"}},{"$f":"PKn!#REF!","v":{"$error":"#REF!"}},{"$error":"#REF!"},{"$f":"BID!#REF!","v":{"$error":"#REF!"}},{"$f":"BID!#REF!","v":{"$error":"#REF!"}},{"$error":"#REF!"},{"$f":"BA!#REF!","v":{"$error":"#REF!"}},{"$f":"BA!#REF!","v":{"$error":"#REF!"}},{"$error":"#REF!"},{"$f":"MTK!#REF!","v":{"$error":"#REF!"}},{"$f":"MTK!#REF!","v":{"$error":"#REF!"}},{"$error":"#REF!"},{"$f":"IPA!K126","v":{"$error":"#DIV/0!"}},{"$f":"IPA!N126","v":{"$error":"#DIV/0!"}},{"$error":"#DIV/0!"},{"$f":"IPS!#REF!","v":{"$error":"#REF!"}},{"$f":"IPS!#REF!","v":{"$error":"#REF!"}},{"$error":"#REF!"},{"$f":"SBK!#REF!","v":{"$error":"#REF!"}},{"$f":"SBK!#REF!","v":{"$error":"#REF!"}},{"$error":"#REF!"},{"$f":"PJK!#REF!","v":{"$error":"#REF!"}},{"$f":"PJK!#REF!","v":{"$error":"#REF!"}},{"$error":"#REF!"},{"$f":"BD!#REF!","v":{"$error":"#REF!"}},{"$f":"BD!#REF!","v":{"$error":"#REF!"}},{"$error":"#REF!"},{"$f":"BIG!K126","v":{"$error":"#DIV/0!"}},{"$f":"BIG!N126","v":{"$error":"#DIV/0!"}},{"$error":"#DIV/0!"},{"$f":"AWJ!N126","v":0},{"$f":"AWJ!P126","v":0},0,{"$error":"#REF!"},{"$error":"#REF!"},null,{"$error":"#REF!"},{"$error":"#REF!"},null,{"$error":"#REF!"},{"$error":"#DIV/0!"},{"$f":"IPA!L126","v":0},{"$error":"#DIV/0!"},0,{"$error":"#REF!"},0,{"$error":"#REF!"},{"$error":"#REF!"},{"$error":"#REF!"},{"$error":"#REF!"},{"$error":"#REF!"},{"$error":"#REF!"},{"$error":"#DIV/0!"},{"$error":"#DIV/0!"},{"$error":"#DIV/0!"},null,null,{"$error":"#REF!"},0,{"$error":"#REF!"},{"$error":"#REF!"},0,{"$error":"#REF!"},{"$error":"#DIV/0!"},0,{"$error":"#DIV/0!"},0,null,null,null,"119/Mi.13.05.162/PP.01.1/06/2020"]
[{"$f":"SISWA!A127","v":120},{"$f":"IF(SISWA!B127=0,\"\",SISWA!B127)","v":""},{"$f":"IF(SISWA!C127=0,\"\",SISWA!C127)","v":""},{"$f":"IF(SISWA!D127=0,\"\",SISWA!D127)","v":""},{"$f":"IF(SISWA!E127=0,\"\",SISWA!E127)","v":""},{"$f":"IF(SISWA!P126=0,\"\",SISWA!P126)","v":", 00 Januari 1900"},{"$f":"IF(SISWA!H127=0,\"\",SISWA!H127)","v":""},{"$f":"#REF!","v":{"$error":"#REF!"}},{"$f":"#REF!","v":{"$error":"#REF!"}},{"$error":"#REF!"},{"$f":"AA!#REF!","v":{"$error":"#REF!"}},{"$f":"AA!#REF!","v":{"$error":"#REF!"}},{"$error":"#REF!"},{"$f":"AH!#REF!","v":{"$error":"#REF!"}},{"$f":"AH!#REF!","v":{"$error":"#REF!"}},{"$error":"#REF!"},{"$f":"FQ!#REF!","v":{"$error":"#REF!"}},{"$f":"FQ!#REF!","v":{"$error":"#REF!"}},{"$error":"#REF!"},{"$f":"SKI!#REF!","v":{"$error":"#REF!"}},{"$f":"SKI!#REF!","v":{"$error":"#REF!"}},{"$error":"#REF!"},{"$f":"PKn!#REF!","v":{"$error":"#REF!"}},{"$f":"PKn!#REF!","v":{"$error":"#REF!"}},{"$error":"#REF!"},{"$f":"BID!#REF!","v":{"$error":"#REF!"}},{"$f":"BID!#REF!","v":{"$error":"#REF!"}},{"$error":"#REF!"},{"$f":"BA!#REF!","v":{"$error":"#REF!"}},{"$f":"BA!#REF!","v":{"$error":"#REF!"}},{"$error":"#REF!"},{"$f":"MTK!#REF!","v":{"$error":"#REF!"}},{"$f":"MTK!#REF!","v":{"$error":"#REF!"}},{"$error":"#REF!"},{"$f":"IPA!K127","v":{"$error":"#DIV/0!"}},{"$f":"IPA!N127","v":{"$error":"#DIV/0!"}},{"$error":"#DIV/0!"},{"$f":"IPS!#REF!","v":{"$error":"#REF!"}},{"$f":"IPS!#REF!","v":{"$error":"#REF!"}},{"$error":"#REF!"},{"$f":"SBK!#REF!","v":{"$error":"#REF!"}},{"$f":"SBK!#REF!","v":{"$error":"#REF!"}},{"$error":"#REF!"},{"$f":"PJK!#REF!","v":{"$error":"#REF!"}},{"$f":"PJK!#REF!","v":{"$error":"#REF!"}},{"$error":"#REF!"},{"$f":"BD!#REF!","v":{"$error":"#REF!"}},{"$f":"BD!#REF!","v":{"$error":"#REF!"}},{"$error":"#REF!"},{"$f":"BIG!K127","v":{"$error":"#DIV/0!"}},{"$f":"BIG!N127","v":{"$error":"#DIV/0!"}},{"$error":"#DIV/0!"},{"$f":"AWJ!N127","v":0},{"$f":"AWJ!P127","v":0},0,{"$error":"#REF!"},{"$error":"#REF!"},null,{"$error":"#REF!"},{"$error":"#REF!"},null,{"$error":"#REF!"},{"$error":"#DIV/0!"},{"$f":"IPA!L127","v":0},{"$error":"#DIV/0!"},0,{"$error":"#REF!"},0,{"$error":"#REF!"},{"$error":"#REF!"},{"$error":"#REF!"},{"$error":"#REF!"},{"$error":"#REF!"},{"$error":"#REF!"},{"$error":"#DIV/0!"},{"$error":"#DIV/0!"},{"$error":"#DIV/0!"},null,null,{"$error":"#REF!"},0,{"$error":"#REF!"},{"$error":"#REF!"},0,{"$error":"#REF!"},{"$error":"#DIV/0!"},0,{"$error":"#DIV/0!"},0,null,null,null,"120/Mi.13.05.162/PP.01.1/06/2020"]
[{"$f":"SISWA!A128","v":121},{"$f":"IF(SISWA!B128=0,\"\",SISWA!B128)","v":""},{"$f":"IF(SISWA!C128=0,\"\",SISWA!C128)","v":""},{"$f":"IF(SISWA!D128=0,\"\",SISWA!D128)","v":""},{"$f":"IF(SISWA!E128=0,\"\",SISWA!E128)","v":""},{"$f":"IF(SISWA!P127=0,\"\",SISWA!P127)","v":", 00 Januari 1900"},{"$f":"IF(SISWA!H128=0,\"\",SISWA!H128)","v":""},{"$f":"#REF!","v":{"$error":"#REF!"}},{"$f":"#REF!","v":{"$error":"#REF!"}},{"$error":"#REF!"},{"$f":"AA!#REF!","v":{"$error":"#REF!"}},{"$f":"AA!#REF!","v":{"$error":"#REF!"}},{"$error":"#REF!"},{"$f":"AH!#REF!","v":{"$error":"#REF!"}},{"$f":"AH!#REF!","v":{"$error":"#REF!"}},{"$error":"#REF!"},{"$f":"FQ!#REF!","v":{"$error":"#REF!"}},{"$f":"FQ!#REF!","v":{"$error":"#REF!"}},{"$error":"#REF!"},{"$f":"SKI!#REF!","v":{"$error":"#REF!"}},{"$f":"SKI!#REF!","v":{"$error":"#REF!"}},{"$error":"#REF!"},{"$f":"PKn!#REF!","v":{"$error":"#REF!"}},{"$f":"PKn!#REF!","v":{"$error":"#REF!"}},{"$error":"#REF!"},{"$f":"BID!#REF!","v":{"$error":"#REF!"}},{"$f":"BID!#REF!","v":{"$error":"#REF!"}},{"$error":"#REF!"},{"$f":"BA!#REF!","v":{"$error":"#REF!"}},{"$f":"BA!#REF!","v":{"$error":"#REF!"}},{"$error":"#REF!"},{"$f":"MTK!#REF!","v":{"$error":"#REF!"}},{"$f":"MTK!#REF!","v":{"$error":"#REF!"}},{"$error":"#REF!"},{"$f":"IPA!K128","v":{"$error":"#DIV/0!"}},{"$f":"IPA!N128","v":{"$error":"#DIV/0!"}},{"$error":"#DIV/0!"},{"$f":"IPS!#REF!","v":{"$error":"#REF!"}},{"$f":"IPS!#REF!","v":{"$error":"#REF!"}},{"$error":"#REF!"},{"$f":"SBK!#REF!","v":{"$error":"#REF!"}},{"$f":"SBK!#REF!","v":{"$error":"#REF!"}},{"$error":"#REF!"},{"$f":"PJK!#REF!","v":{"$error":"#REF!"}},{"$f":"PJK!#REF!","v":{"$error":"#REF!"}},{"$error":"#REF!"},{"$f":"BD!#REF!","v":{"$error":"#REF!"}},{"$f":"BD!#REF!","v":{"$error":"#REF!"}},{"$error":"#REF!"},{"$f":"BIG!K128","v":{"$error":"#DIV/0!"}},{"$f":"BIG!N128","v":{"$error":"#DIV/0!"}},{"$error":"#DIV/0!"},{"$f":"AWJ!N128","v":0},{"$f":"AWJ!P128","v":0},0,{"$error":"#REF!"},{"$error":"#REF!"},null,{"$error":"#REF!"},{"$error":"#REF!"},null,{"$error":"#REF!"},{"$error":"#DIV/0!"},{"$f":"IPA!L128","v":0},{"$error":"#DIV/0!"},0,{"$error":"#REF!"},0,{"$error":"#REF!"},{"$error":"#REF!"},{"$error":"#REF!"},{"$error":"#REF!"},{"$error":"#REF!"},{"$error":"#REF!"},{"$error":"#DIV/0!"},{"$error":"#DIV/0!"},{"$error":"#DIV/0!"},null,null,{"$error":"#REF!"},0,{"$error":"#REF!"},{"$error":"#REF!"},0,{"$error":"#REF!"},{"$error":"#DIV/0!"},0,{"$error":"#DIV/0!"},0,null,null,null,"121/Mi.13.05.162/PP.01.1/06/2020"]
[{"$f":"SISWA!A129","v":122},{"$f":"IF(SISWA!B129=0,\"\",SISWA!B129)","v":""},{"$f":"IF(SISWA!C129=0,\"\",SISWA!C129)","v":""},{"$f":"IF(SISWA!D129=0,\"\",SISWA!D129)","v":""},{"$f":"IF(SISWA!E129=0,\"\",SISWA!E129)","v":""},{"$f":"IF(SISWA!P128=0,\"\",SISWA!P128)","v":", 00 Januari 1900"},{"$f":"IF(SISWA!H129=0,\"\",SISWA!H129)","v":""},{"$f":"#REF!","v":{"$error":"#REF!"}},{"$f":"#REF!","v":{"$error":"#REF!"}},{"$f":"(H130*60%)+(I130*40%)","v":{"$error":"#REF!"}},null,null,null,{"$f":"AH!#REF!","v":{"$error":"#REF!"}},{"$f":"AH!#REF!","v":{"$error":"#REF!"}},{"$f":"(N130*60%)+(O130*40%)","v":{"$error":"#REF!"}},{"$f":"FQ!#REF!","v":{"$error":"#REF!"}},{"$f":"FQ!#REF!","v":{"$error":"#REF!"}},{"$f":"(Q130*60%)+(R130*40%)","v":{"$error":"#REF!"}},{"$f":"SKI!#REF!","v":{"$error":"#REF!"}},{"$f":"SKI!#REF!","v":{"$error":"#REF!"}},{"$f":"(T130*60%)+(U130*40%)","v":{"$error":"#REF!"}},{"$f":"PKn!#REF!","v":{"$error":"#REF!"}},{"$f":"PKn!#REF!","v":{"$error":"#REF!"}},{"$f":"(W130*60%)+(X130*40%)","v":{"$error":"#REF!"}},{"$f":"BID!#REF!","v":{"$error":"#REF!"}},{"$f":"BID!#REF!","v":{"$error":"#REF!"}},{"$f":"(Z130*60%)+(AA130*40%)","v":{"$error":"#REF!"}},{"$f":"BA!#REF!","v":{"$error":"#REF!"}},{"$f":"BA!#REF!","v":{"$error":"#REF!"}},{"$f":"(AC130*60%)+(AD130*40%)","v":{"$error":"#REF!"}},{"$f":"MTK!#REF!","v":{"$error":"#REF!"}},{"$f":"MTK!#REF!","v":{"$error":"#REF!"}},{"$f":"(AF130*60%)+(AG130*40%)","v":{"$error":"#REF!"}},{"$f":"IPA!K129","v":{"$error":"#DIV/0!"}},{"$f":"IPA!N129","v":{"$error":"#DIV/0!"}},{"$f":"(AI130*60%)+(AJ130*40%)","v":{"$error":"#DIV/0!"}},{"$f":"IPS!#REF!","v":{"$error":"#REF!"}},{"$f":"IPS!#REF!","v":{"$error":"#REF!"}},{"$f":"(AL130*60%)+(AM130*40%)","v":{"$error":"#REF!"}},{"$f":"SBK!#REF!","v":{"$error":"#REF!"}},{"$f":"SBK!#REF!","v":{"$error":"#REF!"}},{"$f":"(AO130*60%)+(AP130*40%)","v":{"$error":"#REF!"}},{"$f":"PJK!#REF!","v":{"$error":"#REF!"}},{"$f":"PJK!#REF!","v":{"$error":"#REF!"}},{"$f":"(AR130*60%)+(AS130*40%)","v":{"$error":"#REF!"}},{"$f":"BD!#REF!","v":{"$error":"#REF!"}},{"$f":"BD!#REF!","v":{"$error":"#REF!"}},{"$f":"(AU130*60%)+(AV130*40%)","v":{"$error":"#REF!"}},{"$f":"BIG!K129","v":{"$error":"#DIV/0!"}},{"$f":"BIG!N129","v":{"$error":"#DIV/0!"}},{"$f":"(AX130*60%)+(AY130*40%)","v":{"$error":"#DIV/0!"}},{"$f":"AWJ!N129","v":0},{"$f":"AWJ!P129","v":0},0,{"$error":"#REF!"},{"$error":"#REF!"},null,{"$error":"#REF!"},{"$error":"#REF!"},null,{"$error":"#REF!"},{"$error":"#DIV/0!"},{"$f":"IPA!L129","v":0},{"$error":"#DIV/0!"},0,{"$error":"#REF!"},0,{"$error":"#REF!"},{"$error":"#REF!"},{"$error":"#REF!"},{"$error":"#REF!"},{"$error":"#REF!"},{"$error":"#REF!"},{"$error":"#DIV/0!"},{"$error":"#DIV/0!"},{"$error":"#DIV/0!"},null,null,{"$error":"#REF!"},0,{"$error":"#REF!"},{"$error":"#REF!"},0,{"$error":"#REF!"},{"$error":"#DIV/0!"},0,{"$error":"#DIV/0!"},0,null,null,null,"122/Mi.13.05.162/PP.01.1/06/2020"]
[{"$f":"SISWA!A130","v":123},{"$f":"IF(SISWA!B130=0,\"\",SISWA!B130)","v":""},{"$f":"IF(SISWA!C130=0,\"\",SISWA!C130)","v":""},{"$f":"IF(SISWA!D130=0,\"\",SISWA!D130)","v":""},{"$f":"IF(SISWA!E130=0,\"\",SISWA!E130)","v":""},{"$f":"IF(SISWA!P129=0,\"\",SISWA!P129)","v":", 00 Januari 1900"},{"$f":"IF(SISWA!H130=0,\"\",SISWA!H130)","v":""},{"$f":"#REF!","v":{"$error":"#REF!"}},{"$f":"#REF!","v":{"$error":"#REF!"}},{"$error":"#REF!"},null,null,null,{"$f":"AH!#REF!","v":{"$error":"#REF!"}},{"$f":"AH!#REF!","v":{"$error":"#REF!"}},{"$error":"#REF!"},{"$f":"FQ!#REF!","v":{"$error":"#REF!"}},{"$f":"FQ!#REF!","v":{"$error":"#REF!"}},{"$error":"#REF!"},{"$f":"SKI!#REF!","v":{"$error":"#REF!"}},{"$f":"SKI!#REF!","v":{"$error":"#REF!"}},{"$error":"#REF!"},{"$f":"PKn!#REF!","v":{"$error":"#REF!"}},{"$f":"PKn!#REF!","v":{"$error":"#REF!"}},{"$error":"#REF!"},{"$f":"BID!#REF!","v":{"$error":"#REF!"}},{"$f":"BID!#REF!","v":{"$error":"#REF!"}},{"$error":"#REF!"},{"$f":"BA!#REF!","v":{"$error":"#REF!"}},{"$f":"BA!#REF!","v":{"$error":"#REF!"}},{"$error":"#REF!"},{"$f":"MTK!#REF!","v":{"$error":"#REF!"}},{"$f":"MTK!#REF!","v":{"$error":"#REF!"}},{"$error":"#REF!"},{"$f":"IPA!K130","v":{"$error":"#DIV/0!"}},{"$f":"IPA!N130","v":{"$error":"#DIV/0!"}},{"$error":"#DIV/0!"},{"$f":"IPS!#REF!","v":{"$error":"#REF!"}},{"$f":"IPS!#REF!","v":{"$error":"#REF!"}},{"$error":"#REF!"},{"$f":"SBK!#REF!","v":{"$error":"#REF!"}},{"$f":"SBK!#REF!","v":{"$error":"#REF!"}},{"$error":"#REF!"},{"$f":"PJK!#REF!","v":{"$error":"#REF!"}},{"$f":"PJK!#REF!","v":{"$error":"#REF!"}},{"$error":"#REF!"},{"$f":"BD!#REF!","v":{"$error":"#REF!"}},{"$f":"BD!#REF!","v":{"$error":"#REF!"}},{"$error":"#REF!"},{"$f":"BIG!K130","v":{"$error":"#DIV/0!"}},{"$f":"BIG!N130","v":{"$error":"#DIV/0!"}},{"$error":"#DIV/0!"},{"$f":"AWJ!N130","v":0},{"$f":"AWJ!P130","v":0},0,{"$error":"#REF!"},{"$error":"#REF!"},null,{"$error":"#REF!"},{"$error":"#REF!"},null,{"$error":"#REF!"},{"$error":"#DIV/0!"},{"$f":"IPA!L130","v":0},{"$error":"#DIV/0!"},0,{"$error":"#REF!"},0,{"$error":"#REF!"},{"$error":"#REF!"},{"$error":"#REF!"},{"$error":"#REF!"},{"$error":"#REF!"},{"$error":"#REF!"},{"$error":"#DIV/0!"},{"$error":"#DIV/0!"},{"$error":"#DIV/0!"},null,null,{"$error":"#REF!"},0,{"$error":"#REF!"},{"$error":"#REF!"},0,{"$error":"#REF!"},{"$error":"#DIV/0!"},0,{"$error":"#DIV/0!"},0,null,null,null,"123/Mi.13.05.162/PP.01.1/06/2020"]
[{"$f":"SISWA!A131","v":124},{"$f":"IF(SISWA!B131=0,\"\",SISWA!B131)","v":""},{"$f":"IF(SISWA!C131=0,\"\",SISWA!C131)","v":""},{"$f":"IF(SISWA!D131=0,\"\",SISWA!D131)","v":""},{"$f":"IF(SISWA!E131=0,\"\",SISWA!E131)","v":""},{"$f":"IF(SISWA!P130=0,\"\",SISWA!P130)","v":", 00 Januari 1900"},{"$f":"IF(SISWA!H131=0,\"\",SISWA!H131)","v":""},{"$f":"#REF!","v":{"$error":"#REF!"}},{"$f":"#REF!","v":{"$error":"#REF!"}},{"$error":"#REF!"},null,null,null,{"$f":"AH!#REF!","v":{"$error":"#REF!"}},{"$f":"AH!#REF!","v":{"$error":"#REF!"}},{"$error":"#REF!"},{"$f":"FQ!#REF!","v":{"$error":"#REF!"}},{"$f":"FQ!#REF!","v":{"$error":"#REF!"}},{"$error":"#REF!"},{"$f":"SKI!#REF!","v":{"$error":"#REF!"}},{"$f":"SKI!#REF!","v":{"$error":"#REF!"}},{"$error":"#REF!"},{"$f":"PKn!#REF!","v":{"$error":"#REF!"}},{"$f":"PKn!#REF!","v":{"$error":"#REF!"}},{"$error":"#REF!"},{"$f":"BID!#REF!","v":{"$error":"#REF!"}},{"$f":"BID!#REF!","v":{"$error":"#REF!"}},{"$error":"#REF!"},{"$f":"BA!#REF!","v":{"$error":"#REF!"}},{"$f":"BA!#REF!","v":{"$error":"#REF!"}},{"$error":"#REF!"},{"$f":"MTK!#REF!","v":{"$error":"#REF!"}},{"$f":"MTK!#REF!","v":{"$error":"#REF!"}},{"$error":"#REF!"},{"$f":"IPA!K131","v":{"$error":"#DIV/0!"}},{"$f":"IPA!N131","v":{"$error":"#DIV/0!"}},{"$error":"#DIV/0!"},{"$f":"IPS!#REF!","v":{"$error":"#REF!"}},{"$f":"IPS!#REF!","v":{"$error":"#REF!"}},{"$error":"#REF!"},{"$f":"SBK!#REF!","v":{"$error":"#REF!"}},{"$f":"SBK!#REF!","v":{"$error":"#REF!"}},{"$error":"#REF!"},{"$f":"PJK!#REF!","v":{"$error":"#REF!"}},{"$f":"PJK!#REF!","v":{"$error":"#REF!"}},{"$error":"#REF!"},{"$f":"BD!#REF!","v":{"$error":"#REF!"}},{"$f":"BD!#REF!","v":{"$error":"#REF!"}},{"$error":"#REF!"},{"$f":"BIG!K131","v":{"$error":"#DIV/0!"}},{"$f":"BIG!N131","v":{"$error":"#DIV/0!"}},{"$error":"#DIV/0!"},{"$f":"AWJ!N131","v":0},{"$f":"AWJ!P131","v":0},0,{"$error":"#REF!"},{"$error":"#REF!"},null,{"$error":"#REF!"},{"$error":"#REF!"},null,{"$error":"#REF!"},{"$error":"#DIV/0!"},{"$f":"IPA!L131","v":0},{"$error":"#DIV/0!"},0,{"$error":"#REF!"},0,{"$error":"#REF!"},{"$error":"#REF!"},{"$error":"#REF!"},{"$error":"#REF!"},{"$error":"#REF!"},{"$error":"#REF!"},{"$error":"#DIV/0!"},{"$error":"#DIV/0!"},{"$error":"#DIV/0!"},null,null,{"$error":"#REF!"},0,{"$error":"#REF!"},{"$error":"#REF!"},0,{"$error":"#REF!"},{"$error":"#DIV/0!"},0,{"$error":"#DIV/0!"},0,null,null,null,"124/Mi.13.05.162/PP.01.1/06/2020"]
[{"$f":"SISWA!A132","v":125},{"$f":"IF(SISWA!B132=0,\"\",SISWA!B132)","v":""},{"$f":"IF(SISWA!C132=0,\"\",SISWA!C132)","v":""},{"$f":"IF(SISWA!D132=0,\"\",SISWA!D132)","v":""},{"$f":"IF(SISWA!E132=0,\"\",SISWA!E132)","v":""},{"$f":"IF(SISWA!P131=0,\"\",SISWA!P131)","v":", 00 Januari 1900"},{"$f":"IF(SISWA!H132=0,\"\",SISWA!H132)","v":""},{"$f":"#REF!","v":{"$error":"#REF!"}},{"$f":"#REF!","v":{"$error":"#REF!"}},{"$error":"#REF!"},null,null,null,{"$f":"AH!#REF!","v":{"$error":"#REF!"}},{"$f":"AH!#REF!","v":{"$error":"#REF!"}},{"$error":"#REF!"},{"$f":"FQ!#REF!","v":{"$error":"#REF!"}},{"$f":"FQ!#REF!","v":{"$error":"#REF!"}},{"$error":"#REF!"},{"$f":"SKI!#REF!","v":{"$error":"#REF!"}},{"$f":"SKI!#REF!","v":{"$error":"#REF!"}},{"$error":"#REF!"},{"$f":"PKn!#REF!","v":{"$error":"#REF!"}},{"$f":"PKn!#REF!","v":{"$error":"#REF!"}},{"$error":"#REF!"},{"$f":"BID!#REF!","v":{"$error":"#REF!"}},{"$f":"BID!#REF!","v":{"$error":"#REF!"}},{"$error":"#REF!"},{"$f":"BA!#REF!","v":{"$error":"#REF!"}},{"$f":"BA!#REF!","v":{"$error":"#REF!"}},{"$error":"#REF!"},{"$f":"MTK!#REF!","v":{"$error":"#REF!"}},{"$f":"MTK!#REF!","v":{"$error":"#REF!"}},{"$error":"#REF!"},{"$f":"IPA!K132","v":{"$error":"#DIV/0!"}},{"$f":"IPA!N132","v":{"$error":"#DIV/0!"}},{"$error":"#DIV/0!"},{"$f":"IPS!#REF!","v":{"$error":"#REF!"}},{"$f":"IPS!#REF!","v":{"$error":"#REF!"}},{"$error":"#REF!"},{"$f":"SBK!#REF!","v":{"$error":"#REF!"}},{"$f":"SBK!#REF!","v":{"$error":"#REF!"}},{"$error":"#REF!"},{"$f":"PJK!#REF!","v":{"$error":"#REF!"}},{"$f":"PJK!#REF!","v":{"$error":"#REF!"}},{"$error":"#REF!"},{"$f":"BD!#REF!","v":{"$error":"#REF!"}},{"$f":"BD!#REF!","v":{"$error":"#REF!"}},{"$error":"#REF!"},{"$f":"BIG!K132","v":{"$error":"#DIV/0!"}},{"$f":"BIG!N132","v":{"$error":"#DIV/0!"}},{"$error":"#DIV/0!"},{"$f":"AWJ!N132","v":0},{"$f":"AWJ!P132","v":0},0,{"$error":"#REF!"},{"$error":"#REF!"},null,{"$error":"#REF!"},{"$error":"#REF!"},null,{"$error":"#REF!"},{"$error":"#DIV/0!"},{"$f":"IPA!L132","v":0},{"$error":"#DIV/0!"},0,{"$error":"#REF!"},0,{"$error":"#REF!"},{"$error":"#REF!"},{"$error":"#REF!"},{"$error":"#REF!"},{"$error":"#REF!"},{"$error":"#REF!"},{"$error":"#DIV/0!"},{"$error":"#DIV/0!"},{"$error":"#DIV/0!"},null,null,{"$error":"#REF!"},0,{"$error":"#REF!"},{"$error":"#REF!"},0,{"$error":"#REF!"},{"$error":"#DIV/0!"},0,{"$error":"#DIV/0!"},0,null,null,null,"125/Mi.13.05.162/PP.01.1/06/2020"]
[{"$f":"SISWA!A133","v":126},{"$f":"IF(SISWA!B133=0,\"\",SISWA!B133)","v":""},{"$f":"IF(SISWA!C133=0,\"\",SISWA!C133)","v":""},{"$f":"IF(SISWA!D133=0,\"\",SISWA!D133)","v":""},{"$f":"IF(SISWA!E133=0,\"\",SISWA!E133)","v":""},{"$f":"IF(SISWA!P132=0,\"\",SISWA!P132)","v":", 00 Januari 1900"},{"$f":"IF(SISWA!H133=0,\"\",SISWA!H133)","v":""},{"$f":"#REF!","v":{"$error":"#REF!"}},{"$f":"#REF!","v":{"$error":"#REF!"}},{"$error":"#REF!"},null,null,null,{"$f":"AH!#REF!","v":{"$error":"#REF!"}},{"$f":"AH!#REF!","v":{"$error":"#REF!"}},{"$error":"#REF!"},{"$f":"FQ!#REF!","v":{"$error":"#REF!"}},{"$f":"FQ!#REF!","v":{"$error":"#REF!"}},{"$error":"#REF!"},{"$f":"SKI!#REF!","v":{"$error":"#REF!"}},{"$f":"SKI!#REF!","v":{"$error":"#REF!"}},{"$error":"#REF!"},{"$f":"PKn!#REF!","v":{"$error":"#REF!"}},{"$f":"PKn!#REF!","v":{"$error":"#REF!"}},{"$error":"#REF!"},{"$f":"BID!#REF!","v":{"$error":"#REF!"}},{"$f":"BID!#REF!","v":{"$error":"#REF!"}},{"$error":"#REF!"},{"$f":"BA!#REF!","v":{"$error":"#REF!"}},{"$f":"BA!#REF!","v":{"$error":"#REF!"}},{"$error":"#REF!"},{"$f":"MTK!#REF!","v":{"$error":"#REF!"}},{"$f":"MTK!#REF!","v":{"$error":"#REF!"}},{"$error":"#REF!"},{"$f":"IPA!K133","v":{"$error":"#DIV/0!"}},{"$f":"IPA!N133","v":{"$error":"#DIV/0!"}},{"$error":"#DIV/0!"},{"$f":"IPS!#REF!","v":{"$error":"#REF!"}},{"$f":"IPS!#REF!","v":{"$error":"#REF!"}},{"$error":"#REF!"},{"$f":"SBK!#REF!","v":{"$error":"#REF!"}},{"$f":"SBK!#REF!","v":{"$error":"#REF!"}},{"$error":"#REF!"},{"$f":"PJK!#REF!","v":{"$error":"#REF!"}},{"$f":"PJK!#REF!","v":{"$error":"#REF!"}},{"$error":"#REF!"},{"$f":"BD!#REF!","v":{"$error":"#REF!"}},{"$f":"BD!#REF!","v":{"$error":"#REF!"}},{"$error":"#REF!"},{"$f":"BIG!K133","v":{"$error":"#DIV/0!"}},{"$f":"BIG!N133","v":{"$error":"#DIV/0!"}},{"$error":"#DIV/0!"},{"$f":"AWJ!N133","v":0},{"$f":"AWJ!P133","v":0},0,{"$error":"#REF!"},{"$error":"#REF!"},null,{"$error":"#REF!"},{"$error":"#REF!"},null,{"$error":"#REF!"},{"$error":"#DIV/0!"},{"$f":"IPA!L133","v":0},{"$error":"#DIV/0!"},0,{"$error":"#REF!"},0,{"$error":"#REF!"},{"$error":"#REF!"},{"$error":"#REF!"},{"$error":"#REF!"},{"$error":"#REF!"},{"$error":"#REF!"},{"$error":"#DIV/0!"},{"$error":"#DIV/0!"},{"$error":"#DIV/0!"},null,null,{"$error":"#REF!"},0,{"$error":"#REF!"},{"$error":"#REF!"},0,{"$error":"#REF!"},{"$error":"#DIV/0!"},0,{"$error":"#DIV/0!"},0,null,null,null,"126/Mi.13.05.162/PP.01.1/06/2020"]
[{"$f":"SISWA!A134","v":127},{"$f":"IF(SISWA!B134=0,\"\",SISWA!B134)","v":""},{"$f":"IF(SISWA!C134=0,\"\",SISWA!C134)","v":""},{"$f":"IF(SISWA!D134=0,\"\",SISWA!D134)","v":""},{"$f":"IF(SISWA!E134=0,\"\",SISWA!E134)","v":""},{"$f":"IF(SISWA!P133=0,\"\",SISWA!P133)","v":", 00 Januari 1900"},{"$f":"IF(SISWA!H134=0,\"\",SISWA!H134)","v":""},{"$f":"#REF!","v":{"$error":"#REF!"}},{"$f":"#REF!","v":{"$error":"#REF!"}},{"$error":"#REF!"},null,null,null,{"$f":"AH!#REF!","v":{"$error":"#REF!"}},{"$f":"AH!#REF!","v":{"$error":"#REF!"}},{"$error":"#REF!"},{"$f":"FQ!#REF!","v":{"$error":"#REF!"}},{"$f":"FQ!#REF!","v":{"$error":"#REF!"}},{"$error":"#REF!"},{"$f":"SKI!#REF!","v":{"$error":"#REF!"}},{"$f":"SKI!#REF!","v":{"$error":"#REF!"}},{"$error":"#REF!"},{"$f":"PKn!#REF!","v":{"$error":"#REF!"}},{"$f":"PKn!#REF!","v":{"$error":"#REF!"}},{"$error":"#REF!"},{"$f":"BID!#REF!","v":{"$error":"#REF!"}},{"$f":"BID!#REF!","v":{"$error":"#REF!"}},{"$error":"#REF!"},{"$f":"BA!#REF!","v":{"$error":"#REF!"}},{"$f":"BA!#REF!","v":{"$error":"#REF!"}},{"$error":"#REF!"},{"$f":"MTK!#REF!","v":{"$error":"#REF!"}},{"$f":"MTK!#REF!","v":{"$error":"#REF!"}},{"$error":"#REF!"},{"$f":"IPA!K134","v":{"$error":"#DIV/0!"}},{"$f":"IPA!N134","v":{"$error":"#DIV/0!"}},{"$error":"#DIV/0!"},{"$f":"IPS!#REF!","v":{"$error":"#REF!"}},{"$f":"IPS!#REF!","v":{"$error":"#REF!"}},{"$error":"#REF!"},{"$f":"SBK!#REF!","v":{"$error":"#REF!"}},{"$f":"SBK!#REF!","v":{"$error":"#REF!"}},{"$error":"#REF!"},{"$f":"PJK!#REF!","v":{"$error":"#REF!"}},{"$f":"PJK!#REF!","v":{"$error":"#REF!"}},{"$error":"#REF!"},{"$f":"BD!#REF!","v":{"$error":"#REF!"}},{"$f":"BD!#REF!","v":{"$error":"#REF!"}},{"$error":"#REF!"},{"$f":"BIG!K134","v":{"$error":"#DIV/0!"}},{"$f":"BIG!N134","v":{"$error":"#DIV/0!"}},{"$error":"#DIV/0!"},{"$f":"AWJ!N134","v":0},{"$f":"AWJ!P134","v":0},0,{"$error":"#REF!"},{"$error":"#REF!"},null,{"$error":"#REF!"},{"$error":"#REF!"},null,{"$error":"#REF!"},{"$error":"#DIV/0!"},{"$f":"IPA!L134","v":0},{"$error":"#DIV/0!"},0,{"$error":"#REF!"},0,{"$error":"#REF!"},{"$error":"#REF!"},{"$error":"#REF!"},{"$error":"#REF!"},{"$error":"#REF!"},{"$error":"#REF!"},{"$error":"#DIV/0!"},{"$error":"#DIV/0!"},{"$error":"#DIV/0!"},null,null,{"$error":"#REF!"},0,{"$error":"#REF!"},{"$error":"#REF!"},0,{"$error":"#REF!"},{"$error":"#DIV/0!"},0,{"$error":"#DIV/0!"},0,null,null,null,"127/Mi.13.05.162/PP.01.1/06/2020"]
[{"$f":"SISWA!A135","v":128},{"$f":"IF(SISWA!B135=0,\"\",SISWA!B135)","v":""},{"$f":"IF(SISWA!C135=0,\"\",SISWA!C135)","v":""},{"$f":"IF(SISWA!D135=0,\"\",SISWA!D135)","v":""},{"$f":"IF(SISWA!E135=0,\"\",SISWA!E135)","v":""},{"$f":"IF(SISWA!P134=0,\"\",SISWA!P134)","v":", 00 Januari 1900"},{"$f":"IF(SISWA!H135=0,\"\",SISWA!H135)","v":""},{"$f":"#REF!","v":{"$error":"#REF!"}},{"$f":"#REF!","v":{"$error":"#REF!"}},{"$error":"#REF!"},null,null,null,{"$f":"AH!#REF!","v":{"$error":"#REF!"}},{"$f":"AH!#REF!","v":{"$error":"#REF!"}},{"$error":"#REF!"},{"$f":"FQ!#REF!","v":{"$error":"#REF!"}},{"$f":"FQ!#REF!","v":{"$error":"#REF!"}},{"$error":"#REF!"},{"$f":"SKI!#REF!","v":{"$error":"#REF!"}},{"$f":"SKI!#REF!","v":{"$error":"#REF!"}},{"$error":"#REF!"},{"$f":"PKn!#REF!","v":{"$error":"#REF!"}},{"$f":"PKn!#REF!","v":{"$error":"#REF!"}},{"$error":"#REF!"},{"$f":"BID!#REF!","v":{"$error":"#REF!"}},{"$f":"BID!#REF!","v":{"$error":"#REF!"}},{"$error":"#REF!"},{"$f":"BA!#REF!","v":{"$error":"#REF!"}},{"$f":"BA!#REF!","v":{"$error":"#REF!"}},{"$error":"#REF!"},{"$f":"MTK!#REF!","v":{"$error":"#REF!"}},{"$f":"MTK!#REF!","v":{"$error":"#REF!"}},{"$error":"#REF!"},{"$f":"IPA!K135","v":{"$error":"#DIV/0!"}},{"$f":"IPA!N135","v":{"$error":"#DIV/0!"}},{"$error":"#DIV/0!"},{"$f":"IPS!#REF!","v":{"$error":"#REF!"}},{"$f":"IPS!#REF!","v":{"$error":"#REF!"}},{"$error":"#REF!"},{"$f":"SBK!#REF!","v":{"$error":"#REF!"}},{"$f":"SBK!#REF!","v":{"$error":"#REF!"}},{"$error":"#REF!"},{"$f":"PJK!#REF!","v":{"$error":"#REF!"}},{"$f":"PJK!#REF!","v":{"$error":"#REF!"}},{"$error":"#REF!"},{"$f":"BD!#REF!","v":{"$error":"#REF!"}},{"$f":"BD!#REF!","v":{"$error":"#REF!"}},{"$error":"#REF!"},{"$f":"BIG!K135","v":{"$error":"#DIV/0!"}},{"$f":"BIG!N135","v":{"$error":"#DIV/0!"}},{"$error":"#DIV/0!"},{"$f":"AWJ!N135","v":0},{"$f":"AWJ!P135","v":0},0,{"$error":"#REF!"},{"$error":"#REF!"},null,{"$error":"#REF!"},{"$error":"#REF!"},null,{"$error":"#REF!"},{"$error":"#DIV/0!"},{"$f":"IPA!L135","v":0},{"$error":"#DIV/0!"},0,{"$error":"#REF!"},0,{"$error":"#REF!"},{"$error":"#REF!"},{"$error":"#REF!"},{"$error":"#REF!"},{"$error":"#REF!"},{"$error":"#REF!"},{"$error":"#DIV/0!"},{"$error":"#DIV/0!"},{"$error":"#DIV/0!"},null,null,{"$error":"#REF!"},0,{"$error":"#REF!"},{"$error":"#REF!"},0,{"$error":"#REF!"},{"$error":"#DIV/0!"},0,{"$error":"#DIV/0!"},0,null,null,null,"128/Mi.13.05.162/PP.01.1/06/2020"]
[{"$f":"SISWA!A136","v":129},{"$f":"IF(SISWA!B136=0,\"\",SISWA!B136)","v":""},{"$f":"IF(SISWA!C136=0,\"\",SISWA!C136)","v":""},{"$f":"IF(SISWA!D136=0,\"\",SISWA!D136)","v":""},{"$f":"IF(SISWA!E136=0,\"\",SISWA!E136)","v":""},{"$f":"IF(SISWA!P135=0,\"\",SISWA!P135)","v":", 00 Januari 1900"},{"$f":"IF(SISWA!H136=0,\"\",SISWA!H136)","v":""},{"$f":"#REF!","v":{"$error":"#REF!"}},{"$f":"#REF!","v":{"$error":"#REF!"}},{"$f":"(H137*60%)+(I137*40%)","v":{"$error":"#REF!"}},null,null,null,{"$f":"AH!#REF!","v":{"$error":"#REF!"}},{"$f":"AH!#REF!","v":{"$error":"#REF!"}},{"$f":"(N137*60%)+(O137*40%)","v":{"$error":"#REF!"}},{"$f":"FQ!#REF!","v":{"$error":"#REF!"}},{"$f":"FQ!#REF!","v":{"$error":"#REF!"}},{"$f":"(Q137*60%)+(R137*40%)","v":{"$error":"#REF!"}},{"$f":"SKI!#REF!","v":{"$error":"#REF!"}},{"$f":"SKI!#REF!","v":{"$error":"#REF!"}},{"$f":"(T137*60%)+(U137*40%)","v":{"$error":"#REF!"}},{"$f":"PKn!#REF!","v":{"$error":"#REF!"}},{"$f":"PKn!#REF!","v":{"$error":"#REF!"}},{"$f":"(W137*60%)+(X137*40%)","v":{"$error":"#REF!"}},{"$f":"BID!#REF!","v":{"$error":"#REF!"}},{"$f":"BID!#REF!","v":{"$error":"#REF!"}},{"$f":"(Z137*60%)+(AA137*40%)","v":{"$error":"#REF!"}},{"$f":"BA!#REF!","v":{"$error":"#REF!"}},{"$f":"BA!#REF!","v":{"$error":"#REF!"}},{"$f":"(AC137*60%)+(AD137*40%)","v":{"$error":"#REF!"}},{"$f":"MTK!#REF!","v":{"$error":"#REF!"}},{"$f":"MTK!#REF!","v":{"$error":"#REF!"}},{"$f":"(AF137*60%)+(AG137*40%)","v":{"$error":"#REF!"}},{"$f":"IPA!K136","v":{"$error":"#DIV/0!"}},{"$f":"IPA!N136","v":{"$error":"#DIV/0!"}},{"$f":"(AI137*60%)+(AJ137*40%)","v":{"$error":"#DIV/0!"}},{"$f":"IPS!#REF!","v":{"$error":"#REF!"}},{"$f":"IPS!#REF!","v":{"$error":"#REF!"}},{"$f":"(AL137*60%)+(AM137*40%)","v":{"$error":"#REF!"}},{"$f":"SBK!#REF!","v":{"$error":"#REF!"}},{"$f":"SBK!#REF!","v":{"$error":"#REF!"}},{"$f":"(AO137*60%)+(AP137*40%)","v":{"$error":"#REF!"}},{"$f":"PJK!#REF!","v":{"$error":"#REF!"}},{"$f":"PJK!#REF!","v":{"$error":"#REF!"}},{"$f":"(AR137*60%)+(AS137*40%)","v":{"$error":"#REF!"}},{"$f":"BD!#REF!","v":{"$error":"#REF!"}},{"$f":"BD!#REF!","v":{"$error":"#REF!"}},{"$f":"(AU137*60%)+(AV137*40%)","v":{"$error":"#REF!"}},{"$f":"BIG!K136","v":{"$error":"#DIV/0!"}},{"$f":"BIG!N136","v":{"$error":"#DIV/0!"}},{"$f":"(AX137*60%)+(AY137*40%)","v":{"$error":"#DIV/0!"}},{"$f":"AWJ!N136","v":0},{"$f":"AWJ!P136","v":0},{"$f":"(BA137*60%)+(BB137*40%)","v":0},{"$error":"#REF!"},{"$f":"AB137","v":{"$error":"#REF!"}},null,{"$f":"(BE137*60%)+(BF137*40%)","v":{"$error":"#REF!"}},{"$f":"AH137","v":{"$error":"#REF!"}},null,{"$f":"(BH137*60%)+(BI137*40%)","v":{"$error":"#REF!"}},{"$f":"AK137","v":{"$error":"#DIV/0!"}},{"$f":"IPA!L136","v":0},{"$f":"(BK137*60%)+(BL137*40%)","v":{"$error":"#DIV/0!"}},0,{"$f":"SUM(BG137,BJ137,BM137)","v":{"$error":"#REF!"}},0,{"$error":"#REF!"},{"$error":"#REF!"},{"$error":"#REF!"},{"$error":"#REF!"},{"$error":"#REF!"},{"$error":"#REF!"},{"$error":"#DIV/0!"},{"$error":"#DIV/0!"},{"$error":"#DIV/0!"},null,null,{"$error":"#REF!"},0,{"$error":"#REF!"},{"$error":"#REF!"},0,{"$error":"#REF!"},{"$error":"#DIV/0!"},0,{"$error":"#DIV/0!"},0,null,null,null,"129/Mi.13.05.162/PP.01.1/06/2020"]
[{"$f":"SISWA!A137","v":130},{"$f":"IF(SISWA!B137=0,\"\",SISWA!B137)","v":""},{"$f":"IF(SISWA!C137=0,\"\",SISWA!C137)","v":""},{"$f":"IF(SISWA!D137=0,\"\",SISWA!D137)","v":""},{"$f":"IF(SISWA!E137=0,\"\",SISWA!E137)","v":""},{"$f":"IF(SISWA!P136=0,\"\",SISWA!P136)","v":", 00 Januari 1900"},{"$f":"IF(SISWA!H137=0,\"\",SISWA!H137)","v":""},{"$f":"#REF!","v":{"$error":"#REF!"}},{"$f":"#REF!","v":{"$error":"#REF!"}},{"$error":"#REF!"},null,null,null,{"$f":"AH!#REF!","v":{"$error":"#REF!"}},{"$f":"AH!#REF!","v":{"$error":"#REF!"}},{"$error":"#REF!"},{"$f":"FQ!#REF!","v":{"$error":"#REF!"}},{"$f":"FQ!#REF!","v":{"$error":"#REF!"}},{"$error":"#REF!"},{"$f":"SKI!#REF!","v":{"$error":"#REF!"}},{"$f":"SKI!#REF!","v":{"$error":"#REF!"}},{"$error":"#REF!"},{"$f":"PKn!#REF!","v":{"$error":"#REF!"}},{"$f":"PKn!#REF!","v":{"$error":"#REF!"}},{"$error":"#REF!"},{"$f":"BID!#REF!","v":{"$error":"#REF!"}},{"$f":"BID!#REF!","v":{"$error":"#REF!"}},{"$error":"#REF!"},{"$f":"BA!#REF!","v":{"$error":"#REF!"}},{"$f":"BA!#REF!","v":{"$error":"#REF!"}},{"$error":"#REF!"},{"$f":"MTK!#REF!","v":{"$error":"#REF!"}},{"$f":"MTK!#REF!","v":{"$error":"#REF!"}},{"$error":"#REF!"},{"$f":"IPA!K137","v":{"$error":"#DIV/0!"}},{"$f":"IPA!N137","v":{"$error":"#DIV/0!"}},{"$error":"#DIV/0!"},{"$f":"IPS!#REF!","v":{"$error":"#REF!"}},{"$f":"IPS!#REF!","v":{"$error":"#REF!"}},{"$error":"#REF!"},{"$f":"SBK!#REF!","v":{"$error":"#REF!"}},{"$f":"SBK!#REF!","v":{"$error":"#REF!"}},{"$error":"#REF!"},{"$f":"PJK!#REF!","v":{"$error":"#REF!"}},{"$f":"PJK!#REF!","v":{"$error":"#REF!"}},{"$error":"#REF!"},{"$f":"BD!#REF!","v":{"$error":"#REF!"}},{"$f":"BD!#REF!","v":{"$error":"#REF!"}},{"$error":"#REF!"},{"$f":"BIG!K137","v":{"$error":"#DIV/0!"}},{"$f":"BIG!N137","v":{"$error":"#DIV/0!"}},{"$error":"#DIV/0!"},{"$f":"AWJ!N137","v":0},{"$f":"AWJ!P137","v":0},0,{"$f":"AVERAGE(M138,P138,S138,V138,Y138,AB138,AE138,AH138,AK138,AN138,AQ138,AT138,AW138,AZ138)","v":{"$error":"#REF!"}},{"$error":"#REF!"},null,{"$error":"#REF!"},{"$error":"#REF!"},null,{"$error":"#REF!"},{"$error":"#DIV/0!"},{"$f":"IPA!L137","v":0},{"$error":"#DIV/0!"},{"$f":"AVERAGE(BF138,BI138,BL138)","v":0},{"$error":"#REF!"},{"$f":"SUM(BF138,BI138,BL138)","v":0},{"$f":"Z138","v":{"$error":"#REF!"}},{"$f":"AA138","v":{"$error":"#REF!"}},{"$f":"AB138","v":{"$error":"#REF!"}},{"$f":"AF138","v":{"$error":"#REF!"}},{"$f":"AG138","v":{"$error":"#REF!"}},{"$f":"AH138","v":{"$error":"#REF!"}},{"$f":"AI138","v":{"$error":"#DIV/0!"}},{"$f":"AJ138","v":{"$error":"#DIV/0!"}},{"$f":"AK138","v":{"$error":"#DIV/0!"}},null,null,{"$f":"BE138","v":{"$error":"#REF!"}},{"$f":"BF138","v":0},{"$f":"BG138","v":{"$error":"#REF!"}},{"$f":"BH138","v":{"$error":"#REF!"}},{"$f":"BI138","v":0},{"$f":"BJ138","v":{"$error":"#REF!"}},{"$f":"BK138","v":{"$error":"#DIV/0!"}},{"$f":"BL138","v":0},{"$f":"BM138","v":{"$error":"#DIV/0!"}},{"$f":"BN138","v":0},null,null,null,"130/Mi.13.05.162/PP.01.1/06/2020"]
[{"$f":"SISWA!A138","v":131},{"$f":"IF(SISWA!B138=0,\"\",SISWA!B138)","v":""},{"$f":"IF(SISWA!C138=0,\"\",SISWA!C138)","v":""},{"$f":"IF(SISWA!D138=0,\"\",SISWA!D138)","v":""},{"$f":"IF(SISWA!E138=0,\"\",SISWA!E138)","v":""},{"$f":"IF(SISWA!P137=0,\"\",SISWA!P137)","v":", 00 Januari 1900"},{"$f":"IF(SISWA!H138=0,\"\",SISWA!H138)","v":""},{"$f":"#REF!","v":{"$error":"#REF!"}},{"$f":"#REF!","v":{"$error":"#REF!"}},{"$error":"#REF!"},null,null,null,null,null,null,null,null,null,{"$f":"SKI!#REF!","v":{"$error":"#REF!"}},{"$f":"SKI!#REF!","v":{"$error":"#REF!"}},{"$error":"#REF!"},{"$f":"PKn!#REF!","v":{"$error":"#REF!"}},{"$f":"PKn!#REF!","v":{"$error":"#REF!"}},{"$error":"#REF!"},{"$f":"BID!#REF!","v":{"$error":"#REF!"}},{"$f":"BID!#REF!","v":{"$error":"#REF!"}},{"$error":"#REF!"},{"$f":"BA!#REF!","v":{"$error":"#REF!"}},{"$f":"BA!#REF!","v":{"$error":"#REF!"}},{"$error":"#REF!"},{"$f":"MTK!#REF!","v":{"$error":"#REF!"}},{"$f":"MTK!#REF!","v":{"$error":"#REF!"}},{"$error":"#REF!"},{"$f":"IPA!K138","v":{"$error":"#DIV/0!"}},{"$f":"IPA!N138","v":{"$error":"#DIV/0!"}},{"$error":"#DIV/0!"},{"$f":"IPS!#REF!","v":{"$error":"#REF!"}},{"$f":"IPS!#REF!","v":{"$error":"#REF!"}},{"$error":"#REF!"},{"$f":"SBK!#REF!","v":{"$error":"#REF!"}},{"$f":"SBK!#REF!","v":{"$error":"#REF!"}},{"$error":"#REF!"},{"$f":"PJK!#REF!","v":{"$error":"#REF!"}},{"$f":"PJK!#REF!","v":{"$error":"#REF!"}},{"$error":"#REF!"},{"$f":"BD!#REF!","v":{"$error":"#REF!"}},{"$f":"BD!#REF!","v":{"$error":"#REF!"}},{"$error":"#REF!"},{"$f":"BIG!K138","v":{"$error":"#DIV/0!"}},{"$f":"BIG!N138","v":{"$error":"#DIV/0!"}},{"$error":"#DIV/0!"},{"$f":"AWJ!N138","v":0},{"$f":"AWJ!P138","v":0},0,{"$error":"#REF!"},{"$error":"#REF!"},null,{"$error":"#REF!"},{"$error":"#REF!"},null,{"$error":"#REF!"},{"$error":"#DIV/0!"},{"$f":"IPA!L138","v":0},{"$error":"#DIV/0!"},0,{"$error":"#REF!"},0,{"$error":"#REF!"},{"$error":"#REF!"},{"$error":"#REF!"},{"$error":"#REF!"},{"$error":"#REF!"},{"$error":"#REF!"},{"$error":"#DIV/0!"},{"$error":"#DIV/0!"},{"$error":"#DIV/0!"},null,null,{"$error":"#REF!"},0,{"$error":"#REF!"},{"$error":"#REF!"},0,{"$error":"#REF!"},{"$error":"#DIV/0!"},0,{"$error":"#DIV/0!"},0,null,null,null,"131/Mi.13.05.162/PP.01.1/06/2020"]
[{"$f":"SISWA!A139","v":132},{"$f":"IF(SISWA!B139=0,\"\",SISWA!B139)","v":""},{"$f":"IF(SISWA!C139=0,\"\",SISWA!C139)","v":""},{"$f":"IF(SISWA!D139=0,\"\",SISWA!D139)","v":""},{"$f":"IF(SISWA!E139=0,\"\",SISWA!E139)","v":""},{"$f":"IF(SISWA!P138=0,\"\",SISWA!P138)","v":", 00 Januari 1900"},{"$f":"IF(SISWA!H139=0,\"\",SISWA!H139)","v":""},{"$f":"#REF!","v":{"$error":"#REF!"}},{"$f":"#REF!","v":{"$error":"#REF!"}},{"$error":"#REF!"},null,null,null,null,null,null,null,null,null,{"$f":"SKI!#REF!","v":{"$error":"#REF!"}},{"$f":"SKI!#REF!","v":{"$error":"#REF!"}},{"$error":"#REF!"},{"$f":"PKn!#REF!","v":{"$error":"#REF!"}},{"$f":"PKn!#REF!","v":{"$error":"#REF!"}},{"$error":"#REF!"},{"$f":"BID!#REF!","v":{"$error":"#REF!"}},{"$f":"BID!#REF!","v":{"$error":"#REF!"}},{"$error":"#REF!"},{"$f":"BA!#REF!","v":{"$error":"#REF!"}},{"$f":"BA!#REF!","v":{"$error":"#REF!"}},{"$error":"#REF!"},{"$f":"MTK!#REF!","v":{"$error":"#REF!"}},{"$f":"MTK!#REF!","v":{"$error":"#REF!"}},{"$error":"#REF!"},{"$f":"IPA!K139","v":{"$error":"#DIV/0!"}},{"$f":"IPA!N139","v":{"$error":"#DIV/0!"}},{"$error":"#DIV/0!"},{"$f":"IPS!#REF!","v":{"$error":"#REF!"}},{"$f":"IPS!#REF!","v":{"$error":"#REF!"}},{"$error":"#REF!"},{"$f":"SBK!#REF!","v":{"$error":"#REF!"}},{"$f":"SBK!#REF!","v":{"$error":"#REF!"}},{"$error":"#REF!"},{"$f":"PJK!#REF!","v":{"$error":"#REF!"}},{"$f":"PJK!#REF!","v":{"$error":"#REF!"}},{"$error":"#REF!"},{"$f":"BD!#REF!","v":{"$error":"#REF!"}},{"$f":"BD!#REF!","v":{"$error":"#REF!"}},{"$error":"#REF!"},{"$f":"BIG!K139","v":{"$error":"#DIV/0!"}},{"$f":"BIG!N139","v":{"$error":"#DIV/0!"}},{"$error":"#DIV/0!"},{"$f":"AWJ!N139","v":0},{"$f":"AWJ!P139","v":0},0,{"$error":"#REF!"},{"$error":"#REF!"},null,{"$error":"#REF!"},{"$error":"#REF!"},null,{"$error":"#REF!"},{"$error":"#DIV/0!"},{"$f":"IPA!L139","v":0},{"$error":"#DIV/0!"},0,{"$error":"#REF!"},0,{"$error":"#REF!"},{"$error":"#REF!"},{"$error":"#REF!"},{"$error":"#REF!"},{"$error":"#REF!"},{"$error":"#REF!"},{"$error":"#DIV/0!"},{"$error":"#DIV/0!"},{"$error":"#DIV/0!"},null,null,{"$error":"#REF!"},0,{"$error":"#REF!"},{"$error":"#REF!"},0,{"$error":"#REF!"},{"$error":"#DIV/0!"},0,{"$error":"#DIV/0!"},0,null,null,null,"132/Mi.13.05.162/PP.01.1/06/2020"]
[{"$f":"SISWA!A140","v":133},{"$f":"IF(SISWA!B140=0,\"\",SISWA!B140)","v":""},{"$f":"IF(SISWA!C140=0,\"\",SISWA!C140)","v":""},{"$f":"IF(SISWA!D140=0,\"\",SISWA!D140)","v":""},{"$f":"IF(SISWA!E140=0,\"\",SISWA!E140)","v":""},{"$f":"IF(SISWA!P139=0,\"\",SISWA!P139)","v":", 00 Januari 1900"},{"$f":"IF(SISWA!H140=0,\"\",SISWA!H140)","v":""},{"$f":"#REF!","v":{"$error":"#REF!"}},{"$f":"#REF!","v":{"$error":"#REF!"}},{"$error":"#REF!"},null,null,null,null,null,null,null,null,null,{"$f":"SKI!#REF!","v":{"$error":"#REF!"}},{"$f":"SKI!#REF!","v":{"$error":"#REF!"}},{"$error":"#REF!"},{"$f":"PKn!#REF!","v":{"$error":"#REF!"}},{"$f":"PKn!#REF!","v":{"$error":"#REF!"}},{"$error":"#REF!"},{"$f":"BID!#REF!","v":{"$error":"#REF!"}},{"$f":"BID!#REF!","v":{"$error":"#REF!"}},{"$error":"#REF!"},{"$f":"BA!#REF!","v":{"$error":"#REF!"}},{"$f":"BA!#REF!","v":{"$error":"#REF!"}},{"$error":"#REF!"},{"$f":"MTK!#REF!","v":{"$error":"#REF!"}},{"$f":"MTK!#REF!","v":{"$error":"#REF!"}},{"$error":"#REF!"},{"$f":"IPA!K140","v":{"$error":"#DIV/0!"}},{"$f":"IPA!N140","v":{"$error":"#DIV/0!"}},{"$error":"#DIV/0!"},{"$f":"IPS!#REF!","v":{"$error":"#REF!"}},{"$f":"IPS!#REF!","v":{"$error":"#REF!"}},{"$error":"#REF!"},{"$f":"SBK!#REF!","v":{"$error":"#REF!"}},{"$f":"SBK!#REF!","v":{"$error":"#REF!"}},{"$error":"#REF!"},{"$f":"PJK!#REF!","v":{"$error":"#REF!"}},{"$f":"PJK!#REF!","v":{"$error":"#REF!"}},{"$error":"#REF!"},{"$f":"BD!#REF!","v":{"$error":"#REF!"}},{"$f":"BD!#REF!","v":{"$error":"#REF!"}},{"$error":"#REF!"},{"$f":"BIG!K140","v":{"$error":"#DIV/0!"}},{"$f":"BIG!N140","v":{"$error":"#DIV/0!"}},{"$error":"#DIV/0!"},{"$f":"AWJ!N140","v":0},{"$f":"AWJ!P140","v":0},0,{"$error":"#REF!"},{"$error":"#REF!"},null,{"$error":"#REF!"},{"$error":"#REF!"},null,{"$error":"#REF!"},{"$error":"#DIV/0!"},{"$f":"IPA!L140","v":0},{"$error":"#DIV/0!"},0,{"$error":"#REF!"},0,{"$error":"#REF!"},{"$error":"#REF!"},{"$error":"#REF!"},{"$error":"#REF!"},{"$error":"#REF!"},{"$error":"#REF!"},{"$error":"#DIV/0!"},{"$error":"#DIV/0!"},{"$error":"#DIV/0!"},null,null,{"$error":"#REF!"},0,{"$error":"#REF!"},{"$error":"#REF!"},0,{"$error":"#REF!"},{"$error":"#DIV/0!"},0,{"$error":"#DIV/0!"},0,null,null,null,"133/Mi.13.05.162/PP.01.1/06/2020"]
[{"$f":"SISWA!A141","v":134},{"$f":"IF(SISWA!B141=0,\"\",SISWA!B141)","v":""},{"$f":"IF(SISWA!C141=0,\"\",SISWA!C141)","v":""},{"$f":"IF(SISWA!D141=0,\"\",SISWA!D141)","v":""},{"$f":"IF(SISWA!E141=0,\"\",SISWA!E141)","v":""},{"$f":"IF(SISWA!P140=0,\"\",SISWA!P140)","v":", 00 Januari 1900"},{"$f":"IF(SISWA!H141=0,\"\",SISWA!H141)","v":""},{"$f":"#REF!","v":{"$error":"#REF!"}},{"$f":"#REF!","v":{"$error":"#REF!"}},{"$error":"#REF!"},null,null,null,null,null,null,null,null,null,{"$f":"SKI!#REF!","v":{"$error":"#REF!"}},{"$f":"SKI!#REF!","v":{"$error":"#REF!"}},{"$error":"#REF!"},{"$f":"PKn!#REF!","v":{"$error":"#REF!"}},{"$f":"PKn!#REF!","v":{"$error":"#REF!"}},{"$error":"#REF!"},{"$f":"BID!#REF!","v":{"$error":"#REF!"}},{"$f":"BID!#REF!","v":{"$error":"#REF!"}},{"$error":"#REF!"},{"$f":"BA!#REF!","v":{"$error":"#REF!"}},{"$f":"BA!#REF!","v":{"$error":"#REF!"}},{"$error":"#REF!"},{"$f":"MTK!#REF!","v":{"$error":"#REF!"}},{"$f":"MTK!#REF!","v":{"$error":"#REF!"}},{"$error":"#REF!"},{"$f":"IPA!K141","v":{"$error":"#DIV/0!"}},{"$f":"IPA!N141","v":{"$error":"#DIV/0!"}},{"$error":"#DIV/0!"},{"$f":"IPS!#REF!","v":{"$error":"#REF!"}},{"$f":"IPS!#REF!","v":{"$error":"#REF!"}},{"$error":"#REF!"},{"$f":"SBK!#REF!","v":{"$error":"#REF!"}},{"$f":"SBK!#REF!","v":{"$error":"#REF!"}},{"$error":"#REF!"},{"$f":"PJK!#REF!","v":{"$error":"#REF!"}},{"$f":"PJK!#REF!","v":{"$error":"#REF!"}},{"$error":"#REF!"},{"$f":"BD!#REF!","v":{"$error":"#REF!"}},{"$f":"BD!#REF!","v":{"$error":"#REF!"}},{"$error":"#REF!"},{"$f":"BIG!K141","v":{"$error":"#DIV/0!"}},{"$f":"BIG!N141","v":{"$error":"#DIV/0!"}},{"$error":"#DIV/0!"},{"$f":"AWJ!N141","v":0},{"$f":"AWJ!P141","v":0},0,{"$error":"#REF!"},{"$error":"#REF!"},null,{"$error":"#REF!"},{"$error":"#REF!"},null,{"$error":"#REF!"},{"$error":"#DIV/0!"},{"$f":"IPA!L141","v":0},{"$error":"#DIV/0!"},0,{"$error":"#REF!"},0,{"$error":"#REF!"},{"$error":"#REF!"},{"$error":"#REF!"},{"$error":"#REF!"},{"$error":"#REF!"},{"$error":"#REF!"},{"$error":"#DIV/0!"},{"$error":"#DIV/0!"},{"$error":"#DIV/0!"},null,null,{"$error":"#REF!"},0,{"$error":"#REF!"},{"$error":"#REF!"},0,{"$error":"#REF!"},{"$error":"#DIV/0!"},0,{"$error":"#DIV/0!"},0,null,null,null,"134/Mi.13.05.162/PP.01.1/06/2020"]
[{"$f":"SISWA!A142","v":135},{"$f":"IF(SISWA!B142=0,\"\",SISWA!B142)","v":""},{"$f":"IF(SISWA!C142=0,\"\",SISWA!C142)","v":""},{"$f":"IF(SISWA!D142=0,\"\",SISWA!D142)","v":""},{"$f":"IF(SISWA!E142=0,\"\",SISWA!E142)","v":""},{"$f":"IF(SISWA!P141=0,\"\",SISWA!P141)","v":", 00 Januari 1900"},{"$f":"IF(SISWA!H142=0,\"\",SISWA!H142)","v":""},{"$f":"#REF!","v":{"$error":"#REF!"}},{"$f":"#REF!","v":{"$error":"#REF!"}},{"$error":"#REF!"},null,null,null,null,null,null,null,null,null,{"$f":"SKI!#REF!","v":{"$error":"#REF!"}},{"$f":"SKI!#REF!","v":{"$error":"#REF!"}},{"$error":"#REF!"},{"$f":"PKn!#REF!","v":{"$error":"#REF!"}},{"$f":"PKn!#REF!","v":{"$error":"#REF!"}},{"$error":"#REF!"},{"$f":"BID!#REF!","v":{"$error":"#REF!"}},{"$f":"BID!#REF!","v":{"$error":"#REF!"}},{"$error":"#REF!"},{"$f":"BA!#REF!","v":{"$error":"#REF!"}},{"$f":"BA!#REF!","v":{"$error":"#REF!"}},{"$error":"#REF!"},{"$f":"MTK!#REF!","v":{"$error":"#REF!"}},{"$f":"MTK!#REF!","v":{"$error":"#REF!"}},{"$error":"#REF!"},{"$f":"IPA!K142","v":{"$error":"#DIV/0!"}},{"$f":"IPA!N142","v":{"$error":"#DIV/0!"}},{"$error":"#DIV/0!"},{"$f":"IPS!#REF!","v":{"$error":"#REF!"}},{"$f":"IPS!#REF!","v":{"$error":"#REF!"}},{"$error":"#REF!"},{"$f":"SBK!#REF!","v":{"$error":"#REF!"}},{"$f":"SBK!#REF!","v":{"$error":"#REF!"}},{"$error":"#REF!"},{"$f":"PJK!#REF!","v":{"$error":"#REF!"}},{"$f":"PJK!#REF!","v":{"$error":"#REF!"}},{"$error":"#REF!"},{"$f":"BD!#REF!","v":{"$error":"#REF!"}},{"$f":"BD!#REF!","v":{"$error":"#REF!"}},{"$error":"#REF!"},{"$f":"BIG!K142","v":{"$error":"#DIV/0!"}},{"$f":"BIG!N142","v":{"$error":"#DIV/0!"}},{"$error":"#DIV/0!"},{"$f":"AWJ!N142","v":0},{"$f":"AWJ!P142","v":0},0,{"$error":"#REF!"},{"$error":"#REF!"},null,{"$error":"#REF!"},{"$error":"#REF!"},null,{"$error":"#REF!"},{"$error":"#DIV/0!"},{"$f":"IPA!L142","v":0},{"$error":"#DIV/0!"},0,{"$error":"#REF!"},0,{"$error":"#REF!"},{"$error":"#REF!"},{"$error":"#REF!"},{"$error":"#REF!"},{"$error":"#REF!"},{"$error":"#REF!"},{"$error":"#DIV/0!"},{"$error":"#DIV/0!"},{"$error":"#DIV/0!"},null,null,{"$error":"#REF!"},0,{"$error":"#REF!"},{"$error":"#REF!"},0,{"$error":"#REF!"},{"$error":"#DIV/0!"},0,{"$error":"#DIV/0!"},0,null,null,null,"135/Mi.13.05.162/PP.01.1/06/2020"]
[{"$f":"SISWA!A143","v":136},{"$f":"IF(SISWA!B143=0,\"\",SISWA!B143)","v":""},{"$f":"IF(SISWA!C143=0,\"\",SISWA!C143)","v":""},{"$f":"IF(SISWA!D143=0,\"\",SISWA!D143)","v":""},{"$f":"IF(SISWA!E143=0,\"\",SISWA!E143)","v":""},{"$f":"IF(SISWA!P142=0,\"\",SISWA!P142)","v":", 00 Januari 1900"},{"$f":"IF(SISWA!H143=0,\"\",SISWA!H143)","v":""},{"$f":"#REF!","v":{"$error":"#REF!"}},{"$f":"#REF!","v":{"$error":"#REF!"}},{"$error":"#REF!"},null,null,null,null,null,null,null,null,null,{"$f":"SKI!#REF!","v":{"$error":"#REF!"}},{"$f":"SKI!#REF!","v":{"$error":"#REF!"}},{"$error":"#REF!"},{"$f":"PKn!#REF!","v":{"$error":"#REF!"}},{"$f":"PKn!#REF!","v":{"$error":"#REF!"}},{"$error":"#REF!"},{"$f":"BID!#REF!","v":{"$error":"#REF!"}},{"$f":"BID!#REF!","v":{"$error":"#REF!"}},{"$error":"#REF!"},{"$f":"BA!#REF!","v":{"$error":"#REF!"}},{"$f":"BA!#REF!","v":{"$error":"#REF!"}},{"$error":"#REF!"},{"$f":"MTK!#REF!","v":{"$error":"#REF!"}},{"$f":"MTK!#REF!","v":{"$error":"#REF!"}},{"$error":"#REF!"},{"$f":"IPA!K143","v":{"$error":"#DIV/0!"}},{"$f":"IPA!N143","v":{"$error":"#DIV/0!"}},{"$error":"#DIV/0!"},{"$f":"IPS!#REF!","v":{"$error":"#REF!"}},{"$f":"IPS!#REF!","v":{"$error":"#REF!"}},{"$error":"#REF!"},{"$f":"SBK!#REF!","v":{"$error":"#REF!"}},{"$f":"SBK!#REF!","v":{"$error":"#REF!"}},{"$error":"#REF!"},{"$f":"PJK!#REF!","v":{"$error":"#REF!"}},{"$f":"PJK!#REF!","v":{"$error":"#REF!"}},{"$error":"#REF!"},{"$f":"BD!#REF!","v":{"$error":"#REF!"}},{"$f":"BD!#REF!","v":{"$error":"#REF!"}},{"$error":"#REF!"},{"$f":"BIG!K143","v":{"$error":"#DIV/0!"}},{"$f":"BIG!N143","v":{"$error":"#DIV/0!"}},{"$error":"#DIV/0!"},{"$f":"AWJ!N143","v":0},{"$f":"AWJ!P143","v":0},0,{"$error":"#REF!"},{"$error":"#REF!"},null,{"$error":"#REF!"},{"$error":"#REF!"},null,{"$error":"#REF!"},{"$error":"#DIV/0!"},{"$f":"IPA!L143","v":0},{"$error":"#DIV/0!"},0,{"$error":"#REF!"},0,{"$error":"#REF!"},{"$error":"#REF!"},{"$error":"#REF!"},{"$error":"#REF!"},{"$error":"#REF!"},{"$error":"#REF!"},{"$error":"#DIV/0!"},{"$error":"#DIV/0!"},{"$error":"#DIV/0!"},null,null,{"$error":"#REF!"},0,{"$error":"#REF!"},{"$error":"#REF!"},0,{"$error":"#REF!"},{"$error":"#DIV/0!"},0,{"$error":"#DIV/0!"},0,null,null,null,"136/Mi.13.05.162/PP.01.1/06/2020"]
[{"$f":"SISWA!A144","v":137},{"$f":"IF(SISWA!B144=0,\"\",SISWA!B144)","v":""},{"$f":"IF(SISWA!C144=0,\"\",SISWA!C144)","v":""},{"$f":"IF(SISWA!D144=0,\"\",SISWA!D144)","v":""},{"$f":"IF(SISWA!E144=0,\"\",SISWA!E144)","v":""},{"$f":"IF(SISWA!P143=0,\"\",SISWA!P143)","v":", 00 Januari 1900"},{"$f":"IF(SISWA!H144=0,\"\",SISWA!H144)","v":""},{"$f":"#REF!","v":{"$error":"#REF!"}},{"$f":"#REF!","v":{"$error":"#REF!"}},{"$error":"#REF!"},null,null,null,null,null,null,null,null,null,{"$f":"SKI!#REF!","v":{"$error":"#REF!"}},{"$f":"SKI!#REF!","v":{"$error":"#REF!"}},{"$error":"#REF!"},{"$f":"PKn!#REF!","v":{"$error":"#REF!"}},{"$f":"PKn!#REF!","v":{"$error":"#REF!"}},{"$error":"#REF!"},{"$f":"BID!#REF!","v":{"$error":"#REF!"}},{"$f":"BID!#REF!","v":{"$error":"#REF!"}},{"$error":"#REF!"},{"$f":"BA!#REF!","v":{"$error":"#REF!"}},{"$f":"BA!#REF!","v":{"$error":"#REF!"}},{"$error":"#REF!"},{"$f":"MTK!#REF!","v":{"$error":"#REF!"}},{"$f":"MTK!#REF!","v":{"$error":"#REF!"}},{"$error":"#REF!"},{"$f":"IPA!K144","v":{"$error":"#DIV/0!"}},{"$f":"IPA!N144","v":{"$error":"#DIV/0!"}},{"$error":"#DIV/0!"},{"$f":"IPS!#REF!","v":{"$error":"#REF!"}},{"$f":"IPS!#REF!","v":{"$error":"#REF!"}},{"$error":"#REF!"},{"$f":"SBK!#REF!","v":{"$error":"#REF!"}},{"$f":"SBK!#REF!","v":{"$error":"#REF!"}},{"$error":"#REF!"},{"$f":"PJK!#REF!","v":{"$error":"#REF!"}},{"$f":"PJK!#REF!","v":{"$error":"#REF!"}},{"$error":"#REF!"},{"$f":"BD!#REF!","v":{"$error":"#REF!"}},{"$f":"BD!#REF!","v":{"$error":"#REF!"}},{"$error":"#REF!"},{"$f":"BIG!K144","v":{"$error":"#DIV/0!"}},{"$f":"BIG!N144","v":{"$error":"#DIV/0!"}},{"$error":"#DIV/0!"},{"$f":"AWJ!N144","v":0},{"$f":"AWJ!P144","v":0},0,{"$error":"#REF!"},{"$error":"#REF!"},null,{"$error":"#REF!"},{"$error":"#REF!"},null,{"$error":"#REF!"},{"$error":"#DIV/0!"},{"$f":"IPA!L144","v":0},{"$error":"#DIV/0!"},0,{"$error":"#REF!"},0,{"$error":"#REF!"},{"$error":"#REF!"},{"$error":"#REF!"},{"$error":"#REF!"},{"$error":"#REF!"},{"$error":"#REF!"},{"$error":"#DIV/0!"},{"$error":"#DIV/0!"},{"$error":"#DIV/0!"},null,null,{"$error":"#REF!"},0,{"$error":"#REF!"},{"$error":"#REF!"},0,{"$error":"#REF!"},{"$error":"#DIV/0!"},0,{"$error":"#DIV/0!"},0,null,null,null,"137/Mi.13.05.162/PP.01.1/06/2020"]
[{"$f":"SISWA!A145","v":138},{"$f":"IF(SISWA!B145=0,\"\",SISWA!B145)","v":""},{"$f":"IF(SISWA!C145=0,\"\",SISWA!C145)","v":""},{"$f":"IF(SISWA!D145=0,\"\",SISWA!D145)","v":""},{"$f":"IF(SISWA!E145=0,\"\",SISWA!E145)","v":""},{"$f":"IF(SISWA!P144=0,\"\",SISWA!P144)","v":", 00 Januari 1900"},{"$f":"IF(SISWA!H145=0,\"\",SISWA!H145)","v":""},{"$f":"#REF!","v":{"$error":"#REF!"}},{"$f":"#REF!","v":{"$error":"#REF!"}},{"$error":"#REF!"},null,null,null,null,null,null,null,null,null,{"$f":"SKI!#REF!","v":{"$error":"#REF!"}},{"$f":"SKI!#REF!","v":{"$error":"#REF!"}},{"$error":"#REF!"},{"$f":"PKn!#REF!","v":{"$error":"#REF!"}},{"$f":"PKn!#REF!","v":{"$error":"#REF!"}},{"$error":"#REF!"},{"$f":"BID!#REF!","v":{"$error":"#REF!"}},{"$f":"BID!#REF!","v":{"$error":"#REF!"}},{"$error":"#REF!"},{"$f":"BA!#REF!","v":{"$error":"#REF!"}},{"$f":"BA!#REF!","v":{"$error":"#REF!"}},{"$error":"#REF!"},{"$f":"MTK!#REF!","v":{"$error":"#REF!"}},{"$f":"MTK!#REF!","v":{"$error":"#REF!"}},{"$error":"#REF!"},{"$f":"IPA!K145","v":{"$error":"#DIV/0!"}},{"$f":"IPA!N145","v":{"$error":"#DIV/0!"}},{"$error":"#DIV/0!"},{"$f":"IPS!#REF!","v":{"$error":"#REF!"}},{"$f":"IPS!#REF!","v":{"$error":"#REF!"}},{"$error":"#REF!"},{"$f":"SBK!#REF!","v":{"$error":"#REF!"}},{"$f":"SBK!#REF!","v":{"$error":"#REF!"}},{"$error":"#REF!"},{"$f":"PJK!#REF!","v":{"$error":"#REF!"}},{"$f":"PJK!#REF!","v":{"$error":"#REF!"}},{"$error":"#REF!"},{"$f":"BD!#REF!","v":{"$error":"#REF!"}},{"$f":"BD!#REF!","v":{"$error":"#REF!"}},{"$error":"#REF!"},{"$f":"BIG!K145","v":{"$error":"#DIV/0!"}},{"$f":"BIG!N145","v":{"$error":"#DIV/0!"}},{"$error":"#DIV/0!"},{"$f":"AWJ!N145","v":0},{"$f":"AWJ!P145","v":0},0,{"$error":"#REF!"},{"$error":"#REF!"},null,{"$error":"#REF!"},{"$error":"#REF!"},null,{"$error":"#REF!"},{"$error":"#DIV/0!"},{"$f":"IPA!L145","v":0},{"$error":"#DIV/0!"},0,{"$error":"#REF!"},0,{"$error":"#REF!"},{"$error":"#REF!"},{"$error":"#REF!"},{"$error":"#REF!"},{"$error":"#REF!"},{"$error":"#REF!"},{"$error":"#DIV/0!"},{"$error":"#DIV/0!"},{"$error":"#DIV/0!"},null,null,{"$error":"#REF!"},0,{"$error":"#REF!"},{"$error":"#REF!"},0,{"$error":"#REF!"},{"$error":"#DIV/0!"},0,{"$error":"#DIV/0!"},0,null,null,null,"138/Mi.13.05.162/PP.01.1/06/2020"]
[{"$f":"SISWA!A146","v":139},{"$f":"IF(SISWA!B146=0,\"\",SISWA!B146)","v":""},{"$f":"IF(SISWA!C146=0,\"\",SISWA!C146)","v":""},{"$f":"IF(SISWA!D146=0,\"\",SISWA!D146)","v":""},{"$f":"IF(SISWA!E146=0,\"\",SISWA!E146)","v":""},{"$f":"IF(SISWA!P145=0,\"\",SISWA!P145)","v":", 00 Januari 1900"},{"$f":"IF(SISWA!H146=0,\"\",SISWA!H146)","v":""},{"$f":"#REF!","v":{"$error":"#REF!"}},{"$f":"#REF!","v":{"$error":"#REF!"}},{"$error":"#REF!"},null,null,null,null,null,null,null,null,null,{"$f":"SKI!#REF!","v":{"$error":"#REF!"}},{"$f":"SKI!#REF!","v":{"$error":"#REF!"}},{"$error":"#REF!"},{"$f":"PKn!#REF!","v":{"$error":"#REF!"}},{"$f":"PKn!#REF!","v":{"$error":"#REF!"}},{"$error":"#REF!"},{"$f":"BID!#REF!","v":{"$error":"#REF!"}},{"$f":"BID!#REF!","v":{"$error":"#REF!"}},{"$error":"#REF!"},{"$f":"BA!#REF!","v":{"$error":"#REF!"}},{"$f":"BA!#REF!","v":{"$error":"#REF!"}},{"$error":"#REF!"},{"$f":"MTK!#REF!","v":{"$error":"#REF!"}},{"$f":"MTK!#REF!","v":{"$error":"#REF!"}},{"$error":"#REF!"},{"$f":"IPA!K146","v":{"$error":"#DIV/0!"}},{"$f":"IPA!N146","v":{"$error":"#DIV/0!"}},{"$error":"#DIV/0!"},{"$f":"IPS!#REF!","v":{"$error":"#REF!"}},{"$f":"IPS!#REF!","v":{"$error":"#REF!"}},{"$error":"#REF!"},{"$f":"SBK!#REF!","v":{"$error":"#REF!"}},{"$f":"SBK!#REF!","v":{"$error":"#REF!"}},{"$error":"#REF!"},{"$f":"PJK!#REF!","v":{"$error":"#REF!"}},{"$f":"PJK!#REF!","v":{"$error":"#REF!"}},{"$error":"#REF!"},{"$f":"BD!#REF!","v":{"$error":"#REF!"}},{"$f":"BD!#REF!","v":{"$error":"#REF!"}},{"$error":"#REF!"},{"$f":"BIG!K146","v":{"$error":"#DIV/0!"}},{"$f":"BIG!N146","v":{"$error":"#DIV/0!"}},{"$error":"#DIV/0!"},{"$f":"AWJ!N146","v":0},{"$f":"AWJ!P146","v":0},0,{"$error":"#REF!"},{"$error":"#REF!"},null,{"$error":"#REF!"},{"$error":"#REF!"},null,{"$error":"#REF!"},{"$error":"#DIV/0!"},{"$f":"IPA!L146","v":0},{"$error":"#DIV/0!"},0,{"$error":"#REF!"},0,{"$error":"#REF!"},{"$error":"#REF!"},{"$error":"#REF!"},{"$error":"#REF!"},{"$error":"#REF!"},{"$error":"#REF!"},{"$error":"#DIV/0!"},{"$error":"#DIV/0!"},{"$error":"#DIV/0!"},null,null,{"$error":"#REF!"},0,{"$error":"#REF!"},{"$error":"#REF!"},0,{"$error":"#REF!"},{"$error":"#DIV/0!"},0,{"$error":"#DIV/0!"},0,null,null,null,"139/Mi.13.05.162/PP.01.1/06/2020"]
[{"$f":"SISWA!A147","v":140},{"$f":"IF(SISWA!B147=0,\"\",SISWA!B147)","v":""},{"$f":"IF(SISWA!C147=0,\"\",SISWA!C147)","v":""},{"$f":"IF(SISWA!D147=0,\"\",SISWA!D147)","v":""},{"$f":"IF(SISWA!E147=0,\"\",SISWA!E147)","v":""},{"$f":"IF(SISWA!P146=0,\"\",SISWA!P146)","v":", 00 Januari 1900"},{"$f":"IF(SISWA!H147=0,\"\",SISWA!H147)","v":""},{"$f":"#REF!","v":{"$error":"#REF!"}},{"$f":"#REF!","v":{"$error":"#REF!"}},{"$error":"#REF!"},null,null,null,null,null,null,null,null,null,{"$f":"SKI!#REF!","v":{"$error":"#REF!"}},{"$f":"SKI!#REF!","v":{"$error":"#REF!"}},{"$error":"#REF!"},{"$f":"PKn!#REF!","v":{"$error":"#REF!"}},{"$f":"PKn!#REF!","v":{"$error":"#REF!"}},{"$error":"#REF!"},{"$f":"BID!#REF!","v":{"$error":"#REF!"}},{"$f":"BID!#REF!","v":{"$error":"#REF!"}},{"$error":"#REF!"},{"$f":"BA!#REF!","v":{"$error":"#REF!"}},{"$f":"BA!#REF!","v":{"$error":"#REF!"}},{"$error":"#REF!"},{"$f":"MTK!#REF!","v":{"$error":"#REF!"}},{"$f":"MTK!#REF!","v":{"$error":"#REF!"}},{"$error":"#REF!"},{"$f":"IPA!K147","v":{"$error":"#DIV/0!"}},{"$f":"IPA!N147","v":{"$error":"#DIV/0!"}},{"$error":"#DIV/0!"},{"$f":"IPS!#REF!","v":{"$error":"#REF!"}},{"$f":"IPS!#REF!","v":{"$error":"#REF!"}},{"$error":"#REF!"},{"$f":"SBK!#REF!","v":{"$error":"#REF!"}},{"$f":"SBK!#REF!","v":{"$error":"#REF!"}},{"$error":"#REF!"},{"$f":"PJK!#REF!","v":{"$error":"#REF!"}},{"$f":"PJK!#REF!","v":{"$error":"#REF!"}},{"$error":"#REF!"},{"$f":"BD!#REF!","v":{"$error":"#REF!"}},{"$f":"BD!#REF!","v":{"$error":"#REF!"}},{"$error":"#REF!"},{"$f":"BIG!K147","v":{"$error":"#DIV/0!"}},{"$f":"BIG!N147","v":{"$error":"#DIV/0!"}},{"$error":"#DIV/0!"},{"$f":"AWJ!N147","v":0},{"$f":"AWJ!P147","v":0},0,{"$error":"#REF!"},{"$error":"#REF!"},null,{"$error":"#REF!"},{"$error":"#REF!"},null,{"$error":"#REF!"},{"$error":"#DIV/0!"},{"$f":"IPA!L147","v":0},{"$error":"#DIV/0!"},0,{"$error":"#REF!"},0,{"$error":"#REF!"},{"$error":"#REF!"},{"$error":"#REF!"},{"$error":"#REF!"},{"$error":"#REF!"},{"$error":"#REF!"},{"$error":"#DIV/0!"},{"$error":"#DIV/0!"},{"$error":"#DIV/0!"},null,null,{"$error":"#REF!"},0,{"$error":"#REF!"},{"$error":"#REF!"},0,{"$error":"#REF!"},{"$error":"#DIV/0!"},0,{"$error":"#DIV/0!"},0,null,null,null,"140/Mi.13.05.162/PP.01.1/06/2020"]
[{"$f":"SISWA!A148","v":141},{"$f":"IF(SISWA!B148=0,\"\",SISWA!B148)","v":""},{"$f":"IF(SISWA!C148=0,\"\",SISWA!C148)","v":""},{"$f":"IF(SISWA!D148=0,\"\",SISWA!D148)","v":""},{"$f":"IF(SISWA!E148=0,\"\",SISWA!E148)","v":""},{"$f":"IF(SISWA!P147=0,\"\",SISWA!P147)","v":", 00 Januari 1900"},{"$f":"IF(SISWA!H148=0,\"\",SISWA!H148)","v":""},{"$f":"#REF!","v":{"$error":"#REF!"}},{"$f":"#REF!","v":{"$error":"#REF!"}},{"$error":"#REF!"},null,null,null,null,null,null,null,null,null,null,null,null,{"$f":"PKn!#REF!","v":{"$error":"#REF!"}},{"$f":"PKn!#REF!","v":{"$error":"#REF!"}},{"$error":"#REF!"},{"$f":"BID!#REF!","v":{"$error":"#REF!"}},{"$f":"BID!#REF!","v":{"$error":"#REF!"}},{"$error":"#REF!"},null,null,null,{"$f":"MTK!#REF!","v":{"$error":"#REF!"}},{"$f":"MTK!#REF!","v":{"$error":"#REF!"}},{"$error":"#REF!"},{"$f":"IPA!K148","v":{"$error":"#DIV/0!"}},{"$f":"IPA!N148","v":{"$error":"#DIV/0!"}},{"$error":"#DIV/0!"},{"$f":"IPS!#REF!","v":{"$error":"#REF!"}},{"$f":"IPS!#REF!","v":{"$error":"#REF!"}},{"$error":"#REF!"},{"$f":"SBK!#REF!","v":{"$error":"#REF!"}},{"$f":"SBK!#REF!","v":{"$error":"#REF!"}},{"$error":"#REF!"},{"$f":"PJK!#REF!","v":{"$error":"#REF!"}},{"$f":"PJK!#REF!","v":{"$error":"#REF!"}},{"$error":"#REF!"},{"$f":"BD!#REF!","v":{"$error":"#REF!"}},{"$f":"BD!#REF!","v":{"$error":"#REF!"}},{"$error":"#REF!"},{"$f":"BIG!K148","v":{"$error":"#DIV/0!"}},{"$f":"BIG!N148","v":{"$error":"#DIV/0!"}},{"$error":"#DIV/0!"},{"$f":"AWJ!N148","v":0},{"$f":"AWJ!P148","v":0},0,{"$error":"#REF!"},{"$error":"#REF!"},null,{"$error":"#REF!"},{"$error":"#REF!"},null,{"$error":"#REF!"},{"$error":"#DIV/0!"},{"$f":"IPA!L148","v":0},{"$error":"#DIV/0!"},0,{"$error":"#REF!"},0,{"$error":"#REF!"},{"$error":"#REF!"},{"$error":"#REF!"},{"$error":"#REF!"},{"$error":"#REF!"},{"$error":"#REF!"},{"$error":"#DIV/0!"},{"$error":"#DIV/0!"},{"$error":"#DIV/0!"},null,null,{"$error":"#REF!"},0,{"$error":"#REF!"},{"$error":"#REF!"},0,{"$error":"#REF!"},{"$error":"#DIV/0!"},0,{"$error":"#DIV/0!"},0,null,null,null,"141/Mi.13.05.162/PP.01.1/06/2020"]
[{"$f":"SISWA!A149","v":142},{"$f":"IF(SISWA!B149=0,\"\",SISWA!B149)","v":""},{"$f":"IF(SISWA!C149=0,\"\",SISWA!C149)","v":""},{"$f":"IF(SISWA!D149=0,\"\",SISWA!D149)","v":""},{"$f":"IF(SISWA!E149=0,\"\",SISWA!E149)","v":""},{"$f":"IF(SISWA!P148=0,\"\",SISWA!P148)","v":", 00 Januari 1900"},{"$f":"IF(SISWA!H149=0,\"\",SISWA!H149)","v":""},{"$f":"#REF!","v":{"$error":"#REF!"}},{"$f":"#REF!","v":{"$error":"#REF!"}},{"$error":"#REF!"},null,null,null,null,null,null,null,null,null,null,null,null,{"$f":"PKn!#REF!","v":{"$error":"#REF!"}},{"$f":"PKn!#REF!","v":{"$error":"#REF!"}},{"$error":"#REF!"},{"$f":"BID!#REF!","v":{"$error":"#REF!"}},{"$f":"BID!#REF!","v":{"$error":"#REF!"}},{"$error":"#REF!"},null,null,null,{"$f":"MTK!#REF!","v":{"$error":"#REF!"}},{"$f":"MTK!#REF!","v":{"$error":"#REF!"}},{"$error":"#REF!"},{"$f":"IPA!K149","v":{"$error":"#DIV/0!"}},{"$f":"IPA!N149","v":{"$error":"#DIV/0!"}},{"$error":"#DIV/0!"},{"$f":"IPS!#REF!","v":{"$error":"#REF!"}},{"$f":"IPS!#REF!","v":{"$error":"#REF!"}},{"$error":"#REF!"},{"$f":"SBK!#REF!","v":{"$error":"#REF!"}},{"$f":"SBK!#REF!","v":{"$error":"#REF!"}},{"$error":"#REF!"},{"$f":"PJK!#REF!","v":{"$error":"#REF!"}},{"$f":"PJK!#REF!","v":{"$error":"#REF!"}},{"$error":"#REF!"},{"$f":"BD!#REF!","v":{"$error":"#REF!"}},{"$f":"BD!#REF!","v":{"$error":"#REF!"}},{"$error":"#REF!"},{"$f":"BIG!K149","v":{"$error":"#DIV/0!"}},{"$f":"BIG!N149","v":{"$error":"#DIV/0!"}},{"$error":"#DIV/0!"},{"$f":"AWJ!N149","v":0},{"$f":"AWJ!P149","v":0},0,{"$error":"#REF!"},{"$error":"#REF!"},null,{"$error":"#REF!"},{"$error":"#REF!"},null,{"$error":"#REF!"},{"$error":"#DIV/0!"},{"$f":"IPA!L149","v":0},{"$error":"#DIV/0!"},0,{"$error":"#REF!"},0,{"$error":"#REF!"},{"$error":"#REF!"},{"$error":"#REF!"},{"$error":"#REF!"},{"$error":"#REF!"},{"$error":"#REF!"},{"$error":"#DIV/0!"},{"$error":"#DIV/0!"},{"$error":"#DIV/0!"},null,null,{"$error":"#REF!"},0,{"$error":"#REF!"},{"$error":"#REF!"},0,{"$error":"#REF!"},{"$error":"#DIV/0!"},0,{"$error":"#DIV/0!"},0,null,null,null,"142/Mi.13.05.162/PP.01.1/06/2020"]
[{"$f":"SISWA!A150","v":143},{"$f":"IF(SISWA!B150=0,\"\",SISWA!B150)","v":""},{"$f":"IF(SISWA!C150=0,\"\",SISWA!C150)","v":""},{"$f":"IF(SISWA!D150=0,\"\",SISWA!D150)","v":""},{"$f":"IF(SISWA!E150=0,\"\",SISWA!E150)","v":""},{"$f":"IF(SISWA!P149=0,\"\",SISWA!P149)","v":", 00 Januari 1900"},{"$f":"IF(SISWA!H150=0,\"\",SISWA!H150)","v":""},{"$f":"#REF!","v":{"$error":"#REF!"}},{"$f":"#REF!","v":{"$error":"#REF!"}},{"$error":"#REF!"},null,null,null,null,null,null,null,null,null,null,null,null,{"$f":"PKn!#REF!","v":{"$error":"#REF!"}},{"$f":"PKn!#REF!","v":{"$error":"#REF!"}},{"$error":"#REF!"},{"$f":"BID!#REF!","v":{"$error":"#REF!"}},{"$f":"BID!#REF!","v":{"$error":"#REF!"}},{"$error":"#REF!"},null,null,null,{"$f":"MTK!#REF!","v":{"$error":"#REF!"}},{"$f":"MTK!#REF!","v":{"$error":"#REF!"}},{"$error":"#REF!"},{"$f":"IPA!K150","v":{"$error":"#DIV/0!"}},{"$f":"IPA!N150","v":{"$error":"#DIV/0!"}},{"$error":"#DIV/0!"},{"$f":"IPS!#REF!","v":{"$error":"#REF!"}},{"$f":"IPS!#REF!","v":{"$error":"#REF!"}},{"$error":"#REF!"},{"$f":"SBK!#REF!","v":{"$error":"#REF!"}},{"$f":"SBK!#REF!","v":{"$error":"#REF!"}},{"$error":"#REF!"},{"$f":"PJK!#REF!","v":{"$error":"#REF!"}},{"$f":"PJK!#REF!","v":{"$error":"#REF!"}},{"$error":"#REF!"},{"$f":"BD!#REF!","v":{"$error":"#REF!"}},{"$f":"BD!#REF!","v":{"$error":"#REF!"}},{"$error":"#REF!"},{"$f":"BIG!K150","v":{"$error":"#DIV/0!"}},{"$f":"BIG!N150","v":{"$error":"#DIV/0!"}},{"$error":"#DIV/0!"},{"$f":"AWJ!N150","v":0},{"$f":"AWJ!P150","v":0},0,{"$error":"#REF!"},{"$error":"#REF!"},null,{"$error":"#REF!"},{"$error":"#REF!"},null,{"$error":"#REF!"},{"$error":"#DIV/0!"},{"$f":"IPA!L150","v":0},{"$error":"#DIV/0!"},0,{"$error":"#REF!"},0,{"$error":"#REF!"},{"$error":"#REF!"},{"$error":"#REF!"},{"$error":"#REF!"},{"$error":"#REF!"},{"$error":"#REF!"},{"$error":"#DIV/0!"},{"$error":"#DIV/0!"},{"$error":"#DIV/0!"},null,null,{"$error":"#REF!"},0,{"$error":"#REF!"},{"$error":"#REF!"},0,{"$error":"#REF!"},{"$error":"#DIV/0!"},0,{"$error":"#DIV/0!"},0,null,null,null,"143/Mi.13.05.162/PP.01.1/06/2020"]
[{"$f":"SISWA!A151","v":144},{"$f":"IF(SISWA!B151=0,\"\",SISWA!B151)","v":""},{"$f":"IF(SISWA!C151=0,\"\",SISWA!C151)","v":""},{"$f":"IF(SISWA!D151=0,\"\",SISWA!D151)","v":""},{"$f":"IF(SISWA!E151=0,\"\",SISWA!E151)","v":""},{"$f":"IF(SISWA!P150=0,\"\",SISWA!P150)","v":", 00 Januari 1900"},{"$f":"IF(SISWA!H151=0,\"\",SISWA!H151)","v":""},{"$f":"#REF!","v":{"$error":"#REF!"}},{"$f":"#REF!","v":{"$error":"#REF!"}},{"$error":"#REF!"},null,null,null,null,null,null,null,null,null,null,null,null,{"$f":"PKn!#REF!","v":{"$error":"#REF!"}},{"$f":"PKn!#REF!","v":{"$error":"#REF!"}},{"$error":"#REF!"},{"$f":"BID!#REF!","v":{"$error":"#REF!"}},{"$f":"BID!#REF!","v":{"$error":"#REF!"}},{"$error":"#REF!"},null,null,null,{"$f":"MTK!#REF!","v":{"$error":"#REF!"}},{"$f":"MTK!#REF!","v":{"$error":"#REF!"}},{"$error":"#REF!"},{"$f":"IPA!K151","v":{"$error":"#DIV/0!"}},{"$f":"IPA!N151","v":{"$error":"#DIV/0!"}},{"$error":"#DIV/0!"},{"$f":"IPS!#REF!","v":{"$error":"#REF!"}},{"$f":"IPS!#REF!","v":{"$error":"#REF!"}},{"$error":"#REF!"},{"$f":"SBK!#REF!","v":{"$error":"#REF!"}},{"$f":"SBK!#REF!","v":{"$error":"#REF!"}},{"$error":"#REF!"},{"$f":"PJK!#REF!","v":{"$error":"#REF!"}},{"$f":"PJK!#REF!","v":{"$error":"#REF!"}},{"$error":"#REF!"},{"$f":"BD!#REF!","v":{"$error":"#REF!"}},{"$f":"BD!#REF!","v":{"$error":"#REF!"}},{"$error":"#REF!"},{"$f":"BIG!K151","v":{"$error":"#DIV/0!"}},{"$f":"BIG!N151","v":{"$error":"#DIV/0!"}},{"$error":"#DIV/0!"},{"$f":"AWJ!N151","v":0},{"$f":"AWJ!P151","v":0},0,{"$error":"#REF!"},{"$error":"#REF!"},null,{"$error":"#REF!"},{"$error":"#REF!"},null,{"$error":"#REF!"},{"$error":"#DIV/0!"},{"$f":"IPA!L151","v":0},{"$error":"#DIV/0!"},0,{"$error":"#REF!"},0,{"$error":"#REF!"},{"$error":"#REF!"},{"$error":"#REF!"},{"$error":"#REF!"},{"$error":"#REF!"},{"$error":"#REF!"},{"$error":"#DIV/0!"},{"$error":"#DIV/0!"},{"$error":"#DIV/0!"},null,null,{"$error":"#REF!"},0,{"$error":"#REF!"},{"$error":"#REF!"},0,{"$error":"#REF!"},{"$error":"#DIV/0!"},0,{"$error":"#DIV/0!"},0,null,null,null,"144/Mi.13.05.162/PP.01.1/06/2020"]
[{"$f":"SISWA!A152","v":145},{"$f":"IF(SISWA!B152=0,\"\",SISWA!B152)","v":""},{"$f":"IF(SISWA!C152=0,\"\",SISWA!C152)","v":""},{"$f":"IF(SISWA!D152=0,\"\",SISWA!D152)","v":""},{"$f":"IF(SISWA!E152=0,\"\",SISWA!E152)","v":""},{"$f":"IF(SISWA!P151=0,\"\",SISWA!P151)","v":", 00 Januari 1900"},{"$f":"IF(SISWA!H152=0,\"\",SISWA!H152)","v":""},{"$f":"#REF!","v":{"$error":"#REF!"}},{"$f":"#REF!","v":{"$error":"#REF!"}},{"$error":"#REF!"},null,null,null,null,null,null,null,null,null,null,null,null,{"$f":"PKn!#REF!","v":{"$error":"#REF!"}},{"$f":"PKn!#REF!","v":{"$error":"#REF!"}},{"$error":"#REF!"},{"$f":"BID!#REF!","v":{"$error":"#REF!"}},{"$f":"BID!#REF!","v":{"$error":"#REF!"}},{"$error":"#REF!"},null,null,null,{"$f":"MTK!#REF!","v":{"$error":"#REF!"}},{"$f":"MTK!#REF!","v":{"$error":"#REF!"}},{"$error":"#REF!"},{"$f":"IPA!K152","v":{"$error":"#DIV/0!"}},{"$f":"IPA!N152","v":{"$error":"#DIV/0!"}},{"$error":"#DIV/0!"},{"$f":"IPS!#REF!","v":{"$error":"#REF!"}},{"$f":"IPS!#REF!","v":{"$error":"#REF!"}},{"$error":"#REF!"},{"$f":"SBK!#REF!","v":{"$error":"#REF!"}},{"$f":"SBK!#REF!","v":{"$error":"#REF!"}},{"$error":"#REF!"},{"$f":"PJK!#REF!","v":{"$error":"#REF!"}},{"$f":"PJK!#REF!","v":{"$error":"#REF!"}},{"$error":"#REF!"},{"$f":"BD!#REF!","v":{"$error":"#REF!"}},{"$f":"BD!#REF!","v":{"$error":"#REF!"}},{"$error":"#REF!"},{"$f":"BIG!K152","v":{"$error":"#DIV/0!"}},{"$f":"BIG!N152","v":{"$error":"#DIV/0!"}},{"$error":"#DIV/0!"},{"$f":"AWJ!N152","v":0},{"$f":"AWJ!P152","v":0},0,{"$error":"#REF!"},{"$error":"#REF!"},null,{"$error":"#REF!"},{"$error":"#REF!"},null,{"$error":"#REF!"},{"$error":"#DIV/0!"},{"$f":"IPA!L152","v":0},{"$error":"#DIV/0!"},0,{"$error":"#REF!"},0,{"$error":"#REF!"},{"$error":"#REF!"},{"$error":"#REF!"},{"$error":"#REF!"},{"$error":"#REF!"},{"$error":"#REF!"},{"$error":"#DIV/0!"},{"$error":"#DIV/0!"},{"$error":"#DIV/0!"},null,null,{"$error":"#REF!"},0,{"$error":"#REF!"},{"$error":"#REF!"},0,{"$error":"#REF!"},{"$error":"#DIV/0!"},0,{"$error":"#DIV/0!"},0,null,null,null,"145/Mi.13.05.162/PP.01.1/06/2020"]
[{"$f":"SISWA!A153","v":146},{"$f":"IF(SISWA!B153=0,\"\",SISWA!B153)","v":""},{"$f":"IF(SISWA!C153=0,\"\",SISWA!C153)","v":""},{"$f":"IF(SISWA!D153=0,\"\",SISWA!D153)","v":""},{"$f":"IF(SISWA!E153=0,\"\",SISWA!E153)","v":""},{"$f":"IF(SISWA!P152=0,\"\",SISWA!P152)","v":", 00 Januari 1900"},{"$f":"IF(SISWA!H153=0,\"\",SISWA!H153)","v":""},{"$f":"#REF!","v":{"$error":"#REF!"}},{"$f":"#REF!","v":{"$error":"#REF!"}},{"$error":"#REF!"},null,null,null,null,null,null,null,null,null,null,null,null,{"$f":"PKn!#REF!","v":{"$error":"#REF!"}},{"$f":"PKn!#REF!","v":{"$error":"#REF!"}},{"$error":"#REF!"},{"$f":"BID!#REF!","v":{"$error":"#REF!"}},{"$f":"BID!#REF!","v":{"$error":"#REF!"}},{"$error":"#REF!"},null,null,null,{"$f":"MTK!#REF!","v":{"$error":"#REF!"}},{"$f":"MTK!#REF!","v":{"$error":"#REF!"}},{"$error":"#REF!"},{"$f":"IPA!K153","v":{"$error":"#DIV/0!"}},{"$f":"IPA!N153","v":{"$error":"#DIV/0!"}},{"$error":"#DIV/0!"},{"$f":"IPS!#REF!","v":{"$error":"#REF!"}},{"$f":"IPS!#REF!","v":{"$error":"#REF!"}},{"$error":"#REF!"},{"$f":"SBK!#REF!","v":{"$error":"#REF!"}},{"$f":"SBK!#REF!","v":{"$error":"#REF!"}},{"$error":"#REF!"},{"$f":"PJK!#REF!","v":{"$error":"#REF!"}},{"$f":"PJK!#REF!","v":{"$error":"#REF!"}},{"$error":"#REF!"},{"$f":"BD!#REF!","v":{"$error":"#REF!"}},{"$f":"BD!#REF!","v":{"$error":"#REF!"}},{"$error":"#REF!"},{"$f":"BIG!K153","v":{"$error":"#DIV/0!"}},{"$f":"BIG!N153","v":{"$error":"#DIV/0!"}},{"$error":"#DIV/0!"},{"$f":"AWJ!N153","v":0},{"$f":"AWJ!P153","v":0},0,{"$error":"#REF!"},{"$error":"#REF!"},null,{"$error":"#REF!"},{"$error":"#REF!"},null,{"$error":"#REF!"},{"$error":"#DIV/0!"},{"$f":"IPA!L153","v":0},{"$error":"#DIV/0!"},0,{"$error":"#REF!"},0,{"$error":"#REF!"},{"$error":"#REF!"},{"$error":"#REF!"},{"$error":"#REF!"},{"$error":"#REF!"},{"$error":"#REF!"},{"$error":"#DIV/0!"},{"$error":"#DIV/0!"},{"$error":"#DIV/0!"},null,null,{"$error":"#REF!"},0,{"$error":"#REF!"},{"$error":"#REF!"},0,{"$error":"#REF!"},{"$error":"#DIV/0!"},0,{"$error":"#DIV/0!"},0,null,null,null,"146/Mi.13.05.162/PP.01.1/06/2020"]
[{"$f":"SISWA!A154","v":147},{"$f":"IF(SISWA!B154=0,\"\",SISWA!B154)","v":""},{"$f":"IF(SISWA!C154=0,\"\",SISWA!C154)","v":""},{"$f":"IF(SISWA!D154=0,\"\",SISWA!D154)","v":""},{"$f":"IF(SISWA!E154=0,\"\",SISWA!E154)","v":""},{"$f":"IF(SISWA!P153=0,\"\",SISWA!P153)","v":", 00 Januari 1900"},{"$f":"IF(SISWA!H154=0,\"\",SISWA!H154)","v":""},{"$f":"#REF!","v":{"$error":"#REF!"}},{"$f":"#REF!","v":{"$error":"#REF!"}},{"$error":"#REF!"},null,null,null,null,null,null,null,null,null,null,null,null,{"$f":"PKn!#REF!","v":{"$error":"#REF!"}},{"$f":"PKn!#REF!","v":{"$error":"#REF!"}},{"$error":"#REF!"},{"$f":"BID!#REF!","v":{"$error":"#REF!"}},{"$f":"BID!#REF!","v":{"$error":"#REF!"}},{"$error":"#REF!"},null,null,null,{"$f":"MTK!#REF!","v":{"$error":"#REF!"}},{"$f":"MTK!#REF!","v":{"$error":"#REF!"}},{"$error":"#REF!"},{"$f":"IPA!K154","v":{"$error":"#DIV/0!"}},{"$f":"IPA!N154","v":{"$error":"#DIV/0!"}},{"$error":"#DIV/0!"},{"$f":"IPS!#REF!","v":{"$error":"#REF!"}},{"$f":"IPS!#REF!","v":{"$error":"#REF!"}},{"$error":"#REF!"},{"$f":"SBK!#REF!","v":{"$error":"#REF!"}},{"$f":"SBK!#REF!","v":{"$error":"#REF!"}},{"$error":"#REF!"},{"$f":"PJK!#REF!","v":{"$error":"#REF!"}},{"$f":"PJK!#REF!","v":{"$error":"#REF!"}},{"$error":"#REF!"},{"$f":"BD!#REF!","v":{"$error":"#REF!"}},{"$f":"BD!#REF!","v":{"$error":"#REF!"}},{"$error":"#REF!"},{"$f":"BIG!K154","v":{"$error":"#DIV/0!"}},{"$f":"BIG!N154","v":{"$error":"#DIV/0!"}},{"$error":"#DIV/0!"},{"$f":"AWJ!N154","v":0},{"$f":"AWJ!P154","v":0},0,{"$error":"#REF!"},{"$error":"#REF!"},null,{"$error":"#REF!"},{"$error":"#REF!"},null,{"$error":"#REF!"},{"$error":"#DIV/0!"},{"$f":"IPA!L154","v":0},{"$error":"#DIV/0!"},0,{"$error":"#REF!"},0,{"$error":"#REF!"},{"$error":"#REF!"},{"$error":"#REF!"},{"$error":"#REF!"},{"$error":"#REF!"},{"$error":"#REF!"},{"$error":"#DIV/0!"},{"$error":"#DIV/0!"},{"$error":"#DIV/0!"},null,null,{"$error":"#REF!"},0,{"$error":"#REF!"},{"$error":"#REF!"},0,{"$error":"#REF!"},{"$error":"#DIV/0!"},0,{"$error":"#DIV/0!"},0,null,null,null,"147/Mi.13.05.162/PP.01.1/06/2020"]
[{"$f":"SISWA!A155","v":148},{"$f":"IF(SISWA!B155=0,\"\",SISWA!B155)","v":""},{"$f":"IF(SISWA!C155=0,\"\",SISWA!C155)","v":""},{"$f":"IF(SISWA!D155=0,\"\",SISWA!D155)","v":""},{"$f":"IF(SISWA!E155=0,\"\",SISWA!E155)","v":""},{"$f":"IF(SISWA!P154=0,\"\",SISWA!P154)","v":", 00 Januari 1900"},{"$f":"IF(SISWA!H155=0,\"\",SISWA!H155)","v":""},{"$f":"#REF!","v":{"$error":"#REF!"}},{"$f":"#REF!","v":{"$error":"#REF!"}},{"$error":"#REF!"},null,null,null,null,null,null,null,null,null,null,null,null,{"$f":"PKn!#REF!","v":{"$error":"#REF!"}},{"$f":"PKn!#REF!","v":{"$error":"#REF!"}},{"$error":"#REF!"},{"$f":"BID!#REF!","v":{"$error":"#REF!"}},{"$f":"BID!#REF!","v":{"$error":"#REF!"}},{"$error":"#REF!"},null,null,null,{"$f":"MTK!#REF!","v":{"$error":"#REF!"}},{"$f":"MTK!#REF!","v":{"$error":"#REF!"}},{"$error":"#REF!"},{"$f":"IPA!K155","v":{"$error":"#DIV/0!"}},{"$f":"IPA!N155","v":{"$error":"#DIV/0!"}},{"$error":"#DIV/0!"},{"$f":"IPS!#REF!","v":{"$error":"#REF!"}},{"$f":"IPS!#REF!","v":{"$error":"#REF!"}},{"$error":"#REF!"},{"$f":"SBK!#REF!","v":{"$error":"#REF!"}},{"$f":"SBK!#REF!","v":{"$error":"#REF!"}},{"$error":"#REF!"},{"$f":"PJK!#REF!","v":{"$error":"#REF!"}},{"$f":"PJK!#REF!","v":{"$error":"#REF!"}},{"$error":"#REF!"},{"$f":"BD!#REF!","v":{"$error":"#REF!"}},{"$f":"BD!#REF!","v":{"$error":"#REF!"}},{"$error":"#REF!"},{"$f":"BIG!K155","v":{"$error":"#DIV/0!"}},{"$f":"BIG!N155","v":{"$error":"#DIV/0!"}},{"$error":"#DIV/0!"},{"$f":"AWJ!N155","v":0},{"$f":"AWJ!P155","v":0},0,{"$error":"#REF!"},{"$error":"#REF!"},null,{"$error":"#REF!"},{"$error":"#REF!"},null,{"$error":"#REF!"},{"$error":"#DIV/0!"},{"$f":"IPA!L155","v":0},{"$error":"#DIV/0!"},0,{"$error":"#REF!"},0,{"$error":"#REF!"},{"$error":"#REF!"},{"$error":"#REF!"},{"$error":"#REF!"},{"$error":"#REF!"},{"$error":"#REF!"},{"$error":"#DIV/0!"},{"$error":"#DIV/0!"},{"$error":"#DIV/0!"},null,null,{"$error":"#REF!"},0,{"$error":"#REF!"},{"$error":"#REF!"},0,{"$error":"#REF!"},{"$error":"#DIV/0!"},0,{"$error":"#DIV/0!"},0,null,null,null,"148/Mi.13.05.162/PP.01.1/06/2020"]
[{"$f":"SISWA!A156","v":149},{"$f":"IF(SISWA!B156=0,\"\",SISWA!B156)","v":""},{"$f":"IF(SISWA!C156=0,\"\",SISWA!C156)","v":""},{"$f":"IF(SISWA!D156=0,\"\",SISWA!D156)","v":""},{"$f":"IF(SISWA!E156=0,\"\",SISWA!E156)","v":""},{"$f":"IF(SISWA!P155=0,\"\",SISWA!P155)","v":", 00 Januari 1900"},{"$f":"IF(SISWA!H156=0,\"\",SISWA!H156)","v":""},{"$f":"#REF!","v":{"$error":"#REF!"}},{"$f":"#REF!","v":{"$error":"#REF!"}},{"$error":"#REF!"},null,null,null,null,null,null,null,null,null,null,null,null,{"$f":"PKn!#REF!","v":{"$error":"#REF!"}},{"$f":"PKn!#REF!","v":{"$error":"#REF!"}},{"$error":"#REF!"},{"$f":"BID!#REF!","v":{"$error":"#REF!"}},{"$f":"BID!#REF!","v":{"$error":"#REF!"}},{"$error":"#REF!"},null,null,null,{"$f":"MTK!#REF!","v":{"$error":"#REF!"}},{"$f":"MTK!#REF!","v":{"$error":"#REF!"}},{"$error":"#REF!"},{"$f":"IPA!K156","v":{"$error":"#DIV/0!"}},{"$f":"IPA!N156","v":{"$error":"#DIV/0!"}},{"$error":"#DIV/0!"},{"$f":"IPS!#REF!","v":{"$error":"#REF!"}},{"$f":"IPS!#REF!","v":{"$error":"#REF!"}},{"$error":"#REF!"},{"$f":"SBK!#REF!","v":{"$error":"#REF!"}},{"$f":"SBK!#REF!","v":{"$error":"#REF!"}},{"$error":"#REF!"},{"$f":"PJK!#REF!","v":{"$error":"#REF!"}},{"$f":"PJK!#REF!","v":{"$error":"#REF!"}},{"$error":"#REF!"},{"$f":"BD!#REF!","v":{"$error":"#REF!"}},{"$f":"BD!#REF!","v":{"$error":"#REF!"}},{"$error":"#REF!"},{"$f":"BIG!K156","v":{"$error":"#DIV/0!"}},{"$f":"BIG!N156","v":{"$error":"#DIV/0!"}},{"$error":"#DIV/0!"},{"$f":"AWJ!N156","v":0},{"$f":"AWJ!P156","v":0},0,{"$error":"#REF!"},{"$error":"#REF!"},null,{"$error":"#REF!"},{"$error":"#REF!"},null,{"$error":"#REF!"},{"$error":"#DIV/0!"},{"$f":"IPA!L156","v":0},{"$error":"#DIV/0!"},0,{"$error":"#REF!"},0,{"$error":"#REF!"},{"$error":"#REF!"},{"$error":"#REF!"},{"$error":"#REF!"},{"$error":"#REF!"},{"$error":"#REF!"},{"$error":"#DIV/0!"},{"$error":"#DIV/0!"},{"$error":"#DIV/0!"},null,null,{"$error":"#REF!"},0,{"$error":"#REF!"},{"$error":"#REF!"},0,{"$error":"#REF!"},{"$error":"#DIV/0!"},0,{"$error":"#DIV/0!"},0,null,null,null,"149/Mi.13.05.162/PP.01.1/06/2020"]
[{"$f":"SISWA!A157","v":150},{"$f":"IF(SISWA!B157=0,\"\",SISWA!B157)","v":""},{"$f":"IF(SISWA!C157=0,\"\",SISWA!C157)","v":""},{"$f":"IF(SISWA!D157=0,\"\",SISWA!D157)","v":""},{"$f":"IF(SISWA!E157=0,\"\",SISWA!E157)","v":""},{"$f":"IF(SISWA!P156=0,\"\",SISWA!P156)","v":", 00 Januari 1900"},{"$f":"IF(SISWA!H157=0,\"\",SISWA!H157)","v":""},{"$f":"#REF!","v":{"$error":"#REF!"}},{"$f":"#REF!","v":{"$error":"#REF!"}},{"$error":"#REF!"},null,null,null,null,null,null,null,null,null,null,null,null,{"$f":"PKn!#REF!","v":{"$error":"#REF!"}},{"$f":"PKn!#REF!","v":{"$error":"#REF!"}},{"$error":"#REF!"},{"$f":"BID!#REF!","v":{"$error":"#REF!"}},{"$f":"BID!#REF!","v":{"$error":"#REF!"}},{"$error":"#REF!"},null,null,null,{"$f":"MTK!#REF!","v":{"$error":"#REF!"}},{"$f":"MTK!#REF!","v":{"$error":"#REF!"}},{"$error":"#REF!"},{"$f":"IPA!K157","v":{"$error":"#DIV/0!"}},{"$f":"IPA!N157","v":{"$error":"#DIV/0!"}},{"$error":"#DIV/0!"},{"$f":"IPS!#REF!","v":{"$error":"#REF!"}},{"$f":"IPS!#REF!","v":{"$error":"#REF!"}},{"$error":"#REF!"},{"$f":"SBK!#REF!","v":{"$error":"#REF!"}},{"$f":"SBK!#REF!","v":{"$error":"#REF!"}},{"$error":"#REF!"},{"$f":"PJK!#REF!","v":{"$error":"#REF!"}},{"$f":"PJK!#REF!","v":{"$error":"#REF!"}},{"$error":"#REF!"},{"$f":"BD!#REF!","v":{"$error":"#REF!"}},{"$f":"BD!#REF!","v":{"$error":"#REF!"}},{"$error":"#REF!"},{"$f":"BIG!K157","v":{"$error":"#DIV/0!"}},{"$f":"BIG!N157","v":{"$error":"#DIV/0!"}},{"$error":"#DIV/0!"},{"$f":"AWJ!N157","v":0},{"$f":"AWJ!P157","v":0},0,{"$error":"#REF!"},{"$error":"#REF!"},null,{"$error":"#REF!"},{"$error":"#REF!"},null,{"$error":"#REF!"},{"$error":"#DIV/0!"},{"$f":"IPA!L157","v":0},{"$error":"#DIV/0!"},0,{"$error":"#REF!"},0,{"$error":"#REF!"},{"$error":"#REF!"},{"$error":"#REF!"},{"$error":"#REF!"},{"$error":"#REF!"},{"$error":"#REF!"},{"$error":"#DIV/0!"},{"$error":"#DIV/0!"},{"$error":"#DIV/0!"},null,null,{"$error":"#REF!"},0,{"$error":"#REF!"},{"$error":"#REF!"},0,{"$error":"#REF!"},{"$error":"#DIV/0!"},0,{"$error":"#DIV/0!"},0,null,null,null,"150/Mi.13.05.162/PP.01.1/06/2020"]
[{"$f":"SISWA!A158","v":151},{"$f":"IF(SISWA!B158=0,\"\",SISWA!B158)","v":""},{"$f":"IF(SISWA!C158=0,\"\",SISWA!C158)","v":""},{"$f":"IF(SISWA!D158=0,\"\",SISWA!D158)","v":""},{"$f":"IF(SISWA!E158=0,\"\",SISWA!E158)","v":""},{"$f":"IF(SISWA!P157=0,\"\",SISWA!P157)","v":", 00 Januari 1900"},{"$f":"IF(SISWA!H158=0,\"\",SISWA!H158)","v":""},{"$f":"#REF!","v":{"$error":"#REF!"}},{"$f":"#REF!","v":{"$error":"#REF!"}},{"$error":"#REF!"},null,null,null,null,null,null,null,null,null,null,null,null,{"$f":"PKn!#REF!","v":{"$error":"#REF!"}},{"$f":"PKn!#REF!","v":{"$error":"#REF!"}},{"$error":"#REF!"},{"$f":"BID!#REF!","v":{"$error":"#REF!"}},{"$f":"BID!#REF!","v":{"$error":"#REF!"}},{"$error":"#REF!"},null,null,null,{"$f":"MTK!#REF!","v":{"$error":"#REF!"}},{"$f":"MTK!#REF!","v":{"$error":"#REF!"}},{"$error":"#REF!"},{"$f":"IPA!K158","v":{"$error":"#DIV/0!"}},{"$f":"IPA!N158","v":{"$error":"#DIV/0!"}},{"$error":"#DIV/0!"},{"$f":"IPS!#REF!","v":{"$error":"#REF!"}},{"$f":"IPS!#REF!","v":{"$error":"#REF!"}},{"$error":"#REF!"},{"$f":"SBK!#REF!","v":{"$error":"#REF!"}},{"$f":"SBK!#REF!","v":{"$error":"#REF!"}},{"$error":"#REF!"},{"$f":"PJK!#REF!","v":{"$error":"#REF!"}},{"$f":"PJK!#REF!","v":{"$error":"#REF!"}},{"$error":"#REF!"},{"$f":"BD!#REF!","v":{"$error":"#REF!"}},{"$f":"BD!#REF!","v":{"$error":"#REF!"}},{"$error":"#REF!"},{"$f":"BIG!K158","v":{"$error":"#DIV/0!"}},{"$f":"BIG!N158","v":{"$error":"#DIV/0!"}},{"$error":"#DIV/0!"},{"$f":"AWJ!N158","v":0},{"$f":"AWJ!P158","v":0},0,{"$error":"#REF!"},{"$error":"#REF!"},null,{"$error":"#REF!"},{"$error":"#REF!"},null,{"$error":"#REF!"},{"$error":"#DIV/0!"},{"$f":"IPA!L158","v":0},{"$error":"#DIV/0!"},0,{"$error":"#REF!"},0,{"$error":"#REF!"},{"$error":"#REF!"},{"$error":"#REF!"},{"$error":"#REF!"},{"$error":"#REF!"},{"$error":"#REF!"},{"$error":"#DIV/0!"},{"$error":"#DIV/0!"},{"$error":"#DIV/0!"},null,null,{"$error":"#REF!"},0,{"$error":"#REF!"},{"$error":"#REF!"},0,{"$error":"#REF!"},{"$error":"#DIV/0!"},0,{"$error":"#DIV/0!"},0,null,null,null,"151/Mi.13.05.162/PP.01.1/06/2020"]
[{"$f":"SISWA!A159","v":152},{"$f":"IF(SISWA!B159=0,\"\",SISWA!B159)","v":""},{"$f":"IF(SISWA!C159=0,\"\",SISWA!C159)","v":""},{"$f":"IF(SISWA!D159=0,\"\",SISWA!D159)","v":""},{"$f":"IF(SISWA!E159=0,\"\",SISWA!E159)","v":""},{"$f":"IF(SISWA!P158=0,\"\",SISWA!P158)","v":", 00 Januari 1900"},{"$f":"IF(SISWA!H159=0,\"\",SISWA!H159)","v":""},{"$f":"#REF!","v":{"$error":"#REF!"}},{"$f":"#REF!","v":{"$error":"#REF!"}},{"$error":"#REF!"},null,null,null,null,null,null,null,null,null,null,null,null,{"$f":"PKn!#REF!","v":{"$error":"#REF!"}},{"$f":"PKn!#REF!","v":{"$error":"#REF!"}},{"$error":"#REF!"},{"$f":"BID!#REF!","v":{"$error":"#REF!"}},{"$f":"BID!#REF!","v":{"$error":"#REF!"}},{"$error":"#REF!"},null,null,null,{"$f":"MTK!#REF!","v":{"$error":"#REF!"}},{"$f":"MTK!#REF!","v":{"$error":"#REF!"}},{"$error":"#REF!"},{"$f":"IPA!K159","v":{"$error":"#DIV/0!"}},{"$f":"IPA!N159","v":{"$error":"#DIV/0!"}},{"$error":"#DIV/0!"},{"$f":"IPS!#REF!","v":{"$error":"#REF!"}},{"$f":"IPS!#REF!","v":{"$error":"#REF!"}},{"$error":"#REF!"},{"$f":"SBK!#REF!","v":{"$error":"#REF!"}},{"$f":"SBK!#REF!","v":{"$error":"#REF!"}},{"$error":"#REF!"},{"$f":"PJK!#REF!","v":{"$error":"#REF!"}},{"$f":"PJK!#REF!","v":{"$error":"#REF!"}},{"$error":"#REF!"},{"$f":"BD!#REF!","v":{"$error":"#REF!"}},{"$f":"BD!#REF!","v":{"$error":"#REF!"}},{"$error":"#REF!"},{"$f":"BIG!K159","v":{"$error":"#DIV/0!"}},{"$f":"BIG!N159","v":{"$error":"#DIV/0!"}},{"$error":"#DIV/0!"},{"$f":"AWJ!N159","v":0},{"$f":"AWJ!P159","v":0},0,{"$error":"#REF!"},{"$error":"#REF!"},null,{"$error":"#REF!"},{"$error":"#REF!"},null,{"$error":"#REF!"},{"$error":"#DIV/0!"},{"$f":"IPA!L159","v":0},{"$error":"#DIV/0!"},0,{"$error":"#REF!"},0,{"$error":"#REF!"},{"$error":"#REF!"},{"$error":"#REF!"},{"$error":"#REF!"},{"$error":"#REF!"},{"$error":"#REF!"},{"$error":"#DIV/0!"},{"$error":"#DIV/0!"},{"$error":"#DIV/0!"},null,null,{"$error":"#REF!"},0,{"$error":"#REF!"},{"$error":"#REF!"},0,{"$error":"#REF!"},{"$error":"#DIV/0!"},0,{"$error":"#DIV/0!"},0,null,null,null,"152/Mi.13.05.162/PP.01.1/06/2020"]
[{"$f":"SISWA!A160","v":153},{"$f":"IF(SISWA!B160=0,\"\",SISWA!B160)","v":""},{"$f":"IF(SISWA!C160=0,\"\",SISWA!C160)","v":""},{"$f":"IF(SISWA!D160=0,\"\",SISWA!D160)","v":""},{"$f":"IF(SISWA!E160=0,\"\",SISWA!E160)","v":""},{"$f":"IF(SISWA!P159=0,\"\",SISWA!P159)","v":", 00 Januari 1900"},{"$f":"IF(SISWA!H160=0,\"\",SISWA!H160)","v":""},{"$f":"#REF!","v":{"$error":"#REF!"}},{"$f":"#REF!","v":{"$error":"#REF!"}},{"$error":"#REF!"},null,null,null,null,null,null,null,null,null,null,null,null,{"$f":"PKn!#REF!","v":{"$error":"#REF!"}},{"$f":"PKn!#REF!","v":{"$error":"#REF!"}},{"$error":"#REF!"},{"$f":"BID!#REF!","v":{"$error":"#REF!"}},{"$f":"BID!#REF!","v":{"$error":"#REF!"}},{"$error":"#REF!"},null,null,null,{"$f":"MTK!#REF!","v":{"$error":"#REF!"}},{"$f":"MTK!#REF!","v":{"$error":"#REF!"}},{"$error":"#REF!"},{"$f":"IPA!K160","v":{"$error":"#DIV/0!"}},{"$f":"IPA!N160","v":{"$error":"#DIV/0!"}},{"$error":"#DIV/0!"},{"$f":"IPS!#REF!","v":{"$error":"#REF!"}},{"$f":"IPS!#REF!","v":{"$error":"#REF!"}},{"$error":"#REF!"},{"$f":"SBK!#REF!","v":{"$error":"#REF!"}},{"$f":"SBK!#REF!","v":{"$error":"#REF!"}},{"$error":"#REF!"},{"$f":"PJK!#REF!","v":{"$error":"#REF!"}},{"$f":"PJK!#REF!","v":{"$error":"#REF!"}},{"$error":"#REF!"},{"$f":"BD!#REF!","v":{"$error":"#REF!"}},{"$f":"BD!#REF!","v":{"$error":"#REF!"}},{"$error":"#REF!"},{"$f":"BIG!K160","v":{"$error":"#DIV/0!"}},{"$f":"BIG!N160","v":{"$error":"#DIV/0!"}},{"$error":"#DIV/0!"},{"$f":"AWJ!N160","v":0},{"$f":"AWJ!P160","v":0},0,{"$error":"#REF!"},{"$error":"#REF!"},null,{"$error":"#REF!"},{"$error":"#REF!"},null,{"$error":"#REF!"},{"$error":"#DIV/0!"},{"$f":"IPA!L160","v":0},{"$error":"#DIV/0!"},0,{"$error":"#REF!"},0,{"$error":"#REF!"},{"$error":"#REF!"},{"$error":"#REF!"},{"$error":"#REF!"},{"$error":"#REF!"},{"$error":"#REF!"},{"$error":"#DIV/0!"},{"$error":"#DIV/0!"},{"$error":"#DIV/0!"},null,null,{"$error":"#REF!"},0,{"$error":"#REF!"},{"$error":"#REF!"},0,{"$error":"#REF!"},{"$error":"#DIV/0!"},0,{"$error":"#DIV/0!"},0,null,null,null,"153/Mi.13.05.162/PP.01.1/06/2020"]
[{"$f":"SISWA!A161","v":154},{"$f":"IF(SISWA!B161=0,\"\",SISWA!B161)","v":""},{"$f":"IF(SISWA!C161=0,\"\",SISWA!C161)","v":""},{"$f":"IF(SISWA!D161=0,\"\",SISWA!D161)","v":""},{"$f":"IF(SISWA!E161=0,\"\",SISWA!E161)","v":""},{"$f":"IF(SISWA!P160=0,\"\",SISWA!P160)","v":", 00 Januari 1900"},{"$f":"IF(SISWA!H161=0,\"\",SISWA!H161)","v":""},{"$f":"#REF!","v":{"$error":"#REF!"}},{"$f":"#REF!","v":{"$error":"#REF!"}},{"$error":"#REF!"},null,null,null,null,null,null,null,null,null,null,null,null,{"$f":"PKn!#REF!","v":{"$error":"#REF!"}},{"$f":"PKn!#REF!","v":{"$error":"#REF!"}},{"$error":"#REF!"},{"$f":"BID!#REF!","v":{"$error":"#REF!"}},{"$f":"BID!#REF!","v":{"$error":"#REF!"}},{"$error":"#REF!"},null,null,null,{"$f":"MTK!#REF!","v":{"$error":"#REF!"}},{"$f":"MTK!#REF!","v":{"$error":"#REF!"}},{"$error":"#REF!"},{"$f":"IPA!K161","v":{"$error":"#DIV/0!"}},{"$f":"IPA!N161","v":{"$error":"#DIV/0!"}},{"$error":"#DIV/0!"},{"$f":"IPS!#REF!","v":{"$error":"#REF!"}},{"$f":"IPS!#REF!","v":{"$error":"#REF!"}},{"$error":"#REF!"},{"$f":"SBK!#REF!","v":{"$error":"#REF!"}},{"$f":"SBK!#REF!","v":{"$error":"#REF!"}},{"$error":"#REF!"},{"$f":"PJK!#REF!","v":{"$error":"#REF!"}},{"$f":"PJK!#REF!","v":{"$error":"#REF!"}},{"$error":"#REF!"},{"$f":"BD!#REF!","v":{"$error":"#REF!"}},{"$f":"BD!#REF!","v":{"$error":"#REF!"}},{"$error":"#REF!"},{"$f":"BIG!K161","v":{"$error":"#DIV/0!"}},{"$f":"BIG!N161","v":{"$error":"#DIV/0!"}},{"$error":"#DIV/0!"},{"$f":"AWJ!N161","v":0},{"$f":"AWJ!P161","v":0},0,{"$error":"#REF!"},{"$error":"#REF!"},null,{"$error":"#REF!"},{"$error":"#REF!"},null,{"$error":"#REF!"},{"$error":"#DIV/0!"},{"$f":"IPA!L161","v":0},{"$error":"#DIV/0!"},0,{"$error":"#REF!"},0,{"$error":"#REF!"},{"$error":"#REF!"},{"$error":"#REF!"},{"$error":"#REF!"},{"$error":"#REF!"},{"$error":"#REF!"},{"$error":"#DIV/0!"},{"$error":"#DIV/0!"},{"$error":"#DIV/0!"},null,null,{"$error":"#REF!"},0,{"$error":"#REF!"},{"$error":"#REF!"},0,{"$error":"#REF!"},{"$error":"#DIV/0!"},0,{"$error":"#DIV/0!"},0,null,null,null,"154/Mi.13.05.162/PP.01.1/06/2020"]
[{"$f":"SISWA!A162","v":155},{"$f":"IF(SISWA!B162=0,\"\",SISWA!B162)","v":""},{"$f":"IF(SISWA!C162=0,\"\",SISWA!C162)","v":""},{"$f":"IF(SISWA!D162=0,\"\",SISWA!D162)","v":""},{"$f":"IF(SISWA!E162=0,\"\",SISWA!E162)","v":""},{"$f":"IF(SISWA!P161=0,\"\",SISWA!P161)","v":", 00 Januari 1900"},{"$f":"IF(SISWA!H162=0,\"\",SISWA!H162)","v":""},{"$f":"#REF!","v":{"$error":"#REF!"}},{"$f":"#REF!","v":{"$error":"#REF!"}},{"$error":"#REF!"},null,null,null,null,null,null,null,null,null,null,null,null,{"$f":"PKn!#REF!","v":{"$error":"#REF!"}},{"$f":"PKn!#REF!","v":{"$error":"#REF!"}},{"$error":"#REF!"},{"$f":"BID!#REF!","v":{"$error":"#REF!"}},{"$f":"BID!#REF!","v":{"$error":"#REF!"}},{"$error":"#REF!"},null,null,null,{"$f":"MTK!#REF!","v":{"$error":"#REF!"}},{"$f":"MTK!#REF!","v":{"$error":"#REF!"}},{"$error":"#REF!"},{"$f":"IPA!K162","v":{"$error":"#DIV/0!"}},{"$f":"IPA!N162","v":{"$error":"#DIV/0!"}},{"$error":"#DIV/0!"},{"$f":"IPS!#REF!","v":{"$error":"#REF!"}},{"$f":"IPS!#REF!","v":{"$error":"#REF!"}},{"$error":"#REF!"},{"$f":"SBK!#REF!","v":{"$error":"#REF!"}},{"$f":"SBK!#REF!","v":{"$error":"#REF!"}},{"$error":"#REF!"},{"$f":"PJK!#REF!","v":{"$error":"#REF!"}},{"$f":"PJK!#REF!","v":{"$error":"#REF!"}},{"$error":"#REF!"},{"$f":"BD!#REF!","v":{"$error":"#REF!"}},{"$f":"BD!#REF!","v":{"$error":"#REF!"}},{"$error":"#REF!"},{"$f":"BIG!K162","v":{"$error":"#DIV/0!"}},{"$f":"BIG!N162","v":{"$error":"#DIV/0!"}},{"$error":"#DIV/0!"},{"$f":"AWJ!N162","v":0},{"$f":"AWJ!P162","v":0},0,{"$error":"#REF!"},{"$error":"#REF!"},null,{"$error":"#REF!"},{"$error":"#REF!"},null,{"$error":"#REF!"},{"$error":"#DIV/0!"},{"$f":"IPA!L162","v":0},{"$error":"#DIV/0!"},0,{"$error":"#REF!"},0,{"$error":"#REF!"},{"$error":"#REF!"},{"$error":"#REF!"},{"$error":"#REF!"},{"$error":"#REF!"},{"$error":"#REF!"},{"$error":"#DIV/0!"},{"$error":"#DIV/0!"},{"$error":"#DIV/0!"},null,null,{"$error":"#REF!"},0,{"$error":"#REF!"},{"$error":"#REF!"},0,{"$error":"#REF!"},{"$error":"#DIV/0!"},0,{"$error":"#DIV/0!"},0,null,null,null,"155/Mi.13.05.162/PP.01.1/06/2020"]
[{"$f":"SISWA!A163","v":156},{"$f":"IF(SISWA!B163=0,\"\",SISWA!B163)","v":""},{"$f":"IF(SISWA!C163=0,\"\",SISWA!C163)","v":""},{"$f":"IF(SISWA!D163=0,\"\",SISWA!D163)","v":""},{"$f":"IF(SISWA!E163=0,\"\",SISWA!E163)","v":""},{"$f":"IF(SISWA!P162=0,\"\",SISWA!P162)","v":", 00 Januari 1900"},{"$f":"IF(SISWA!H163=0,\"\",SISWA!H163)","v":""},{"$f":"#REF!","v":{"$error":"#REF!"}},{"$f":"#REF!","v":{"$error":"#REF!"}},{"$error":"#REF!"},null,null,null,null,null,null,null,null,null,null,null,null,{"$f":"PKn!#REF!","v":{"$error":"#REF!"}},{"$f":"PKn!#REF!","v":{"$error":"#REF!"}},{"$error":"#REF!"},{"$f":"BID!#REF!","v":{"$error":"#REF!"}},{"$f":"BID!#REF!","v":{"$error":"#REF!"}},{"$error":"#REF!"},null,null,null,{"$f":"MTK!#REF!","v":{"$error":"#REF!"}},{"$f":"MTK!#REF!","v":{"$error":"#REF!"}},{"$error":"#REF!"},{"$f":"IPA!K163","v":{"$error":"#DIV/0!"}},{"$f":"IPA!N163","v":{"$error":"#DIV/0!"}},{"$error":"#DIV/0!"},{"$f":"IPS!#REF!","v":{"$error":"#REF!"}},{"$f":"IPS!#REF!","v":{"$error":"#REF!"}},{"$error":"#REF!"},{"$f":"SBK!#REF!","v":{"$error":"#REF!"}},{"$f":"SBK!#REF!","v":{"$error":"#REF!"}},{"$error":"#REF!"},{"$f":"PJK!#REF!","v":{"$error":"#REF!"}},{"$f":"PJK!#REF!","v":{"$error":"#REF!"}},{"$error":"#REF!"},{"$f":"BD!#REF!","v":{"$error":"#REF!"}},{"$f":"BD!#REF!","v":{"$error":"#REF!"}},{"$error":"#REF!"},{"$f":"BIG!K163","v":{"$error":"#DIV/0!"}},{"$f":"BIG!N163","v":{"$error":"#DIV/0!"}},{"$error":"#DIV/0!"},{"$f":"AWJ!N163","v":0},{"$f":"AWJ!P163","v":0},0,{"$error":"#REF!"},{"$error":"#REF!"},null,{"$error":"#REF!"},{"$error":"#REF!"},null,{"$error":"#REF!"},{"$error":"#DIV/0!"},{"$f":"IPA!L163","v":0},{"$error":"#DIV/0!"},0,{"$error":"#REF!"},0,{"$error":"#REF!"},{"$error":"#REF!"},{"$error":"#REF!"},{"$error":"#REF!"},{"$error":"#REF!"},{"$error":"#REF!"},{"$error":"#DIV/0!"},{"$error":"#DIV/0!"},{"$error":"#DIV/0!"},null,null,{"$error":"#REF!"},0,{"$error":"#REF!"},{"$error":"#REF!"},0,{"$error":"#REF!"},{"$error":"#DIV/0!"},0,{"$error":"#DIV/0!"},0,null,null,null,"156/Mi.13.05.162/PP.01.1/06/2020"]
[{"$f":"SISWA!A164","v":157},{"$f":"IF(SISWA!B164=0,\"\",SISWA!B164)","v":""},{"$f":"IF(SISWA!C164=0,\"\",SISWA!C164)","v":""},{"$f":"IF(SISWA!D164=0,\"\",SISWA!D164)","v":""},{"$f":"IF(SISWA!E164=0,\"\",SISWA!E164)","v":""},{"$f":"IF(SISWA!P163=0,\"\",SISWA!P163)","v":", 00 Januari 1900"},{"$f":"IF(SISWA!H164=0,\"\",SISWA!H164)","v":""},{"$f":"#REF!","v":{"$error":"#REF!"}},{"$f":"#REF!","v":{"$error":"#REF!"}},{"$error":"#REF!"},null,null,null,null,null,null,null,null,null,null,null,null,{"$f":"PKn!#REF!","v":{"$error":"#REF!"}},{"$f":"PKn!#REF!","v":{"$error":"#REF!"}},{"$error":"#REF!"},{"$f":"BID!#REF!","v":{"$error":"#REF!"}},{"$f":"BID!#REF!","v":{"$error":"#REF!"}},{"$error":"#REF!"},null,null,null,{"$f":"MTK!#REF!","v":{"$error":"#REF!"}},{"$f":"MTK!#REF!","v":{"$error":"#REF!"}},{"$error":"#REF!"},{"$f":"IPA!K164","v":{"$error":"#DIV/0!"}},{"$f":"IPA!N164","v":{"$error":"#DIV/0!"}},{"$error":"#DIV/0!"},{"$f":"IPS!#REF!","v":{"$error":"#REF!"}},{"$f":"IPS!#REF!","v":{"$error":"#REF!"}},{"$error":"#REF!"},{"$f":"SBK!#REF!","v":{"$error":"#REF!"}},{"$f":"SBK!#REF!","v":{"$error":"#REF!"}},{"$error":"#REF!"},{"$f":"PJK!#REF!","v":{"$error":"#REF!"}},{"$f":"PJK!#REF!","v":{"$error":"#REF!"}},{"$error":"#REF!"},{"$f":"BD!#REF!","v":{"$error":"#REF!"}},{"$f":"BD!#REF!","v":{"$error":"#REF!"}},{"$error":"#REF!"},{"$f":"BIG!K164","v":{"$error":"#DIV/0!"}},{"$f":"BIG!N164","v":{"$error":"#DIV/0!"}},{"$error":"#DIV/0!"},{"$f":"AWJ!N164","v":0},{"$f":"AWJ!P164","v":0},0,{"$error":"#REF!"},{"$error":"#REF!"},null,{"$error":"#REF!"},{"$error":"#REF!"},null,{"$error":"#REF!"},{"$error":"#DIV/0!"},{"$f":"IPA!L164","v":0},{"$error":"#DIV/0!"},0,{"$error":"#REF!"},0,{"$error":"#REF!"},{"$error":"#REF!"},{"$error":"#REF!"},{"$error":"#REF!"},{"$error":"#REF!"},{"$error":"#REF!"},{"$error":"#DIV/0!"},{"$error":"#DIV/0!"},{"$error":"#DIV/0!"},null,null,{"$error":"#REF!"},0,{"$error":"#REF!"},{"$error":"#REF!"},0,{"$error":"#REF!"},{"$error":"#DIV/0!"},0,{"$error":"#DIV/0!"},0,null,null,null,"157/Mi.13.05.162/PP.01.1/06/2020"]
[{"$f":"SISWA!A165","v":158},{"$f":"IF(SISWA!B165=0,\"\",SISWA!B165)","v":""},{"$f":"IF(SISWA!C165=0,\"\",SISWA!C165)","v":""},{"$f":"IF(SISWA!D165=0,\"\",SISWA!D165)","v":""},{"$f":"IF(SISWA!E165=0,\"\",SISWA!E165)","v":""},{"$f":"IF(SISWA!P164=0,\"\",SISWA!P164)","v":", 00 Januari 1900"},{"$f":"IF(SISWA!H165=0,\"\",SISWA!H165)","v":""},{"$f":"#REF!","v":{"$error":"#REF!"}},{"$f":"#REF!","v":{"$error":"#REF!"}},{"$error":"#REF!"},null,null,null,null,null,null,null,null,null,null,null,null,{"$f":"PKn!#REF!","v":{"$error":"#REF!"}},{"$f":"PKn!#REF!","v":{"$error":"#REF!"}},{"$error":"#REF!"},{"$f":"BID!#REF!","v":{"$error":"#REF!"}},{"$f":"BID!#REF!","v":{"$error":"#REF!"}},{"$error":"#REF!"},null,null,null,{"$f":"MTK!#REF!","v":{"$error":"#REF!"}},{"$f":"MTK!#REF!","v":{"$error":"#REF!"}},{"$error":"#REF!"},{"$f":"IPA!K165","v":{"$error":"#DIV/0!"}},{"$f":"IPA!N165","v":{"$error":"#DIV/0!"}},{"$error":"#DIV/0!"},{"$f":"IPS!#REF!","v":{"$error":"#REF!"}},{"$f":"IPS!#REF!","v":{"$error":"#REF!"}},{"$error":"#REF!"},{"$f":"SBK!#REF!","v":{"$error":"#REF!"}},{"$f":"SBK!#REF!","v":{"$error":"#REF!"}},{"$error":"#REF!"},{"$f":"PJK!#REF!","v":{"$error":"#REF!"}},{"$f":"PJK!#REF!","v":{"$error":"#REF!"}},{"$error":"#REF!"},{"$f":"BD!#REF!","v":{"$error":"#REF!"}},{"$f":"BD!#REF!","v":{"$error":"#REF!"}},{"$error":"#REF!"},{"$f":"BIG!K165","v":{"$error":"#DIV/0!"}},{"$f":"BIG!N165","v":{"$error":"#DIV/0!"}},{"$error":"#DIV/0!"},{"$f":"AWJ!N165","v":0},{"$f":"AWJ!P165","v":0},0,{"$error":"#REF!"},{"$error":"#REF!"},null,{"$error":"#REF!"},{"$error":"#REF!"},null,{"$error":"#REF!"},{"$error":"#DIV/0!"},{"$f":"IPA!L165","v":0},{"$error":"#DIV/0!"},0,{"$error":"#REF!"},0,{"$error":"#REF!"},{"$error":"#REF!"},{"$error":"#REF!"},{"$error":"#REF!"},{"$error":"#REF!"},{"$error":"#REF!"},{"$error":"#DIV/0!"},{"$error":"#DIV/0!"},{"$error":"#DIV/0!"},null,null,{"$error":"#REF!"},0,{"$error":"#REF!"},{"$error":"#REF!"},0,{"$error":"#REF!"},{"$error":"#DIV/0!"},0,{"$error":"#DIV/0!"},0,null,null,null,"158/Mi.13.05.162/PP.01.1/06/2020"]
[{"$f":"SISWA!A166","v":159},{"$f":"IF(SISWA!B166=0,\"\",SISWA!B166)","v":""},{"$f":"IF(SISWA!C166=0,\"\",SISWA!C166)","v":""},{"$f":"IF(SISWA!D166=0,\"\",SISWA!D166)","v":""},{"$f":"IF(SISWA!E166=0,\"\",SISWA!E166)","v":""},{"$f":"IF(SISWA!P165=0,\"\",SISWA!P165)","v":", 00 Januari 1900"},{"$f":"IF(SISWA!H166=0,\"\",SISWA!H166)","v":""},{"$f":"#REF!","v":{"$error":"#REF!"}},{"$f":"#REF!","v":{"$error":"#REF!"}},{"$error":"#REF!"},null,null,null,null,null,null,null,null,null,null,null,null,{"$f":"PKn!#REF!","v":{"$error":"#REF!"}},{"$f":"PKn!#REF!","v":{"$error":"#REF!"}},{"$error":"#REF!"},{"$f":"BID!#REF!","v":{"$error":"#REF!"}},{"$f":"BID!#REF!","v":{"$error":"#REF!"}},{"$error":"#REF!"},null,null,null,{"$f":"MTK!#REF!","v":{"$error":"#REF!"}},{"$f":"MTK!#REF!","v":{"$error":"#REF!"}},{"$error":"#REF!"},{"$f":"IPA!K166","v":{"$error":"#DIV/0!"}},{"$f":"IPA!N166","v":{"$error":"#DIV/0!"}},{"$error":"#DIV/0!"},{"$f":"IPS!#REF!","v":{"$error":"#REF!"}},{"$f":"IPS!#REF!","v":{"$error":"#REF!"}},{"$error":"#REF!"},{"$f":"SBK!#REF!","v":{"$error":"#REF!"}},{"$f":"SBK!#REF!","v":{"$error":"#REF!"}},{"$error":"#REF!"},{"$f":"PJK!#REF!","v":{"$error":"#REF!"}},{"$f":"PJK!#REF!","v":{"$error":"#REF!"}},{"$error":"#REF!"},{"$f":"BD!#REF!","v":{"$error":"#REF!"}},{"$f":"BD!#REF!","v":{"$error":"#REF!"}},{"$error":"#REF!"},{"$f":"BIG!K166","v":{"$error":"#DIV/0!"}},{"$f":"BIG!N166","v":{"$error":"#DIV/0!"}},{"$error":"#DIV/0!"},{"$f":"AWJ!N166","v":0},{"$f":"AWJ!P166","v":0},0,{"$error":"#REF!"},{"$error":"#REF!"},null,{"$error":"#REF!"},{"$error":"#REF!"},null,{"$error":"#REF!"},{"$error":"#DIV/0!"},{"$f":"IPA!L166","v":0},{"$error":"#DIV/0!"},0,{"$error":"#REF!"},0,{"$error":"#REF!"},{"$error":"#REF!"},{"$error":"#REF!"},{"$error":"#REF!"},{"$error":"#REF!"},{"$error":"#REF!"},{"$error":"#DIV/0!"},{"$error":"#DIV/0!"},{"$error":"#DIV/0!"},null,null,{"$error":"#REF!"},0,{"$error":"#REF!"},{"$error":"#REF!"},0,{"$error":"#REF!"},{"$error":"#DIV/0!"},0,{"$error":"#DIV/0!"},0,null,null,null,"159/Mi.13.05.162/PP.01.1/06/2020"]
[{"$f":"SISWA!A167","v":160},{"$f":"IF(SISWA!B167=0,\"\",SISWA!B167)","v":""},{"$f":"IF(SISWA!C167=0,\"\",SISWA!C167)","v":""},{"$f":"IF(SISWA!D167=0,\"\",SISWA!D167)","v":""},{"$f":"IF(SISWA!E167=0,\"\",SISWA!E167)","v":""},{"$f":"IF(SISWA!P166=0,\"\",SISWA!P166)","v":", 00 Januari 1900"},{"$f":"IF(SISWA!H167=0,\"\",SISWA!H167)","v":""},{"$f":"#REF!","v":{"$error":"#REF!"}},{"$f":"#REF!","v":{"$error":"#REF!"}},{"$error":"#REF!"},null,null,null,null,null,null,null,null,null,null,null,null,{"$f":"PKn!#REF!","v":{"$error":"#REF!"}},{"$f":"PKn!#REF!","v":{"$error":"#REF!"}},{"$error":"#REF!"},{"$f":"BID!#REF!","v":{"$error":"#REF!"}},{"$f":"BID!#REF!","v":{"$error":"#REF!"}},{"$error":"#REF!"},null,null,null,{"$f":"MTK!#REF!","v":{"$error":"#REF!"}},{"$f":"MTK!#REF!","v":{"$error":"#REF!"}},{"$error":"#REF!"},{"$f":"IPA!K167","v":{"$error":"#DIV/0!"}},{"$f":"IPA!N167","v":{"$error":"#DIV/0!"}},{"$error":"#DIV/0!"},{"$f":"IPS!#REF!","v":{"$error":"#REF!"}},{"$f":"IPS!#REF!","v":{"$error":"#REF!"}},{"$error":"#REF!"},{"$f":"SBK!#REF!","v":{"$error":"#REF!"}},{"$f":"SBK!#REF!","v":{"$error":"#REF!"}},{"$error":"#REF!"},{"$f":"PJK!#REF!","v":{"$error":"#REF!"}},{"$f":"PJK!#REF!","v":{"$error":"#REF!"}},{"$error":"#REF!"},{"$f":"BD!#REF!","v":{"$error":"#REF!"}},{"$f":"BD!#REF!","v":{"$error":"#REF!"}},{"$error":"#REF!"},{"$f":"BIG!K167","v":{"$error":"#DIV/0!"}},{"$f":"BIG!N167","v":{"$error":"#DIV/0!"}},{"$error":"#DIV/0!"},{"$f":"AWJ!N167","v":0},{"$f":"AWJ!P167","v":0},0,{"$error":"#REF!"},{"$error":"#REF!"},null,{"$error":"#REF!"},{"$error":"#REF!"},null,{"$error":"#REF!"},{"$error":"#DIV/0!"},{"$f":"IPA!L167","v":0},{"$error":"#DIV/0!"},0,{"$error":"#REF!"},0,{"$error":"#REF!"},{"$error":"#REF!"},{"$error":"#REF!"},{"$error":"#REF!"},{"$error":"#REF!"},{"$error":"#REF!"},{"$error":"#DIV/0!"},{"$error":"#DIV/0!"},{"$error":"#DIV/0!"},null,null,{"$error":"#REF!"},0,{"$error":"#REF!"},{"$error":"#REF!"},0,{"$error":"#REF!"},{"$error":"#DIV/0!"},0,{"$error":"#DIV/0!"},0,null,null,null,"160/Mi.13.05.162/PP.01.1/06/2020"]
[{"$f":"SISWA!A168","v":161},{"$f":"IF(SISWA!B168=0,\"\",SISWA!B168)","v":""},{"$f":"IF(SISWA!C168=0,\"\",SISWA!C168)","v":""},{"$f":"IF(SISWA!D168=0,\"\",SISWA!D168)","v":""},{"$f":"IF(SISWA!E168=0,\"\",SISWA!E168)","v":""},{"$f":"IF(SISWA!P167=0,\"\",SISWA!P167)","v":", 00 Januari 1900"},{"$f":"IF(SISWA!H168=0,\"\",SISWA!H168)","v":""},{"$f":"#REF!","v":{"$error":"#REF!"}},{"$f":"#REF!","v":{"$error":"#REF!"}},{"$f":"(H169*60%)+(I169*40%)","v":{"$error":"#REF!"}},null,null,null,null,null,null,null,null,null,null,null,null,{"$f":"PKn!#REF!","v":{"$error":"#REF!"}},{"$f":"PKn!#REF!","v":{"$error":"#REF!"}},{"$f":"(W169*60%)+(X169*40%)","v":{"$error":"#REF!"}},{"$f":"BID!#REF!","v":{"$error":"#REF!"}},{"$f":"BID!#REF!","v":{"$error":"#REF!"}},{"$f":"(Z169*60%)+(AA169*40%)","v":{"$error":"#REF!"}},null,null,null,{"$f":"MTK!#REF!","v":{"$error":"#REF!"}},{"$f":"MTK!#REF!","v":{"$error":"#REF!"}},{"$f":"(AF169*60%)+(AG169*40%)","v":{"$error":"#REF!"}},{"$f":"IPA!K168","v":{"$error":"#DIV/0!"}},{"$f":"IPA!N168","v":{"$error":"#DIV/0!"}},{"$f":"(AI169*60%)+(AJ169*40%)","v":{"$error":"#DIV/0!"}},{"$f":"IPS!#REF!","v":{"$error":"#REF!"}},{"$f":"IPS!#REF!","v":{"$error":"#REF!"}},{"$f":"(AL169*60%)+(AM169*40%)","v":{"$error":"#REF!"}},{"$f":"SBK!#REF!","v":{"$error":"#REF!"}},{"$f":"SBK!#REF!","v":{"$error":"#REF!"}},{"$f":"(AO169*60%)+(AP169*40%)","v":{"$error":"#REF!"}},{"$f":"PJK!#REF!","v":{"$error":"#REF!"}},{"$f":"PJK!#REF!","v":{"$error":"#REF!"}},{"$f":"(AR169*60%)+(AS169*40%)","v":{"$error":"#REF!"}},{"$f":"BD!#REF!","v":{"$error":"#REF!"}},{"$f":"BD!#REF!","v":{"$error":"#REF!"}},{"$f":"(AU169*60%)+(AV169*40%)","v":{"$error":"#REF!"}},{"$f":"BIG!K168","v":{"$error":"#DIV/0!"}},{"$f":"BIG!N168","v":{"$error":"#DIV/0!"}},{"$f":"(AX169*60%)+(AY169*40%)","v":{"$error":"#DIV/0!"}},{"$f":"AWJ!N168","v":0},{"$f":"AWJ!P168","v":0},0,{"$error":"#REF!"},{"$f":"AB169","v":{"$error":"#REF!"}},null,{"$f":"(BE169*60%)+(BF169*40%)","v":{"$error":"#REF!"}},{"$f":"AH169","v":{"$error":"#REF!"}},null,{"$f":"(BH169*60%)+(BI169*40%)","v":{"$error":"#REF!"}},{"$f":"AK169","v":{"$error":"#DIV/0!"}},{"$f":"IPA!L168","v":0},{"$f":"(BK169*60%)+(BL169*40%)","v":{"$error":"#DIV/0!"}},0,{"$f":"SUM(BG169,BJ169,BM169)","v":{"$error":"#REF!"}},0,{"$error":"#REF!"},{"$error":"#REF!"},{"$error":"#REF!"},{"$error":"#REF!"},{"$error":"#REF!"},{"$error":"#REF!"},{"$error":"#DIV/0!"},{"$error":"#DIV/0!"},{"$error":"#DIV/0!"},null,null,{"$error":"#REF!"},0,{"$error":"#REF!"},{"$error":"#REF!"},0,{"$error":"#REF!"},{"$error":"#DIV/0!"},0,{"$error":"#DIV/0!"},0,null,null,null,"161/Mi.13.05.162/PP.01.1/06/2020"]
[{"$f":"SISWA!A169","v":162},{"$f":"IF(SISWA!B169=0,\"\",SISWA!B169)","v":""},{"$f":"IF(SISWA!C169=0,\"\",SISWA!C169)","v":""},{"$f":"IF(SISWA!D169=0,\"\",SISWA!D169)","v":""},{"$f":"IF(SISWA!E169=0,\"\",SISWA!E169)","v":""},{"$f":"IF(SISWA!P168=0,\"\",SISWA!P168)","v":", 00 Januari 1900"},{"$f":"IF(SISWA!H169=0,\"\",SISWA!H169)","v":""},{"$f":"#REF!","v":{"$error":"#REF!"}},{"$f":"#REF!","v":{"$error":"#REF!"}},{"$error":"#REF!"},null,null,null,null,null,null,null,null,null,null,null,null,{"$f":"PKn!#REF!","v":{"$error":"#REF!"}},{"$f":"PKn!#REF!","v":{"$error":"#REF!"}},{"$error":"#REF!"},{"$f":"BID!#REF!","v":{"$error":"#REF!"}},{"$f":"BID!#REF!","v":{"$error":"#REF!"}},{"$error":"#REF!"},null,null,null,{"$f":"MTK!#REF!","v":{"$error":"#REF!"}},{"$f":"MTK!#REF!","v":{"$error":"#REF!"}},{"$error":"#REF!"},{"$f":"IPA!K169","v":{"$error":"#DIV/0!"}},{"$f":"IPA!N169","v":{"$error":"#DIV/0!"}},{"$error":"#DIV/0!"},{"$f":"IPS!#REF!","v":{"$error":"#REF!"}},{"$f":"IPS!#REF!","v":{"$error":"#REF!"}},{"$error":"#REF!"},{"$f":"SBK!#REF!","v":{"$error":"#REF!"}},{"$f":"SBK!#REF!","v":{"$error":"#REF!"}},{"$error":"#REF!"},{"$f":"PJK!#REF!","v":{"$error":"#REF!"}},{"$f":"PJK!#REF!","v":{"$error":"#REF!"}},{"$error":"#REF!"},{"$f":"BD!#REF!","v":{"$error":"#REF!"}},{"$f":"BD!#REF!","v":{"$error":"#REF!"}},{"$error":"#REF!"},{"$f":"BIG!K169","v":{"$error":"#DIV/0!"}},{"$f":"BIG!N169","v":{"$error":"#DIV/0!"}},{"$error":"#DIV/0!"},{"$f":"AWJ!N169","v":0},{"$f":"AWJ!P169","v":0},0,{"$error":"#REF!"},{"$error":"#REF!"},null,{"$error":"#REF!"},{"$error":"#REF!"},null,{"$error":"#REF!"},{"$error":"#DIV/0!"},{"$f":"IPA!L169","v":0},{"$error":"#DIV/0!"},0,{"$error":"#REF!"},0,{"$error":"#REF!"},{"$error":"#REF!"},{"$error":"#REF!"},{"$error":"#REF!"},{"$error":"#REF!"},{"$error":"#REF!"},{"$error":"#DIV/0!"},{"$error":"#DIV/0!"},{"$error":"#DIV/0!"},null,null,{"$error":"#REF!"},0,{"$error":"#REF!"},{"$error":"#REF!"},0,{"$error":"#REF!"},{"$error":"#DIV/0!"},0,{"$error":"#DIV/0!"},0,null,null,null,"162/Mi.13.05.162/PP.01.1/06/2020"]
[{"$f":"SISWA!A170","v":163},{"$f":"IF(SISWA!B170=0,\"\",SISWA!B170)","v":""},{"$f":"IF(SISWA!C170=0,\"\",SISWA!C170)","v":""},{"$f":"IF(SISWA!D170=0,\"\",SISWA!D170)","v":""},{"$f":"IF(SISWA!E170=0,\"\",SISWA!E170)","v":""},{"$f":"IF(SISWA!P169=0,\"\",SISWA!P169)","v":", 00 Januari 1900"},{"$f":"IF(SISWA!H170=0,\"\",SISWA!H170)","v":""},{"$f":"#REF!","v":{"$error":"#REF!"}},{"$f":"#REF!","v":{"$error":"#REF!"}},{"$error":"#REF!"},null,null,null,null,null,null,null,null,null,null,null,null,{"$f":"PKn!#REF!","v":{"$error":"#REF!"}},{"$f":"PKn!#REF!","v":{"$error":"#REF!"}},{"$error":"#REF!"},{"$f":"BID!#REF!","v":{"$error":"#REF!"}},{"$f":"BID!#REF!","v":{"$error":"#REF!"}},{"$error":"#REF!"},null,null,null,{"$f":"MTK!#REF!","v":{"$error":"#REF!"}},{"$f":"MTK!#REF!","v":{"$error":"#REF!"}},{"$error":"#REF!"},{"$f":"IPA!K170","v":{"$error":"#DIV/0!"}},{"$f":"IPA!N170","v":{"$error":"#DIV/0!"}},{"$error":"#DIV/0!"},{"$f":"IPS!#REF!","v":{"$error":"#REF!"}},{"$f":"IPS!#REF!","v":{"$error":"#REF!"}},{"$error":"#REF!"},{"$f":"SBK!#REF!","v":{"$error":"#REF!"}},{"$f":"SBK!#REF!","v":{"$error":"#REF!"}},{"$error":"#REF!"},{"$f":"PJK!#REF!","v":{"$error":"#REF!"}},{"$f":"PJK!#REF!","v":{"$error":"#REF!"}},{"$error":"#REF!"},{"$f":"BD!#REF!","v":{"$error":"#REF!"}},{"$f":"BD!#REF!","v":{"$error":"#REF!"}},{"$error":"#REF!"},{"$f":"BIG!K170","v":{"$error":"#DIV/0!"}},{"$f":"BIG!N170","v":{"$error":"#DIV/0!"}},{"$error":"#DIV/0!"},{"$f":"AWJ!N170","v":0},{"$f":"AWJ!P170","v":0},0,{"$error":"#REF!"},{"$error":"#REF!"},null,{"$error":"#REF!"},{"$error":"#REF!"},null,{"$error":"#REF!"},{"$error":"#DIV/0!"},{"$f":"IPA!L170","v":0},{"$error":"#DIV/0!"},0,{"$error":"#REF!"},0,{"$error":"#REF!"},{"$error":"#REF!"},{"$error":"#REF!"},{"$error":"#REF!"},{"$error":"#REF!"},{"$error":"#REF!"},{"$error":"#DIV/0!"},{"$error":"#DIV/0!"},{"$error":"#DIV/0!"},null,null,{"$error":"#REF!"},0,{"$error":"#REF!"},{"$error":"#REF!"},0,{"$error":"#REF!"},{"$error":"#DIV/0!"},0,{"$error":"#DIV/0!"},0,null,null,null,"163/Mi.13.05.162/PP.01.1/06/2020"]
[{"$f":"SISWA!A171","v":164},{"$f":"IF(SISWA!B171=0,\"\",SISWA!B171)","v":""},{"$f":"IF(SISWA!C171=0,\"\",SISWA!C171)","v":""},{"$f":"IF(SISWA!D171=0,\"\",SISWA!D171)","v":""},{"$f":"IF(SISWA!E171=0,\"\",SISWA!E171)","v":""},{"$f":"IF(SISWA!P170=0,\"\",SISWA!P170)","v":", 00 Januari 1900"},{"$f":"IF(SISWA!H171=0,\"\",SISWA!H171)","v":""},{"$f":"#REF!","v":{"$error":"#REF!"}},{"$f":"#REF!","v":{"$error":"#REF!"}},{"$error":"#REF!"},null,null,null,null,null,null,null,null,null,null,null,null,{"$f":"PKn!#REF!","v":{"$error":"#REF!"}},{"$f":"PKn!#REF!","v":{"$error":"#REF!"}},{"$error":"#REF!"},{"$f":"BID!#REF!","v":{"$error":"#REF!"}},{"$f":"BID!#REF!","v":{"$error":"#REF!"}},{"$error":"#REF!"},null,null,null,{"$f":"MTK!#REF!","v":{"$error":"#REF!"}},{"$f":"MTK!#REF!","v":{"$error":"#REF!"}},{"$error":"#REF!"},{"$f":"IPA!K171","v":{"$error":"#DIV/0!"}},{"$f":"IPA!N171","v":{"$error":"#DIV/0!"}},{"$error":"#DIV/0!"},{"$f":"IPS!#REF!","v":{"$error":"#REF!"}},{"$f":"IPS!#REF!","v":{"$error":"#REF!"}},{"$error":"#REF!"},{"$f":"SBK!#REF!","v":{"$error":"#REF!"}},{"$f":"SBK!#REF!","v":{"$error":"#REF!"}},{"$error":"#REF!"},{"$f":"PJK!#REF!","v":{"$error":"#REF!"}},{"$f":"PJK!#REF!","v":{"$error":"#REF!"}},{"$error":"#REF!"},{"$f":"BD!#REF!","v":{"$error":"#REF!"}},{"$f":"BD!#REF!","v":{"$error":"#REF!"}},{"$error":"#REF!"},{"$f":"BIG!K171","v":{"$error":"#DIV/0!"}},{"$f":"BIG!N171","v":{"$error":"#DIV/0!"}},{"$error":"#DIV/0!"},{"$f":"AWJ!N171","v":0},{"$f":"AWJ!P171","v":0},0,{"$error":"#REF!"},{"$error":"#REF!"},null,{"$error":"#REF!"},{"$error":"#REF!"},null,{"$error":"#REF!"},{"$error":"#DIV/0!"},{"$f":"IPA!L171","v":0},{"$error":"#DIV/0!"},0,{"$error":"#REF!"},0,{"$error":"#REF!"},{"$error":"#REF!"},{"$error":"#REF!"},{"$error":"#REF!"},{"$error":"#REF!"},{"$error":"#REF!"},{"$error":"#DIV/0!"},{"$error":"#DIV/0!"},{"$error":"#DIV/0!"},null,null,{"$error":"#REF!"},0,{"$error":"#REF!"},{"$error":"#REF!"},0,{"$error":"#REF!"},{"$error":"#DIV/0!"},0,{"$error":"#DIV/0!"},0,null,null,null,"164/Mi.13.05.162/PP.01.1/06/2020"]
[{"$f":"SISWA!A172","v":165},{"$f":"IF(SISWA!B172=0,\"\",SISWA!B172)","v":""},{"$f":"IF(SISWA!C172=0,\"\",SISWA!C172)","v":""},{"$f":"IF(SISWA!D172=0,\"\",SISWA!D172)","v":""},{"$f":"IF(SISWA!E172=0,\"\",SISWA!E172)","v":""},{"$f":"IF(SISWA!P171=0,\"\",SISWA!P171)","v":", 00 Januari 1900"},{"$f":"IF(SISWA!H172=0,\"\",SISWA!H172)","v":""},{"$f":"#REF!","v":{"$error":"#REF!"}},{"$f":"#REF!","v":{"$error":"#REF!"}},{"$error":"#REF!"},null,null,null,null,null,null,null,null,null,null,null,null,{"$f":"PKn!#REF!","v":{"$error":"#REF!"}},{"$f":"PKn!#REF!","v":{"$error":"#REF!"}},{"$error":"#REF!"},{"$f":"BID!#REF!","v":{"$error":"#REF!"}},{"$f":"BID!#REF!","v":{"$error":"#REF!"}},{"$error":"#REF!"},null,null,null,{"$f":"MTK!#REF!","v":{"$error":"#REF!"}},{"$f":"MTK!#REF!","v":{"$error":"#REF!"}},{"$error":"#REF!"},{"$f":"IPA!K172","v":{"$error":"#DIV/0!"}},{"$f":"IPA!N172","v":{"$error":"#DIV/0!"}},{"$error":"#DIV/0!"},{"$f":"IPS!#REF!","v":{"$error":"#REF!"}},{"$f":"IPS!#REF!","v":{"$error":"#REF!"}},{"$error":"#REF!"},{"$f":"SBK!#REF!","v":{"$error":"#REF!"}},{"$f":"SBK!#REF!","v":{"$error":"#REF!"}},{"$error":"#REF!"},{"$f":"PJK!#REF!","v":{"$error":"#REF!"}},{"$f":"PJK!#REF!","v":{"$error":"#REF!"}},{"$error":"#REF!"},{"$f":"BD!#REF!","v":{"$error":"#REF!"}},{"$f":"BD!#REF!","v":{"$error":"#REF!"}},{"$error":"#REF!"},{"$f":"BIG!K172","v":{"$error":"#DIV/0!"}},{"$f":"BIG!N172","v":{"$error":"#DIV/0!"}},{"$error":"#DIV/0!"},{"$f":"AWJ!N172","v":0},{"$f":"AWJ!P172","v":0},0,{"$error":"#REF!"},{"$error":"#REF!"},null,{"$error":"#REF!"},{"$error":"#REF!"},null,{"$error":"#REF!"},{"$error":"#DIV/0!"},{"$f":"IPA!L172","v":0},{"$error":"#DIV/0!"},0,{"$error":"#REF!"},0,{"$error":"#REF!"},{"$error":"#REF!"},{"$error":"#REF!"},{"$error":"#REF!"},{"$error":"#REF!"},{"$error":"#REF!"},{"$error":"#DIV/0!"},{"$error":"#DIV/0!"},{"$error":"#DIV/0!"},null,null,{"$error":"#REF!"},0,{"$error":"#REF!"},{"$error":"#REF!"},0,{"$error":"#REF!"},{"$error":"#DIV/0!"},0,{"$error":"#DIV/0!"},0,null,null,null,{"$f":"A173&\"/Mi.13.05.162/PP.01.1/06/2020\"","v":"165/Mi.13.05.162/PP.01.1/06/2020"}]
[{"$f":"SISWA!A173","v":166},{"$f":"IF(SISWA!B173=0,\"\",SISWA!B173)","v":""},{"$f":"IF(SISWA!C173=0,\"\",SISWA!C173)","v":""},{"$f":"IF(SISWA!D173=0,\"\",SISWA!D173)","v":""},{"$f":"IF(SISWA!E173=0,\"\",SISWA!E173)","v":""},{"$f":"IF(SISWA!P172=0,\"\",SISWA!P172)","v":", 00 Januari 1900"},{"$f":"IF(SISWA!H173=0,\"\",SISWA!H173)","v":""},{"$f":"#REF!","v":{"$error":"#REF!"}},{"$f":"#REF!","v":{"$error":"#REF!"}},{"$error":"#REF!"},null,null,null,null,null,null,null,null,null,null,null,null,{"$f":"PKn!#REF!","v":{"$error":"#REF!"}},{"$f":"PKn!#REF!","v":{"$error":"#REF!"}},{"$error":"#REF!"},{"$f":"BID!#REF!","v":{"$error":"#REF!"}},{"$f":"BID!#REF!","v":{"$error":"#REF!"}},{"$error":"#REF!"},null,null,null,{"$f":"MTK!#REF!","v":{"$error":"#REF!"}},{"$f":"MTK!#REF!","v":{"$error":"#REF!"}},{"$error":"#REF!"},{"$f":"IPA!K173","v":{"$error":"#DIV/0!"}},{"$f":"IPA!N173","v":{"$error":"#DIV/0!"}},{"$error":"#DIV/0!"},{"$f":"IPS!#REF!","v":{"$error":"#REF!"}},{"$f":"IPS!#REF!","v":{"$error":"#REF!"}},{"$error":"#REF!"},{"$f":"SBK!#REF!","v":{"$error":"#REF!"}},{"$f":"SBK!#REF!","v":{"$error":"#REF!"}},{"$error":"#REF!"},{"$f":"PJK!#REF!","v":{"$error":"#REF!"}},{"$f":"PJK!#REF!","v":{"$error":"#REF!"}},{"$error":"#REF!"},{"$f":"BD!#REF!","v":{"$error":"#REF!"}},{"$f":"BD!#REF!","v":{"$error":"#REF!"}},{"$error":"#REF!"},{"$f":"BIG!K173","v":{"$error":"#DIV/0!"}},{"$f":"BIG!N173","v":{"$error":"#DIV/0!"}},{"$error":"#DIV/0!"},{"$f":"AWJ!N173","v":0},{"$f":"AWJ!P173","v":0},0,{"$error":"#REF!"},{"$error":"#REF!"},null,{"$error":"#REF!"},{"$error":"#REF!"},null,{"$error":"#REF!"},{"$error":"#DIV/0!"},{"$f":"IPA!L173","v":0},{"$error":"#DIV/0!"},0,{"$error":"#REF!"},0,{"$error":"#REF!"},{"$error":"#REF!"},{"$error":"#REF!"},{"$error":"#REF!"},{"$error":"#REF!"},{"$error":"#REF!"},{"$error":"#DIV/0!"},{"$error":"#DIV/0!"},{"$error":"#DIV/0!"},null,null,{"$error":"#REF!"},0,{"$error":"#REF!"},{"$error":"#REF!"},0,{"$error":"#REF!"},{"$error":"#DIV/0!"},0,{"$error":"#DIV/0!"},0,null,null,null,"166/Mi.13.05.162/PP.01.1/06/2020"]
[{"$f":"SISWA!A174","v":167},{"$f":"IF(SISWA!B174=0,\"\",SISWA!B174)","v":""},{"$f":"IF(SISWA!C174=0,\"\",SISWA!C174)","v":""},{"$f":"IF(SISWA!D174=0,\"\",SISWA!D174)","v":""},{"$f":"IF(SISWA!E174=0,\"\",SISWA!E174)","v":""},{"$f":"IF(SISWA!P173=0,\"\",SISWA!P173)","v":", 00 Januari 1900"},{"$f":"IF(SISWA!H174=0,\"\",SISWA!H174)","v":""},{"$f":"#REF!","v":{"$error":"#REF!"}},{"$f":"#REF!","v":{"$error":"#REF!"}},{"$error":"#REF!"},null,null,null,null,null,null,null,null,null,null,null,null,{"$f":"PKn!#REF!","v":{"$error":"#REF!"}},{"$f":"PKn!#REF!","v":{"$error":"#REF!"}},{"$error":"#REF!"},{"$f":"BID!#REF!","v":{"$error":"#REF!"}},{"$f":"BID!#REF!","v":{"$error":"#REF!"}},{"$error":"#REF!"},null,null,null,{"$f":"MTK!#REF!","v":{"$error":"#REF!"}},{"$f":"MTK!#REF!","v":{"$error":"#REF!"}},{"$error":"#REF!"},{"$f":"IPA!K174","v":{"$error":"#DIV/0!"}},{"$f":"IPA!N174","v":{"$error":"#DIV/0!"}},{"$error":"#DIV/0!"},{"$f":"IPS!#REF!","v":{"$error":"#REF!"}},{"$f":"IPS!#REF!","v":{"$error":"#REF!"}},{"$error":"#REF!"},{"$f":"SBK!#REF!","v":{"$error":"#REF!"}},{"$f":"SBK!#REF!","v":{"$error":"#REF!"}},{"$error":"#REF!"},{"$f":"PJK!#REF!","v":{"$error":"#REF!"}},{"$f":"PJK!#REF!","v":{"$error":"#REF!"}},{"$error":"#REF!"},{"$f":"BD!#REF!","v":{"$error":"#REF!"}},{"$f":"BD!#REF!","v":{"$error":"#REF!"}},{"$error":"#REF!"},{"$f":"BIG!K174","v":{"$error":"#DIV/0!"}},{"$f":"BIG!N174","v":{"$error":"#DIV/0!"}},{"$error":"#DIV/0!"},{"$f":"AWJ!N174","v":0},{"$f":"AWJ!P174","v":0},0,{"$error":"#REF!"},{"$error":"#REF!"},null,{"$error":"#REF!"},{"$error":"#REF!"},null,{"$error":"#REF!"},{"$error":"#DIV/0!"},{"$f":"IPA!L174","v":0},{"$error":"#DIV/0!"},0,{"$error":"#REF!"},0,{"$error":"#REF!"},{"$error":"#REF!"},{"$error":"#REF!"},{"$error":"#REF!"},{"$error":"#REF!"},{"$error":"#REF!"},{"$error":"#DIV/0!"},{"$error":"#DIV/0!"},{"$error":"#DIV/0!"},null,null,{"$error":"#REF!"},0,{"$error":"#REF!"},{"$error":"#REF!"},0,{"$error":"#REF!"},{"$error":"#DIV/0!"},0,{"$error":"#DIV/0!"},0,null,null,null,"167/Mi.13.05.162/PP.01.1/06/2020"]
[{"$f":"SISWA!A175","v":168},{"$f":"IF(SISWA!B175=0,\"\",SISWA!B175)","v":""},{"$f":"IF(SISWA!C175=0,\"\",SISWA!C175)","v":""},{"$f":"IF(SISWA!D175=0,\"\",SISWA!D175)","v":""},{"$f":"IF(SISWA!E175=0,\"\",SISWA!E175)","v":""},{"$f":"IF(SISWA!P174=0,\"\",SISWA!P174)","v":", 00 Januari 1900"},{"$f":"IF(SISWA!H175=0,\"\",SISWA!H175)","v":""},{"$f":"#REF!","v":{"$error":"#REF!"}},{"$f":"#REF!","v":{"$error":"#REF!"}},{"$error":"#REF!"},null,null,null,null,null,null,null,null,null,null,null,null,{"$f":"PKn!#REF!","v":{"$error":"#REF!"}},{"$f":"PKn!#REF!","v":{"$error":"#REF!"}},{"$error":"#REF!"},{"$f":"BID!#REF!","v":{"$error":"#REF!"}},{"$f":"BID!#REF!","v":{"$error":"#REF!"}},{"$error":"#REF!"},null,null,null,{"$f":"MTK!#REF!","v":{"$error":"#REF!"}},{"$f":"MTK!#REF!","v":{"$error":"#REF!"}},{"$error":"#REF!"},{"$f":"IPA!K175","v":{"$error":"#DIV/0!"}},{"$f":"IPA!N175","v":{"$error":"#DIV/0!"}},{"$error":"#DIV/0!"},{"$f":"IPS!#REF!","v":{"$error":"#REF!"}},{"$f":"IPS!#REF!","v":{"$error":"#REF!"}},{"$error":"#REF!"},{"$f":"SBK!#REF!","v":{"$error":"#REF!"}},{"$f":"SBK!#REF!","v":{"$error":"#REF!"}},{"$error":"#REF!"},{"$f":"PJK!#REF!","v":{"$error":"#REF!"}},{"$f":"PJK!#REF!","v":{"$error":"#REF!"}},{"$error":"#REF!"},{"$f":"BD!#REF!","v":{"$error":"#REF!"}},{"$f":"BD!#REF!","v":{"$error":"#REF!"}},{"$error":"#REF!"},{"$f":"BIG!K175","v":{"$error":"#DIV/0!"}},{"$f":"BIG!N175","v":{"$error":"#DIV/0!"}},{"$error":"#DIV/0!"},{"$f":"AWJ!N175","v":0},{"$f":"AWJ!P175","v":0},0,{"$error":"#REF!"},{"$error":"#REF!"},null,{"$error":"#REF!"},{"$error":"#REF!"},null,{"$error":"#REF!"},{"$error":"#DIV/0!"},{"$f":"IPA!L175","v":0},{"$error":"#DIV/0!"},0,{"$error":"#REF!"},0,{"$error":"#REF!"},{"$error":"#REF!"},{"$error":"#REF!"},{"$error":"#REF!"},{"$error":"#REF!"},{"$error":"#REF!"},{"$error":"#DIV/0!"},{"$error":"#DIV/0!"},{"$error":"#DIV/0!"},null,null,{"$error":"#REF!"},0,{"$error":"#REF!"},{"$error":"#REF!"},0,{"$error":"#REF!"},{"$error":"#DIV/0!"},0,{"$error":"#DIV/0!"},0,null,null,null,"168/Mi.13.05.162/PP.01.1/06/2020"]
[{"$f":"SISWA!A176","v":169},{"$f":"IF(SISWA!B176=0,\"\",SISWA!B176)","v":""},{"$f":"IF(SISWA!C176=0,\"\",SISWA!C176)","v":""},{"$f":"IF(SISWA!D176=0,\"\",SISWA!D176)","v":""},{"$f":"IF(SISWA!E176=0,\"\",SISWA!E176)","v":""},{"$f":"IF(SISWA!P175=0,\"\",SISWA!P175)","v":", 00 Januari 1900"},{"$f":"IF(SISWA!H176=0,\"\",SISWA!H176)","v":""},{"$f":"#REF!","v":{"$error":"#REF!"}},{"$f":"#REF!","v":{"$error":"#REF!"}},{"$error":"#REF!"},null,null,null,null,null,null,null,null,null,null,null,null,{"$f":"PKn!#REF!","v":{"$error":"#REF!"}},{"$f":"PKn!#REF!","v":{"$error":"#REF!"}},{"$error":"#REF!"},{"$f":"BID!#REF!","v":{"$error":"#REF!"}},{"$f":"BID!#REF!","v":{"$error":"#REF!"}},{"$error":"#REF!"},null,null,null,{"$f":"MTK!#REF!","v":{"$error":"#REF!"}},{"$f":"MTK!#REF!","v":{"$error":"#REF!"}},{"$error":"#REF!"},{"$f":"IPA!K176","v":{"$error":"#DIV/0!"}},{"$f":"IPA!N176","v":{"$error":"#DIV/0!"}},{"$error":"#DIV/0!"},{"$f":"IPS!#REF!","v":{"$error":"#REF!"}},{"$f":"IPS!#REF!","v":{"$error":"#REF!"}},{"$error":"#REF!"},{"$f":"SBK!#REF!","v":{"$error":"#REF!"}},{"$f":"SBK!#REF!","v":{"$error":"#REF!"}},{"$error":"#REF!"},{"$f":"PJK!#REF!","v":{"$error":"#REF!"}},{"$f":"PJK!#REF!","v":{"$error":"#REF!"}},{"$error":"#REF!"},{"$f":"BD!#REF!","v":{"$error":"#REF!"}},{"$f":"BD!#REF!","v":{"$error":"#REF!"}},{"$error":"#REF!"},{"$f":"BIG!K176","v":{"$error":"#DIV/0!"}},{"$f":"BIG!N176","v":{"$error":"#DIV/0!"}},{"$error":"#DIV/0!"},{"$f":"AWJ!N176","v":0},{"$f":"AWJ!P176","v":0},0,{"$error":"#REF!"},{"$error":"#REF!"},null,{"$error":"#REF!"},{"$error":"#REF!"},null,{"$error":"#REF!"},{"$error":"#DIV/0!"},{"$f":"IPA!L176","v":0},{"$error":"#DIV/0!"},0,{"$error":"#REF!"},0,{"$error":"#REF!"},{"$error":"#REF!"},{"$error":"#REF!"},{"$error":"#REF!"},{"$error":"#REF!"},{"$error":"#REF!"},{"$error":"#DIV/0!"},{"$error":"#DIV/0!"},{"$error":"#DIV/0!"},null,null,{"$error":"#REF!"},0,{"$error":"#REF!"},{"$error":"#REF!"},0,{"$error":"#REF!"},{"$error":"#DIV/0!"},0,{"$error":"#DIV/0!"},0,null,null,null,"169/Mi.13.05.162/PP.01.1/06/2020"]
[{"$f":"SISWA!A177","v":170},{"$f":"IF(SISWA!B177=0,\"\",SISWA!B177)","v":""},{"$f":"IF(SISWA!C177=0,\"\",SISWA!C177)","v":""},{"$f":"IF(SISWA!D177=0,\"\",SISWA!D177)","v":""},{"$f":"IF(SISWA!E177=0,\"\",SISWA!E177)","v":""},{"$f":"IF(SISWA!P176=0,\"\",SISWA!P176)","v":", 00 Januari 1900"},{"$f":"IF(SISWA!H177=0,\"\",SISWA!H177)","v":""},{"$f":"#REF!","v":{"$error":"#REF!"}},{"$f":"#REF!","v":{"$error":"#REF!"}},{"$error":"#REF!"},null,null,null,null,null,null,null,null,null,null,null,null,{"$f":"PKn!#REF!","v":{"$error":"#REF!"}},{"$f":"PKn!#REF!","v":{"$error":"#REF!"}},{"$error":"#REF!"},{"$f":"BID!#REF!","v":{"$error":"#REF!"}},{"$f":"BID!#REF!","v":{"$error":"#REF!"}},{"$error":"#REF!"},null,null,null,{"$f":"MTK!#REF!","v":{"$error":"#REF!"}},{"$f":"MTK!#REF!","v":{"$error":"#REF!"}},{"$error":"#REF!"},{"$f":"IPA!K177","v":{"$error":"#DIV/0!"}},{"$f":"IPA!N177","v":{"$error":"#DIV/0!"}},{"$error":"#DIV/0!"},{"$f":"IPS!#REF!","v":{"$error":"#REF!"}},{"$f":"IPS!#REF!","v":{"$error":"#REF!"}},{"$error":"#REF!"},{"$f":"SBK!#REF!","v":{"$error":"#REF!"}},{"$f":"SBK!#REF!","v":{"$error":"#REF!"}},{"$error":"#REF!"},{"$f":"PJK!#REF!","v":{"$error":"#REF!"}},{"$f":"PJK!#REF!","v":{"$error":"#REF!"}},{"$error":"#REF!"},{"$f":"BD!#REF!","v":{"$error":"#REF!"}},{"$f":"BD!#REF!","v":{"$error":"#REF!"}},{"$error":"#REF!"},{"$f":"BIG!K177","v":{"$error":"#DIV/0!"}},{"$f":"BIG!N177","v":{"$error":"#DIV/0!"}},{"$error":"#DIV/0!"},{"$f":"AWJ!N177","v":0},{"$f":"AWJ!P177","v":0},0,{"$error":"#REF!"},{"$error":"#REF!"},null,{"$error":"#REF!"},{"$error":"#REF!"},null,{"$error":"#REF!"},{"$error":"#DIV/0!"},{"$f":"IPA!L177","v":0},{"$error":"#DIV/0!"},0,{"$error":"#REF!"},0,{"$error":"#REF!"},{"$error":"#REF!"},{"$error":"#REF!"},{"$error":"#REF!"},{"$error":"#REF!"},{"$error":"#REF!"},{"$error":"#DIV/0!"},{"$error":"#DIV/0!"},{"$error":"#DIV/0!"},null,null,{"$error":"#REF!"},0,{"$error":"#REF!"},{"$error":"#REF!"},0,{"$error":"#REF!"},{"$error":"#DIV/0!"},0,{"$error":"#DIV/0!"},0,null,null,null,"170/Mi.13.05.162/PP.01.1/06/2020"]
[{"$f":"SISWA!A178","v":171},{"$f":"IF(SISWA!B178=0,\"\",SISWA!B178)","v":""},{"$f":"IF(SISWA!C178=0,\"\",SISWA!C178)","v":""},{"$f":"IF(SISWA!D178=0,\"\",SISWA!D178)","v":""},{"$f":"IF(SISWA!E178=0,\"\",SISWA!E178)","v":""},{"$f":"IF(SISWA!P177=0,\"\",SISWA!P177)","v":", 00 Januari 1900"},{"$f":"IF(SISWA!H178=0,\"\",SISWA!H178)","v":""},{"$f":"#REF!","v":{"$error":"#REF!"}},{"$f":"#REF!","v":{"$error":"#REF!"}},{"$error":"#REF!"},null,null,null,null,null,null,null,null,null,null,null,null,{"$f":"PKn!#REF!","v":{"$error":"#REF!"}},{"$f":"PKn!#REF!","v":{"$error":"#REF!"}},{"$error":"#REF!"},{"$f":"BID!#REF!","v":{"$error":"#REF!"}},{"$f":"BID!#REF!","v":{"$error":"#REF!"}},{"$error":"#REF!"},null,null,null,{"$f":"MTK!#REF!","v":{"$error":"#REF!"}},{"$f":"MTK!#REF!","v":{"$error":"#REF!"}},{"$error":"#REF!"},{"$f":"IPA!K178","v":{"$error":"#DIV/0!"}},{"$f":"IPA!N178","v":{"$error":"#DIV/0!"}},{"$error":"#DIV/0!"},{"$f":"IPS!#REF!","v":{"$error":"#REF!"}},{"$f":"IPS!#REF!","v":{"$error":"#REF!"}},{"$error":"#REF!"},{"$f":"SBK!#REF!","v":{"$error":"#REF!"}},{"$f":"SBK!#REF!","v":{"$error":"#REF!"}},{"$error":"#REF!"},{"$f":"PJK!#REF!","v":{"$error":"#REF!"}},{"$f":"PJK!#REF!","v":{"$error":"#REF!"}},{"$error":"#REF!"},{"$f":"BD!#REF!","v":{"$error":"#REF!"}},{"$f":"BD!#REF!","v":{"$error":"#REF!"}},{"$error":"#REF!"},{"$f":"BIG!K178","v":{"$error":"#DIV/0!"}},{"$f":"BIG!N178","v":{"$error":"#DIV/0!"}},{"$error":"#DIV/0!"},{"$f":"AWJ!N178","v":0},{"$f":"AWJ!P178","v":0},0,{"$error":"#REF!"},{"$error":"#REF!"},null,{"$error":"#REF!"},{"$error":"#REF!"},null,{"$error":"#REF!"},{"$error":"#DIV/0!"},{"$f":"IPA!L178","v":0},{"$error":"#DIV/0!"},0,{"$error":"#REF!"},0,{"$error":"#REF!"},{"$error":"#REF!"},{"$error":"#REF!"},{"$error":"#REF!"},{"$error":"#REF!"},{"$error":"#REF!"},{"$error":"#DIV/0!"},{"$error":"#DIV/0!"},{"$error":"#DIV/0!"},null,null,{"$error":"#REF!"},0,{"$error":"#REF!"},{"$error":"#REF!"},0,{"$error":"#REF!"},{"$error":"#DIV/0!"},0,{"$error":"#DIV/0!"},0,null,null,null,"171/Mi.13.05.162/PP.01.1/06/2020"]
[{"$f":"SISWA!A179","v":172},{"$f":"IF(SISWA!B179=0,\"\",SISWA!B179)","v":""},{"$f":"IF(SISWA!C179=0,\"\",SISWA!C179)","v":""},{"$f":"IF(SISWA!D179=0,\"\",SISWA!D179)","v":""},{"$f":"IF(SISWA!E179=0,\"\",SISWA!E179)","v":""},{"$f":"IF(SISWA!P178=0,\"\",SISWA!P178)","v":", 00 Januari 1900"},{"$f":"IF(SISWA!H179=0,\"\",SISWA!H179)","v":""},{"$f":"#REF!","v":{"$error":"#REF!"}},{"$f":"#REF!","v":{"$error":"#REF!"}},{"$error":"#REF!"},null,null,null,null,null,null,null,null,null,null,null,null,{"$f":"PKn!#REF!","v":{"$error":"#REF!"}},{"$f":"PKn!#REF!","v":{"$error":"#REF!"}},{"$error":"#REF!"},{"$f":"BID!#REF!","v":{"$error":"#REF!"}},{"$f":"BID!#REF!","v":{"$error":"#REF!"}},{"$error":"#REF!"},null,null,null,{"$f":"MTK!#REF!","v":{"$error":"#REF!"}},{"$f":"MTK!#REF!","v":{"$error":"#REF!"}},{"$error":"#REF!"},{"$f":"IPA!K179","v":{"$error":"#DIV/0!"}},{"$f":"IPA!N179","v":{"$error":"#DIV/0!"}},{"$error":"#DIV/0!"},{"$f":"IPS!#REF!","v":{"$error":"#REF!"}},{"$f":"IPS!#REF!","v":{"$error":"#REF!"}},{"$error":"#REF!"},{"$f":"SBK!#REF!","v":{"$error":"#REF!"}},{"$f":"SBK!#REF!","v":{"$error":"#REF!"}},{"$error":"#REF!"},{"$f":"PJK!#REF!","v":{"$error":"#REF!"}},{"$f":"PJK!#REF!","v":{"$error":"#REF!"}},{"$error":"#REF!"},{"$f":"BD!#REF!","v":{"$error":"#REF!"}},{"$f":"BD!#REF!","v":{"$error":"#REF!"}},{"$error":"#REF!"},{"$f":"BIG!K179","v":{"$error":"#DIV/0!"}},{"$f":"BIG!N179","v":{"$error":"#DIV/0!"}},{"$error":"#DIV/0!"},{"$f":"AWJ!N179","v":0},{"$f":"AWJ!P179","v":0},0,{"$error":"#REF!"},{"$error":"#REF!"},null,{"$error":"#REF!"},{"$error":"#REF!"},null,{"$error":"#REF!"},{"$error":"#DIV/0!"},{"$f":"IPA!L179","v":0},{"$error":"#DIV/0!"},0,{"$error":"#REF!"},0,{"$error":"#REF!"},{"$error":"#REF!"},{"$error":"#REF!"},{"$error":"#REF!"},{"$error":"#REF!"},{"$error":"#REF!"},{"$error":"#DIV/0!"},{"$error":"#DIV/0!"},{"$error":"#DIV/0!"},null,null,{"$error":"#REF!"},0,{"$error":"#REF!"},{"$error":"#REF!"},0,{"$error":"#REF!"},{"$error":"#DIV/0!"},0,{"$error":"#DIV/0!"},0,null,null,null,"172/Mi.13.05.162/PP.01.1/06/2020"]
[{"$f":"SISWA!A180","v":173},{"$f":"IF(SISWA!B180=0,\"\",SISWA!B180)","v":""},{"$f":"IF(SISWA!C180=0,\"\",SISWA!C180)","v":""},{"$f":"IF(SISWA!D180=0,\"\",SISWA!D180)","v":""},{"$f":"IF(SISWA!E180=0,\"\",SISWA!E180)","v":""},{"$f":"IF(SISWA!P179=0,\"\",SISWA!P179)","v":", 00 Januari 1900"},{"$f":"IF(SISWA!H180=0,\"\",SISWA!H180)","v":""},{"$f":"#REF!","v":{"$error":"#REF!"}},{"$f":"#REF!","v":{"$error":"#REF!"}},{"$error":"#REF!"},null,null,null,null,null,null,null,null,null,null,null,null,{"$f":"PKn!#REF!","v":{"$error":"#REF!"}},{"$f":"PKn!#REF!","v":{"$error":"#REF!"}},{"$error":"#REF!"},{"$f":"BID!#REF!","v":{"$error":"#REF!"}},{"$f":"BID!#REF!","v":{"$error":"#REF!"}},{"$error":"#REF!"},null,null,null,{"$f":"MTK!#REF!","v":{"$error":"#REF!"}},{"$f":"MTK!#REF!","v":{"$error":"#REF!"}},{"$error":"#REF!"},{"$f":"IPA!K180","v":{"$error":"#DIV/0!"}},{"$f":"IPA!N180","v":{"$error":"#DIV/0!"}},{"$error":"#DIV/0!"},{"$f":"IPS!#REF!","v":{"$error":"#REF!"}},{"$f":"IPS!#REF!","v":{"$error":"#REF!"}},{"$error":"#REF!"},{"$f":"SBK!#REF!","v":{"$error":"#REF!"}},{"$f":"SBK!#REF!","v":{"$error":"#REF!"}},{"$error":"#REF!"},{"$f":"PJK!#REF!","v":{"$error":"#REF!"}},{"$f":"PJK!#REF!","v":{"$error":"#REF!"}},{"$error":"#REF!"},{"$f":"BD!#REF!","v":{"$error":"#REF!"}},{"$f":"BD!#REF!","v":{"$error":"#REF!"}},{"$error":"#REF!"},{"$f":"BIG!K180","v":{"$error":"#DIV/0!"}},{"$f":"BIG!N180","v":{"$error":"#DIV/0!"}},{"$error":"#DIV/0!"},{"$f":"AWJ!N180","v":0},{"$f":"AWJ!P180","v":0},0,{"$error":"#REF!"},{"$error":"#REF!"},null,{"$error":"#REF!"},{"$error":"#REF!"},null,{"$error":"#REF!"},{"$error":"#DIV/0!"},{"$f":"IPA!L180","v":0},{"$error":"#DIV/0!"},0,{"$error":"#REF!"},0,{"$error":"#REF!"},{"$error":"#REF!"},{"$error":"#REF!"},{"$error":"#REF!"},{"$error":"#REF!"},{"$error":"#REF!"},{"$error":"#DIV/0!"},{"$error":"#DIV/0!"},{"$error":"#DIV/0!"},null,null,{"$error":"#REF!"},0,{"$error":"#REF!"},{"$error":"#REF!"},0,{"$error":"#REF!"},{"$error":"#DIV/0!"},0,{"$error":"#DIV/0!"},0,null,null,null,"173/Mi.13.05.162/PP.01.1/06/2020"]
[{"$f":"SISWA!A181","v":174},{"$f":"IF(SISWA!B181=0,\"\",SISWA!B181)","v":""},{"$f":"IF(SISWA!C181=0,\"\",SISWA!C181)","v":""},{"$f":"IF(SISWA!D181=0,\"\",SISWA!D181)","v":""},{"$f":"IF(SISWA!E181=0,\"\",SISWA!E181)","v":""},{"$f":"IF(SISWA!P180=0,\"\",SISWA!P180)","v":", 00 Januari 1900"},{"$f":"IF(SISWA!H181=0,\"\",SISWA!H181)","v":""},{"$f":"#REF!","v":{"$error":"#REF!"}},{"$f":"#REF!","v":{"$error":"#REF!"}},{"$error":"#REF!"},null,null,null,null,null,null,null,null,null,null,null,null,{"$f":"PKn!#REF!","v":{"$error":"#REF!"}},{"$f":"PKn!#REF!","v":{"$error":"#REF!"}},{"$error":"#REF!"},{"$f":"BID!#REF!","v":{"$error":"#REF!"}},{"$f":"BID!#REF!","v":{"$error":"#REF!"}},{"$error":"#REF!"},null,null,null,{"$f":"MTK!#REF!","v":{"$error":"#REF!"}},{"$f":"MTK!#REF!","v":{"$error":"#REF!"}},{"$error":"#REF!"},{"$f":"IPA!K181","v":{"$error":"#DIV/0!"}},{"$f":"IPA!N181","v":{"$error":"#DIV/0!"}},{"$error":"#DIV/0!"},{"$f":"IPS!#REF!","v":{"$error":"#REF!"}},{"$f":"IPS!#REF!","v":{"$error":"#REF!"}},{"$error":"#REF!"},{"$f":"SBK!#REF!","v":{"$error":"#REF!"}},{"$f":"SBK!#REF!","v":{"$error":"#REF!"}},{"$error":"#REF!"},{"$f":"PJK!#REF!","v":{"$error":"#REF!"}},{"$f":"PJK!#REF!","v":{"$error":"#REF!"}},{"$error":"#REF!"},{"$f":"BD!#REF!","v":{"$error":"#REF!"}},{"$f":"BD!#REF!","v":{"$error":"#REF!"}},{"$error":"#REF!"},{"$f":"BIG!K181","v":{"$error":"#DIV/0!"}},{"$f":"BIG!N181","v":{"$error":"#DIV/0!"}},{"$error":"#DIV/0!"},{"$f":"AWJ!N181","v":0},{"$f":"AWJ!P181","v":0},0,{"$error":"#REF!"},{"$error":"#REF!"},null,{"$error":"#REF!"},{"$error":"#REF!"},null,{"$error":"#REF!"},{"$error":"#DIV/0!"},{"$f":"IPA!L181","v":0},{"$error":"#DIV/0!"},0,{"$error":"#REF!"},0,{"$error":"#REF!"},{"$error":"#REF!"},{"$error":"#REF!"},{"$error":"#REF!"},{"$error":"#REF!"},{"$error":"#REF!"},{"$error":"#DIV/0!"},{"$error":"#DIV/0!"},{"$error":"#DIV/0!"},null,null,{"$error":"#REF!"},0,{"$error":"#REF!"},{"$error":"#REF!"},0,{"$error":"#REF!"},{"$error":"#DIV/0!"},0,{"$error":"#DIV/0!"},0,null,null,null,"174/Mi.13.05.162/PP.01.1/06/2020"]
[{"$f":"SISWA!A182","v":175},{"$f":"IF(SISWA!B182=0,\"\",SISWA!B182)","v":""},{"$f":"IF(SISWA!C182=0,\"\",SISWA!C182)","v":""},{"$f":"IF(SISWA!D182=0,\"\",SISWA!D182)","v":""},{"$f":"IF(SISWA!E182=0,\"\",SISWA!E182)","v":""},{"$f":"IF(SISWA!P181=0,\"\",SISWA!P181)","v":", 00 Januari 1900"},{"$f":"IF(SISWA!H182=0,\"\",SISWA!H182)","v":""},{"$f":"#REF!","v":{"$error":"#REF!"}},{"$f":"#REF!","v":{"$error":"#REF!"}},{"$error":"#REF!"},null,null,null,null,null,null,null,null,null,null,null,null,{"$f":"PKn!#REF!","v":{"$error":"#REF!"}},{"$f":"PKn!#REF!","v":{"$error":"#REF!"}},{"$error":"#REF!"},{"$f":"BID!#REF!","v":{"$error":"#REF!"}},{"$f":"BID!#REF!","v":{"$error":"#REF!"}},{"$error":"#REF!"},null,null,null,{"$f":"MTK!#REF!","v":{"$error":"#REF!"}},{"$f":"MTK!#REF!","v":{"$error":"#REF!"}},{"$error":"#REF!"},{"$f":"IPA!K182","v":{"$error":"#DIV/0!"}},{"$f":"IPA!N182","v":{"$error":"#DIV/0!"}},{"$error":"#DIV/0!"},{"$f":"IPS!#REF!","v":{"$error":"#REF!"}},{"$f":"IPS!#REF!","v":{"$error":"#REF!"}},{"$error":"#REF!"},{"$f":"SBK!#REF!","v":{"$error":"#REF!"}},{"$f":"SBK!#REF!","v":{"$error":"#REF!"}},{"$error":"#REF!"},{"$f":"PJK!#REF!","v":{"$error":"#REF!"}},{"$f":"PJK!#REF!","v":{"$error":"#REF!"}},{"$error":"#REF!"},{"$f":"BD!#REF!","v":{"$error":"#REF!"}},{"$f":"BD!#REF!","v":{"$error":"#REF!"}},{"$error":"#REF!"},{"$f":"BIG!K182","v":{"$error":"#DIV/0!"}},{"$f":"BIG!N182","v":{"$error":"#DIV/0!"}},{"$error":"#DIV/0!"},{"$f":"AWJ!N182","v":0},{"$f":"AWJ!P182","v":0},0,{"$error":"#REF!"},{"$error":"#REF!"},null,{"$error":"#REF!"},{"$error":"#REF!"},null,{"$error":"#REF!"},{"$error":"#DIV/0!"},{"$f":"IPA!L182","v":0},{"$error":"#DIV/0!"},0,{"$error":"#REF!"},0,{"$error":"#REF!"},{"$error":"#REF!"},{"$error":"#REF!"},{"$error":"#REF!"},{"$error":"#REF!"},{"$error":"#REF!"},{"$error":"#DIV/0!"},{"$error":"#DIV/0!"},{"$error":"#DIV/0!"},null,null,{"$error":"#REF!"},0,{"$error":"#REF!"},{"$error":"#REF!"},0,{"$error":"#REF!"},{"$error":"#DIV/0!"},0,{"$error":"#DIV/0!"},0,null,null,null,"175/Mi.13.05.162/PP.01.1/06/2020"]
[{"$f":"SISWA!A183","v":176},{"$f":"IF(SISWA!B183=0,\"\",SISWA!B183)","v":""},{"$f":"IF(SISWA!C183=0,\"\",SISWA!C183)","v":""},{"$f":"IF(SISWA!D183=0,\"\",SISWA!D183)","v":""},{"$f":"IF(SISWA!E183=0,\"\",SISWA!E183)","v":""},{"$f":"IF(SISWA!P182=0,\"\",SISWA!P182)","v":", 00 Januari 1900"},{"$f":"IF(SISWA!H183=0,\"\",SISWA!H183)","v":""},{"$f":"#REF!","v":{"$error":"#REF!"}},{"$f":"#REF!","v":{"$error":"#REF!"}},{"$error":"#REF!"},null,null,null,null,null,null,null,null,null,null,null,null,{"$f":"PKn!#REF!","v":{"$error":"#REF!"}},{"$f":"PKn!#REF!","v":{"$error":"#REF!"}},{"$error":"#REF!"},{"$f":"BID!#REF!","v":{"$error":"#REF!"}},{"$f":"BID!#REF!","v":{"$error":"#REF!"}},{"$error":"#REF!"},null,null,null,{"$f":"MTK!#REF!","v":{"$error":"#REF!"}},{"$f":"MTK!#REF!","v":{"$error":"#REF!"}},{"$error":"#REF!"},{"$f":"IPA!K183","v":{"$error":"#DIV/0!"}},{"$f":"IPA!N183","v":{"$error":"#DIV/0!"}},{"$error":"#DIV/0!"},{"$f":"IPS!#REF!","v":{"$error":"#REF!"}},{"$f":"IPS!#REF!","v":{"$error":"#REF!"}},{"$error":"#REF!"},{"$f":"SBK!#REF!","v":{"$error":"#REF!"}},{"$f":"SBK!#REF!","v":{"$error":"#REF!"}},{"$error":"#REF!"},{"$f":"PJK!#REF!","v":{"$error":"#REF!"}},{"$f":"PJK!#REF!","v":{"$error":"#REF!"}},{"$error":"#REF!"},{"$f":"BD!#REF!","v":{"$error":"#REF!"}},{"$f":"BD!#REF!","v":{"$error":"#REF!"}},{"$error":"#REF!"},{"$f":"BIG!K183","v":{"$error":"#DIV/0!"}},{"$f":"BIG!N183","v":{"$error":"#DIV/0!"}},{"$error":"#DIV/0!"},{"$f":"AWJ!N183","v":0},{"$f":"AWJ!P183","v":0},0,{"$error":"#REF!"},{"$error":"#REF!"},null,{"$error":"#REF!"},{"$error":"#REF!"},null,{"$error":"#REF!"},{"$error":"#DIV/0!"},{"$f":"IPA!L183","v":0},{"$error":"#DIV/0!"},0,{"$error":"#REF!"},0,{"$error":"#REF!"},{"$error":"#REF!"},{"$error":"#REF!"},{"$error":"#REF!"},{"$error":"#REF!"},{"$error":"#REF!"},{"$error":"#DIV/0!"},{"$error":"#DIV/0!"},{"$error":"#DIV/0!"},null,null,{"$error":"#REF!"},0,{"$error":"#REF!"},{"$error":"#REF!"},0,{"$error":"#REF!"},{"$error":"#DIV/0!"},0,{"$error":"#DIV/0!"},0,null,null,null,"176/Mi.13.05.162/PP.01.1/06/2020"]
[{"$f":"SISWA!A184","v":177},{"$f":"IF(SISWA!B184=0,\"\",SISWA!B184)","v":""},{"$f":"IF(SISWA!C184=0,\"\",SISWA!C184)","v":""},{"$f":"IF(SISWA!D184=0,\"\",SISWA!D184)","v":""},{"$f":"IF(SISWA!E184=0,\"\",SISWA!E184)","v":""},{"$f":"IF(SISWA!P183=0,\"\",SISWA!P183)","v":", 00 Januari 1900"},{"$f":"IF(SISWA!H184=0,\"\",SISWA!H184)","v":""},{"$f":"#REF!","v":{"$error":"#REF!"}},{"$f":"#REF!","v":{"$error":"#REF!"}},{"$error":"#REF!"},null,null,null,null,null,null,null,null,null,null,null,null,{"$f":"PKn!#REF!","v":{"$error":"#REF!"}},{"$f":"PKn!#REF!","v":{"$error":"#REF!"}},{"$error":"#REF!"},{"$f":"BID!#REF!","v":{"$error":"#REF!"}},{"$f":"BID!#REF!","v":{"$error":"#REF!"}},{"$error":"#REF!"},null,null,null,{"$f":"MTK!#REF!","v":{"$error":"#REF!"}},{"$f":"MTK!#REF!","v":{"$error":"#REF!"}},{"$error":"#REF!"},{"$f":"IPA!K184","v":{"$error":"#DIV/0!"}},{"$f":"IPA!N184","v":{"$error":"#DIV/0!"}},{"$error":"#DIV/0!"},{"$f":"IPS!#REF!","v":{"$error":"#REF!"}},{"$f":"IPS!#REF!","v":{"$error":"#REF!"}},{"$error":"#REF!"},{"$f":"SBK!#REF!","v":{"$error":"#REF!"}},{"$f":"SBK!#REF!","v":{"$error":"#REF!"}},{"$error":"#REF!"},{"$f":"PJK!#REF!","v":{"$error":"#REF!"}},{"$f":"PJK!#REF!","v":{"$error":"#REF!"}},{"$error":"#REF!"},{"$f":"BD!#REF!","v":{"$error":"#REF!"}},{"$f":"BD!#REF!","v":{"$error":"#REF!"}},{"$error":"#REF!"},{"$f":"BIG!K184","v":{"$error":"#DIV/0!"}},{"$f":"BIG!N184","v":{"$error":"#DIV/0!"}},{"$error":"#DIV/0!"},{"$f":"AWJ!N184","v":0},{"$f":"AWJ!P184","v":0},0,{"$error":"#REF!"},{"$error":"#REF!"},null,{"$error":"#REF!"},{"$error":"#REF!"},null,{"$error":"#REF!"},{"$error":"#DIV/0!"},{"$f":"IPA!L184","v":0},{"$error":"#DIV/0!"},0,{"$error":"#REF!"},0,{"$error":"#REF!"},{"$error":"#REF!"},{"$error":"#REF!"},{"$error":"#REF!"},{"$error":"#REF!"},{"$error":"#REF!"},{"$error":"#DIV/0!"},{"$error":"#DIV/0!"},{"$error":"#DIV/0!"},null,null,{"$error":"#REF!"},0,{"$error":"#REF!"},{"$error":"#REF!"},0,{"$error":"#REF!"},{"$error":"#DIV/0!"},0,{"$error":"#DIV/0!"},0,null,null,null,"177/Mi.13.05.162/PP.01.1/06/2020"]
[{"$f":"SISWA!A185","v":178},{"$f":"IF(SISWA!B185=0,\"\",SISWA!B185)","v":""},{"$f":"IF(SISWA!C185=0,\"\",SISWA!C185)","v":""},{"$f":"IF(SISWA!D185=0,\"\",SISWA!D185)","v":""},{"$f":"IF(SISWA!E185=0,\"\",SISWA!E185)","v":""},{"$f":"IF(SISWA!P184=0,\"\",SISWA!P184)","v":", 00 Januari 1900"},{"$f":"IF(SISWA!H185=0,\"\",SISWA!H185)","v":""},{"$f":"#REF!","v":{"$error":"#REF!"}},{"$f":"#REF!","v":{"$error":"#REF!"}},{"$error":"#REF!"},null,null,null,null,null,null,null,null,null,null,null,null,{"$f":"PKn!#REF!","v":{"$error":"#REF!"}},{"$f":"PKn!#REF!","v":{"$error":"#REF!"}},{"$error":"#REF!"},{"$f":"BID!#REF!","v":{"$error":"#REF!"}},{"$f":"BID!#REF!","v":{"$error":"#REF!"}},{"$error":"#REF!"},null,null,null,{"$f":"MTK!#REF!","v":{"$error":"#REF!"}},{"$f":"MTK!#REF!","v":{"$error":"#REF!"}},{"$error":"#REF!"},{"$f":"IPA!K185","v":{"$error":"#DIV/0!"}},{"$f":"IPA!N185","v":{"$error":"#DIV/0!"}},{"$error":"#DIV/0!"},{"$f":"IPS!#REF!","v":{"$error":"#REF!"}},{"$f":"IPS!#REF!","v":{"$error":"#REF!"}},{"$error":"#REF!"},{"$f":"SBK!#REF!","v":{"$error":"#REF!"}},{"$f":"SBK!#REF!","v":{"$error":"#REF!"}},{"$error":"#REF!"},{"$f":"PJK!#REF!","v":{"$error":"#REF!"}},{"$f":"PJK!#REF!","v":{"$error":"#REF!"}},{"$error":"#REF!"},{"$f":"BD!#REF!","v":{"$error":"#REF!"}},{"$f":"BD!#REF!","v":{"$error":"#REF!"}},{"$error":"#REF!"},{"$f":"BIG!K185","v":{"$error":"#DIV/0!"}},{"$f":"BIG!N185","v":{"$error":"#DIV/0!"}},{"$error":"#DIV/0!"},{"$f":"AWJ!N185","v":0},{"$f":"AWJ!P185","v":0},0,{"$error":"#REF!"},{"$error":"#REF!"},null,{"$error":"#REF!"},{"$error":"#REF!"},null,{"$error":"#REF!"},{"$error":"#DIV/0!"},{"$f":"IPA!L185","v":0},{"$error":"#DIV/0!"},0,{"$error":"#REF!"},0,{"$error":"#REF!"},{"$error":"#REF!"},{"$error":"#REF!"},{"$error":"#REF!"},{"$error":"#REF!"},{"$error":"#REF!"},{"$error":"#DIV/0!"},{"$error":"#DIV/0!"},{"$error":"#DIV/0!"},null,null,{"$error":"#REF!"},0,{"$error":"#REF!"},{"$error":"#REF!"},0,{"$error":"#REF!"},{"$error":"#DIV/0!"},0,{"$error":"#DIV/0!"},0,null,null,null,"178/Mi.13.05.162/PP.01.1/06/2020"]
[{"$f":"SISWA!A186","v":179},{"$f":"IF(SISWA!B186=0,\"\",SISWA!B186)","v":""},{"$f":"IF(SISWA!C186=0,\"\",SISWA!C186)","v":""},{"$f":"IF(SISWA!D186=0,\"\",SISWA!D186)","v":""},{"$f":"IF(SISWA!E186=0,\"\",SISWA!E186)","v":""},{"$f":"IF(SISWA!P185=0,\"\",SISWA!P185)","v":", 00 Januari 1900"},{"$f":"IF(SISWA!H186=0,\"\",SISWA!H186)","v":""},{"$f":"#REF!","v":{"$error":"#REF!"}},{"$f":"#REF!","v":{"$error":"#REF!"}},{"$error":"#REF!"},null,null,null,null,null,null,null,null,null,null,null,null,{"$f":"PKn!#REF!","v":{"$error":"#REF!"}},{"$f":"PKn!#REF!","v":{"$error":"#REF!"}},{"$error":"#REF!"},{"$f":"BID!#REF!","v":{"$error":"#REF!"}},{"$f":"BID!#REF!","v":{"$error":"#REF!"}},{"$error":"#REF!"},null,null,null,{"$f":"MTK!#REF!","v":{"$error":"#REF!"}},{"$f":"MTK!#REF!","v":{"$error":"#REF!"}},{"$error":"#REF!"},{"$f":"IPA!K186","v":{"$error":"#DIV/0!"}},{"$f":"IPA!N186","v":{"$error":"#DIV/0!"}},{"$error":"#DIV/0!"},{"$f":"IPS!#REF!","v":{"$error":"#REF!"}},{"$f":"IPS!#REF!","v":{"$error":"#REF!"}},{"$error":"#REF!"},{"$f":"SBK!#REF!","v":{"$error":"#REF!"}},{"$f":"SBK!#REF!","v":{"$error":"#REF!"}},{"$error":"#REF!"},{"$f":"PJK!#REF!","v":{"$error":"#REF!"}},{"$f":"PJK!#REF!","v":{"$error":"#REF!"}},{"$error":"#REF!"},{"$f":"BD!#REF!","v":{"$error":"#REF!"}},{"$f":"BD!#REF!","v":{"$error":"#REF!"}},{"$error":"#REF!"},{"$f":"BIG!K186","v":{"$error":"#DIV/0!"}},{"$f":"BIG!N186","v":{"$error":"#DIV/0!"}},{"$error":"#DIV/0!"},{"$f":"AWJ!N186","v":0},{"$f":"AWJ!P186","v":0},0,{"$error":"#REF!"},{"$error":"#REF!"},null,{"$error":"#REF!"},{"$error":"#REF!"},null,{"$error":"#REF!"},{"$error":"#DIV/0!"},{"$f":"IPA!L186","v":0},{"$error":"#DIV/0!"},0,{"$error":"#REF!"},0,{"$error":"#REF!"},{"$error":"#REF!"},{"$error":"#REF!"},{"$error":"#REF!"},{"$error":"#REF!"},{"$error":"#REF!"},{"$error":"#DIV/0!"},{"$error":"#DIV/0!"},{"$error":"#DIV/0!"},null,null,{"$error":"#REF!"},0,{"$error":"#REF!"},{"$error":"#REF!"},0,{"$error":"#REF!"},{"$error":"#DIV/0!"},0,{"$error":"#DIV/0!"},0,null,null,null,"179/Mi.13.05.162/PP.01.1/06/2020"]
[{"$f":"SISWA!A187","v":180},{"$f":"IF(SISWA!B187=0,\"\",SISWA!B187)","v":""},{"$f":"IF(SISWA!C187=0,\"\",SISWA!C187)","v":""},{"$f":"IF(SISWA!D187=0,\"\",SISWA!D187)","v":""},{"$f":"IF(SISWA!E187=0,\"\",SISWA!E187)","v":""},{"$f":"IF(SISWA!P186=0,\"\",SISWA!P186)","v":", 00 Januari 1900"},{"$f":"IF(SISWA!H187=0,\"\",SISWA!H187)","v":""},{"$f":"#REF!","v":{"$error":"#REF!"}},{"$f":"#REF!","v":{"$error":"#REF!"}},{"$error":"#REF!"},null,null,null,null,null,null,null,null,null,null,null,null,{"$f":"PKn!#REF!","v":{"$error":"#REF!"}},{"$f":"PKn!#REF!","v":{"$error":"#REF!"}},{"$error":"#REF!"},{"$f":"BID!#REF!","v":{"$error":"#REF!"}},{"$f":"BID!#REF!","v":{"$error":"#REF!"}},{"$error":"#REF!"},null,null,null,{"$f":"MTK!#REF!","v":{"$error":"#REF!"}},{"$f":"MTK!#REF!","v":{"$error":"#REF!"}},{"$error":"#REF!"},{"$f":"IPA!K187","v":{"$error":"#DIV/0!"}},{"$f":"IPA!N187","v":{"$error":"#DIV/0!"}},{"$error":"#DIV/0!"},{"$f":"IPS!#REF!","v":{"$error":"#REF!"}},{"$f":"IPS!#REF!","v":{"$error":"#REF!"}},{"$error":"#REF!"},{"$f":"SBK!#REF!","v":{"$error":"#REF!"}},{"$f":"SBK!#REF!","v":{"$error":"#REF!"}},{"$error":"#REF!"},{"$f":"PJK!#REF!","v":{"$error":"#REF!"}},{"$f":"PJK!#REF!","v":{"$error":"#REF!"}},{"$error":"#REF!"},{"$f":"BD!#REF!","v":{"$error":"#REF!"}},{"$f":"BD!#REF!","v":{"$error":"#REF!"}},{"$error":"#REF!"},{"$f":"BIG!K187","v":{"$error":"#DIV/0!"}},{"$f":"BIG!N187","v":{"$error":"#DIV/0!"}},{"$error":"#DIV/0!"},{"$f":"AWJ!N187","v":0},{"$f":"AWJ!P187","v":0},0,{"$error":"#REF!"},{"$error":"#REF!"},null,{"$error":"#REF!"},{"$error":"#REF!"},null,{"$error":"#REF!"},{"$error":"#DIV/0!"},{"$f":"IPA!L187","v":0},{"$error":"#DIV/0!"},0,{"$error":"#REF!"},0,{"$error":"#REF!"},{"$error":"#REF!"},{"$error":"#REF!"},{"$error":"#REF!"},{"$error":"#REF!"},{"$error":"#REF!"},{"$error":"#DIV/0!"},{"$error":"#DIV/0!"},{"$error":"#DIV/0!"},null,null,{"$error":"#REF!"},0,{"$error":"#REF!"},{"$error":"#REF!"},0,{"$error":"#REF!"},{"$error":"#DIV/0!"},0,{"$error":"#DIV/0!"},0,null,null,null,"180/Mi.13.05.162/PP.01.1/06/2020"]
[{"$f":"SISWA!A188","v":181},{"$f":"IF(SISWA!B188=0,\"\",SISWA!B188)","v":""},{"$f":"IF(SISWA!C188=0,\"\",SISWA!C188)","v":""},{"$f":"IF(SISWA!D188=0,\"\",SISWA!D188)","v":""},{"$f":"IF(SISWA!E188=0,\"\",SISWA!E188)","v":""},{"$f":"IF(SISWA!P187=0,\"\",SISWA!P187)","v":", 00 Januari 1900"},{"$f":"IF(SISWA!H188=0,\"\",SISWA!H188)","v":""},{"$f":"#REF!","v":{"$error":"#REF!"}},{"$f":"#REF!","v":{"$error":"#REF!"}},{"$error":"#REF!"},null,null,null,null,null,null,null,null,null,null,null,null,{"$f":"PKn!#REF!","v":{"$error":"#REF!"}},{"$f":"PKn!#REF!","v":{"$error":"#REF!"}},{"$error":"#REF!"},{"$f":"BID!#REF!","v":{"$error":"#REF!"}},{"$f":"BID!#REF!","v":{"$error":"#REF!"}},{"$error":"#REF!"},null,null,null,{"$f":"MTK!#REF!","v":{"$error":"#REF!"}},{"$f":"MTK!#REF!","v":{"$error":"#REF!"}},{"$error":"#REF!"},{"$f":"IPA!K188","v":{"$error":"#DIV/0!"}},{"$f":"IPA!N188","v":{"$error":"#DIV/0!"}},{"$error":"#DIV/0!"},{"$f":"IPS!#REF!","v":{"$error":"#REF!"}},{"$f":"IPS!#REF!","v":{"$error":"#REF!"}},{"$error":"#REF!"},{"$f":"SBK!#REF!","v":{"$error":"#REF!"}},{"$f":"SBK!#REF!","v":{"$error":"#REF!"}},{"$error":"#REF!"},{"$f":"PJK!#REF!","v":{"$error":"#REF!"}},{"$f":"PJK!#REF!","v":{"$error":"#REF!"}},{"$error":"#REF!"},{"$f":"BD!#REF!","v":{"$error":"#REF!"}},{"$f":"BD!#REF!","v":{"$error":"#REF!"}},{"$error":"#REF!"},{"$f":"BIG!K188","v":{"$error":"#DIV/0!"}},{"$f":"BIG!N188","v":{"$error":"#DIV/0!"}},{"$error":"#DIV/0!"},{"$f":"AWJ!N188","v":0},{"$f":"AWJ!P188","v":0},0,{"$error":"#REF!"},{"$error":"#REF!"},null,{"$error":"#REF!"},{"$error":"#REF!"},null,{"$error":"#REF!"},{"$error":"#DIV/0!"},{"$f":"IPA!L188","v":0},{"$error":"#DIV/0!"},0,{"$error":"#REF!"},0,{"$error":"#REF!"},{"$error":"#REF!"},{"$error":"#REF!"},{"$error":"#REF!"},{"$error":"#REF!"},{"$error":"#REF!"},{"$error":"#DIV/0!"},{"$error":"#DIV/0!"},{"$error":"#DIV/0!"},null,null,{"$error":"#REF!"},0,{"$error":"#REF!"},{"$error":"#REF!"},0,{"$error":"#REF!"},{"$error":"#DIV/0!"},0,{"$error":"#DIV/0!"},0,null,null,null,"181/Mi.13.05.162/PP.01.1/06/2020"]
[{"$f":"SISWA!A189","v":182},{"$f":"IF(SISWA!B189=0,\"\",SISWA!B189)","v":""},{"$f":"IF(SISWA!C189=0,\"\",SISWA!C189)","v":""},{"$f":"IF(SISWA!D189=0,\"\",SISWA!D189)","v":""},{"$f":"IF(SISWA!E189=0,\"\",SISWA!E189)","v":""},{"$f":"IF(SISWA!P188=0,\"\",SISWA!P188)","v":", 00 Januari 1900"},{"$f":"IF(SISWA!H189=0,\"\",SISWA!H189)","v":""},{"$f":"#REF!","v":{"$error":"#REF!"}},{"$f":"#REF!","v":{"$error":"#REF!"}},{"$error":"#REF!"},null,null,null,null,null,null,null,null,null,null,null,null,{"$f":"PKn!#REF!","v":{"$error":"#REF!"}},{"$f":"PKn!#REF!","v":{"$error":"#REF!"}},{"$error":"#REF!"},{"$f":"BID!#REF!","v":{"$error":"#REF!"}},{"$f":"BID!#REF!","v":{"$error":"#REF!"}},{"$error":"#REF!"},null,null,null,{"$f":"MTK!#REF!","v":{"$error":"#REF!"}},{"$f":"MTK!#REF!","v":{"$error":"#REF!"}},{"$error":"#REF!"},{"$f":"IPA!K189","v":{"$error":"#DIV/0!"}},{"$f":"IPA!N189","v":{"$error":"#DIV/0!"}},{"$error":"#DIV/0!"},{"$f":"IPS!#REF!","v":{"$error":"#REF!"}},{"$f":"IPS!#REF!","v":{"$error":"#REF!"}},{"$error":"#REF!"},{"$f":"SBK!#REF!","v":{"$error":"#REF!"}},{"$f":"SBK!#REF!","v":{"$error":"#REF!"}},{"$error":"#REF!"},{"$f":"PJK!#REF!","v":{"$error":"#REF!"}},{"$f":"PJK!#REF!","v":{"$error":"#REF!"}},{"$error":"#REF!"},{"$f":"BD!#REF!","v":{"$error":"#REF!"}},{"$f":"BD!#REF!","v":{"$error":"#REF!"}},{"$error":"#REF!"},{"$f":"BIG!K189","v":{"$error":"#DIV/0!"}},{"$f":"BIG!N189","v":{"$error":"#DIV/0!"}},{"$error":"#DIV/0!"},{"$f":"AWJ!N189","v":0},{"$f":"AWJ!P189","v":0},0,{"$error":"#REF!"},{"$error":"#REF!"},null,{"$error":"#REF!"},{"$error":"#REF!"},null,{"$error":"#REF!"},{"$error":"#DIV/0!"},{"$f":"IPA!L189","v":0},{"$error":"#DIV/0!"},0,{"$error":"#REF!"},0,{"$error":"#REF!"},{"$error":"#REF!"},{"$error":"#REF!"},{"$error":"#REF!"},{"$error":"#REF!"},{"$error":"#REF!"},{"$error":"#DIV/0!"},{"$error":"#DIV/0!"},{"$error":"#DIV/0!"},null,null,{"$error":"#REF!"},0,{"$error":"#REF!"},{"$error":"#REF!"},0,{"$error":"#REF!"},{"$error":"#DIV/0!"},0,{"$error":"#DIV/0!"},0,null,null,null,"182/Mi.13.05.162/PP.01.1/06/2020"]
[{"$f":"SISWA!A190","v":183},{"$f":"IF(SISWA!B190=0,\"\",SISWA!B190)","v":""},{"$f":"IF(SISWA!C190=0,\"\",SISWA!C190)","v":""},{"$f":"IF(SISWA!D190=0,\"\",SISWA!D190)","v":""},{"$f":"IF(SISWA!E190=0,\"\",SISWA!E190)","v":""},{"$f":"IF(SISWA!P189=0,\"\",SISWA!P189)","v":", 00 Januari 1900"},{"$f":"IF(SISWA!H190=0,\"\",SISWA!H190)","v":""},{"$f":"#REF!","v":{"$error":"#REF!"}},{"$f":"#REF!","v":{"$error":"#REF!"}},{"$error":"#REF!"},null,null,null,null,null,null,null,null,null,null,null,null,{"$f":"PKn!#REF!","v":{"$error":"#REF!"}},{"$f":"PKn!#REF!","v":{"$error":"#REF!"}},{"$error":"#REF!"},{"$f":"BID!#REF!","v":{"$error":"#REF!"}},{"$f":"BID!#REF!","v":{"$error":"#REF!"}},{"$error":"#REF!"},null,null,null,{"$f":"MTK!#REF!","v":{"$error":"#REF!"}},{"$f":"MTK!#REF!","v":{"$error":"#REF!"}},{"$error":"#REF!"},{"$f":"IPA!K190","v":{"$error":"#DIV/0!"}},{"$f":"IPA!N190","v":{"$error":"#DIV/0!"}},{"$error":"#DIV/0!"},{"$f":"IPS!#REF!","v":{"$error":"#REF!"}},{"$f":"IPS!#REF!","v":{"$error":"#REF!"}},{"$error":"#REF!"},{"$f":"SBK!#REF!","v":{"$error":"#REF!"}},{"$f":"SBK!#REF!","v":{"$error":"#REF!"}},{"$error":"#REF!"},{"$f":"PJK!#REF!","v":{"$error":"#REF!"}},{"$f":"PJK!#REF!","v":{"$error":"#REF!"}},{"$error":"#REF!"},{"$f":"BD!#REF!","v":{"$error":"#REF!"}},{"$f":"BD!#REF!","v":{"$error":"#REF!"}},{"$error":"#REF!"},{"$f":"BIG!K190","v":{"$error":"#DIV/0!"}},{"$f":"BIG!N190","v":{"$error":"#DIV/0!"}},{"$error":"#DIV/0!"},{"$f":"AWJ!N190","v":0},{"$f":"AWJ!P190","v":0},0,{"$error":"#REF!"},{"$error":"#REF!"},null,{"$error":"#REF!"},{"$error":"#REF!"},null,{"$error":"#REF!"},{"$error":"#DIV/0!"},{"$f":"IPA!L190","v":0},{"$error":"#DIV/0!"},0,{"$error":"#REF!"},0,{"$error":"#REF!"},{"$error":"#REF!"},{"$error":"#REF!"},{"$error":"#REF!"},{"$error":"#REF!"},{"$error":"#REF!"},{"$error":"#DIV/0!"},{"$error":"#DIV/0!"},{"$error":"#DIV/0!"},null,null,{"$error":"#REF!"},0,{"$error":"#REF!"},{"$error":"#REF!"},0,{"$error":"#REF!"},{"$error":"#DIV/0!"},0,{"$error":"#DIV/0!"},0,null,null,null,"183/Mi.13.05.162/PP.01.1/06/2020"]
[{"$f":"SISWA!A191","v":184},{"$f":"IF(SISWA!B191=0,\"\",SISWA!B191)","v":""},{"$f":"IF(SISWA!C191=0,\"\",SISWA!C191)","v":""},{"$f":"IF(SISWA!D191=0,\"\",SISWA!D191)","v":""},{"$f":"IF(SISWA!E191=0,\"\",SISWA!E191)","v":""},{"$f":"IF(SISWA!P190=0,\"\",SISWA!P190)","v":", 00 Januari 1900"},{"$f":"IF(SISWA!H191=0,\"\",SISWA!H191)","v":""},{"$f":"#REF!","v":{"$error":"#REF!"}},{"$f":"#REF!","v":{"$error":"#REF!"}},{"$error":"#REF!"},null,null,null,null,null,null,null,null,null,null,null,null,{"$f":"PKn!#REF!","v":{"$error":"#REF!"}},{"$f":"PKn!#REF!","v":{"$error":"#REF!"}},{"$error":"#REF!"},{"$f":"BID!#REF!","v":{"$error":"#REF!"}},{"$f":"BID!#REF!","v":{"$error":"#REF!"}},{"$error":"#REF!"},null,null,null,{"$f":"MTK!#REF!","v":{"$error":"#REF!"}},{"$f":"MTK!#REF!","v":{"$error":"#REF!"}},{"$error":"#REF!"},{"$f":"IPA!K191","v":{"$error":"#DIV/0!"}},{"$f":"IPA!N191","v":{"$error":"#DIV/0!"}},{"$error":"#DIV/0!"},{"$f":"IPS!#REF!","v":{"$error":"#REF!"}},{"$f":"IPS!#REF!","v":{"$error":"#REF!"}},{"$error":"#REF!"},{"$f":"SBK!#REF!","v":{"$error":"#REF!"}},{"$f":"SBK!#REF!","v":{"$error":"#REF!"}},{"$error":"#REF!"},{"$f":"PJK!#REF!","v":{"$error":"#REF!"}},{"$f":"PJK!#REF!","v":{"$error":"#REF!"}},{"$error":"#REF!"},{"$f":"BD!#REF!","v":{"$error":"#REF!"}},{"$f":"BD!#REF!","v":{"$error":"#REF!"}},{"$error":"#REF!"},{"$f":"BIG!K191","v":{"$error":"#DIV/0!"}},{"$f":"BIG!N191","v":{"$error":"#DIV/0!"}},{"$error":"#DIV/0!"},{"$f":"AWJ!N191","v":0},{"$f":"AWJ!P191","v":0},0,{"$error":"#REF!"},{"$error":"#REF!"},null,{"$error":"#REF!"},{"$error":"#REF!"},null,{"$error":"#REF!"},{"$error":"#DIV/0!"},{"$f":"IPA!L191","v":0},{"$error":"#DIV/0!"},0,{"$error":"#REF!"},0,{"$error":"#REF!"},{"$error":"#REF!"},{"$error":"#REF!"},{"$error":"#REF!"},{"$error":"#REF!"},{"$error":"#REF!"},{"$error":"#DIV/0!"},{"$error":"#DIV/0!"},{"$error":"#DIV/0!"},null,null,{"$error":"#REF!"},0,{"$error":"#REF!"},{"$error":"#REF!"},0,{"$error":"#REF!"},{"$error":"#DIV/0!"},0,{"$error":"#DIV/0!"},0,null,null,null,"184/Mi.13.05.162/PP.01.1/06/2020"]
[{"$f":"SISWA!A192","v":185},{"$f":"IF(SISWA!B192=0,\"\",SISWA!B192)","v":""},{"$f":"IF(SISWA!C192=0,\"\",SISWA!C192)","v":""},{"$f":"IF(SISWA!D192=0,\"\",SISWA!D192)","v":""},{"$f":"IF(SISWA!E192=0,\"\",SISWA!E192)","v":""},{"$f":"IF(SISWA!P191=0,\"\",SISWA!P191)","v":", 00 Januari 1900"},{"$f":"IF(SISWA!H192=0,\"\",SISWA!H192)","v":""},{"$f":"#REF!","v":{"$error":"#REF!"}},{"$f":"#REF!","v":{"$error":"#REF!"}},{"$error":"#REF!"},null,null,null,null,null,null,null,null,null,null,null,null,{"$f":"PKn!#REF!","v":{"$error":"#REF!"}},{"$f":"PKn!#REF!","v":{"$error":"#REF!"}},{"$error":"#REF!"},{"$f":"BID!#REF!","v":{"$error":"#REF!"}},{"$f":"BID!#REF!","v":{"$error":"#REF!"}},{"$error":"#REF!"},null,null,null,{"$f":"MTK!#REF!","v":{"$error":"#REF!"}},{"$f":"MTK!#REF!","v":{"$error":"#REF!"}},{"$error":"#REF!"},{"$f":"IPA!K192","v":{"$error":"#DIV/0!"}},{"$f":"IPA!N192","v":{"$error":"#DIV/0!"}},{"$error":"#DIV/0!"},{"$f":"IPS!#REF!","v":{"$error":"#REF!"}},{"$f":"IPS!#REF!","v":{"$error":"#REF!"}},{"$error":"#REF!"},{"$f":"SBK!#REF!","v":{"$error":"#REF!"}},{"$f":"SBK!#REF!","v":{"$error":"#REF!"}},{"$error":"#REF!"},{"$f":"PJK!#REF!","v":{"$error":"#REF!"}},{"$f":"PJK!#REF!","v":{"$error":"#REF!"}},{"$error":"#REF!"},{"$f":"BD!#REF!","v":{"$error":"#REF!"}},{"$f":"BD!#REF!","v":{"$error":"#REF!"}},{"$error":"#REF!"},{"$f":"BIG!K192","v":{"$error":"#DIV/0!"}},{"$f":"BIG!N192","v":{"$error":"#DIV/0!"}},{"$error":"#DIV/0!"},{"$f":"AWJ!N192","v":0},{"$f":"AWJ!P192","v":0},0,{"$error":"#REF!"},{"$error":"#REF!"},null,{"$error":"#REF!"},{"$error":"#REF!"},null,{"$error":"#REF!"},{"$error":"#DIV/0!"},{"$f":"IPA!L192","v":0},{"$error":"#DIV/0!"},0,{"$error":"#REF!"},0,{"$error":"#REF!"},{"$error":"#REF!"},{"$error":"#REF!"},{"$error":"#REF!"},{"$error":"#REF!"},{"$error":"#REF!"},{"$error":"#DIV/0!"},{"$error":"#DIV/0!"},{"$error":"#DIV/0!"},null,null,{"$error":"#REF!"},0,{"$error":"#REF!"},{"$error":"#REF!"},0,{"$error":"#REF!"},{"$error":"#DIV/0!"},0,{"$error":"#DIV/0!"},0,null,null,null,"185/Mi.13.05.162/PP.01.1/06/2020"]
[{"$f":"SISWA!A193","v":186},{"$f":"IF(SISWA!B193=0,\"\",SISWA!B193)","v":""},{"$f":"IF(SISWA!C193=0,\"\",SISWA!C193)","v":""},{"$f":"IF(SISWA!D193=0,\"\",SISWA!D193)","v":""},{"$f":"IF(SISWA!E193=0,\"\",SISWA!E193)","v":""},{"$f":"IF(SISWA!P192=0,\"\",SISWA!P192)","v":", 00 Januari 1900"},{"$f":"IF(SISWA!H193=0,\"\",SISWA!H193)","v":""},{"$f":"#REF!","v":{"$error":"#REF!"}},{"$f":"#REF!","v":{"$error":"#REF!"}},{"$error":"#REF!"},null,null,null,null,null,null,null,null,null,null,null,null,{"$f":"PKn!#REF!","v":{"$error":"#REF!"}},{"$f":"PKn!#REF!","v":{"$error":"#REF!"}},{"$error":"#REF!"},{"$f":"BID!#REF!","v":{"$error":"#REF!"}},{"$f":"BID!#REF!","v":{"$error":"#REF!"}},{"$error":"#REF!"},null,null,null,{"$f":"MTK!#REF!","v":{"$error":"#REF!"}},{"$f":"MTK!#REF!","v":{"$error":"#REF!"}},{"$error":"#REF!"},{"$f":"IPA!K193","v":{"$error":"#DIV/0!"}},{"$f":"IPA!N193","v":{"$error":"#DIV/0!"}},{"$error":"#DIV/0!"},{"$f":"IPS!#REF!","v":{"$error":"#REF!"}},{"$f":"IPS!#REF!","v":{"$error":"#REF!"}},{"$error":"#REF!"},{"$f":"SBK!#REF!","v":{"$error":"#REF!"}},{"$f":"SBK!#REF!","v":{"$error":"#REF!"}},{"$error":"#REF!"},{"$f":"PJK!#REF!","v":{"$error":"#REF!"}},{"$f":"PJK!#REF!","v":{"$error":"#REF!"}},{"$error":"#REF!"},{"$f":"BD!#REF!","v":{"$error":"#REF!"}},{"$f":"BD!#REF!","v":{"$error":"#REF!"}},{"$error":"#REF!"},{"$f":"BIG!K193","v":{"$error":"#DIV/0!"}},{"$f":"BIG!N193","v":{"$error":"#DIV/0!"}},{"$error":"#DIV/0!"},{"$f":"AWJ!N193","v":0},{"$f":"AWJ!P193","v":0},0,{"$error":"#REF!"},{"$error":"#REF!"},null,{"$error":"#REF!"},{"$error":"#REF!"},null,{"$error":"#REF!"},{"$error":"#DIV/0!"},{"$f":"IPA!L193","v":0},{"$error":"#DIV/0!"},0,{"$error":"#REF!"},0,{"$error":"#REF!"},{"$error":"#REF!"},{"$error":"#REF!"},{"$error":"#REF!"},{"$error":"#REF!"},{"$error":"#REF!"},{"$error":"#DIV/0!"},{"$error":"#DIV/0!"},{"$error":"#DIV/0!"},null,null,{"$error":"#REF!"},0,{"$error":"#REF!"},{"$error":"#REF!"},0,{"$error":"#REF!"},{"$error":"#DIV/0!"},0,{"$error":"#DIV/0!"},0,null,null,null,"186/Mi.13.05.162/PP.01.1/06/2020"]
[{"$f":"SISWA!A194","v":187},{"$f":"IF(SISWA!B194=0,\"\",SISWA!B194)","v":""},{"$f":"IF(SISWA!C194=0,\"\",SISWA!C194)","v":""},{"$f":"IF(SISWA!D194=0,\"\",SISWA!D194)","v":""},{"$f":"IF(SISWA!E194=0,\"\",SISWA!E194)","v":""},{"$f":"IF(SISWA!P193=0,\"\",SISWA!P193)","v":", 00 Januari 1900"},{"$f":"IF(SISWA!H194=0,\"\",SISWA!H194)","v":""},{"$f":"#REF!","v":{"$error":"#REF!"}},{"$f":"#REF!","v":{"$error":"#REF!"}},{"$error":"#REF!"},null,null,null,null,null,null,null,null,null,null,null,null,{"$f":"PKn!#REF!","v":{"$error":"#REF!"}},{"$f":"PKn!#REF!","v":{"$error":"#REF!"}},{"$error":"#REF!"},{"$f":"BID!#REF!","v":{"$error":"#REF!"}},{"$f":"BID!#REF!","v":{"$error":"#REF!"}},{"$error":"#REF!"},null,null,null,{"$f":"MTK!#REF!","v":{"$error":"#REF!"}},{"$f":"MTK!#REF!","v":{"$error":"#REF!"}},{"$error":"#REF!"},{"$f":"IPA!K194","v":{"$error":"#DIV/0!"}},{"$f":"IPA!N194","v":{"$error":"#DIV/0!"}},{"$error":"#DIV/0!"},{"$f":"IPS!#REF!","v":{"$error":"#REF!"}},{"$f":"IPS!#REF!","v":{"$error":"#REF!"}},{"$error":"#REF!"},{"$f":"SBK!#REF!","v":{"$error":"#REF!"}},{"$f":"SBK!#REF!","v":{"$error":"#REF!"}},{"$error":"#REF!"},{"$f":"PJK!#REF!","v":{"$error":"#REF!"}},{"$f":"PJK!#REF!","v":{"$error":"#REF!"}},{"$error":"#REF!"},{"$f":"BD!#REF!","v":{"$error":"#REF!"}},{"$f":"BD!#REF!","v":{"$error":"#REF!"}},{"$error":"#REF!"},{"$f":"BIG!K194","v":{"$error":"#DIV/0!"}},{"$f":"BIG!N194","v":{"$error":"#DIV/0!"}},{"$error":"#DIV/0!"},{"$f":"AWJ!N194","v":0},{"$f":"AWJ!P194","v":0},0,{"$error":"#REF!"},{"$error":"#REF!"},null,{"$error":"#REF!"},{"$error":"#REF!"},null,{"$error":"#REF!"},{"$error":"#DIV/0!"},{"$f":"IPA!L194","v":0},{"$error":"#DIV/0!"},0,{"$error":"#REF!"},0,{"$error":"#REF!"},{"$error":"#REF!"},{"$error":"#REF!"},{"$error":"#REF!"},{"$error":"#REF!"},{"$error":"#REF!"},{"$error":"#DIV/0!"},{"$error":"#DIV/0!"},{"$error":"#DIV/0!"},null,null,{"$error":"#REF!"},0,{"$error":"#REF!"},{"$error":"#REF!"},0,{"$error":"#REF!"},{"$error":"#DIV/0!"},0,{"$error":"#DIV/0!"},0,null,null,null,"187/Mi.13.05.162/PP.01.1/06/2020"]
[{"$f":"SISWA!A195","v":188},{"$f":"IF(SISWA!B195=0,\"\",SISWA!B195)","v":""},{"$f":"IF(SISWA!C195=0,\"\",SISWA!C195)","v":""},{"$f":"IF(SISWA!D195=0,\"\",SISWA!D195)","v":""},{"$f":"IF(SISWA!E195=0,\"\",SISWA!E195)","v":""},{"$f":"IF(SISWA!P194=0,\"\",SISWA!P194)","v":", 00 Januari 1900"},{"$f":"IF(SISWA!H195=0,\"\",SISWA!H195)","v":""},{"$f":"#REF!","v":{"$error":"#REF!"}},{"$f":"#REF!","v":{"$error":"#REF!"}},{"$error":"#REF!"},null,null,null,null,null,null,null,null,null,null,null,null,{"$f":"PKn!#REF!","v":{"$error":"#REF!"}},{"$f":"PKn!#REF!","v":{"$error":"#REF!"}},{"$error":"#REF!"},{"$f":"BID!#REF!","v":{"$error":"#REF!"}},{"$f":"BID!#REF!","v":{"$error":"#REF!"}},{"$error":"#REF!"},null,null,null,{"$f":"MTK!#REF!","v":{"$error":"#REF!"}},{"$f":"MTK!#REF!","v":{"$error":"#REF!"}},{"$error":"#REF!"},{"$f":"IPA!K195","v":{"$error":"#DIV/0!"}},{"$f":"IPA!N195","v":{"$error":"#DIV/0!"}},{"$error":"#DIV/0!"},{"$f":"IPS!#REF!","v":{"$error":"#REF!"}},{"$f":"IPS!#REF!","v":{"$error":"#REF!"}},{"$error":"#REF!"},{"$f":"SBK!#REF!","v":{"$error":"#REF!"}},{"$f":"SBK!#REF!","v":{"$error":"#REF!"}},{"$error":"#REF!"},{"$f":"PJK!#REF!","v":{"$error":"#REF!"}},{"$f":"PJK!#REF!","v":{"$error":"#REF!"}},{"$error":"#REF!"},{"$f":"BD!#REF!","v":{"$error":"#REF!"}},{"$f":"BD!#REF!","v":{"$error":"#REF!"}},{"$error":"#REF!"},{"$f":"BIG!K195","v":{"$error":"#DIV/0!"}},{"$f":"BIG!N195","v":{"$error":"#DIV/0!"}},{"$error":"#DIV/0!"},{"$f":"AWJ!N195","v":0},{"$f":"AWJ!P195","v":0},0,{"$error":"#REF!"},{"$error":"#REF!"},null,{"$error":"#REF!"},{"$error":"#REF!"},null,{"$error":"#REF!"},{"$error":"#DIV/0!"},{"$f":"IPA!L195","v":0},{"$error":"#DIV/0!"},0,{"$error":"#REF!"},0,{"$error":"#REF!"},{"$error":"#REF!"},{"$error":"#REF!"},{"$error":"#REF!"},{"$error":"#REF!"},{"$error":"#REF!"},{"$error":"#DIV/0!"},{"$error":"#DIV/0!"},{"$error":"#DIV/0!"},null,null,{"$error":"#REF!"},0,{"$error":"#REF!"},{"$error":"#REF!"},0,{"$error":"#REF!"},{"$error":"#DIV/0!"},0,{"$error":"#DIV/0!"},0,null,null,null,"188/Mi.13.05.162/PP.01.1/06/2020"]
[{"$f":"SISWA!A196","v":189},{"$f":"IF(SISWA!B196=0,\"\",SISWA!B196)","v":""},{"$f":"IF(SISWA!C196=0,\"\",SISWA!C196)","v":""},{"$f":"IF(SISWA!D196=0,\"\",SISWA!D196)","v":""},{"$f":"IF(SISWA!E196=0,\"\",SISWA!E196)","v":""},{"$f":"IF(SISWA!P195=0,\"\",SISWA!P195)","v":", 00 Januari 1900"},{"$f":"IF(SISWA!H196=0,\"\",SISWA!H196)","v":""},{"$f":"#REF!","v":{"$error":"#REF!"}},{"$f":"#REF!","v":{"$error":"#REF!"}},{"$error":"#REF!"},null,null,null,null,null,null,null,null,null,null,null,null,{"$f":"PKn!#REF!","v":{"$error":"#REF!"}},{"$f":"PKn!#REF!","v":{"$error":"#REF!"}},{"$error":"#REF!"},{"$f":"BID!#REF!","v":{"$error":"#REF!"}},{"$f":"BID!#REF!","v":{"$error":"#REF!"}},{"$error":"#REF!"},null,null,null,{"$f":"MTK!#REF!","v":{"$error":"#REF!"}},{"$f":"MTK!#REF!","v":{"$error":"#REF!"}},{"$error":"#REF!"},{"$f":"IPA!K196","v":{"$error":"#DIV/0!"}},{"$f":"IPA!N196","v":{"$error":"#DIV/0!"}},{"$error":"#DIV/0!"},{"$f":"IPS!#REF!","v":{"$error":"#REF!"}},{"$f":"IPS!#REF!","v":{"$error":"#REF!"}},{"$error":"#REF!"},{"$f":"SBK!#REF!","v":{"$error":"#REF!"}},{"$f":"SBK!#REF!","v":{"$error":"#REF!"}},{"$error":"#REF!"},{"$f":"PJK!#REF!","v":{"$error":"#REF!"}},{"$f":"PJK!#REF!","v":{"$error":"#REF!"}},{"$error":"#REF!"},{"$f":"BD!#REF!","v":{"$error":"#REF!"}},{"$f":"BD!#REF!","v":{"$error":"#REF!"}},{"$error":"#REF!"},{"$f":"BIG!K196","v":{"$error":"#DIV/0!"}},{"$f":"BIG!N196","v":{"$error":"#DIV/0!"}},{"$error":"#DIV/0!"},{"$f":"AWJ!N196","v":0},{"$f":"AWJ!P196","v":0},0,{"$error":"#REF!"},{"$error":"#REF!"},null,{"$error":"#REF!"},{"$error":"#REF!"},null,{"$error":"#REF!"},{"$error":"#DIV/0!"},{"$f":"IPA!L196","v":0},{"$error":"#DIV/0!"},0,{"$error":"#REF!"},0,{"$error":"#REF!"},{"$error":"#REF!"},{"$error":"#REF!"},{"$error":"#REF!"},{"$error":"#REF!"},{"$error":"#REF!"},{"$error":"#DIV/0!"},{"$error":"#DIV/0!"},{"$error":"#DIV/0!"},null,null,{"$error":"#REF!"},0,{"$error":"#REF!"},{"$error":"#REF!"},0,{"$error":"#REF!"},{"$error":"#DIV/0!"},0,{"$error":"#DIV/0!"},0,null,null,null,"189/Mi.13.05.162/PP.01.1/06/2020"]
[{"$f":"SISWA!A197","v":190},{"$f":"IF(SISWA!B197=0,\"\",SISWA!B197)","v":""},{"$f":"IF(SISWA!C197=0,\"\",SISWA!C197)","v":""},{"$f":"IF(SISWA!D197=0,\"\",SISWA!D197)","v":""},{"$f":"IF(SISWA!E197=0,\"\",SISWA!E197)","v":""},{"$f":"IF(SISWA!P196=0,\"\",SISWA!P196)","v":", 00 Januari 1900"},{"$f":"IF(SISWA!H197=0,\"\",SISWA!H197)","v":""},{"$f":"#REF!","v":{"$error":"#REF!"}},{"$f":"#REF!","v":{"$error":"#REF!"}},{"$error":"#REF!"},null,null,null,null,null,null,null,null,null,null,null,null,{"$f":"PKn!#REF!","v":{"$error":"#REF!"}},{"$f":"PKn!#REF!","v":{"$error":"#REF!"}},{"$error":"#REF!"},{"$f":"BID!#REF!","v":{"$error":"#REF!"}},{"$f":"BID!#REF!","v":{"$error":"#REF!"}},{"$error":"#REF!"},null,null,null,{"$f":"MTK!#REF!","v":{"$error":"#REF!"}},{"$f":"MTK!#REF!","v":{"$error":"#REF!"}},{"$error":"#REF!"},{"$f":"IPA!K197","v":{"$error":"#DIV/0!"}},{"$f":"IPA!N197","v":{"$error":"#DIV/0!"}},{"$error":"#DIV/0!"},{"$f":"IPS!#REF!","v":{"$error":"#REF!"}},{"$f":"IPS!#REF!","v":{"$error":"#REF!"}},{"$error":"#REF!"},{"$f":"SBK!#REF!","v":{"$error":"#REF!"}},{"$f":"SBK!#REF!","v":{"$error":"#REF!"}},{"$error":"#REF!"},{"$f":"PJK!#REF!","v":{"$error":"#REF!"}},{"$f":"PJK!#REF!","v":{"$error":"#REF!"}},{"$error":"#REF!"},{"$f":"BD!#REF!","v":{"$error":"#REF!"}},{"$f":"BD!#REF!","v":{"$error":"#REF!"}},{"$error":"#REF!"},{"$f":"BIG!K197","v":{"$error":"#DIV/0!"}},{"$f":"BIG!N197","v":{"$error":"#DIV/0!"}},{"$error":"#DIV/0!"},{"$f":"AWJ!N197","v":0},{"$f":"AWJ!P197","v":0},0,{"$error":"#REF!"},{"$error":"#REF!"},null,{"$error":"#REF!"},{"$error":"#REF!"},null,{"$error":"#REF!"},{"$error":"#DIV/0!"},{"$f":"IPA!L197","v":0},{"$error":"#DIV/0!"},0,{"$error":"#REF!"},0,{"$error":"#REF!"},{"$error":"#REF!"},{"$error":"#REF!"},{"$error":"#REF!"},{"$error":"#REF!"},{"$error":"#REF!"},{"$error":"#DIV/0!"},{"$error":"#DIV/0!"},{"$error":"#DIV/0!"},null,null,{"$error":"#REF!"},0,{"$error":"#REF!"},{"$error":"#REF!"},0,{"$error":"#REF!"},{"$error":"#DIV/0!"},0,{"$error":"#DIV/0!"},0,null,null,null,"190/Mi.13.05.162/PP.01.1/06/2020"]
[{"$f":"SISWA!A198","v":191},{"$f":"IF(SISWA!B198=0,\"\",SISWA!B198)","v":""},{"$f":"IF(SISWA!C198=0,\"\",SISWA!C198)","v":""},{"$f":"IF(SISWA!D198=0,\"\",SISWA!D198)","v":""},{"$f":"IF(SISWA!E198=0,\"\",SISWA!E198)","v":""},{"$f":"IF(SISWA!P197=0,\"\",SISWA!P197)","v":", 00 Januari 1900"},{"$f":"IF(SISWA!H198=0,\"\",SISWA!H198)","v":""},{"$f":"#REF!","v":{"$error":"#REF!"}},{"$f":"#REF!","v":{"$error":"#REF!"}},{"$error":"#REF!"},null,null,null,null,null,null,null,null,null,null,null,null,{"$f":"PKn!#REF!","v":{"$error":"#REF!"}},{"$f":"PKn!#REF!","v":{"$error":"#REF!"}},{"$error":"#REF!"},{"$f":"BID!#REF!","v":{"$error":"#REF!"}},{"$f":"BID!#REF!","v":{"$error":"#REF!"}},{"$error":"#REF!"},null,null,null,{"$f":"MTK!#REF!","v":{"$error":"#REF!"}},{"$f":"MTK!#REF!","v":{"$error":"#REF!"}},{"$error":"#REF!"},{"$f":"IPA!K198","v":{"$error":"#DIV/0!"}},{"$f":"IPA!N198","v":{"$error":"#DIV/0!"}},{"$error":"#DIV/0!"},{"$f":"IPS!#REF!","v":{"$error":"#REF!"}},{"$f":"IPS!#REF!","v":{"$error":"#REF!"}},{"$error":"#REF!"},{"$f":"SBK!#REF!","v":{"$error":"#REF!"}},{"$f":"SBK!#REF!","v":{"$error":"#REF!"}},{"$error":"#REF!"},{"$f":"PJK!#REF!","v":{"$error":"#REF!"}},{"$f":"PJK!#REF!","v":{"$error":"#REF!"}},{"$error":"#REF!"},{"$f":"BD!#REF!","v":{"$error":"#REF!"}},{"$f":"BD!#REF!","v":{"$error":"#REF!"}},{"$error":"#REF!"},{"$f":"BIG!K198","v":{"$error":"#DIV/0!"}},{"$f":"BIG!N198","v":{"$error":"#DIV/0!"}},{"$error":"#DIV/0!"},{"$f":"AWJ!N198","v":0},{"$f":"AWJ!P198","v":0},0,{"$error":"#REF!"},{"$error":"#REF!"},null,{"$error":"#REF!"},{"$error":"#REF!"},null,{"$error":"#REF!"},{"$error":"#DIV/0!"},{"$f":"IPA!L198","v":0},{"$error":"#DIV/0!"},0,{"$error":"#REF!"},0,{"$error":"#REF!"},{"$error":"#REF!"},{"$error":"#REF!"},{"$error":"#REF!"},{"$error":"#REF!"},{"$error":"#REF!"},{"$error":"#DIV/0!"},{"$error":"#DIV/0!"},{"$error":"#DIV/0!"},null,null,{"$error":"#REF!"},0,{"$error":"#REF!"},{"$error":"#REF!"},0,{"$error":"#REF!"},{"$error":"#DIV/0!"},0,{"$error":"#DIV/0!"},0,null,null,null,"191/Mi.13.05.162/PP.01.1/06/2020"]
[{"$f":"SISWA!A199","v":192},{"$f":"IF(SISWA!B199=0,\"\",SISWA!B199)","v":""},{"$f":"IF(SISWA!C199=0,\"\",SISWA!C199)","v":""},{"$f":"IF(SISWA!D199=0,\"\",SISWA!D199)","v":""},{"$f":"IF(SISWA!E199=0,\"\",SISWA!E199)","v":""},{"$f":"IF(SISWA!P198=0,\"\",SISWA!P198)","v":", 00 Januari 1900"},{"$f":"IF(SISWA!H199=0,\"\",SISWA!H199)","v":""},{"$f":"#REF!","v":{"$error":"#REF!"}},{"$f":"#REF!","v":{"$error":"#REF!"}},{"$error":"#REF!"},null,null,null,null,null,null,null,null,null,null,null,null,{"$f":"PKn!#REF!","v":{"$error":"#REF!"}},{"$f":"PKn!#REF!","v":{"$error":"#REF!"}},{"$error":"#REF!"},{"$f":"BID!#REF!","v":{"$error":"#REF!"}},{"$f":"BID!#REF!","v":{"$error":"#REF!"}},{"$error":"#REF!"},null,null,null,{"$f":"MTK!#REF!","v":{"$error":"#REF!"}},{"$f":"MTK!#REF!","v":{"$error":"#REF!"}},{"$error":"#REF!"},{"$f":"IPA!K199","v":{"$error":"#DIV/0!"}},{"$f":"IPA!N199","v":{"$error":"#DIV/0!"}},{"$error":"#DIV/0!"},{"$f":"IPS!#REF!","v":{"$error":"#REF!"}},{"$f":"IPS!#REF!","v":{"$error":"#REF!"}},{"$error":"#REF!"},{"$f":"SBK!#REF!","v":{"$error":"#REF!"}},{"$f":"SBK!#REF!","v":{"$error":"#REF!"}},{"$error":"#REF!"},{"$f":"PJK!#REF!","v":{"$error":"#REF!"}},{"$f":"PJK!#REF!","v":{"$error":"#REF!"}},{"$error":"#REF!"},{"$f":"BD!#REF!","v":{"$error":"#REF!"}},{"$f":"BD!#REF!","v":{"$error":"#REF!"}},{"$error":"#REF!"},{"$f":"BIG!K199","v":{"$error":"#DIV/0!"}},{"$f":"BIG!N199","v":{"$error":"#DIV/0!"}},{"$error":"#DIV/0!"},{"$f":"AWJ!N199","v":0},{"$f":"AWJ!P199","v":0},0,{"$error":"#REF!"},{"$error":"#REF!"},null,{"$error":"#REF!"},{"$error":"#REF!"},null,{"$error":"#REF!"},{"$error":"#DIV/0!"},{"$f":"IPA!L199","v":0},{"$error":"#DIV/0!"},0,{"$error":"#REF!"},0,{"$error":"#REF!"},{"$error":"#REF!"},{"$error":"#REF!"},{"$error":"#REF!"},{"$error":"#REF!"},{"$error":"#REF!"},{"$error":"#DIV/0!"},{"$error":"#DIV/0!"},{"$error":"#DIV/0!"},null,null,{"$error":"#REF!"},0,{"$error":"#REF!"},{"$error":"#REF!"},0,{"$error":"#REF!"},{"$error":"#DIV/0!"},0,{"$error":"#DIV/0!"},0,null,null,null,"192/Mi.13.05.162/PP.01.1/06/2020"]
[{"$f":"SISWA!A200","v":193},{"$f":"IF(SISWA!B200=0,\"\",SISWA!B200)","v":""},{"$f":"IF(SISWA!C200=0,\"\",SISWA!C200)","v":""},{"$f":"IF(SISWA!D200=0,\"\",SISWA!D200)","v":""},{"$f":"IF(SISWA!E200=0,\"\",SISWA!E200)","v":""},{"$f":"IF(SISWA!P199=0,\"\",SISWA!P199)","v":", 00 Januari 1900"},{"$f":"IF(SISWA!H200=0,\"\",SISWA!H200)","v":""},{"$f":"#REF!","v":{"$error":"#REF!"}},{"$f":"#REF!","v":{"$error":"#REF!"}},{"$f":"(H201*60%)+(I201*40%)","v":{"$error":"#REF!"}},null,null,null,null,null,null,null,null,null,null,null,null,{"$f":"PKn!#REF!","v":{"$error":"#REF!"}},{"$f":"PKn!#REF!","v":{"$error":"#REF!"}},{"$f":"(W201*60%)+(X201*40%)","v":{"$error":"#REF!"}},{"$f":"BID!#REF!","v":{"$error":"#REF!"}},{"$f":"BID!#REF!","v":{"$error":"#REF!"}},{"$f":"(Z201*60%)+(AA201*40%)","v":{"$error":"#REF!"}},null,null,null,{"$f":"MTK!#REF!","v":{"$error":"#REF!"}},{"$f":"MTK!#REF!","v":{"$error":"#REF!"}},{"$f":"(AF201*60%)+(AG201*40%)","v":{"$error":"#REF!"}},{"$f":"IPA!K200","v":{"$error":"#DIV/0!"}},{"$f":"IPA!N200","v":{"$error":"#DIV/0!"}},{"$f":"(AI201*60%)+(AJ201*40%)","v":{"$error":"#DIV/0!"}},{"$f":"IPS!#REF!","v":{"$error":"#REF!"}},{"$f":"IPS!#REF!","v":{"$error":"#REF!"}},{"$f":"(AL201*60%)+(AM201*40%)","v":{"$error":"#REF!"}},{"$f":"SBK!#REF!","v":{"$error":"#REF!"}},{"$f":"SBK!#REF!","v":{"$error":"#REF!"}},{"$f":"(AO201*60%)+(AP201*40%)","v":{"$error":"#REF!"}},{"$f":"PJK!#REF!","v":{"$error":"#REF!"}},{"$f":"PJK!#REF!","v":{"$error":"#REF!"}},{"$f":"(AR201*60%)+(AS201*40%)","v":{"$error":"#REF!"}},{"$f":"BD!#REF!","v":{"$error":"#REF!"}},{"$f":"BD!#REF!","v":{"$error":"#REF!"}},{"$f":"(AU201*60%)+(AV201*40%)","v":{"$error":"#REF!"}},{"$f":"BIG!K200","v":{"$error":"#DIV/0!"}},{"$f":"BIG!N200","v":{"$error":"#DIV/0!"}},{"$f":"(AX201*60%)+(AY201*40%)","v":{"$error":"#DIV/0!"}},{"$f":"AWJ!N200","v":0},{"$f":"AWJ!P200","v":0},{"$f":"(BA201*60%)+(BB201*40%)","v":0},{"$error":"#REF!"},{"$f":"AB201","v":{"$error":"#REF!"}},null,{"$f":"(BE201*60%)+(BF201*40%)","v":{"$error":"#REF!"}},{"$f":"AH201","v":{"$error":"#REF!"}},null,{"$f":"(BH201*60%)+(BI201*40%)","v":{"$error":"#REF!"}},{"$f":"AK201","v":{"$error":"#DIV/0!"}},{"$f":"IPA!L200","v":0},{"$f":"(BK201*60%)+(BL201*40%)","v":{"$error":"#DIV/0!"}},0,{"$f":"SUM(BG201,BJ201,BM201)","v":{"$error":"#REF!"}},0,{"$error":"#REF!"},{"$error":"#REF!"},{"$error":"#REF!"},{"$error":"#REF!"},{"$error":"#REF!"},{"$error":"#REF!"},{"$error":"#DIV/0!"},{"$error":"#DIV/0!"},{"$error":"#DIV/0!"},null,null,{"$error":"#REF!"},0,{"$error":"#REF!"},{"$error":"#REF!"},0,{"$error":"#REF!"},{"$error":"#DIV/0!"},0,{"$error":"#DIV/0!"},0,null,null,null,"193/Mi.13.05.162/PP.01.1/06/2020"]
[{"$f":"SISWA!A201","v":194},{"$f":"IF(SISWA!B201=0,\"\",SISWA!B201)","v":""},{"$f":"IF(SISWA!C201=0,\"\",SISWA!C201)","v":""},{"$f":"IF(SISWA!D201=0,\"\",SISWA!D201)","v":""},{"$f":"IF(SISWA!E201=0,\"\",SISWA!E201)","v":""},{"$f":"IF(SISWA!P200=0,\"\",SISWA!P200)","v":", 00 Januari 1900"},{"$f":"IF(SISWA!H201=0,\"\",SISWA!H201)","v":""},{"$f":"#REF!","v":{"$error":"#REF!"}},{"$f":"#REF!","v":{"$error":"#REF!"}},{"$error":"#REF!"},null,null,null,null,null,null,null,null,null,null,null,null,{"$f":"PKn!#REF!","v":{"$error":"#REF!"}},{"$f":"PKn!#REF!","v":{"$error":"#REF!"}},{"$error":"#REF!"},{"$f":"BID!#REF!","v":{"$error":"#REF!"}},{"$f":"BID!#REF!","v":{"$error":"#REF!"}},{"$error":"#REF!"},null,null,null,{"$f":"MTK!#REF!","v":{"$error":"#REF!"}},{"$f":"MTK!#REF!","v":{"$error":"#REF!"}},{"$error":"#REF!"},{"$f":"IPA!K201","v":{"$error":"#DIV/0!"}},{"$f":"IPA!N201","v":{"$error":"#DIV/0!"}},{"$error":"#DIV/0!"},{"$f":"IPS!#REF!","v":{"$error":"#REF!"}},{"$f":"IPS!#REF!","v":{"$error":"#REF!"}},{"$error":"#REF!"},{"$f":"SBK!#REF!","v":{"$error":"#REF!"}},{"$f":"SBK!#REF!","v":{"$error":"#REF!"}},{"$error":"#REF!"},{"$f":"PJK!#REF!","v":{"$error":"#REF!"}},{"$f":"PJK!#REF!","v":{"$error":"#REF!"}},{"$error":"#REF!"},{"$f":"BD!#REF!","v":{"$error":"#REF!"}},{"$f":"BD!#REF!","v":{"$error":"#REF!"}},{"$error":"#REF!"},{"$f":"BIG!K201","v":{"$error":"#DIV/0!"}},{"$f":"BIG!N201","v":{"$error":"#DIV/0!"}},{"$error":"#DIV/0!"},{"$f":"AWJ!N201","v":0},{"$f":"AWJ!P201","v":0},0,{"$f":"AVERAGE(M202,P202,S202,V202,Y202,AB202,AE202,AH202,AK202,AN202,AQ202,AT202,AW202,AZ202)","v":{"$error":"#REF!"}},{"$error":"#REF!"},null,{"$error":"#REF!"},{"$error":"#REF!"},null,{"$error":"#REF!"},{"$error":"#DIV/0!"},{"$f":"IPA!L201","v":0},{"$error":"#DIV/0!"},{"$f":"AVERAGE(BF202,BI202,BL202)","v":0},{"$error":"#REF!"},{"$f":"SUM(BF202,BI202,BL202)","v":0},{"$f":"Z202","v":{"$error":"#REF!"}},{"$f":"AA202","v":{"$error":"#REF!"}},{"$f":"AB202","v":{"$error":"#REF!"}},{"$f":"AF202","v":{"$error":"#REF!"}},{"$f":"AG202","v":{"$error":"#REF!"}},{"$f":"AH202","v":{"$error":"#REF!"}},{"$f":"AI202","v":{"$error":"#DIV/0!"}},{"$f":"AJ202","v":{"$error":"#DIV/0!"}},{"$f":"AK202","v":{"$error":"#DIV/0!"}},null,null,{"$f":"BE202","v":{"$error":"#REF!"}},{"$f":"BF202","v":0},{"$f":"BG202","v":{"$error":"#REF!"}},{"$f":"BH202","v":{"$error":"#REF!"}},{"$f":"BI202","v":0},{"$f":"BJ202","v":{"$error":"#REF!"}},{"$f":"BK202","v":{"$error":"#DIV/0!"}},{"$f":"BL202","v":0},{"$f":"BM202","v":{"$error":"#DIV/0!"}},{"$f":"BN202","v":0},null,null,null,"194/Mi.13.05.162/PP.01.1/06/2020"]
[{"$f":"SISWA!A202","v":195},{"$f":"IF(SISWA!B202=0,\"\",SISWA!B202)","v":""},{"$f":"IF(SISWA!C202=0,\"\",SISWA!C202)","v":""},{"$f":"IF(SISWA!D202=0,\"\",SISWA!D202)","v":""},{"$f":"IF(SISWA!E202=0,\"\",SISWA!E202)","v":""},{"$f":"IF(SISWA!P201=0,\"\",SISWA!P201)","v":", 00 Januari 1900"},{"$f":"IF(SISWA!H202=0,\"\",SISWA!H202)","v":""},{"$f":"#REF!","v":{"$error":"#REF!"}},{"$f":"#REF!","v":{"$error":"#REF!"}},{"$error":"#REF!"},null,null,null,null,null,null,null,null,null,null,null,null,{"$f":"PKn!#REF!","v":{"$error":"#REF!"}},{"$f":"PKn!#REF!","v":{"$error":"#REF!"}},{"$error":"#REF!"},{"$f":"BID!#REF!","v":{"$error":"#REF!"}},{"$f":"BID!#REF!","v":{"$error":"#REF!"}},{"$error":"#REF!"},null,null,null,{"$f":"MTK!#REF!","v":{"$error":"#REF!"}},{"$f":"MTK!#REF!","v":{"$error":"#REF!"}},{"$error":"#REF!"},{"$f":"IPA!K202","v":{"$error":"#DIV/0!"}},{"$f":"IPA!N202","v":{"$error":"#DIV/0!"}},{"$error":"#DIV/0!"},{"$f":"IPS!#REF!","v":{"$error":"#REF!"}},{"$f":"IPS!#REF!","v":{"$error":"#REF!"}},{"$error":"#REF!"},{"$f":"SBK!#REF!","v":{"$error":"#REF!"}},{"$f":"SBK!#REF!","v":{"$error":"#REF!"}},{"$error":"#REF!"},{"$f":"PJK!#REF!","v":{"$error":"#REF!"}},{"$f":"PJK!#REF!","v":{"$error":"#REF!"}},{"$error":"#REF!"},{"$f":"BD!#REF!","v":{"$error":"#REF!"}},{"$f":"BD!#REF!","v":{"$error":"#REF!"}},{"$error":"#REF!"},{"$f":"BIG!K202","v":{"$error":"#DIV/0!"}},{"$f":"BIG!N202","v":{"$error":"#DIV/0!"}},{"$error":"#DIV/0!"},{"$f":"AWJ!N202","v":0},{"$f":"AWJ!P202","v":0},0,{"$error":"#REF!"},{"$error":"#REF!"},null,{"$error":"#REF!"},{"$error":"#REF!"},null,{"$error":"#REF!"},{"$error":"#DIV/0!"},{"$f":"IPA!L202","v":0},{"$error":"#DIV/0!"},0,{"$error":"#REF!"},0,{"$error":"#REF!"},{"$error":"#REF!"},{"$error":"#REF!"},{"$error":"#REF!"},{"$error":"#REF!"},{"$error":"#REF!"},{"$error":"#DIV/0!"},{"$error":"#DIV/0!"},{"$error":"#DIV/0!"},null,null,{"$error":"#REF!"},0,{"$error":"#REF!"},{"$error":"#REF!"},0,{"$error":"#REF!"},{"$error":"#DIV/0!"},0,{"$error":"#DIV/0!"},0,null,null,null,"195/Mi.13.05.162/PP.01.1/06/2020"]
[{"$f":"SISWA!A203","v":196},{"$f":"IF(SISWA!B203=0,\"\",SISWA!B203)","v":""},{"$f":"IF(SISWA!C203=0,\"\",SISWA!C203)","v":""},{"$f":"IF(SISWA!D203=0,\"\",SISWA!D203)","v":""},{"$f":"IF(SISWA!E203=0,\"\",SISWA!E203)","v":""},{"$f":"IF(SISWA!P202=0,\"\",SISWA!P202)","v":", 00 Januari 1900"},{"$f":"IF(SISWA!H203=0,\"\",SISWA!H203)","v":""},{"$f":"#REF!","v":{"$error":"#REF!"}},{"$f":"#REF!","v":{"$error":"#REF!"}},{"$error":"#REF!"},null,null,null,null,null,null,null,null,null,null,null,null,{"$f":"PKn!#REF!","v":{"$error":"#REF!"}},{"$f":"PKn!#REF!","v":{"$error":"#REF!"}},{"$error":"#REF!"},{"$f":"BID!#REF!","v":{"$error":"#REF!"}},{"$f":"BID!#REF!","v":{"$error":"#REF!"}},{"$error":"#REF!"},null,null,null,{"$f":"MTK!#REF!","v":{"$error":"#REF!"}},{"$f":"MTK!#REF!","v":{"$error":"#REF!"}},{"$error":"#REF!"},{"$f":"IPA!K203","v":{"$error":"#DIV/0!"}},{"$f":"IPA!N203","v":{"$error":"#DIV/0!"}},{"$error":"#DIV/0!"},{"$f":"IPS!#REF!","v":{"$error":"#REF!"}},{"$f":"IPS!#REF!","v":{"$error":"#REF!"}},{"$error":"#REF!"},{"$f":"SBK!#REF!","v":{"$error":"#REF!"}},{"$f":"SBK!#REF!","v":{"$error":"#REF!"}},{"$error":"#REF!"},{"$f":"PJK!#REF!","v":{"$error":"#REF!"}},{"$f":"PJK!#REF!","v":{"$error":"#REF!"}},{"$error":"#REF!"},{"$f":"BD!#REF!","v":{"$error":"#REF!"}},{"$f":"BD!#REF!","v":{"$error":"#REF!"}},{"$error":"#REF!"},{"$f":"BIG!K203","v":{"$error":"#DIV/0!"}},{"$f":"BIG!N203","v":{"$error":"#DIV/0!"}},{"$error":"#DIV/0!"},{"$f":"AWJ!N203","v":0},{"$f":"AWJ!P203","v":0},0,{"$error":"#REF!"},{"$error":"#REF!"},null,{"$error":"#REF!"},{"$error":"#REF!"},null,{"$error":"#REF!"},{"$error":"#DIV/0!"},{"$f":"IPA!L203","v":0},{"$error":"#DIV/0!"},0,{"$error":"#REF!"},0,{"$error":"#REF!"},{"$error":"#REF!"},{"$error":"#REF!"},{"$error":"#REF!"},{"$error":"#REF!"},{"$error":"#REF!"},{"$error":"#DIV/0!"},{"$error":"#DIV/0!"},{"$error":"#DIV/0!"},null,null,{"$error":"#REF!"},0,{"$error":"#REF!"},{"$error":"#REF!"},0,{"$error":"#REF!"},{"$error":"#DIV/0!"},0,{"$error":"#DIV/0!"},0,null,null,null,"196/Mi.13.05.162/PP.01.1/06/2020"]
[{"$f":"SISWA!A204","v":197},{"$f":"IF(SISWA!B204=0,\"\",SISWA!B204)","v":""},{"$f":"IF(SISWA!C204=0,\"\",SISWA!C204)","v":""},{"$f":"IF(SISWA!D204=0,\"\",SISWA!D204)","v":""},{"$f":"IF(SISWA!E204=0,\"\",SISWA!E204)","v":""},{"$f":"IF(SISWA!P203=0,\"\",SISWA!P203)","v":", 00 Januari 1900"},{"$f":"IF(SISWA!H204=0,\"\",SISWA!H204)","v":""},{"$f":"#REF!","v":{"$error":"#REF!"}},{"$f":"#REF!","v":{"$error":"#REF!"}},{"$error":"#REF!"},null,null,null,null,null,null,null,null,null,null,null,null,{"$f":"PKn!#REF!","v":{"$error":"#REF!"}},{"$f":"PKn!#REF!","v":{"$error":"#REF!"}},{"$error":"#REF!"},{"$f":"BID!#REF!","v":{"$error":"#REF!"}},{"$f":"BID!#REF!","v":{"$error":"#REF!"}},{"$error":"#REF!"},null,null,null,{"$f":"MTK!#REF!","v":{"$error":"#REF!"}},{"$f":"MTK!#REF!","v":{"$error":"#REF!"}},{"$error":"#REF!"},{"$f":"IPA!K204","v":{"$error":"#DIV/0!"}},{"$f":"IPA!N204","v":{"$error":"#DIV/0!"}},{"$error":"#DIV/0!"},{"$f":"IPS!#REF!","v":{"$error":"#REF!"}},{"$f":"IPS!#REF!","v":{"$error":"#REF!"}},{"$error":"#REF!"},{"$f":"SBK!#REF!","v":{"$error":"#REF!"}},{"$f":"SBK!#REF!","v":{"$error":"#REF!"}},{"$error":"#REF!"},{"$f":"PJK!#REF!","v":{"$error":"#REF!"}},{"$f":"PJK!#REF!","v":{"$error":"#REF!"}},{"$error":"#REF!"},{"$f":"BD!#REF!","v":{"$error":"#REF!"}},{"$f":"BD!#REF!","v":{"$error":"#REF!"}},{"$error":"#REF!"},{"$f":"BIG!K204","v":{"$error":"#DIV/0!"}},{"$f":"BIG!N204","v":{"$error":"#DIV/0!"}},{"$error":"#DIV/0!"},{"$f":"AWJ!N204","v":0},{"$f":"AWJ!P204","v":0},0,{"$error":"#REF!"},{"$error":"#REF!"},null,{"$error":"#REF!"},{"$error":"#REF!"},null,{"$error":"#REF!"},{"$error":"#DIV/0!"},{"$f":"IPA!L204","v":0},{"$error":"#DIV/0!"},0,{"$error":"#REF!"},0,{"$error":"#REF!"},{"$error":"#REF!"},{"$error":"#REF!"},{"$error":"#REF!"},{"$error":"#REF!"},{"$error":"#REF!"},{"$error":"#DIV/0!"},{"$error":"#DIV/0!"},{"$error":"#DIV/0!"},null,null,{"$error":"#REF!"},0,{"$error":"#REF!"},{"$error":"#REF!"},0,{"$error":"#REF!"},{"$error":"#DIV/0!"},0,{"$error":"#DIV/0!"},0,null,null,null,"197/Mi.13.05.162/PP.01.1/06/2020"]
[{"$f":"SISWA!A205","v":198},{"$f":"IF(SISWA!B205=0,\"\",SISWA!B205)","v":""},{"$f":"IF(SISWA!C205=0,\"\",SISWA!C205)","v":""},{"$f":"IF(SISWA!D205=0,\"\",SISWA!D205)","v":""},{"$f":"IF(SISWA!E205=0,\"\",SISWA!E205)","v":""},{"$f":"IF(SISWA!P204=0,\"\",SISWA!P204)","v":", 00 Januari 1900"},{"$f":"IF(SISWA!H205=0,\"\",SISWA!H205)","v":""},{"$f":"#REF!","v":{"$error":"#REF!"}},{"$f":"#REF!","v":{"$error":"#REF!"}},{"$error":"#REF!"},null,null,null,null,null,null,null,null,null,null,null,null,{"$f":"PKn!#REF!","v":{"$error":"#REF!"}},{"$f":"PKn!#REF!","v":{"$error":"#REF!"}},{"$error":"#REF!"},{"$f":"BID!#REF!","v":{"$error":"#REF!"}},{"$f":"BID!#REF!","v":{"$error":"#REF!"}},{"$error":"#REF!"},null,null,null,{"$f":"MTK!#REF!","v":{"$error":"#REF!"}},{"$f":"MTK!#REF!","v":{"$error":"#REF!"}},{"$error":"#REF!"},{"$f":"IPA!K205","v":{"$error":"#DIV/0!"}},{"$f":"IPA!N205","v":{"$error":"#DIV/0!"}},{"$error":"#DIV/0!"},{"$f":"IPS!#REF!","v":{"$error":"#REF!"}},{"$f":"IPS!#REF!","v":{"$error":"#REF!"}},{"$error":"#REF!"},{"$f":"SBK!#REF!","v":{"$error":"#REF!"}},{"$f":"SBK!#REF!","v":{"$error":"#REF!"}},{"$error":"#REF!"},{"$f":"PJK!#REF!","v":{"$error":"#REF!"}},{"$f":"PJK!#REF!","v":{"$error":"#REF!"}},{"$error":"#REF!"},{"$f":"BD!#REF!","v":{"$error":"#REF!"}},{"$f":"BD!#REF!","v":{"$error":"#REF!"}},{"$error":"#REF!"},{"$f":"BIG!K205","v":{"$error":"#DIV/0!"}},{"$f":"BIG!N205","v":{"$error":"#DIV/0!"}},{"$error":"#DIV/0!"},{"$f":"AWJ!N205","v":0},{"$f":"AWJ!P205","v":0},0,{"$error":"#REF!"},{"$error":"#REF!"},null,{"$error":"#REF!"},{"$error":"#REF!"},null,{"$error":"#REF!"},{"$error":"#DIV/0!"},{"$f":"IPA!L205","v":0},{"$error":"#DIV/0!"},0,{"$error":"#REF!"},0,{"$error":"#REF!"},{"$error":"#REF!"},{"$error":"#REF!"},{"$error":"#REF!"},{"$error":"#REF!"},{"$error":"#REF!"},{"$error":"#DIV/0!"},{"$error":"#DIV/0!"},{"$error":"#DIV/0!"},null,null,{"$error":"#REF!"},0,{"$error":"#REF!"},{"$error":"#REF!"},0,{"$error":"#REF!"},{"$error":"#DIV/0!"},0,{"$error":"#DIV/0!"},0,null,null,null,"198/Mi.13.05.162/PP.01.1/06/2020"]
[{"$f":"SISWA!A206","v":199},{"$f":"IF(SISWA!B206=0,\"\",SISWA!B206)","v":""},{"$f":"IF(SISWA!C206=0,\"\",SISWA!C206)","v":""},{"$f":"IF(SISWA!D206=0,\"\",SISWA!D206)","v":""},{"$f":"IF(SISWA!E206=0,\"\",SISWA!E206)","v":""},{"$f":"IF(SISWA!P205=0,\"\",SISWA!P205)","v":", 00 Januari 1900"},{"$f":"IF(SISWA!H206=0,\"\",SISWA!H206)","v":""},{"$f":"#REF!","v":{"$error":"#REF!"}},{"$f":"#REF!","v":{"$error":"#REF!"}},{"$error":"#REF!"},null,null,null,null,null,null,null,null,null,null,null,null,{"$f":"PKn!#REF!","v":{"$error":"#REF!"}},{"$f":"PKn!#REF!","v":{"$error":"#REF!"}},{"$error":"#REF!"},{"$f":"BID!#REF!","v":{"$error":"#REF!"}},{"$f":"BID!#REF!","v":{"$error":"#REF!"}},{"$error":"#REF!"},null,null,null,{"$f":"MTK!#REF!","v":{"$error":"#REF!"}},{"$f":"MTK!#REF!","v":{"$error":"#REF!"}},{"$error":"#REF!"},{"$f":"IPA!K206","v":{"$error":"#DIV/0!"}},{"$f":"IPA!N206","v":{"$error":"#DIV/0!"}},{"$error":"#DIV/0!"},{"$f":"IPS!#REF!","v":{"$error":"#REF!"}},{"$f":"IPS!#REF!","v":{"$error":"#REF!"}},{"$error":"#REF!"},{"$f":"SBK!#REF!","v":{"$error":"#REF!"}},{"$f":"SBK!#REF!","v":{"$error":"#REF!"}},{"$error":"#REF!"},{"$f":"PJK!#REF!","v":{"$error":"#REF!"}},{"$f":"PJK!#REF!","v":{"$error":"#REF!"}},{"$error":"#REF!"},{"$f":"BD!#REF!","v":{"$error":"#REF!"}},{"$f":"BD!#REF!","v":{"$error":"#REF!"}},{"$error":"#REF!"},{"$f":"BIG!K206","v":{"$error":"#DIV/0!"}},{"$f":"BIG!N206","v":{"$error":"#DIV/0!"}},{"$error":"#DIV/0!"},{"$f":"AWJ!N206","v":0},{"$f":"AWJ!P206","v":0},0,{"$error":"#REF!"},{"$error":"#REF!"},null,{"$error":"#REF!"},{"$error":"#REF!"},null,{"$error":"#REF!"},{"$error":"#DIV/0!"},{"$f":"IPA!L206","v":0},{"$error":"#DIV/0!"},0,{"$error":"#REF!"},0,{"$error":"#REF!"},{"$error":"#REF!"},{"$error":"#REF!"},{"$error":"#REF!"},{"$error":"#REF!"},{"$error":"#REF!"},{"$error":"#DIV/0!"},{"$error":"#DIV/0!"},{"$error":"#DIV/0!"},null,null,{"$error":"#REF!"},0,{"$error":"#REF!"},{"$error":"#REF!"},0,{"$error":"#REF!"},{"$error":"#DIV/0!"},0,{"$error":"#DIV/0!"},0,null,null,null,"199/Mi.13.05.162/PP.01.1/06/2020"]
[{"$f":"SISWA!A207","v":200},{"$f":"IF(SISWA!B207=0,\"\",SISWA!B207)","v":""},{"$f":"IF(SISWA!C207=0,\"\",SISWA!C207)","v":""},{"$f":"IF(SISWA!D207=0,\"\",SISWA!D207)","v":""},{"$f":"IF(SISWA!E207=0,\"\",SISWA!E207)","v":""},{"$f":"IF(SISWA!P206=0,\"\",SISWA!P206)","v":", 00 Januari 1900"},{"$f":"IF(SISWA!H207=0,\"\",SISWA!H207)","v":""},{"$f":"#REF!","v":{"$error":"#REF!"}},{"$f":"#REF!","v":{"$error":"#REF!"}},{"$error":"#REF!"},null,null,null,null,null,null,null,null,null,null,null,null,{"$f":"PKn!#REF!","v":{"$error":"#REF!"}},{"$f":"PKn!#REF!","v":{"$error":"#REF!"}},{"$error":"#REF!"},{"$f":"BID!#REF!","v":{"$error":"#REF!"}},{"$f":"BID!#REF!","v":{"$error":"#REF!"}},{"$error":"#REF!"},null,null,null,{"$f":"MTK!#REF!","v":{"$error":"#REF!"}},{"$f":"MTK!#REF!","v":{"$error":"#REF!"}},{"$error":"#REF!"},{"$f":"IPA!K207","v":{"$error":"#DIV/0!"}},{"$f":"IPA!N207","v":{"$error":"#DIV/0!"}},{"$error":"#DIV/0!"},{"$f":"IPS!#REF!","v":{"$error":"#REF!"}},{"$f":"IPS!#REF!","v":{"$error":"#REF!"}},{"$error":"#REF!"},{"$f":"SBK!#REF!","v":{"$error":"#REF!"}},{"$f":"SBK!#REF!","v":{"$error":"#REF!"}},{"$error":"#REF!"},{"$f":"PJK!#REF!","v":{"$error":"#REF!"}},{"$f":"PJK!#REF!","v":{"$error":"#REF!"}},{"$error":"#REF!"},{"$f":"BD!#REF!","v":{"$error":"#REF!"}},{"$f":"BD!#REF!","v":{"$error":"#REF!"}},{"$error":"#REF!"},{"$f":"BIG!K207","v":{"$error":"#DIV/0!"}},{"$f":"BIG!N207","v":{"$error":"#DIV/0!"}},{"$error":"#DIV/0!"},{"$f":"AWJ!N207","v":0},{"$f":"AWJ!P207","v":0},0,{"$error":"#REF!"},{"$error":"#REF!"},null,{"$error":"#REF!"},{"$error":"#REF!"},null,{"$error":"#REF!"},{"$error":"#DIV/0!"},{"$f":"IPA!L207","v":0},{"$error":"#DIV/0!"},{"$f":"AVERAGE(BF208,BI208,BL208)","v":0},{"$error":"#REF!"},0,{"$error":"#REF!"},{"$error":"#REF!"},{"$error":"#REF!"},{"$error":"#REF!"},{"$error":"#REF!"},{"$error":"#REF!"},{"$error":"#DIV/0!"},{"$error":"#DIV/0!"},{"$error":"#DIV/0!"},null,null,{"$error":"#REF!"},0,{"$error":"#REF!"},{"$error":"#REF!"},0,{"$error":"#REF!"},{"$error":"#DIV/0!"},0,{"$error":"#DIV/0!"},0,null,null,null,"200/Mi.13.05.162/PP.01.1/06/2020"]

{"sheet":"IJAZAH","index":18,"n_rows":99,"n_cols":28,"rows_kept":99,"cut":false,"hidden":false,"merged":[[81,7,81,8],[82,7,82,8],[83,7,83,8],[84,7,84,8],[74,7,74,8],[75,7,75,8],[60,1,60,9],[57,1,57,9],[71,2,71,5],[80,7,80,8],[76,7,76,8],[77,7,77,8],[64,6,64,10],[89,1,89,8],[57,10,57,11],[59,1,59,9],[59,10,59,11],[60,10,60,11],[73,7,73,8],[78,7,78,8],[88,7,88,8],[85,7,85,8],[86,7,86,8],[79,7,79,8],[62,1,62,9],[87,7,87,8],[85,3,85,4],[69,1,70,9],[71,7,71,8],[9,1,9,10],[5,1,5,9],[6,1,6,9],[6,10,6,11],[7,1,7,10],[8,1,8,10],[22,1,23,1],[21,1,21,9],[21,10,21,11],[12,1,19,1],[12,2,13,9],[14,6,14,10]]}
[]
[null,null,null,null,null,null,null,null,null,null,null,null,null,null,null,null,null,null,null,null,null,null,null,null,null,null,null,1]
[null,null,null,null,null,null,null,null,null,null,null,null,null,null,null,null,null,null,null,null,null,null,null,null,null,null,null,2]
[null,null,null,null,null,null,null,null,null,null,null,null,null,null,null,null,null,null,null,null,null,null,null,null,null,null,null,3]
[null,null,null,null,null,null,null,null,null,null,null,null,null,null,null,null,null,null,null,null,null,null,null,null,null,null,null,4]
[null,null,null,null,null,null,null,null,null,null,null,null,null,null,null,null,null,null,null,null,null,null,null,null,null,null,null,5]
[null,null,null,null,null,null,null,null,null,null,null,null,null,null,null,null,null,null,null,null,null,null,null,null,null,null,null,6]
[null,"IJAZAH SEMENTARA",null,null,null,null,null,null,null,null,null,null,null,null,null,null,null,null,null,null,null,null,null,null,null,null,null,7]
[null,"MADRASAH IBTIDAIYAH",null,null,null,null,null,null,null,null,null,null,null,null,null,null,null,null,null,null,null,null,null,null,null,null,null,8]
[null,{"$f":"B61","v":"Tahun Pelajaran 2019/2020"},null,null,null,null,null,null,null,null,null,null,null,null,null,null,null,null,null,null,null,null,null,null,null,null,null,9]
[null,null,null,null,null,null,{"$f":"\"Nomor : \"&DAKOLUN!CO9","v":"Nomor : 001/Mi.13.05.162/PP.01.1/06/2020"},null,null,null,null,null,"NO ABSEN",null,null,null,null,null,null,null,null,null,null,null,null,null,null,10]
[null,null,null,null,null,null,null,null,null,null,null,null,1,null,null,null,null,null,null,null,null,null,null,null,null,null,null,11]
[null,null,{"$f":"B63","v":"yang bertanda tangan dibawah ini, Kepala Madrasah Ibtidaiyah Nurul Islam Labruk Kidul Kecamatan Sumbersuko menerangkan bahwa :"},null,null,null,null,null,null,null,null,null,null,null,null,null,null,null,null,null,null,null,null,null,null,null,null,12]
[null,null,null,null,null,null,null,null,null,null,null,null,null,null,null,null,null,null,null,null,null,null,null,null,null,null,null,13]
[null,null,"nama ",null,null,":",{"$f":"VLOOKUP(M12,DAKOLUN!A9:'DAKOLUN'!G208,5,0)","v":"ACHMAD FATHIR IZUDDIN"},null,null,null,null,null,null,null,null,null,null,null,null,null,null,null,null,null,null,null,null,14]
[null,null,"tempat dan tanggal lahir ",null,null,":",{"$f":"VLOOKUP(M12,DAKOLUN!A9:'DAKOLUN'!G208,6,0)","v":"Lumajang, 09 November 2007"},null,null,null,null,null,null,null,null,null,null,null,null,null,null,null,null,null,null,null,null,15]
[null,null,"nama orang tua/wali ",null,null,":",{"$f":"PROPER(VLOOKUP(M12,DAKOLUN!A9:'DAKOLUN'!G208,7,0))","v":"Nuruddin"},null,null,null,null,null,"TEMPAT IJAZAH",null,null,null,null,null,null,null,null,null,null,null,null,null,null,16]
[null,null,"nomor induk siswa",null,null,":",{"$f":"VLOOKUP(M12,DAKOLUN!A9:'DAKOLUN'!G208,2,0)","v":4331},null,null,null,null,null,"Lumajang"]
[null,null,"nomor induk siswa nasional ",null,null,":",{"$f":"IF(VLOOKUP(M12,DAKOLUN!A9:'DAKOLUN'!G208,3,0)=0,\"\",VLOOKUP(M12,DAKOLUN!A9:'DAKOLUN'!G208,3,0))","v":"0078140536"},null,null,null,null,null,"TANGGAL IJAZAH",null,null,null,null,null,null,null,null,null,null,null,null,17]
[null,null,"nomor peserta ujian sekolah ",null,null,":",{"$f":"VLOOKUP(M12,DAKOLUN!A9:'DAKOLUN'!G208,4,0)","v":"1-18-05-80-162-001-8"},null,null,null,null,null,"2020-06-15",null,null,null,null,null,null,null,null,null,null,null,null,18]
[null,null,"sekolah asal",null,null,":",{"$f":"DEPAN!Y7","v":"MI Nurul Islam Labruk Kidul"},null,null,null,null,null,null,null,null,null,null,null,null,null,null,null,null,null,null,null,null,19]
[null,"LULUS",null,null,null,null,null,null,null,null,null,null,null,null,null,null,null,null,null,null,null,null,null,null,null,null,null,20]
[null,null,"dari satuan pendidikan setelah memenuhi seluruh kriteria sesuai ",null,null,null,null,null,null,null,null,null,null,null,null,null,null,null,null,null,null,null,null,null,null,null,null,21]
[null,null,"dengan peraturan perundang-undangan.",null,null,null,null,null,null,null,null,null,null,null,null,null,null,null,null,null,null,null,null,null,null,null,null,22]
[null,null,null,null,null,null,null,null,null,null,null,null,null,null,null,null,null,null,null,null,null,null,null,null,null,null,null,23]
[null,null,null,null,null,null,null,null,null,null,null,null,null,null,null,null,null,null,null,null,null,null,null,null,null,null,null,27]
[null,null,null,null,null,null,null,{"$f":"M18&\", \"&TEXT(M20,\"dd mmmm yyyy\")","v":"Lumajang, 15 Juni 2020"},null,null,null,null,null,null,null,null,null,null,null,null,null,null,null,null,null,null,null,28]
[null,null,null,null,null,null,null,"Kepala Sekolah",null,null,null,null,null,null,null,null,null,null,null,null,null,null,null,null,null,null,null,29]
[null,null,null,null,null,null,null,null,null,null,null,null,null,null,null,null,null,null,null,null,null,null,null,null,null,null,null,30]
[null,null,null,null,null,null,null,null,null,null,null,null,null,null,null,null,null,null,null,null,null,null,null,null,null,null,null,31]
[null,null,null,null,null,null,null,null,null,null,null,null,null,null,null,null,null,null,null,null,null,null,null,null,null,null,null,32]
[null,null,null,null,null,null,null,null,null,null,null,null,null,null,null,null,null,null,null,null,null,null,null,null,null,null,null,34]
[null,null,null,null,null,null,null,null,null,null,null,null,null,null,null,null,null,null,null,null,null,null,null,null,null,null,null,35]
[null,null,null,null,null,null,null,null,null,null,null,null,null,null,null,null,null,null,null,null,null,null,null,null,null,null,null,36]
[null,null,null,null,null,null,null,{"$f":"IF(KEPALA<>\"\",KEPALA,\"\")","v":"Sahroni,S.Pd.I"},null,null,null,null,null,null,null,null,null,null,null,null,null,null,null,null,null,null,null,37]
[null,null,null,null,null,null,null,"NIP. ",{"$f":"IF(NIP<>\"\",NIP,\"\")","v":"-"},null,null,null,null,null,null,null,null,null,null,null,null,null,null,null,null,null,null,38]
[null,null,null,null,null,null,null,null,null,null,null,null,null,null,null,null,null,null,null,null,null,null,null,null,null,null,null,40]
[null,null,null,null,null,null,null,null,null,null,null,null,null,null,null,null,null,null,null,null,null,null,null,null,null,null,null,41]
[null,null,null,null,null,null,null,null,null,null,null,null,null,null,null,null,null,null,null,null,null,null,null,null,null,null,null,42]
[null,null,null,null,null,null,null,null,null,null,null,null,null,null,null,null,null,null,null,null,null,null,null,null,null,null,null,43]
[null,null,null,null,null,null,null,null,null,null,null,null,null,null,null,null,null,null,null,null,null,null,null,null,null,null,null,44]
[null,null,null,null,null,null,null,null,null,null,null,null,null,null,null,null,null,null,null,null,null,null,null,null,null,null,null,45]
[null,null,null,null,null,null,null,null,null,null,null,null,null,null,null,null,null,null,null,null,null,null,null,null,null,null,null,46]
[null,null,null,null,null,null,null,null,null,null,null,null,null,null,null,null,null,null,null,null,null,null,null,null,null,null,null,47]
[null,null,null,null,null,null,null,null,null,null,null,null,null,null,null,null,null,null,null,null,null,null,null,null,null,null,null,48]
[null,null,null,null,null,null,null,null,null,null,null,null,null,null,null,null,null,null,null,null,null,null,null,null,null,null,null,49]
[null,null,null,null,null,null,null,null,null,null,null,null,null,null,null,null,null,null,null,null,null,null,null,null,null,null,null,50]
[null,null,null,null,null,null,null,null,null,null,null,null,null,null,null,null,null,null,null,null,null,null,null,null,null,null,null,51]
[null,null,null,null,null,null,null,null,null,null,null,null,null,null,null,null,null,null,null,null,null,null,null,null,null,null,null,52]
[null,null,null,null,null,null,null,null,null,null,null,null,null,null,null,null,null,null,null,null,null,null,null,null,null,null,null,53]
[null,null,null,null,null,null,null,null,null,null,null,null,null,null,null,null,null,null,null,null,null,null,null,null,null,null,null,54]
[null,null,null,null,null,null,null,null,null,null,null,null,null,null,null,null,null,null,null,null,null,null,null,null,null,null,null,55]
[]
[]
[]
[]
[]
[null,"HASIL UJIAN SEKOLAH",null,null,null,null,null,null,null,null,null,null,null,null,null,null,null,null,null,null,null,null,null,null,null,null,null,58]
[null,null,null,null,null,null,null,null,null,null,null,null,null,null,null,null,null,null,null,null,null,null,null,null,null,null,null,59]
[null,"MADRASAH IBTIDAIYAH",null,null,null,null,null,null,null,null,null,null,null,null,null,null,null,null,null,null,null,null,null,null,null,null,null,60]
[null,{"$f":"DAKOLUN!D3","v":"Tahun Pelajaran 2019/2020"},null,null,null,null,null,null,null,null,null,null,null,null,null,null,null,null,null,null,null,null,null,null,null,null,null,61]
[null,null,null,null,null,null,null,null,null,null,null,null,null,null,null,null,null,null,null,null,null,null,null,null,null,null,null,62]
[null,{"$f":"\"yang bertanda tangan dibawah ini, \"&\"Kepala \"&DEPAN!Y6&\" \"&DEPAN!E6&\" \"&PROPER(DEPAN!C12)&\" \"&PROPER(DEPAN!D12)&\" menerangkan bahwa :\"","v":"yang bertanda tangan dibawah ini, Kepala Madrasah Ibtidaiyah Nurul Islam Labruk Kidul Kecamatan Sumbersuko menerangkan bahwa :"},null,null,null,null,null,null,null,null,null,null,null,null,null,null,null,null,null,null,null,null,null,null,null,null,null,63]
[null,null,null,null,null,null,null,null,null,null,null,null,null,null,null,null,null,null,null,null,null,null,null,null,null,null,null,64]
[null,"nama ",null,null,null,":",{"$f":"VLOOKUP(M12,DAKOLUN!A9:'DAKOLUN'!G208,5,0)","v":"ACHMAD FATHIR IZUDDIN"},null,null,null,null,null,null,null,null,null,null,null,null,null,null,null,null,null,null,null,null,65]
[null,"tempat dan tanggal lahir ",null,null,null,":",{"$f":"VLOOKUP(M12,DAKOLUN!A9:'DAKOLUN'!G208,6,0)","v":"Lumajang, 09 November 2007"}]
[null,"nomor induk ",null,null,null,":",{"$f":"VLOOKUP(M12,DAKOLUN!A9:'DAKOLUN'!G208,2,0)","v":4331}]
[null,"nomor induk siswa nasional ",null,null,null,":",{"$f":"VLOOKUP(M12,DAKOLUN!A9:'DAKOLUN'!G208,3,0)","v":"0078140536"}]
[]
[null,"telah memenuhi penilaian akhir dan mengikuti ujian sekolah berdasarkan Peraturan Menteri Pendidikan dan Kebudayaan Nomor 102 Tahun 2013 dengan hasil sebagai berikut :"]
[]
[null,"No","Mata Pelajaran",null,null,null,"Nilai Rata-rata Rapor","Nilai Ujian\nSekolah",null,"Nilai Akhir Sekolah ')"]
[null,"A",null,"Ujian Sekolah"]
[null,null,"1.","Pendidikan Agama",null,null,{"$f":"VLOOKUP($M$12,DAKOLUN!$A$9:'DAKOLUN'!$BN$208,8,0)","v":{"$error":"#REF!"}},{"$f":"VLOOKUP($M$12,DAKOLUN!$A$9:'DAKOLUN'!$BN$208,9,0)","v":{"$error":"#REF!"}},null,{"$f":"VLOOKUP($M$12,DAKOLUN!$A$9:'DAKOLUN'!$BN$208,10,0)","v":{"$error":"#REF!"}}]
[null,null,null,"a. Al Quran Hadits",null,null,{"$f":"VLOOKUP($M$12,DAKOLUN!$A$9:'DAKOLUN'!$CK$208,14,0)","v":85},{"$f":"VLOOKUP($M$12,DAKOLUN!$A$9:'DAKOLUN'!$CK$208,15,0)","v":82.5},null,{"$f":"VLOOKUP($M$12,DAKOLUN!$A$9:'DAKOLUN'!$CK$208,16,0)","v":84}]
[null,null,null,"b. Aqidah Akhlak",null,null,{"$f":"VLOOKUP($M$12,DAKOLUN!$A$9:'DAKOLUN'!$CK$208,11,0)","v":84.5},{"$f":"VLOOKUP($M$12,DAKOLUN!$A$9:'DAKOLUN'!$CK$208,12,0)","v":93.15},null,{"$f":"VLOOKUP($M$12,DAKOLUN!$A$9:'DAKOLUN'!$CK$208,13,0)","v":87.960000000000008}]
[null,null,null,"c. Fiqih",null,null,{"$f":"VLOOKUP($M$12,DAKOLUN!$A$9:'DAKOLUN'!$CK$208,17,0)","v":82.75},{"$f":"VLOOKUP($M$12,DAKOLUN!$A$9:'DAKOLUN'!$CK$208,18,0)","v":82.625},null,{"$f":"VLOOKUP($M$12,DAKOLUN!$A$9:'DAKOLUN'!$CK$208,19,0)","v":82.7}]
[null,null,null,"d. Sejarah Kebudayaan Islam",null,null,{"$f":"VLOOKUP($M$12,DAKOLUN!$A$9:'DAKOLUN'!$CK$208,20,0)","v":80.5},{"$f":"VLOOKUP($M$12,DAKOLUN!$A$9:'DAKOLUN'!$CK$208,21,0)","v":72.95},null,{"$f":"VLOOKUP($M$12,DAKOLUN!$A$9:'DAKOLUN'!$CK$208,22,0)","v":77.48}]
[null,null,"2.","Pendidikan Kewarganegaraan",null,null,{"$f":"VLOOKUP($M$12,DAKOLUN!$A$9:'DAKOLUN'!$CK$208,23,0)","v":77.5},{"$f":"VLOOKUP($M$12,DAKOLUN!$A$9:'DAKOLUN'!$CK$208,24,0)","v":70},null,{"$f":"VLOOKUP($M$12,DAKOLUN!$A$9:'DAKOLUN'!$CK$208,25,0)","v":74.5}]
[null,null,"3.","Bahasa Indonesia",null,null,{"$f":"VLOOKUP($M$12,DAKOLUN!$A$9:'DAKOLUN'!$CK$208,68,0)","v":207.85714285714286},{"$f":"VLOOKUP($M$12,DAKOLUN!$A$9:'DAKOLUN'!$CK$208,55,0)","v":74.466666666666669},null,{"$f":"VLOOKUP($M$12,DAKOLUN!$A$9:'DAKOLUN'!$CK$208,56,0)","v":78.02806122448979}]
[null,null,4,"Bahasa Arab",null,null,{"$f":"VLOOKUP($M$12,DAKOLUN!$A$9:'DAKOLUN'!$CK$208,29,0)","v":80.5},{"$f":"VLOOKUP($M$12,DAKOLUN!$A$9:'DAKOLUN'!$CK$208,30,0)","v":75.650000000000006},null,{"$f":"VLOOKUP($M$12,DAKOLUN!$A$9:'DAKOLUN'!$CK$208,31,0)","v":78.56}]
[null,null,5,"Matematika",null,null,{"$f":"VLOOKUP($M$12,DAKOLUN!$A$9:'DAKOLUN'!$CK$208,71,0)","v":73},{"$f":"VLOOKUP($M$12,DAKOLUN!$A$9:'DAKOLUN'!$CK$208,58,0)","v":65},null,{"$f":"VLOOKUP($M$12,DAKOLUN!$A$9:'DAKOLUN'!$CK$208,59,0)","v":69.8}]
[null,null,6,"Ilmu Pengetahuan Alam",null,null,{"$f":"VLOOKUP($M$12,DAKOLUN!$A$9:'DAKOLUN'!$CK$208,74,0)","v":75.742857142857147},{"$f":"VLOOKUP($M$12,DAKOLUN!$A$9:'DAKOLUN'!$CK$208,61,0)","v":67.857142857142861},null,{"$f":"VLOOKUP($M$12,DAKOLUN!$A$9:'DAKOLUN'!$CK$208,62,0)","v":72.588571428571441}]
[null,null,7,"Ilmu Pengetahuan Sosial",null,null,{"$f":"VLOOKUP($M$12,DAKOLUN!$A$9:'DAKOLUN'!$CK$208,38,0)","v":76},{"$f":"VLOOKUP($M$12,DAKOLUN!$A$9:'DAKOLUN'!$CK$208,39,0)","v":60},null,{"$f":"VLOOKUP($M$12,DAKOLUN!$A$9:'DAKOLUN'!$CK$208,40,0)","v":69.599999999999994}]
[null,null,8,"Seni Budaya dan Keterampilan",null,null,{"$f":"VLOOKUP($M$12,DAKOLUN!$A$9:'DAKOLUN'!$CK$208,41,0)","v":77.75},{"$f":"VLOOKUP($M$12,DAKOLUN!$A$9:'DAKOLUN'!$CK$208,42,0)","v":78.375},null,{"$f":"VLOOKUP($M$12,DAKOLUN!$A$9:'DAKOLUN'!$CK$208,43,0)","v":78}]
[null,null,9,"Pendidikan Jasmani Olahraga \ndan Kesehatan",null,null,{"$f":"VLOOKUP($M$12,DAKOLUN!$A$9:'DAKOLUN'!$CK$208,44,0)","v":86},{"$f":"VLOOKUP($M$12,DAKOLUN!$A$9:'DAKOLUN'!$CK$208,45,0)","v":77},null,{"$f":"VLOOKUP($M$12,DAKOLUN!$A$9:'DAKOLUN'!$CK$208,46,0)","v":82.4}]
[null,"B",null,"Muatan Lokal"]
[null,null,"1.",{"$f":"SISWA!K16","v":"Bahasa Daerah"},null,null,{"$f":"VLOOKUP(M12,DAKOLUN!A9:'DAKOLUN'!CK208,47,0)","v":74.25},{"$f":"VLOOKUP(M12,DAKOLUN!A9:'DAKOLUN'!CK208,48,0)","v":67.125},null,{"$f":"VLOOKUP(M12,DAKOLUN!A9:'DAKOLUN'!CK208,49,0)","v":71.400000000000006}]
[null,null,"2.",{"$f":"SISWA!K17","v":"Bahasa Inggris"},null,null,{"$f":"VLOOKUP(M12,DAKOLUN!A9:'DAKOLUN'!CK208,50,0)","v":77.75},{"$f":"VLOOKUP(M12,DAKOLUN!A9:'DAKOLUN'!CK208,51,0)","v":87.375},null,{"$f":"VLOOKUP(M12,DAKOLUN!A9:'DAKOLUN'!CK208,52,0)","v":81.599999999999994}]
[null,"Rata-rata",null,null,null,null,null,null,null,{"$f":"AVERAGE(J75:J86,J88:J89)","v":77.758330903790096}]
[]
[]
[null,null,null,null,null,null,null,{"$f":"H27","v":"Lumajang, 15 Juni 2020"}]
[null,null,null,null,null,null,null,"Kepala Sekolah"]
[]
[]
[]
[null,null,null,null,null,null,null,{"$f":"IF(KEPALA<>\"\",KEPALA,\"\")","v":"Sahroni,S.Pd.I"}]
[null,null,null,null,null,null,null,"NIP. ",{"$f":"IF(NIP<>\"\",NIP,\"\")","v":"-"}]

{"sheet":"IJAZAHCATAT","index":19,"n_rows":58,"n_cols":47,"rows_kept":58,"cut":false,"hidden":false,"merged":[[2,30,3,30],[4,30,5,30],[6,30,7,30],[8,30,9,30],[10,30,11,30],[12,30,13,30],[52,12,52,13],[52,16,52,17],[53,16,53,17],[18,16,18,17],[22,22,22,23],[22,26,22,27],[51,26,51,27],[6,10,7,18],[8,11,8,14],[8,16,8,17],[10,16,10,17],[11,16,11,17],[47,16,47,17],[48,16,48,17],[49,16,49,17],[46,16,46,17],[41,16,41,17],[42,16,42,17],[49,6,49,7],[49,26,49,27],[46,6,46,7],[46,26,46,27],[47,6,47,7],[47,26,47,27],[48,6,48,7],[48,26,48,27],[55,6,55,7],[55,26,55,27],[50,6,50,7],[50,26,50,27],[51,6,51,7],[50,16,50,17],[51,16,51,17],[56,0,56,4],[56,6,56,7],[56,10,56,14],[56,16,56,17],[56,20,56,24],[56,26,56,27],[52,2,52,3],[52,6,52,7],[52,22,52,23],[52,26,52,27],[54,16,54,17],[55,16,55,17],[53,6,53,7],[53,26,53,27],[54,6,54,7],[54,26,54,27],[45,6,45,7],[45,26,45,27],[23,6,23,7],[24,6,24,7],[25,6,25,7],[36,0,37,8],[36,20,37,28],[24,16,24,17],[25,16,25,17],[36,10,37,18],[23,26,23,27],[24,26,24,27],[25,26,25,27],[26,6,26,7],[26,0,26,4],[26,10,26,14],[26,16,26,17],[38,1,38,4],[38,6,38,7],[38,21,38,24],[43,16,43,17],[44,16,44,17],[45,16,45,17],[40,6,40,7],[43,6,43,7],[43,26,43,27],[44,6,44,7],[44,26,44,27],[26,20,26,24],[26,26,26,27],[23,16,23,17],[22,2,22,3],[22,6,22,7],[22,12,22,13],[22,16,22,17],[40,26,40,27],[38,11,38,14],[38,16,38,17],[40,16,40,17],[41,6,41,7],[41,26,41,27],[42,6,42,7],[42,26,42,27],[38,26,38,27],[12,6,12,7],[13,6,13,7],[14,6,14,7],[21,26,21,27],[18,6,18,7],[15,6,15,7],[16,6,16,7],[17,6,17,7],[19,16,19,17],[20,16,20,17],[21,16,21,17],[12,16,12,17],[13,16,13,17],[14,16,14,17],[21,6,21,7],[6,0,7,8],[8,1,8,4],[18,26,18,27],[19,26,19,27],[20,26,20,27],[15,16,15,17],[16,16,16,17],[17,16,17,17],[8,6,8,7],[10,6,10,7],[11,6,11,7],[19,6,19,7],[20,6,20,7],[12,26,12,27],[13,26,13,27],[14,26,14,27],[15,26,15,27],[16,26,16,27],[17,26,17,27],[6,20,7,28],[8,21,8,24],[8,26,8,27],[10,26,10,27],[11,26,11,27]]}
[{"$f":"AE3","v":61},null,null,null,null,null,null,null,null,null,{"$f":"AE5","v":62},null,null,null,null,null,null,null,null,null,{"$f":"AE7","v":63},null,null,null,null,null,null,null,null,null,null,null,null,null,null,null,null,null,null,null,null,null,null,null,null,null,64]
["nama ",null,null,null,":",{"$f":"VLOOKUP(AE3,DAKOLUN!A9:'DAKOLUN'!G208,5,0)","v":"MUHAMMAD SUTRISNO ISMAIL"},null,null,null,null,"nama ",null,null,null,":",{"$f":"VLOOKUP(AE5,DAKOLUN!A9:'DAKOLUN'!G208,5,0)","v":"NOVITA ERNIAWAN"},null,null,null,null,"nama ",null,null,null,":",{"$f":"VLOOKUP(AE7,DAKOLUN!A9:'DAKOLUN'!G208,5,0)","v":"PUTRI AULIA DWI AGUSTIN"},null,null,null,null,"NO ABSEN",null,null,null,null,null,null,null,null,null,null,null,null,null,null,null,65]
["tempat dan tanggal lahir ",null,null,null,":",{"$f":"VLOOKUP(AE3,DAKOLUN!A9:'DAKOLUN'!G208,6,0)","v":"Lumajang, 15 Juli 2007"},null,null,null,null,"tempat dan tanggal lahir ",null,null,null,":",{"$f":"VLOOKUP(AE5,DAKOLUN!A9:'DAKOLUN'!G208,6,0)","v":"Lumajang, 10 November 2007"},null,null,null,null,"tempat dan tanggal lahir ",null,null,null,":",{"$f":"VLOOKUP(AE7,DAKOLUN!A9:'DAKOLUN'!G208,6,0)","v":"Lumajang, 07 Agustus 2007"},null,null,null,null,61]
["nomor induk ",null,null,null,":",{"$f":"VLOOKUP(AE3,DAKOLUN!A9:'DAKOLUN'!G208,2,0)","v":4357},null,null,null,null,"nomor induk ",null,null,null,":",{"$f":"VLOOKUP(AE5,DAKOLUN!A9:'DAKOLUN'!G208,2,0)","v":4381},null,null,null,null,"nomor induk ",null,null,null,":",{"$f":"VLOOKUP(AE7,DAKOLUN!A9:'DAKOLUN'!G208,2,0)","v":4383}]
["NISN / NO PESERTA",null,null,null,":",{"$f":"VLOOKUP(AE3,DAKOLUN!A9:'DAKOLUN'!G208,3,0)&\" / \"&VLOOKUP(AE3,DAKOLUN!A9:'DAKOLUN'!G208,4,0)","v":"0078608527 / 1-18-05-80-162-061-4"},null,null,null,null,"NISN / NO PESERTA",null,null,null,":",{"$f":"VLOOKUP(AE5,DAKOLUN!A9:'DAKOLUN'!G208,3,0)&\" / \"&VLOOKUP(AE5,DAKOLUN!A9:'DAKOLUN'!G208,4,0)","v":"0072209435 / 1-18-05-80-162-062-3"},null,null,null,null,"NISN / NO PESERTA",null,null,null,":",{"$f":"VLOOKUP(AE7,DAKOLUN!A9:'DAKOLUN'!G208,3,0)&\" / \"&VLOOKUP(AE7,DAKOLUN!A9:'DAKOLUN'!G208,4,0)","v":"0077439834 / 1-18-05-80-162-063-2"},null,null,null,null,{"$f":"AE3+1","v":62}]
[]
["telah memenuhi penilaian akhir dan mengikuti ujian sekolah berdasarkan Peraturan Menteri Pendidikan dan Kebudayaan Nomor 102 Tahun 2013 dengan hasil sebagai berikut :",null,null,null,null,null,null,null,null,null,"telah memenuhi penilaian akhir dan mengikuti ujian sekolah berdasarkan Peraturan Menteri Pendidikan dan Kebudayaan Nomor 102 Tahun 2013 dengan hasil sebagai berikut :",null,null,null,null,null,null,null,null,null,"telah memenuhi penilaian akhir dan mengikuti ujian sekolah berdasarkan Peraturan Menteri Pendidikan dan Kebudayaan Nomor 102 Tahun 2013 dengan hasil sebagai berikut :",null,null,null,null,null,null,null,null,null,{"$f":"AE5+1","v":63}]
[]
["No","Mata Pelajaran",null,null,null,"Nilai Rata-rata Rapor","Nilai Ujian\nSekolah",null,"Nilai Akhir Sekolah ')",null,"No","Mata Pelajaran",null,null,null,"Nilai Rata-rata Rapor","Nilai Ujian\nSekolah",null,"Nilai Akhir Sekolah ')",null,"No","Mata Pelajaran",null,null,null,"Nilai Rata-rata Rapor","Nilai Ujian\nSekolah",null,"Nilai Akhir Sekolah ')",null,{"$f":"AE7+1","v":64}]
["A",null,"Ujian Sekolah",null,null,null,null,null,null,null,"A",null,"Ujian Sekolah",null,null,null,null,null,null,null,"A",null,"Ujian Sekolah"]
[null,"1.","Pendidikan Agama",null,null,{"$f":"VLOOKUP($AE$3,DAKOLUN!$A$9:'DAKOLUN'!$BN$208,8,0)","v":{"$error":"#REF!"}},{"$f":"VLOOKUP($AE$3,DAKOLUN!$A$9:'DAKOLUN'!$BN$208,9,0)","v":{"$error":"#REF!"}},null,{"$f":"VLOOKUP($AE$3,DAKOLUN!$A$9:'DAKOLUN'!$BN$208,10,0)","v":{"$error":"#REF!"}},null,null,"1.","Pendidikan Agama",null,null,{"$f":"VLOOKUP($AE$3,DAKOLUN!$A$9:'DAKOLUN'!$BN$208,8,0)","v":{"$error":"#REF!"}},{"$f":"VLOOKUP($AE$3,DAKOLUN!$A$9:'DAKOLUN'!$BN$208,9,0)","v":{"$error":"#REF!"}},null,{"$f":"VLOOKUP($AE$3,DAKOLUN!$A$9:'DAKOLUN'!$BN$208,10,0)","v":{"$error":"#REF!"}},null,null,"1.","Pendidikan Agama",null,null,{"$f":"VLOOKUP($AE$3,DAKOLUN!$A$9:'DAKOLUN'!$BN$208,8,0)","v":{"$error":"#REF!"}},{"$f":"VLOOKUP($AE$3,DAKOLUN!$A$9:'DAKOLUN'!$BN$208,9,0)","v":{"$error":"#REF!"}},null,{"$f":"VLOOKUP($AE$3,DAKOLUN!$A$9:'DAKOLUN'!$BN$208,10,0)","v":{"$error":"#REF!"}},null,{"$f":"AE9+1","v":65}]
[null,null,"a. Al Quran Hadits",null,null,{"$f":"VLOOKUP($AE$3,DAKOLUN!$A$9:'DAKOLUN'!$CK$208,14,0)","v":75.75},{"$f":"VLOOKUP($AE$3,DAKOLUN!$A$9:'DAKOLUN'!$CK$208,15,0)","v":77.875},null,{"$f":"VLOOKUP($AE$3,DAKOLUN!$A$9:'DAKOLUN'!$CK$208,16,0)","v":76.599999999999994},null,null,null,"a. Al Quran Hadits",null,null,{"$f":"VLOOKUP($AE$5,DAKOLUN!$A$9:'DAKOLUN'!$CK$208,14,0)","v":86.75},{"$f":"VLOOKUP($AE$5,DAKOLUN!$A$9:'DAKOLUN'!$CK$208,15,0)","v":73.375},null,{"$f":"VLOOKUP($AE$5,DAKOLUN!$A$9:'DAKOLUN'!$CK$208,16,0)","v":81.400000000000006},null,null,null,"a. Al Quran Hadits",null,null,{"$f":"VLOOKUP($AE$7,DAKOLUN!$A$9:'DAKOLUN'!$CK$208,14,0)","v":89.75},{"$f":"VLOOKUP($AE$7,DAKOLUN!$A$9:'DAKOLUN'!$CK$208,15,0)","v":74.875},null,{"$f":"VLOOKUP($AE$7,DAKOLUN!$A$9:'DAKOLUN'!$CK$208,16,0)","v":83.800000000000011}]
[null,null,"b. Aqidah Akhlak",null,null,{"$f":"VLOOKUP($AE$3,DAKOLUN!$A$9:'DAKOLUN'!$CK$208,11,0)","v":80},{"$f":"VLOOKUP($AE$3,DAKOLUN!$A$9:'DAKOLUN'!$CK$208,12,0)","v":91.4},null,{"$f":"VLOOKUP($AE$3,DAKOLUN!$A$9:'DAKOLUN'!$CK$208,13,0)","v":84.56},null,null,null,"b. Aqidah Akhlak",null,null,{"$f":"VLOOKUP($AE$5,DAKOLUN!$A$9:'DAKOLUN'!$CK$208,11,0)","v":84.5},{"$f":"VLOOKUP($AE$5,DAKOLUN!$A$9:'DAKOLUN'!$CK$208,12,0)","v":72.95},null,{"$f":"VLOOKUP($AE$5,DAKOLUN!$A$9:'DAKOLUN'!$CK$208,13,0)","v":79.88},null,null,null,"b. Aqidah Akhlak",null,null,{"$f":"VLOOKUP($AE$7,DAKOLUN!$A$9:'DAKOLUN'!$CK$208,11,0)","v":85},{"$f":"VLOOKUP($AE$7,DAKOLUN!$A$9:'DAKOLUN'!$CK$208,12,0)","v":76.900000000000006},null,{"$f":"VLOOKUP($AE$7,DAKOLUN!$A$9:'DAKOLUN'!$CK$208,13,0)","v":81.760000000000005},null,{"$f":"AE11+1","v":66}]
[null,null,"c. Fiqih",null,null,{"$f":"VLOOKUP($AE$3,DAKOLUN!$A$9:'DAKOLUN'!$CK$208,17,0)","v":77},{"$f":"VLOOKUP($AE$3,DAKOLUN!$A$9:'DAKOLUN'!$CK$208,18,0)","v":79.75},null,{"$f":"VLOOKUP($AE$3,DAKOLUN!$A$9:'DAKOLUN'!$CK$208,19,0)","v":78.099999999999994},null,null,null,"c. Fiqih",null,null,{"$f":"VLOOKUP($AE$5,DAKOLUN!$A$9:'DAKOLUN'!$CK$208,17,0)","v":84.5},{"$f":"VLOOKUP($AE$5,DAKOLUN!$A$9:'DAKOLUN'!$CK$208,18,0)","v":72.25},null,{"$f":"VLOOKUP($AE$5,DAKOLUN!$A$9:'DAKOLUN'!$CK$208,19,0)","v":79.599999999999994},null,null,null,"c. Fiqih",null,null,{"$f":"VLOOKUP($AE$7,DAKOLUN!$A$9:'DAKOLUN'!$CK$208,17,0)","v":86.5},{"$f":"VLOOKUP($AE$7,DAKOLUN!$A$9:'DAKOLUN'!$CK$208,18,0)","v":73.25},null,{"$f":"VLOOKUP($AE$7,DAKOLUN!$A$9:'DAKOLUN'!$CK$208,19,0)","v":81.2}]
[null,null,"d. Sejarah Kebudayaan Islam",null,null,{"$f":"VLOOKUP($AE$3,DAKOLUN!$A$9:'DAKOLUN'!$CK$208,20,0)","v":79},{"$f":"VLOOKUP($AE$3,DAKOLUN!$A$9:'DAKOLUN'!$CK$208,21,0)","v":69},null,{"$f":"VLOOKUP($AE$3,DAKOLUN!$A$9:'DAKOLUN'!$CK$208,22,0)","v":75},null,null,null,"d. Sejarah Kebudayaan Islam",null,null,{"$f":"VLOOKUP($AE$5,DAKOLUN!$A$9:'DAKOLUN'!$CK$208,20,0)","v":82.75},{"$f":"VLOOKUP($AE$5,DAKOLUN!$A$9:'DAKOLUN'!$CK$208,21,0)","v":70.075000000000003},null,{"$f":"VLOOKUP($AE$5,DAKOLUN!$A$9:'DAKOLUN'!$CK$208,22,0)","v":77.680000000000007},null,null,null,"d. Sejarah Kebudayaan Islam",null,null,{"$f":"VLOOKUP($AE$7,DAKOLUN!$A$9:'DAKOLUN'!$CK$208,20,0)","v":81.5},{"$f":"VLOOKUP($AE$7,DAKOLUN!$A$9:'DAKOLUN'!$CK$208,21,0)","v":69.55},null,{"$f":"VLOOKUP($AE$7,DAKOLUN!$A$9:'DAKOLUN'!$CK$208,22,0)","v":76.72}]
[null,"2.","Pendidikan Kewarganegaraan",null,null,{"$f":"VLOOKUP($AE$3,DAKOLUN!$A$9:'DAKOLUN'!$CK$208,23,0)","v":75.5},{"$f":"VLOOKUP($AE$3,DAKOLUN!$A$9:'DAKOLUN'!$CK$208,24,0)","v":60},null,{"$f":"VLOOKUP($AE$3,DAKOLUN!$A$9:'DAKOLUN'!$CK$208,25,0)","v":69.3},null,null,"2.","Pendidikan Kewarganegaraan",null,null,{"$f":"VLOOKUP($AE$5,DAKOLUN!$A$9:'DAKOLUN'!$CK$208,23,0)","v":85},{"$f":"VLOOKUP($AE$5,DAKOLUN!$A$9:'DAKOLUN'!$CK$208,24,0)","v":60},null,{"$f":"VLOOKUP($AE$5,DAKOLUN!$A$9:'DAKOLUN'!$CK$208,25,0)","v":75},null,null,"2.","Pendidikan Kewarganegaraan",null,null,{"$f":"VLOOKUP($AE$7,DAKOLUN!$A$9:'DAKOLUN'!$CK$208,23,0)","v":86.75},{"$f":"VLOOKUP($AE$7,DAKOLUN!$A$9:'DAKOLUN'!$CK$208,24,0)","v":60},null,{"$f":"VLOOKUP($AE$7,DAKOLUN!$A$9:'DAKOLUN'!$CK$208,25,0)","v":76.05}]
[null,"3.","Bahasa Indonesia",null,null,{"$f":"VLOOKUP($AE$3,DAKOLUN!$A$9:'DAKOLUN'!$CK$208,71,0)","v":73.599999999999994},{"$f":"VLOOKUP($AE$3,DAKOLUN!$A$9:'DAKOLUN'!$CK$208,55,0)","v":65},null,{"$f":"VLOOKUP($AE$3,DAKOLUN!$A$9:'DAKOLUN'!$CK$208,56,0)","v":74.570306122448969},null,null,"3.","Bahasa Indonesia",null,null,{"$f":"VLOOKUP($AE$5,DAKOLUN!$A$9:'DAKOLUN'!$CK$208,71,0)","v":77.2},{"$f":"VLOOKUP($AE$5,DAKOLUN!$A$9:'DAKOLUN'!$CK$208,55,0)","v":65},null,{"$f":"VLOOKUP($AE$5,DAKOLUN!$A$9:'DAKOLUN'!$CK$208,56,0)","v":76.712142857142837},null,null,"3.","Bahasa Indonesia",null,null,{"$f":"VLOOKUP($AE$7,DAKOLUN!$A$9:'DAKOLUN'!$CK$208,71,0)","v":79.599999999999994},{"$f":"VLOOKUP($AE$7,DAKOLUN!$A$9:'DAKOLUN'!$CK$208,55,0)","v":65},null,{"$f":"VLOOKUP($AE$7,DAKOLUN!$A$9:'DAKOLUN'!$CK$208,56,0)","v":77.84071428571427}]
[null,4,"Bahasa Arab",null,null,{"$f":"VLOOKUP($AE$3,DAKOLUN!$A$9:'DAKOLUN'!$CK$208,29,0)","v":80.5},{"$f":"VLOOKUP($AE$3,DAKOLUN!$A$9:'DAKOLUN'!$CK$208,30,0)","v":69.55},null,{"$f":"VLOOKUP($AE$3,DAKOLUN!$A$9:'DAKOLUN'!$CK$208,31,0)","v":76.12},null,null,4,"Bahasa Arab",null,null,{"$f":"VLOOKUP($AE$5,DAKOLUN!$A$9:'DAKOLUN'!$CK$208,29,0)","v":82},{"$f":"VLOOKUP($AE$5,DAKOLUN!$A$9:'DAKOLUN'!$CK$208,30,0)","v":69.900000000000006},null,{"$f":"VLOOKUP($AE$5,DAKOLUN!$A$9:'DAKOLUN'!$CK$208,31,0)","v":77.16},null,null,4,"Bahasa Arab",null,null,{"$f":"VLOOKUP($AE$7,DAKOLUN!$A$9:'DAKOLUN'!$CK$208,29,0)","v":85.5},{"$f":"VLOOKUP($AE$7,DAKOLUN!$A$9:'DAKOLUN'!$CK$208,30,0)","v":71.25},null,{"$f":"VLOOKUP($AE$7,DAKOLUN!$A$9:'DAKOLUN'!$CK$208,31,0)","v":79.8}]
[null,5,"Matematika",null,null,{"$f":"VLOOKUP($AE$3,DAKOLUN!$A$9:'DAKOLUN'!$CK$208,74,0)","v":78.064285714285717},{"$f":"VLOOKUP($AE$3,DAKOLUN!$A$9:'DAKOLUN'!$CK$208,58,0)","v":60},null,{"$f":"VLOOKUP($AE$3,DAKOLUN!$A$9:'DAKOLUN'!$CK$208,59,0)","v":68.16},null,null,5,"Matematika",null,null,{"$f":"VLOOKUP($AE$5,DAKOLUN!$A$9:'DAKOLUN'!$CK$208,74,0)","v":71.699999999999989},{"$f":"VLOOKUP($AE$5,DAKOLUN!$A$9:'DAKOLUN'!$CK$208,58,0)","v":60},null,{"$f":"VLOOKUP($AE$5,DAKOLUN!$A$9:'DAKOLUN'!$CK$208,59,0)","v":70.319999999999993},null,null,5,"Matematika",null,null,{"$f":"VLOOKUP($AE$7,DAKOLUN!$A$9:'DAKOLUN'!$CK$208,74,0)","v":73.05},{"$f":"VLOOKUP($AE$7,DAKOLUN!$A$9:'DAKOLUN'!$CK$208,58,0)","v":60},null,{"$f":"VLOOKUP($AE$7,DAKOLUN!$A$9:'DAKOLUN'!$CK$208,59,0)","v":71.759999999999991}]
[null,6,"Ilmu Pengetahuan Alam",null,null,{"$f":"VLOOKUP($AE$3,DAKOLUN!$A$9:'DAKOLUN'!$CK$208,77,0)","v":69},{"$f":"VLOOKUP($AE$3,DAKOLUN!$A$9:'DAKOLUN'!$CK$208,61,0)","v":79.285714285714292},null,{"$f":"VLOOKUP($AE$3,DAKOLUN!$A$9:'DAKOLUN'!$CK$208,62,0)","v":78.55285714285715},null,null,6,"Ilmu Pengetahuan Alam",null,null,{"$f":"VLOOKUP($AE$5,DAKOLUN!$A$9:'DAKOLUN'!$CK$208,77,0)","v":73.8},{"$f":"VLOOKUP($AE$5,DAKOLUN!$A$9:'DAKOLUN'!$CK$208,61,0)","v":60},null,{"$f":"VLOOKUP($AE$5,DAKOLUN!$A$9:'DAKOLUN'!$CK$208,62,0)","v":67.019999999999982},null,null,6,"Ilmu Pengetahuan Alam",null,null,{"$f":"VLOOKUP($AE$7,DAKOLUN!$A$9:'DAKOLUN'!$CK$208,77,0)","v":74.699999999999989},{"$f":"VLOOKUP($AE$7,DAKOLUN!$A$9:'DAKOLUN'!$CK$208,61,0)","v":60},null,{"$f":"VLOOKUP($AE$7,DAKOLUN!$A$9:'DAKOLUN'!$CK$208,62,0)","v":67.83}]
[null,7,"Ilmu Pengetahuan Sosial",null,null,{"$f":"VLOOKUP($AE$3,DAKOLUN!$A$9:'DAKOLUN'!$CK$208,38,0)","v":74},{"$f":"VLOOKUP($AE$3,DAKOLUN!$A$9:'DAKOLUN'!$CK$208,39,0)","v":60},null,{"$f":"VLOOKUP($AE$3,DAKOLUN!$A$9:'DAKOLUN'!$CK$208,40,0)","v":68.400000000000006},null,null,7,"Ilmu Pengetahuan Sosial",null,null,{"$f":"VLOOKUP($AE$5,DAKOLUN!$A$9:'DAKOLUN'!$CK$208,38,0)","v":81.25},{"$f":"VLOOKUP($AE$5,DAKOLUN!$A$9:'DAKOLUN'!$CK$208,39,0)","v":60},null,{"$f":"VLOOKUP($AE$5,DAKOLUN!$A$9:'DAKOLUN'!$CK$208,40,0)","v":72.75},null,null,7,"Ilmu Pengetahuan Sosial",null,null,{"$f":"VLOOKUP($AE$7,DAKOLUN!$A$9:'DAKOLUN'!$CK$208,38,0)","v":81.75},{"$f":"VLOOKUP($AE$7,DAKOLUN!$A$9:'DAKOLUN'!$CK$208,39,0)","v":60},null,{"$f":"VLOOKUP($AE$7,DAKOLUN!$A$9:'DAKOLUN'!$CK$208,40,0)","v":73.05}]
[null,8,"Seni Budaya dan Keterampilan",null,null,{"$f":"VLOOKUP($AE$3,DAKOLUN!$A$9:'DAKOLUN'!$CK$208,41,0)","v":76.75},{"$f":"VLOOKUP($AE$3,DAKOLUN!$A$9:'DAKOLUN'!$CK$208,42,0)","v":68.375},null,{"$f":"VLOOKUP($AE$3,DAKOLUN!$A$9:'DAKOLUN'!$CK$208,43,0)","v":73.400000000000006},null,null,8,"Seni Budaya dan Keterampilan",null,null,{"$f":"VLOOKUP($AE$5,DAKOLUN!$A$9:'DAKOLUN'!$CK$208,41,0)","v":83.25},{"$f":"VLOOKUP($AE$5,DAKOLUN!$A$9:'DAKOLUN'!$CK$208,42,0)","v":70.125},null,{"$f":"VLOOKUP($AE$5,DAKOLUN!$A$9:'DAKOLUN'!$CK$208,43,0)","v":78},null,null,8,"Seni Budaya dan Keterampilan",null,null,{"$f":"VLOOKUP($AE$7,DAKOLUN!$A$9:'DAKOLUN'!$CK$208,41,0)","v":82},{"$f":"VLOOKUP($AE$7,DAKOLUN!$A$9:'DAKOLUN'!$CK$208,42,0)","v":70.099999999999994},null,{"$f":"VLOOKUP($AE$7,DAKOLUN!$A$9:'DAKOLUN'!$CK$208,43,0)","v":77.239999999999995}]
[null,9,"Pendidikan Jasmani Olahraga \ndan Kesehatan",null,null,{"$f":"VLOOKUP($AE$3,DAKOLUN!$A$9:'DAKOLUN'!$CK$208,44,0)","v":82},{"$f":"VLOOKUP($AE$3,DAKOLUN!$A$9:'DAKOLUN'!$CK$208,45,0)","v":69},null,{"$f":"VLOOKUP($AE$3,DAKOLUN!$A$9:'DAKOLUN'!$CK$208,46,0)","v":76.8},null,null,9,"Pendidikan Jasmani Olahraga \ndan Kesehatan",null,null,{"$f":"VLOOKUP($AE$5,DAKOLUN!$A$9:'DAKOLUN'!$CK$208,44,0)","v":84.5},{"$f":"VLOOKUP($AE$5,DAKOLUN!$A$9:'DAKOLUN'!$CK$208,45,0)","v":70.25},null,{"$f":"VLOOKUP($AE$5,DAKOLUN!$A$9:'DAKOLUN'!$CK$208,46,0)","v":78.8},null,null,9,"Pendidikan Jasmani Olahraga \ndan Kesehatan",null,null,{"$f":"VLOOKUP($AE$7,DAKOLUN!$A$9:'DAKOLUN'!$CK$208,44,0)","v":83.5},{"$f":"VLOOKUP($AE$7,DAKOLUN!$A$9:'DAKOLUN'!$CK$208,45,0)","v":69.75},null,{"$f":"VLOOKUP($AE$7,DAKOLUN!$A$9:'DAKOLUN'!$CK$208,46,0)","v":78}]
["B",null,"Muatan Lokal",null,null,null,null,null,null,null,"B",null,"Muatan Lokal",null,null,null,null,null,null,null,"B",null,"Muatan Lokal"]
[null,"1.",{"$f":"SISWA!K16","v":"Bahasa Daerah"},null,null,{"$f":"VLOOKUP($AE$3,DAKOLUN!$A$9:'DAKOLUN'!$CK$208,47,0)","v":76.5},{"$f":"VLOOKUP($AE$3,DAKOLUN!$A$9:'DAKOLUN'!$CK$208,48,0)","v":68.25},null,{"$f":"VLOOKUP($AE$3,DAKOLUN!$A$9:'DAKOLUN'!$CK$208,49,0)","v":73.2},null,null,"1.",{"$f":"C25","v":"Bahasa Daerah"},null,null,{"$f":"VLOOKUP($AE$5,DAKOLUN!$A$9:'DAKOLUN'!$CK$208,47,0)","v":77.5},{"$f":"VLOOKUP($AE$5,DAKOLUN!$A$9:'DAKOLUN'!$CK$208,48,0)","v":68.75},null,{"$f":"VLOOKUP($AE$5,DAKOLUN!$A$9:'DAKOLUN'!$CK$208,49,0)","v":74},null,null,"1.",{"$f":"SISWA!K16","v":"Bahasa Daerah"},null,null,{"$f":"VLOOKUP($AE$7,DAKOLUN!$A$9:'DAKOLUN'!$CK$208,47,0)","v":78.75},{"$f":"VLOOKUP($AE$7,DAKOLUN!$A$9:'DAKOLUN'!$CK$208,48,0)","v":69.375},null,{"$f":"VLOOKUP($AE$7,DAKOLUN!$A$9:'DAKOLUN'!$CK$208,49,0)","v":75}]
[null,"2.",{"$f":"SISWA!K17","v":"Bahasa Inggris"},null,null,{"$f":"VLOOKUP($AE$3,DAKOLUN!$A$9:'DAKOLUN'!$CK$208,50,0)","v":75},{"$f":"VLOOKUP($AE$3,DAKOLUN!$A$9:'DAKOLUN'!$CK$208,51,0)","v":67.099999999999994},null,{"$f":"VLOOKUP($AE$3,DAKOLUN!$A$9:'DAKOLUN'!$CK$208,52,0)","v":71.84},null,null,"2.",{"$f":"C26","v":"Bahasa Inggris"},null,null,{"$f":"VLOOKUP($AE$5,DAKOLUN!$A$9:'DAKOLUN'!$CK$208,50,0)","v":79.25},{"$f":"VLOOKUP($AE$5,DAKOLUN!$A$9:'DAKOLUN'!$CK$208,51,0)","v":73.625},null,{"$f":"VLOOKUP($AE$5,DAKOLUN!$A$9:'DAKOLUN'!$CK$208,52,0)","v":77},null,null,"2.",{"$f":"SISWA!K17","v":"Bahasa Inggris"},null,null,{"$f":"VLOOKUP($AE$7,DAKOLUN!$A$9:'DAKOLUN'!$CK$208,50,0)","v":82.75},{"$f":"VLOOKUP($AE$7,DAKOLUN!$A$9:'DAKOLUN'!$CK$208,51,0)","v":75.375},null,{"$f":"VLOOKUP($AE$7,DAKOLUN!$A$9:'DAKOLUN'!$CK$208,52,0)","v":79.8}]
["Rata-rata",null,null,null,null,{"$f":"AVERAGE(F12:F23,F25:F26)","v":76.618877551020404},{"$f":"AVERAGE(G12:H23,G25:H26)","v":70.327551020408166},null,{"$f":"AVERAGE(I12:I23,I25:I26)","v":74.614511661807583},null,"Rata-rata",null,null,null,null,{"$f":"AVERAGE(P12:P23,P25:P26)","v":80.996428571428581},{"$f":"AVERAGE(Q12:R23,Q25:R26)","v":67.592857142857142},null,{"$f":"AVERAGE(S12:S23,S25:S26)","v":76.094438775510199},null,"Rata-rata",null,null,null,null,{"$f":"AVERAGE(Z12:Z23,Z25:Z26)","v":82.221428571428561},{"$f":"AVERAGE(AA12:AB23,AA25:AB26)","v":68.244642857142864},null,{"$f":"AVERAGE(AC12:AC23,AC25:AC26)","v":77.132193877551018}]
[" ') Nilai Sekolah = 60% Nilai Rata-rata Rapor + 40% Nilai Ujian Sekolah",null,null,null,null,null,null,null,null,null," ') Nilai Sekolah = 60% Nilai Rata-rata Rapor + 40% Nilai Ujian Sekolah",null,null,null,null,null,null,null,null,null," ') Nilai Sekolah = 60% Nilai Rata-rata Rapor + 40% Nilai Ujian Sekolah"]
[]
[]
[{"$f":"AE9","v":64},null,null,null,null,null,null,null,null,null,{"$f":"AE11","v":65},null,null,null,null,null,null,null,null,null,{"$f":"AE13","v":66}]
["nama ",null,null,null,":",{"$f":"VLOOKUP(AE9,DAKOLUN!A9:'DAKOLUN'!G208,5,0)","v":"STANY RAFIDAH RAHMANIA"},null,null,null,null,"nama ",null,null,null,":",{"$f":"VLOOKUP(AE11,DAKOLUN!A9:'DAKOLUN'!G208,5,0)","v":"USWATUN KHASANAH"},null,null,null,null,"nama ",null,null,null,":",{"$f":"VLOOKUP(AE13,DAKOLUN!A9:'DAKOLUN'!G208,5,0)","v":"VIKROUL KHAMILA"}]
["tempat dan tanggal lahir ",null,null,null,":",{"$f":"VLOOKUP(AE9,DAKOLUN!A9:'DAKOLUN'!G208,6,0)","v":"Lumajang, 26 Juli 2007"},null,null,null,null,"tempat dan tanggal lahir ",null,null,null,":",{"$f":"VLOOKUP(AE11,DAKOLUN!A9:'DAKOLUN'!G208,6,0)","v":"Lumajang, 17 Juli 2007"},null,null,null,null,"tempat dan tanggal lahir ",null,null,null,":",{"$f":"VLOOKUP(AE13,DAKOLUN!A9:'DAKOLUN'!G208,6,0)","v":"Lumajang, 19 April 2007"}]
["nomor induk ",null,null,null,":",{"$f":"VLOOKUP(AE9,DAKOLUN!A9:'DAKOLUN'!G208,2,0)","v":4385},null,null,null,null,"nomor induk ",null,null,null,":",{"$f":"VLOOKUP(AE11,DAKOLUN!A9:'DAKOLUN'!G208,2,0)","v":4387},null,null,null,null,"nomor induk ",null,null,null,":",{"$f":"VLOOKUP(AE13,DAKOLUN!A9:'DAKOLUN'!G208,2,0)","v":4389}]
["NISN / NO PESERTA",null,null,null,":",{"$f":"VLOOKUP(AE9,DAKOLUN!A9:'DAKOLUN'!G208,3,0)&\" / \"&VLOOKUP(AE9,DAKOLUN!A9:'DAKOLUN'!G208,4,0)","v":"0073137310 / 1-18-05-80-162-064-9"},null,null,null,null,"NISN / NO PESERTA",null,null,null,":",{"$f":"VLOOKUP(AE11,DAKOLUN!A9:'DAKOLUN'!G208,3,0)&\" / \"&VLOOKUP(AE11,DAKOLUN!A9:'DAKOLUN'!G208,4,0)","v":"0077336427 / 1-18-05-80-162-065-8"},null,null,null,null,"NISN / NO PESERTA",null,null,null,":",{"$f":"VLOOKUP(AE13,DAKOLUN!A9:'DAKOLUN'!G208,3,0)&\" / \"&VLOOKUP(AE13,DAKOLUN!A9:'DAKOLUN'!G208,4,0)","v":"0078407631 / 1-18-05-80-162-066-7"}]
[]
["telah memenuhi penilaian akhir dan mengikuti ujian sekolah berdasarkan Peraturan Menteri Pendidikan dan Kebudayaan Nomor 102 Tahun 2013 dengan hasil sebagai berikut :",null,null,null,null,null,null,null,null,null,"telah memenuhi penilaian akhir dan mengikuti ujian sekolah berdasarkan Peraturan Menteri Pendidikan dan Kebudayaan Nomor 102 Tahun 2013 dengan hasil sebagai berikut :",null,null,null,null,null,null,null,null,null,"telah memenuhi penilaian akhir dan mengikuti ujian sekolah berdasarkan Peraturan Menteri Pendidikan dan Kebudayaan Nomor 102 Tahun 2013 dengan hasil sebagai berikut :"]
[]
["No","Mata Pelajaran",null,null,null,"Nilai Rata-rata Rapor","Nilai Ujian\nSekolah",null,"Nilai Akhir Sekolah ')",null,"No","Mata Pelajaran",null,null,null,"Nilai Rata-rata Rapor","Nilai Ujian\nSekolah",null,"Nilai Akhir Sekolah ')",null,"No","Mata Pelajaran",null,null,null,"Nilai Rata-rata Rapor","Nilai Ujian\nSekolah",null,"Nilai Akhir Sekolah ')"]
["A",null,"Ujian Sekolah",null,null,null,null,null,null,null,"A",null,"Ujian Sekolah",null,null,null,null,null,null,null,"A",null,"Ujian Sekolah"]
[null,"1.","Pendidikan Agama",null,null,{"$f":"VLOOKUP($AE$3,DAKOLUN!$A$9:'DAKOLUN'!$BN$208,8,0)","v":{"$error":"#REF!"}},{"$f":"VLOOKUP($AE$3,DAKOLUN!$A$9:'DAKOLUN'!$BN$208,9,0)","v":{"$error":"#REF!"}},null,{"$f":"VLOOKUP($AE$3,DAKOLUN!$A$9:'DAKOLUN'!$BN$208,10,0)","v":{"$error":"#REF!"}},null,null,"1.","Pendidikan Agama",null,null,{"$f":"VLOOKUP($AE$3,DAKOLUN!$A$9:'DAKOLUN'!$BN$208,8,0)","v":{"$error":"#REF!"}},{"$f":"VLOOKUP($AE$3,DAKOLUN!$A$9:'DAKOLUN'!$BN$208,9,0)","v":{"$error":"#REF!"}},null,{"$f":"VLOOKUP($AE$3,DAKOLUN!$A$9:'DAKOLUN'!$BN$208,10,0)","v":{"$error":"#REF!"}},null,null,"1.","Pendidikan Agama",null,null,{"$f":"VLOOKUP($AE$3,DAKOLUN!$A$9:'DAKOLUN'!$BN$208,8,0)","v":{"$error":"#REF!"}},{"$f":"VLOOKUP($AE$3,DAKOLUN!$A$9:'DAKOLUN'!$BN$208,9,0)","v":{"$error":"#REF!"}},null,{"$f":"VLOOKUP($AE$3,DAKOLUN!$A$9:'DAKOLUN'!$BN$208,10,0)","v":{"$error":"#REF!"}}]
[null,null,"a. Al Quran Hadits",null,null,{"$f":"VLOOKUP($AE$9,DAKOLUN!$A$9:'DAKOLUN'!$CK$208,14,0)","v":77},{"$f":"VLOOKUP($AE$9,DAKOLUN!$A$9:'DAKOLUN'!$CK$208,15,0)","v":68.5},null,{"$f":"VLOOKUP($AE$9,DAKOLUN!$A$9:'DAKOLUN'!$CK$208,16,0)","v":73.599999999999994},null,null,null,"a. Al Quran Hadits",null,null,{"$f":"VLOOKUP($AE$11,DAKOLUN!$A$9:'DAKOLUN'!$CK$208,14,0)","v":77.25},{"$f":"VLOOKUP($AE$11,DAKOLUN!$A$9:'DAKOLUN'!$CK$208,15,0)","v":68.625},null,{"$f":"VLOOKUP($AE$11,DAKOLUN!$A$9:'DAKOLUN'!$CK$208,16,0)","v":73.800000000000011},null,null,null,"a. Al Quran Hadits",null,null,{"$f":"VLOOKUP($AE$13,DAKOLUN!$A$9:'DAKOLUN'!$CK$208,14,0)","v":83.75},{"$f":"VLOOKUP($AE$13,DAKOLUN!$A$9:'DAKOLUN'!$CK$208,15,0)","v":71.875},null,{"$f":"VLOOKUP($AE$13,DAKOLUN!$A$9:'DAKOLUN'!$CK$208,16,0)","v":79}]
[null,null,"b. Aqidah Akhlak",null,null,{"$f":"VLOOKUP($AE$9,DAKOLUN!$A$9:'DAKOLUN'!$CK$208,11,0)","v":77.75},{"$f":"VLOOKUP($AE$9,DAKOLUN!$A$9:'DAKOLUN'!$CK$208,12,0)","v":68.474999999999994},null,{"$f":"VLOOKUP($AE$9,DAKOLUN!$A$9:'DAKOLUN'!$CK$208,13,0)","v":74.039999999999992},null,null,null,"b. Aqidah Akhlak",null,null,{"$f":"VLOOKUP($AE$11,DAKOLUN!$A$9:'DAKOLUN'!$CK$208,11,0)","v":80.5},{"$f":"VLOOKUP($AE$11,DAKOLUN!$A$9:'DAKOLUN'!$CK$208,12,0)","v":72.849999999999994},null,{"$f":"VLOOKUP($AE$11,DAKOLUN!$A$9:'DAKOLUN'!$CK$208,13,0)","v":77.44},null,null,null,"b. Aqidah Akhlak",null,null,{"$f":"VLOOKUP($AE$13,DAKOLUN!$A$9:'DAKOLUN'!$CK$208,11,0)","v":84.75},{"$f":"VLOOKUP($AE$13,DAKOLUN!$A$9:'DAKOLUN'!$CK$208,12,0)","v":70.575000000000003},null,{"$f":"VLOOKUP($AE$13,DAKOLUN!$A$9:'DAKOLUN'!$CK$208,13,0)","v":79.080000000000013}]
[null,null,"c. Fiqih",null,null,{"$f":"VLOOKUP($AE$9,DAKOLUN!$A$9:'DAKOLUN'!$CK$208,17,0)","v":81.75},{"$f":"VLOOKUP($AE$9,DAKOLUN!$A$9:'DAKOLUN'!$CK$208,18,0)","v":70.875},null,{"$f":"VLOOKUP($AE$9,DAKOLUN!$A$9:'DAKOLUN'!$CK$208,19,0)","v":77.400000000000006},null,null,null,"c. Fiqih",null,null,{"$f":"VLOOKUP($AE$11,DAKOLUN!$A$9:'DAKOLUN'!$CK$208,17,0)","v":82.25},{"$f":"VLOOKUP($AE$11,DAKOLUN!$A$9:'DAKOLUN'!$CK$208,18,0)","v":71.125},null,{"$f":"VLOOKUP($AE$11,DAKOLUN!$A$9:'DAKOLUN'!$CK$208,19,0)","v":77.800000000000011},null,null,null,"c. Fiqih",null,null,{"$f":"VLOOKUP($AE$13,DAKOLUN!$A$9:'DAKOLUN'!$CK$208,17,0)","v":78.75},{"$f":"VLOOKUP($AE$13,DAKOLUN!$A$9:'DAKOLUN'!$CK$208,18,0)","v":69.375},null,{"$f":"VLOOKUP($AE$13,DAKOLUN!$A$9:'DAKOLUN'!$CK$208,19,0)","v":75}]
[null,null,"d. Sejarah Kebudayaan Islam",null,null,{"$f":"VLOOKUP($AE$9,DAKOLUN!$A$9:'DAKOLUN'!$CK$208,20,0)","v":78.5},{"$f":"VLOOKUP($AE$9,DAKOLUN!$A$9:'DAKOLUN'!$CK$208,21,0)","v":69.150000000000006},null,{"$f":"VLOOKUP($AE$9,DAKOLUN!$A$9:'DAKOLUN'!$CK$208,22,0)","v":74.760000000000005},null,null,null,"d. Sejarah Kebudayaan Islam",null,null,{"$f":"VLOOKUP($AE$11,DAKOLUN!$A$9:'DAKOLUN'!$CK$208,20,0)","v":76.5},{"$f":"VLOOKUP($AE$11,DAKOLUN!$A$9:'DAKOLUN'!$CK$208,21,0)","v":68.650000000000006},null,{"$f":"VLOOKUP($AE$11,DAKOLUN!$A$9:'DAKOLUN'!$CK$208,22,0)","v":73.36},null,null,null,"d. Sejarah Kebudayaan Islam",null,null,{"$f":"VLOOKUP($AE$13,DAKOLUN!$A$9:'DAKOLUN'!$CK$208,20,0)","v":82.5},{"$f":"VLOOKUP($AE$13,DAKOLUN!$A$9:'DAKOLUN'!$CK$208,21,0)","v":69.849999999999994},null,{"$f":"VLOOKUP($AE$13,DAKOLUN!$A$9:'DAKOLUN'!$CK$208,22,0)","v":77.44}]
[null,"2.","Pendidikan Kewarganegaraan",null,null,{"$f":"VLOOKUP($AE$9,DAKOLUN!$A$9:'DAKOLUN'!$CK$208,23,0)","v":77.5},{"$f":"VLOOKUP($AE$9,DAKOLUN!$A$9:'DAKOLUN'!$CK$208,24,0)","v":60},null,{"$f":"VLOOKUP($AE$9,DAKOLUN!$A$9:'DAKOLUN'!$CK$208,25,0)","v":70.5},null,null,"2.","Pendidikan Kewarganegaraan",null,null,{"$f":"VLOOKUP($AE$11,DAKOLUN!$A$9:'DAKOLUN'!$CK$208,23,0)","v":81.25},{"$f":"VLOOKUP($AE$11,DAKOLUN!$A$9:'DAKOLUN'!$CK$208,24,0)","v":60},null,{"$f":"VLOOKUP($AE$11,DAKOLUN!$A$9:'DAKOLUN'!$CK$208,25,0)","v":72.75},null,null,"2.","Pendidikan Kewarganegaraan",null,null,{"$f":"VLOOKUP($AE$13,DAKOLUN!$A$9:'DAKOLUN'!$CK$208,23,0)","v":84.25},{"$f":"VLOOKUP($AE$13,DAKOLUN!$A$9:'DAKOLUN'!$CK$208,24,0)","v":60},null,{"$f":"VLOOKUP($AE$13,DAKOLUN!$A$9:'DAKOLUN'!$CK$208,25,0)","v":74.55}]
[null,"3.","Bahasa Indonesia",null,null,{"$f":"VLOOKUP($AE$9,DAKOLUN!$A$9:'DAKOLUN'!$CK$208,71,0)","v":75.599999999999994},{"$f":"VLOOKUP($AE$9,DAKOLUN!$A$9:'DAKOLUN'!$CK$208,55,0)","v":70},null,{"$f":"VLOOKUP($AE$9,DAKOLUN!$A$9:'DAKOLUN'!$CK$208,56,0)","v":73.984999999999985},null,null,"3.","Bahasa Indonesia",null,null,{"$f":"VLOOKUP($AE$11,DAKOLUN!$A$9:'DAKOLUN'!$CK$208,71,0)","v":77},{"$f":"VLOOKUP($AE$11,DAKOLUN!$A$9:'DAKOLUN'!$CK$208,55,0)","v":70},null,{"$f":"VLOOKUP($AE$11,DAKOLUN!$A$9:'DAKOLUN'!$CK$208,56,0)","v":73.945000000000007},null,null,"3.","Bahasa Indonesia",null,null,{"$f":"VLOOKUP($AE$13,DAKOLUN!$A$9:'DAKOLUN'!$CK$208,71,0)","v":77.400000000000006},{"$f":"VLOOKUP($AE$13,DAKOLUN!$A$9:'DAKOLUN'!$CK$208,55,0)","v":65},null,{"$f":"VLOOKUP($AE$13,DAKOLUN!$A$9:'DAKOLUN'!$CK$208,56,0)","v":75.662857142857135}]
[null,4,"Bahasa Arab",null,null,{"$f":"VLOOKUP($AE$9,DAKOLUN!$A$9:'DAKOLUN'!$CK$208,29,0)","v":81},{"$f":"VLOOKUP($AE$9,DAKOLUN!$A$9:'DAKOLUN'!$CK$208,30,0)","v":69.8},null,{"$f":"VLOOKUP($AE$9,DAKOLUN!$A$9:'DAKOLUN'!$CK$208,31,0)","v":76.52000000000001},null,null,4,"Bahasa Arab",null,null,{"$f":"VLOOKUP($AE$11,DAKOLUN!$A$9:'DAKOLUN'!$CK$208,29,0)","v":81.25},{"$f":"VLOOKUP($AE$11,DAKOLUN!$A$9:'DAKOLUN'!$CK$208,30,0)","v":69.825000000000003},null,{"$f":"VLOOKUP($AE$11,DAKOLUN!$A$9:'DAKOLUN'!$CK$208,31,0)","v":76.680000000000007},null,null,4,"Bahasa Arab",null,null,{"$f":"VLOOKUP($AE$13,DAKOLUN!$A$9:'DAKOLUN'!$CK$208,29,0)","v":81.25},{"$f":"VLOOKUP($AE$13,DAKOLUN!$A$9:'DAKOLUN'!$CK$208,30,0)","v":69.525000000000006},null,{"$f":"VLOOKUP($AE$13,DAKOLUN!$A$9:'DAKOLUN'!$CK$208,31,0)","v":76.56}]
[null,5,"Matematika",null,null,{"$f":"VLOOKUP($AE$9,DAKOLUN!$A$9:'DAKOLUN'!$CK$208,74,0)","v":70.199999999999989},{"$f":"VLOOKUP($AE$9,DAKOLUN!$A$9:'DAKOLUN'!$CK$208,58,0)","v":60},null,{"$f":"VLOOKUP($AE$9,DAKOLUN!$A$9:'DAKOLUN'!$CK$208,59,0)","v":69.359999999999985},null,null,5,"Matematika",null,null,{"$f":"VLOOKUP($AE$11,DAKOLUN!$A$9:'DAKOLUN'!$CK$208,74,0)","v":69.900000000000006},{"$f":"VLOOKUP($AE$11,DAKOLUN!$A$9:'DAKOLUN'!$CK$208,58,0)","v":60},null,{"$f":"VLOOKUP($AE$11,DAKOLUN!$A$9:'DAKOLUN'!$CK$208,59,0)","v":70.199999999999989},null,null,5,"Matematika",null,null,{"$f":"VLOOKUP($AE$13,DAKOLUN!$A$9:'DAKOLUN'!$CK$208,74,0)","v":72.150000000000006},{"$f":"VLOOKUP($AE$13,DAKOLUN!$A$9:'DAKOLUN'!$CK$208,58,0)","v":60},null,{"$f":"VLOOKUP($AE$13,DAKOLUN!$A$9:'DAKOLUN'!$CK$208,59,0)","v":70.44}]
[null,6,"Ilmu Pengetahuan Alam",null,null,{"$f":"VLOOKUP($AE$9,DAKOLUN!$A$9:'DAKOLUN'!$CK$208,77,0)","v":71.400000000000006},{"$f":"VLOOKUP($AE$9,DAKOLUN!$A$9:'DAKOLUN'!$CK$208,61,0)","v":60},null,{"$f":"VLOOKUP($AE$9,DAKOLUN!$A$9:'DAKOLUN'!$CK$208,62,0)","v":66.11999999999999},null,null,6,"Ilmu Pengetahuan Alam",null,null,{"$f":"VLOOKUP($AE$11,DAKOLUN!$A$9:'DAKOLUN'!$CK$208,77,0)","v":71.25},{"$f":"VLOOKUP($AE$11,DAKOLUN!$A$9:'DAKOLUN'!$CK$208,61,0)","v":60},null,{"$f":"VLOOKUP($AE$11,DAKOLUN!$A$9:'DAKOLUN'!$CK$208,62,0)","v":65.94},null,null,6,"Ilmu Pengetahuan Alam",null,null,{"$f":"VLOOKUP($AE$13,DAKOLUN!$A$9:'DAKOLUN'!$CK$208,77,0)","v":73.05},{"$f":"VLOOKUP($AE$13,DAKOLUN!$A$9:'DAKOLUN'!$CK$208,61,0)","v":60},null,{"$f":"VLOOKUP($AE$13,DAKOLUN!$A$9:'DAKOLUN'!$CK$208,62,0)","v":67.289999999999992}]
[null,7,"Ilmu Pengetahuan Sosial",null,null,{"$f":"VLOOKUP($AE$9,DAKOLUN!$A$9:'DAKOLUN'!$CK$208,38,0)","v":75.75},{"$f":"VLOOKUP($AE$9,DAKOLUN!$A$9:'DAKOLUN'!$CK$208,39,0)","v":60},null,{"$f":"VLOOKUP($AE$9,DAKOLUN!$A$9:'DAKOLUN'!$CK$208,40,0)","v":69.449999999999989},null,null,7,"Ilmu Pengetahuan Sosial",null,null,{"$f":"VLOOKUP($AE$11,DAKOLUN!$A$9:'DAKOLUN'!$CK$208,38,0)","v":75.75},{"$f":"VLOOKUP($AE$11,DAKOLUN!$A$9:'DAKOLUN'!$CK$208,39,0)","v":60},null,{"$f":"VLOOKUP($AE$11,DAKOLUN!$A$9:'DAKOLUN'!$CK$208,40,0)","v":69.449999999999989},null,null,7,"Ilmu Pengetahuan Sosial",null,null,{"$f":"VLOOKUP($AE$13,DAKOLUN!$A$9:'DAKOLUN'!$CK$208,38,0)","v":80.75},{"$f":"VLOOKUP($AE$13,DAKOLUN!$A$9:'DAKOLUN'!$CK$208,39,0)","v":60},null,{"$f":"VLOOKUP($AE$13,DAKOLUN!$A$9:'DAKOLUN'!$CK$208,40,0)","v":72.449999999999989}]
[null,8,"Seni Budaya dan Keterampilan",null,null,{"$f":"VLOOKUP($AE$9,DAKOLUN!$A$9:'DAKOLUN'!$CK$208,41,0)","v":78.5},{"$f":"VLOOKUP($AE$9,DAKOLUN!$A$9:'DAKOLUN'!$CK$208,42,0)","v":68.05},null,{"$f":"VLOOKUP($AE$9,DAKOLUN!$A$9:'DAKOLUN'!$CK$208,43,0)","v":74.319999999999993},null,null,8,"Seni Budaya dan Keterampilan",null,null,{"$f":"VLOOKUP($AE$11,DAKOLUN!$A$9:'DAKOLUN'!$CK$208,41,0)","v":79.25},{"$f":"VLOOKUP($AE$11,DAKOLUN!$A$9:'DAKOLUN'!$CK$208,42,0)","v":68.625},null,{"$f":"VLOOKUP($AE$11,DAKOLUN!$A$9:'DAKOLUN'!$CK$208,43,0)","v":75},null,null,8,"Seni Budaya dan Keterampilan",null,null,{"$f":"VLOOKUP($AE$13,DAKOLUN!$A$9:'DAKOLUN'!$CK$208,41,0)","v":82.25},{"$f":"VLOOKUP($AE$13,DAKOLUN!$A$9:'DAKOLUN'!$CK$208,42,0)","v":69.625},null,{"$f":"VLOOKUP($AE$13,DAKOLUN!$A$9:'DAKOLUN'!$CK$208,43,0)","v":77.2}]
[null,9,"Pendidikan Jasmani Olahraga \ndan Kesehatan",null,null,{"$f":"VLOOKUP($AE$9,DAKOLUN!$A$9:'DAKOLUN'!$CK$208,44,0)","v":83.5},{"$f":"VLOOKUP($AE$9,DAKOLUN!$A$9:'DAKOLUN'!$CK$208,45,0)","v":86.25},null,{"$f":"VLOOKUP($AE$9,DAKOLUN!$A$9:'DAKOLUN'!$CK$208,46,0)","v":84.6},null,null,9,"Pendidikan Jasmani Olahraga \ndan Kesehatan",null,null,{"$f":"VLOOKUP($AE$11,DAKOLUN!$A$9:'DAKOLUN'!$CK$208,44,0)","v":83.25},{"$f":"VLOOKUP($AE$11,DAKOLUN!$A$9:'DAKOLUN'!$CK$208,45,0)","v":69.625},null,{"$f":"VLOOKUP($AE$11,DAKOLUN!$A$9:'DAKOLUN'!$CK$208,46,0)","v":77.8},null,null,9,"Pendidikan Jasmani Olahraga \ndan Kesehatan",null,null,{"$f":"VLOOKUP($AE$13,DAKOLUN!$A$9:'DAKOLUN'!$CK$208,44,0)","v":83.75},{"$f":"VLOOKUP($AE$13,DAKOLUN!$A$9:'DAKOLUN'!$CK$208,45,0)","v":69.875},null,{"$f":"VLOOKUP($AE$13,DAKOLUN!$A$9:'DAKOLUN'!$CK$208,46,0)","v":78.2}]
["B",null,"Muatan Lokal",null,null,null,null,null,null,null,"B",null,"Muatan Lokal",null,null,null,null,null,null,null,"B",null,"Muatan Lokal"]
[null,"1.",{"$f":"SISWA!K16","v":"Bahasa Daerah"},null,null,{"$f":"VLOOKUP($AE$9,DAKOLUN!$A$9:'DAKOLUN'!$CK$208,47,0)","v":73.75},{"$f":"VLOOKUP($AE$9,DAKOLUN!$A$9:'DAKOLUN'!$CK$208,48,0)","v":66.875},null,{"$f":"VLOOKUP($AE$9,DAKOLUN!$A$9:'DAKOLUN'!$CK$208,49,0)","v":71},null,null,"1.",{"$f":"C55","v":"Bahasa Daerah"},null,null,{"$f":"VLOOKUP($AE$11,DAKOLUN!$A$9:'DAKOLUN'!$CK$208,47,0)","v":73.25},{"$f":"VLOOKUP($AE$11,DAKOLUN!$A$9:'DAKOLUN'!$CK$208,48,0)","v":66.625},null,{"$f":"VLOOKUP($AE$11,DAKOLUN!$A$9:'DAKOLUN'!$CK$208,49,0)","v":70.599999999999994},null,null,"1.",{"$f":"SISWA!K16","v":"Bahasa Daerah"},null,null,{"$f":"VLOOKUP($AE$13,DAKOLUN!$A$9:'DAKOLUN'!$CK$208,47,0)","v":76.5},{"$f":"VLOOKUP($AE$13,DAKOLUN!$A$9:'DAKOLUN'!$CK$208,48,0)","v":68.25},null,{"$f":"VLOOKUP($AE$13,DAKOLUN!$A$9:'DAKOLUN'!$CK$208,49,0)","v":73.2}]
[null,"2.",{"$f":"SISWA!K17","v":"Bahasa Inggris"},null,null,{"$f":"VLOOKUP($AE$9,DAKOLUN!$A$9:'DAKOLUN'!$CK$208,50,0)","v":76},{"$f":"VLOOKUP($AE$9,DAKOLUN!$A$9:'DAKOLUN'!$CK$208,51,0)","v":67},null,{"$f":"VLOOKUP($AE$9,DAKOLUN!$A$9:'DAKOLUN'!$CK$208,52,0)","v":72.400000000000006},null,null,"2.",{"$f":"C56","v":"Bahasa Inggris"},null,null,{"$f":"VLOOKUP($AE$11,DAKOLUN!$A$9:'DAKOLUN'!$CK$208,50,0)","v":76},{"$f":"VLOOKUP($AE$11,DAKOLUN!$A$9:'DAKOLUN'!$CK$208,51,0)","v":67},null,{"$f":"VLOOKUP($AE$11,DAKOLUN!$A$9:'DAKOLUN'!$CK$208,52,0)","v":72.400000000000006},null,null,"2.",{"$f":"SISWA!K17","v":"Bahasa Inggris"},null,null,{"$f":"VLOOKUP($AE$13,DAKOLUN!$A$9:'DAKOLUN'!$CK$208,50,0)","v":78.5},{"$f":"VLOOKUP($AE$13,DAKOLUN!$A$9:'DAKOLUN'!$CK$208,51,0)","v":67.25},null,{"$f":"VLOOKUP($AE$13,DAKOLUN!$A$9:'DAKOLUN'!$CK$208,52,0)","v":74}]
["Rata-rata",null,null,null,null,{"$f":"AVERAGE(F42:F53,F55:F56)","v":77.014285714285705},{"$f":"AVERAGE(G42:H53,G55:H56)","v":67.498214285714283},null,{"$f":"AVERAGE(I42:I53,I55:I56)","v":73.43249999999999},null,"Rata-rata",null,null,null,null,{"$f":"AVERAGE(P42:P53,P55:P56)","v":77.475000000000009},{"$f":"AVERAGE(Q42:R53,Q55:R56)","v":66.63928571428572},null,{"$f":"AVERAGE(S42:S53,S55:S56)","v":73.368928571428583},null,"Rata-rata",null,null,null,null,{"$f":"AVERAGE(Z42:Z53,Z55:Z56)","v":79.971428571428561},{"$f":"AVERAGE(AA42:AB53,AA55:AB56)","v":66.514285714285705},null,{"$f":"AVERAGE(AC42:AC53,AC55:AC56)","v":75.005204081632669}]
[" ') Nilai Sekolah = 60% Nilai Rata-rata Rapor + 40% Nilai Ujian Sekolah",null,null,null,null,null,null,null,null,null," ') Nilai Sekolah = 60% Nilai Rata-rata Rapor + 40% Nilai Ujian Sekolah",null,null,null,null,null,null,null,null,null," ') Nilai Sekolah = 60% Nilai Rata-rata Rapor + 40% Nilai Ujian Sekolah"]

{"sheet":"UAMNU","index":20,"n_rows":81,"n_cols":30,"rows_kept":81,"cut":false,"hidden":false,"merged":[[0,3,0,24],[6,0,6,2],[6,3,7,3],[6,4,7,4],[6,5,6,6],[6,7,6,21],[6,22,7,22],[6,23,7,23],[6,24,7,24],[7,5,7,6]]}
[null,null,null,{"$f":"\"DAFTAR KUMPULAN NILAI HASIL UAMNU \"&UPPER(IJAZAH!B10)","v":"DAFTAR KUMPULAN NILAI HASIL UAMNU TAHUN PELAJARAN 2019/2020"}]
[null,null,null,null,null,null,null,"MI/SD",null,null,null,null,": MIS. NURUL ISLAM LABRUK KIDUL"]
[null,null,null,null,null,"LEMBAGA PENDIDIKAN MAARIF NU",null,"ALAMAT",null,null,null,null,": JL. RAYA LABRUK KIDUL 65"]
[null,null,null,null,null,"WIILAYAH JAWA TIMUR",null,"KECAMATAN",null,null,null,null,": SUMBERSUKO",null,null,null,"Telp. 0334-887594"]
[null,null,null,null,null,null,null,"CABANG",null,null,null,null,": Lumajang"]
[null,null,null,null,null,null,null,"Piagam Maarif NU Nomor",null,null,null,null,":"]
["NOMOR",null,null,"Nama Peserta","L/P","TTL",null,null,null,null,null,null,null,null,null,null,null,null,null,null,null,null,"  jumlah Nilai Seluruhnya","  Nilai Rata-rata","sikap"]
["URUT","INDUK","Ijazah Maarif",null,null,"sesuai Akte",null,"Al Qur'an Hadits","AQIDAH AKHLAQ","Fiqih","S K I","B. Arab","Aswaja","  P P K n","B. Indonesia","MATEMATIKA","I P A","I P S","KERTAKES","PENJASKES","B. DAERAH","B. Inggris"]
[1,{"$f":"SISWA!B8","v":4331},null,{"$f":"SISWA!E8","v":"ACHMAD FATHIR IZUDDIN"},{"$f":"SISWA!I8","v":"L"},{"$f":"SISWA!F8","v":"Lumajang"},{"$f":"SISWA!G8","v":"2007-11-09"},{"$f":"AH!P8","v":82.5},{"$f":"AA!P8","v":93.15},{"$f":"FQ!P8","v":82.625},{"$f":"SKI!P8","v":72.95},{"$f":"BA!P8","v":75.650000000000006},{"$f":"AWJ!P8","v":73.666666666666671},{"$f":"PKn!P8","v":70},{"$f":"BID!P8","v":70},{"$f":"MTK!P8","v":67.857142857142861},{"$f":"BID!P8","v":70},{"$f":"IPS!P8","v":68},{"$f":"SBK!P8","v":78.375},{"$f":"PJK!P8","v":77},{"$f":"BD!P8","v":67.125},{"$f":"BIG!P8","v":87.375},{"$f":"SUM(H9:V9)","v":1136.2738095238096},{"$f":"IFERROR(AVERAGE(H9:V9),\"\")","v":75.751587301587307},"BAIK",null,{"$f":"F9&\", \"&TEXT(G9,\"[$-id-ID]dd mmmm yyyy\")","v":"Lumajang, 09 November 2007"},null,null,{"$f":"F9&\",\"&TEXT(G9,\"dd-mm-yyyyy\")","v":"Lumajang,09-11-2007"}]
[2,{"$f":"SISWA!B9","v":4333},null,{"$f":"SISWA!E9","v":"AININ NAFISA FEBRIYANTI"},{"$f":"SISWA!I9","v":"P"},{"$f":"SISWA!F9","v":"Lumajang"},{"$f":"SISWA!G9","v":"2008-02-12"},{"$f":"AH!P9","v":84.625},{"$f":"AA!P9","v":91.15},{"$f":"FQ!P9","v":79.5},{"$f":"SKI!P9","v":70.95},{"$f":"BA!P9","v":71.25},{"$f":"AWJ!P9","v":77.333333333333329},{"$f":"PKn!P9","v":67.5},{"$f":"BID!P9","v":70.833333333333343},{"$f":"MTK!P9","v":65},{"$f":"BID!P9","v":70.833333333333343},{"$f":"IPS!P9","v":69.25},{"$f":"SBK!P9","v":76.75},{"$f":"PJK!P9","v":74.125},{"$f":"BD!P9","v":67.875},{"$f":"BIG!P9","v":69.125},1106.1000000000001,73.740000000000009,"BAIK",null,{"$f":"F10&\", \"&TEXT(G10,\"[$-id-ID]dd mmmm yyyy\")","v":"Lumajang, 12 Februari 2008"},null,null,"Lumajang,12-02-2008"]
[3,{"$f":"SISWA!B10","v":4334},null,{"$f":"SISWA!E10","v":"AISYAH DWI ANDINI"},{"$f":"SISWA!I10","v":"P"},{"$f":"SISWA!F10","v":"Lumajang"},{"$f":"SISWA!G10","v":"2007-09-30"},{"$f":"AH!P10","v":82.5},{"$f":"AA!P10","v":90.025000000000006},{"$f":"FQ!P10","v":84},{"$f":"SKI!P10","v":71.174999999999997},{"$f":"BA!P10","v":72.375},{"$f":"AWJ!P10","v":77.666666666666671},{"$f":"PKn!P10","v":72.5},{"$f":"BID!P10","v":75.388888888888886},{"$f":"MTK!P10","v":65},{"$f":"BID!P10","v":75.388888888888886},{"$f":"IPS!P10","v":71.625},{"$f":"SBK!P10","v":71.349999999999994},{"$f":"PJK!P10","v":82.75},{"$f":"BD!P10","v":67.875},{"$f":"BIG!P10","v":78},1137.6194444444445,75.841296296296306,"BAIK",null,"Lumajang, 30 September 2007",null,null,"Lumajang,30-09-2007"]
[4,{"$f":"SISWA!B11","v":4335},null,{"$f":"SISWA!E11","v":"AJENG AGUSTINA KIRANA PUTRI"},{"$f":"SISWA!I11","v":"P"},{"$f":"SISWA!F11","v":"Hanau"},{"$f":"SISWA!G11","v":"2007-07-31"},{"$f":"AH!P11","v":73.875},{"$f":"AA!P11","v":70.474999999999994},{"$f":"FQ!P11","v":73.125},{"$f":"SKI!P11","v":70.825000000000003},{"$f":"BA!P11","v":71.375},{"$f":"AWJ!P11","v":77.333333333333329},{"$f":"PKn!P11","v":65},{"$f":"BID!P11","v":67.833333333333343},{"$f":"MTK!P11","v":65},{"$f":"BID!P11","v":67.833333333333343},{"$f":"IPS!P11","v":70},{"$f":"SBK!P11","v":73.25},{"$f":"PJK!P11","v":73.875},{"$f":"BD!P11","v":68.625},{"$f":"BIG!P11","v":70.75},1059.1750000000002,70.611666666666679,"BAIK",null,"Hanau, 31 Juli 2007",null,null,"Hanau,31-07-2007"]
[5,{"$f":"SISWA!B12","v":4336},null,{"$f":"SISWA!E12","v":"ALVIAN FAIZULHAQQI"},{"$f":"SISWA!I12","v":"L"},{"$f":"SISWA!F12","v":"Lumajang"},{"$f":"SISWA!G12","v":"2007-05-20"},{"$f":"AH!P12","v":71.875},{"$f":"AA!P12","v":70.724999999999994},{"$f":"FQ!P12","v":75.625},{"$f":"SKI!P12","v":69.3},{"$f":"BA!P12","v":69.575000000000003},{"$f":"AWJ!P12","v":72.333333333333329},{"$f":"PKn!P12","v":65},{"$f":"BID!P12","v":68.833333333333343},{"$f":"MTK!P12","v":65},{"$f":"BID!P12","v":68.833333333333343},{"$f":"IPS!P12","v":68},{"$f":"SBK!P12","v":67.95},{"$f":"PJK!P12","v":80.625},{"$f":"BD!P12","v":68.125},{"$f":"BIG!P12","v":66.825000000000003},1048.625,69.908333333333331,"BAIK",null,"Lumajang, 20 Mei 2007",null,null,"Lumajang,20-05-2007"]
[6,{"$f":"SISWA!B13","v":4337},null,{"$f":"SISWA!E13","v":"ANGGITA RIZKY YUGA MEISYA"},{"$f":"SISWA!I13","v":"P"},{"$f":"SISWA!F13","v":"Lumajang"},{"$f":"SISWA!G13","v":"2007-05-31"},{"$f":"AH!P13","v":73.125},{"$f":"AA!P13","v":93.56785714285715},{"$f":"FQ!P13","v":83.339285714285722},{"$f":"SKI!P13","v":71.349999999999994},{"$f":"BA!P13","v":71.474999999999994},{"$f":"AWJ!P13","v":77.666666666666671},{"$f":"PKn!P13","v":65},{"$f":"BID!P13","v":69.833333333333343},{"$f":"MTK!P13","v":65},{"$f":"BID!P13","v":69.833333333333343},{"$f":"IPS!P13","v":71.125},{"$f":"SBK!P13","v":71.474999999999994},{"$f":"PJK!P13","v":79.375},{"$f":"BD!P13","v":69.5},{"$f":"BIG!P13","v":75.875},1107.5404761904765,73.836031746031765,"BAIK",null,"Lumajang, 31 Mei 2007",null,null,"Lumajang,31-05-2007"]
[7,{"$f":"SISWA!B14","v":4338},null,{"$f":"SISWA!E14","v":"AURA SALSABILA WULAN SARI"},{"$f":"SISWA!I14","v":"P"},{"$f":"SISWA!F14","v":"Lumajang"},{"$f":"SISWA!G14","v":"2007-05-18"},{"$f":"AH!P14","v":72.875},{"$f":"AA!P14","v":87.3},{"$f":"FQ!P14","v":81.5},{"$f":"SKI!P14","v":70.599999999999994},{"$f":"BA!P14","v":70.400000000000006},{"$f":"AWJ!P14","v":77},{"$f":"PKn!P14","v":70},{"$f":"BID!P14","v":71.611111111111114},{"$f":"MTK!P14","v":65},{"$f":"BID!P14","v":71.611111111111114},{"$f":"IPS!P14","v":70.875},{"$f":"SBK!P14","v":69.424999999999997},{"$f":"PJK!P14","v":84.075000000000003},{"$f":"BD!P14","v":68.375},{"$f":"BIG!P14","v":82.25},1112.8972222222221,74.19314814814814,"BAIK",null,"Lumajang, 18 Mei 2007",null,null,"Lumajang,18-05-2007"]
[8,{"$f":"SISWA!B15","v":4366},null,{"$f":"SISWA!E15","v":"BALQIS NAILA AUDIA"},{"$f":"SISWA!I15","v":"P"},{"$f":"SISWA!F15","v":"Lumajang"},{"$f":"SISWA!G15","v":"2007-10-16"},{"$f":"AH!P15","v":84.5},{"$f":"AA!P15","v":89.474999999999994},{"$f":"FQ!P15","v":83.875},{"$f":"SKI!P15","v":72.849999999999994},{"$f":"BA!P15","v":78.900000000000006},{"$f":"AWJ!P15","v":78.666666666666671},{"$f":"PKn!P15","v":67.5},{"$f":"BID!P15","v":72.166666666666657},{"$f":"MTK!P15","v":65},{"$f":"BID!P15","v":72.166666666666657},{"$f":"IPS!P15","v":72.625},{"$f":"SBK!P15","v":71.400000000000006},{"$f":"PJK!P15","v":94.674999999999997},{"$f":"BD!P15","v":74.25},{"$f":"BIG!P15","v":88.25},1166.2999999999997,77.753333333333316,"BAIK",null,"Lumajang, 16 Oktober 2007",null,null,"Lumajang,16-10-2007"]
[9,{"$f":"SISWA!B16","v":4440},null,{"$f":"SISWA!E16","v":"BIMA ARYO SUSILO"},{"$f":"SISWA!I16","v":"L"},{"$f":"SISWA!F16","v":"Blitar"},{"$f":"SISWA!G16","v":"2008-02-04"},{"$f":"AH!P16","v":73.25},{"$f":"AA!P16","v":76.5},{"$f":"FQ!P16","v":75.75},{"$f":"SKI!P16","v":70.375},{"$f":"BA!P16","v":70.25},{"$f":"AWJ!P16","v":76.333333333333329},{"$f":"PKn!P16","v":67.5},{"$f":"BID!P16","v":70.666666666666657},{"$f":"MTK!P16","v":65},{"$f":"BID!P16","v":70.666666666666657},{"$f":"IPS!P16","v":72},{"$f":"SBK!P16","v":74.875},{"$f":"PJK!P16","v":80.875},{"$f":"BD!P16","v":67.625},{"$f":"BIG!P16","v":93.5},1105.1666666666665,73.677777777777763,"BAIK",null,"Blitar, 04 Februari 2008",null,null,"Blitar,04-02-2008"]
[10,{"$f":"SISWA!B17","v":4367},null,{"$f":"SISWA!E17","v":"BIMA SATRIA DIRGANTARA"},{"$f":"SISWA!I17","v":"L"},{"$f":"SISWA!F17","v":"Lumajang"},{"$f":"SISWA!G17","v":"2007-10-18"},{"$f":"AH!P17","v":72.5},{"$f":"AA!P17","v":72.125},{"$f":"FQ!P17","v":71.75},{"$f":"SKI!P17","v":69.375},{"$f":"BA!P17","v":70.924999999999997},{"$f":"AWJ!P17","v":73},{"$f":"PKn!P17","v":65},{"$f":"BID!P17","v":67.166666666666657},{"$f":"MTK!P17","v":65},{"$f":"BID!P17","v":67.166666666666657},{"$f":"IPS!P17","v":69},{"$f":"SBK!P17","v":67.599999999999994},{"$f":"PJK!P17","v":74.825000000000003},{"$f":"BD!P17","v":67.5},{"$f":"BIG!P17","v":67.7},1040.6333333333334,69.375555555555565,"BAIK",null,"Lumajang, 18 Oktober 2007",null,null,"Lumajang,18-10-2007"]
[11,{"$f":"SISWA!B18","v":4339},null,{"$f":"SISWA!E18","v":"DEVI KARUNIA RATNA PUTRI"},{"$f":"SISWA!I18","v":"P"},{"$f":"SISWA!F18","v":"Lumajang"},{"$f":"SISWA!G18","v":"2008-01-28"},{"$f":"AH!P18","v":79.625},{"$f":"AA!P18","v":86.075000000000003},{"$f":"FQ!P18","v":76.5},{"$f":"SKI!P18","v":71.3},{"$f":"BA!P18","v":71.375},{"$f":"AWJ!P18","v":77.666666666666671},{"$f":"PKn!P18","v":65},{"$f":"BID!P18","v":70},{"$f":"MTK!P18","v":65},{"$f":"BID!P18","v":70},{"$f":"IPS!P18","v":71.625},{"$f":"SBK!P18","v":74.424999999999997},{"$f":"PJK!P18","v":79.5},{"$f":"BD!P18","v":72.125},{"$f":"BIG!P18","v":75.5},1105.7166666666667,73.714444444444453,"BAIK",null,"Lumajang, 28 Januari 2008",null,null,"Lumajang,28-01-2008"]
[12,{"$f":"SISWA!B19","v":4340},null,{"$f":"SISWA!E19","v":"DEVITA FEBRIANI PUTRI"},{"$f":"SISWA!I19","v":"P"},{"$f":"SISWA!F19","v":"Lumajang"},{"$f":"SISWA!G19","v":"2008-02-17"},{"$f":"AH!P19","v":73.75},{"$f":"AA!P19","v":94.275000000000006},{"$f":"FQ!P19","v":76.875},{"$f":"SKI!P19","v":71.174999999999997},{"$f":"BA!P19","v":70.375},{"$f":"AWJ!P19","v":77.666666666666671},{"$f":"PKn!P19","v":70},{"$f":"BID!P19","v":68.333333333333343},{"$f":"MTK!P19","v":65},{"$f":"BID!P19","v":68.333333333333343},{"$f":"IPS!P19","v":70.625},{"$f":"SBK!P19","v":75.650000000000006},{"$f":"PJK!P19","v":79.5},{"$f":"BD!P19","v":67.625},{"$f":"BIG!P19","v":75},1104.1833333333334,73.612222222222229,"BAIK",null,"Lumajang, 17 Februari 2008",null,null,"Lumajang,17-02-2008"]
[13,{"$f":"SISWA!B20","v":4370},null,{"$f":"SISWA!E20","v":"FAKHIS GABRIL LIA"},{"$f":"SISWA!I20","v":"P"},{"$f":"SISWA!F20","v":"Lumajang"},{"$f":"SISWA!G20","v":"2007-05-04"},{"$f":"AH!P20","v":80.5},{"$f":"AA!P20","v":94.575000000000003},{"$f":"FQ!P20","v":83.375},{"$f":"SKI!P20","v":70.474999999999994},{"$f":"BA!P20","v":72.099999999999994},{"$f":"AWJ!P20","v":77},{"$f":"PKn!P20","v":67.5},{"$f":"BID!P20","v":69},{"$f":"MTK!P20","v":65},{"$f":"BID!P20","v":69},{"$f":"IPS!P20","v":69.75},{"$f":"SBK!P20","v":69.95},{"$f":"PJK!P20","v":79.125},{"$f":"BD!P20","v":67.5},{"$f":"BIG!P20","v":78.625},1113.4749999999999,74.231666666666655,"BAIK",null,"Lumajang, 04 Mei 2007",null,null,"Lumajang,04-05-2007"]
[14,{"$f":"SISWA!B21","v":4342},null,{"$f":"SISWA!E21","v":"FARAH NAILATUL ALYAH"},{"$f":"SISWA!I21","v":"P"},{"$f":"SISWA!F21","v":"Lumajang"},{"$f":"SISWA!G21","v":"2008-02-27"},{"$f":"AH!P21","v":82.875},{"$f":"AA!P21","v":88.95},{"$f":"FQ!P21","v":82.25},{"$f":"SKI!P21","v":70.650000000000006},{"$f":"BA!P21","v":71.2},{"$f":"AWJ!P21","v":80.5},{"$f":"PKn!P21","v":70},{"$f":"BID!P21","v":75.722222222222229},{"$f":"MTK!P21","v":65},{"$f":"BID!P21","v":75.722222222222229},{"$f":"IPS!P21","v":72.25},{"$f":"SBK!P21","v":69.974999999999994},{"$f":"PJK!P21","v":70.125},{"$f":"BD!P21","v":69.125},{"$f":"BIG!P21","v":71.75},1116.0944444444444,74.40629629629629,"BAIK",null,"Lumajang, 27 Februari 2008",null,null,"Lumajang,27-02-2008"]
[15,{"$f":"SISWA!B22","v":4345},null,{"$f":"SISWA!E22","v":"GALANG MARDHOTILLAH SATOTO"},{"$f":"SISWA!I22","v":"L"},{"$f":"SISWA!F22","v":"Lumajang"},{"$f":"SISWA!G22","v":"2007-07-12"},{"$f":"AH!P22","v":71.875},{"$f":"AA!P22","v":80.275000000000006},{"$f":"FQ!P22","v":75.875},{"$f":"SKI!P22","v":69.275000000000006},{"$f":"BA!P22","v":70.224999999999994},{"$f":"AWJ!P22","v":75},{"$f":"PKn!P22","v":65},{"$f":"BID!P22","v":67.833333333333343},{"$f":"MTK!P22","v":65},{"$f":"BID!P22","v":67.833333333333343},{"$f":"IPS!P22","v":69.375},{"$f":"SBK!P22","v":68.599999999999994},{"$f":"PJK!P22","v":70.75},{"$f":"BD!P22","v":67.5},{"$f":"BIG!P22","v":81.5},1065.9166666666667,71.061111111111117,"BAIK",null,"Lumajang, 12 Juli 2007",null,null,"Lumajang,12-07-2007"]
[16,{"$f":"SISWA!B23","v":4371},null,{"$f":"SISWA!E23","v":"GALIH FAREL PRASTYO"},{"$f":"SISWA!I23","v":"L"},{"$f":"SISWA!F23","v":"Lumajang"},{"$f":"SISWA!G23","v":"2007-07-03"},{"$f":"AH!P23","v":73.25},{"$f":"AA!P23","v":70},{"$f":"FQ!P23","v":71.375},{"$f":"SKI!P23","v":69.575000000000003},{"$f":"BA!P23","v":70.7},{"$f":"AWJ!P23","v":74},{"$f":"PKn!P23","v":65},{"$f":"BID!P23","v":67.833333333333343},{"$f":"MTK!P23","v":65},{"$f":"BID!P23","v":67.833333333333343},{"$f":"IPS!P23","v":68.5},{"$f":"SBK!P23","v":67.825000000000003},{"$f":"PJK!P23","v":72.650000000000006},{"$f":"BD!P23","v":67.125},{"$f":"BIG!P23","v":67.2},1037.8666666666668,69.191111111111113,"BAIK",null,"Lumajang, 03 Juli 2007",null,null,"Lumajang,03-07-2007"]
[17,{"$f":"SISWA!B24","v":4466},null,{"$f":"SISWA!E24","v":"HIBATULLAH MUSTAGHFIRY RUSLI"},{"$f":"SISWA!I24","v":"L"},{"$f":"SISWA!F24","v":"Bondowoso"},{"$f":"SISWA!G24","v":"2008-05-05"},{"$f":"AH!P24","v":72.375},{"$f":"AA!P24","v":77.474999999999994},{"$f":"FQ!P24","v":77.125},{"$f":"SKI!P24","v":69.95},{"$f":"BA!P24","v":69.825000000000003},{"$f":"AWJ!P24","v":79},{"$f":"PKn!P24","v":65},{"$f":"BID!P24","v":70},{"$f":"MTK!P24","v":65},{"$f":"BID!P24","v":70},{"$f":"IPS!P24","v":71.5},{"$f":"SBK!P24","v":68.75},{"$f":"PJK!P24","v":69.875},{"$f":"BD!P24","v":68.75},{"$f":"BIG!P24","v":92.3},1086.925,72.461666666666659,"BAIK",null,"Bondowoso, 05 Mei 2008",null,null,"Bondowoso,05-05-2008"]
[18,{"$f":"SISWA!B25","v":4346},null,{"$f":"SISWA!E25","v":"IKA KURNIA WATI AGUSTINA"},{"$f":"SISWA!I25","v":"P"},{"$f":"SISWA!F25","v":"Lumajang"},{"$f":"SISWA!G25","v":"2007-08-19"},{"$f":"AH!P25","v":72.625},{"$f":"AA!P25","v":89.174999999999997},{"$f":"FQ!P25","v":71},{"$f":"SKI!P25","v":69.775000000000006},{"$f":"BA!P25","v":70.125},{"$f":"AWJ!P25","v":75.666666666666671},{"$f":"PKn!P25","v":65},{"$f":"BID!P25","v":68},{"$f":"MTK!P25","v":65},{"$f":"BID!P25","v":68},{"$f":"IPS!P25","v":69.25},{"$f":"SBK!P25","v":68.174999999999997},{"$f":"PJK!P25","v":70},{"$f":"BD!P25","v":67.25},{"$f":"BIG!P25","v":66.25},1055.2916666666667,70.352777777777789,"BAIK",null,"Lumajang, 19 Agustus 2007",null,null,"Lumajang,19-08-2007"]
[19,{"$f":"SISWA!B26","v":4350},null,{"$f":"SISWA!E26","v":"MAYLUNA EKA PRATIWI"},{"$f":"SISWA!I26","v":"P"},{"$f":"SISWA!F26","v":"Lumajang"},{"$f":"SISWA!G26","v":"2007-05-25"},{"$f":"AH!P26","v":76},{"$f":"AA!P26","v":88.625},{"$f":"FQ!P26","v":88},{"$f":"SKI!P26","v":79.3},{"$f":"BA!P26","v":71.875},{"$f":"AWJ!P26","v":80.5},{"$f":"PKn!P26","v":65},{"$f":"BID!P26","v":73.5},{"$f":"MTK!P26","v":65},{"$f":"BID!P26","v":73.5},{"$f":"IPS!P26","v":74.375},{"$f":"SBK!P26","v":71.650000000000006},{"$f":"PJK!P26","v":71.375},{"$f":"BD!P26","v":68.75},{"$f":"BIG!P26","v":68.625},1116.0749999999998,74.404999999999987,"BAIK",null,"Lumajang, 25 Mei 2007",null,null,"Lumajang,25-05-2007"]
[20,{"$f":"SISWA!B27","v":4353},null,{"$f":"SISWA!E27","v":"MOHAMAD DWIMAS FIRDAUS"},{"$f":"SISWA!I27","v":"L"},{"$f":"SISWA!F27","v":"Lumajang"},{"$f":"SISWA!G27","v":"2007-05-14"},{"$f":"AH!P27","v":73.25},{"$f":"AA!P27","v":84.575000000000003},{"$f":"FQ!P27","v":74.75},{"$f":"SKI!P27","v":71.3},{"$f":"BA!P27","v":69.2},{"$f":"AWJ!P27","v":75},{"$f":"PKn!P27","v":65},{"$f":"BID!P27","v":70.833333333333343},{"$f":"MTK!P27","v":65},{"$f":"BID!P27","v":70.833333333333343},{"$f":"IPS!P27","v":75.75},{"$f":"SBK!P27","v":74.349999999999994},{"$f":"PJK!P27","v":87.125},{"$f":"BD!P27","v":69.875},{"$f":"BIG!P27","v":84.75},1111.5916666666667,74.106111111111119,"BAIK",null,"Lumajang, 14 Mei 2007",null,null,"Lumajang,14-05-2007"]
[21,{"$f":"SISWA!B28","v":4375},null,{"$f":"SISWA!E28","v":"MUHAMMAD AFFAN ABI SYAHPUTRA"},{"$f":"SISWA!I28","v":"L"},{"$f":"SISWA!F28","v":"Lumajang"},{"$f":"SISWA!G28","v":"2007-11-06"},{"$f":"AH!P28","v":72.25},{"$f":"AA!P28","v":70.849999999999994},{"$f":"FQ!P28","v":71.375},{"$f":"SKI!P28","v":70.05},{"$f":"BA!P28","v":69.7},{"$f":"AWJ!P28","v":78.5},{"$f":"PKn!P28","v":65},{"$f":"BID!P28","v":70.833333333333343},{"$f":"MTK!P28","v":65},{"$f":"BID!P28","v":70.833333333333343},{"$f":"IPS!P28","v":71.25},{"$f":"SBK!P28","v":69.3},{"$f":"PJK!P28","v":87.025000000000006},{"$f":"BD!P28","v":76},{"$f":"BIG!P28","v":68},1075.9666666666667,71.731111111111119,"BAIK",null,"Lumajang, 06 November 2007",null,null,"Lumajang,06-11-2007"]
[22,{"$f":"SISWA!B29","v":4354},null,{"$f":"SISWA!E29","v":"MUHAMMAD ALVIN RIDHO"},{"$f":"SISWA!I29","v":"L"},{"$f":"SISWA!F29","v":"Lumajang"},{"$f":"SISWA!G29","v":"2007-08-13"},{"$f":"AH!P29","v":80.375},{"$f":"AA!P29","v":94.625},{"$f":"FQ!P29","v":79.5},{"$f":"SKI!P29","v":80.075000000000003},{"$f":"BA!P29","v":69.150000000000006},{"$f":"AWJ!P29","v":73},{"$f":"PKn!P29","v":77.5},{"$f":"BID!P29","v":72.722222222222229},{"$f":"MTK!P29","v":65},{"$f":"BID!P29","v":72.722222222222229},{"$f":"IPS!P29","v":75.75},{"$f":"SBK!P29","v":83.55},{"$f":"PJK!P29","v":84},{"$f":"BD!P29","v":67.5},{"$f":"BIG!P29","v":82.2},1157.6694444444445,77.177962962962965,"BAIK",null,"Lumajang, 13 Agustus 2007",null,null,"Lumajang,13-08-2007"]
[23,{"$f":"SISWA!B30","v":4378},null,{"$f":"SISWA!E30","v":"MUKHAMAD DAVID ARIF FIRDAUS"},{"$f":"SISWA!I30","v":"L"},{"$f":"SISWA!F30","v":"Lumajang"},{"$f":"SISWA!G30","v":"2007-07-06"},{"$f":"AH!P30","v":80.375},{"$f":"AA!P30","v":90.15},{"$f":"FQ!P30","v":85},{"$f":"SKI!P30","v":71.424999999999997},{"$f":"BA!P30","v":72.275000000000006},{"$f":"AWJ!P30","v":78.5},{"$f":"PKn!P30","v":65},{"$f":"BID!P30","v":73.333333333333343},{"$f":"MTK!P30","v":65},{"$f":"BID!P30","v":73.333333333333343},{"$f":"IPS!P30","v":72.375},{"$f":"SBK!P30","v":69.825000000000003},{"$f":"PJK!P30","v":82.375},{"$f":"BD!P30","v":69.25},{"$f":"BIG!P30","v":75.625},1123.8416666666667,74.922777777777782,"BAIK",null,"Lumajang, 06 Juli 2007",null,null,"Lumajang,06-07-2007"]
[24,{"$f":"SISWA!B31","v":4379},null,{"$f":"SISWA!E31","v":"NAORA ISQI AINAYYA"},{"$f":"SISWA!I31","v":"P"},{"$f":"SISWA!F31","v":"Lumajang"},{"$f":"SISWA!G31","v":"2007-12-08"},{"$f":"AH!P31","v":88.875},{"$f":"AA!P31","v":96.224999999999994},{"$f":"FQ!P31","v":93.625},{"$f":"SKI!P31","v":78.674999999999997},{"$f":"BA!P31","v":82.674999999999997},{"$f":"AWJ!P31","v":80.5},{"$f":"PKn!P31","v":77.5},{"$f":"BID!P31","v":79.777777777777771},{"$f":"MTK!P31","v":65},{"$f":"BID!P31","v":79.777777777777771},{"$f":"IPS!P31","v":76},{"$f":"SBK!P31","v":84.55},{"$f":"PJK!P31","v":85},{"$f":"BD!P31","v":70.625},{"$f":"BIG!P31","v":88.25},1227.0555555555557,81.803703703703704,"BAIK",null,"Lumajang, 08 Desember 2007",null,null,"Lumajang,08-12-2007"]
[25,{"$f":"SISWA!B32","v":4380},null,{"$f":"SISWA!E32","v":"NAZRA ISLAMAY PASHA"},{"$f":"SISWA!I32","v":"P"},{"$f":"SISWA!F32","v":"Jombang"},{"$f":"SISWA!G32","v":"2007-05-08"},{"$f":"AH!P32","v":83.875},{"$f":"AA!P32","v":92.075000000000003},{"$f":"FQ!P32","v":81.375},{"$f":"SKI!P32","v":78.25},{"$f":"BA!P32","v":79.174999999999997},{"$f":"AWJ!P32","v":80},{"$f":"PKn!P32","v":65},{"$f":"BID!P32","v":71.666666666666657},{"$f":"MTK!P32","v":65},{"$f":"BID!P32","v":71.666666666666657},{"$f":"IPS!P32","v":73.125},{"$f":"SBK!P32","v":80.400000000000006},{"$f":"PJK!P32","v":72.75},{"$f":"BD!P32","v":70.625},{"$f":"BIG!P32","v":91.424999999999997},1156.4083333333331,77.09388888888887,"BAIK",null,"Jombang, 08 Mei 2007",null,null,"Jombang,08-05-2007"]
[26,{"$f":"SISWA!B33","v":4382},null,{"$f":"SISWA!E33","v":"NUR ALYA NABILA"},{"$f":"SISWA!I33","v":"P"},{"$f":"SISWA!F33","v":"Lumajang"},{"$f":"SISWA!G33","v":"2007-09-02"},{"$f":"AH!P33","v":79.875},{"$f":"AA!P33","v":91.325000000000003},{"$f":"FQ!P33","v":85.375},{"$f":"SKI!P33","v":79.575000000000003},{"$f":"BA!P33","v":72.375},{"$f":"AWJ!P33","v":80},{"$f":"PKn!P33","v":72.5},{"$f":"BID!P33","v":73.611111111111114},{"$f":"MTK!P33","v":65},{"$f":"BID!P33","v":73.611111111111114},{"$f":"IPS!P33","v":74.5},{"$f":"SBK!P33","v":70.650000000000006},{"$f":"PJK!P33","v":70},{"$f":"BD!P33","v":70.125},{"$f":"BIG!P33","v":76.375},1134.8972222222221,75.659814814814808,"BAIK",null,"Lumajang, 02 September 2007",null,null,"Lumajang,02-09-2007"]
[27,{"$f":"SISWA!B34","v":4358},null,{"$f":"SISWA!E34","v":"PUTRI SHOLIKHAH"},{"$f":"SISWA!I34","v":"P"},{"$f":"SISWA!F34","v":"Lumajang"},{"$f":"SISWA!G34","v":"2008-02-10"},{"$f":"AH!P34","v":73},{"$f":"AA!P34","v":85.224999999999994},{"$f":"FQ!P34","v":72.375},{"$f":"SKI!P34","v":70.075000000000003},{"$f":"BA!P34","v":71.025000000000006},{"$f":"AWJ!P34","v":79.5},{"$f":"PKn!P34","v":67.5},{"$f":"BID!P34","v":69.333333333333343},{"$f":"MTK!P34","v":65},{"$f":"BID!P34","v":69.333333333333343},{"$f":"IPS!P34","v":70.5},{"$f":"SBK!P34","v":67.7},{"$f":"PJK!P34","v":69.25},{"$f":"BD!P34","v":69.25},{"$f":"BIG!P34","v":83},1082.0666666666668,72.137777777777785,"BAIK",null,"Lumajang, 10 Februari 2008",null,null,"Lumajang,10-02-2008"]
[28,{"$f":"SISWA!B35","v":4384},null,{"$f":"SISWA!E35","v":"RESTI FITRIANTI DWI OCTAVIANI"},{"$f":"SISWA!I35","v":"P"},{"$f":"SISWA!F35","v":"Lumajang"},{"$f":"SISWA!G35","v":"2007-10-22"},{"$f":"AH!P35","v":72.125},{"$f":"AA!P35","v":91.025000000000006},{"$f":"FQ!P35","v":73.375},{"$f":"SKI!P35","v":75.25},{"$f":"BA!P35","v":71.099999999999994},{"$f":"AWJ!P35","v":79},{"$f":"PKn!P35","v":65},{"$f":"BID!P35","v":69.833333333333343},{"$f":"MTK!P35","v":65},{"$f":"BID!P35","v":69.833333333333343},{"$f":"IPS!P35","v":70.875},{"$f":"SBK!P35","v":69.650000000000006},{"$f":"PJK!P35","v":74.375},{"$f":"BD!P35","v":69.125},{"$f":"BIG!P35","v":67.75},1083.3166666666666,72.221111111111114,"BAIK",null,"Lumajang, 22 Oktober 2007",null,null,"Lumajang,22-10-2007"]
[29,{"$f":"SISWA!B36","v":4359},null,{"$f":"SISWA!E36","v":"ROUDHOTUS SA'DIYAH"},{"$f":"SISWA!I36","v":"P"},{"$f":"SISWA!F36","v":"Lumajang"},{"$f":"SISWA!G36","v":"2007-09-07"},{"$f":"AH!P36","v":73.625},{"$f":"AA!P36","v":93.75},{"$f":"FQ!P36","v":86.5},{"$f":"SKI!P36","v":78.174999999999997},{"$f":"BA!P36","v":70.775000000000006},{"$f":"AWJ!P36","v":79.5},{"$f":"PKn!P36","v":67.5},{"$f":"BID!P36","v":70.5},{"$f":"MTK!P36","v":65},{"$f":"BID!P36","v":70.5},{"$f":"IPS!P36","v":71.75},{"$f":"SBK!P36","v":72.724999999999994},{"$f":"PJK!P36","v":79.25},{"$f":"BD!P36","v":69.25},{"$f":"BIG!P36","v":80.625},1129.4250000000002,75.295000000000016,"BAIK",null,"Lumajang, 07 September 2007",null,null,"Lumajang,07-09-2007"]
[30,{"$f":"SISWA!B37","v":4386},null,{"$f":"SISWA!E37","v":"TIERSYA BETA RAMANUZAN"},{"$f":"SISWA!I37","v":"P"},{"$f":"SISWA!F37","v":"Lumajang"},{"$f":"SISWA!G37","v":"2007-06-20"},{"$f":"AH!P37","v":89.625},{"$f":"AA!P37","v":94.875},{"$f":"FQ!P37","v":90.375},{"$f":"SKI!P37","v":84.15},{"$f":"BA!P37","v":72.05},{"$f":"AWJ!P37","v":83},{"$f":"PKn!P37","v":67.5},{"$f":"BID!P37","v":76.944444444444457},{"$f":"MTK!P37","v":65},{"$f":"BID!P37","v":76.944444444444457},{"$f":"IPS!P37","v":80.75},{"$f":"SBK!P37","v":84.3},{"$f":"PJK!P37","v":85},{"$f":"BD!P37","v":78},{"$f":"BIG!P37","v":83.125},1211.6388888888889,80.775925925925932,"BAIK",null,"Lumajang, 20 Juni 2007",null,null,"Lumajang,20-06-2007"]
[31,{"$f":"SISWA!B38","v":4388},null,{"$f":"SISWA!E38","v":"VERA MUSTIKA"},{"$f":"SISWA!I38","v":"P"},{"$f":"SISWA!F38","v":"Lumajang"},{"$f":"SISWA!G38","v":"2007-11-09"},{"$f":"AH!P38","v":73},{"$f":"AA!P38","v":71.424999999999997},{"$f":"FQ!P38","v":73.125},{"$f":"SKI!P38","v":70.424999999999997},{"$f":"BA!P38","v":71.25},{"$f":"AWJ!P38","v":80.5},{"$f":"PKn!P38","v":65},{"$f":"BID!P38","v":69.666666666666657},{"$f":"MTK!P38","v":65},{"$f":"BID!P38","v":69.666666666666657},{"$f":"IPS!P38","v":72.125},{"$f":"SBK!P38","v":68.424999999999997},{"$f":"PJK!P38","v":69.625},{"$f":"BD!P38","v":68.875},{"$f":"BIG!P38","v":67.875},1055.9833333333331,70.398888888888877,"BAIK",null,"Lumajang, 09 November 2007",null,null,"Lumajang,09-11-2007"]
[32,{"$f":"SISWA!B39","v":4360},null,{"$f":"SISWA!E39","v":"ZIDNY ILMA NABILA"},{"$f":"SISWA!I39","v":"P"},{"$f":"SISWA!F39","v":"Lumajang"},{"$f":"SISWA!G39","v":"2007-07-29"},{"$f":"AH!P39","v":79},{"$f":"AA!P39","v":95.125},{"$f":"FQ!P39","v":82},{"$f":"SKI!P39","v":84.924999999999997},{"$f":"BA!P39","v":74.025000000000006},{"$f":"AWJ!P39","v":82.5},{"$f":"PKn!P39","v":65},{"$f":"BID!P39","v":74.166666666666657},{"$f":"MTK!P39","v":65},{"$f":"BID!P39","v":74.166666666666657},{"$f":"IPS!P39","v":74.5},{"$f":"SBK!P39","v":82.825000000000003},{"$f":"PJK!P39","v":74},{"$f":"BD!P39","v":69.75},{"$f":"BIG!P39","v":76},1152.9833333333333,76.865555555555559,"BAIK",null,"Lumajang, 29 Juli 2007",null,null,"Lumajang,29-07-2007"]
[33,{"$f":"SISWA!B40","v":4390},null,{"$f":"SISWA!E40","v":"ZITNATUL AULIA ILLA"},{"$f":"SISWA!I40","v":"P"},{"$f":"SISWA!F40","v":"Lumajang"},{"$f":"SISWA!G40","v":"2007-09-10"},{"$f":"AH!P40","v":87.125},{"$f":"AA!P40","v":96.1},{"$f":"FQ!P40","v":96.5},{"$f":"SKI!P40","v":86.7},{"$f":"BA!P40","v":89.174999999999997},{"$f":"AWJ!P40","v":82.5},{"$f":"PKn!P40","v":80},{"$f":"BID!P40","v":82.888888888888886},{"$f":"MTK!P40","v":65},{"$f":"BID!P40","v":82.888888888888886},{"$f":"IPS!P40","v":75.25},{"$f":"SBK!P40","v":73.424999999999997},{"$f":"PJK!P40","v":84.625},{"$f":"BD!P40","v":70.5},{"$f":"BIG!P40","v":89.125},{"$f":"SUM(H41:V41)","v":1241.8027777777779},{"$f":"IFERROR(AVERAGE(H41:V41),\"\")","v":82.786851851851864},"BAIK",null,"Lumajang, 10 September 2007",null,null,"Lumajang,10-09-2007"]
[34,{"$f":"SISWA!B41","v":4330},null,{"$f":"SISWA!E41","v":"ACHID ATHIRIL ARDAN"},{"$f":"SISWA!I41","v":"L"},{"$f":"SISWA!F41","v":"Lumajang"},{"$f":"SISWA!G41","v":"2008-08-01"},{"$f":"AH!P41","v":70.25},{"$f":"AA!P41","v":69},{"$f":"FQ!P41","v":69.5},{"$f":"SKI!P41","v":66.833333333333343},{"$f":"BA!P41","v":67.166666666666657},{"$f":"AWJ!P41","v":65},{"$f":"PKn!P41","v":65},{"$f":"BID!P41","v":67.75},{"$f":"MTK!P41","v":65},{"$f":"BID!P41","v":67.75},{"$f":"IPS!P41","v":67.5},{"$f":"SBK!P41","v":66.083333333333343},{"$f":"PJK!P41","v":68.166666666666657},{"$f":"BD!P41","v":67.25},{"$f":"BIG!P41","v":66.166666666666657},1008.4166666666666,67.227777777777774,"BAIK",null,"Lumajang, 01 Agustus 2008",null,null,"Lumajang,01-08-2008"]
[35,{"$f":"SISWA!B42","v":4361},null,{"$f":"SISWA!E42","v":"ACHMAD SEPTIAN HAMDANI"},{"$f":"SISWA!I42","v":"L"},{"$f":"SISWA!F42","v":"Lumajang"},{"$f":"SISWA!G42","v":"2007-09-10"},{"$f":"AH!P42","v":72},{"$f":"AA!P42","v":73.924999999999997},{"$f":"FQ!P42","v":72.75},{"$f":"SKI!P42","v":66.333333333333343},{"$f":"BA!P42","v":67.166666666666657},{"$f":"AWJ!P42","v":68},{"$f":"PKn!P42","v":65},{"$f":"BID!P42","v":66},{"$f":"MTK!P42","v":65},{"$f":"BID!P42","v":66},{"$f":"IPS!P42","v":65.75},{"$f":"SBK!P42","v":66.083333333333343},{"$f":"PJK!P42","v":73.916666666666657},{"$f":"BD!P42","v":65},{"$f":"BIG!P42","v":89.75},1042.675,69.51166666666667,"BAIK",null,"Lumajang, 10 September 2007",null,null,"Lumajang,10-09-2007"]
[36,{"$f":"SISWA!B43","v":4362},null,{"$f":"SISWA!E43","v":"ACHMAD SULAIMAN"},{"$f":"SISWA!I43","v":"L"},{"$f":"SISWA!F43","v":"Lumajang"},{"$f":"SISWA!G43","v":"2007-07-26"},{"$f":"AH!P43","v":69.5},{"$f":"AA!P43","v":75.400000000000006},{"$f":"FQ!P43","v":75.75},{"$f":"SKI!P43","v":66.25},{"$f":"BA!P43","v":67.083333333333343},{"$f":"AWJ!P43","v":70},{"$f":"PKn!P43","v":65},{"$f":"BID!P43","v":65.25},{"$f":"MTK!P43","v":65},{"$f":"BID!P43","v":65.25},{"$f":"IPS!P43","v":65.25},{"$f":"SBK!P43","v":66.333333333333343},{"$f":"PJK!P43","v":68.666666666666657},{"$f":"BD!P43","v":65},{"$f":"BIG!P43","v":76.583333333333343},1026.3166666666666,68.421111111111102,"BAIK",null,"Lumajang, 26 Juli 2007",null,null,"Lumajang,26-07-2007"]
[37,{"$f":"SISWA!B44","v":4364},null,{"$f":"SISWA!E44","v":"AIRLANGGA DWIKA RIZQI"},{"$f":"SISWA!I44","v":"L"},{"$f":"SISWA!F44","v":"Lumajang"},{"$f":"SISWA!G44","v":"2007-12-17"},{"$f":"AH!P44","v":67.5},{"$f":"AA!P44","v":67.775000000000006},{"$f":"FQ!P44","v":67.75},{"$f":"SKI!P44","v":66.083333333333343},{"$f":"BA!P44","v":67.25},{"$f":"AWJ!P44","v":65},{"$f":"PKn!P44","v":65},{"$f":"BID!P44","v":65.5},{"$f":"MTK!P44","v":65},{"$f":"BID!P44","v":65.5},{"$f":"IPS!P44","v":65.5},{"$f":"SBK!P44","v":65.25},{"$f":"PJK!P44","v":68.75},{"$f":"BD!P44","v":66.75},{"$f":"BIG!P44","v":88.75},1017.3583333333333,67.823888888888888,"BAIK",null,"Lumajang, 17 Desember 2007",null,null,"Lumajang,17-12-2007"]
[38,{"$f":"SISWA!B45","v":4365},null,{"$f":"SISWA!E45","v":"AUFAN AZKAL ABRORI"},{"$f":"SISWA!I45","v":"L"},{"$f":"SISWA!F45","v":"Lumajang"},{"$f":"SISWA!G45","v":"2008-05-16"},{"$f":"AH!P45","v":71.625},{"$f":"AA!P45","v":68.424999999999997},{"$f":"FQ!P45","v":72.75},{"$f":"SKI!P45","v":66.416666666666657},{"$f":"BA!P45","v":67.666666666666657},{"$f":"AWJ!P45","v":70},{"$f":"PKn!P45","v":65},{"$f":"BID!P45","v":67.5},{"$f":"MTK!P45","v":65},{"$f":"BID!P45","v":67.5},{"$f":"IPS!P45","v":67.25},{"$f":"SBK!P45","v":67.25},{"$f":"PJK!P45","v":69.416666666666657},{"$f":"BD!P45","v":65},{"$f":"BIG!P45","v":66.583333333333343},1017.3833333333333,67.825555555555553,"BAIK",null,"Lumajang, 16 Mei 2008",null,null,"Lumajang,16-05-2008"]
[39,{"$f":"SISWA!B46","v":4465},null,{"$f":"SISWA!E46","v":"AZZA PRISHAL DWI PUTRA"},{"$f":"SISWA!I46","v":"L"},{"$f":"SISWA!F46","v":"Lumajang"},{"$f":"SISWA!G46","v":"2007-08-14"},{"$f":"AH!P46","v":71.5},{"$f":"AA!P46","v":65},{"$f":"FQ!P46","v":71.25},{"$f":"SKI!P46","v":66.333333333333343},{"$f":"BA!P46","v":67.5},{"$f":"AWJ!P46","v":65},{"$f":"PKn!P46","v":65},{"$f":"BID!P46","v":65},{"$f":"MTK!P46","v":65},{"$f":"BID!P46","v":65},{"$f":"IPS!P46","v":67.25},{"$f":"SBK!P46","v":67},{"$f":"PJK!P46","v":69.416666666666657},{"$f":"BD!P46","v":66.5},{"$f":"BIG!P46","v":65.5},1002.25,66.816666666666663,"BAIK",null,"Lumajang, 14 Agustus 2007",null,null,"Lumajang,14-08-2007"]
[40,{"$f":"SISWA!B47","v":4368},null,{"$f":"SISWA!E47","v":"EKA AULIYA` PUTRI"},{"$f":"SISWA!I47","v":"P"},{"$f":"SISWA!F47","v":"Lumajang"},{"$f":"SISWA!G47","v":"2007-12-07"},{"$f":"AH!P47","v":74.75},{"$f":"AA!P47","v":88.224999999999994},{"$f":"FQ!P47","v":71},{"$f":"SKI!P47","v":67.333333333333343},{"$f":"BA!P47","v":68.333333333333343},{"$f":"AWJ!P47","v":70},{"$f":"PKn!P47","v":65},{"$f":"BID!P47","v":66.75},{"$f":"MTK!P47","v":65},{"$f":"BID!P47","v":66.75},{"$f":"IPS!P47","v":67.5},{"$f":"SBK!P47","v":67.5},{"$f":"PJK!P47","v":68.666666666666657},{"$f":"BD!P47","v":65},{"$f":"BIG!P47","v":67.583333333333343},1039.3916666666667,69.292777777777772,"BAIK",null,"Lumajang, 07 Desember 2007",null,null,"Lumajang,07-12-2007"]
[41,{"$f":"SISWA!B48","v":4341},null,{"$f":"SISWA!E48","v":"ERSA PUSPITA EKA ROSA LINDA"},{"$f":"SISWA!I48","v":"P"},{"$f":"SISWA!F48","v":"Lumajang"},{"$f":"SISWA!G48","v":"2008-03-01"},{"$f":"AH!P48","v":73.375},{"$f":"AA!P48","v":70.5},{"$f":"FQ!P48","v":70},{"$f":"SKI!P48","v":66.083333333333343},{"$f":"BA!P48","v":67.416666666666657},{"$f":"AWJ!P48","v":68},{"$f":"PKn!P48","v":65},{"$f":"BID!P48","v":68},{"$f":"MTK!P48","v":65},{"$f":"BID!P48","v":68},{"$f":"IPS!P48","v":67.5},{"$f":"SBK!P48","v":67.333333333333343},{"$f":"PJK!P48","v":68.666666666666657},{"$f":"BD!P48","v":65},{"$f":"BIG!P48","v":66.166666666666657},1016.0416666666666,67.736111111111114,"BAIK",null,"Lumajang, 01 Maret 2008",null,null,"Lumajang,01-03-2008"]
[42,{"$f":"SISWA!B49","v":4369},null,{"$f":"SISWA!E49","v":"FABIYAN TRI BAKTI OKTAFIAN"},{"$f":"SISWA!I49","v":"L"},{"$f":"SISWA!F49","v":"Lumajang"},{"$f":"SISWA!G49","v":"2007-10-26"},{"$f":"AH!P49","v":72.125},{"$f":"AA!P49","v":68.474999999999994},{"$f":"FQ!P49","v":72.25},{"$f":"SKI!P49","v":66.416666666666657},{"$f":"BA!P49","v":67.916666666666657},{"$f":"AWJ!P49","v":70},{"$f":"PKn!P49","v":65},{"$f":"BID!P49","v":67.75},{"$f":"MTK!P49","v":65},{"$f":"BID!P49","v":67.75},{"$f":"IPS!P49","v":67.25},{"$f":"SBK!P49","v":66.25},{"$f":"PJK!P49","v":69},{"$f":"BD!P49","v":65},{"$f":"BIG!P49","v":66.333333333333343},1016.5166666666667,67.767777777777781,"BAIK",null,"Lumajang, 26 Oktober 2007",null,null,"Lumajang,26-10-2007"]
[43,{"$f":"SISWA!B50","v":4343},null,{"$f":"SISWA!E50","v":"FELISITA APRILIA NUR NIHAYA"},{"$f":"SISWA!I50","v":"P"},{"$f":"SISWA!F50","v":"Lumajang"},{"$f":"SISWA!G50","v":"2007-04-24"},{"$f":"AH!P50","v":70.875},{"$f":"AA!P50","v":76.849999999999994},{"$f":"FQ!P50","v":70.5},{"$f":"SKI!P50","v":66.75},{"$f":"BA!P50","v":67.666666666666657},{"$f":"AWJ!P50","v":63},{"$f":"PKn!P50","v":65},{"$f":"BID!P50","v":67.75},{"$f":"MTK!P50","v":65},{"$f":"BID!P50","v":67.75},{"$f":"IPS!P50","v":67.5},{"$f":"SBK!P50","v":67.083333333333343},{"$f":"PJK!P50","v":68.666666666666657},{"$f":"BD!P50","v":65},{"$f":"BIG!P50","v":66.25},1015.6416666666667,67.709444444444443,"BAIK",null,"Lumajang, 24 April 2007",null,null,"Lumajang,24-04-2007"]
[44,{"$f":"SISWA!B51","v":4344},null,{"$f":"SISWA!E51","v":"FIRDA DWI ANDRIANI"},{"$f":"SISWA!I51","v":"P"},{"$f":"SISWA!F51","v":"Lumajang"},{"$f":"SISWA!G51","v":"2007-11-23"},{"$f":"AH!P51","v":74.25},{"$f":"AA!P51","v":70.349999999999994},{"$f":"FQ!P51","v":71.25},{"$f":"SKI!P51","v":65.5},{"$f":"BA!P51","v":67.083333333333343},{"$f":"AWJ!P51","v":70},{"$f":"PKn!P51","v":65},{"$f":"BID!P51","v":67.5},{"$f":"MTK!P51","v":65},{"$f":"BID!P51","v":67.5},{"$f":"IPS!P51","v":67.25},{"$f":"SBK!P51","v":66.333333333333343},{"$f":"PJK!P51","v":68.666666666666657},{"$f":"BD!P51","v":65},{"$f":"BIG!P51","v":66.833333333333343},1017.5166666666668,67.834444444444458,"BAIK",null,"Lumajang, 23 November 2007",null,null,"Lumajang,23-11-2007"]
[45,{"$f":"SISWA!B52","v":4372},null,{"$f":"SISWA!E52","v":"GILANG AKBAR PRASETYO"},{"$f":"SISWA!I52","v":"L"},{"$f":"SISWA!F52","v":"Lumajang"},{"$f":"SISWA!G52","v":"2008-01-09"},{"$f":"AH!P52","v":70.25},{"$f":"AA!P52","v":68.05},{"$f":"FQ!P52","v":70},{"$f":"SKI!P52","v":65.666666666666657},{"$f":"BA!P52","v":66.916666666666657},{"$f":"AWJ!P52","v":70},{"$f":"PKn!P52","v":65},{"$f":"BID!P52","v":66.75},{"$f":"MTK!P52","v":65},{"$f":"BID!P52","v":66.75},{"$f":"IPS!P52","v":66.75},{"$f":"SBK!P52","v":66.083333333333343},{"$f":"PJK!P52","v":68.916666666666657},{"$f":"BD!P52","v":65},{"$f":"BIG!P52","v":78.5},1019.6333333333333,67.975555555555559,"BAIK",null,"Lumajang, 09 Januari 2008",null,null,"Lumajang,09-01-2008"]
[46,{"$f":"SISWA!B53","v":4373},null,{"$f":"SISWA!E53","v":"IFTAH IZZAH EMILIA  MAHMUD"},{"$f":"SISWA!I53","v":"P"},{"$f":"SISWA!F53","v":"Lumajang"},{"$f":"SISWA!G53","v":"2008-04-07"},{"$f":"AH!P53","v":68},{"$f":"AA!P53","v":79.875},{"$f":"FQ!P53","v":69.25},{"$f":"SKI!P53","v":67.083333333333343},{"$f":"BA!P53","v":67.916666666666657},{"$f":"AWJ!P53","v":65},{"$f":"PKn!P53","v":65},{"$f":"BID!P53","v":66.25},{"$f":"MTK!P53","v":65},{"$f":"BID!P53","v":66.25},{"$f":"IPS!P53","v":66.5},{"$f":"SBK!P53","v":65.5},{"$f":"PJK!P53","v":68.666666666666657},{"$f":"BD!P53","v":67.5},{"$f":"BIG!P53","v":61.5},1009.2916666666666,67.286111111111111,"BAIK",null,"Lumajang, 07 April 2008"]
[47,{"$f":"SISWA!B54","v":4441},null,{"$f":"SISWA!E54","v":"INES ARIFANI MAULINA"},{"$f":"SISWA!I54","v":"P"},{"$f":"SISWA!F54","v":"Lumajang"},{"$f":"SISWA!G54","v":"2008-04-04"},{"$f":"AH!P54","v":83.75},{"$f":"AA!P54","v":89.125},{"$f":"FQ!P54","v":77},{"$f":"SKI!P54","v":69.583333333333343},{"$f":"BA!P54","v":67.166666666666657},{"$f":"AWJ!P54","v":63},{"$f":"PKn!P54","v":65},{"$f":"BID!P54","v":67.75},{"$f":"MTK!P54","v":73.571428571428569},{"$f":"BID!P54","v":67.75},{"$f":"IPS!P54","v":68.25},{"$f":"SBK!P54","v":66.583333333333343},{"$f":"PJK!P54","v":83.666666666666657},{"$f":"BD!P54","v":69.75},{"$f":"BIG!P54","v":77.916666666666657},1089.8630952380952,72.657539682539678,"BAIK",null,"Lumajang, 04 April 2008"]
[48,{"$f":"SISWA!B55","v":4374},null,{"$f":"SISWA!E55","v":"IYAAD AFLAKHA RAMZII"},{"$f":"SISWA!I55","v":"L"},{"$f":"SISWA!F55","v":"Lumajang"},{"$f":"SISWA!G55","v":"2007-08-10"},{"$f":"AH!P55","v":74.875},{"$f":"AA!P55","v":74.849999999999994},{"$f":"FQ!P55","v":73.25},{"$f":"SKI!P55","v":66.583333333333343},{"$f":"BA!P55","v":67.666666666666657},{"$f":"AWJ!P55","v":70},{"$f":"PKn!P55","v":65},{"$f":"BID!P55","v":74.444444444444443},{"$f":"MTK!P55","v":65},{"$f":"BID!P55","v":74.444444444444443},{"$f":"IPS!P55","v":67.5},{"$f":"SBK!P55","v":67.333333333333343},{"$f":"PJK!P55","v":68.916666666666657},{"$f":"BD!P55","v":67},{"$f":"BIG!P55","v":66.833333333333343},1043.6972222222223,69.579814814814824,"BAIK",null,"Lumajang, 10 Agustus 2007"]
[49,{"$f":"SISWA!B56","v":4305},null,{"$f":"SISWA!E56","v":"JULI ANDRIYANTO"},{"$f":"SISWA!I56","v":"L"},{"$f":"SISWA!F56","v":"Lumajang"},{"$f":"SISWA!G56","v":"2006-07-11"},{"$f":"AH!P56","v":70.875},{"$f":"AA!P56","v":68.724999999999994},{"$f":"FQ!P56","v":69.5},{"$f":"SKI!P56","v":66.333333333333343},{"$f":"BA!P56","v":67},{"$f":"AWJ!P56","v":65},{"$f":"PKn!P56","v":65},{"$f":"BID!P56","v":68.25},{"$f":"MTK!P56","v":65},{"$f":"BID!P56","v":68.25},{"$f":"IPS!P56","v":67.25},{"$f":"SBK!P56","v":66.333333333333343},{"$f":"PJK!P56","v":70.333333333333343},{"$f":"BD!P56","v":65},{"$f":"BIG!P56","v":65.5},1008.3500000000001,67.223333333333343,"BAIK",null,"Lumajang, 11 Juli 2006"]
[50,{"$f":"SISWA!B57","v":4347},null,{"$f":"SISWA!E57","v":"LIYA FEBRIYANI"},{"$f":"SISWA!I57","v":"P"},{"$f":"SISWA!F57","v":"Lumajang"},{"$f":"SISWA!G57","v":"2007-02-03"},{"$f":"AH!P57","v":74.875},{"$f":"AA!P57","v":87.525000000000006},{"$f":"FQ!P57","v":77},{"$f":"SKI!P57","v":68},{"$f":"BA!P57","v":68.5},{"$f":"AWJ!P57","v":65},{"$f":"PKn!P57","v":65},{"$f":"BID!P57","v":70.25},{"$f":"MTK!P57","v":65},{"$f":"BID!P57","v":70.25},{"$f":"IPS!P57","v":72},{"$f":"SBK!P57","v":68.25},{"$f":"PJK!P57","v":72},{"$f":"BD!P57","v":69.25},{"$f":"BIG!P57","v":68.083333333333343},1060.9833333333333,70.732222222222219,"BAIK",null,"Lumajang, 03 Februari 2007"]
[51,{"$f":"SISWA!B58","v":4348},null,{"$f":"SISWA!E58","v":"LIZATUL CHAIYUNI"},{"$f":"SISWA!I58","v":"P"},{"$f":"SISWA!F58","v":"Lumajang"},{"$f":"SISWA!G58","v":"2008-04-22"},{"$f":"AH!P58","v":72},{"$f":"AA!P58","v":82.3},{"$f":"FQ!P58","v":74.75},{"$f":"SKI!P58","v":67.916666666666657},{"$f":"BA!P58","v":67.75},{"$f":"AWJ!P58","v":65},{"$f":"PKn!P58","v":65},{"$f":"BID!P58","v":70},{"$f":"MTK!P58","v":65},{"$f":"BID!P58","v":70},{"$f":"IPS!P58","v":71.25},{"$f":"SBK!P58","v":67.25},{"$f":"PJK!P58","v":68.666666666666657},{"$f":"BD!P58","v":68.5},{"$f":"BIG!P58","v":67.833333333333343},1043.2166666666667,69.547777777777782,"BAIK",null,"Lumajang, 22 April 2008"]
[52,{"$f":"SISWA!B59","v":4531},null,{"$f":"SISWA!E59","v":"M. ALHAFIS"},{"$f":"SISWA!I59","v":"L"},{"$f":"SISWA!F59","v":"Kayu Besar"},{"$f":"SISWA!G59","v":"2009-03-17"},{"$f":"AH!P59","v":70},{"$f":"AA!P59","v":69.599999999999994},{"$f":"FQ!P59","v":68.75},{"$f":"SKI!P59","v":66.75},{"$f":"BA!P59","v":67.166666666666657},{"$f":"AWJ!P59","v":65},{"$f":"PKn!P59","v":65},{"$f":"BID!P59","v":65.75},{"$f":"MTK!P59","v":65},{"$f":"BID!P59","v":65.75},{"$f":"IPS!P59","v":68.25},{"$f":"SBK!P59","v":66.333333333333343},{"$f":"PJK!P59","v":68.916666666666657},{"$f":"BD!P59","v":67.5},{"$f":"BIG!P59","v":65.833333333333343},1005.6,67.040000000000006,"BAIK",null,"Kayu Besar, 17 Maret 2009"]
[53,{"$f":"SISWA!B60","v":4530},null,{"$f":"SISWA!E60","v":"MUHAMMAD RIZKI RIDWAN"},{"$f":"SISWA!I60","v":"L"},{"$f":"SISWA!F60","v":"Lumajang"},{"$f":"SISWA!G60","v":"2007-11-25"},{"$f":"AH!P60","v":69.375},{"$f":"AA!P60","v":74.099999999999994},{"$f":"FQ!P60","v":69.25},{"$f":"SKI!P60","v":66},{"$f":"BA!P60","v":67.666666666666657},{"$f":"AWJ!P60","v":65},{"$f":"PKn!P60","v":65},{"$f":"BID!P60","v":66.5},{"$f":"MTK!P60","v":65},{"$f":"BID!P60","v":66.5},{"$f":"IPS!P60","v":66},{"$f":"SBK!P60","v":66.083333333333343},{"$f":"PJK!P60","v":68.916666666666657},{"$f":"BD!P60","v":65},{"$f":"BIG!P60","v":70.75},1011.1416666666667,67.409444444444446,"BAIK",null,"Lumajang, 25 November 2007"]
[54,{"$f":"SISWA!B61","v":4351},null,{"$f":"SISWA!E61","v":"MOCHAMAD RAFLI DIAN SAPUTRA"},{"$f":"SISWA!I61","v":"L"},{"$f":"SISWA!F61","v":"Lumajang"},{"$f":"SISWA!G61","v":"2007-07-28"},{"$f":"AH!P61","v":69.875},{"$f":"AA!P61","v":68.474999999999994},{"$f":"FQ!P61","v":71.25},{"$f":"SKI!P61","v":65.916666666666657},{"$f":"BA!P61","v":66.916666666666657},{"$f":"AWJ!P61","v":65},{"$f":"PKn!P61","v":65},{"$f":"BID!P61","v":66.75},{"$f":"MTK!P61","v":65},{"$f":"BID!P61","v":66.75},{"$f":"IPS!P61","v":66.25},{"$f":"SBK!P61","v":66.083333333333343},{"$f":"PJK!P61","v":79.166666666666657},{"$f":"BD!P61","v":65},{"$f":"BIG!P61","v":66},{"$f":"SUM(H62:V62)","v":1013.4333333333333},{"$f":"IFERROR(AVERAGE(H62:V62),\"\")","v":67.562222222222218},"BAIK",null,"Lumajang, 28 Juli 2007"]
[55,{"$f":"SISWA!B62","v":4352},null,{"$f":"SISWA!E62","v":"MOCHAMMAD AFAREL PUTRA RAMDHANA"},{"$f":"SISWA!I62","v":"L"},{"$f":"SISWA!F62","v":"Lumajang"},{"$f":"SISWA!G62","v":"2007-10-10"},{"$f":"AH!P62","v":72.375},{"$f":"AA!P62","v":69.650000000000006},{"$f":"FQ!P62","v":72},{"$f":"SKI!P62","v":67.416666666666657},{"$f":"BA!P62","v":67.25},{"$f":"AWJ!P62","v":65},{"$f":"PKn!P62","v":65},{"$f":"BID!P62","v":70.5},{"$f":"MTK!P62","v":65},{"$f":"BID!P62","v":70.5},{"$f":"IPS!P62","v":70.75},{"$f":"SBK!P62","v":67.166666666666657},{"$f":"PJK!P62","v":69.416666666666657},{"$f":"BD!P62","v":67.75},{"$f":"BIG!P62","v":66.333333333333343},1026.1083333333331,68.407222222222202,"BAIK",null,"Lumajang, 10 Oktober 2007"]
[56,{"$f":"SISWA!B63","v":4355},null,{"$f":"SISWA!E63","v":"MUHAMAD JEFRI MAULANA"},{"$f":"SISWA!I63","v":"L"},{"$f":"SISWA!F63","v":"Lumajang"},{"$f":"SISWA!G63","v":"2007-03-10"},{"$f":"AH!P63","v":69.875},{"$f":"AA!P63","v":69.099999999999994},{"$f":"FQ!P63","v":68.5},{"$f":"SKI!P63","v":67.25},{"$f":"BA!P63","v":67.75},{"$f":"AWJ!P63","v":65},{"$f":"PKn!P63","v":67.75},{"$f":"BID!P63","v":67.5},{"$f":"MTK!P63","v":65},{"$f":"BID!P63","v":67.5},{"$f":"IPS!P63","v":68},{"$f":"SBK!P63","v":66.25},{"$f":"PJK!P63","v":70.25},{"$f":"BD!P63","v":68},{"$f":"BIG!P63","v":65.916666666666657},1013.6416666666667,67.576111111111103,"BAIK",null,"Lumajang, 10 Maret 2007"]
[57,{"$f":"SISWA!B64","v":4376},null,{"$f":"SISWA!E64","v":"MUHAMMAD DWI WILDAN BAGUS KURNIAWAN"},{"$f":"SISWA!I64","v":"L"},{"$f":"SISWA!F64","v":"Lumajang"},{"$f":"SISWA!G64","v":"2007-07-11"},{"$f":"AH!P64","v":68.125},{"$f":"AA!P64","v":68},{"$f":"FQ!P64","v":66.25},{"$f":"SKI!P64","v":67},{"$f":"BA!P64","v":67},{"$f":"AWJ!P64","v":65},{"$f":"PKn!P64","v":67},{"$f":"BID!P64","v":65.25},{"$f":"MTK!P64","v":65},{"$f":"BID!P64","v":65.25},{"$f":"IPS!P64","v":66},{"$f":"SBK!P64","v":65.75},{"$f":"PJK!P64","v":69.416666666666657},{"$f":"BD!P64","v":67.75},{"$f":"BIG!P64","v":66.333333333333343},999.125,66.608333333333334,"BAIK"]
[58,{"$f":"SISWA!B65","v":4377},null,{"$f":"SISWA!E65","v":"MUHAMMAD FARIL FIRMANSYA"},{"$f":"SISWA!I65","v":"L"},{"$f":"SISWA!F65","v":"Lumajang"},{"$f":"SISWA!G65","v":"2007-08-01"},{"$f":"AH!P65","v":68.25},{"$f":"AA!P65","v":68.349999999999994},{"$f":"FQ!P65","v":68.25},{"$f":"SKI!P65","v":66.5},{"$f":"BA!P65","v":67.166666666666657},{"$f":"AWJ!P65","v":65},{"$f":"PKn!P65","v":67.166666666666657},{"$f":"BID!P65","v":66.25},{"$f":"MTK!P65","v":65},{"$f":"BID!P65","v":66.25},{"$f":"IPS!P65","v":66.75},{"$f":"SBK!P65","v":65.833333333333343},{"$f":"PJK!P65","v":72.25},{"$f":"BD!P65","v":67.75},{"$f":"BIG!P65","v":66.333333333333343},1007.1,67.14,"BAIK"]
[59,{"$f":"SISWA!B66","v":4349},null,{"$f":"SISWA!E66","v":"MUHAMMAD FARIZ UBAIDILLA"},{"$f":"SISWA!I66","v":"L"},{"$f":"SISWA!F66","v":"Lumajang"},{"$f":"SISWA!G66","v":"2007-09-05"},{"$f":"AH!P66","v":73.125},{"$f":"AA!P66","v":76.125},{"$f":"FQ!P66","v":70.5},{"$f":"SKI!P66","v":67.5},{"$f":"BA!P66","v":67.166666666666657},{"$f":"AWJ!P66","v":65},{"$f":"PKn!P66","v":67.166666666666657},{"$f":"BID!P66","v":67},{"$f":"MTK!P66","v":65},{"$f":"BID!P66","v":67},{"$f":"IPS!P66","v":69.5},{"$f":"SBK!P66","v":67.083333333333343},{"$f":"PJK!P66","v":77.25},{"$f":"BD!P66","v":67.75},{"$f":"BIG!P66","v":81.333333333333343},1048.5,69.900000000000006,"BAIK"]
[60,{"$f":"SISWA!B67","v":4356},null,{"$f":"SISWA!E67","v":"MUHAMMAD MAULANA ZIDANIL ILMI"},{"$f":"SISWA!I67","v":"L"},{"$f":"SISWA!F67","v":"Lumajang"},{"$f":"SISWA!G67","v":"2007-11-28"},{"$f":"AH!P67","v":73.875},{"$f":"AA!P67","v":82.1},{"$f":"FQ!P67","v":71},{"$f":"SKI!P67","v":67.75},{"$f":"BA!P67","v":67.916666666666657},{"$f":"AWJ!P67","v":65},{"$f":"PKn!P67","v":67.916666666666657},{"$f":"BID!P67","v":69.5},{"$f":"MTK!P67","v":65},{"$f":"BID!P67","v":69.5},{"$f":"IPS!P67","v":70.5},{"$f":"SBK!P67","v":66.833333333333343},{"$f":"PJK!P67","v":69.166666666666657},{"$f":"BD!P67","v":68.5},{"$f":"BIG!P67","v":74.25},1048.8083333333334,69.920555555555566,"BAIK"]
[61,{"$f":"SISWA!B68","v":4357},null,{"$f":"SISWA!E68","v":"MUHAMMAD SUTRISNO ISMAIL"},{"$f":"SISWA!I68","v":"L"},{"$f":"SISWA!F68","v":"Lumajang"},{"$f":"SISWA!G68","v":"2007-07-15"},{"$f":"AH!P68","v":77.875},{"$f":"AA!P68","v":91.4},{"$f":"FQ!P68","v":78},{"$f":"SKI!P68","v":66.916666666666657},{"$f":"BA!P68","v":67.083333333333343},{"$f":"AWJ!P68","v":65},{"$f":"PKn!P68","v":67.083333333333343},{"$f":"BID!P68","v":65.25},{"$f":"MTK!P68","v":79.285714285714292},{"$f":"BID!P68","v":65.25},{"$f":"IPS!P68","v":65.5},{"$f":"SBK!P68","v":65.25},{"$f":"PJK!P68","v":68.166666666666657},{"$f":"BD!P68","v":68},{"$f":"BIG!P68","v":66.083333333333343},1056.1440476190476,70.409603174603177,"BAIK"]
[62,{"$f":"SISWA!B69","v":4381},null,{"$f":"SISWA!E69","v":"NOVITA ERNIAWAN"},{"$f":"SISWA!I69","v":"P"},{"$f":"SISWA!F69","v":"Lumajang"},{"$f":"SISWA!G69","v":"2007-11-10"},{"$f":"AH!P69","v":73.375},{"$f":"AA!P69","v":72.95},{"$f":"FQ!P69","v":71},{"$f":"SKI!P69","v":67.833333333333343},{"$f":"BA!P69","v":67.416666666666657},{"$f":"AWJ!P69","v":65},{"$f":"PKn!P69","v":67.416666666666657},{"$f":"BID!P69","v":68.25},{"$f":"MTK!P69","v":65},{"$f":"BID!P69","v":68.25},{"$f":"IPS!P69","v":70.25},{"$f":"SBK!P69","v":67.75},{"$f":"PJK!P69","v":68.666666666666657},{"$f":"BD!P69","v":68.25},{"$f":"BIG!P69","v":74.583333333333343},1035.9916666666666,69.066111111111098,"BAIK"]
[63,{"$f":"SISWA!B70","v":4383},null,{"$f":"SISWA!E70","v":"PUTRI AULIA DWI AGUSTIN"},{"$f":"SISWA!I70","v":"P"},{"$f":"SISWA!F70","v":"Lumajang"},{"$f":"SISWA!G70","v":"2007-08-07"},{"$f":"AH!P70","v":74.875},{"$f":"AA!P70","v":76.900000000000006},{"$f":"FQ!P70","v":72.75},{"$f":"SKI!P70","v":67.25},{"$f":"BA!P70","v":68.5},{"$f":"AWJ!P70","v":65},{"$f":"PKn!P70","v":68.5},{"$f":"BID!P70","v":70.25},{"$f":"MTK!P70","v":65},{"$f":"BID!P70","v":70.25},{"$f":"IPS!P70","v":70.5},{"$f":"SBK!P70","v":67},{"$f":"PJK!P70","v":68.666666666666657},{"$f":"BD!P70","v":69},{"$f":"BIG!P70","v":75.583333333333343},1050.0249999999999,70.001666666666651,"BAIK"]
[64,{"$f":"SISWA!B71","v":4385},null,{"$f":"SISWA!E71","v":"STANY RAFIDAH RAHMANIA"},{"$f":"SISWA!I71","v":"P"},{"$f":"SISWA!F71","v":"Lumajang"},{"$f":"SISWA!G71","v":"2007-07-26"},{"$f":"AH!P71","v":68.5},{"$f":"AA!P71","v":68.474999999999994},{"$f":"FQ!P71","v":70},{"$f":"SKI!P71","v":66.833333333333343},{"$f":"BA!P71","v":67.333333333333343},{"$f":"AWJ!P71","v":70},{"$f":"PKn!P71","v":67.333333333333343},{"$f":"BID!P71","v":67.5},{"$f":"MTK!P71","v":65},{"$f":"BID!P71","v":67.5},{"$f":"IPS!P71","v":67},{"$f":"SBK!P71","v":67.25},{"$f":"PJK!P71","v":87.25},{"$f":"BD!P71","v":65},{"$f":"BIG!P71","v":66.333333333333343},1031.3083333333334,68.753888888888895,"BAIK"]
[65,{"$f":"SISWA!B72","v":4387},null,{"$f":"SISWA!E72","v":"USWATUN KHASANAH"},{"$f":"SISWA!I72","v":"P"},{"$f":"SISWA!F72","v":"Lumajang"},{"$f":"SISWA!G72","v":"2007-07-17"},{"$f":"AH!P72","v":68.625},{"$f":"AA!P72","v":72.849999999999994},{"$f":"FQ!P72","v":68.5},{"$f":"SKI!P72","v":65.916666666666657},{"$f":"BA!P72","v":67.416666666666657},{"$f":"AWJ!P72","v":70},{"$f":"PKn!P72","v":67.416666666666657},{"$f":"BID!P72","v":67.25},{"$f":"MTK!P72","v":65},{"$f":"BID!P72","v":67.25},{"$f":"IPS!P72","v":66.75},{"$f":"SBK!P72","v":66.833333333333343},{"$f":"PJK!P72","v":68.666666666666657},{"$f":"BD!P72","v":65},{"$f":"BIG!P72","v":66.333333333333343},1013.8083333333333,67.587222222222223,"BAIK"]
[66,{"$f":"SISWA!B73","v":4389},null,{"$f":"SISWA!E73","v":"VIKROUL KHAMILA"},{"$f":"SISWA!I73","v":"P"},{"$f":"SISWA!F73","v":"Lumajang"},{"$f":"SISWA!G73","v":"2007-04-19"},{"$f":"AH!P73","v":71.875},{"$f":"AA!P73","v":70.575000000000003},{"$f":"FQ!P73","v":71},{"$f":"SKI!P73","v":67.666666666666657},{"$f":"BA!P73","v":67.416666666666657},{"$f":"AWJ!P73","v":65},{"$f":"PKn!P73","v":67.416666666666657},{"$f":"BID!P73","v":69.25},{"$f":"MTK!P73","v":65},{"$f":"BID!P73","v":69.25},{"$f":"IPS!P73","v":70.75},{"$f":"SBK!P73","v":67.25},{"$f":"PJK!P73","v":68.666666666666657},{"$f":"BD!P73","v":68},{"$f":"BIG!P73","v":67.166666666666657},1026.2833333333333,68.418888888888887,"BAIK"]
[null,null,null,null,null,null,null,null,null,null,null,null,null,null,null,null,null,null,null,null,null,null,null,{"$f":"IFERROR(AVERAGE(H75:V75),\"\")","v":""}]
[null,null,null,null,null,null,null,null,null,null,null,null,null,null,null,null,null,null,null,{"$f":"AA78","v":"Sumbersuko, 15 Juni 2020"},null,null,null,null,null,null,{"$f":"F73&\", \"&TEXT(G73,\"[$-id-ID]dd mmmm yyyy\")","v":"Lumajang, 17 Juli 2007"}]
[null,null,null,null,null,null,null,null,null,null,null,null,null,null,null,null,null,null,null,"Kepala Madrasah",null,null,null,null,null,null,"TGL KIRIM"]
[null,null,null,null,null,null,null,null,null,null,null,null,null,null,null,null,null,null,null,"MIS. Nurul Islam Labruk Kidul",null,null,null,null,null,null,"Sumbersuko, 15 Juni 2020"]
[]
[]
[null,null,null,null,null,null,null,null,null,null,null,null,null,null,null,null,null,null,null,"SAHRONI,S.Pd.I"]

{"sheet":"UAMNUCATAT","index":21,"n_rows":62,"n_cols":41,"rows_kept":62,"cut":false,"hidden":false,"merged":[[2,24,3,24],[4,24,5,24],[6,0,7,6],[6,8,7,14],[6,16,7,22],[6,24,7,24],[12,24,13,24],[8,24,9,24],[10,24,11,24],[8,1,8,4],[8,9,8,12],[8,17,8,20],[28,0,28,4],[28,8,28,12],[28,16,28,20],[38,0,39,6],[38,8,39,14],[38,16,39,22],[40,1,40,4],[40,9,40,12],[40,17,40,20],[60,0,60,4],[60,8,60,12],[60,16,60,20]]}
[{"$f":"Y3","v":55},null,null,null,null,null,null,null,{"$f":"Y5","v":56},null,null,null,null,null,null,null,{"$f":"Y7","v":57},null,null,null,null,null,null,null,null,null,null,null,null,null,null,null,null,null,null,null,null,null,null,null,64]
["nama ",null,null,null,":",{"$f":"VLOOKUP(Y3,DAKOLUN!A9:'DAKOLUN'!G208,5,0)","v":"MOCHAMMAD AFAREL PUTRA RAMDHANA"},null,null,"nama ",null,null,null,":",{"$f":"VLOOKUP(Y5,DAKOLUN!A9:'DAKOLUN'!G208,5,0)","v":"MUHAMAD JEFRI MAULANA"},null,null,"nama ",null,null,null,":",{"$f":"VLOOKUP(Y7,DAKOLUN!A9:'DAKOLUN'!G208,5,0)","v":"MUHAMMAD DWI WILDAN BAGUS KURNIAWAN"},null,null,"NO ABSEN",null,null,null,null,null,null,null,null,null,null,null,null,null,null,null,65]
["tempat dan tanggal lahir ",null,null,null,":",{"$f":"VLOOKUP(Y3,DAKOLUN!A9:'DAKOLUN'!G208,6,0)","v":"Lumajang, 10 Oktober 2007"},null,null,"tempat dan tanggal lahir ",null,null,null,":",{"$f":"VLOOKUP(Y5,DAKOLUN!A9:'DAKOLUN'!G208,6,0)","v":"Lumajang, 10 Maret 2007"},null,null,"tempat dan tanggal lahir ",null,null,null,":",{"$f":"VLOOKUP(Y7,DAKOLUN!A9:'DAKOLUN'!G208,6,0)","v":"Lumajang, 11 Juli 2007"},null,null,55]
["nomor induk ",null,null,null,":",{"$f":"VLOOKUP(Y3,DAKOLUN!A9:'DAKOLUN'!G208,2,0)","v":4352},null,null,"nomor induk ",null,null,null,":",{"$f":"VLOOKUP(Y5,DAKOLUN!A9:'DAKOLUN'!G208,2,0)","v":4355},null,null,"nomor induk ",null,null,null,":",{"$f":"VLOOKUP(Y7,DAKOLUN!A9:'DAKOLUN'!G208,2,0)","v":4376}]
["nomor induk siswa nasional ",null,null,null,":",{"$f":"VLOOKUP(Y3,DAKOLUN!A9:'DAKOLUN'!G208,3,0)","v":"0075591405"},null,null,"nomor induk siswa nasional ",null,null,null,":",{"$f":"VLOOKUP(Y5,DAKOLUN!A9:'DAKOLUN'!G208,3,0)","v":"0075363258"},null,null,"nomor induk siswa nasional ",null,null,null,":",{"$f":"VLOOKUP(Y7,DAKOLUN!A9:'DAKOLUN'!G208,3,0)","v":"0072066741"},null,null,{"$f":"Y3+1","v":56}]
[]
["telah memenuhi penilaian akhir dan mengikuti ujian sekolah berdasarkan Peraturan Menteri Pendidikan dan Kebudayaan Nomor 102 Tahun 2013 dengan hasil sebagai berikut :",null,null,null,null,null,null,null,"telah memenuhi penilaian akhir dan mengikuti ujian sekolah berdasarkan Peraturan Menteri Pendidikan dan Kebudayaan Nomor 102 Tahun 2013 dengan hasil sebagai berikut :",null,null,null,null,null,null,null,"telah memenuhi penilaian akhir dan mengikuti ujian sekolah berdasarkan Peraturan Menteri Pendidikan dan Kebudayaan Nomor 102 Tahun 2013 dengan hasil sebagai berikut :",null,null,null,null,null,null,null,{"$f":"Y5+1","v":57}]
[]
["No","Mata Pelajaran",null,null,null,"Nilai Rata-rata Rapor","Nilai UJIAN MAARIF ')",null,"No","Mata Pelajaran",null,null,null,"Nilai Rata-rata Rapor","Nilai UJIAN MAARIF ')",null,"No","Mata Pelajaran",null,null,null,"Nilai Rata-rata Rapor","Nilai UJIAN MAARIF ')",null,{"$f":"Y7+1","v":58}]
["A",null,"Ujian Sekolah",null,null,null,null,null,"A",null,"Ujian Sekolah",null,null,null,null,null,"A",null,"Ujian Sekolah"]
[null,"1.","Pendidikan Agama",null,null,{"$f":"VLOOKUP($Y$3,DAKOLUN!$A$9:'DAKOLUN'!$BN$208,8,0)","v":{"$error":"#REF!"}},{"$f":"VLOOKUP($Y$3,DAKOLUN!$A$9:'DAKOLUN'!$BN$208,10,0)","v":{"$error":"#REF!"}},null,null,"1.","Pendidikan Agama",null,null,{"$f":"VLOOKUP($Y$5,DAKOLUN!$A$9:'DAKOLUN'!$BN$208,8,0)","v":{"$error":"#REF!"}},{"$f":"VLOOKUP($Y$5,DAKOLUN!$A$9:'DAKOLUN'!$BN$208,10,0)","v":{"$error":"#REF!"}},null,null,"1.","Pendidikan Agama",null,null,{"$f":"VLOOKUP($Y$7,DAKOLUN!$A$9:'DAKOLUN'!$BN$208,8,0)","v":{"$error":"#REF!"}},{"$f":"VLOOKUP($Y$7,DAKOLUN!$A$9:'DAKOLUN'!$BN$208,10,0)","v":{"$error":"#REF!"}},null,{"$f":"Y9+1","v":59}]
[null,null,"a. Aqidah Akhlak",null,null,{"$f":"VLOOKUP($Y$3,DAKOLUN!$A$9:'DAKOLUN'!$CK$208,11,0)","v":83.5},{"$f":"IF(VLOOKUP($Y$3,UAMNU!$A$9:$Y$74,9,0)<60,60,VLOOKUP($Y$3,UAMNU!$A$9:$Y$74,9,0))","v":69.650000000000006},null,null,null,"a. Aqidah Akhlak",null,null,{"$f":"VLOOKUP($Y$5,DAKOLUN!$A$9:'DAKOLUN'!$CK$208,11,0)","v":81},{"$f":"IF(VLOOKUP($Y$5,UAMNU!$A$9:$Y$74,9,0)<60,60,VLOOKUP($Y$5,UAMNU!$A$9:$Y$74,9,0))","v":69.099999999999994},null,null,null,"a. Aqidah Akhlak",null,null,{"$f":"VLOOKUP($Y$7,DAKOLUN!$A$9:'DAKOLUN'!$CK$208,11,0)","v":76},{"$f":"IF(VLOOKUP($Y$7,UAMNU!$A$9:$Y$74,9,0)<60,60,VLOOKUP($Y$7,UAMNU!$A$9:$Y$74,9,0))","v":68}]
[null,null,"b. Al Quran Hadits",null,null,{"$f":"VLOOKUP($Y$3,DAKOLUN!$A$9:'DAKOLUN'!$CK$208,14,0)","v":84.75},{"$f":"IF(VLOOKUP($Y$3,UAMNU!$A$9:$Y$74,8,0)<60,60,VLOOKUP($Y$3,UAMNU!$A$9:$Y$74,8,0))","v":72.375},null,null,null,"b. Al Quran Hadits",null,null,{"$f":"VLOOKUP($Y$5,DAKOLUN!$A$9:'DAKOLUN'!$CK$208,14,0)","v":79.75},{"$f":"IF(VLOOKUP($Y$5,UAMNU!$A$9:$Y$74,8,0)<60,60,VLOOKUP($Y$5,UAMNU!$A$9:$Y$74,8,0))","v":69.875},null,null,null,"b. Al Quran Hadits",null,null,{"$f":"VLOOKUP($Y$7,DAKOLUN!$A$9:'DAKOLUN'!$CK$208,14,0)","v":76.25},{"$f":"IF(VLOOKUP($Y$7,UAMNU!$A$9:$Y$74,8,0)<60,60,VLOOKUP($Y$7,UAMNU!$A$9:$Y$74,8,0))","v":68.125},null,{"$f":"Y11+1","v":60}]
[null,null,"c. Fiqih",null,null,{"$f":"VLOOKUP($Y$3,DAKOLUN!$A$9:'DAKOLUN'!$CK$208,17,0)","v":83.75},{"$f":"IF(VLOOKUP($Y$3,UAMNU!$A$9:$Y$74,10,0)<60,60,VLOOKUP($Y$3,UAMNU!$A$9:$Y$74,10,0))","v":72},null,null,null,"c. Fiqih",null,null,{"$f":"VLOOKUP($Y$5,DAKOLUN!$A$9:'DAKOLUN'!$CK$208,17,0)","v":79.25},{"$f":"IF(VLOOKUP($Y$5,UAMNU!$A$9:$Y$74,10,0)<60,60,VLOOKUP($Y$5,UAMNU!$A$9:$Y$74,10,0))","v":68.5},null,null,null,"c. Fiqih",null,null,{"$f":"VLOOKUP($Y$7,DAKOLUN!$A$9:'DAKOLUN'!$CK$208,17,0)","v":75.75},{"$f":"IF(VLOOKUP($Y$7,UAMNU!$A$9:$Y$74,10,0)<60,60,VLOOKUP($Y$7,UAMNU!$A$9:$Y$74,10,0))","v":66.25}]
[null,null,"d. Sejarah Kebudayaan Islam",null,null,{"$f":"VLOOKUP($Y$3,DAKOLUN!$A$9:'DAKOLUN'!$CK$208,20,0)","v":81.5},{"$f":"IF(VLOOKUP($Y$3,UAMNU!$A$9:$Y$74,11,0)<60,60,VLOOKUP($Y$3,UAMNU!$A$9:$Y$74,11,0))","v":67.416666666666657},null,null,null,"d. Sejarah Kebudayaan Islam",null,null,{"$f":"VLOOKUP($Y$5,DAKOLUN!$A$9:'DAKOLUN'!$CK$208,20,0)","v":80.75},{"$f":"IF(VLOOKUP($Y$5,UAMNU!$A$9:$Y$74,11,0)<60,60,VLOOKUP($Y$5,UAMNU!$A$9:$Y$74,11,0))","v":67.25},null,null,null,"d. Sejarah Kebudayaan Islam",null,null,{"$f":"VLOOKUP($Y$7,DAKOLUN!$A$9:'DAKOLUN'!$CK$208,20,0)","v":79.25},{"$f":"IF(VLOOKUP($Y$7,UAMNU!$A$9:$Y$74,11,0)<60,60,VLOOKUP($Y$7,UAMNU!$A$9:$Y$74,11,0))","v":67}]
[null,null,"e. Aswaja",null,null,{"$f":"F15","v":81.5},{"$f":"IF(VLOOKUP($Y$3,UAMNU!$A$9:$Y$74,13,0)<60,60,VLOOKUP($Y$3,UAMNU!$A$9:$Y$74,13,0))","v":65},null,null,null,"e. Aswaja",null,null,{"$f":"N15","v":80.75},{"$f":"IF(VLOOKUP($Y$5,UAMNU!$A$9:$Y$74,13,0)<60,60,VLOOKUP($Y$5,UAMNU!$A$9:$Y$74,13,0))","v":65},null,null,null,"e. Aswaja",null,null,{"$f":"V15","v":79.25},{"$f":"IF(VLOOKUP($Y$7,UAMNU!$A$9:$Y$74,13,0)<60,60,VLOOKUP($Y$7,UAMNU!$A$9:$Y$74,13,0))","v":65}]
[null,"2.","Pendidikan Kewarganegaraan",null,null,{"$f":"VLOOKUP($Y$3,DAKOLUN!$A$9:'DAKOLUN'!$CK$208,23,0)","v":81.25},{"$f":"IF(VLOOKUP($Y$3,UAMNU!$A$9:$Y$74,14,0)<60,60,VLOOKUP($Y$3,UAMNU!$A$9:$Y$74,14,0))","v":65},null,null,"2.","Pendidikan Kewarganegaraan",null,null,{"$f":"VLOOKUP($Y$5,DAKOLUN!$A$9:'DAKOLUN'!$CK$208,23,0)","v":80.75},{"$f":"IF(VLOOKUP($Y$5,UAMNU!$A$9:$Y$74,14,0)<60,60,VLOOKUP($Y$5,UAMNU!$A$9:$Y$74,14,0))","v":67.75},null,null,"2.","Pendidikan Kewarganegaraan",null,null,{"$f":"VLOOKUP($Y$7,DAKOLUN!$A$9:'DAKOLUN'!$CK$208,23,0)","v":76.25},{"$f":"IF(VLOOKUP($Y$7,UAMNU!$A$9:$Y$74,14,0)<60,60,VLOOKUP($Y$7,UAMNU!$A$9:$Y$74,14,0))","v":67}]
[null,"3.","Bahasa Indonesia",null,null,{"$f":"VLOOKUP($Y$3,DAKOLUN!$A$9:'DAKOLUN'!$CK$208,71,0)","v":78},{"$f":"IF(VLOOKUP($Y$3,UAMNU!$A$9:$Y$74,15,0)<60,60,VLOOKUP($Y$3,UAMNU!$A$9:$Y$74,15,0))","v":70.5},null,null,"3.","Bahasa Indonesia",null,null,{"$f":"VLOOKUP($Y$5,DAKOLUN!$A$9:'DAKOLUN'!$CK$208,71,0)","v":73.400000000000006},{"$f":"IF(VLOOKUP($Y$5,UAMNU!$A$9:$Y$74,15,0)<60,60,VLOOKUP($Y$5,UAMNU!$A$9:$Y$74,15,0))","v":67.5},null,null,"3.","Bahasa Indonesia",null,null,{"$f":"VLOOKUP($Y$7,DAKOLUN!$A$9:'DAKOLUN'!$CK$208,71,0)","v":73.800000000000011},{"$f":"IF(VLOOKUP($Y$7,UAMNU!$A$9:$Y$74,15,0)<60,60,VLOOKUP($Y$7,UAMNU!$A$9:$Y$74,15,0))","v":65.25}]
[null,"4.","Bahasa Arab",null,null,{"$f":"VLOOKUP($Y$3,DAKOLUN!$A$9:'DAKOLUN'!$CK$208,29,0)","v":80},{"$f":"IF(VLOOKUP($Y$3,UAMNU!$A$9:$Y$74,12,0)<60,60,VLOOKUP($Y$3,UAMNU!$A$9:$Y$74,12,0))","v":67.25},null,null,"4.","Bahasa Arab",null,null,{"$f":"VLOOKUP($Y$5,DAKOLUN!$A$9:'DAKOLUN'!$CK$208,29,0)","v":81.75},{"$f":"IF(VLOOKUP($Y$5,UAMNU!$A$9:$Y$74,12,0)<60,60,VLOOKUP($Y$5,UAMNU!$A$9:$Y$74,12,0))","v":67.75},null,null,"4.","Bahasa Arab",null,null,{"$f":"VLOOKUP($Y$7,DAKOLUN!$A$9:'DAKOLUN'!$CK$208,29,0)","v":80},{"$f":"IF(VLOOKUP($Y$7,UAMNU!$A$9:$Y$74,12,0)<60,60,VLOOKUP($Y$7,UAMNU!$A$9:$Y$74,12,0))","v":67}]
[null,5,"Matematika",null,null,{"$f":"VLOOKUP($Y$3,DAKOLUN!$A$9:'DAKOLUN'!$CK$208,74,0)","v":73.199999999999989},{"$f":"IF(VLOOKUP($Y$3,UAMNU!$A$9:$Y$74,16,0)<60,60,VLOOKUP($Y$3,UAMNU!$A$9:$Y$74,16,0))","v":65},null,null,5,"Matematika",null,null,{"$f":"VLOOKUP($Y$5,DAKOLUN!$A$9:'DAKOLUN'!$CK$208,74,0)","v":70.199999999999989},{"$f":"IF(VLOOKUP($Y$5,UAMNU!$A$9:$Y$74,16,0)<60,60,VLOOKUP($Y$5,UAMNU!$A$9:$Y$74,16,0))","v":65},null,null,5,"Matematika",null,null,{"$f":"VLOOKUP($Y$7,DAKOLUN!$A$9:'DAKOLUN'!$CK$208,74,0)","v":68.55},{"$f":"IF(VLOOKUP($Y$7,UAMNU!$A$9:$Y$74,16,0)<60,60,VLOOKUP($Y$7,UAMNU!$A$9:$Y$74,16,0))","v":65}]
[null,6,"Ilmu Pengetahuan Alam",null,null,{"$f":"VLOOKUP($Y$3,DAKOLUN!$A$9:'DAKOLUN'!$CK$208,77,0)","v":72.449999999999989},{"$f":"IF(VLOOKUP($Y$3,UAMNU!$A$9:$Y$74,17,0)<60,60,VLOOKUP($Y$3,UAMNU!$A$9:$Y$74,17,0))","v":70.5},null,null,6,"Ilmu Pengetahuan Alam",null,null,{"$f":"VLOOKUP($Y$5,DAKOLUN!$A$9:'DAKOLUN'!$CK$208,77,0)","v":72},{"$f":"IF(VLOOKUP($Y$5,UAMNU!$A$9:$Y$74,17,0)<60,60,VLOOKUP($Y$5,UAMNU!$A$9:$Y$74,17,0))","v":67.5},null,null,6,"Ilmu Pengetahuan Alam",null,null,{"$f":"VLOOKUP($Y$7,DAKOLUN!$A$9:'DAKOLUN'!$CK$208,77,0)","v":69.449999999999989},{"$f":"IF(VLOOKUP($Y$7,UAMNU!$A$9:$Y$74,17,0)<60,60,VLOOKUP($Y$7,UAMNU!$A$9:$Y$74,17,0))","v":65.25}]
[null,7,"Ilmu Pengetahuan Sosial",null,null,{"$f":"VLOOKUP($Y$3,DAKOLUN!$A$9:'DAKOLUN'!$CK$208,38,0)","v":80.75},{"$f":"IF(VLOOKUP($Y$3,UAMNU!$A$9:$Y$74,18,0)<60,60,VLOOKUP($Y$3,UAMNU!$A$9:$Y$74,18,0))","v":70.75},null,null,7,"Ilmu Pengetahuan Sosial",null,null,{"$f":"VLOOKUP($Y$5,DAKOLUN!$A$9:'DAKOLUN'!$CK$208,38,0)","v":77.75},{"$f":"IF(VLOOKUP($Y$5,UAMNU!$A$9:$Y$74,18,0)<60,60,VLOOKUP($Y$5,UAMNU!$A$9:$Y$74,18,0))","v":68},null,null,7,"Ilmu Pengetahuan Sosial",null,null,{"$f":"VLOOKUP($Y$7,DAKOLUN!$A$9:'DAKOLUN'!$CK$208,38,0)","v":74.75},{"$f":"IF(VLOOKUP($Y$7,UAMNU!$A$9:$Y$74,18,0)<60,60,VLOOKUP($Y$7,UAMNU!$A$9:$Y$74,18,0))","v":66}]
[]
[null,8,"Seni Budaya dan Keterampilan",null,null,{"$f":"VLOOKUP($Y$3,DAKOLUN!$A$9:'DAKOLUN'!$CK$208,41,0)","v":82.25},{"$f":"IF(VLOOKUP($Y$3,UAMNU!$A$9:$Y$74,19,0)<60,60,VLOOKUP($Y$3,UAMNU!$A$9:$Y$74,19,0))","v":67.166666666666657},null,null,8,"Seni Budaya dan Keterampilan",null,null,{"$f":"VLOOKUP($Y$5,DAKOLUN!$A$9:'DAKOLUN'!$CK$208,41,0)","v":78.75},{"$f":"IF(VLOOKUP($Y$5,UAMNU!$A$9:$Y$74,19,0)<60,60,VLOOKUP($Y$5,UAMNU!$A$9:$Y$74,19,0))","v":66.25},null,null,8,"Seni Budaya dan Keterampilan",null,null,{"$f":"VLOOKUP($Y$7,DAKOLUN!$A$9:'DAKOLUN'!$CK$208,41,0)","v":75},{"$f":"IF(VLOOKUP($Y$7,UAMNU!$A$9:$Y$74,19,0)<60,60,VLOOKUP($Y$7,UAMNU!$A$9:$Y$74,19,0))","v":65.75}]
[null,9,"Pendidikan Jasmani Olahraga \ndan Kesehatan",null,null,{"$f":"VLOOKUP($Y$3,DAKOLUN!$A$9:'DAKOLUN'!$CK$208,44,0)","v":85.25},{"$f":"IF(VLOOKUP($Y$3,UAMNU!$A$9:$Y$74,20,0)<60,60,VLOOKUP($Y$3,UAMNU!$A$9:$Y$74,20,0))","v":69.416666666666657},null,null,9,"Pendidikan Jasmani Olahraga \ndan Kesehatan",null,null,{"$f":"VLOOKUP($Y$5,DAKOLUN!$A$9:'DAKOLUN'!$CK$208,44,0)","v":86.75},{"$f":"IF(VLOOKUP($Y$5,UAMNU!$A$9:$Y$74,20,0)<60,60,VLOOKUP($Y$5,UAMNU!$A$9:$Y$74,20,0))","v":70.25},null,null,9,"Pendidikan Jasmani Olahraga \ndan Kesehatan",null,null,{"$f":"VLOOKUP($Y$7,DAKOLUN!$A$9:'DAKOLUN'!$CK$208,44,0)","v":83.75},{"$f":"IF(VLOOKUP($Y$7,UAMNU!$A$9:$Y$74,20,0)<60,60,VLOOKUP($Y$7,UAMNU!$A$9:$Y$74,20,0))","v":69.416666666666657}]
["B",null,"Muatan Lokal",null,null,null,null,null,"B",null,"Muatan Lokal",null,null,null,null,null,"B",null,"Muatan Lokal"]
[null,"1.",{"$f":"SISWA!K16","v":"Bahasa Daerah"},null,null,{"$f":"VLOOKUP($Y$3,DAKOLUN!$A$9:'DAKOLUN'!$CK$208,47,0)","v":76},{"$f":"IF(VLOOKUP($Y$3,UAMNU!$A$9:$Y$74,21,0)<60,60,VLOOKUP($Y$3,UAMNU!$A$9:$Y$74,21,0))","v":67.75},null,null,"1.",{"$f":"C27","v":"Bahasa Daerah"},null,null,{"$f":"VLOOKUP($Y$5,DAKOLUN!$A$9:'DAKOLUN'!$CK$208,47,0)","v":76.25},{"$f":"IF(VLOOKUP($Y$5,UAMNU!$A$9:$Y$74,21,0)<60,60,VLOOKUP($Y$5,UAMNU!$A$9:$Y$74,21,0))","v":68},null,null,"1.",{"$f":"SISWA!K16","v":"Bahasa Daerah"},null,null,{"$f":"VLOOKUP($Y$7,DAKOLUN!$A$9:'DAKOLUN'!$CK$208,47,0)","v":76},{"$f":"IF(VLOOKUP($Y$7,UAMNU!$A$9:$Y$74,21,0)<60,60,VLOOKUP($Y$7,UAMNU!$A$9:$Y$74,21,0))","v":67.75}]
[null,"2.",{"$f":"SISWA!K17","v":"Bahasa Inggris"},null,null,{"$f":"VLOOKUP($Y$3,DAKOLUN!$A$9:'DAKOLUN'!$CK$208,50,0)","v":76.25},{"$f":"IF(VLOOKUP($Y$3,UAMNU!$A$9:$Y$74,22,0)<60,60,VLOOKUP($Y$3,UAMNU!$A$9:$Y$74,22,0))","v":66.333333333333343},null,null,"2.",{"$f":"C28","v":"Bahasa Inggris"},null,null,{"$f":"VLOOKUP($Y$5,DAKOLUN!$A$9:'DAKOLUN'!$CK$208,50,0)","v":76.5},{"$f":"IF(VLOOKUP($Y$5,UAMNU!$A$9:$Y$74,22,0)<60,60,VLOOKUP($Y$5,UAMNU!$A$9:$Y$74,22,0))","v":65.916666666666657},null,null,"2.",{"$f":"SISWA!K17","v":"Bahasa Inggris"},null,null,{"$f":"VLOOKUP($Y$7,DAKOLUN!$A$9:'DAKOLUN'!$CK$208,50,0)","v":75.75},{"$f":"IF(VLOOKUP($Y$7,UAMNU!$A$9:$Y$74,22,0)<60,60,VLOOKUP($Y$7,UAMNU!$A$9:$Y$74,22,0))","v":66.333333333333343}]
["Rata-rata",null,null,null,null,{"$f":"AVERAGE(F12:F25,F27:F28)","v":80.026666666666671},{"$f":"AVERAGE(G12:G25,G27:G28)","v":68.407222222222202},null,"Rata-rata",null,null,null,null,{"$f":"AVERAGE(N12:N25,N27:N28)","v":78.373333333333321},{"$f":"AVERAGE(O12:O25,O27:O28)","v":67.576111111111103},null,"Rata-rata",null,null,null,null,{"$f":"AVERAGE(V12:V25,V27:V28)","v":75.986666666666665},{"$f":"AVERAGE(W12:W25,W27:W28)","v":66.608333333333334}]
[" ') Nilai Sekolah = 60% Nilai Rata-rata Rapor + 40% Nilai Ujian Sekolah",null,null,null,null,null,null,null," ') Nilai Sekolah = 60% Nilai Rata-rata Rapor + 40% Nilai Ujian Sekolah",null,null,null,null,null,null,null," ') Nilai Sekolah = 60% Nilai Rata-rata Rapor + 40% Nilai Ujian Sekolah"]
[]
[]
[{"$f":"Y9","v":58},null,null,null,null,null,null,null,{"$f":"Y11","v":59},null,null,null,null,null,null,null,{"$f":"Y13","v":60}]
["nama ",null,null,null,":",{"$f":"VLOOKUP(Y9,DAKOLUN!A9:'DAKOLUN'!G208,5,0)","v":"MUHAMMAD FARIL FIRMANSYA"},null,null,"nama ",null,null,null,":",{"$f":"VLOOKUP(Y11,DAKOLUN!A9:'DAKOLUN'!G208,5,0)","v":"MUHAMMAD FARIZ UBAIDILLA"},null,null,"nama ",null,null,null,":",{"$f":"VLOOKUP(Y13,DAKOLUN!A9:'DAKOLUN'!G208,5,0)","v":"MUHAMMAD MAULANA ZIDANIL ILMI"}]
["tempat dan tanggal lahir ",null,null,null,":",{"$f":"VLOOKUP(Y9,DAKOLUN!A9:'DAKOLUN'!G208,6,0)","v":"Lumajang, 01 Agustus 2007"},null,null,"tempat dan tanggal lahir ",null,null,null,":",{"$f":"VLOOKUP(Y11,DAKOLUN!A9:'DAKOLUN'!G208,6,0)","v":"Lumajang, 05 September 2007"},null,null,"tempat dan tanggal lahir ",null,null,null,":",{"$f":"VLOOKUP(Y13,DAKOLUN!A9:'DAKOLUN'!G208,6,0)","v":"Lumajang, 28 November 2007"}]
["nomor induk ",null,null,null,":",{"$f":"VLOOKUP(Y9,DAKOLUN!A9:'DAKOLUN'!G208,2,0)","v":4377},null,null,"nomor induk ",null,null,null,":",{"$f":"VLOOKUP(Y11,DAKOLUN!A9:'DAKOLUN'!G208,2,0)","v":4349},null,null,"nomor induk ",null,null,null,":",{"$f":"VLOOKUP(Y13,DAKOLUN!A9:'DAKOLUN'!G208,2,0)","v":4356}]
["nomor induk siswa nasional ",null,null,null,":",{"$f":"VLOOKUP(Y9,DAKOLUN!A9:'DAKOLUN'!G208,3,0)","v":"0071459044"},null,null,"nomor induk siswa nasional ",null,null,null,":",{"$f":"VLOOKUP(Y11,DAKOLUN!A9:'DAKOLUN'!G208,3,0)","v":"0074206034"},null,null,"nomor induk siswa nasional ",null,null,null,":",{"$f":"VLOOKUP(Y13,DAKOLUN!A9:'DAKOLUN'!G208,3,0)","v":"0077937892"}]
[]
["telah memenuhi penilaian akhir dan mengikuti ujian sekolah berdasarkan Peraturan Menteri Pendidikan dan Kebudayaan Nomor 102 Tahun 2013 dengan hasil sebagai berikut :",null,null,null,null,null,null,null,"telah memenuhi penilaian akhir dan mengikuti ujian sekolah berdasarkan Peraturan Menteri Pendidikan dan Kebudayaan Nomor 102 Tahun 2013 dengan hasil sebagai berikut :",null,null,null,null,null,null,null,"telah memenuhi penilaian akhir dan mengikuti ujian sekolah berdasarkan Peraturan Menteri Pendidikan dan Kebudayaan Nomor 102 Tahun 2013 dengan hasil sebagai berikut :"]
[]
["No","Mata Pelajaran",null,null,null,"Nilai Rata-rata Rapor","Nilai Akhir Sekolah ')",null,"No","Mata Pelajaran",null,null,null,"Nilai Rata-rata Rapor","Nilai Akhir Sekolah ')",null,"No","Mata Pelajaran",null,null,null,"Nilai Rata-rata Rapor","Nilai Akhir Sekolah ')"]
["A",null,"Ujian Sekolah",null,null,null,null,null,"A",null,"Ujian Sekolah",null,null,null,null,null,"A",null,"Ujian Sekolah"]
[null,"1.","Pendidikan Agama",null,null,{"$f":"VLOOKUP($Y$9,DAKOLUN!$A$9:'DAKOLUN'!$BN$208,8,0)","v":{"$error":"#REF!"}},{"$f":"VLOOKUP($Y$9,DAKOLUN!$A$9:'DAKOLUN'!$BN$208,10,0)","v":{"$error":"#REF!"}},null,null,"1.","Pendidikan Agama",null,null,{"$f":"VLOOKUP($Y$11,DAKOLUN!$A$9:'DAKOLUN'!$BN$208,8,0)","v":{"$error":"#REF!"}},{"$f":"VLOOKUP($Y$11,DAKOLUN!$A$9:'DAKOLUN'!$BN$208,10,0)","v":{"$error":"#REF!"}},null,null,"1.","Pendidikan Agama",null,null,{"$f":"VLOOKUP($Y$13,DAKOLUN!$A$9:'DAKOLUN'!$BN$208,8,0)","v":{"$error":"#REF!"}},{"$f":"VLOOKUP($Y$13,DAKOLUN!$A$9:'DAKOLUN'!$BN$208,10,0)","v":{"$error":"#REF!"}}]
[null,null,"a. Aqidah Akhlak",null,null,{"$f":"VLOOKUP($Y$9,DAKOLUN!$A$9:'DAKOLUN'!$CK$208,11,0)","v":77.5},{"$f":"IF(VLOOKUP($Y$9,UAMNU!$A$9:$Y$74,9,0)<60,60,VLOOKUP($Y$9,UAMNU!$A$9:$Y$74,9,0))","v":68.349999999999994},null,null,null,"a. Aqidah Akhlak",null,null,{"$f":"VLOOKUP($Y$11,DAKOLUN!$A$9:'DAKOLUN'!$CK$208,11,0)","v":84.25},{"$f":"IF(VLOOKUP($Y$11,UAMNU!$A$9:$Y$74,9,0)<60,60,VLOOKUP($Y$11,UAMNU!$A$9:$Y$74,9,0))","v":76.125},null,null,null,"a. Aqidah Akhlak",null,null,{"$f":"VLOOKUP($Y$13,DAKOLUN!$A$9:'DAKOLUN'!$CK$208,11,0)","v":87},{"$f":"IF(VLOOKUP($Y$13,UAMNU!$A$9:$Y$74,9,0)<60,60,VLOOKUP($Y$13,UAMNU!$A$9:$Y$74,9,0))","v":82.1}]
[null,null,"b. Al Quran Hadits",null,null,{"$f":"VLOOKUP($Y$9,DAKOLUN!$A$9:'DAKOLUN'!$CK$208,14,0)","v":76.5},{"$f":"IF(VLOOKUP($Y$9,UAMNU!$A$9:$Y$74,8,0)<60,60,VLOOKUP($Y$9,UAMNU!$A$9:$Y$74,8,0))","v":68.25},null,null,null,"b. Al Quran Hadits",null,null,{"$f":"VLOOKUP($Y$11,DAKOLUN!$A$9:'DAKOLUN'!$CK$208,14,0)","v":86.25},{"$f":"IF(VLOOKUP($Y$11,UAMNU!$A$9:$Y$74,8,0)<60,60,VLOOKUP($Y$11,UAMNU!$A$9:$Y$74,8,0))","v":73.125},null,null,null,"b. Al Quran Hadits",null,null,{"$f":"VLOOKUP($Y$13,DAKOLUN!$A$9:'DAKOLUN'!$CK$208,14,0)","v":87.75},{"$f":"IF(VLOOKUP($Y$13,UAMNU!$A$9:$Y$74,8,0)<60,60,VLOOKUP($Y$13,UAMNU!$A$9:$Y$74,8,0))","v":73.875}]
[null,null,"c. Fiqih",null,null,{"$f":"VLOOKUP($Y$9,DAKOLUN!$A$9:'DAKOLUN'!$CK$208,17,0)","v":78.5},{"$f":"IF(VLOOKUP($Y$9,UAMNU!$A$9:$Y$74,10,0)<60,60,VLOOKUP($Y$9,UAMNU!$A$9:$Y$74,10,0))","v":68.25},null,null,null,"c. Fiqih",null,null,{"$f":"VLOOKUP($Y$11,DAKOLUN!$A$9:'DAKOLUN'!$CK$208,17,0)","v":85},{"$f":"IF(VLOOKUP($Y$11,UAMNU!$A$9:$Y$74,10,0)<60,60,VLOOKUP($Y$11,UAMNU!$A$9:$Y$74,10,0))","v":70.5},null,null,null,"c. Fiqih",null,null,{"$f":"VLOOKUP($Y$13,DAKOLUN!$A$9:'DAKOLUN'!$CK$208,17,0)","v":85.75},{"$f":"IF(VLOOKUP($Y$13,UAMNU!$A$9:$Y$74,10,0)<60,60,VLOOKUP($Y$13,UAMNU!$A$9:$Y$74,10,0))","v":71}]
[null,null,"d. Sejarah Kebudayaan Islam",null,null,{"$f":"VLOOKUP($Y$9,DAKOLUN!$A$9:'DAKOLUN'!$CK$208,20,0)","v":78.5},{"$f":"IF(VLOOKUP($Y$9,UAMNU!$A$9:$Y$74,11,0)<60,60,VLOOKUP($Y$9,UAMNU!$A$9:$Y$74,11,0))","v":66.5},null,null,null,"d. Sejarah Kebudayaan Islam",null,null,{"$f":"VLOOKUP($Y$11,DAKOLUN!$A$9:'DAKOLUN'!$CK$208,20,0)","v":81.75},{"$f":"IF(VLOOKUP($Y$11,UAMNU!$A$9:$Y$74,11,0)<60,60,VLOOKUP($Y$11,UAMNU!$A$9:$Y$74,11,0))","v":67.5},null,null,null,"d. Sejarah Kebudayaan Islam",null,null,{"$f":"VLOOKUP($Y$13,DAKOLUN!$A$9:'DAKOLUN'!$CK$208,20,0)","v":82.25},{"$f":"IF(VLOOKUP($Y$13,UAMNU!$A$9:$Y$74,11,0)<60,60,VLOOKUP($Y$13,UAMNU!$A$9:$Y$74,11,0))","v":67.75}]
[null,null,"e. Aswaja",null,null,{"$f":"F47","v":78.5},{"$f":"IF(VLOOKUP($Y$9,UAMNU!$A$9:$Y$74,13,0)<60,60,VLOOKUP($Y$9,UAMNU!$A$9:$Y$74,13,0))","v":65},null,null,null,"e. Aswaja",null,null,{"$f":"N47","v":81.75},{"$f":"IF(VLOOKUP($Y$11,UAMNU!$A$9:$Y$74,13,0)<60,60,VLOOKUP($Y$11,UAMNU!$A$9:$Y$74,13,0))","v":65},null,null,null,"e. Aswaja",null,null,{"$f":"V47","v":82.25},{"$f":"IF(VLOOKUP($Y$13,UAMNU!$A$9:$Y$74,13,0)<60,60,VLOOKUP($Y$13,UAMNU!$A$9:$Y$74,13,0))","v":65}]
[null,"2.","Pendidikan Kewarganegaraan",null,null,{"$f":"VLOOKUP($Y$9,DAKOLUN!$A$9:'DAKOLUN'!$CK$208,23,0)","v":76},{"$f":"IF(VLOOKUP($Y$9,UAMNU!$A$9:$Y$74,14,0)<60,60,VLOOKUP($Y$9,UAMNU!$A$9:$Y$74,14,0))","v":67.166666666666657},null,null,"2.","Pendidikan Kewarganegaraan",null,null,{"$f":"VLOOKUP($Y$11,DAKOLUN!$A$9:'DAKOLUN'!$CK$208,23,0)","v":80.5},{"$f":"IF(VLOOKUP($Y$11,UAMNU!$A$9:$Y$74,14,0)<60,60,VLOOKUP($Y$11,UAMNU!$A$9:$Y$74,14,0))","v":67.166666666666657},null,null,"2.","Pendidikan Kewarganegaraan",null,null,{"$f":"VLOOKUP($Y$13,DAKOLUN!$A$9:'DAKOLUN'!$CK$208,23,0)","v":86.25},{"$f":"IF(VLOOKUP($Y$13,UAMNU!$A$9:$Y$74,14,0)<60,60,VLOOKUP($Y$13,UAMNU!$A$9:$Y$74,14,0))","v":67.916666666666657}]
[null,"3.","Bahasa Indonesia",null,null,{"$f":"VLOOKUP($Y$9,DAKOLUN!$A$9:'DAKOLUN'!$CK$208,71,0)","v":75.400000000000006},{"$f":"IF(VLOOKUP($Y$9,UAMNU!$A$9:$Y$74,15,0)<60,60,VLOOKUP($Y$9,UAMNU!$A$9:$Y$74,15,0))","v":66.25},null,null,"3.","Bahasa Indonesia",null,null,{"$f":"VLOOKUP($Y$11,DAKOLUN!$A$9:'DAKOLUN'!$CK$208,71,0)","v":74.599999999999994},{"$f":"IF(VLOOKUP($Y$11,UAMNU!$A$9:$Y$74,15,0)<60,60,VLOOKUP($Y$11,UAMNU!$A$9:$Y$74,15,0))","v":67},null,null,"3.","Bahasa Indonesia",null,null,{"$f":"VLOOKUP($Y$13,DAKOLUN!$A$9:'DAKOLUN'!$CK$208,71,0)","v":78.599999999999994},{"$f":"IF(VLOOKUP($Y$13,UAMNU!$A$9:$Y$74,15,0)<60,60,VLOOKUP($Y$13,UAMNU!$A$9:$Y$74,15,0))","v":69.5}]
[null,"4.","Bahasa Arab",null,null,{"$f":"VLOOKUP($Y$9,DAKOLUN!$A$9:'DAKOLUN'!$CK$208,29,0)","v":79.75},{"$f":"IF(VLOOKUP($Y$9,UAMNU!$A$9:$Y$74,12,0)<60,60,VLOOKUP($Y$9,UAMNU!$A$9:$Y$74,12,0))","v":67.166666666666657},null,null,"4.","Bahasa Arab",null,null,{"$f":"VLOOKUP($Y$11,DAKOLUN!$A$9:'DAKOLUN'!$CK$208,29,0)","v":80.5},{"$f":"IF(VLOOKUP($Y$11,UAMNU!$A$9:$Y$74,12,0)<60,60,VLOOKUP($Y$11,UAMNU!$A$9:$Y$74,12,0))","v":67.166666666666657},null,null,"4.","Bahasa Arab",null,null,{"$f":"VLOOKUP($Y$13,DAKOLUN!$A$9:'DAKOLUN'!$CK$208,29,0)","v":82.25},{"$f":"IF(VLOOKUP($Y$13,UAMNU!$A$9:$Y$74,12,0)<60,60,VLOOKUP($Y$13,UAMNU!$A$9:$Y$74,12,0))","v":67.916666666666657}]
[null,5,"Matematika",null,null,{"$f":"VLOOKUP($Y$9,DAKOLUN!$A$9:'DAKOLUN'!$CK$208,74,0)","v":69.449999999999989},{"$f":"IF(VLOOKUP($Y$9,UAMNU!$A$9:$Y$74,16,0)<60,60,VLOOKUP($Y$9,UAMNU!$A$9:$Y$74,16,0))","v":65},null,null,5,"Matematika",null,null,{"$f":"VLOOKUP($Y$11,DAKOLUN!$A$9:'DAKOLUN'!$CK$208,74,0)","v":71.55},{"$f":"IF(VLOOKUP($Y$11,UAMNU!$A$9:$Y$74,16,0)<60,60,VLOOKUP($Y$11,UAMNU!$A$9:$Y$74,16,0))","v":65},null,null,5,"Matematika",null,null,{"$f":"VLOOKUP($Y$13,DAKOLUN!$A$9:'DAKOLUN'!$CK$208,74,0)","v":71.099999999999994},{"$f":"IF(VLOOKUP($Y$13,UAMNU!$A$9:$Y$74,16,0)<60,60,VLOOKUP($Y$13,UAMNU!$A$9:$Y$74,16,0))","v":65}]
[null,6,"Ilmu Pengetahuan Alam",null,null,{"$f":"VLOOKUP($Y$9,DAKOLUN!$A$9:'DAKOLUN'!$CK$208,77,0)","v":70.650000000000006},{"$f":"IF(VLOOKUP($Y$9,UAMNU!$A$9:$Y$74,17,0)<60,60,VLOOKUP($Y$9,UAMNU!$A$9:$Y$74,17,0))","v":66.25},null,null,6,"Ilmu Pengetahuan Alam",null,null,{"$f":"VLOOKUP($Y$11,DAKOLUN!$A$9:'DAKOLUN'!$CK$208,77,0)","v":72.150000000000006},{"$f":"IF(VLOOKUP($Y$11,UAMNU!$A$9:$Y$74,17,0)<60,60,VLOOKUP($Y$11,UAMNU!$A$9:$Y$74,17,0))","v":67},null,null,6,"Ilmu Pengetahuan Alam",null,null,{"$f":"VLOOKUP($Y$13,DAKOLUN!$A$9:'DAKOLUN'!$CK$208,77,0)","v":74.25},{"$f":"IF(VLOOKUP($Y$13,UAMNU!$A$9:$Y$74,17,0)<60,60,VLOOKUP($Y$13,UAMNU!$A$9:$Y$74,17,0))","v":69.5}]
[null,7,"Ilmu Pengetahuan Sosial",null,null,{"$f":"VLOOKUP($Y$9,DAKOLUN!$A$9:'DAKOLUN'!$CK$208,38,0)","v":76},{"$f":"IF(VLOOKUP($Y$9,UAMNU!$A$9:$Y$74,18,0)<60,60,VLOOKUP($Y$9,UAMNU!$A$9:$Y$74,18,0))","v":66.75},null,null,7,"Ilmu Pengetahuan Sosial",null,null,{"$f":"VLOOKUP($Y$11,DAKOLUN!$A$9:'DAKOLUN'!$CK$208,38,0)","v":80.25},{"$f":"IF(VLOOKUP($Y$11,UAMNU!$A$9:$Y$74,18,0)<60,60,VLOOKUP($Y$11,UAMNU!$A$9:$Y$74,18,0))","v":69.5},null,null,7,"Ilmu Pengetahuan Sosial",null,null,{"$f":"VLOOKUP($Y$13,DAKOLUN!$A$9:'DAKOLUN'!$CK$208,38,0)","v":81.75},{"$f":"IF(VLOOKUP($Y$13,UAMNU!$A$9:$Y$74,18,0)<60,60,VLOOKUP($Y$13,UAMNU!$A$9:$Y$74,18,0))","v":70.5}]
[]
[null,8,"Seni Budaya dan Keterampilan",null,null,{"$f":"VLOOKUP($Y$9,DAKOLUN!$A$9:'DAKOLUN'!$CK$208,41,0)","v":75.25},{"$f":"IF(VLOOKUP($Y$9,UAMNU!$A$9:$Y$74,19,0)<60,60,VLOOKUP($Y$9,UAMNU!$A$9:$Y$74,19,0))","v":65.833333333333343},null,null,8,"Seni Budaya dan Keterampilan",null,null,{"$f":"VLOOKUP($Y$11,DAKOLUN!$A$9:'DAKOLUN'!$CK$208,41,0)","v":83},{"$f":"IF(VLOOKUP($Y$11,UAMNU!$A$9:$Y$74,19,0)<60,60,VLOOKUP($Y$11,UAMNU!$A$9:$Y$74,19,0))","v":67.083333333333343},null,null,8,"Seni Budaya dan Keterampilan",null,null,{"$f":"VLOOKUP($Y$13,DAKOLUN!$A$9:'DAKOLUN'!$CK$208,41,0)","v":83},{"$f":"IF(VLOOKUP($Y$13,UAMNU!$A$9:$Y$74,19,0)<60,60,VLOOKUP($Y$13,UAMNU!$A$9:$Y$74,19,0))","v":66.833333333333343}]
[null,9,"Pendidikan Jasmani Olahraga \ndan Kesehatan",null,null,{"$f":"VLOOKUP($Y$9,DAKOLUN!$A$9:'DAKOLUN'!$CK$208,44,0)","v":84.25},{"$f":"IF(VLOOKUP($Y$9,UAMNU!$A$9:$Y$74,20,0)<60,60,VLOOKUP($Y$9,UAMNU!$A$9:$Y$74,20,0))","v":72.25},null,null,9,"Pendidikan Jasmani Olahraga \ndan Kesehatan",null,null,{"$f":"VLOOKUP($Y$11,DAKOLUN!$A$9:'DAKOLUN'!$CK$208,44,0)","v":83.5},{"$f":"IF(VLOOKUP($Y$11,UAMNU!$A$9:$Y$74,20,0)<60,60,VLOOKUP($Y$11,UAMNU!$A$9:$Y$74,20,0))","v":77.25},null,null,9,"Pendidikan Jasmani Olahraga \ndan Kesehatan",null,null,{"$f":"VLOOKUP($Y$13,DAKOLUN!$A$9:'DAKOLUN'!$CK$208,44,0)","v":84.5},{"$f":"IF(VLOOKUP($Y$13,UAMNU!$A$9:$Y$74,20,0)<60,60,VLOOKUP($Y$13,UAMNU!$A$9:$Y$74,20,0))","v":69.166666666666657}]
["B",null,"Muatan Lokal",null,null,null,null,null,"B",null,"Muatan Lokal",null,null,null,null,null,"B",null,"Muatan Lokal"]
[null,"1.",{"$f":"SISWA!K16","v":"Bahasa Daerah"},null,null,{"$f":"VLOOKUP($Y$9,DAKOLUN!$A$9:'DAKOLUN'!$CK$208,47,0)","v":76},{"$f":"IF(VLOOKUP($Y$9,UAMNU!$A$9:$Y$74,21,0)<60,60,VLOOKUP($Y$9,UAMNU!$A$9:$Y$74,21,0))","v":67.75},null,null,"1.",{"$f":"C59","v":"Bahasa Daerah"},null,null,{"$f":"VLOOKUP($Y$11,DAKOLUN!$A$9:'DAKOLUN'!$CK$208,47,0)","v":76.5},{"$f":"IF(VLOOKUP($Y$11,UAMNU!$A$9:$Y$74,21,0)<60,60,VLOOKUP($Y$11,UAMNU!$A$9:$Y$74,21,0))","v":67.75},null,null,"1.",{"$f":"SISWA!K16","v":"Bahasa Daerah"},null,null,{"$f":"VLOOKUP($Y$13,DAKOLUN!$A$9:'DAKOLUN'!$CK$208,47,0)","v":77},{"$f":"IF(VLOOKUP($Y$13,UAMNU!$A$9:$Y$74,21,0)<60,60,VLOOKUP($Y$13,UAMNU!$A$9:$Y$74,21,0))","v":68.5}]
[null,"2.",{"$f":"SISWA!K17","v":"Bahasa Inggris"},null,null,{"$f":"VLOOKUP($Y$9,DAKOLUN!$A$9:'DAKOLUN'!$CK$208,50,0)","v":76.75},{"$f":"IF(VLOOKUP($Y$9,UAMNU!$A$9:$Y$74,22,0)<60,60,VLOOKUP($Y$9,UAMNU!$A$9:$Y$74,22,0))","v":66.333333333333343},null,null,"2.",{"$f":"C60","v":"Bahasa Inggris"},null,null,{"$f":"VLOOKUP($Y$11,DAKOLUN!$A$9:'DAKOLUN'!$CK$208,50,0)","v":78.5},{"$f":"IF(VLOOKUP($Y$11,UAMNU!$A$9:$Y$74,22,0)<60,60,VLOOKUP($Y$11,UAMNU!$A$9:$Y$74,22,0))","v":81.333333333333343},null,null,"2.",{"$f":"SISWA!K17","v":"Bahasa Inggris"},null,null,{"$f":"VLOOKUP($Y$13,DAKOLUN!$A$9:'DAKOLUN'!$CK$208,50,0)","v":77.5},{"$f":"IF(VLOOKUP($Y$13,UAMNU!$A$9:$Y$74,22,0)<60,60,VLOOKUP($Y$13,UAMNU!$A$9:$Y$74,22,0))","v":74.25}]
["Rata-rata",null,null,null,null,{"$f":"AVERAGE(F44:F57,F59:F60)","v":76.599999999999994},{"$f":"AVERAGE(G44:G57,G59:G60)","v":67.14},null,"Rata-rata",null,null,null,null,{"$f":"AVERAGE(N44:N57,N59:N60)","v":80.00333333333333},{"$f":"AVERAGE(O44:O57,O59:O60)","v":69.900000000000006},null,"Rata-rata",null,null,null,null,{"$f":"AVERAGE(V44:V57,V59:V60)","v":81.413333333333341},{"$f":"AVERAGE(W44:W57,W59:W60)","v":69.920555555555566}]
[" ') Nilai Sekolah = 60% Nilai Rata-rata Rapor + 40% Nilai Ujian Sekolah",null,null,null,null,null,null,null," ') Nilai Sekolah = 60% Nilai Rata-rata Rapor + 40% Nilai Ujian Sekolah",null,null,null,null,null,null,null," ') Nilai Sekolah = 60% Nilai Rata-rata Rapor + 40% Nilai Ujian Sekolah"]

{"sheet":"SKHUS","index":22,"n_rows":57,"n_cols":33,"rows_kept":57,"cut":false,"hidden":false,"merged":[[38,7,38,8],[24,18,25,18],[18,1,18,8],[20,1,23,10],[25,19,25,22],[36,1,36,7],[25,5,25,6],[26,5,26,6],[27,5,27,6],[28,5,28,6],[29,5,29,6],[1,3,1,8],[2,3,3,8],[5,3,5,8],[7,1,7,10],[9,1,9,10],[10,1,11,10],[4,3,4,8],[8,1,8,10],[20,17,21,28],[22,17,23,28],[44,8,44,10],[24,2,25,4],[24,1,25,1],[30,6,30,7],[32,2,32,4],[35,6,35,7],[29,2,29,4],[32,6,32,7],[33,6,33,7],[34,6,34,7],[24,5,24,10],[25,7,25,10],[26,7,26,10],[27,7,27,10],[28,7,28,10],[29,7,29,10]]}
[]
[]
[]
[]
[]
[]
[]
[null,"SURAT KETERANGAN HASIL UJIAN (SKHU) SEMENTARA",null,null,null,null,null,null,null,null,null,null,null,"NO ABSEN"]
[null,{"$f":"\"SEKOLAH DASAR TAHUN PELAJARAN \"&DEPAN!D16","v":"SEKOLAH DASAR TAHUN PELAJARAN 2019/2020"},null,null,null,null,null,null,null,null,null,null,null,19]
[null,{"$f":"VLOOKUP(N9,DAKOLUN!A9:'DAKOLUN'!CM222,88,0)","v":69.180000000000007}]
[null,{"$f":"\"yang bertanda tangan dibawah ini, \"&\"Kepala \"&DEPAN!Y6&\" \"&DEPAN!E6&\" \"&PROPER(DEPAN!C12)&\" \"&PROPER(DEPAN!D12)&\" menerangkan bahwa :\"","v":"yang bertanda tangan dibawah ini, Kepala Madrasah Ibtidaiyah Nurul Islam Labruk Kidul Kecamatan Sumbersuko menerangkan bahwa :"}]
[]
[null,"Nama",null,null,":",{"$f":"VLOOKUP(N9,DAKOLUN!A9:'DAKOLUN'!BN208,5,0)","v":"MAYLUNA EKA PRATIWI"}]
[null,"Tempat dan tanggal lahir ",null,null,":",{"$f":"VLOOKUP(N9,DAKOLUN!A9:'DAKOLUN'!BN208,6,0)","v":"Lumajang, 25 Mei 2007"}]
[null,"Nomor peserta ujian sekolah ",null,null,":",{"$f":"VLOOKUP(N9,DAKOLUN!A9:'DAKOLUN'!BN208,4,0)","v":"1-18-05-80-162-019-6"}]
[null,"NISN",null,null,":",{"$f":"VLOOKUP(N9,DAKOLUN!A9:'DAKOLUN'!BN208,3,0)","v":"0072658586"}]
[null,"Sekolah Asal",null,null,":",{"$f":"DEPAN!Y7&\" \"&PROPER(DEPAN!C12&\" \"&DEPAN!D12)","v":"MI Nurul Islam Labruk Kidul Kecamatan Sumbersuko"}]
[]
[null,{"$f":"IJAZAH!B22","v":"LULUS"},null,null,null,null,null,null,null,null,null,null,null,null,null,null,null,null,null,null,null,null,null,null,null,null,null,null,null,null,null,0,"Nol"]
[null,null,null,null,null,null,null,null,null,null,null,null,null,null,null,null,null,null,null,null,null,null,null,null,null,null,null,null,null,null,null,1,"Satu"]
[null,"Pada Penyelenggaraan Ujian Sekolah (US)SD/MI berdasarkan Peraturan Menteri Pendidikan dan Kebudayaan Republik Indonesia nomor : 58 tahun 2020 dan Peraturan Kepala Badan Penelitian dan Pengembangan Kementerian dan Kebudayaan nomor : 007/H/EP/2020 dengan hasil sbb :",null,null,null,null,null,null,null,null,null,null,null,null,null,null,null,"PASTIKAN ADDIN 'TERBILANG' SUDAH ADA",null,null,null,null,null,null,null,null,null,null,null,null,null,2,"Dua"]
[null,null,null,null,null,null,null,null,null,null,null,null,null,null,null,null,null,null,null,null,null,null,null,null,null,null,null,null,null,null,null,3,"Tiga"]
[null,null,null,null,null,null,null,null,null,null,null,null,null,null,null,null,null,"EDIT =TERBILANG 'WARNA UNGU' JIKA ERROR",null,null,null,null,null,null,null,null,null,null,null,null,null,4,"Empat"]
[null,null,null,null,null,null,null,null,null,null,null,null,null,null,null,null,null,null,null,null,null,null,null,null,null,null,null,null,null,null,null,5,"Lima"]
[null,"No",null,null,null,"NILAI",null,null,null,null,null,null,null,null,null,null,null,null,"VALUE (SESUAIKAN NOL KOMA => #,000)",null,null,null,null,null,null,null,null,null,null,null,null,6,"Enam"]
[null,null,null,null,null,"ANGKA",null,"HURUF",null,null,null,null,null,null,null,null,null,"TEKS",null,null,null,null,null,null,"terbilang1","terbilang2","terbilang3","terbilang4","hasil",null,null,7,"Tujuh"]
[null,1,"Bahasa Indonesia",null,null,{"$f":"VLOOKUP(N9,DAKOLUN!A9:'DAKOLUN'!CK208,55,0)","v":80.5},null,{"$f":"PROPER(AC27)","v":{"$error":"#NAME?"}},null,null,null,null,null,null,null,null,null,{"$f":"IFERROR(_xlfn.NUMBERVALUE(F27,2),F27*1)","v":80.5},{"$f":"TEXT(F27,\"#,#000\")","v":"80,5000"},{"$f":"LEFT(S27,1)","v":"8"},{"$f":"MID(S27,2,1)","v":"0"},{"$f":"MID(S27,4,1)","v":"5"},{"$f":"MID(S27,5,1)","v":"0"},null,{"$f":"[1]!terbilang(T27)","v":{"$error":"#NAME?"}},{"$f":"[1]!terbilang(U27)","v":{"$error":"#NAME?"}},{"$f":"[1]!terbilang(V27)","v":{"$error":"#NAME?"}},{"$f":"[1]!terbilang(W27)","v":{"$error":"#NAME?"}},{"$f":"Y27&Z27&\" koma \"&AA27&AB27","v":{"$error":"#NAME?"}},null,null,8,"Delapan"]
[null,2,"Matematika",null,null,{"$f":"VLOOKUP(N9,DAKOLUN!A9:'DAKOLUN'!CK208,58,0)","v":60},null,{"$f":"PROPER(AC28)","v":{"$error":"#NAME?"}},null,null,null,null,null,null,null,null,null,{"$f":"IFERROR(_xlfn.NUMBERVALUE(F28,2),F28*1)","v":60},{"$f":"TEXT(F28,\"#,#000\")","v":"60,000"},{"$f":"LEFT(S28,1)","v":"6"},{"$f":"MID(S28,2,1)","v":"0"},{"$f":"MID(S28,4,1)","v":"0"},{"$f":"MID(S28,5,1)","v":"0"},null,{"$f":"[1]!terbilang(T28)","v":{"$error":"#NAME?"}},{"$f":"[1]!terbilang(U28)","v":{"$error":"#NAME?"}},{"$f":"[1]!terbilang(V28)","v":{"$error":"#NAME?"}},{"$f":"[1]!terbilang(W28)","v":{"$error":"#NAME?"}},{"$f":"Y28&Z28&\" koma \"&AA28&AB28","v":{"$error":"#NAME?"}},null,null,9,"Sembilan"]
[null,3,"Ilmu Pengetahuan Alam",null,null,{"$f":"VLOOKUP(N9,DAKOLUN!A9:'DAKOLUN'!CK208,61,0)","v":60},null,{"$error":"#NAME?"},null,null,null,null,null,"rata-rata",null,null,null,{"$f":"IFERROR(_xlfn.NUMBERVALUE(F29,2),F29*1)","v":60},{"$f":"TEXT(F29,\"#,#000\")","v":"60,000"},"6",{"$f":"MID(S29,2,1)","v":"0"},{"$f":"MID(S29,4,1)","v":"0"},{"$f":"MID(S29,5,1)","v":"0"},null,{"$f":"[1]!terbilang(T29)","v":{"$error":"#NAME?"}},{"$f":"[1]!terbilang(U29)","v":{"$error":"#NAME?"}},{"$f":"[1]!terbilang(V29)","v":{"$error":"#NAME?"}},{"$f":"[1]!terbilang(W29)","v":{"$error":"#NAME?"}},{"$f":"Y29&Z29&\" koma\"&AA29&AB29","v":{"$error":"#NAME?"}}]
[null,null,null,null,null,{"$f":"SUM(F27:G29)","v":200.5},null,{"$f":"PROPER(IFERROR(AC30,AC38))","v":""},null,null,null,null,null,{"$f":"AVERAGE(F27:G29)","v":66.833333333333329},null,null,null,{"$f":"IFERROR(_xlfn.NUMBERVALUE(F30,2),F30*1)","v":200.5},{"$f":"TEXT(F30,\"#,#0\")","v":"200,50"},{"$f":"LEFT(S30)","v":"2"},{"$f":"MID(S30,2,1)","v":"0"},{"$f":"MID(AB39,3,1)","v":"0"},{"$f":"MID(S30,4,1)","v":","},{"$f":"MID(S30,5,1)","v":"5"},{"$f":"[1]!terbilang(T30)","v":{"$error":"#NAME?"}},{"$f":"[1]!terbilang(U30)","v":{"$error":"#NAME?"}},{"$f":"[1]!terbilang(V30)","v":{"$error":"#NAME?"}},{"$f":"[1]!terbilang(W30)","v":{"$error":"#NAME?"}},{"$f":"Y30&Z30&AA30&\" koma\"&[1]!terbilang(RIGHT(AB40,1))","v":{"$error":"#NAME?"}},"edit rumus dengan manual warna hijau sebelah, jangan blok"]
[null,null,{"$f":"SISWA!K18","v":"Aqidah Akhlaq"},null,null,{"$f":"VLOOKUP(N9,DAKOLUN!A9:'DAKOLUN'!BN208,38,0)","v":88.75},{"$f":"VLOOKUP(N9,DAKOLUN!A9:'DAKOLUN'!BN208,39,0)","v":60},null,{"$f":"VLOOKUP(N9,DAKOLUN!A9:'DAKOLUN'!BN208,40,0)","v":77.25},null,null,null,null,null,null,null,null,null,null,{"$f":"LEFT(S31,1)","v":""},{"$f":"MID(S31,2,1)","v":""},{"$f":"MID(S31,3,1)","v":""},{"$f":"MID(S31,5,1)","v":""},{"$f":"MID(S31,5,1)","v":""},{"$f":"[2]!terbilang(T31)","v":{"$error":"#NAME?"}},{"$f":"[3]!terbilang(U31)","v":{"$error":"#NAME?"}},{"$f":"[3]!terbilang(V31)","v":{"$error":"#NAME?"}},{"$f":"[3]!terbilang(W31)","v":{"$error":"#NAME?"}},{"$f":"Y31&\" \"&Z31&\" koma \"&AA31&AB31","v":{"$error":"#NAME?"}}]
[null,null,null,null,null,null,null,null,null,null,null,null,null,null,null,null,null,null,null,"","","","","",{"$f":"[2]!terbilang(T32)","v":{"$error":"#NAME?"}},{"$f":"[3]!terbilang(U32)","v":{"$error":"#NAME?"}},{"$f":"[3]!terbilang(V32)","v":{"$error":"#NAME?"}},{"$f":"[3]!terbilang(W32)","v":{"$error":"#NAME?"}},{"$error":"#NAME?"}]
[null,"No",null,null,null,"Nilai\nSekolah","Nilai Ujian\nSekolah",null,"Nilai\nAkhir*)",null,null,null,null,null,null,null,null,null,null,"","","","","",{"$f":"[2]!terbilang(T33)","v":{"$error":"#NAME?"}},{"$f":"[3]!terbilang(U33)","v":{"$error":"#NAME?"}},{"$f":"[3]!terbilang(V33)","v":{"$error":"#NAME?"}},{"$f":"[3]!terbilang(W33)","v":{"$error":"#NAME?"}},{"$error":"#NAME?"}]
[null,1,"Bahasa Indonesia",null,null,{"$f":"I27","v":0},{"$f":"VLOOKUP(N9,DAKOLUN!A9:'DAKOLUN'!BN208,40,0)","v":77.25},null,{"$f":"(F34*40%)+(G34*60%)","v":46.35},null,null,null,null,null,null,null,null,null,null,"","","","","",{"$f":"[2]!terbilang(T34)","v":{"$error":"#NAME?"}},{"$f":"[3]!terbilang(U34)","v":{"$error":"#NAME?"}},{"$f":"[3]!terbilang(V34)","v":{"$error":"#NAME?"}},{"$f":"[3]!terbilang(W34)","v":{"$error":"#NAME?"}},{"$error":"#NAME?"}]
[null,2,"Matematika",null,null,{"$f":"I28","v":0},{"$f":"VLOOKUP(N9,DAKOLUN!A9:'DAKOLUN'!BN208,43,0)","v":82.36},null,{"$f":"(F35*40%)+(G35*60%)","v":49.415999999999997},null,null,null,null,null,null,null,null,null,null,"","","","","",{"$f":"[2]!terbilang(T35)","v":{"$error":"#NAME?"}},{"$f":"[3]!terbilang(U35)","v":{"$error":"#NAME?"}},{"$f":"[3]!terbilang(V35)","v":{"$error":"#NAME?"}},{"$f":"[3]!terbilang(W35)","v":{"$error":"#NAME?"}},{"$error":"#NAME?"}]
[null,3,"Ilmu Pengetahuan Alam",null,null,0,{"$f":"VLOOKUP(N9,DAKOLUN!A9:'DAKOLUN'!BN208,46,0)","v":80.599999999999994},null,48.359999999999992,null,null,null,null,null,null,null,null,null,null,"","","","","",{"$f":"[2]!terbilang(T36)","v":{"$error":"#NAME?"}},{"$f":"[3]!terbilang(U36)","v":{"$error":"#NAME?"}},{"$f":"[3]!terbilang(V36)","v":{"$error":"#NAME?"}},{"$f":"[3]!terbilang(W36)","v":{"$error":"#NAME?"}},{"$error":"#NAME?"}]
[null,"Rata-rata",null,null,null,null,null,null,{"$f":"AVERAGE(I34:I36)","v":48.041999999999994},null,null,null,null,null,null,null,null,null,null,"","","","","",{"$f":"[2]!terbilang(T37)","v":{"$error":"#NAME?"}},{"$f":"[3]!terbilang(U37)","v":{"$error":"#NAME?"}},{"$f":"[3]!terbilang(V37)","v":{"$error":"#NAME?"}},{"$f":"[3]!terbilang(W37)","v":{"$error":"#NAME?"}},{"$error":"#NAME?"}]
[]
[null,null,null,null,null,null,null,{"$f":"\"Lumajang, \"&TEXT(IJAZAH!M20,\"dd mmmm yyyy\")","v":"Lumajang, 15 Juni 2020"},null,null,null,null,null,null,null,null,null,null,null,null,null,null,null,null,null,null,null,{"$f":"ROUND(S30,1)","v":200.5}]
[null,null,null,null,null,null,null,"Kepala Sekolah",null,null,null,null,null,null,null,null,null,null,null,null,null,null,null,null,null,null,null,{"$f":"TEXT(RIGHT(AB39,2),\"#,0\")","v":",5"}]
[]
[null,null,null,null,null,null,null,null,null,null,null,null,null,null,null,null,null,null,null,0,"nol"]
[null,null,null,null,null,null,null,null,null,null,null,null,null,null,null,null,null,null,null,1,"satu"]
[null,null,null,null,null,null,null,{"$f":"IF(KEPALA<>\"\",KEPALA,\"\")","v":"Sahroni,S.Pd.I"},null,null,null,null,null,null,null,null,null,null,null,2,"dua"]
[null,null,null,null,null,null,null,"NIP. ",{"$f":"IF(NIP<>\"\",NIP,\"\")","v":"-"},null,null,null,null,null,null,null,null,null,null,3,"tiga"]
[null,null,null,null,null,null,null,null,null,null,null,null,null,null,null,null,null,null,null,4,"empat"]
[null,null,null,null,null,null,null,null,null,null,null,null,null,null,null,null,null,null,null,5,"lima"]
[null,null,null,null,null,null,null,null,null,null,null,null,null,null,null,null,null,null,null,6,"enam"]
[null,null,null,null,null,null,null,null,null,null,null,null,null,null,null,null,null,null,null,7,"tujuh"]
[null,null,null,null,null,"Mengetahui",null,null,null,null,null,null,null,null,null,null,null,null,null,8,"delapan"]
[null,null,null,null,null,"Kepala UPT Pendidikan ",null,null,null,null,null,null,null,null,null,null,null,null,null,9,"sembilan"]
[null,null,null,null,null,"Kecamatan Sumbersuko"]
[]
[]
[]
[null,null,null,null,null,"Dra. NGATIFAH,M.Pd"]
[null,null,null,null,null,"NIP.196407091990032003"]

{"sheet":"SKLULUS","index":23,"n_rows":40,"n_cols":18,"rows_kept":40,"cut":false,"hidden":false,"merged":[[27,1,27,10],[31,1,31,10],[29,1,29,10],[39,8,39,10],[9,1,9,9],[10,1,10,9],[11,1,11,9],[24,5,24,8],[30,1,30,9],[11,13,13,13],[12,1,13,10],[1,3,1,8],[2,3,3,8],[4,3,4,8],[5,3,5,8],[7,1,7,10],[8,1,8,10]]}
[]
[null,null,null,null,null,null,null,null,null,null,null,null,null,null,null,null,0,"Nol"]
[null,null,null,null,null,null,null,null,null,null,null,null,null,null,null,null,1,"Satu"]
[null,null,null,null,null,null,null,null,null,null,null,null,null,null,null,null,2,"Dua"]
[null,null,null,null,null,null,null,null,null,null,null,null,null,null,null,null,3,"Tiga"]
[null,null,null,null,null,null,null,null,null,null,null,null,null,null,null,null,4,"Empat"]
[null,null,null,null,null,null,null,null,null,null,null,null,null,null,null,null,5,"Lima"]
[null,"SURAT KETERANGAN LULUS",null,null,null,null,null,null,null,null,null,null,null,null,null,null,6,"Enam"]
[null,{"$f":"\"Nomor : \"&VLOOKUP(N12,DAKOLUN!A9:'DAKOLUN'!CM222,88,0)","v":"Nomor : 67,02"},null,null,null,null,null,null,null,null,null,null,null,null,null,null,7,"Tujuh"]
[null,null,null,null,null,null,null,null,null,null,null,null,null,null,null,null,8,"Delapan"]
[null,null,null,null,null,null,null,null,null,null,null,null,null,"NO ABSEN",null,null,9,"Sembilan"]
[null,null,null,null,null,null,null,null,null,null,null,null,null,27]
[null,{"$f":"\"yang bertanda tangan dibawah ini, \"&\"Kepala \"&DEPAN!Y6&\" \"&DEPAN!E6&\" \"&PROPER(DEPAN!C12)&\" \"&PROPER(DEPAN!D12)&\" menerangkan dengan sesungguhnya bahwa :\"","v":"yang bertanda tangan dibawah ini, Kepala Madrasah Ibtidaiyah Nurul Islam Labruk Kidul Kecamatan Sumbersuko menerangkan dengan sesungguhnya bahwa :"}]
[]
[]
[null,"Nama",null,null,":","SAHRONI,S.Pd.I"]
[null,"Jabatan",null,null,":","Kepala Madrasah"]
[null,"Alamat",null,null,":","Tompokersan - Lumajang"]
[]
[null,"Menerangkan Bahwa"]
[null,"Nama",null,null,":",{"$f":"VLOOKUP(N12,DAKOLUN!A9:'DAKOLUN'!BN208,5,0)","v":"PUTRI SHOLIKHAH"}]
[null,"Tempat dan tanggal lahir ",null,null,":",{"$f":"VLOOKUP(N12,DAKOLUN!A9:'DAKOLUN'!BN208,6,0)","v":"Lumajang, 10 Februari 2008"}]
[null,"Nama Orang Tua",null,null,":",{"$f":"VLOOKUP(N12,DAKOLUN!A9:'DAKOLUN'!BN208,7,0)","v":"MULYONO"}]
[null,"No. Induk",null,null,":",{"$f":"VLOOKUP(N12,DAKOLUN!A9:'DAKOLUN'!BN208,2,0)","v":4358}]
[null,"NISN",null,null,":",{"$f":"VLOOKUP(N12,DAKOLUN!A9:'DAKOLUN'!BN208,3,0)","v":"0087558837"}]
[null,"Sekolah Asal",null,null,":",{"$f":"DEPAN!Y7","v":"MI Nurul Islam Labruk Kidul"}]
[]
[null,"Berdasarkan Hasil Rapat Dewan Guru tentang Penentuan Kelulusan Kelulusan dan mengacu kepada Permendikbud Nomor 43 Tahun 2019 tentang Penyelenggaraan Ujian yang Diselenggarakan Satuan Pendidikan dan Ujian Nasional, serta Surat Edaran Mendikbud Nomor 4 Tahun 2020 tentang Pelaksanaan Kebijakan Pendidikan dalam Masa Darurat Penyebaran Corona Virus Disease (COVID-19), dengan ini siswa tersebut di atas dinyatakan :"]
[]
[null,"LULUS"]
[null,{"$f":"\"dengan nilai rata-rata Ujian Madrasah (UM) = \"&TRUNC(VLOOKUP(N12,DAKOLUN!A9:'DAKOLUN'!BN208,53,0),2)","v":"dengan nilai rata-rata Ujian Madrasah (UM) = 79,5"}]
[null,"Demikian surat keterangan ini dibuat dengan sebenarnya dan agar dipergunakan sebagaimana mestinya."]
[]
[null,null,null,null,null,null,null,{"$f":"TEXT(SKHUS!H39,\"dd mmmm yyyy\")","v":"Lumajang, 15 Juni 2020"}]
[null,null,null,null,null,null,null,"Kepala Sekolah"]
[]
[]
[]
[null,null,null,null,null,null,null,{"$f":"IF(KEPALA<>\"\",KEPALA,\"\")","v":"Sahroni,S.Pd.I"}]
[null,null,null,null,null,null,null,"NIP. ",{"$f":"IF(NIP<>\"\",NIP,\"\")","v":"-"}]

{"sheet":"SKLULUS (2)","index":24,"n_rows":50,"n_cols":14,"rows_kept":50,"cut":false,"hidden":false,"merged":[[27,3,27,7],[28,3,28,7],[39,3,39,7],[40,3,40,7],[36,3,36,7],[37,3,37,7],[38,3,38,7],[33,3,33,7],[34,3,34,7],[35,3,35,7],[42,1,42,10],[49,8,49,10],[9,1,9,9],[10,1,10,9],[11,1,11,9],[30,3,30,7],[31,3,31,7],[32,3,32,7],[29,3,29,7],[22,1,22,10],[41,2,41,6],[41,7,41,10],[21,1,21,10],[23,1,23,10],[25,3,25,7],[26,3,26,7],[11,13,13,13],[12,1,13,10],[19,5,19,8],[1,3,1,8],[2,3,3,8],[4,3,4,8],[5,3,5,8],[7,1,7,10],[8,1,8,10]]}
[]
[]
[]
[]
[]
[]
[]
[null,"SURAT KETERANGAN"]
[null,{"$f":"\"Nomor : \"&VLOOKUP(N12,DAKOLUN!A9:'DAKOLUN'!CM222,88,0)","v":"Nomor : 67,83"}]
[]
[null,null,null,null,null,null,null,null,null,null,null,null,null,"NO ABSEN"]
[null,null,null,null,null,null,null,null,null,null,null,null,null,66]
[null,{"$f":"\"yang bertanda tangan dibawah ini, \"&\"Kepala \"&DEPAN!Y6&\" \"&DEPAN!E6&\" \"&PROPER(DEPAN!C12)&\" \"&PROPER(DEPAN!D12)&\" menerangkan dengan sesungguhnya bahwa :\"","v":"yang bertanda tangan dibawah ini, Kepala Madrasah Ibtidaiyah Nurul Islam Labruk Kidul Kecamatan Sumbersuko menerangkan dengan sesungguhnya bahwa :"}]
[]
[]
[null,"Nama",null,null,":",{"$f":"VLOOKUP(N12,DAKOLUN!A9:'DAKOLUN'!BN208,5,0)","v":"VIKROUL KHAMILA"}]
[null,"Tempat dan tanggal lahir ",null,null,":",{"$f":"VLOOKUP(N12,DAKOLUN!A9:'DAKOLUN'!BN208,6,0)","v":"Lumajang, 19 April 2007"}]
[null,"Nama Orang Tua",null,null,":",{"$f":"VLOOKUP(N12,DAKOLUN!A9:'DAKOLUN'!BN208,7,0)","v":"AKHMADIYONO"}]
[null,"No. Induk",null,null,":",{"$f":"VLOOKUP(N12,DAKOLUN!A9:'DAKOLUN'!BN208,2,0)","v":4389}]
[null,"NISN",null,null,":",{"$f":"VLOOKUP(N12,DAKOLUN!A9:'DAKOLUN'!BN208,3,0)","v":"0078407631"}]
[null,"Sekolah Asal",null,null,":",{"$f":"DEPAN!Y7","v":"MI Nurul Islam Labruk Kidul"}]
[null,"yang bersangkutan dinyatakan :"]
[null,"LULUS"]
[null,{"$f":"\"Berdasarkan hasil keputusan Rapat Pleno Kelulusan dewan Guru \"&DEPAN!Y6&\" \"&DEPAN!E6&\" pada hari KAMIS, 11 Juni 2020. dengan nilai sebagai berikut : \"","v":"Berdasarkan hasil keputusan Rapat Pleno Kelulusan dewan Guru Madrasah Ibtidaiyah Nurul Islam Labruk Kidul pada hari KAMIS, 11 Juni 2020. dengan nilai sebagai berikut : "}]
[]
[null,null,"No","Mata Pelajaran",null,null,null,null,"Nilai Ujian Madrasah"]
[null,null,1," Al Quran Hadits",null,null,null,null,{"$f":"VLOOKUP($N$12,DAKOLUN!$A$9:'DAKOLUN'!$CK$208,16,0)","v":79}]
[null,null,2,"Aqidah Akhlak",null,null,null,null,{"$f":"VLOOKUP($N$12,DAKOLUN!$A$9:'DAKOLUN'!$CK$208,13,0)","v":79.080000000000013}]
[null,null,3,"Fiqih",null,null,null,null,{"$f":"VLOOKUP($N$12,DAKOLUN!$A$9:'DAKOLUN'!$CK$208,19,0)","v":75}]
[null,null,4,"Sejarah Kebudayaan Islam",null,null,null,null,{"$f":"VLOOKUP($N$12,DAKOLUN!$A$9:'DAKOLUN'!$CK$208,22,0)","v":77.44}]
[null,null,5,"Pendidikan Kewarganegaraan",null,null,null,null,{"$f":"VLOOKUP($N$12,DAKOLUN!$A$9:'DAKOLUN'!$CK$208,25,0)","v":74.55}]
[null,null,6,"Bahasa Indonesia",null,null,null,null,{"$f":"VLOOKUP($N$12,DAKOLUN!$A$9:'DAKOLUN'!$CK$208,56,0)","v":75.662857142857135}]
[null,null,7,"Bahasa Arab",null,null,null,null,{"$f":"VLOOKUP($N$12,DAKOLUN!$A$9:'DAKOLUN'!$CK$208,31,0)","v":76.56}]
[null,null,8,"Matematika",null,null,null,null,{"$f":"VLOOKUP($N$12,DAKOLUN!$A$9:'DAKOLUN'!$CK$208,59,0)","v":70.44}]
[null,null,9,"Ilmu Pengetahuan Alam",null,null,null,null,{"$f":"VLOOKUP($N$12,DAKOLUN!$A$9:'DAKOLUN'!$CK$208,62,0)","v":67.289999999999992}]
[null,null,10,"Ilmu Pengetahuan Sosial",null,null,null,null,{"$f":"VLOOKUP($N$12,DAKOLUN!$A$9:'DAKOLUN'!$CK$208,40,0)","v":72.449999999999989}]
[null,null,11,"Seni Budaya dan Keterampilan",null,null,null,null,{"$f":"VLOOKUP($N$12,DAKOLUN!$A$9:'DAKOLUN'!$CK$208,43,0)","v":77.2}]
[null,null,12,"Pendidikan Jasmani Olahraga \ndan Kesehatan",null,null,null,null,{"$f":"VLOOKUP($N$12,DAKOLUN!$A$9:'DAKOLUN'!$CK$208,46,0)","v":78.2}]
[null,null,13,"Bahasa Daerah",null,null,null,null,{"$f":"VLOOKUP($N$12,DAKOLUN!$A$9:'DAKOLUN'!$CK$208,49,0)","v":73.2}]
[null,null,14,"Bahasa Inggris",null,null,null,null,{"$f":"VLOOKUP($N$12,DAKOLUN!$A$9:'DAKOLUN'!$CK$208,52,0)","v":74}]
[null,null,null,"RATA RATA",null,null,null,null,{"$f":"AVERAGE(I27:K40)","v":75.005204081632669}]
[]
[null,"Surat Keterangan Lulus ini berlaku sementara sampai dengan diterbitkannya Ijazah kepada yang bersangkutan."]
[null,null,null,null,null,null,null,{"$f":"TEXT(SKHUS!H39,\"dd mmmm yyyy\")","v":"Lumajang, 15 Juni 2020"}]
[null,null,null,null,null,null,null,"Kepala Sekolah"]
[]
[]
[]
[null,null,null,null,null,null,null,{"$f":"IF(KEPALA<>\"\",KEPALA,\"\")","v":"Sahroni,S.Pd.I"}]
[null,null,null,null,null,null,null,"NIP. ",{"$f":"IF(NIP<>\"\",NIP,\"\")","v":"-"}]

{"sheet":"SKHU SD","index":25,"n_rows":51,"n_cols":14,"rows_kept":51,"cut":false,"hidden":false,"merged":[[20,2,20,5],[32,7,32,8],[33,7,33,8],[20,7,20,8],[22,7,22,8],[23,7,23,8],[24,7,24,8],[25,7,25,8],[26,7,26,8],[27,7,27,8],[28,7,28,8],[50,9,50,11],[37,7,37,8],[38,7,38,8],[39,1,39,8],[2,1,2,10],[4,1,4,10],[5,1,5,10],[7,1,7,10],[8,1,8,10],[35,2,35,5],[35,7,35,8],[36,7,36,8],[29,3,29,4],[29,7,29,8],[30,7,30,8],[31,7,31,8]]}
[]
[]
[null,"KEMENTERIAN PENDIDIKAN DAN KEBUDAYAAN REPUBLIK INDONESIA"]
[]
[null,"SURAT KETERANGAN"]
[null,"HASIL UJIAN SEMENTARA"]
[]
[null,"SEKOLAH DASAR"]
[null,"TAHUN PELAJARAN 2013/2014"]
[]
[null,"Yang bertanda tangan di bawah ini, Kepala Sekolah Dasar"]
[null,{"$f":"IF(LEMBAGA<>\"\",LEMBAGA,\"\")","v":"MI"},null,null,null,"menerangkan bahwa:"]
[null,"nama ",null,null,null,":",{"$f":"VLOOKUP(N21,DAKOLUN!A9:'DAKOLUN'!BN208,5,0)","v":"MUHAMMAD AFFAN ABI SYAHPUTRA"}]
[null,"tempat dan tanggal lahir ",null,null,null,":",{"$f":"VLOOKUP(N21,DAKOLUN!A9:'DAKOLUN'!BN208,6,0)","v":"Lumajang, 06 November 2007"}]
[null,"nomor induk ",null,null,null,":",{"$f":"VLOOKUP(N21,DAKOLUN!A9:'DAKOLUN'!BN208,2,0)","v":4375}]
[null,"nomor peserta ujian sekolah ",null,null,null,":",{"$f":"VLOOKUP(N21,DAKOLUN!A9:'DAKOLUN'!BN208,4,0)","v":"1-18-05-80-162-021-4"}]
[]
[null,"telah memenuhi penilaian akhir dan mengikuti ujian sekolah berdasarkan Peraturan"]
[null,"menteri Pendidikan dan Kebudayaan Nomor 102 Tahun 2013 dengan hasil sebagai"]
[null,"berikut",null,null,null,null,null,null,null,null,null,null,null,"NO ABSEN"]
[null,"No","Mata Pelajaran",null,null,null,"Nilai Rata-rata Rapor","Nilai Ujian\nSekolah",null,"Nilai\nSekolah",null,null,null,21]
[null,"A",null,"Ujian Sekolah"]
[null,null,"1.","Pendidikan Agama"]
[null,null,"2.","Pendidikan Kewarganegaraan",null,null,{"$f":"VLOOKUP(N21,DAKOLUN!A9:'DAKOLUN'!BN208,11,0)","v":85.5},{"$f":"VLOOKUP(N21,DAKOLUN!A9:'DAKOLUN'!BN208,12,0)","v":70.849999999999994},null,{"$f":"VLOOKUP(N21,DAKOLUN!A9:'DAKOLUN'!BN208,13,0)","v":79.64}]
[null,null,"3.","Bahasa Indonesia",null,null,{"$f":"VLOOKUP(N21,DAKOLUN!A9:'DAKOLUN'!BN208,14,0)","v":84.5},{"$f":"VLOOKUP(N21,DAKOLUN!A9:'DAKOLUN'!BN208,15,0)","v":72.25},null,{"$f":"VLOOKUP(N21,DAKOLUN!A9:'DAKOLUN'!BN208,16,0)","v":79.599999999999994},null,null,null,"GANTI TANGGAL IJASAH"]
[null,null,"4.","Matematika",null,null,{"$f":"VLOOKUP(N21,DAKOLUN!A9:'DAKOLUN'!BN208,17,0)","v":82.75},{"$f":"VLOOKUP(N21,DAKOLUN!A9:'DAKOLUN'!BN208,18,0)","v":71.375},null,{"$f":"VLOOKUP(N21,DAKOLUN!A9:'DAKOLUN'!BN208,19,0)","v":78.2},null,null,null,"Lumajang, 21 Juni 2015"]
[null,null,"5.","Ilmu Pengetahuan Alam",null,null,{"$f":"VLOOKUP(N21,DAKOLUN!A9:'DAKOLUN'!BN208,20,0)","v":83.5},{"$f":"VLOOKUP(N21,DAKOLUN!A9:'DAKOLUN'!BN208,21,0)","v":70.05},null,{"$f":"VLOOKUP(N21,DAKOLUN!A9:'DAKOLUN'!BN208,22,0)","v":78.12}]
[null,null,"6.","Ilmu Pengetahuan Sosial",null,null,{"$f":"VLOOKUP(N21,DAKOLUN!A9:'DAKOLUN'!BN208,23,0)","v":81.5},{"$f":"VLOOKUP(N21,DAKOLUN!A9:'DAKOLUN'!BN208,24,0)","v":60},null,{"$f":"VLOOKUP(N21,DAKOLUN!A9:'DAKOLUN'!BN208,25,0)","v":72.900000000000006}]
[null,null,"7.","Seni Budaya dan Keterampilan",null,null,{"$f":"VLOOKUP(N21,DAKOLUN!A9:'DAKOLUN'!BN208,26,0)","v":81.666666666666671},{"$f":"VLOOKUP(N21,DAKOLUN!A9:'DAKOLUN'!BN208,27,0)","v":70.833333333333343},null,{"$f":"VLOOKUP(N21,DAKOLUN!A9:'DAKOLUN'!BN208,28,0)","v":77.333333333333343}]
[null,null,"8.","Pendidikan Jasmani Olahraga \ndan Kesehatan",null,null,{"$f":"VLOOKUP(N21,DAKOLUN!A9:'DAKOLUN'!BN208,29,0)","v":82},{"$f":"VLOOKUP(N21,DAKOLUN!A9:'DAKOLUN'!BN208,30,0)","v":69.7},null,{"$f":"VLOOKUP(N21,DAKOLUN!A9:'DAKOLUN'!BN208,31,0)","v":77.08}]
[null,"B",null,"Muatan Lokal"]
[null,null,"1.",{"$f":"SISWA!K16","v":"Bahasa Daerah"},null,null,{"$f":"VLOOKUP(N21,DAKOLUN!A9:'DAKOLUN'!BN208,32,0)","v":81.5},{"$f":"VLOOKUP(N21,DAKOLUN!A9:'DAKOLUN'!BN208,33,0)","v":60},null,{"$f":"VLOOKUP(N21,DAKOLUN!A9:'DAKOLUN'!BN208,34,0)","v":72.900000000000006}]
[null,null,"2.",{"$f":"SISWA!K17","v":"Bahasa Inggris"},null,null,{"$f":"VLOOKUP(N21,DAKOLUN!A9:'DAKOLUN'!BN208,35,0)","v":81.5},{"$f":"VLOOKUP(N21,DAKOLUN!A9:'DAKOLUN'!BN208,36,0)","v":60},null,{"$f":"VLOOKUP(N21,DAKOLUN!A9:'DAKOLUN'!BN208,37,0)","v":72.900000000000006}]
[null,null,"3.",{"$f":"SISWA!K18","v":"Aqidah Akhlaq"},null,null,{"$f":"VLOOKUP(N21,DAKOLUN!A9:'DAKOLUN'!BN208,38,0)","v":82.5},{"$f":"VLOOKUP(N21,DAKOLUN!A9:'DAKOLUN'!BN208,39,0)","v":60},null,{"$f":"VLOOKUP(N21,DAKOLUN!A9:'DAKOLUN'!BN208,40,0)","v":73.5}]
[]
[null,"No","Mata Pelajaran",null,null,null,"Nilai\nSekolah","Nilai Ujian\nSekolah",null,"Nilai\nAkhir*)"]
[null,1,"1.","Bahasa Indonesia",null,null,{"$f":"J25","v":79.599999999999994},{"$f":"VLOOKUP(N21,DAKOLUN!A9:'DAKOLUN'!BN208,40,0)","v":73.5},null,{"$f":"(G37*40%)+(H37*60%)","v":75.94}]
[null,2,"2.","Matematika",null,null,{"$f":"J26","v":78.2},{"$f":"VLOOKUP(N21,DAKOLUN!A9:'DAKOLUN'!BN208,43,0)","v":78.12},null,{"$f":"(G38*40%)+(H38*60%)","v":78.152000000000001}]
[null,3,"3.","Ilmu Pengetahuan Alam",null,null,78.12,{"$f":"VLOOKUP(N21,DAKOLUN!A9:'DAKOLUN'!BN208,46,0)","v":85.960000000000008},null,82.824000000000012]
[null,"Rata-rata",null,null,null,null,null,null,null,{"$f":"AVERAGE(J37:J39)","v":78.971999999999994}]
[null,"*)Nilai akhir= 70% Nilai Rata-rata Raport + 30% Nilai Ujian Sekolah."]
[]
[]
[]
[null,null,null,null,null,null,null,null,{"$f":"SKLULUS!H34","v":"Lumajang, 15 Juni 2020"}]
[null,null,null,null,null,null,null,null,"Kepala Sekolah"]
[]
[]
[]
[null,null,null,null,null,null,null,null,{"$f":"IF(KEPALA<>\"\",KEPALA,\"\")","v":"Sahroni,S.Pd.I"}]
[null,null,null,null,null,null,null,null,"NIP. ",{"$f":"IF(NIP<>\"\",NIP,\"\")","v":"-"}]

{"sheet":"NILAI","index":26,"n_rows":34,"n_cols":18,"rows_kept":34,"cut":false,"hidden":false,"merged":[[17,17,19,17],[5,0,7,0],[5,1,7,1],[5,2,5,7],[5,8,7,8],[5,9,6,9],[5,11,5,12],[5,14,7,14],[6,2,6,3],[6,4,6,5],[6,6,6,7],[6,11,7,11],[6,12,7,12]]}
[null,"NAMA LEMBAGA",":",{"$f":"IF(LEMBAGA<>\"\",LEMBAGA,\"\")","v":"MI"}]
[null,"KECAMATAN",":",{"$f":"IF(CAMAT<>\"\",CAMAT,\"\")","v":"SUMBERSUKO"}]
[null,"Nama Siswa",":",{"$f":"VLOOKUP(R18,DAKOLUN!A9:'DAKOLUN'!G208,5,0)","v":"ACHMAD FATHIR IZUDDIN"}]
[null,"Nomor Peserta",": ",{"$f":"VLOOKUP(R18,DAKOLUN!A9:'DAKOLUN'!G208,4,0)","v":"1-18-05-80-162-001-8"}]
[]
["NO","MATA PELAJARAN","NILAI RAPOR (NR)",null,null,null,null,null,"JUM LAH","RATA-RATA",null,"NILAI UJIAN SEKOLAH",null,"RATA-RATA","NILAI SEKOLAH (NS)"," "]
[null,null,"KL IV",null,"KL V",null,"KL VI",null,null,null,"SKM","TERTULIS","PRAKTIK","NILAI UJIAN",null,"KETERANGAN"]
[null,null,7,8,9,10,11,null,null,"NR",null,null,null,"(RNU)"]
[1,{"$f":"SISWA!K8","v":"Pendidikan Agama"}]
[null,"a. Aqidah Akhlaq",{"$f":"VLOOKUP($R$18,AA!$A$8:AA!#REF!,6,0)","v":{"$error":"#REF!"}},{"$f":"VLOOKUP($R$18,AA!$A$8:AA!#REF!,7,0)","v":{"$error":"#REF!"}},{"$f":"VLOOKUP($R$18,AA!$A$8:AA!#REF!,8,0)","v":{"$error":"#REF!"}},{"$f":"VLOOKUP($R$18,AA!$A$8:AA!#REF!,9,0)","v":{"$error":"#REF!"}},{"$f":"VLOOKUP($R$18,AA!$A$8:AA!#REF!,10,0)","v":{"$error":"#REF!"}},null,{"$f":"SUM(C10:G10)","v":{"$error":"#REF!"}},{"$f":"I10/5","v":{"$error":"#REF!"}},{"$f":"SISWA!L18","v":65},{"$f":"VLOOKUP($R$18,AA!$A$8:AA!#REF!,12,0)","v":{"$error":"#REF!"}},{"$f":"VLOOKUP($R$18,AA!$A$8:AA!#REF!,13,0)","v":{"$error":"#REF!"}},{"$f":"AVERAGE(L10:M10)","v":{"$error":"#REF!"}},{"$f":"(60%*J10)+(40%*N10)","v":{"$error":"#REF!"}}]
[null,"b. Al Qur'an Hadits",{"$f":"VLOOKUP($R$18,AH!$A$8:AH!#REF!,6,0)","v":{"$error":"#REF!"}},{"$f":"VLOOKUP($R$18,AH!$A$8:AH!#REF!,7,0)","v":{"$error":"#REF!"}},{"$f":"VLOOKUP($R$18,AH!$A$8:AH!#REF!,8,0)","v":{"$error":"#REF!"}},{"$f":"VLOOKUP($R$18,AH!$A$8:AH!#REF!,9,0)","v":{"$error":"#REF!"}},{"$f":"VLOOKUP($R$18,AH!$A$8:AH!#REF!,10,0)","v":{"$error":"#REF!"}},null,{"$error":"#REF!"},{"$error":"#REF!"},{"$f":"SISWA!L19","v":65},{"$f":"VLOOKUP($R$18,AH!$A$8:AH!#REF!,12,0)","v":{"$error":"#REF!"}},{"$f":"VLOOKUP($R$18,AH!$A$8:AH!#REF!,13,0)","v":{"$error":"#REF!"}},{"$error":"#REF!"},{"$error":"#REF!"}]
[null,"c. Fiqih",{"$f":"VLOOKUP($R$18,FQ!$A$8:FQ!#REF!,6,0)","v":{"$error":"#REF!"}},{"$f":"VLOOKUP($R$18,FQ!$A$8:FQ!#REF!,7,0)","v":{"$error":"#REF!"}},{"$f":"VLOOKUP($R$18,FQ!$A$8:FQ!#REF!,8,0)","v":{"$error":"#REF!"}},{"$f":"VLOOKUP($R$18,FQ!$A$8:FQ!#REF!,9,0)","v":{"$error":"#REF!"}},{"$f":"VLOOKUP($R$18,FQ!$A$8:FQ!#REF!,10,0)","v":{"$error":"#REF!"}},null,{"$error":"#REF!"},{"$error":"#REF!"},{"$f":"SISWA!L20","v":65},{"$f":"VLOOKUP($R$18,FQ!$A$8:FQ!#REF!,12,0)","v":{"$error":"#REF!"}},{"$f":"VLOOKUP($R$18,FQ!$A$8:FQ!#REF!,13,0)","v":{"$error":"#REF!"}},{"$error":"#REF!"},{"$error":"#REF!"}]
[null,"d. SKI",{"$f":"VLOOKUP($R$18,SKI!$A$8:SKI!#REF!,6,0)","v":{"$error":"#REF!"}},{"$f":"VLOOKUP($R$18,SKI!$A$8:SKI!#REF!,7,0)","v":{"$error":"#REF!"}},{"$f":"VLOOKUP($R$18,SKI!$A$8:SKI!#REF!,8,0)","v":{"$error":"#REF!"}},{"$f":"VLOOKUP($R$18,SKI!$A$8:SKI!#REF!,9,0)","v":{"$error":"#REF!"}},{"$f":"VLOOKUP($R$18,SKI!$A$8:SKI!#REF!,10,0)","v":{"$error":"#REF!"}},null,{"$error":"#REF!"},{"$error":"#REF!"},{"$f":"SISWA!L21","v":65},{"$f":"VLOOKUP($R$18,SKI!$A$8:SKI!#REF!,12,0)","v":{"$error":"#REF!"}},{"$f":"VLOOKUP($R$18,SKI!$A$8:SKI!#REF!,13,0)","v":{"$error":"#REF!"}},{"$error":"#REF!"},{"$error":"#REF!"}]
[null,"e. Bahasa Arab",{"$f":"VLOOKUP($R$18,BA!$A$8:BA!#REF!,6,0)","v":{"$error":"#REF!"}},{"$f":"VLOOKUP($R$18,BA!$A$8:BA!#REF!,7,0)","v":{"$error":"#REF!"}},{"$f":"VLOOKUP($R$18,BA!$A$8:BA!#REF!,8,0)","v":{"$error":"#REF!"}},{"$f":"VLOOKUP($R$18,BA!$A$8:BA!#REF!,9,0)","v":{"$error":"#REF!"}},{"$f":"VLOOKUP($R$18,BA!$A$8:BA!#REF!,10,0)","v":{"$error":"#REF!"}},null,{"$error":"#REF!"},{"$error":"#REF!"},{"$f":"SISWA!L22","v":65},{"$f":"VLOOKUP($R$18,BA!$A$8:BA!#REF!,12,0)","v":{"$error":"#REF!"}},{"$f":"VLOOKUP($R$18,BA!$A$8:BA!#REF!,13,0)","v":{"$error":"#REF!"}},{"$error":"#REF!"},{"$error":"#REF!"}]
[2,{"$f":"SISWA!K9","v":"Pendidikan Kewarganegaraan"},{"$f":"VLOOKUP(R18,PKn!A8:PKn!#REF!,6,0)","v":{"$error":"#REF!"}},{"$f":"VLOOKUP(R18,PKn!A8:PKn!#REF!,7,0)","v":{"$error":"#REF!"}},{"$f":"VLOOKUP(R18,PKn!A8:PKn!#REF!,8,0)","v":{"$error":"#REF!"}},{"$f":"VLOOKUP(R18,PKn!A8:PKn!#REF!,9,0)","v":{"$error":"#REF!"}},{"$f":"VLOOKUP(R18,PKn!A8:PKn!#REF!,10,0)","v":{"$error":"#REF!"}},null,{"$f":"SUM(C15:G15)","v":{"$error":"#REF!"}},{"$f":"I15/5","v":{"$error":"#REF!"}},{"$f":"SISWA!L9","v":65},{"$f":"VLOOKUP(R18,PKn!A8:PKn!#REF!,12,0)","v":{"$error":"#REF!"}},"−",{"$f":"AVERAGE(L15:M15)","v":{"$error":"#REF!"}},{"$error":"#REF!"},"1. Tentukan SKM Mapel"]
[3,{"$f":"SISWA!K10","v":"Bahasa Indonesia"},{"$f":"VLOOKUP(R18,BID!A8:BID!#REF!,6,0)","v":{"$error":"#REF!"}},{"$f":"VLOOKUP(R18,BID!A8:BID!#REF!,7,0)","v":{"$error":"#REF!"}},{"$f":"VLOOKUP(R18,BID!A8:BID!#REF!,8,0)","v":{"$error":"#REF!"}},{"$f":"VLOOKUP(R18,BID!A8:BID!#REF!,9,0)","v":{"$error":"#REF!"}},{"$f":"VLOOKUP(R18,BID!A8:BID!#REF!,10,0)","v":{"$error":"#REF!"}},null,{"$f":"SUM(C16:G16)","v":{"$error":"#REF!"}},{"$error":"#REF!"},{"$f":"SISWA!L10","v":65},{"$f":"VLOOKUP(R18,BID!A8:BID!#REF!,12,0)","v":{"$error":"#REF!"}},{"$f":"VLOOKUP(R18,BID!A8:BID!#REF!,13,0)","v":{"$error":"#REF!"}},{"$error":"#REF!"},{"$error":"#REF!"},"2. Tentukan penilaian akhir (kelulusan) berdasarkan Rapor "]
[4,{"$f":"SISWA!K11","v":"Matematika"},{"$f":"VLOOKUP(R18,MTK!A8:MTK!#REF!,6,0)","v":{"$error":"#REF!"}},{"$f":"VLOOKUP(R18,MTK!A8:MTK!#REF!,7,0)","v":{"$error":"#REF!"}},{"$f":"VLOOKUP(R18,MTK!A8:MTK!#REF!,8,0)","v":{"$error":"#REF!"}},{"$f":"VLOOKUP(R18,MTK!A8:MTK!#REF!,9,0)","v":{"$error":"#REF!"}},{"$f":"VLOOKUP(R18,MTK!A8:MTK!#REF!,10,0)","v":{"$error":"#REF!"}},null,{"$f":"SUM(C17:G17)","v":{"$error":"#REF!"}},{"$error":"#REF!"},{"$f":"SISWA!L11","v":65},{"$f":"VLOOKUP(R18,MTK!A8:MTK!#REF!,12,0)","v":{"$error":"#REF!"}},"−",{"$error":"#REF!"},{"$error":"#REF!"},"3. Tentukan kriteria kelulusan ujian sebelum US/M",null,"NO ABSEN"]
[5,{"$f":"SISWA!K12","v":"Ilmu Pengetahuan Alam"},{"$f":"VLOOKUP(R18,IPA!A8:'IPA'!M207,6,0)","v":0},{"$f":"VLOOKUP(R18,IPA!A8:'IPA'!M207,7,0)","v":68},{"$f":"VLOOKUP(R18,IPA!A8:'IPA'!M207,8,0)","v":74},{"$f":"VLOOKUP(R18,IPA!A8:'IPA'!M207,9,0)","v":80},{"$f":"VLOOKUP(R18,IPA!A8:'IPA'!M207,10,0)","v":81},null,303,60.6,{"$f":"SISWA!L12","v":65},{"$f":"VLOOKUP(R18,IPA!A8:'IPA'!M207,12,0)","v":75},{"$f":"VLOOKUP(R18,IPA!A8:'IPA'!M207,13,0)","v":0},37.5,51.36,"4. Tentukan kelulusan peserta didik berdasarkan US/M",null,1]
[6,{"$f":"SISWA!K13","v":"Ilmu Pengetahuan Sosial"},{"$f":"VLOOKUP(R18,IPS!A8:IPS!#REF!,6,0)","v":{"$error":"#REF!"}},{"$f":"VLOOKUP(R18,IPS!A8:IPS!#REF!,7,0)","v":{"$error":"#REF!"}},{"$f":"VLOOKUP(R18,IPS!A8:IPS!#REF!,8,0)","v":{"$error":"#REF!"}},{"$f":"VLOOKUP(R18,IPS!A8:IPS!#REF!,9,0)","v":{"$error":"#REF!"}},{"$f":"VLOOKUP(R18,IPS!A8:IPS!#REF!,10,0)","v":{"$error":"#REF!"}},null,{"$error":"#REF!"},{"$error":"#REF!"},{"$f":"SISWA!L13","v":65},{"$f":"VLOOKUP(R18,IPS!A8:IPS!#REF!,12,0)","v":{"$error":"#REF!"}},"−",{"$error":"#REF!"},{"$error":"#REF!"},"    a. Nilai minimal setiap mata pelajaran ujian = 4,00"]
[7,{"$f":"SISWA!K14","v":"Seni Budaya dan Keterampilan"},{"$f":"VLOOKUP(R18,SBK!A8:SBK!#REF!,6,0)","v":{"$error":"#REF!"}},{"$f":"VLOOKUP(R18,SBK!A8:SBK!#REF!,7,0)","v":{"$error":"#REF!"}},{"$f":"VLOOKUP(R18,SBK!A8:SBK!#REF!,8,0)","v":{"$error":"#REF!"}},{"$f":"VLOOKUP(R18,SBK!A8:SBK!#REF!,9,0)","v":{"$error":"#REF!"}},{"$f":"VLOOKUP(R18,SBK!A8:SBK!#REF!,10,0)","v":{"$error":"#REF!"}},null,{"$error":"#REF!"},{"$error":"#REF!"},{"$f":"SISWA!L14","v":70},"−",{"$f":"VLOOKUP(R18,SBK!A8:SBK!#REF!,13,0)","v":{"$error":"#REF!"}},{"$f":"AVERAGE(L20:M20)","v":{"$error":"#REF!"}},{"$error":"#REF!"},"    b. Nilai rata-rata minimal  mata pelajaran ujian = 5,50"]
[8,{"$f":"SISWA!K15","v":"Pendidikan Jasmani Olahraga dan Kesehatan"},{"$f":"VLOOKUP(R18,PJK!A8:PJK!#REF!,6,0)","v":{"$error":"#REF!"}},{"$f":"VLOOKUP(R18,PJK!A8:PJK!#REF!,7,0)","v":{"$error":"#REF!"}},{"$f":"VLOOKUP(R18,PJK!A8:PJK!#REF!,8,0)","v":{"$error":"#REF!"}},{"$f":"VLOOKUP(R18,PJK!A8:PJK!#REF!,9,0)","v":{"$error":"#REF!"}},{"$f":"VLOOKUP(R18,PJK!A8:PJK!#REF!,10,0)","v":{"$error":"#REF!"}},null,{"$error":"#REF!"},{"$error":"#REF!"},{"$f":"SISWA!L15","v":70},"−",{"$f":"VLOOKUP(R18,PJK!A8:PJK!#REF!,13,0)","v":{"$error":"#REF!"}},{"$f":"AVERAGE(L21:M21)","v":{"$error":"#REF!"}},{"$error":"#REF!"}]
[9,{"$f":"SISWA!K16","v":"Bahasa Daerah"},{"$f":"VLOOKUP(R18,BD!A8:M108,6,0)","v":0},{"$f":"VLOOKUP(R18,BD!A8:M108,7,0)","v":60},{"$f":"VLOOKUP(R18,BD!A8:M108,8,0)","v":73},{"$f":"VLOOKUP(R18,BD!A8:M108,9,0)","v":82},{"$f":"VLOOKUP(R18,BD!A8:M108,10,0)","v":82},null,297,59.4,{"$f":"SISWA!L16","v":65},{"$f":"VLOOKUP(R18,BD!A8:M108,12,0)","v":60},"−",60,59.64]
[10,{"$f":"SISWA!K17","v":"Bahasa Inggris"},{"$f":"VLOOKUP(R18,BIG!A8:M207,6,0)","v":0},{"$f":"VLOOKUP(R18,BIG!A8:M207,7,0)","v":70},{"$f":"VLOOKUP(R18,BIG!A8:M207,8,0)","v":70},{"$f":"VLOOKUP(R18,BIG!A8:M207,9,0)","v":90},{"$f":"VLOOKUP(R18,BIG!A8:M207,10,0)","v":81},null,311,62.2,{"$f":"SISWA!L17","v":65},{"$f":"VLOOKUP(R18,BIG!A8:M207,12,0)","v":92.5},{"$f":"VLOOKUP(R18,BIG!A8:M207,13,0)","v":82.25},87.375,72.27000000000001]
[]
[]
[null,"NILAI RATA-RATA TOTAL",null,null,null,null,null,null,null,{"$f":"AVERAGE(J9:J23)","v":{"$error":"#REF!"}},{"$f":"AVERAGE(K9:K23)","v":65.714285714285708},null,null,{"$f":"AVERAGE(N9:N23)","v":{"$error":"#REF!"}},{"$f":"(60%*J26)+(40%*N26)","v":{"$error":"#REF!"}}]
[]
[null,"KELULUSAN ",null,null,null,null,null,null,null,"LULUS",null,null,null,"LULUS",null," "]
[]
[null,"Catatan: "]
[null,"1. Daftar Nilai Ujian Mata Pelajaran (halaman belakang ijazah), terdapat 3 kolom, yaitu: 1) kolom Nilai Rata-rata Rapor; 2) kolom Nilai Ujian Sekolah; dan 3) kolom Nilai Sekolah. "]
[null,"2. Nilai rata-rata Rapor (kriteria 2 berdasarkan PP no.32; Permendikbud No.102, dan POS US/M), dan Nilai Ujian Sekolah (kriteria 3) HARUS LULUS."]
[null,"3. Nilai Sekolah adalah penjumlahan proporsi Nilai Rata-rata Rapor dan Nilai Ujian Sekolah. Besarnya proporsi diatur dalam petunjuk teknis pelaksanaan US/M "]
[null,"     Dinas Pendidikan Provinsi, Kanwil Kemenag dan/atau Dinas Pendidikan Kab/Kota, dan Kantor Kemenag (60%NR + 40% RNU)"]

{"sheet":"petunjuk","index":27,"n_rows":12,"n_cols":12,"rows_kept":12,"cut":false,"hidden":false,"merged":[]}
[]
[]
[null,"PETUNJUK"]
[null,"Mohon maaf…"]
[null,"Dikarnakan tutorialnya begitu banyak dan tidak mungkin saya taruh di sini"]
[null,"oleh sebab itu Anda bisa mengunduhnya di"]
[null,"c.kurniawan@ymail.com",null,null,null,"atau"]
[]
[]
[]
["PENOMORAN IJAZAH","001/Mi.13.05.162/PP.01.1/06/2018"]
[null,null,"surat keluar","jenjang (MI) kode Provinsi (13) kode kabupaten (05) nus (162)",null,null,null,null,null,null,"bulan (06)","tahun (2018)"]

{"sheet":"RUMUS","index":28,"n_rows":2,"n_cols":1,"rows_kept":2,"cut":false,"hidden":false,"merged":[]}
["RUMUS NILAI 2 DIGIT, 2 ANGKA BELAKANG KOMA = 22,22"]
["=VLOOKUP(LEFT(G27;1)*1;KONIJ;2)&\" \"&VLOOKUP(MID(G27;2;1)*1;KONIJ;2)&\" Koma \"&VLOOKUP(RIGHT(G27;1)*1;KONIJ;2)&\" \"&VLOOKUP(RIGHT(G27;2)*1;KONIJ;2)\""]