{"text_format":"1","workbook":"xlsx","n_sheets":5,"sheets":["RUMUSKARTU","DATA KARTU","KARTU PESERTA","DENAH UJIAN","TULISAN TEMPEL PENSIL"],"not_rendered":{"charts":0,"images":0,"macros":0,"external_links":0,"defined_names":6,"comments":0,"pivot_tables":0},"unopened":[],"bounds":{"document_bytes":16777216,"sheet_cells":100000,"rows_first":2000,"rows_last":500,"rows_between":2000,"halvings":0,"cell_chars":16384,"cell_head_chars":4096},"cells_cut":0,"cells_raw":0,"read":"whole","date_system":"1900"}

{"sheet":"RUMUSKARTU","index":0,"n_rows":6,"n_cols":3,"rows_kept":6,"cut":false,"hidden":false,"merged":[]}
["US","2017/2018",1]
["UM","2018/2019",2]
["UAMNU","2019/2020",3]
["USMT1","2020/2021",4]
["USMT2","2021/2022",5]
[null,null,6]

{"sheet":"DATA KARTU","index":1,"n_rows":77,"n_cols":11,"rows_kept":77,"cut":false,"hidden":false,"merged":[[3,1,3,2],[4,1,4,2],[5,1,5,2],[3,3,3,5],[4,3,4,5],[5,3,5,5],[0,3,0,5],[1,3,1,5],[2,3,2,5],[0,1,0,2],[1,1,1,2],[2,1,2,2]]}
[null,"JUDUL",null,"KARTU TANDA PESERTA",null,null,"USMT1",null,{"$f":"IF(G1=\"UAMNU\",\"UJIAN AKHIR MA'ARIF NU\",IF(G1=\"UM\",\"UJIAN MADRASAH\",IF(G1=\"US\",\"UJIAN SEKOLAH\",IF(G1=\"USMT1\",\"UJIAN SEMESTER 1\",IF(G1=\"USMT2\",\"UJIAN SEMESTER 2\",\"\")))))","v":"UJIAN SEMESTER 1"}]
[null,"TP",null,"TAHUN PELAJARAN",null,null,"2017/2018"]
[null,"SEKOLAH",null,"MIS NURUL ISLAM LABRUK KIDUL"]
[null,"KEPALA MADRASAH",null,"SAHRONI,S.Pd.I"]
[null,"TEMPAT PELAKSANAAN",null,"Labruk Kidul"]
[null,"TANGGAL PELAKSANAAN",null,"2017-12-04"]
[]
["No.","RUANG","Nomor Peserta","Nama Peserta","Tempat Lahir","Tanggal Lahir","YANG SESUAI AKTE","KET","KELAS","nomor","UJIAN NASIONAL"]
[1,"1A",{"$f":"J9&\"-\"&K9","v":"1-2017-001-8"},"ABDUS SALAM","Lumajang","2010-05-24",{"$f":"F9","v":"2010-05-24"},{"$f":"IF(G9=F9,\"sama\",\"tidak sama\")","v":"sama"},1,{"$f":"I9&\"-\"&TEXT($D$6,(\"yyyy\"))&\"-\"&TEXT(A9,\"#000\")","v":"1-2017-001"},8]
[2,"1A",{"$f":"J10&\"-\"&K10","v":"1-2017-002-7"},"ACHMAD FATIR TRI HARTONO","Lumajang","2010-09-14",{"$f":"F10","v":"2010-09-14"},{"$f":"IF(G10=F10,\"sama\",\"tidak sama\")","v":"sama"},1,{"$f":"I10&\"-\"&TEXT($D$6,(\"yyyy\"))&\"-\"&TEXT(A10,\"#000\")","v":"1-2017-002"},7]
[3,"1A",{"$f":"J11&\"-\"&K11","v":"1-2017-003-6"},"ACHMAD MUFTI LABIB","Lumajang","2010-11-29","2010-11-29","sama",1,{"$f":"I11&\"-\"&TEXT($D$6,(\"yyyy\"))&\"-\"&TEXT(A11,\"#000\")","v":"1-2017-003"},6]
[4,"1A",{"$f":"J12&\"-\"&K12","v":"1-2017-004-5"},"AHMAD NASICH BAIHAQI","Lumajang","2010-07-03","2010-07-03","sama",1,{"$f":"I12&\"-\"&TEXT($D$6,(\"yyyy\"))&\"-\"&TEXT(A12,\"#000\")","v":"1-2017-004"},5]
[5,"1A",{"$f":"J13&\"-\"&K13","v":"1-2017-005-4"},"AHMAD ZAINUR ROZIQIN","Lumajang","2010-10-21","2010-10-21","sama",1,{"$f":"I13&\"-\"&TEXT($D$6,(\"yyyy\"))&\"-\"&TEXT(A13,\"#000\")","v":"1-2017-005"},4]
[6,"1A",{"$f":"J14&\"-\"&K14","v":"1-2017-006-3"},"ALFA JABARZADI ABDUL HAMID","Lumajang","2010-04-08","2010-04-08","sama",1,{"$f":"I14&\"-\"&TEXT($D$6,(\"yyyy\"))&\"-\"&TEXT(A14,\"#000\")","v":"1-2017-006"},3]
[7,"1A",{"$f":"J15&\"-\"&K15","v":"1-2017-007-2"},"ALIFIA PRINCES MAHARANI","Pontianak","2011-02-28","2011-02-28","sama",1,{"$f":"I15&\"-\"&TEXT($D$6,(\"yyyy\"))&\"-\"&TEXT(A15,\"#000\")","v":"1-2017-007"},2]
[8,"1A",{"$f":"J16&\"-\"&K16","v":"1-2017-008-9"},"CANDRA ALFARISI","Lumajang","2011-04-01","2011-04-01","sama",1,{"$f":"I16&\"-\"&TEXT($D$6,(\"yyyy\"))&\"-\"&TEXT(A16,\"#000\")","v":"1-2017-008"},9]
[9,"1A",{"$f":"J17&\"-\"&K17","v":"1-2017-009-8"},"CHEPY ANGGUN FIRDIANI","Lumajang","2010-08-04","2010-08-04","sama",1,{"$f":"I17&\"-\"&TEXT($D$6,(\"yyyy\"))&\"-\"&TEXT(A17,\"#000\")","v":"1-2017-009"},8]
[10,"1A",{"$f":"J18&\"-\"&K18","v":"1-2017-010-7"},"DAVIN JOEVINO VIRDIANSYAH SUSILO","Lumajang","2010-05-05","2010-05-05","sama",1,{"$f":"I18&\"-\"&TEXT($D$6,(\"yyyy\"))&\"-\"&TEXT(A18,\"#000\")","v":"1-2017-010"},7]
[11,"1A",{"$f":"J19&\"-\"&K19","v":"1-2017-011-6"},"ELVINA NOVA WARDANI","Lumajang","2010-11-19","2010-11-19","sama",1,{"$f":"I19&\"-\"&TEXT($D$6,(\"yyyy\"))&\"-\"&TEXT(A19,\"#000\")","v":"1-2017-011"},6]
[12,"1A",{"$f":"J20&\"-\"&K20","v":"1-2017-012-5"},"FATHAH IZDIHAR AMINAH","Lumajang","2010-06-27","2010-06-27","sama",1,{"$f":"I20&\"-\"&TEXT($D$6,(\"yyyy\"))&\"-\"&TEXT(A20,\"#000\")","v":"1-2017-012"},5]
[13,"1A",{"$f":"J21&\"-\"&K21","v":"1-2017-013-4"},"FELISA FAUZIA RAMADHANI","Lumajang","2010-08-16","2010-08-16","sama",1,{"$f":"I21&\"-\"&TEXT($D$6,(\"yyyy\"))&\"-\"&TEXT(A21,\"#000\")","v":"1-2017-013"},4]
[14,"1A",{"$f":"J22&\"-\"&K22","v":"1-2017-014-3"},"GADIS REFALINA","Lumajang","2010-09-15","2010-09-15","sama",1,{"$f":"I22&\"-\"&TEXT($D$6,(\"yyyy\"))&\"-\"&TEXT(A22,\"#000\")","v":"1-2017-014"},3]
[15,"1A",{"$f":"J23&\"-\"&K23","v":"1-2017-015-2"},"IRFAN SAPUTRA","Lumajang","2010-10-22","2010-10-22","sama",1,{"$f":"I23&\"-\"&TEXT($D$6,(\"yyyy\"))&\"-\"&TEXT(A23,\"#000\")","v":"1-2017-015"},2]
[16,"1A",{"$f":"J24&\"-\"&K24","v":"1-2017-016-9"},"KHARISMA EKA RAMADHANI","Lumajang","2010-09-07","2010-09-07","sama",1,{"$f":"I24&\"-\"&TEXT($D$6,(\"yyyy\"))&\"-\"&TEXT(A24,\"#000\")","v":"1-2017-016"},9]
[17,"1A",{"$f":"J25&\"-\"&K25","v":"1-2017-017-8"},"LINTANG AZKA AHMAD","Lumajang","2010-04-19","2010-04-19","sama",1,{"$f":"I25&\"-\"&TEXT($D$6,(\"yyyy\"))&\"-\"&TEXT(A25,\"#000\")","v":"1-2017-017"},8]
[18,"1A",{"$f":"J26&\"-\"&K26","v":"1-2017-018-7"},"MARSAYU ENJEL NATASYA","Lumajang","2010-06-03","2010-06-03","sama",1,{"$f":"I26&\"-\"&TEXT($D$6,(\"yyyy\"))&\"-\"&TEXT(A26,\"#000\")","v":"1-2017-018"},7]
[19,"1A",{"$f":"J27&\"-\"&K27","v":"1-2017-019-6"},"MAULIDYA EKA FEBRIANI","Lumajang","2011-02-16","2011-02-16","sama",1,{"$f":"I27&\"-\"&TEXT($D$6,(\"yyyy\"))&\"-\"&TEXT(A27,\"#000\")","v":"1-2017-019"},6]
[20,"1A",{"$f":"J28&\"-\"&K28","v":"1-2017-020-5"},"MUCHAMMAD FITRA RAFIAN SYACH","Lumajang","2010-09-10","2010-09-10","sama",1,{"$f":"I28&\"-\"&TEXT($D$6,(\"yyyy\"))&\"-\"&TEXT(A28,\"#000\")","v":"1-2017-020"},5]
[21,"1A",{"$f":"J29&\"-\"&K29","v":"1-2017-021-4"},"MUHAMMAD AHZAM BINARQI","Lumajang","2010-06-25","2010-06-25","sama",1,{"$f":"I29&\"-\"&TEXT($D$6,(\"yyyy\"))&\"-\"&TEXT(A29,\"#000\")","v":"1-2017-021"},4]
[22,"1A",{"$f":"J30&\"-\"&K30","v":"1-2017-022-3"},"MUHAMMAD BAYU SYAIFUDDIN SYAH","Lumajang","2011-01-03","2011-01-03","sama",1,{"$f":"I30&\"-\"&TEXT($D$6,(\"yyyy\"))&\"-\"&TEXT(A30,\"#000\")","v":"1-2017-022"},3]
[23,"1A",{"$f":"J31&\"-\"&K31","v":"1-2017-023-2"},"MUHAMMAD DICO ARDIANSYA","Lumajang","2011-01-05","2011-01-05","sama",1,{"$f":"I31&\"-\"&TEXT($D$6,(\"yyyy\"))&\"-\"&TEXT(A31,\"#000\")","v":"1-2017-023"},2]
[24,"1A",{"$f":"J32&\"-\"&K32","v":"1-2017-024-9"},"MUHAMMAD FITRA RAMADHANI","Lumajang","2010-08-24","2010-08-24","sama",1,{"$f":"I32&\"-\"&TEXT($D$6,(\"yyyy\"))&\"-\"&TEXT(A32,\"#000\")","v":"1-2017-024"},9]
[25,"1A",{"$f":"J33&\"-\"&K33","v":"1-2017-025-8"},"MUHAMMAD KHAFIDZ AL FARIZI","Lumajang","2010-06-04","2010-06-04","sama",1,{"$f":"I33&\"-\"&TEXT($D$6,(\"yyyy\"))&\"-\"&TEXT(A33,\"#000\")","v":"1-2017-025"},8]
[26,"1A",{"$f":"J34&\"-\"&K34","v":"1-2017-026-7"},"MUHAMMAD WILDAN UBAIDILLAH","Lumajang","2010-07-07","2010-07-07","sama",1,{"$f":"I34&\"-\"&TEXT($D$6,(\"yyyy\"))&\"-\"&TEXT(A34,\"#000\")","v":"1-2017-026"},7]
[27,"1A",{"$f":"J35&\"-\"&K35","v":"1-2017-027-6"},"MOHAMMAD ZAENAL SEPTIAN PUTRA","Lumajang","2010-09-15","2010-09-15","sama",1,{"$f":"I35&\"-\"&TEXT($D$6,(\"yyyy\"))&\"-\"&TEXT(A35,\"#000\")","v":"1-2017-027"},6]
[28,"1A",{"$f":"J36&\"-\"&K36","v":"1-2017-028-5"},"MUKHAMMAD AZZAM FUADY","Lumajang","2010-10-21","2010-10-21","sama",1,{"$f":"I36&\"-\"&TEXT($D$6,(\"yyyy\"))&\"-\"&TEXT(A36,\"#000\")","v":"1-2017-028"},5]
[29,"1A",{"$f":"J37&\"-\"&K37","v":"1-2017-029-4"},"MUTIA TIANTIKA SARI","Lumajang","2011-03-19","2011-03-19","sama",1,{"$f":"I37&\"-\"&TEXT($D$6,(\"yyyy\"))&\"-\"&TEXT(A37,\"#000\")","v":"1-2017-029"},4]
[30,"1A",{"$f":"J38&\"-\"&K38","v":"1-2017-030-3"},"NABILA EKA WULANDARI","Lumajang","2010-11-12","2010-11-12","sama",1,{"$f":"I38&\"-\"&TEXT($D$6,(\"yyyy\"))&\"-\"&TEXT(A38,\"#000\")","v":"1-2017-030"},3]
[31,"1A",{"$f":"J39&\"-\"&K39","v":"1-2017-031-2"},"NAISYA AVISENA AZ-ZAHRAH","Lumajang","2011-02-22","2011-02-22","sama",1,{"$f":"I39&\"-\"&TEXT($D$6,(\"yyyy\"))&\"-\"&TEXT(A39,\"#000\")","v":"1-2017-031"},2]
[32,"1A",{"$f":"J40&\"-\"&K40","v":"1-2017-032-9"},"SAFFINA IZZA","Yammua","2010-08-30","2010-08-30","sama",1,{"$f":"I40&\"-\"&TEXT($D$6,(\"yyyy\"))&\"-\"&TEXT(A40,\"#000\")","v":"1-2017-032"},9]
[33,"1A",{"$f":"J41&\"-\"&K41","v":"1-2017-033-8"},"TARIKHA ASYFANA","Bulungan","2011-01-09","2011-01-09","sama",1,{"$f":"I41&\"-\"&TEXT($D$6,(\"yyyy\"))&\"-\"&TEXT(A41,\"#000\")","v":"1-2017-033"},8]
[34,null,null,null,null,null,null,"sama",1,{"$f":"I42&\"-\"&TEXT($D$6,(\"yyyy\"))&\"-\"&TEXT(A42,\"#000\")","v":"1-2017-034"},7]
[35,null,null,null,null,null,null,"sama",1,{"$f":"I43&\"-\"&TEXT($D$6,(\"yyyy\"))&\"-\"&TEXT(A43,\"#000\")","v":"1-2017-035"},6]
[36,null,null,null,null,null,null,"sama",1,{"$f":"I44&\"-\"&TEXT($D$6,(\"yyyy\"))&\"-\"&TEXT(A44,\"#000\")","v":"1-2017-036"},5]
[37,null,null,null,null,null,null,"sama",1,{"$f":"I45&\"-\"&TEXT($D$6,(\"yyyy\"))&\"-\"&TEXT(A45,\"#000\")","v":"1-2017-037"},4]
[38,null,null,null,null,null,null,"sama",1,{"$f":"I46&\"-\"&TEXT($D$6,(\"yyyy\"))&\"-\"&TEXT(A46,\"#000\")","v":"1-2017-038"},3]
[39,null,null,null,null,null,null,"sama",1,{"$f":"I47&\"-\"&TEXT($D$6,(\"yyyy\"))&\"-\"&TEXT(A47,\"#000\")","v":"1-2017-039"},2]
[40,null,null,null,null,null,null,"sama",1,{"$f":"I48&\"-\"&TEXT($D$6,(\"yyyy\"))&\"-\"&TEXT(A48,\"#000\")","v":"1-2017-040"},9]
[41,null,null,null,null,null,null,"sama",1,{"$f":"I49&\"-\"&TEXT($D$6,(\"yyyy\"))&\"-\"&TEXT(A49,\"#000\")","v":"1-2017-041"},8]
[42,null,null,null,null,null,null,"sama",1,{"$f":"I50&\"-\"&TEXT($D$6,(\"yyyy\"))&\"-\"&TEXT(A50,\"#000\")","v":"1-2017-042"},7]
[43,null,null,null,null,null,null,"sama",1,{"$f":"I51&\"-\"&TEXT($D$6,(\"yyyy\"))&\"-\"&TEXT(A51,\"#000\")","v":"1-2017-043"},6]
[44,null,null,null,null,null,null,"sama",1,{"$f":"I52&\"-\"&TEXT($D$6,(\"yyyy\"))&\"-\"&TEXT(A52,\"#000\")","v":"1-2017-044"},5]
[45,null,null,null,null,null,null,"sama",1,{"$f":"I53&\"-\"&TEXT($D$6,(\"yyyy\"))&\"-\"&TEXT(A53,\"#000\")","v":"1-2017-045"},4]
[46,null,null,null,null,null,null,"sama",1,{"$f":"I54&\"-\"&TEXT($D$6,(\"yyyy\"))&\"-\"&TEXT(A54,\"#000\")","v":"1-2017-046"},3]
[47,null,null,null,null,null,null,"sama",1,{"$f":"I55&\"-\"&TEXT($D$6,(\"yyyy\"))&\"-\"&TEXT(A55,\"#000\")","v":"1-2017-047"},2]
[48,null,null,null,null,null,null,"sama",1,{"$f":"I56&\"-\"&TEXT($D$6,(\"yyyy\"))&\"-\"&TEXT(A56,\"#000\")","v":"1-2017-048"},9]
[49,null,null,null,null,null,null,"sama",1,{"$f":"I57&\"-\"&TEXT($D$6,(\"yyyy\"))&\"-\"&TEXT(A57,\"#000\")","v":"1-2017-049"},8]
[50,null,null,null,null,null,null,"sama",1,{"$f":"I58&\"-\"&TEXT($D$6,(\"yyyy\"))&\"-\"&TEXT(A58,\"#000\")","v":"1-2017-050"},7]
[51,null,null,null,null,null,null,"sama",1,{"$f":"I59&\"-\"&TEXT($D$6,(\"yyyy\"))&\"-\"&TEXT(A59,\"#000\")","v":"1-2017-051"},6]
[52,null,null,null,null,null,null,"sama",1,{"$f":"I60&\"-\"&TEXT($D$6,(\"yyyy\"))&\"-\"&TEXT(A60,\"#000\")","v":"1-2017-052"},5]
[53,null,null,null,null,null,null,"sama",1,{"$f":"I61&\"-\"&TEXT($D$6,(\"yyyy\"))&\"-\"&TEXT(A61,\"#000\")","v":"1-2017-053"},4]
[54,null,null,null,null,null,null,"sama",1,{"$f":"I62&\"-\"&TEXT($D$6,(\"yyyy\"))&\"-\"&TEXT(A62,\"#000\")","v":"1-2017-054"},3]
[55,null,null,null,null,null,null,"sama",1,{"$f":"I63&\"-\"&TEXT($D$6,(\"yyyy\"))&\"-\"&TEXT(A63,\"#000\")","v":"1-2017-055"},2]
[56,null,null,null,null,null,null,{"$f":"IF(G64=F64,\"sama\",\"tidak sama\")","v":"sama"},1,{"$f":"I64&\"-\"&TEXT($D$6,(\"yyyy\"))&\"-\"&TEXT(A64,\"#000\")","v":"1-2017-056"},9]
[57,null,null,null,null,null,null,"sama",1,{"$f":"I65&\"-\"&TEXT($D$6,(\"yyyy\"))&\"-\"&TEXT(A65,\"#000\")","v":"1-2017-057"},8]
[58,null,null,null,null,null,null,"sama",1,{"$f":"I66&\"-\"&TEXT($D$6,(\"yyyy\"))&\"-\"&TEXT(A66,\"#000\")","v":"1-2017-058"},7]
[59,null,null,null,null,null,null,"sama",1,{"$f":"I67&\"-\"&TEXT($D$6,(\"yyyy\"))&\"-\"&TEXT(A67,\"#000\")","v":"1-2017-059"},6]
[60,null,null,null,null,null,null,"sama",1,{"$f":"I68&\"-\"&TEXT($D$6,(\"yyyy\"))&\"-\"&TEXT(A68,\"#000\")","v":"1-2017-060"},5]
[61,null,null,null,null,null,null,"sama",1,{"$f":"I69&\"-\"&TEXT($D$6,(\"yyyy\"))&\"-\"&TEXT(A69,\"#000\")","v":"1-2017-061"},4]
[62,null,null,null,null,null,null,"sama",1,{"$f":"I70&\"-\"&TEXT($D$6,(\"yyyy\"))&\"-\"&TEXT(A70,\"#000\")","v":"1-2017-062"},3]
[63,null,null,null,null,null,null,"sama",1,{"$f":"I71&\"-\"&TEXT($D$6,(\"yyyy\"))&\"-\"&TEXT(A71,\"#000\")","v":"1-2017-063"},2]
[64,null,null,null,null,null,null,"sama",1,{"$f":"I72&\"-\"&TEXT($D$6,(\"yyyy\"))&\"-\"&TEXT(A72,\"#000\")","v":"1-2017-064"},9]
[65,null,null,null,null,null,null,"sama",1,{"$f":"I73&\"-\"&TEXT($D$6,(\"yyyy\"))&\"-\"&TEXT(A73,\"#000\")","v":"1-2017-065"},8]
[66,null,null,null,null,null,null,"sama",1,{"$f":"I74&\"-\"&TEXT($D$6,(\"yyyy\"))&\"-\"&TEXT(A74,\"#000\")","v":"1-2017-066"},7]
[67,null,null,null,null,null,null,"sama",1,{"$f":"I75&\"-\"&TEXT($D$6,(\"yyyy\"))&\"-\"&TEXT(A75,\"#000\")","v":"1-2017-067"},6]
[68,null,null,null,null,null,null,"sama",1,{"$f":"I76&\"-\"&TEXT($D$6,(\"yyyy\"))&\"-\"&TEXT(A76,\"#000\")","v":"1-2017-068"},5]
[69,null,null,null,null,null,null,"sama",1,{"$f":"I77&\"-\"&TEXT($D$6,(\"yyyy\"))&\"-\"&TEXT(A77,\"#000\")","v":"1-2017-069"},4]

{"sheet":"KARTU PESERTA","index":2,"n_rows":529,"n_cols":15,"rows_kept":529,"cut":false,"hidden":false,"merged":[[10,13,10,15],[27,5,27,7],[27,13,27,15],[44,5,44,7],[44,13,44,15],[78,5,78,7],[78,13,78,15],[61,5,61,7],[61,13,61,15],[520,5,520,6],[520,13,520,14],[521,5,521,6],[521,13,521,14],[525,2,527,2],[525,10,527,10],[524,5,524,7],[524,13,524,15],[516,1,516,5],[516,9,516,13],[517,1,517,5],[517,6,518,6],[517,9,517,13],[517,14,518,14],[518,1,518,5],[518,9,518,13],[503,5,503,6],[503,13,503,14],[504,5,504,6],[504,13,504,14],[508,2,510,2],[508,10,510,10],[507,5,507,7],[507,13,507,15],[499,1,499,5],[499,9,499,13],[500,1,500,5],[500,6,501,6],[500,9,500,13],[500,14,501,14],[501,1,501,5],[501,9,501,13],[486,5,486,6],[486,13,486,14],[487,5,487,6],[487,13,487,14],[491,2,493,2],[491,10,493,10],[490,5,490,7],[490,13,490,15],[482,1,482,5],[482,9,482,13],[483,1,483,5],[483,6,484,6],[483,9,483,13],[483,14,484,14],[484,1,484,5],[484,9,484,13],[469,5,469,6],[469,13,469,14],[470,5,470,6],[470,13,470,14],[474,2,476,2],[474,10,476,10],[473,5,473,7],[473,13,473,15],[465,1,465,5],[465,9,465,13],[466,1,466,5],[466,6,467,6],[466,9,466,13],[466,14,467,14],[467,1,467,5],[467,9,467,13],[452,5,452,6],[452,13,452,14],[453,5,453,6],[453,13,453,14],[457,2,459,2],[457,10,459,10],[456,5,456,7],[456,13,456,15],[448,1,448,5],[448,9,448,13],[449,1,449,5],[449,6,450,6],[449,9,449,13],[449,14,450,14],[450,1,450,5],[450,9,450,13],[431,5,431,6],[431,13,431,14],[432,5,432,6],[432,13,432,14],[436,2,438,2],[436,10,438,10],[435,5,435,7],[435,13,435,15],[427,1,427,5],[427,9,427,13],[428,1,428,5],[428,6,429,6],[428,9,428,13],[428,14,429,14],[429,1,429,5],[429,9,429,13],[414,5,414,6],[414,13,414,14],[415,5,415,6],[415,13,415,14],[419,2,421,2],[419,10,421,10],[418,5,418,7],[418,13,418,15],[410,1,410,5],[410,9,410,13],[411,1,411,5],[411,6,412,6],[411,9,411,13],[411,14,412,14],[412,1,412,5],[412,9,412,13],[397,5,397,6],[397,13,397,14],[398,5,398,6],[398,13,398,14],[402,2,404,2],[402,10,404,10],[401,5,401,7],[401,13,401,15],[393,1,393,5],[393,9,393,13],[394,1,394,5],[394,6,395,6],[394,9,394,13],[394,14,395,14],[395,1,395,5],[395,9,395,13],[380,5,380,6],[380,13,380,14],[381,5,381,6],[381,13,381,14],[385,2,387,2],[385,10,387,10],[384,5,384,7],[384,13,384,15],[376,1,376,5],[376,9,376,13],[377,1,377,5],[377,6,378,6],[377,9,377,13],[377,14,378,14],[378,1,378,5],[378,9,378,13],[363,5,363,6],[363,13,363,14],[364,5,364,6],[364,13,364,14],[368,2,370,2],[368,10,370,10],[367,5,367,7],[367,13,367,15],[359,1,359,5],[359,9,359,13],[360,1,360,5],[360,6,361,6],[360,9,360,13],[360,14,361,14],[361,1,361,5],[361,9,361,13],[342,5,342,6],[342,13,342,14],[343,5,343,6],[343,13,343,14],[347,2,349,2],[347,10,349,10],[346,5,346,7],[346,13,346,15],[338,1,338,5],[338,9,338,13],[339,1,339,5],[339,6,340,6],[339,9,339,13],[339,14,340,14],[340,1,340,5],[340,9,340,13],[325,5,325,6],[325,13,325,14],[326,5,326,6],[326,13,326,14],[330,2,332,2],[330,10,332,10],[329,5,329,7],[329,13,329,15],[321,1,321,5],[321,9,321,13],[322,1,322,5],[322,6,323,6],[322,9,322,13],[322,14,323,14],[323,1,323,5],[323,9,323,13],[308,5,308,6],[308,13,308,14],[309,5,309,6],[309,13,309,14],[313,2,315,2],[313,10,315,10],[312,5,312,7],[312,13,312,15],[304,1,304,5],[304,9,304,13],[305,1,305,5],[305,6,306,6],[305,9,305,13],[305,14,306,14],[306,1,306,5],[306,9,306,13],[291,5,291,6],[291,13,291,14],[292,5,292,6],[292,13,292,14],[296,2,298,2],[296,10,298,10],[295,5,295,7],[295,13,295,15],[287,1,287,5],[287,9,287,13],[288,1,288,5],[288,6,289,6],[288,9,288,13],[288,14,289,14],[289,1,289,5],[289,9,289,13],[274,5,274,6],[274,13,274,14],[275,5,275,6],[275,13,275,14],[279,2,281,2],[279,10,281,10],[278,5,278,7],[278,13,278,15],[270,1,270,5],[270,9,270,13],[271,1,271,5],[271,6,272,6],[271,9,271,13],[271,14,272,14],[272,1,272,5],[272,9,272,13],[252,5,252,6],[252,13,252,14],[253,5,253,6],[253,13,253,14],[257,2,259,2],[257,10,259,10],[256,5,256,7],[256,13,256,15],[248,1,248,5],[248,9,248,13],[249,1,249,5],[249,6,250,6],[249,9,249,13],[249,14,250,14],[250,1,250,5],[250,9,250,13],[235,5,235,6],[235,13,235,14],[236,5,236,6],[236,13,236,14],[240,2,242,2],[240,10,242,10],[239,5,239,7],[239,13,239,15],[231,1,231,5],[231,9,231,13],[232,1,232,5],[232,6,233,6],[232,9,232,13],[232,14,233,14],[233,1,233,5],[233,9,233,13],[218,5,218,6],[218,13,218,14],[219,5,219,6],[219,13,219,14],[223,2,225,2],[223,10,225,10],[222,5,222,7],[222,13,222,15],[214,1,214,5],[214,9,214,13],[215,1,215,5],[215,6,216,6],[215,9,215,13],[215,14,216,14],[216,1,216,5],[216,9,216,13],[201,5,201,6],[201,13,201,14],[202,5,202,6],[202,13,202,14],[206,2,208,2],[206,10,208,10],[205,5,205,7],[205,13,205,15],[197,1,197,5],[197,9,197,13],[198,1,198,5],[198,6,199,6],[198,9,198,13],[198,14,199,14],[199,1,199,5],[199,9,199,13],[184,5,184,6],[184,13,184,14],[185,5,185,6],[185,13,185,14],[189,2,191,2],[189,10,191,10],[180,1,180,5],[180,9,180,13],[181,1,181,5],[181,6,182,6],[181,9,181,13],[181,14,182,14],[182,1,182,5],[182,9,182,13],[163,5,163,6],[163,13,163,14],[164,5,164,6],[164,13,164,14],[168,2,170,2],[168,10,170,10],[167,5,167,7],[167,13,167,15],[159,1,159,5],[159,9,159,13],[160,1,160,5],[160,6,161,6],[160,9,160,13],[160,14,161,14],[161,1,161,5],[161,9,161,13],[146,5,146,6],[146,13,146,14],[147,5,147,6],[147,13,147,14],[151,2,153,2],[151,10,153,10],[150,5,150,7],[150,13,150,15],[142,1,142,5],[142,9,142,13],[143,1,143,5],[143,6,144,6],[143,9,143,13],[143,14,144,14],[144,1,144,5],[144,9,144,13],[129,5,129,6],[129,13,129,14],[130,5,130,6],[130,13,130,14],[134,2,136,2],[134,10,136,10],[133,5,133,7],[133,13,133,15],[125,1,125,5],[125,9,125,13],[126,1,126,5],[126,6,127,6],[126,9,126,13],[126,14,127,14],[127,1,127,5],[127,9,127,13],[112,5,112,6],[112,13,112,14],[113,5,113,6],[113,13,113,14],[117,2,119,2],[117,10,119,10],[108,1,108,5],[108,9,108,13],[109,1,109,5],[109,6,110,6],[109,9,109,13],[109,14,110,14],[110,1,110,5],[110,9,110,13],[95,5,95,6],[95,13,95,14],[96,5,96,6],[96,13,96,14],[100,2,102,2],[100,10,102,10],[99,5,99,7],[99,13,99,15],[91,1,91,5],[91,9,91,13],[92,1,92,5],[92,6,93,6],[92,9,92,13],[92,14,93,14],[93,1,93,5],[93,9,93,13],[74,5,74,6],[74,13,74,14],[75,5,75,6],[75,13,75,14],[79,2,81,2],[79,10,81,10],[70,1,70,5],[70,9,70,13],[71,1,71,5],[71,6,72,6],[71,9,71,13],[71,14,72,14],[72,1,72,5],[72,9,72,13],[57,5,57,6],[57,13,57,14],[58,5,58,6],[58,13,58,14],[62,2,64,2],[62,10,64,10],[53,1,53,5],[53,9,53,13],[54,1,54,5],[54,6,55,6],[54,9,54,13],[54,14,55,14],[55,1,55,5],[55,9,55,13],[40,5,40,6],[40,13,40,14],[41,5,41,6],[41,13,41,14],[45,2,47,2],[45,10,47,10],[36,1,36,5],[36,9,36,13],[37,1,37,5],[37,6,38,6],[37,9,37,13],[37,14,38,14],[38,1,38,5],[38,9,38,13],[23,5,23,6],[23,13,23,14],[24,5,24,6],[24,13,24,14],[28,2,30,2],[28,10,30,10],[19,9,19,13],[20,1,20,5],[20,6,21,6],[20,9,20,13],[20,14,21,14],[21,1,21,5],[21,9,21,13],[2,9,2,13],[3,9,3,13],[4,9,4,13],[11,10,13,10],[3,14,4,14],[6,5,6,6],[7,5,7,6],[6,13,6,14],[7,13,7,14],[10,5,10,7],[11,2,13,2],[2,1,2,5],[3,1,3,5],[4,1,4,5],[3,6,4,6],[19,1,19,5]]}
[]
[]
[null,{"$f":"'DATA KARTU'!$D$1&\" \"&'DATA KARTU'!G1","v":"KARTU TANDA PESERTA USMT1"},null,null,null,null,"RUANG",null,null,{"$f":"'DATA KARTU'!$D$1&\" \"&'DATA KARTU'!G1","v":"KARTU TANDA PESERTA USMT1"},null,null,null,null,"RUANG"]
[null,{"$f":"'DATA KARTU'!$D$2&\" \"&'DATA KARTU'!G2","v":"TAHUN PELAJARAN 2017/2018"},null,null,null,null,{"$f":"'DATA KARTU'!$B9","v":"1A"},null,null,{"$f":"'DATA KARTU'!$D$2&\" \"&'DATA KARTU'!G2","v":"TAHUN PELAJARAN 2017/2018"},null,null,null,null,{"$f":"'DATA KARTU'!$B10","v":"1A"}]
[null,{"$f":"'DATA KARTU'!$D$3","v":"MIS NURUL ISLAM LABRUK KIDUL"},null,null,null,null,null,null,null,{"$f":"'DATA KARTU'!$D$3","v":"MIS NURUL ISLAM LABRUK KIDUL"}]
[]
[null,null,"Nomor Peserta",null,":",{"$f":"'DATA KARTU'!$C9","v":"1-2017-001-8"},null,null,null,null,"Nomor Peserta",null,":",{"$f":"'DATA KARTU'!$C10","v":"1-2017-002-7"}]
[null,null,"Nama Peserta",null,":",{"$f":"'DATA KARTU'!$D9","v":"ABDUS SALAM"},null,null,null,null,"Nama Peserta",null,":",{"$f":"'DATA KARTU'!$D10","v":"ACHMAD FATIR TRI HARTONO"}]
[null,null,"Tempat Tanggal Lahir",null,":",{"$f":"'DATA KARTU'!$E9&\", \"&TEXT('DATA KARTU'!$F9,\"dd mmmm yyyy\")","v":"Lumajang, 24 Mei 2010"},null,null,null,null,"Tempat Tanggal Lahir",null,":",{"$f":"'DATA KARTU'!$E10&\", \"&TEXT('DATA KARTU'!$F10,\"dd mmmm yyyy\")","v":"Lumajang, 14 September 2010"}]
[]
[null,null,null,null,null,{"$f":"'DATA KARTU'!$D$5&\", \"&TEXT('DATA KARTU'!$D$6,\"dd mmmm yyyy\")","v":"Labruk Kidul, 04 Desember 2017"},null,null,null,null,null,null,null,{"$f":"'DATA KARTU'!$D$5&\", \"&TEXT('DATA KARTU'!$D$6,\"dd mmmm yyyy\")","v":"Labruk Kidul, 04 Desember 2017"}]
[null,null,"Pas Photo 3x3",null,null,"Kepala Madrasah",null,null,null,null,"Pas Photo 3x3",null,null,"Kepala Madrasah"]
[]
[]
[null,null,null,null,null,{"$f":"'DATA KARTU'!$D$4","v":"SAHRONI,S.Pd.I"},null,null,null,null,null,null,null,{"$f":"'DATA KARTU'!$D$4","v":"SAHRONI,S.Pd.I"}]
[]
[]
[]
[]
[null,{"$f":"'DATA KARTU'!$D$1&\" \"&'DATA KARTU'!G1","v":"KARTU TANDA PESERTA USMT1"},null,null,null,null,"RUANG",null,null,{"$f":"'DATA KARTU'!$D$1&\" \"&'DATA KARTU'!G1","v":"KARTU TANDA PESERTA USMT1"},null,null,null,null,"RUANG"]
[null,{"$f":"'DATA KARTU'!$D$2&\" \"&'DATA KARTU'!G2","v":"TAHUN PELAJARAN 2017/2018"},null,null,null,null,{"$f":"'DATA KARTU'!$B11","v":"1A"},null,null,{"$f":"'DATA KARTU'!$D$2&\" \"&'DATA KARTU'!G2","v":"TAHUN PELAJARAN 2017/2018"},null,null,null,null,{"$f":"'DATA KARTU'!$B12","v":"1A"}]
[null,{"$f":"'DATA KARTU'!$D$3","v":"MIS NURUL ISLAM LABRUK KIDUL"},null,null,null,null,null,null,null,{"$f":"'DATA KARTU'!$D$3","v":"MIS NURUL ISLAM LABRUK KIDUL"}]
[]
[null,null,"Nomor Peserta",null,":",{"$f":"'DATA KARTU'!$C11","v":"1-2017-003-6"},null,null,null,null,"Nomor Peserta",null,":",{"$f":"'DATA KARTU'!$C12","v":"1-2017-004-5"}]
[null,null,"Nama Peserta",null,":",{"$f":"'DATA KARTU'!$D11","v":"ACHMAD MUFTI LABIB"},null,null,null,null,"Nama Peserta",null,":",{"$f":"'DATA KARTU'!$D12","v":"AHMAD NASICH BAIHAQI"}]
[null,null,"Tempat Tanggal Lahir",null,":",{"$f":"'DATA KARTU'!$E11&\", \"&TEXT('DATA KARTU'!$F11,\"dd mmmm yyyy\")","v":"Lumajang, 29 November 2010"},null,null,null,null,"Tempat Tanggal Lahir",null,":",{"$f":"'DATA KARTU'!$E12&\", \"&TEXT('DATA KARTU'!$F12,\"dd mmmm yyyy\")","v":"Lumajang, 03 Juli 2010"}]
[]
[null,null,null,null,null,{"$f":"'DATA KARTU'!$D$5&\", \"&TEXT('DATA KARTU'!$D$6,\"dd mmmm yyyy\")","v":"Labruk Kidul, 04 Desember 2017"},null,null,null,null,null,null,null,{"$f":"'DATA KARTU'!$D$5&\", \"&TEXT('DATA KARTU'!$D$6,\"dd mmmm yyyy\")","v":"Labruk Kidul, 04 Desember 2017"}]
[null,null,"Pas Photo 3x3",null,null,"Kepala Madrasah",null,null,null,null,"Pas Photo 3x3",null,null,"Kepala Madrasah"]
[]
[]
[null,null,null,null,null,{"$f":"'DATA KARTU'!$D$4","v":"SAHRONI,S.Pd.I"},null,null,null,null,null,null,null,{"$f":"'DATA KARTU'!$D$4","v":"SAHRONI,S.Pd.I"}]
[]
[]
[]
[]
[null,{"$f":"'DATA KARTU'!$D$1&\" \"&'DATA KARTU'!G1","v":"KARTU TANDA PESERTA USMT1"},null,null,null,null,"RUANG",null,null,{"$f":"'DATA KARTU'!$D$1&\" \"&'DATA KARTU'!G1","v":"KARTU TANDA PESERTA USMT1"},null,null,null,null,"RUANG"]
[null,{"$f":"'DATA KARTU'!$D$2&\" \"&'DATA KARTU'!G2","v":"TAHUN PELAJARAN 2017/2018"},null,null,null,null,{"$f":"'DATA KARTU'!$B13","v":"1A"},null,null,{"$f":"'DATA KARTU'!$D$2&\" \"&'DATA KARTU'!G2","v":"TAHUN PELAJARAN 2017/2018"},null,null,null,null,{"$f":"'DATA KARTU'!$B14","v":"1A"}]
[null,{"$f":"'DATA KARTU'!$D$3","v":"MIS NURUL ISLAM LABRUK KIDUL"},null,null,null,null,null,null,null,{"$f":"'DATA KARTU'!$D$3","v":"MIS NURUL ISLAM LABRUK KIDUL"}]
[]
[null,null,"Nomor Peserta",null,":",{"$f":"'DATA KARTU'!$C13","v":"1-2017-005-4"},null,null,null,null,"Nomor Peserta",null,":",{"$f":"'DATA KARTU'!$C14","v":"1-2017-006-3"}]
[null,null,"Nama Peserta",null,":",{"$f":"'DATA KARTU'!$D13","v":"AHMAD ZAINUR ROZIQIN"},null,null,null,null,"Nama Peserta",null,":",{"$f":"'DATA KARTU'!$D14","v":"ALFA JABARZADI ABDUL HAMID"}]
[null,null,"Tempat Tanggal Lahir",null,":",{"$f":"'DATA KARTU'!$E13&\", \"&TEXT('DATA KARTU'!$F13,\"dd mmmm yyyy\")","v":"Lumajang, 21 Oktober 2010"},null,null,null,null,"Tempat Tanggal Lahir",null,":",{"$f":"'DATA KARTU'!$E14&\", \"&TEXT('DATA KARTU'!$F14,\"dd mmmm yyyy\")","v":"Lumajang, 08 April 2010"}]
[]
[null,null,null,null,null,{"$f":"'DATA KARTU'!$D$5&\", \"&TEXT('DATA KARTU'!$D$6,\"dd mmmm yyyy\")","v":"Labruk Kidul, 04 Desember 2017"},null,null,null,null,null,null,null,{"$f":"'DATA KARTU'!$D$5&\", \"&TEXT('DATA KARTU'!$D$6,\"dd mmmm yyyy\")","v":"Labruk Kidul, 04 Desember 2017"}]
[null,null,"Pas Photo 3x3",null,null,"Kepala Madrasah",null,null,null,null,"Pas Photo 3x3",null,null,"Kepala Madrasah"]
[]
[]
[null,null,null,null,null,{"$f":"'DATA KARTU'!$D$4","v":"SAHRONI,S.Pd.I"},null,null,null,null,null,null,null,{"$f":"'DATA KARTU'!$D$4","v":"SAHRONI,S.Pd.I"}]
[]
[]
[]
[]
[null,{"$f":"'DATA KARTU'!$D$1&\" \"&'DATA KARTU'!G1","v":"KARTU TANDA PESERTA USMT1"},null,null,null,null,"RUANG",null,null,{"$f":"'DATA KARTU'!$D$1&\" \"&'DATA KARTU'!G1","v":"KARTU TANDA PESERTA USMT1"},null,null,null,null,"RUANG"]
[null,{"$f":"'DATA KARTU'!$D$2&\" \"&'DATA KARTU'!G2","v":"TAHUN PELAJARAN 2017/2018"},null,null,null,null,{"$f":"'DATA KARTU'!$B15","v":"1A"},null,null,{"$f":"'DATA KARTU'!$D$2&\" \"&'DATA KARTU'!G2","v":"TAHUN PELAJARAN 2017/2018"},null,null,null,null,{"$f":"'DATA KARTU'!$B16","v":"1A"}]
[null,{"$f":"'DATA KARTU'!$D$3","v":"MIS NURUL ISLAM LABRUK KIDUL"},null,null,null,null,null,null,null,{"$f":"'DATA KARTU'!$D$3","v":"MIS NURUL ISLAM LABRUK KIDUL"}]
[]
[null,null,"Nomor Peserta",null,":",{"$f":"'DATA KARTU'!$C15","v":"1-2017-007-2"},null,null,null,null,"Nomor Peserta",null,":",{"$f":"'DATA KARTU'!$C16","v":"1-2017-008-9"}]
[null,null,"Nama Peserta",null,":",{"$f":"'DATA KARTU'!$D15","v":"ALIFIA PRINCES MAHARANI"},null,null,null,null,"Nama Peserta",null,":",{"$f":"'DATA KARTU'!$D16","v":"CANDRA ALFARISI"}]
[null,null,"Tempat Tanggal Lahir",null,":",{"$f":"'DATA KARTU'!$E15&\", \"&TEXT('DATA KARTU'!$F15,\"dd mmmm yyyy\")","v":"Pontianak, 28 Februari 2011"},null,null,null,null,"Tempat Tanggal Lahir",null,":",{"$f":"'DATA KARTU'!$E16&\", \"&TEXT('DATA KARTU'!$F16,\"dd mmmm yyyy\")","v":"Lumajang, 01 April 2011"}]
[]
[null,null,null,null,null,{"$f":"'DATA KARTU'!$D$5&\", \"&TEXT('DATA KARTU'!$D$6,\"dd mmmm yyyy\")","v":"Labruk Kidul, 04 Desember 2017"},null,null,null,null,null,null,null,{"$f":"'DATA KARTU'!$D$5&\", \"&TEXT('DATA KARTU'!$D$6,\"dd mmmm yyyy\")","v":"Labruk Kidul, 04 Desember 2017"}]
[null,null,"Pas Photo 3x3",null,null,"Kepala Madrasah",null,null,null,null,"Pas Photo 3x3",null,null,"Kepala Madrasah"]
[]
[]
[null,null,null,null,null,{"$f":"'DATA KARTU'!$D$4","v":"SAHRONI,S.Pd.I"},null,null,null,null,null,null,null,{"$f":"'DATA KARTU'!$D$4","v":"SAHRONI,S.Pd.I"}]
[]
[]
[]
[]
[null,{"$f":"'DATA KARTU'!$D$1&\" \"&'DATA KARTU'!G1","v":"KARTU TANDA PESERTA USMT1"},null,null,null,null,"RUANG",null,null,{"$f":"'DATA KARTU'!$D$1&\" \"&'DATA KARTU'!G1","v":"KARTU TANDA PESERTA USMT1"},null,null,null,null,"RUANG"]
[null,{"$f":"'DATA KARTU'!$D$2&\" \"&'DATA KARTU'!G2","v":"TAHUN PELAJARAN 2017/2018"},null,null,null,null,{"$f":"'DATA KARTU'!$B17","v":"1A"},null,null,{"$f":"'DATA KARTU'!$D$2&\" \"&'DATA KARTU'!G2","v":"TAHUN PELAJARAN 2017/2018"},null,null,null,null,{"$f":"'DATA KARTU'!$B18","v":"1A"}]
[null,{"$f":"'DATA KARTU'!$D$3","v":"MIS NURUL ISLAM LABRUK KIDUL"},null,null,null,null,null,null,null,{"$f":"'DATA KARTU'!$D$3","v":"MIS NURUL ISLAM LABRUK KIDUL"}]
[]
[null,null,"Nomor Peserta",null,":",{"$f":"'DATA KARTU'!$C17","v":"1-2017-009-8"},null,null,null,null,"Nomor Peserta",null,":",{"$f":"'DATA KARTU'!$C18","v":"1-2017-010-7"}]
[null,null,"Nama Peserta",null,":",{"$f":"'DATA KARTU'!$D17","v":"CHEPY ANGGUN FIRDIANI"},null,null,null,null,"Nama Peserta",null,":",{"$f":"'DATA KARTU'!$D18","v":"DAVIN JOEVINO VIRDIANSYAH SUSILO"}]
[null,null,"Tempat Tanggal Lahir",null,":",{"$f":"'DATA KARTU'!$E17&\", \"&TEXT('DATA KARTU'!$F17,\"dd mmmm yyyy\")","v":"Lumajang, 04 Agustus 2010"},null,null,null,null,"Tempat Tanggal Lahir",null,":",{"$f":"'DATA KARTU'!$E18&\", \"&TEXT('DATA KARTU'!$F18,\"dd mmmm yyyy\")","v":"Lumajang, 05 Mei 2010"}]
[]
[null,null,null,null,null,{"$f":"'DATA KARTU'!$D$5&\", \"&TEXT('DATA KARTU'!$D$6,\"dd mmmm yyyy\")","v":"Labruk Kidul, 04 Desember 2017"},null,null,null,null,null,null,null,{"$f":"'DATA KARTU'!$D$5&\", \"&TEXT('DATA KARTU'!$D$6,\"dd mmmm yyyy\")","v":"Labruk Kidul, 04 Desember 2017"}]
[null,null,"Pas Photo 3x3",null,null,"Kepala Madrasah",null,null,null,null,"Pas Photo 3x3",null,null,"Kepala Madrasah"]
[]
[]
[null,null,null,null,null,{"$f":"'DATA KARTU'!$D$4","v":"SAHRONI,S.Pd.I"},null,null,null,null,null,null,null,{"$f":"'DATA KARTU'!$D$4","v":"SAHRONI,S.Pd.I"}]
[]
[]
[]
[]
[]
[]
[]
[]
[null,{"$f":"'DATA KARTU'!$D$1&\" \"&'DATA KARTU'!G1","v":"KARTU TANDA PESERTA USMT1"},null,null,null,null,"RUANG",null,null,{"$f":"'DATA KARTU'!$D$1&\" \"&'DATA KARTU'!G1","v":"KARTU TANDA PESERTA USMT1"},null,null,null,null,"RUANG"]
[null,{"$f":"'DATA KARTU'!$D$2&\" \"&'DATA KARTU'!G2","v":"TAHUN PELAJARAN 2017/2018"},null,null,null,null,{"$f":"'DATA KARTU'!$B19","v":"1A"},null,null,{"$f":"'DATA KARTU'!$D$2&\" \"&'DATA KARTU'!G2","v":"TAHUN PELAJARAN 2017/2018"},null,null,null,null,{"$f":"'DATA KARTU'!$B20","v":"1A"}]
[null,{"$f":"'DATA KARTU'!$D$3","v":"MIS NURUL ISLAM LABRUK KIDUL"},null,null,null,null,null,null,null,{"$f":"'DATA KARTU'!$D$3","v":"MIS NURUL ISLAM LABRUK KIDUL"}]
[]
[null,null,"Nomor Peserta",null,":",{"$f":"'DATA KARTU'!$C19","v":"1-2017-011-6"},null,null,null,null,"Nomor Peserta",null,":",{"$f":"'DATA KARTU'!$C20","v":"1-2017-012-5"}]
[null,null,"Nama Peserta",null,":",{"$f":"'DATA KARTU'!$D19","v":"ELVINA NOVA WARDANI"},null,null,null,null,"Nama Peserta",null,":",{"$f":"'DATA KARTU'!$D20","v":"FATHAH IZDIHAR AMINAH"}]
[null,null,"Tempat Tanggal Lahir",null,":",{"$f":"'DATA KARTU'!$E19&\", \"&TEXT('DATA KARTU'!$F19,\"dd mmmm yyyy\")","v":"Lumajang, 19 November 2010"},null,null,null,null,"Tempat Tanggal Lahir",null,":",{"$f":"'DATA KARTU'!$E20&\", \"&TEXT('DATA KARTU'!$F20,\"dd mmmm yyyy\")","v":"Lumajang, 27 Juni 2010"}]
[]
[null,null,null,null,null,{"$f":"'DATA KARTU'!$D$5&\", \"&TEXT('DATA KARTU'!$D$6,\"dd mmmm yyyy\")","v":"Labruk Kidul, 04 Desember 2017"},null,null,null,null,null,null,null,{"$f":"'DATA KARTU'!$D$5&\", \"&TEXT('DATA KARTU'!$D$6,\"dd mmmm yyyy\")","v":"Labruk Kidul, 04 Desember 2017"}]
[null,null,"Pas Photo 3x3",null,null,"Kepala Madrasah",null,null,null,null,"Pas Photo 3x3",null,null,"Kepala Madrasah"]
[]
[]
[null,null,null,null,null,{"$f":"'DATA KARTU'!$D$4","v":"SAHRONI,S.Pd.I"},null,null,null,null,null,null,null,{"$f":"'DATA KARTU'!$D$4","v":"SAHRONI,S.Pd.I"}]
[]
[]
[]
[]
[null,{"$f":"'DATA KARTU'!$D$1&\" \"&'DATA KARTU'!G1","v":"KARTU TANDA PESERTA USMT1"},null,null,null,null,"RUANG",null,null,{"$f":"'DATA KARTU'!$D$1&\" \"&'DATA KARTU'!G1","v":"KARTU TANDA PESERTA USMT1"},null,null,null,null,"RUANG"]
[null,{"$f":"'DATA KARTU'!$D$2&\" \"&'DATA KARTU'!G2","v":"TAHUN PELAJARAN 2017/2018"},null,null,null,null,{"$f":"'DATA KARTU'!$B21","v":"1A"},null,null,{"$f":"'DATA KARTU'!$D$2&\" \"&'DATA KARTU'!G2","v":"TAHUN PELAJARAN 2017/2018"},null,null,null,null,{"$f":"'DATA KARTU'!$B22","v":"1A"}]
[null,{"$f":"'DATA KARTU'!$D$3","v":"MIS NURUL ISLAM LABRUK KIDUL"},null,null,null,null,null,null,null,{"$f":"'DATA KARTU'!$D$3","v":"MIS NURUL ISLAM LABRUK KIDUL"}]
[]
[null,null,"Nomor Peserta",null,":",{"$f":"'DATA KARTU'!$C21","v":"1-2017-013-4"},null,null,null,null,"Nomor Peserta",null,":",{"$f":"'DATA KARTU'!$C22","v":"1-2017-014-3"}]
[null,null,"Nama Peserta",null,":",{"$f":"'DATA KARTU'!$D21","v":"FELISA FAUZIA RAMADHANI"},null,null,null,null,"Nama Peserta",null,":",{"$f":"'DATA KARTU'!$D22","v":"GADIS REFALINA"}]
[null,null,"Tempat Tanggal Lahir",null,":",{"$f":"'DATA KARTU'!$E21&\", \"&TEXT('DATA KARTU'!$F21,\"dd mmmm yyyy\")","v":"Lumajang, 16 Agustus 2010"},null,null,null,null,"Tempat Tanggal Lahir",null,":",{"$f":"'DATA KARTU'!$E22&\", \"&TEXT('DATA KARTU'!$F22,\"dd mmmm yyyy\")","v":"Lumajang, 15 September 2010"}]
[]
[null,null,null,null,null,{"$f":"'DATA KARTU'!$D$5&\",\"","v":"Labruk Kidul,"},{"$f":"'DATA KARTU'!$D$6","v":"2017-12-04"},null,null,null,null,null,null,{"$f":"'DATA KARTU'!$D$5&\",\"","v":"Labruk Kidul,"},{"$f":"'DATA KARTU'!$D$6","v":"2017-12-04"}]
[null,null,"Pas Photo 3x3",null,null,"Kepala Madrasah",null,null,null,null,"Pas Photo 3x3",null,null,"Kepala Madrasah"]
[]
[]
[null,null,null,null,null,{"$f":"'DATA KARTU'!$D$4","v":"SAHRONI,S.Pd.I"},null,null,null,null,null,null,null,{"$f":"'DATA KARTU'!$D$4","v":"SAHRONI,S.Pd.I"}]
[]
[]
[]
[]
[null,{"$f":"'DATA KARTU'!$D$1&\" \"&'DATA KARTU'!G1","v":"KARTU TANDA PESERTA USMT1"},null,null,null,null,"RUANG",null,null,{"$f":"'DATA KARTU'!$D$1","v":"KARTU TANDA PESERTA"},null,null,null,null,"RUANG"]
[null,{"$f":"'DATA KARTU'!$D$2&\" \"&'DATA KARTU'!G2","v":"TAHUN PELAJARAN 2017/2018"},null,null,null,null,{"$f":"'DATA KARTU'!$B23","v":"1A"},null,null,{"$f":"'DATA KARTU'!$D$2&\" \"&'DATA KARTU'!G2","v":"TAHUN PELAJARAN 2017/2018"},null,null,null,null,{"$f":"'DATA KARTU'!$B24","v":"1A"}]
[null,{"$f":"'DATA KARTU'!$D$3","v":"MIS NURUL ISLAM LABRUK KIDUL"},null,null,null,null,null,null,null,{"$f":"'DATA KARTU'!$D$3","v":"MIS NURUL ISLAM LABRUK KIDUL"}]
[]
[null,null,"Nomor Peserta",null,":",{"$f":"'DATA KARTU'!$C23","v":"1-2017-015-2"},null,null,null,null,"Nomor Peserta",null,":",{"$f":"'DATA KARTU'!$C24","v":"1-2017-016-9"}]
[null,null,"Nama Peserta",null,":",{"$f":"'DATA KARTU'!$D23","v":"IRFAN SAPUTRA"},null,null,null,null,"Nama Peserta",null,":",{"$f":"'DATA KARTU'!$D24","v":"KHARISMA EKA RAMADHANI"}]
[null,null,"Tempat Tanggal Lahir",null,":",{"$f":"'DATA KARTU'!$E23&\", \"&TEXT('DATA KARTU'!$F23,\"dd mmmm yyyy\")","v":"Lumajang, 22 Oktober 2010"},null,null,null,null,"Tempat Tanggal Lahir",null,":",{"$f":"'DATA KARTU'!$E24&\", \"&TEXT('DATA KARTU'!$F24,\"dd mmmm yyyy\")","v":"Lumajang, 07 September 2010"}]
[]
[null,null,null,null,null,{"$f":"'DATA KARTU'!$D$5&\", \"&TEXT('DATA KARTU'!$D$6,\"dd mmmm yyyy\")","v":"Labruk Kidul, 04 Desember 2017"},null,null,null,null,null,null,null,{"$f":"'DATA KARTU'!$D$5&\", \"&TEXT('DATA KARTU'!$D$6,\"dd mmmm yyyy\")","v":"Labruk Kidul, 04 Desember 2017"}]
[null,null,"Pas Photo 3x3",null,null,"Kepala Madrasah",null,null,null,null,"Pas Photo 3x3",null,null,"Kepala Madrasah"]
[]
[]
[null,null,null,null,null,{"$f":"'DATA KARTU'!$D$4","v":"SAHRONI,S.Pd.I"},null,null,null,null,null,null,null,{"$f":"'DATA KARTU'!$D$4","v":"SAHRONI,S.Pd.I"}]
[]
[]
[]
[]
[null,{"$f":"'DATA KARTU'!$D$1&\" \"&'DATA KARTU'!G1","v":"KARTU TANDA PESERTA USMT1"},null,null,null,null,"RUANG",null,null,{"$f":"'DATA KARTU'!$D$1&\" \"&'DATA KARTU'!G1","v":"KARTU TANDA PESERTA USMT1"},null,null,null,null,"RUANG"]
[null,{"$f":"'DATA KARTU'!$D$2&\" \"&'DATA KARTU'!G2","v":"TAHUN PELAJARAN 2017/2018"},null,null,null,null,{"$f":"'DATA KARTU'!$B25","v":"1A"},null,null,{"$f":"'DATA KARTU'!$D$2&\" \"&'DATA KARTU'!G2","v":"TAHUN PELAJARAN 2017/2018"},null,null,null,null,{"$f":"'DATA KARTU'!$B26","v":"1A"}]
[null,{"$f":"'DATA KARTU'!$D$3","v":"MIS NURUL ISLAM LABRUK KIDUL"},null,null,null,null,null,null,null,{"$f":"'DATA KARTU'!$D$3","v":"MIS NURUL ISLAM LABRUK KIDUL"}]
[]
[null,null,"Nomor Peserta",null,":",{"$f":"'DATA KARTU'!$C25","v":"1-2017-017-8"},null,null,null,null,"Nomor Peserta",null,":",{"$f":"'DATA KARTU'!$C26","v":"1-2017-018-7"}]
[null,null,"Nama Peserta",null,":",{"$f":"'DATA KARTU'!$D25","v":"LINTANG AZKA AHMAD"},null,null,null,null,"Nama Peserta",null,":",{"$f":"'DATA KARTU'!$D26","v":"MARSAYU ENJEL NATASYA"}]
[null,null,"Tempat Tanggal Lahir",null,":",{"$f":"'DATA KARTU'!$E25&\", \"&TEXT('DATA KARTU'!$F25,\"dd mmmm yyyy\")","v":"Lumajang, 19 April 2010"},null,null,null,null,"Tempat Tanggal Lahir",null,":",{"$f":"'DATA KARTU'!$E26&\", \"&TEXT('DATA KARTU'!$F26,\"dd mmmm yyyy\")","v":"Lumajang, 03 Juni 2010"}]
[]
[null,null,null,null,null,{"$f":"'DATA KARTU'!$D$5&\", \"&TEXT('DATA KARTU'!$D$6,\"dd mmmm yyyy\")","v":"Labruk Kidul, 04 Desember 2017"},null,null,null,null,null,null,null,{"$f":"'DATA KARTU'!$D$5&\", \"&TEXT('DATA KARTU'!$D$6,\"dd mmmm yyyy\")","v":"Labruk Kidul, 04 Desember 2017"}]
[null,null,"Pas Photo 3x3",null,null,"Kepala Madrasah",null,null,null,null,"Pas Photo 3x3",null,null,"Kepala Madrasah"]
[]
[]
[null,null,null,null,null,{"$f":"'DATA KARTU'!$D$4","v":"SAHRONI,S.Pd.I"},null,null,null,null,null,null,null,{"$f":"'DATA KARTU'!$D$4","v":"SAHRONI,S.Pd.I"}]
[]
[]
[]
[]
[null,{"$f":"'DATA KARTU'!$D$1&\" \"&'DATA KARTU'!G1","v":"KARTU TANDA PESERTA USMT1"},null,null,null,null,"RUANG",null,null,{"$f":"'DATA KARTU'!$D$1&\" \"&'DATA KARTU'!G1","v":"KARTU TANDA PESERTA USMT1"},null,null,null,null,"RUANG"]
[null,{"$f":"'DATA KARTU'!$D$2&\" \"&'DATA KARTU'!G2","v":"TAHUN PELAJARAN 2017/2018"},null,null,null,null,{"$f":"'DATA KARTU'!$B$27","v":"1A"},null,null,{"$f":"'DATA KARTU'!$D$2&\" \"&'DATA KARTU'!G2","v":"TAHUN PELAJARAN 2017/2018"},null,null,null,null,{"$f":"'DATA KARTU'!$B$28","v":"1A"}]
[null,{"$f":"'DATA KARTU'!$D$3","v":"MIS NURUL ISLAM LABRUK KIDUL"},null,null,null,null,null,null,null,{"$f":"'DATA KARTU'!$D$3","v":"MIS NURUL ISLAM LABRUK KIDUL"}]
[]
[null,null,"Nomor Peserta",null,":",{"$f":"'DATA KARTU'!$C27","v":"1-2017-019-6"},null,null,null,null,"Nomor Peserta",null,":",{"$f":"'DATA KARTU'!$C28","v":"1-2017-020-5"}]
[null,null,"Nama Peserta",null,":",{"$f":"'DATA KARTU'!$D27","v":"MAULIDYA EKA FEBRIANI"},null,null,null,null,"Nama Peserta",null,":",{"$f":"'DATA KARTU'!$D28","v":"MUCHAMMAD FITRA RAFIAN SYACH"}]
[null,null,"Tempat Tanggal Lahir",null,":",{"$f":"'DATA KARTU'!$E27&\", \"&TEXT('DATA KARTU'!$F27,\"dd mmmm yyyy\")","v":"Lumajang, 16 Februari 2011"},null,null,null,null,"Tempat Tanggal Lahir",null,":",{"$f":"'DATA KARTU'!$E28&\", \"&TEXT('DATA KARTU'!$F28,\"dd mmmm yyyy\")","v":"Lumajang, 10 September 2010"}]
[]
[null,null,null,null,null,{"$f":"'DATA KARTU'!$D$5&\", \"&TEXT('DATA KARTU'!$D$6,\"dd mmmm yyyy\")","v":"Labruk Kidul, 04 Desember 2017"},null,null,null,null,null,null,null,{"$f":"'DATA KARTU'!$D$5&\", \"&TEXT('DATA KARTU'!$D$6,\"dd mmmm yyyy\")","v":"Labruk Kidul, 04 Desember 2017"}]
[null,null,"Pas Photo 3x3",null,null,"Kepala Madrasah",null,null,null,null,"Pas Photo 3x3",null,null,"Kepala Madrasah"]
[]
[]
[null,null,null,null,null,{"$f":"'DATA KARTU'!$D$4","v":"SAHRONI,S.Pd.I"},null,null,null,null,null,null,null,{"$f":"'DATA KARTU'!$D$4","v":"SAHRONI,S.Pd.I"}]
[]
[]
[]
[]
[]
[]
[]
[]
[null,{"$f":"'DATA KARTU'!$D$1&\" \"&'DATA KARTU'!G1","v":"KARTU TANDA PESERTA USMT1"},null,null,null,null,"RUANG",null,null,{"$f":"'DATA KARTU'!$D$1&\" \"&'DATA KARTU'!G1","v":"KARTU TANDA PESERTA USMT1"},null,null,null,null,"RUANG"]
[null,{"$f":"'DATA KARTU'!$D$2&\" \"&'DATA KARTU'!G2","v":"TAHUN PELAJARAN 2017/2018"},null,null,null,null,{"$f":"'DATA KARTU'!$B$29","v":"1A"},null,null,{"$f":"'DATA KARTU'!$D$2&\" \"&'DATA KARTU'!G2","v":"TAHUN PELAJARAN 2017/2018"},null,null,null,null,{"$f":"'DATA KARTU'!$B30","v":"1A"}]
[null,{"$f":"'DATA KARTU'!$D$3","v":"MIS NURUL ISLAM LABRUK KIDUL"},null,null,null,null,null,null,null,{"$f":"'DATA KARTU'!$D$3","v":"MIS NURUL ISLAM LABRUK KIDUL"}]
[]
[null,null,"Nomor Peserta",null,":",{"$f":"'DATA KARTU'!$C29","v":"1-2017-021-4"},null,null,null,null,"Nomor Peserta",null,":",{"$f":"'DATA KARTU'!$C30","v":"1-2017-022-3"}]
[null,null,"Nama Peserta",null,":",{"$f":"'DATA KARTU'!$D29","v":"MUHAMMAD AHZAM BINARQI"},null,null,null,null,"Nama Peserta",null,":",{"$f":"'DATA KARTU'!$D30","v":"MUHAMMAD BAYU SYAIFUDDIN SYAH"}]
[null,null,"Tempat Tanggal Lahir",null,":",{"$f":"'DATA KARTU'!$E29&\", \"&TEXT('DATA KARTU'!$F29,\"dd mmmm yyyy\")","v":"Lumajang, 25 Juni 2010"},null,null,null,null,"Tempat Tanggal Lahir",null,":",{"$f":"'DATA KARTU'!$E30&\", \"&TEXT('DATA KARTU'!$F30,\"dd mmmm yyyy\")","v":"Lumajang, 03 Januari 2011"}]
[]
[null,null,null,null,null,{"$f":"'DATA KARTU'!$D$5&\",\"","v":"Labruk Kidul,"},{"$f":"'DATA KARTU'!$D$6","v":"2017-12-04"},null,null,null,null,null,null,{"$f":"'DATA KARTU'!$D$5&\",\"","v":"Labruk Kidul,"},{"$f":"'DATA KARTU'!$D$6","v":"2017-12-04"}]
[null,null,"Pas Photo 3x3",null,null,"Kepala Madrasah",null,null,null,null,"Pas Photo 3x3",null,null,"Kepala Madrasah"]
[]
[]
[null,null,null,null,null,{"$f":"'DATA KARTU'!$D$4","v":"SAHRONI,S.Pd.I"},null,null,null,null,null,null,null,{"$f":"'DATA KARTU'!$D$4","v":"SAHRONI,S.Pd.I"}]
[]
[]
[]
[]
[null,{"$f":"'DATA KARTU'!$D$1&\" \"&'DATA KARTU'!G1","v":"KARTU TANDA PESERTA USMT1"},null,null,null,null,"RUANG",null,null,{"$f":"'DATA KARTU'!$D$1&\" \"&'DATA KARTU'!G1","v":"KARTU TANDA PESERTA USMT1"},null,null,null,null,"RUANG"]
[null,{"$f":"'DATA KARTU'!$D$2&\" \"&'DATA KARTU'!G2","v":"TAHUN PELAJARAN 2017/2018"},null,null,null,null,{"$f":"'DATA KARTU'!$B31","v":"1A"},null,null,{"$f":"'DATA KARTU'!$D$2&\" \"&'DATA KARTU'!G2","v":"TAHUN PELAJARAN 2017/2018"},null,null,null,null,{"$f":"'DATA KARTU'!$B32","v":"1A"}]
[null,{"$f":"'DATA KARTU'!$D$3","v":"MIS NURUL ISLAM LABRUK KIDUL"},null,null,null,null,null,null,null,{"$f":"'DATA KARTU'!$D$3","v":"MIS NURUL ISLAM LABRUK KIDUL"}]
[]
[null,null,"Nomor Peserta",null,":",{"$f":"'DATA KARTU'!$C31","v":"1-2017-023-2"},null,null,null,null,"Nomor Peserta",null,":",{"$f":"'DATA KARTU'!$C32","v":"1-2017-024-9"}]
[null,null,"Nama Peserta",null,":",{"$f":"'DATA KARTU'!$D31","v":"MUHAMMAD DICO ARDIANSYA"},null,null,null,null,"Nama Peserta",null,":",{"$f":"'DATA KARTU'!$D32","v":"MUHAMMAD FITRA RAMADHANI"}]
[null,null,"Tempat Tanggal Lahir",null,":",{"$f":"'DATA KARTU'!$E31&\", \"&TEXT('DATA KARTU'!$F31,\"dd mmmm yyyy\")","v":"Lumajang, 05 Januari 2011"},null,null,null,null,"Tempat Tanggal Lahir",null,":",{"$f":"'DATA KARTU'!$E32&\", \"&TEXT('DATA KARTU'!$F32,\"dd mmmm yyyy\")","v":"Lumajang, 24 Agustus 2010"}]
[]
[null,null,null,null,null,{"$f":"'DATA KARTU'!$D$5&\", \"&TEXT('DATA KARTU'!$D$6,\"dd mmmm yyyy\")","v":"Labruk Kidul, 04 Desember 2017"},null,null,null,null,null,null,null,{"$f":"'DATA KARTU'!$D$5&\", \"&TEXT('DATA KARTU'!$D$6,\"dd mmmm yyyy\")","v":"Labruk Kidul, 04 Desember 2017"}]
[null,null,"Pas Photo 3x3",null,null,"Kepala Madrasah",null,null,null,null,"Pas Photo 3x3",null,null,"Kepala Madrasah"]
[]
[]
[null,null,null,null,null,{"$f":"'DATA KARTU'!$D$4","v":"SAHRONI,S.Pd.I"},null,null,null,null,null,null,null,{"$f":"'DATA KARTU'!$D$4","v":"SAHRONI,S.Pd.I"}]
[]
[]
[]
[]
[null,{"$f":"'DATA KARTU'!$D$1&\" \"&'DATA KARTU'!G1","v":"KARTU TANDA PESERTA USMT1"},null,null,null,null,"RUANG",null,null,{"$f":"'DATA KARTU'!$D$1&\" \"&'DATA KARTU'!G1","v":"KARTU TANDA PESERTA USMT1"},null,null,null,null,"RUANG"]
[null,{"$f":"'DATA KARTU'!$D$2&\" \"&'DATA KARTU'!G2","v":"TAHUN PELAJARAN 2017/2018"},null,null,null,null,{"$f":"'DATA KARTU'!$B33","v":"1A"},null,null,{"$f":"'DATA KARTU'!$D$2&\" \"&'DATA KARTU'!G2","v":"TAHUN PELAJARAN 2017/2018"},null,null,null,null,{"$f":"'DATA KARTU'!$B34","v":"1A"}]
[null,{"$f":"'DATA KARTU'!$D$3","v":"MIS NURUL ISLAM LABRUK KIDUL"},null,null,null,null,null,null,null,{"$f":"'DATA KARTU'!$D$3","v":"MIS NURUL ISLAM LABRUK KIDUL"}]
[]
[null,null,"Nomor Peserta",null,":",{"$f":"'DATA KARTU'!$C33","v":"1-2017-025-8"},null,null,null,null,"Nomor Peserta",null,":",{"$f":"'DATA KARTU'!$C34","v":"1-2017-026-7"}]
[null,null,"Nama Peserta",null,":",{"$f":"'DATA KARTU'!$D33","v":"MUHAMMAD KHAFIDZ AL FARIZI"},null,null,null,null,"Nama Peserta",null,":",{"$f":"'DATA KARTU'!$D34","v":"MUHAMMAD WILDAN UBAIDILLAH"}]
[null,null,"Tempat Tanggal Lahir",null,":",{"$f":"'DATA KARTU'!$E33&\", \"&TEXT('DATA KARTU'!$F33,\"dd mmmm yyyy\")","v":"Lumajang, 04 Juni 2010"},null,null,null,null,"Tempat Tanggal Lahir",null,":",{"$f":"'DATA KARTU'!$E34&\", \"&TEXT('DATA KARTU'!$F34,\"dd mmmm yyyy\")","v":"Lumajang, 07 Juli 2010"}]
[]
[null,null,null,null,null,{"$f":"'DATA KARTU'!$D$5&\", \"&TEXT('DATA KARTU'!$D$6,\"dd mmmm yyyy\")","v":"Labruk Kidul, 04 Desember 2017"},null,null,null,null,null,null,null,{"$f":"'DATA KARTU'!$D$5&\", \"&TEXT('DATA KARTU'!$D$6,\"dd mmmm yyyy\")","v":"Labruk Kidul, 04 Desember 2017"}]
[null,null,"Pas Photo 3x3",null,null,"Kepala Madrasah",null,null,null,null,"Pas Photo 3x3",null,null,"Kepala Madrasah"]
[]
[]
[null,null,null,null,null,{"$f":"'DATA KARTU'!$D$4","v":"SAHRONI,S.Pd.I"},null,null,null,null,null,null,null,{"$f":"'DATA KARTU'!$D$4","v":"SAHRONI,S.Pd.I"}]
[]
[]
[]
[]
[null,{"$f":"'DATA KARTU'!$D$1&\" \"&'DATA KARTU'!G1","v":"KARTU TANDA PESERTA USMT1"},null,null,null,null,"RUANG",null,null,{"$f":"'DATA KARTU'!$D$1&\" \"&'DATA KARTU'!G1","v":"KARTU TANDA PESERTA USMT1"},null,null,null,null,"RUANG"]
[null,{"$f":"'DATA KARTU'!$D$2&\" \"&'DATA KARTU'!G2","v":"TAHUN PELAJARAN 2017/2018"},null,null,null,null,{"$f":"'DATA KARTU'!$B35","v":"1A"},null,null,{"$f":"'DATA KARTU'!$D$2&\" \"&'DATA KARTU'!G2","v":"TAHUN PELAJARAN 2017/2018"},null,null,null,null,{"$f":"'DATA KARTU'!$B36","v":"1A"}]
[null,{"$f":"'DATA KARTU'!$D$3","v":"MIS NURUL ISLAM LABRUK KIDUL"},null,null,null,null,null,null,null,{"$f":"'DATA KARTU'!$D$3","v":"MIS NURUL ISLAM LABRUK KIDUL"}]
[]
[null,null,"Nomor Peserta",null,":",{"$f":"'DATA KARTU'!$C35","v":"1-2017-027-6"},null,null,null,null,"Nomor Peserta",null,":",{"$f":"'DATA KARTU'!$C36","v":"1-2017-028-5"}]
[null,null,"Nama Peserta",null,":",{"$f":"'DATA KARTU'!$D35","v":"MOHAMMAD ZAENAL SEPTIAN PUTRA"},null,null,null,null,"Nama Peserta",null,":",{"$f":"'DATA KARTU'!$D36","v":"MUKHAMMAD AZZAM FUADY"}]
[null,null,"Tempat Tanggal Lahir",null,":",{"$f":"'DATA KARTU'!$E35&\", \"&TEXT('DATA KARTU'!$F35,\"dd mmmm yyyy\")","v":"Lumajang, 15 September 2010"},null,null,null,null,"Tempat Tanggal Lahir",null,":",{"$f":"'DATA KARTU'!$E36&\", \"&TEXT('DATA KARTU'!$F36,\"dd mmmm yyyy\")","v":"Lumajang, 21 Oktober 2010"}]
[]
[null,null,null,null,null,{"$f":"'DATA KARTU'!$D$5&\", \"&TEXT('DATA KARTU'!$D$6,\"dd mmmm yyyy\")","v":"Labruk Kidul, 04 Desember 2017"},null,null,null,null,null,null,null,{"$f":"'DATA KARTU'!$D$5&\", \"&TEXT('DATA KARTU'!$D$6,\"dd mmmm yyyy\")","v":"Labruk Kidul, 04 Desember 2017"}]
[null,null,"Pas Photo 3x3",null,null,"Kepala Madrasah",null,null,null,null,"Pas Photo 3x3",null,null,"Kepala Madrasah"]
[]
[]
[null,null,null,null,null,{"$f":"'DATA KARTU'!$D$4","v":"SAHRONI,S.Pd.I"},null,null,null,null,null,null,null,{"$f":"'DATA KARTU'!$D$4","v":"SAHRONI,S.Pd.I"}]
[]
[]
[]
[]
[null,{"$f":"'DATA KARTU'!$D$1&\" \"&'DATA KARTU'!G1","v":"KARTU TANDA PESERTA USMT1"},null,null,null,null,"RUANG",null,null,{"$f":"'DATA KARTU'!$D$1&\" \"&'DATA KARTU'!G1","v":"KARTU TANDA PESERTA USMT1"},null,null,null,null,"RUANG"]
[null,{"$f":"'DATA KARTU'!$D$2&\" \"&'DATA KARTU'!G2","v":"TAHUN PELAJARAN 2017/2018"},null,null,null,null,{"$f":"'DATA KARTU'!$B37","v":"1A"},null,null,{"$f":"'DATA KARTU'!$D$2&\" \"&'DATA KARTU'!G2","v":"TAHUN PELAJARAN 2017/2018"},null,null,null,null,{"$f":"'DATA KARTU'!$B38","v":"1A"}]
[null,{"$f":"'DATA KARTU'!$D$3","v":"MIS NURUL ISLAM LABRUK KIDUL"},null,null,null,null,null,null,null,{"$f":"'DATA KARTU'!$D$3","v":"MIS NURUL ISLAM LABRUK KIDUL"}]
[]
[null,null,"Nomor Peserta",null,":",{"$f":"'DATA KARTU'!$C37","v":"1-2017-029-4"},null,null,null,null,"Nomor Peserta",null,":",{"$f":"'DATA KARTU'!$C38","v":"1-2017-030-3"}]
[null,null,"Nama Peserta",null,":",{"$f":"'DATA KARTU'!$D37","v":"MUTIA TIANTIKA SARI"},null,null,null,null,"Nama Peserta",null,":",{"$f":"'DATA KARTU'!$D38","v":"NABILA EKA WULANDARI"}]
[null,null,"Tempat Tanggal Lahir",null,":",{"$f":"'DATA KARTU'!$E37&\", \"&TEXT('DATA KARTU'!$F37,\"dd mmmm yyyy\")","v":"Lumajang, 19 Maret 2011"},null,null,null,null,"Tempat Tanggal Lahir",null,":",{"$f":"'DATA KARTU'!$E38&\", \"&TEXT('DATA KARTU'!$F38,\"dd mmmm yyyy\")","v":"Lumajang, 12 November 2010"}]
[]
[null,null,null,null,null,{"$f":"'DATA KARTU'!$D$5&\", \"&TEXT('DATA KARTU'!$D$6,\"dd mmmm yyyy\")","v":"Labruk Kidul, 04 Desember 2017"},null,null,null,null,null,null,null,{"$f":"'DATA KARTU'!$D$5&\", \"&TEXT('DATA KARTU'!$D$6,\"dd mmmm yyyy\")","v":"Labruk Kidul, 04 Desember 2017"}]
[null,null,"Pas Photo 3x3",null,null,"Kepala Madrasah",null,null,null,null,"Pas Photo 3x3",null,null,"Kepala Madrasah"]
[]
[]
[null,null,null,null,null,{"$f":"'DATA KARTU'!$D$4","v":"SAHRONI,S.Pd.I"},null,null,null,null,null,null,null,{"$f":"'DATA KARTU'!$D$4","v":"SAHRONI,S.Pd.I"}]
[]
[]
[]
[]
[]
[]
[]
[]
[]
[null,{"$f":"'DATA KARTU'!$D$1&\" \"&'DATA KARTU'!G1","v":"KARTU TANDA PESERTA USMT1"},null,null,null,null,"RUANG",null,null,{"$f":"'DATA KARTU'!$D$1&\" \"&'DATA KARTU'!G1","v":"KARTU TANDA PESERTA USMT1"},null,null,null,null,"RUANG"]
[null,{"$f":"'DATA KARTU'!$D$2&\" \"&'DATA KARTU'!G2","v":"TAHUN PELAJARAN 2017/2018"},null,null,null,null,{"$f":"'DATA KARTU'!$B39","v":"1A"},null,null,{"$f":"'DATA KARTU'!$D$2&\" \"&'DATA KARTU'!G2","v":"TAHUN PELAJARAN 2017/2018"},null,null,null,null,{"$f":"'DATA KARTU'!$B40","v":"1A"}]
[null,{"$f":"'DATA KARTU'!$D$3","v":"MIS NURUL ISLAM LABRUK KIDUL"},null,null,null,null,null,null,null,{"$f":"'DATA KARTU'!$D$3","v":"MIS NURUL ISLAM LABRUK KIDUL"}]
[]
[null,null,"Nomor Peserta",null,":",{"$f":"'DATA KARTU'!$C39","v":"1-2017-031-2"},null,null,null,null,"Nomor Peserta",null,":",{"$f":"'DATA KARTU'!$C40","v":"1-2017-032-9"}]
[null,null,"Nama Peserta",null,":",{"$f":"'DATA KARTU'!$D39","v":"NAISYA AVISENA AZ-ZAHRAH"},null,null,null,null,"Nama Peserta",null,":",{"$f":"'DATA KARTU'!$D40","v":"SAFFINA IZZA"}]
[null,null,"Tempat Tanggal Lahir",null,":",{"$f":"'DATA KARTU'!$E39&\", \"&TEXT('DATA KARTU'!$F39,\"dd mmmm yyyy\")","v":"Lumajang, 22 Februari 2011"},null,null,null,null,"Tempat Tanggal Lahir",null,":",{"$f":"'DATA KARTU'!$E40&\", \"&TEXT('DATA KARTU'!$F40,\"dd mmmm yyyy\")","v":"Yammua, 30 Agustus 2010"}]
[]
[null,null,null,null,null,{"$f":"'DATA KARTU'!$D$5&\", \"&TEXT('DATA KARTU'!$D$6,\"dd mmmm yyyy\")","v":"Labruk Kidul, 04 Desember 2017"},null,null,null,null,null,null,null,{"$f":"'DATA KARTU'!$D$5&\", \"&TEXT('DATA KARTU'!$D$6,\"dd mmmm yyyy\")","v":"Labruk Kidul, 04 Desember 2017"}]
[null,null,"Pas Photo 3x3",null,null,"Kepala Madrasah",null,null,null,null,"Pas Photo 3x3",null,null,"Kepala Madrasah"]
[]
[]
[null,null,null,null,null,{"$f":"'DATA KARTU'!$D$4","v":"SAHRONI,S.Pd.I"},null,null,null,null,null,null,null,{"$f":"'DATA KARTU'!$D$4","v":"SAHRONI,S.Pd.I"}]
[]
[]
[]
[]
[null,{"$f":"'DATA KARTU'!$D$1&\" \"&'DATA KARTU'!G1","v":"KARTU TANDA PESERTA USMT1"},null,null,null,null,"RUANG",null,null,{"$f":"'DATA KARTU'!$D$1&\" \"&'DATA KARTU'!G1","v":"KARTU TANDA PESERTA USMT1"},null,null,null,null,"RUANG"]
[null,{"$f":"'DATA KARTU'!$D$2&\" \"&'DATA KARTU'!G2","v":"TAHUN PELAJARAN 2017/2018"},null,null,null,null,{"$f":"'DATA KARTU'!$B41","v":"1A"},null,null,{"$f":"'DATA KARTU'!$D$2&\" \"&'DATA KARTU'!G2","v":"TAHUN PELAJARAN 2017/2018"},null,null,null,null,{"$f":"'DATA KARTU'!$B42","v":0}]
[null,{"$f":"'DATA KARTU'!$D$3","v":"MIS NURUL ISLAM LABRUK KIDUL"},null,null,null,null,null,null,null,{"$f":"'DATA KARTU'!$D$3","v":"MIS NURUL ISLAM LABRUK KIDUL"}]
[]
[null,null,"Nomor Peserta",null,":",{"$f":"'DATA KARTU'!$C41","v":"1-2017-033-8"},null,null,null,null,"Nomor Peserta",null,":",{"$f":"'DATA KARTU'!$C42","v":0}]
[null,null,"Nama Peserta",null,":",{"$f":"'DATA KARTU'!$D41","v":"TARIKHA ASYFANA"},null,null,null,null,"Nama Peserta",null,":",{"$f":"'DATA KARTU'!$D42","v":0}]
[null,null,"Tempat Tanggal Lahir",null,":",{"$f":"'DATA KARTU'!$E41&\", \"&TEXT('DATA KARTU'!$F41,\"dd mmmm yyyy\")","v":"Bulungan, 09 Januari 2011"},null,null,null,null,"Tempat Tanggal Lahir",null,":",{"$f":"'DATA KARTU'!$E42&\", \"&TEXT('DATA KARTU'!$F42,\"dd mmmm yyyy\")","v":", 00 Januari 1900"}]
[]
[null,null,null,null,null,{"$f":"'DATA KARTU'!$D$5&\", \"&TEXT('DATA KARTU'!$D$6,\"dd mmmm yyyy\")","v":"Labruk Kidul, 04 Desember 2017"},null,null,null,null,null,null,null,{"$f":"'DATA KARTU'!$D$5&\", \"&TEXT('DATA KARTU'!$D$6,\"dd mmmm yyyy\")","v":"Labruk Kidul, 04 Desember 2017"}]
[null,null,"Pas Photo 3x3",null,null,"Kepala Madrasah",null,null,null,null,"Pas Photo 3x3",null,null,"Kepala Madrasah"]
[]
[]
[null,null,null,null,null,{"$f":"'DATA KARTU'!$D$4","v":"SAHRONI,S.Pd.I"},null,null,null,null,null,null,null,{"$f":"'DATA KARTU'!$D$4","v":"SAHRONI,S.Pd.I"}]
[]
[]
[]
[]
[null,{"$f":"'DATA KARTU'!$D$1&\" \"&'DATA KARTU'!G1","v":"KARTU TANDA PESERTA USMT1"},null,null,null,null,"RUANG",null,null,{"$f":"'DATA KARTU'!$D$1&\" \"&'DATA KARTU'!G1","v":"KARTU TANDA PESERTA USMT1"},null,null,null,null,"RUANG"]
[null,{"$f":"'DATA KARTU'!$D$2&\" \"&'DATA KARTU'!G2","v":"TAHUN PELAJARAN 2017/2018"},null,null,null,null,{"$f":"'DATA KARTU'!$B43","v":0},null,null,{"$f":"'DATA KARTU'!$D$2&\" \"&'DATA KARTU'!G2","v":"TAHUN PELAJARAN 2017/2018"},null,null,null,null,{"$f":"'DATA KARTU'!$B44","v":0}]
[null,{"$f":"'DATA KARTU'!$D$3","v":"MIS NURUL ISLAM LABRUK KIDUL"},null,null,null,null,null,null,null,{"$f":"'DATA KARTU'!$D$3","v":"MIS NURUL ISLAM LABRUK KIDUL"}]
[]
[null,null,"Nomor Peserta",null,":",{"$f":"'DATA KARTU'!$C43","v":0},null,null,null,null,"Nomor Peserta",null,":",{"$f":"'DATA KARTU'!$C44","v":0}]
[null,null,"Nama Peserta",null,":",{"$f":"'DATA KARTU'!$D43","v":0},null,null,null,null,"Nama Peserta",null,":",{"$f":"'DATA KARTU'!$D44","v":0}]
[null,null,"Tempat Tanggal Lahir",null,":",{"$f":"'DATA KARTU'!$E43&\", \"&TEXT('DATA KARTU'!$F43,\"dd mmmm yyyy\")","v":", 00 Januari 1900"},null,null,null,null,"Tempat Tanggal Lahir",null,":",{"$f":"'DATA KARTU'!$E44&\", \"&TEXT('DATA KARTU'!$F44,\"dd mmmm yyyy\")","v":", 00 Januari 1900"}]
[]
[null,null,null,null,null,{"$f":"'DATA KARTU'!$D$5&\", \"&TEXT('DATA KARTU'!$D$6,\"dd mmmm yyyy\")","v":"Labruk Kidul, 04 Desember 2017"},null,null,null,null,null,null,null,{"$f":"'DATA KARTU'!$D$5&\", \"&TEXT('DATA KARTU'!$D$6,\"dd mmmm yyyy\")","v":"Labruk Kidul, 04 Desember 2017"}]
[null,null,"Pas Photo 3x3",null,null,"Kepala Madrasah",null,null,null,null,"Pas Photo 3x3",null,null,"Kepala Madrasah"]
[]
[]
[null,null,null,null,null,{"$f":"'DATA KARTU'!$D$4","v":"SAHRONI,S.Pd.I"},null,null,null,null,null,null,null,{"$f":"'DATA KARTU'!$D$4","v":"SAHRONI,S.Pd.I"}]
[]
[]
[]
[]
[null,{"$f":"'DATA KARTU'!$D$1&\" \"&'DATA KARTU'!G1","v":"KARTU TANDA PESERTA USMT1"},null,null,null,null,"RUANG",null,null,{"$f":"'DATA KARTU'!$D$1&\" \"&'DATA KARTU'!G1","v":"KARTU TANDA PESERTA USMT1"},null,null,null,null,"RUANG"]
[null,{"$f":"'DATA KARTU'!$D$2&\" \"&'DATA KARTU'!G2","v":"TAHUN PELAJARAN 2017/2018"},null,null,null,null,{"$f":"'DATA KARTU'!$B45","v":0},null,null,{"$f":"'DATA KARTU'!$D$2&\" \"&'DATA KARTU'!G2","v":"TAHUN PELAJARAN 2017/2018"},null,null,null,null,{"$f":"'DATA KARTU'!$B46","v":0}]
[null,{"$f":"'DATA KARTU'!$D$3","v":"MIS NURUL ISLAM LABRUK KIDUL"},null,null,null,null,null,null,null,{"$f":"'DATA KARTU'!$D$3","v":"MIS NURUL ISLAM LABRUK KIDUL"}]
[]
[null,null,"Nomor Peserta",null,":",{"$f":"'DATA KARTU'!$C45","v":0},null,null,null,null,"Nomor Peserta",null,":",{"$f":"'DATA KARTU'!$C46","v":0}]
[null,null,"Nama Peserta",null,":",{"$f":"'DATA KARTU'!$D45","v":0},null,null,null,null,"Nama Peserta",null,":",{"$f":"'DATA KARTU'!$D46","v":0}]
[null,null,"Tempat Tanggal Lahir",null,":",{"$f":"'DATA KARTU'!$E45&\", \"&TEXT('DATA KARTU'!$F45,\"dd mmmm yyyy\")","v":", 00 Januari 1900"},null,null,null,null,"Tempat Tanggal Lahir",null,":",{"$f":"'DATA KARTU'!$E46&\", \"&TEXT('DATA KARTU'!$F46,\"dd mmmm yyyy\")","v":", 00 Januari 1900"}]
[]
[null,null,null,null,null,{"$f":"'DATA KARTU'!$D$5&\", \"&TEXT('DATA KARTU'!$D$6,\"dd mmmm yyyy\")","v":"Labruk Kidul, 04 Desember 2017"},null,null,null,null,null,null,null,{"$f":"'DATA KARTU'!$D$5&\", \"&TEXT('DATA KARTU'!$D$6,\"dd mmmm yyyy\")","v":"Labruk Kidul, 04 Desember 2017"}]
[null,null,"Pas Photo 3x3",null,null,"Kepala Madrasah",null,null,null,null,"Pas Photo 3x3",null,null,"Kepala Madrasah"]
[]
[]
[null,null,null,null,null,{"$f":"'DATA KARTU'!$D$4","v":"SAHRONI,S.Pd.I"},null,null,null,null,null,null,null,{"$f":"'DATA KARTU'!$D$4","v":"SAHRONI,S.Pd.I"}]
[]
[]
[]
[]
[null,{"$f":"'DATA KARTU'!$D$1&\" \"&'DATA KARTU'!G1","v":"KARTU TANDA PESERTA USMT1"},null,null,null,null,"RUANG",null,null,{"$f":"'DATA KARTU'!$D$1&\" \"&'DATA KARTU'!G1","v":"KARTU TANDA PESERTA USMT1"},null,null,null,null,"RUANG"]
[null,{"$f":"'DATA KARTU'!$D$2&\" \"&'DATA KARTU'!G2","v":"TAHUN PELAJARAN 2017/2018"},null,null,null,null,{"$f":"'DATA KARTU'!$B47","v":0},null,null,{"$f":"'DATA KARTU'!$D$2&\" \"&'DATA KARTU'!G2","v":"TAHUN PELAJARAN 2017/2018"},null,null,null,null,{"$f":"'DATA KARTU'!$B48","v":0}]
[null,{"$f":"'DATA KARTU'!$D$3","v":"MIS NURUL ISLAM LABRUK KIDUL"},null,null,null,null,null,null,null,{"$f":"'DATA KARTU'!$D$3","v":"MIS NURUL ISLAM LABRUK KIDUL"}]
[]
[null,null,"Nomor Peserta",null,":",{"$f":"'DATA KARTU'!$C47","v":0},null,null,null,null,"Nomor Peserta",null,":",{"$f":"'DATA KARTU'!$C48","v":0}]
[null,null,"Nama Peserta",null,":",{"$f":"'DATA KARTU'!$D47","v":0},null,null,null,null,"Nama Peserta",null,":",{"$f":"'DATA KARTU'!$D48","v":0}]
[null,null,"Tempat Tanggal Lahir",null,":",{"$f":"'DATA KARTU'!$E47&\", \"&TEXT('DATA KARTU'!$F47,\"dd mmmm yyyy\")","v":", 00 Januari 1900"},null,null,null,null,"Tempat Tanggal Lahir",null,":",{"$f":"'DATA KARTU'!$E48&\", \"&TEXT('DATA KARTU'!$F48,\"dd mmmm yyyy\")","v":", 00 Januari 1900"}]
[]
[null,null,null,null,null,{"$f":"'DATA KARTU'!$D$5&\", \"&TEXT('DATA KARTU'!$D$6,\"dd mmmm yyyy\")","v":"Labruk Kidul, 04 Desember 2017"},null,null,null,null,null,null,null,{"$f":"'DATA KARTU'!$D$5&\", \"&TEXT('DATA KARTU'!$D$6,\"dd mmmm yyyy\")","v":"Labruk Kidul, 04 Desember 2017"}]
[null,null,"Pas Photo 3x3",null,null,"Kepala Madrasah",null,null,null,null,"Pas Photo 3x3",null,null,"Kepala Madrasah"]
[]
[]
[null,null,null,null,null,{"$f":"'DATA KARTU'!$D$4","v":"SAHRONI,S.Pd.I"},null,null,null,null,null,null,null,{"$f":"'DATA KARTU'!$D$4","v":"SAHRONI,S.Pd.I"}]
[]
[]
[]
[]
[]
[]
[]
[]
[null,{"$f":"'DATA KARTU'!$D$1&\" \"&'DATA KARTU'!G1","v":"KARTU TANDA PESERTA USMT1"},null,null,null,null,"RUANG",null,null,{"$f":"'DATA KARTU'!$D$1&\" \"&'DATA KARTU'!G1","v":"KARTU TANDA PESERTA USMT1"},null,null,null,null,"RUANG"]
[null,{"$f":"'DATA KARTU'!$D$2&\" \"&'DATA KARTU'!G2","v":"TAHUN PELAJARAN 2017/2018"},null,null,null,null,{"$f":"'DATA KARTU'!$B49","v":0},null,null,{"$f":"'DATA KARTU'!$D$2&\" \"&'DATA KARTU'!G2","v":"TAHUN PELAJARAN 2017/2018"},null,null,null,null,{"$f":"'DATA KARTU'!$B50","v":0}]
[null,{"$f":"'DATA KARTU'!$D$3","v":"MIS NURUL ISLAM LABRUK KIDUL"},null,null,null,null,null,null,null,{"$f":"'DATA KARTU'!$D$3","v":"MIS NURUL ISLAM LABRUK KIDUL"}]
[]
[null,null,"Nomor Peserta",null,":",{"$f":"'DATA KARTU'!$C49","v":0},null,null,null,null,"Nomor Peserta",null,":",{"$f":"'DATA KARTU'!$C50","v":0}]
[null,null,"Nama Peserta",null,":",{"$f":"'DATA KARTU'!$D49","v":0},null,null,null,null,"Nama Peserta",null,":",{"$f":"'DATA KARTU'!$D50","v":0}]
[null,null,"Tempat Tanggal Lahir",null,":",{"$f":"'DATA KARTU'!$E49&\", \"&TEXT('DATA KARTU'!$F49,\"dd mmmm yyyy\")","v":", 00 Januari 1900"},null,null,null,null,"Tempat Tanggal Lahir",null,":",{"$f":"'DATA KARTU'!$E50&\", \"&TEXT('DATA KARTU'!$F50,\"dd mmmm yyyy\")","v":", 00 Januari 1900"}]
[]
[null,null,null,null,null,{"$f":"'DATA KARTU'!$D$5&\", \"&TEXT('DATA KARTU'!$D$6,\"dd mmmm yyyy\")","v":"Labruk Kidul, 04 Desember 2017"},null,null,null,null,null,null,null,{"$f":"'DATA KARTU'!$D$5&\", \"&TEXT('DATA KARTU'!$D$6,\"dd mmmm yyyy\")","v":"Labruk Kidul, 04 Desember 2017"}]
[null,null,"Pas Photo 3x3",null,null,"Kepala Madrasah",null,null,null,null,"Pas Photo 3x3",null,null,"Kepala Madrasah"]
[]
[]
[null,null,null,null,null,{"$f":"'DATA KARTU'!$D$4","v":"SAHRONI,S.Pd.I"},null,null,null,null,null,null,null,{"$f":"'DATA KARTU'!$D$4","v":"SAHRONI,S.Pd.I"}]
[]
[]
[]
[]
[null,{"$f":"'DATA KARTU'!$D$1&\" \"&'DATA KARTU'!G1","v":"KARTU TANDA PESERTA USMT1"},null,null,null,null,"RUANG",null,null,{"$f":"'DATA KARTU'!$D$1&\" \"&'DATA KARTU'!G1","v":"KARTU TANDA PESERTA USMT1"},null,null,null,null,"RUANG"]
[null,{"$f":"'DATA KARTU'!$D$2&\" \"&'DATA KARTU'!G2","v":"TAHUN PELAJARAN 2017/2018"},null,null,null,null,{"$f":"'DATA KARTU'!$B51","v":0},null,null,{"$f":"'DATA KARTU'!$D$2&\" \"&'DATA KARTU'!G2","v":"TAHUN PELAJARAN 2017/2018"},null,null,null,null,{"$f":"'DATA KARTU'!$B52","v":0}]
[null,{"$f":"'DATA KARTU'!$D$3","v":"MIS NURUL ISLAM LABRUK KIDUL"},null,null,null,null,null,null,null,{"$f":"'DATA KARTU'!$D$3","v":"MIS NURUL ISLAM LABRUK KIDUL"}]
[]
[null,null,"Nomor Peserta",null,":",{"$f":"'DATA KARTU'!$C51","v":0},null,null,null,null,"Nomor Peserta",null,":",{"$f":"'DATA KARTU'!$C52","v":0}]
[null,null,"Nama Peserta",null,":",{"$f":"'DATA KARTU'!$D51","v":0},null,null,null,null,"Nama Peserta",null,":",{"$f":"'DATA KARTU'!$D52","v":0}]
[null,null,"Tempat Tanggal Lahir",null,":",{"$f":"'DATA KARTU'!$E51&\", \"&TEXT('DATA KARTU'!$F51,\"dd mmmm yyyy\")","v":", 00 Januari 1900"},null,null,null,null,"Tempat Tanggal Lahir",null,":",{"$f":"'DATA KARTU'!$E52&\", \"&TEXT('DATA KARTU'!$F52,\"dd mmmm yyyy\")","v":", 00 Januari 1900"}]
[]
[null,null,null,null,null,{"$f":"'DATA KARTU'!$D$5&\", \"&TEXT('DATA KARTU'!$D$6,\"dd mmmm yyyy\")","v":"Labruk Kidul, 04 Desember 2017"},null,null,null,null,null,null,null,{"$f":"'DATA KARTU'!$D$5&\", \"&TEXT('DATA KARTU'!$D$6,\"dd mmmm yyyy\")","v":"Labruk Kidul, 04 Desember 2017"}]
[null,null,"Pas Photo 3x3",null,null,"Kepala Madrasah",null,null,null,null,"Pas Photo 3x3",null,null,"Kepala Madrasah"]
[]
[]
[null,null,null,null,null,{"$f":"'DATA KARTU'!$D$4","v":"SAHRONI,S.Pd.I"},null,null,null,null,null,null,null,{"$f":"'DATA KARTU'!$D$4","v":"SAHRONI,S.Pd.I"}]
[]
[]
[]
[]
[null,{"$f":"'DATA KARTU'!$D$1&\" \"&'DATA KARTU'!G1","v":"KARTU TANDA PESERTA USMT1"},null,null,null,null,"RUANG",null,null,{"$f":"'DATA KARTU'!$D$1&\" \"&'DATA KARTU'!G1","v":"KARTU TANDA PESERTA USMT1"},null,null,null,null,"RUANG"]
[null,{"$f":"'DATA KARTU'!$D$2&\" \"&'DATA KARTU'!G2","v":"TAHUN PELAJARAN 2017/2018"},null,null,null,null,{"$f":"'DATA KARTU'!$B53","v":0},null,null,{"$f":"'DATA KARTU'!$D$2&\" \"&'DATA KARTU'!G2","v":"TAHUN PELAJARAN 2017/2018"},null,null,null,null,{"$f":"'DATA KARTU'!$B54","v":0}]
[null,{"$f":"'DATA KARTU'!$D$3","v":"MIS NURUL ISLAM LABRUK KIDUL"},null,null,null,null,null,null,null,{"$f":"'DATA KARTU'!$D$3","v":"MIS NURUL ISLAM LABRUK KIDUL"}]
[]
[null,null,"Nomor Peserta",null,":",{"$f":"'DATA KARTU'!$C53","v":0},null,null,null,null,"Nomor Peserta",null,":",{"$f":"'DATA KARTU'!$C54","v":0}]
[null,null,"Nama Peserta",null,":",{"$f":"'DATA KARTU'!$D53","v":0},null,null,null,null,"Nama Peserta",null,":",{"$f":"'DATA KARTU'!$D54","v":0}]
[null,null,"Tempat Tanggal Lahir",null,":",{"$f":"'DATA KARTU'!$E53&\", \"&TEXT('DATA KARTU'!$F53,\"dd mmmm yyyy\")","v":", 00 Januari 1900"},null,null,null,null,"Tempat Tanggal Lahir",null,":",{"$f":"'DATA KARTU'!$E54&\", \"&TEXT('DATA KARTU'!$F54,\"dd mmmm yyyy\")","v":", 00 Januari 1900"}]
[]
[null,null,null,null,null,{"$f":"'DATA KARTU'!$D$5&\", \"&TEXT('DATA KARTU'!$D$6,\"dd mmmm yyyy\")","v":"Labruk Kidul, 04 Desember 2017"},null,null,null,null,null,null,null,{"$f":"'DATA KARTU'!$D$5&\", \"&TEXT('DATA KARTU'!$D$6,\"dd mmmm yyyy\")","v":"Labruk Kidul, 04 Desember 2017"}]
[null,null,"Pas Photo 3x3",null,null,"Kepala Madrasah",null,null,null,null,"Pas Photo 3x3",null,null,"Kepala Madrasah"]
[]
[]
[null,null,null,null,null,{"$f":"'DATA KARTU'!$D$4","v":"SAHRONI,S.Pd.I"},null,null,null,null,null,null,null,{"$f":"'DATA KARTU'!$D$4","v":"SAHRONI,S.Pd.I"}]
[]
[]
[]
[]
[null,{"$f":"'DATA KARTU'!$D$1&\" \"&'DATA KARTU'!G1","v":"KARTU TANDA PESERTA USMT1"},null,null,null,null,"RUANG",null,null,{"$f":"'DATA KARTU'!$D$1&\" \"&'DATA KARTU'!G1","v":"KARTU TANDA PESERTA USMT1"},null,null,null,null,"RUANG"]
[null,{"$f":"'DATA KARTU'!$D$2&\" \"&'DATA KARTU'!G2","v":"TAHUN PELAJARAN 2017/2018"},null,null,null,null,{"$f":"'DATA KARTU'!$B55","v":0},null,null,{"$f":"'DATA KARTU'!$D$2&\" \"&'DATA KARTU'!G2","v":"TAHUN PELAJARAN 2017/2018"},null,null,null,null,{"$f":"'DATA KARTU'!$B56","v":0}]
[null,{"$f":"'DATA KARTU'!$D$3","v":"MIS NURUL ISLAM LABRUK KIDUL"},null,null,null,null,null,null,null,{"$f":"'DATA KARTU'!$D$3","v":"MIS NURUL ISLAM LABRUK KIDUL"}]
[]
[null,null,"Nomor Peserta",null,":",{"$f":"'DATA KARTU'!$C55","v":0},null,null,null,null,"Nomor Peserta",null,":",{"$f":"'DATA KARTU'!$C56","v":0}]
[null,null,"Nama Peserta",null,":",{"$f":"'DATA KARTU'!$D55","v":0},null,null,null,null,"Nama Peserta",null,":",{"$f":"'DATA KARTU'!$D56","v":0}]
[null,null,"Tempat Tanggal Lahir",null,":",{"$f":"'DATA KARTU'!$E55&\", \"&TEXT('DATA KARTU'!$F55,\"dd mmmm yyyy\")","v":", 00 Januari 1900"},null,null,null,null,"Tempat Tanggal Lahir",null,":",{"$f":"'DATA KARTU'!$E56&\", \"&TEXT('DATA KARTU'!$F56,\"dd mmmm yyyy\")","v":", 00 Januari 1900"}]
[]
[null,null,null,null,null,{"$f":"'DATA KARTU'!$D$5&\", \"&TEXT('DATA KARTU'!$D$6,\"dd mmmm yyyy\")","v":"Labruk Kidul, 04 Desember 2017"},null,null,null,null,null,null,null,{"$f":"'DATA KARTU'!$D$5&\", \"&TEXT('DATA KARTU'!$D$6,\"dd mmmm yyyy\")","v":"Labruk Kidul, 04 Desember 2017"}]
[null,null,"Pas Photo 3x3",null,null,"Kepala Madrasah",null,null,null,null,"Pas Photo 3x3",null,null,"Kepala Madrasah"]
[]
[]
[null,null,null,null,null,{"$f":"'DATA KARTU'!$D$4","v":"SAHRONI,S.Pd.I"},null,null,null,null,null,null,null,{"$f":"'DATA KARTU'!$D$4","v":"SAHRONI,S.Pd.I"}]
[]
[]
[]
[]
[null,{"$f":"'DATA KARTU'!$D$1&\" \"&'DATA KARTU'!G1","v":"KARTU TANDA PESERTA USMT1"},null,null,null,null,"RUANG",null,null,{"$f":"'DATA KARTU'!$D$1&\" \"&'DATA KARTU'!G1","v":"KARTU TANDA PESERTA USMT1"},null,null,null,null,"RUANG"]
[null,{"$f":"'DATA KARTU'!$D$2&\" \"&'DATA KARTU'!G2","v":"TAHUN PELAJARAN 2017/2018"},null,null,null,null,{"$f":"'DATA KARTU'!$B57","v":0},null,null,{"$f":"'DATA KARTU'!$D$2&\" \"&'DATA KARTU'!G2","v":"TAHUN PELAJARAN 2017/2018"},null,null,null,null,{"$f":"'DATA KARTU'!$B58","v":0}]
[null,{"$f":"'DATA KARTU'!$D$3","v":"MIS NURUL ISLAM LABRUK KIDUL"},null,null,null,null,null,null,null,{"$f":"'DATA KARTU'!$D$3","v":"MIS NURUL ISLAM LABRUK KIDUL"}]
[]
[null,null,"Nomor Peserta",null,":",{"$f":"'DATA KARTU'!$C57","v":0},null,null,null,null,"Nomor Peserta",null,":",{"$f":"'DATA KARTU'!$C58","v":0}]
[null,null,"Nama Peserta",null,":",{"$f":"'DATA KARTU'!$D57","v":0},null,null,null,null,"Nama Peserta",null,":",{"$f":"'DATA KARTU'!$D58","v":0}]
[null,null,"Tempat Tanggal Lahir",null,":",{"$f":"'DATA KARTU'!$E57&\", \"&TEXT('DATA KARTU'!$F57,\"dd mmmm yyyy\")","v":", 00 Januari 1900"},null,null,null,null,"Tempat Tanggal Lahir",null,":",{"$f":"'DATA KARTU'!$E58&\", \"&TEXT('DATA KARTU'!$F58,\"dd mmmm yyyy\")","v":", 00 Januari 1900"}]
[]
[null,null,null,null,null,{"$f":"'DATA KARTU'!$D$5&\", \"&TEXT('DATA KARTU'!$D$6,\"dd mmmm yyyy\")","v":"Labruk Kidul, 04 Desember 2017"},null,null,null,null,null,null,null,{"$f":"'DATA KARTU'!$D$5&\", \"&TEXT('DATA KARTU'!$D$6,\"dd mmmm yyyy\")","v":"Labruk Kidul, 04 Desember 2017"}]
[null,null,"Pas Photo 3x3",null,null,"Kepala Madrasah",null,null,null,null,"Pas Photo 3x3",null,null,"Kepala Madrasah"]
[]
[]
[null,null,null,null,null,{"$f":"'DATA KARTU'!$D$4","v":"SAHRONI,S.Pd.I"},null,null,null,null,null,null,null,{"$f":"'DATA KARTU'!$D$4","v":"SAHRONI,S.Pd.I"}]
[]
[]
[]
[]
[]
[]
[]
[]
[null,{"$f":"'DATA KARTU'!$D$1&\" \"&'DATA KARTU'!G1","v":"KARTU TANDA PESERTA USMT1"},null,null,null,null,"RUANG",null,null,{"$f":"'DATA KARTU'!$D$1&\" \"&'DATA KARTU'!G1","v":"KARTU TANDA PESERTA USMT1"},null,null,null,null,"RUANG"]
[null,{"$f":"'DATA KARTU'!$D$2&\" \"&'DATA KARTU'!G2","v":"TAHUN PELAJARAN 2017/2018"},null,null,null,null,{"$f":"'DATA KARTU'!$B59","v":0},null,null,{"$f":"'DATA KARTU'!$D$2&\" \"&'DATA KARTU'!G2","v":"TAHUN PELAJARAN 2017/2018"},null,null,null,null,{"$f":"'DATA KARTU'!$B60","v":0}]
[null,{"$f":"'DATA KARTU'!$D$3","v":"MIS NURUL ISLAM LABRUK KIDUL"},null,null,null,null,null,null,null,{"$f":"'DATA KARTU'!$D$3","v":"MIS NURUL ISLAM LABRUK KIDUL"}]
[]
[null,null,"Nomor Peserta",null,":",{"$f":"'DATA KARTU'!$C59","v":0},null,null,null,null,"Nomor Peserta",null,":",{"$f":"'DATA KARTU'!$C60","v":0}]
[null,null,"Nama Peserta",null,":",{"$f":"'DATA KARTU'!$D59","v":0},null,null,null,null,"Nama Peserta",null,":",{"$f":"'DATA KARTU'!$D60","v":0}]
[null,null,"Tempat Tanggal Lahir",null,":",{"$f":"'DATA KARTU'!$E59&\", \"&TEXT('DATA KARTU'!$F59,\"dd mmmm yyyy\")","v":", 00 Januari 1900"},null,null,null,null,"Tempat Tanggal Lahir",null,":",{"$f":"'DATA KARTU'!$E60&\", \"&TEXT('DATA KARTU'!$F60,\"dd mmmm yyyy\")","v":", 00 Januari 1900"}]
[]
[null,null,null,null,null,{"$f":"'DATA KARTU'!$D$5&\", \"&TEXT('DATA KARTU'!$D$6,\"dd mmmm yyyy\")","v":"Labruk Kidul, 04 Desember 2017"},null,null,null,null,null,null,null,{"$f":"'DATA KARTU'!$D$5&\", \"&TEXT('DATA KARTU'!$D$6,\"dd mmmm yyyy\")","v":"Labruk Kidul, 04 Desember 2017"}]
[null,null,"Pas Photo 3x3",null,null,"Kepala Madrasah",null,null,null,null,"Pas Photo 3x3",null,null,"Kepala Madrasah"]
[]
[]
[null,null,null,null,null,{"$f":"'DATA KARTU'!$D$4","v":"SAHRONI,S.Pd.I"},null,null,null,null,null,null,null,{"$f":"'DATA KARTU'!$D$4","v":"SAHRONI,S.Pd.I"}]
[]
[]
[]
[]
[null,{"$f":"'DATA KARTU'!$D$1&\" \"&'DATA KARTU'!G1","v":"KARTU TANDA PESERTA USMT1"},null,null,null,null,"RUANG",null,null,{"$f":"'DATA KARTU'!$D$1&\" \"&'DATA KARTU'!G1","v":"KARTU TANDA PESERTA USMT1"},null,null,null,null,"RUANG"]
[null,{"$f":"'DATA KARTU'!$D$2&\" \"&'DATA KARTU'!G2","v":"TAHUN PELAJARAN 2017/2018"},null,null,null,null,{"$f":"'DATA KARTU'!$B61","v":0},null,null,{"$f":"'DATA KARTU'!$D$2&\" \"&'DATA KARTU'!G2","v":"TAHUN PELAJARAN 2017/2018"},null,null,null,null,{"$f":"'DATA KARTU'!$B62","v":0}]
[null,{"$f":"'DATA KARTU'!$D$3","v":"MIS NURUL ISLAM LABRUK KIDUL"},null,null,null,null,null,null,null,{"$f":"'DATA KARTU'!$D$3","v":"MIS NURUL ISLAM LABRUK KIDUL"}]
[]
[null,null,"Nomor Peserta",null,":",{"$f":"'DATA KARTU'!$C61","v":0},null,null,null,null,"Nomor Peserta",null,":",{"$f":"'DATA KARTU'!$C62","v":0}]
[null,null,"Nama Peserta",null,":",{"$f":"'DATA KARTU'!$D61","v":0},null,null,null,null,"Nama Peserta",null,":",{"$f":"'DATA KARTU'!$D62","v":0}]
[null,null,"Tempat Tanggal Lahir",null,":",{"$f":"'DATA KARTU'!$E61&\", \"&TEXT('DATA KARTU'!$F61,\"dd mmmm yyyy\")","v":", 00 Januari 1900"},null,null,null,null,"Tempat Tanggal Lahir",null,":",{"$f":"'DATA KARTU'!$E62&\", \"&TEXT('DATA KARTU'!$F62,\"dd mmmm yyyy\")","v":", 00 Januari 1900"}]
[]
[null,null,null,null,null,{"$f":"'DATA KARTU'!$D$5&\", \"&TEXT('DATA KARTU'!$D$6,\"dd mmmm yyyy\")","v":"Labruk Kidul, 04 Desember 2017"},null,null,null,null,null,null,null,{"$f":"'DATA KARTU'!$D$5&\", \"&TEXT('DATA KARTU'!$D$6,\"dd mmmm yyyy\")","v":"Labruk Kidul, 04 Desember 2017"}]
[null,null,"Pas Photo 3x3",null,null,"Kepala Madrasah",null,null,null,null,"Pas Photo 3x3",null,null,"Kepala Madrasah"]
[]
[]
[null,null,null,null,null,{"$f":"'DATA KARTU'!$D$4","v":"SAHRONI,S.Pd.I"},null,null,null,null,null,null,null,{"$f":"'DATA KARTU'!$D$4","v":"SAHRONI,S.Pd.I"}]
[]
[]
[]
[]
[null,{"$f":"'DATA KARTU'!$D$1&\" \"&'DATA KARTU'!G1","v":"KARTU TANDA PESERTA USMT1"},null,null,null,null,"RUANG",null,null,{"$f":"'DATA KARTU'!$D$1&\" \"&'DATA KARTU'!G1","v":"KARTU TANDA PESERTA USMT1"},null,null,null,null,"RUANG"]
[null,{"$f":"'DATA KARTU'!$D$2&\" \"&'DATA KARTU'!G2","v":"TAHUN PELAJARAN 2017/2018"},null,null,null,null,{"$f":"'DATA KARTU'!$B63","v":0},null,null,{"$f":"'DATA KARTU'!$D$2&\" \"&'DATA KARTU'!G2","v":"TAHUN PELAJARAN 2017/2018"},null,null,null,null,{"$f":"'DATA KARTU'!$B64","v":0}]
[null,{"$f":"'DATA KARTU'!$D$3","v":"MIS NURUL ISLAM LABRUK KIDUL"},null,null,null,null,null,null,null,{"$f":"'DATA KARTU'!$D$3","v":"MIS NURUL ISLAM LABRUK KIDUL"}]
[]
[null,null,"Nomor Peserta",null,":",{"$f":"'DATA KARTU'!$C63","v":0},null,null,null,null,"Nomor Peserta",null,":",{"$f":"'DATA KARTU'!$C64","v":0}]
[null,null,"Nama Peserta",null,":",{"$f":"'DATA KARTU'!$D63","v":0},null,null,null,null,"Nama Peserta",null,":",{"$f":"'DATA KARTU'!$D64","v":0}]
[null,null,"Tempat Tanggal Lahir",null,":",{"$f":"'DATA KARTU'!$E63&\", \"&TEXT('DATA KARTU'!$F63,\"dd mmmm yyyy\")","v":", 00 Januari 1900"},null,null,null,null,"Tempat Tanggal Lahir",null,":",{"$f":"'DATA KARTU'!$E64&\", \"&TEXT('DATA KARTU'!$F64,\"dd mmmm yyyy\")","v":", 00 Januari 1900"}]
[]
[null,null,null,null,null,{"$f":"'DATA KARTU'!$D$5&\", \"&TEXT('DATA KARTU'!$D$6,\"dd mmmm yyyy\")","v":"Labruk Kidul, 04 Desember 2017"},null,null,null,null,null,null,null,{"$f":"'DATA KARTU'!$D$5&\", \"&TEXT('DATA KARTU'!$D$6,\"dd mmmm yyyy\")","v":"Labruk Kidul, 04 Desember 2017"}]
[null,null,"Pas Photo 3x3",null,null,"Kepala Madrasah",null,null,null,null,"Pas Photo 3x3",null,null,"Kepala Madrasah"]
[]
[]
[null,null,null,null,null,{"$f":"'DATA KARTU'!$D$4","v":"SAHRONI,S.Pd.I"},null,null,null,null,null,null,null,{"$f":"'DATA KARTU'!$D$4","v":"SAHRONI,S.Pd.I"}]
[]
[]
[]
[]
[null,{"$f":"'DATA KARTU'!$D$1&\" \"&'DATA KARTU'!G1","v":"KARTU TANDA PESERTA USMT1"},null,null,null,null,"RUANG",null,null,{"$f":"'DATA KARTU'!$D$1&\" \"&'DATA KARTU'!G1","v":"KARTU TANDA PESERTA USMT1"},null,null,null,null,"RUANG"]
[null,{"$f":"'DATA KARTU'!$D$2&\" \"&'DATA KARTU'!G2","v":"TAHUN PELAJARAN 2017/2018"},null,null,null,null,{"$f":"'DATA KARTU'!$B65","v":0},null,null,{"$f":"'DATA KARTU'!$D$2&\" \"&'DATA KARTU'!G2","v":"TAHUN PELAJARAN 2017/2018"},null,null,null,null,{"$f":"'DATA KARTU'!$B66","v":0}]
[null,{"$f":"'DATA KARTU'!$D$3","v":"MIS NURUL ISLAM LABRUK KIDUL"},null,null,null,null,null,null,null,{"$f":"'DATA KARTU'!$D$3","v":"MIS NURUL ISLAM LABRUK KIDUL"}]
[]
[null,null,"Nomor Peserta",null,":",{"$f":"'DATA KARTU'!$C65","v":0},null,null,null,null,"Nomor Peserta",null,":",{"$f":"'DATA KARTU'!$C66","v":0}]
[null,null,"Nama Peserta",null,":",{"$f":"'DATA KARTU'!$D65","v":0},null,null,null,null,"Nama Peserta",null,":",{"$f":"'DATA KARTU'!$D66","v":0}]
[null,null,"Tempat Tanggal Lahir",null,":",{"$f":"'DATA KARTU'!$E65&\", \"&TEXT('DATA KARTU'!$F65,\"dd mmmm yyyy\")","v":", 00 Januari 1900"},null,null,null,null,"Tempat Tanggal Lahir",null,":",{"$f":"'DATA KARTU'!$E66&\", \"&TEXT('DATA KARTU'!$F66,\"dd mmmm yyyy\")","v":", 00 Januari 1900"}]
[]
[null,null,null,null,null,{"$f":"'DATA KARTU'!$D$5&\", \"&TEXT('DATA KARTU'!$D$6,\"dd mmmm yyyy\")","v":"Labruk Kidul, 04 Desember 2017"},null,null,null,null,null,null,null,{"$f":"'DATA KARTU'!$D$5&\", \"&TEXT('DATA KARTU'!$D$6,\"dd mmmm yyyy\")","v":"Labruk Kidul, 04 Desember 2017"}]
[null,null,"Pas Photo 3x3",null,null,"Kepala Madrasah",null,null,null,null,"Pas Photo 3x3",null,null,"Kepala Madrasah"]
[]
[]
[null,null,null,null,null,{"$f":"'DATA KARTU'!$D$4","v":"SAHRONI,S.Pd.I"},null,null,null,null,null,null,null,{"$f":"'DATA KARTU'!$D$4","v":"SAHRONI,S.Pd.I"}]
[]
[]
[]
[]
[null,{"$f":"'DATA KARTU'!$D$1&\" \"&'DATA KARTU'!G1","v":"KARTU TANDA PESERTA USMT1"},null,null,null,null,"RUANG",null,null,{"$f":"'DATA KARTU'!$D$1&\" \"&'DATA KARTU'!G1","v":"KARTU TANDA PESERTA USMT1"},null,null,null,null,"RUANG"]
[null,{"$f":"'DATA KARTU'!$D$2&\" \"&'DATA KARTU'!G2","v":"TAHUN PELAJARAN 2017/2018"},null,null,null,null,{"$f":"'DATA KARTU'!$B67","v":0},null,null,{"$f":"'DATA KARTU'!$D$2&\" \"&'DATA KARTU'!G2","v":"TAHUN PELAJARAN 2017/2018"},null,null,null,null,{"$f":"'DATA KARTU'!$B68","v":0}]
[null,{"$f":"'DATA KARTU'!$D$3","v":"MIS NURUL ISLAM LABRUK KIDUL"},null,null,null,null,null,null,null,{"$f":"'DATA KARTU'!$D$3","v":"MIS NURUL ISLAM LABRUK KIDUL"}]
[]
[null,null,"Nomor Peserta",null,":",{"$f":"'DATA KARTU'!$C67","v":0},null,null,null,null,"Nomor Peserta",null,":",{"$f":"'DATA KARTU'!$C68","v":0}]
[null,null,"Nama Peserta",null,":",{"$f":"'DATA KARTU'!$D67","v":0},null,null,null,null,"Nama Peserta",null,":",{"$f":"'DATA KARTU'!$D68","v":0}]
[null,null,"Tempat Tanggal Lahir",null,":",{"$f":"'DATA KARTU'!$E67&\", \"&TEXT('DATA KARTU'!$F67,\"dd mmmm yyyy\")","v":", 00 Januari 1900"},null,null,null,null,"Tempat Tanggal Lahir",null,":",{"$f":"'DATA KARTU'!$E68&\", \"&TEXT('DATA KARTU'!$F68,\"dd mmmm yyyy\")","v":", 00 Januari 1900"}]
[]
[null,null,null,null,null,{"$f":"'DATA KARTU'!$D$5&\", \"&TEXT('DATA KARTU'!$D$6,\"dd mmmm yyyy\")","v":"Labruk Kidul, 04 Desember 2017"},null,null,null,null,null,null,null,{"$f":"'DATA KARTU'!$D$5&\", \"&TEXT('DATA KARTU'!$D$6,\"dd mmmm yyyy\")","v":"Labruk Kidul, 04 Desember 2017"}]
[null,null,"Pas Photo 3x3",null,null,"Kepala Madrasah",null,null,null,null,"Pas Photo 3x3",null,null,"Kepala Madrasah"]
[]
[]
[null,null,null,null,null,{"$f":"'DATA KARTU'!$D$4","v":"SAHRONI,S.Pd.I"},null,null,null,null,null,null,null,{"$f":"'DATA KARTU'!$D$4","v":"SAHRONI,S.Pd.I"}]

{"sheet":"DENAH UJIAN","index":3,"n_rows":104,"n_cols":8,"rows_kept":104,"cut":false,"hidden":false,"merged":[[0,0,0,8],[2,0,2,8],[36,0,36,8],[38,0,38,8],[72,0,72,8],[74,0,74,8],[1,0,1,8],[37,0,37,8],[73,0,73,8]]}
[{"$f":"\"DENAH RUANG \"&'DATA KARTU'!B9","v":"DENAH RUANG 1A"}]
[{"$f":"'DATA KARTU'!I1&\" (\"&'DATA KARTU'!G1&\")\"","v":"UJIAN SEMESTER 1 (USMT1)"}]
[{"$f":"'DATA KARTU'!$D$3","v":"MIS NURUL ISLAM LABRUK KIDUL"}]
[]
[]
[null,"●",null,"●",null,"●",null,"●"]
[null,{"$f":"'DATA KARTU'!$C28","v":"1-2017-020-5"},null,{"$f":"'DATA KARTU'!$C27","v":"1-2017-019-6"},null,{"$f":"'DATA KARTU'!$C26","v":"1-2017-018-7"},null,{"$f":"'DATA KARTU'!$C25","v":"1-2017-017-8"}]
[null,{"$f":"'DATA KARTU'!$D28","v":"MUCHAMMAD FITRA RAFIAN SYACH"},null,{"$f":"'DATA KARTU'!$D27","v":"MAULIDYA EKA FEBRIANI"},null,{"$f":"'DATA KARTU'!$D26","v":"MARSAYU ENJEL NATASYA"},null,{"$f":"'DATA KARTU'!$D25","v":"LINTANG AZKA AHMAD"}]
[]
[]
[null,"●",null,"●",null,"●",null,"●"]
[null,{"$f":"'DATA KARTU'!$C21","v":"1-2017-013-4"},null,{"$f":"'DATA KARTU'!$C22","v":"1-2017-014-3"},null,{"$f":"'DATA KARTU'!$C23","v":"1-2017-015-2"},null,{"$f":"'DATA KARTU'!$C24","v":"1-2017-016-9"}]
[null,{"$f":"'DATA KARTU'!$D21","v":"FELISA FAUZIA RAMADHANI"},null,{"$f":"'DATA KARTU'!$D22","v":"GADIS REFALINA"},null,{"$f":"'DATA KARTU'!$D23","v":"IRFAN SAPUTRA"},null,{"$f":"'DATA KARTU'!$D24","v":"KHARISMA EKA RAMADHANI"}]
[]
[]
[null,"●",null,"●",null,"●",null,"●"]
[null,{"$f":"'DATA KARTU'!$C20","v":"1-2017-012-5"},null,{"$f":"'DATA KARTU'!$C19","v":"1-2017-011-6"},null,{"$f":"'DATA KARTU'!$C18","v":"1-2017-010-7"},null,{"$f":"'DATA KARTU'!$C17","v":"1-2017-009-8"}]
[null,{"$f":"'DATA KARTU'!$D20","v":"FATHAH IZDIHAR AMINAH"},null,{"$f":"'DATA KARTU'!$D19","v":"ELVINA NOVA WARDANI"},null,{"$f":"'DATA KARTU'!$D18","v":"DAVIN JOEVINO VIRDIANSYAH SUSILO"},null,{"$f":"'DATA KARTU'!$D17","v":"CHEPY ANGGUN FIRDIANI"}]
[]
[]
[null,"●",null,"●",null,"●",null,"●"]
[null,{"$f":"'DATA KARTU'!$C13","v":"1-2017-005-4"},null,{"$f":"'DATA KARTU'!$C14","v":"1-2017-006-3"},null,{"$f":"'DATA KARTU'!$C15","v":"1-2017-007-2"},null,{"$f":"'DATA KARTU'!$C16","v":"1-2017-008-9"}]
[null,{"$f":"'DATA KARTU'!$D13","v":"AHMAD ZAINUR ROZIQIN"},null,{"$f":"'DATA KARTU'!$D14","v":"ALFA JABARZADI ABDUL HAMID"},null,{"$f":"'DATA KARTU'!$D15","v":"ALIFIA PRINCES MAHARANI"},null,{"$f":"'DATA KARTU'!$D16","v":"CANDRA ALFARISI"}]
[]
[]
[null,"●",null,"●",null,"●",null,"●"]
[null,{"$f":"'DATA KARTU'!$C12","v":"1-2017-004-5"},null,{"$f":"'DATA KARTU'!$C11","v":"1-2017-003-6"},null,{"$f":"'DATA KARTU'!$C10","v":"1-2017-002-7"},null,{"$f":"'DATA KARTU'!$C9","v":"1-2017-001-8"}]
[null,{"$f":"'DATA KARTU'!$D12","v":"AHMAD NASICH BAIHAQI"},null,{"$f":"'DATA KARTU'!$D11","v":"ACHMAD MUFTI LABIB"},null,{"$f":"'DATA KARTU'!$D10","v":"ACHMAD FATIR TRI HARTONO"},null,{"$f":"'DATA KARTU'!$D9","v":"ABDUS SALAM"}]
[]
[]
[null,null,null,"PENGAWAS",null,"PENGAWAS"]
[null,null,null,"●",null,"●"]
[]
[]
[]
[]
[{"$f":"\"DENAH RUANG \"&'DATA KARTU'!B29","v":"DENAH RUANG 1A"}]
[{"$f":"A2","v":"UJIAN SEMESTER 1 (USMT1)"}]
[{"$f":"'DATA KARTU'!$D$3","v":"MIS NURUL ISLAM LABRUK KIDUL"}]
[]
[]
[null,"●",null,"●",null,"●",null,"●"]
[null,{"$f":"'DATA KARTU'!$C48","v":0},null,{"$f":"'DATA KARTU'!$C47","v":0},null,{"$f":"'DATA KARTU'!$C46","v":0},null,{"$f":"'DATA KARTU'!$C45","v":0}]
[null,{"$f":"'DATA KARTU'!$D48","v":0},null,{"$f":"'DATA KARTU'!$D47","v":0},null,{"$f":"'DATA KARTU'!$D46","v":0},null,{"$f":"'DATA KARTU'!$D45","v":0}]
[]
[]
[null,"●",null,"●",null,"●",null,"●"]
[null,{"$f":"'DATA KARTU'!$C41","v":"1-2017-033-8"},null,{"$f":"'DATA KARTU'!$C42","v":0},null,{"$f":"'DATA KARTU'!$C43","v":0},null,{"$f":"'DATA KARTU'!$C44","v":0}]
[null,{"$f":"'DATA KARTU'!$D41","v":"TARIKHA ASYFANA"},null,{"$f":"'DATA KARTU'!$D42","v":0},null,{"$f":"'DATA KARTU'!$D43","v":0},null,{"$f":"'DATA KARTU'!$D44","v":0}]
[]
[]
[null,"●",null,"●",null,"●",null,"●"]
[null,{"$f":"'DATA KARTU'!$C40","v":"1-2017-032-9"},null,{"$f":"'DATA KARTU'!$C39","v":"1-2017-031-2"},null,{"$f":"'DATA KARTU'!$C38","v":"1-2017-030-3"},null,{"$f":"'DATA KARTU'!$C37","v":"1-2017-029-4"}]
[null,{"$f":"'DATA KARTU'!$D40","v":"SAFFINA IZZA"},null,{"$f":"'DATA KARTU'!$D39","v":"NAISYA AVISENA AZ-ZAHRAH"},null,{"$f":"'DATA KARTU'!$D38","v":"NABILA EKA WULANDARI"},null,{"$f":"'DATA KARTU'!$D37","v":"MUTIA TIANTIKA SARI"}]
[]
[]
[null,"●",null,"●",null,"●",null,"●"]
[null,{"$f":"'DATA KARTU'!$C33","v":"1-2017-025-8"},null,{"$f":"'DATA KARTU'!$C34","v":"1-2017-026-7"},null,{"$f":"'DATA KARTU'!$C35","v":"1-2017-027-6"},null,{"$f":"'DATA KARTU'!$C36","v":"1-2017-028-5"}]
[null,{"$f":"'DATA KARTU'!$D33","v":"MUHAMMAD KHAFIDZ AL FARIZI"},null,{"$f":"'DATA KARTU'!$D34","v":"MUHAMMAD WILDAN UBAIDILLAH"},null,{"$f":"'DATA KARTU'!$D35","v":"MOHAMMAD ZAENAL SEPTIAN PUTRA"},null,{"$f":"'DATA KARTU'!$D36","v":"MUKHAMMAD AZZAM FUADY"}]
[]
[]
[null,"●",null,"●",null,"●",null,"●"]
[null,{"$f":"'DATA KARTU'!$C32","v":"1-2017-024-9"},null,{"$f":"'DATA KARTU'!$C31","v":"1-2017-023-2"},null,{"$f":"'DATA KARTU'!$C30","v":"1-2017-022-3"},null,{"$f":"'DATA KARTU'!$C29","v":"1-2017-021-4"}]
[null,{"$f":"'DATA KARTU'!$D32","v":"MUHAMMAD FITRA RAMADHANI"},null,{"$f":"'DATA KARTU'!$D31","v":"MUHAMMAD DICO ARDIANSYA"},null,{"$f":"'DATA KARTU'!$D30","v":"MUHAMMAD BAYU SYAIFUDDIN SYAH"},null,{"$f":"'DATA KARTU'!$D29","v":"MUHAMMAD AHZAM BINARQI"}]
[]
[]
[null,null,null,"PENGAWAS",null,"PENGAWAS"]
[null,null,null,"●",null,"●"]
[]
[]
[]
[]
[{"$f":"\"DENAH RUANG \"&'DATA KARTU'!B49","v":"DENAH RUANG "}]
[{"$f":"A2","v":"UJIAN SEMESTER 1 (USMT1)"}]
[{"$f":"'DATA KARTU'!$D$3","v":"MIS NURUL ISLAM LABRUK KIDUL"}]
[]
[]
[null,"●",null,"●",null,"●",null,"●"]
[null,{"$f":"'DATA KARTU'!$C68","v":0},null,{"$f":"'DATA KARTU'!$C67","v":0},null,{"$f":"'DATA KARTU'!$C66","v":0},null,{"$f":"'DATA KARTU'!$C65","v":0}]
[null,{"$f":"'DATA KARTU'!$D68","v":0},null,{"$f":"'DATA KARTU'!$D67","v":0},null,{"$f":"'DATA KARTU'!$D66","v":0},null,{"$f":"'DATA KARTU'!$D65","v":0}]
[]
[]
[null,"●",null,"●",null,"●",null,"●"]
[null,{"$f":"'DATA KARTU'!$C61","v":0},null,{"$f":"'DATA KARTU'!$C62","v":0},null,{"$f":"'DATA KARTU'!$C63","v":0},null,{"$f":"'DATA KARTU'!$C64","v":0}]
[null,{"$f":"'DATA KARTU'!$D61","v":0},null,{"$f":"'DATA KARTU'!$D62","v":0},null,{"$f":"'DATA KARTU'!$D63","v":0},null,{"$f":"'DATA KARTU'!$D64","v":0}]
[]
[]
[null,"●",null,"●",null,"●",null,"●"]
[null,{"$f":"'DATA KARTU'!$C60","v":0},null,{"$f":"'DATA KARTU'!$C59","v":0},null,{"$f":"'DATA KARTU'!$C58","v":0},null,{"$f":"'DATA KARTU'!$C57","v":0}]
[null,{"$f":"'DATA KARTU'!$D60","v":0},null,{"$f":"'DATA KARTU'!$D59","v":0},null,{"$f":"'DATA KARTU'!$D58","v":0},null,{"$f":"'DATA KARTU'!$D57","v":0}]
[]
[]
[null,"●",null,"●",null,"●",null,"●"]
[null,{"$f":"'DATA KARTU'!$C53","v":0},null,{"$f":"'DATA KARTU'!$C54","v":0},null,{"$f":"'DATA KARTU'!$C55","v":0},null,{"$f":"'DATA KARTU'!$C56","v":0}]
[null,{"$f":"'DATA KARTU'!$D53","v":0},null,{"$f":"'DATA KARTU'!$D54","v":0},null,{"$f":"'DATA KARTU'!$D55","v":0},null,{"$f":"'DATA KARTU'!$D56","v":0}]
[]
[]
[null,"●",null,"●",null,"●",null,"●"]
[null,{"$f":"'DATA KARTU'!$C52","v":0},null,{"$f":"'DATA KARTU'!$C51","v":0},null,{"$f":"'DATA KARTU'!$C50","v":0},null,{"$f":"'DATA KARTU'!$C49","v":0}]
[null,{"$f":"'DATA KARTU'!$D52","v":0},null,{"$f":"'DATA KARTU'!$D51","v":0},null,{"$f":"'DATA KARTU'!$D50","v":0},null,{"$f":"'DATA KARTU'!$D49","v":0}]
[]
[]
[null,null,null,"PENGAWAS",null,"PENGAWAS"]
[null,null,null,"●",null,"●"]

{"sheet":"TULISAN TEMPEL PENSIL","index":4,"n_rows":55,"n_cols":2,"rows_kept":55,"cut":false,"hidden":false,"merged":[]}
["ADIMUL MU'DAM ALI HASAN MUHAMMAD ALBANIN","ADIMUL MU'DAM ALI HASAN MUHAMMAD ALBANIN"]
["AHMAD MASLUFI","AHMAD MASLUFI"]
["AHMAD MASLUKHI","AHMAD MASLUKHI"]
["AKHMAD MIFTAKHUL ULUM","AKHMAD MIFTAKHUL ULUM"]
["AKHMAD ROKHANI YUSUF","AKHMAD ROKHANI YUSUF"]
["ANANDA DWI REZA MUSLIM","ANANDA DWI REZA MUSLIM"]
["ANIFATIMATUS SHOLICHAH","ANIFATIMATUS SHOLICHAH"]
["ANTI HANA KHAIRINNISA","ANTI HANA KHAIRINNISA"]
["DIMAS SAPUTRA","DIMAS SAPUTRA"]
["DWI AMAR MAHENDRA","DWI AMAR MAHENDRA"]
["EIDJA RAHMA SARI","EIDJA RAHMA SARI"]
["ELMA NUR YANTI","ELMA NUR YANTI"]
["FIRLINA AMELIA","FIRLINA AMELIA"]
["IDHA ARIFATUL KHOIROH","IDHA ARIFATUL KHOIROH"]
["IMAM MASLUKHI RAMADANI","IMAM MASLUKHI RAMADANI"]
["INAYATUL CHOIROH","INAYATUL CHOIROH"]
["INDANA ZULFA","INDANA ZULFA"]
["INDANA ZULFA","INDANA ZULFA"]
["INKA RIZKI NADIROH","INKA RIZKI NADIROH"]
["LISA AL FALAH PUTRI","LISA AL FALAH PUTRI"]
["MUKHAMAD IRMAS FIRMANSYAH","MUKHAMAD IRMAS FIRMANSYAH"]
["MUHAMAD RIDHO SAPUTRA","MUHAMAD RIDHO SAPUTRA"]
["MOCHAMAD DIMAS IRWANTO","MOCHAMAD DIMAS IRWANTO"]
["MOCHAMMAD RIDHO MAGHFUR","MOCHAMMAD RIDHO MAGHFUR"]
["MUHAMAD ZIDAN ALYANDI","MUHAMAD ZIDAN ALYANDI"]
["MUHAMMAD IKHWAN MAULANA","MUHAMMAD IKHWAN MAULANA"]
["MUHAMMAD RIZQY MULYA","MUHAMMAD RIZQY MULYA"]
["MOHAMMAD ROJAB","MOHAMMAD ROJAB"]
["MUCHAMAD NUR HIDAYAT","MUCHAMAD NUR HIDAYAT"]
["MUCHAMMAD TEGAR AURA SAPUTRA","MUCHAMMAD TEGAR AURA SAPUTRA"]
["MUHAMMAD DIDI PRAYOGI","MUHAMMAD DIDI PRAYOGI"]
["MUHAMMAD FADLI FIRMANSYAH","MUHAMMAD FADLI FIRMANSYAH"]
["MUHAMMAD SYARIFUDIN","MUHAMMAD SYARIFUDIN"]
["MUHAMMAD ZAENURI","MUHAMMAD ZAENURI"]
["MUKHAMMAD AUNILLAH SYAHPUTRA","MUKHAMMAD AUNILLAH SYAHPUTRA"]
["MUSLIM ABDILLAH","MUSLIM ABDILLAH"]
["NABILATUL KHOIROH","NABILATUL KHOIROH"]
["NADIA MUFIDATUN NISA","NADIA MUFIDATUN NISA"]
["NANIK SRI AGUSTIN","NANIK SRI AGUSTIN"]
["NAZWA NAFISAH","NAZWA NAFISAH"]
["NUR KHAMIDAH","NUR KHAMIDAH"]
["NUR LAILA REZA AGUSTIN","NUR LAILA REZA AGUSTIN"]
["PRISISKA DWIFALENTINA","PRISISKA DWIFALENTINA"]
["PUTRI DUWI OKTAFIYA","PUTRI DUWI OKTAFIYA"]
["QURROTIL A'YUN","QURROTIL A'YUN"]
["RESINATA ALFIYANTI","RESINATA ALFIYANTI"]
["RINA UTARI","RINA UTARI"]
["SITI USWATUN KHASANAH","SITI USWATUN KHASANAH"]
["TASYA DWI MAISYAROH","TASYA DWI MAISYAROH"]
["TASYA WURI INDRAWATI","TASYA WURI INDRAWATI"]
["TORIQUN NAFIK","TORIQUN NAFIK"]
["VENI DWI ISAPUTRI","VENI DWI ISAPUTRI"]
["WASIQ RIZKI ILMIAH","WASIQ RIZKI ILMIAH"]
["WINDA DWI SEPTIANI","WINDA DWI SEPTIANI"]
["WINDI AGUSTINA","WINDI AGUSTINA"]