{"text_format":"1","workbook":"xlsx","n_sheets":28,"sheets":["DEPAN","SISWA","AH","AA","FQ","SKI","IPS","PKn","BID","BA","MTK","IPA","SBK","PJK","BD","BIG","DAKOLUN","Sheet1","IJAZAH","IJAZAHCATAT","SKHUS","UAMNU","UAMNUCATAT","SKLULUS","SKHU SD","NILAI","petunjuk","RUMUS"],"not_rendered":{"charts":0,"images":17,"macros":1,"external_links":0,"defined_names":34,"comments":1,"pivot_tables":0},"unopened":[],"bounds":{"document_bytes":16777216,"sheet_cells":100000,"rows_first":2000,"rows_last":500,"rows_between":2000,"halvings":0,"cell_chars":16384,"cell_head_chars":4096},"cells_cut":0,"cells_raw":0,"read":"whole","date_system":"1900"}

{"sheet":"DEPAN","index":0,"n_rows":16,"n_cols":27,"rows_kept":16,"cut":false,"hidden":false,"merged":[[2,1,2,11],[9,3,9,4],[11,3,11,4],[13,3,13,4],[15,3,15,4]]}
[]
[]
[]
[]
[]
[null,null,"NAMA LEMBAGA","MI","Nurul Islam Labruk Kidul",null,null,null,null,null,null,null,null,null,null,null,null,null,null,null,null,null,null,null,{"$f":"IF(LEMBAGA=\"MI\",\"Madrasah Ibtidaiyah\",\"Sekolah Dasar\")","v":"Madrasah Ibtidaiyah"},null,{"$f":"E6","v":"Nurul Islam Labruk Kidul"}]
[null,null,null,null,null,null,null,null,null,null,null,null,null,null,null,null,null,null,null,null,null,null,null,null,{"$f":"LEMBAGA&\" \"&E6","v":"MI Nurul Islam Labruk Kidul"}]
[null,null,"NAMA KEPALA SEKOLAH","Sahroni,S.Pd.I"]
[]
[null,null,"NIP KS","-"]
[]
[null,null,"KECAMATAN","SUMBERSUKO"]
[]
[null,null,"KABUPATEN","LUMAJANG",null,null,null,null,null,null,null,null,null,null,null,null,null,null,null,null,null,null,null,null,{"$f":"C14&\" \"&D14","v":"KABUPATEN LUMAJANG"}]
[]
[null,null,"TAHUN PELAJARAN","2018/2019",null,null,null,null,null,null,null,null,null,null,null,null,null,null,null,null,null,null,null,null,{"$f":"C16&\" \"&D16","v":"TAHUN PELAJARAN 2018/2019"}]

{"sheet":"SISWA","index":1,"n_rows":207,"n_cols":19,"rows_kept":207,"cut":false,"hidden":false,"merged":[[4,5,6,5],[4,0,6,0],[4,1,6,1],[4,2,6,2],[4,3,6,3],[4,4,6,4],[4,16,4,17],[4,18,5,18],[4,9,6,9],[4,10,6,10],[4,6,6,6],[4,7,6,7],[4,13,6,14],[4,15,5,15],[4,8,6,8]]}
[]
[]
[]
[]
["NO","No \nInduk","NISN","Nomor Peserta","Nama Peserta","Tempat Lahir","Tanggal Lahir","Nama\nOrang Tua","L/P","NO","MATA PELAJARAN",null,null,"NO PESERTA",null,"HASIL","YANG HARUS DI ISI",null,"HASIL"]
[null,null,null,null,null,null,null,null,null,null,null,"SKM",null,null,null,null,"NO URUT SURAT","ISI NOMOR SURAT"]
[null,null,null,null,null,null,null,null,null,null,null,null,null,null,null,"TANGGAL LAHIR TEXT","051","/MINI.L-Kid/30.02.02/S.1-2/VI/2019",{"$f":"Q7&R7","v":"051/MINI.L-Kid/30.02.02/S.1-2/VI/2019"}]
[1,4270,"0067566336",{"$f":"N8&TEXT(A8,\"#000\"&\"-\"&O8)","v":"1-18-05-80-162-001-9"},"ADITYA MAULA FANDY TAULANI","LUMAJANG","2006-06-13","MUHAMMAD KHAMDANI SYAIFULLAH","L",1,"Pendidikan Agama",null,null,"1-18-05-80-162-",9,{"$f":"F8&\", \"&TEXT(G8,\"[$-id-ID]dd mmmm yyyy\")","v":"LUMAJANG, 13 Juni 2006"},"052","/MINI.L-Kid/30.02.02/S.1-2/VI/2019",{"$f":"Q8&R8","v":"052/MINI.L-Kid/30.02.02/S.1-2/VI/2019"}]
[2,4300,"0066364963","1-18-05-80-162-002-8","AHMAD FERDIAN ALAMSYAH","LUMAJANG","2006-08-19","SUAMAT","L",2,"Pendidikan Kewarganegaraan",65,null,"1-18-05-80-162-",8,"LUMAJANG, 19 Agustus 2006","053","/MINI.L-Kid/30.02.02/S.1-2/VI/2019","053/MINI.L-Kid/30.02.02/S.1-2/VI/2019"]
[3,4271,"0062805893","1-18-05-80-162-003-7","AHMAD RAMADHANI FADLULLOH","LUMAJANG","2006-10-18","MUHAMMAD SHODIKUL MUNIR","L",3,"Bahasa Indonesia",65,null,"1-18-05-80-162-",7,"LUMAJANG, 18 Oktober 2006","054","/MINI.L-Kid/30.02.02/S.1-2/VI/2019","054/MINI.L-Kid/30.02.02/S.1-2/VI/2019"]
[4,4398,"0062399399","1-18-05-80-162-004-6","ANANDA AMILIA","LUMAJANG","2006-02-10","AKHMADI","P",4,"Matematika",65,null,"1-18-05-80-162-",6,"LUMAJANG, 10 Februari 2006","055","/MINI.L-Kid/30.02.02/S.1-2/VI/2019","055/MINI.L-Kid/30.02.02/S.1-2/VI/2019"]
[5,4272,"0071551428","1-18-05-80-162-005-5","ANDINI MAULID DWI LESTARI","LUMAJANG","2007-03-30","EDI HARTONO","P",5,"Ilmu Pengetahuan Alam",65,null,"1-18-05-80-162-",5,"LUMAJANG, 30 Maret 2007","056","/MINI.L-Kid/30.02.02/S.1-2/VI/2019","056/MINI.L-Kid/30.02.02/S.1-2/VI/2019"]
[6,4301,"0061907599","1-18-05-80-162-006-4","ANDRIK YUSRI","LUMAJANG","2006-05-15","SUYONO","L",6,"Ilmu Pengetahuan Sosial",65,null,"1-18-05-80-162-",4,"LUMAJANG, 15 Mei 2006","057","/MINI.L-Kid/30.02.02/S.1-2/VI/2019","057/MINI.L-Kid/30.02.02/S.1-2/VI/2019"]
[7,4273,"0067280519","1-18-05-80-162-007-3","DEWI SAKINAH ISWARA","LUMAJANG","2006-08-31","SUPRIYANTO","P",7,"Seni Budaya dan Keterampilan",70,null,"1-18-05-80-162-",3,"LUMAJANG, 31 Agustus 2006","058","/MINI.L-Kid/30.02.02/S.1-2/VI/2019","058/MINI.L-Kid/30.02.02/S.1-2/VI/2019"]
[8,4307,"0066012198","1-18-05-80-162-008-2","CHAKIM","LUMAJANG","2006-05-05","RIFAI","L",8,"Pendidikan Jasmani Olahraga dan Kesehatan",70,null,"1-18-05-80-162-",2,"LUMAJANG, 05 Mei 2006","059","/MINI.L-Kid/30.02.02/S.1-2/VI/2019","059/MINI.L-Kid/30.02.02/S.1-2/VI/2019"]
[9,4275,"0078199679","1-18-05-80-162-009-9","HANIK APRILIA SARI","LUMAJANG","2007-04-23","IMAM HANAFI","P",9,"Bahasa Daerah",65,null,"1-18-05-80-162-",9,"LUMAJANG, 23 April 2007","060","/MINI.L-Kid/30.02.02/S.1-2/VI/2019","060/MINI.L-Kid/30.02.02/S.1-2/VI/2019"]
[10,"4238","0051503260","1-18-05-80-162-010-8","DESI NATALIA SAPUTRI","LUMAJANG","2005-12-24","EKO HARIANTO","P",10,"Bahasa Inggris",65,null,"1-18-05-80-162-",8,"LUMAJANG, 24 Desember 2005","061","/MINI.L-Kid/30.02.02/S.1-2/VI/2019","061/MINI.L-Kid/30.02.02/S.1-2/VI/2019"]
[11,4391,"0079418518","1-18-05-80-162-011-7","HIDAYATUL KHUMAINIA","LUMAJANG","2007-10-04","YOYOK HARIYANTO","P",11,"Aqidah Akhlaq",65,null,"1-18-05-80-162-",7,"LUMAJANG, 04 Oktober 2007","062","/MINI.L-Kid/30.02.02/S.1-2/VI/2019","062/MINI.L-Kid/30.02.02/S.1-2/VI/2019"]
[12,4274,"0077670297","1-18-05-80-162-012-6","DWITA FITA WULANDARI","LUMAJANG","2007-02-25","MOCHAMAD SUDI","P",12,"Al Qur'an Hadits",65,null,"1-18-05-80-162-",6,"LUMAJANG, 25 Februari 2007","063","/MINI.L-Kid/30.02.02/S.1-2/VI/2019","063/MINI.L-Kid/30.02.02/S.1-2/VI/2019"]
[13,4276,"0067236848","1-18-05-80-162-013-5","IZZA ILMIA AZZAHRA","LUMAJANG","2006-12-15","MISKADIONO","P",13,"Fiqih",65,null,"1-18-05-80-162-",5,"LUMAJANG, 15 Desember 2006","064","/MINI.L-Kid/30.02.02/S.1-2/VI/2019","064/MINI.L-Kid/30.02.02/S.1-2/VI/2019"]
[14,4303,"0064031376","1-18-05-80-162-014-4","FARIDATUS SAHDIAH","LUMAJANG","2006-06-29","URIFAN RAIS","P",14,"Sejarah Kebudayaan Islam",65,null,"1-18-05-80-162-",4,"LUMAJANG, 29 Juni 2006","065","/MINI.L-Kid/30.02.02/S.1-2/VI/2019","065/MINI.L-Kid/30.02.02/S.1-2/VI/2019"]
[15,4278,"0079672823","1-18-05-80-162-015-3","KHARISYA AZZAHRO","LUMAJANG","2007-01-21","NUR SALIM","P",15,"Bahasa Arab",65,null,"1-18-05-80-162-",3,"LUMAJANG, 21 Januari 2007","066","/MINI.L-Kid/30.02.02/S.1-2/VI/2019","066/MINI.L-Kid/30.02.02/S.1-2/VI/2019"]
[16,4277,"0077101453","1-18-05-80-162-016-2","KARINA FEBBY CAHYA AMILIA","LUMAJANG","2007-02-01","SENO","P",null,null,null,null,"1-18-05-80-162-",2,"LUMAJANG, 01 Februari 2007","067","/MINI.L-Kid/30.02.02/S.1-2/VI/2019","067/MINI.L-Kid/30.02.02/S.1-2/VI/2019"]
[17,4601,"0069718082","1-18-05-80-162-017-9","MOCHAMAD RIFKY ROSAN","LUMAJANG","17/06/2006","AHMAD ROFIK","L",null,null,null,null,"1-18-05-80-162-",9,"LUMAJANG, 17 Juni 2006","068","/MINI.L-Kid/30.02.02/S.1-2/VI/2019","068/MINI.L-Kid/30.02.02/S.1-2/VI/2019"]
[18,"4241","0057006145","1-18-05-80-162-018-8","KHUSNI CAHYONO","LUMAJANG","2005-07-14","NUR SUBUR","L",null,null,null,null,"1-18-05-80-162-",8,"LUMAJANG, 14 Juli 2005","069","/MINI.L-Kid/30.02.02/S.1-2/VI/2019","069/MINI.L-Kid/30.02.02/S.1-2/VI/2019"]
[19,4280,"0062061356","1-18-05-80-162-019-7","MUCHAMMAD ALIEF FERDIANSYAH","LUMAJANG","2006-06-22","ALI USMAN","L",null,null,null,null,"1-18-05-80-162-",7,"LUMAJANG, 22 Juni 2006","070","/MINI.L-Kid/30.02.02/S.1-2/VI/2019","070/MINI.L-Kid/30.02.02/S.1-2/VI/2019"]
[20,4306,"0069095925","1-18-05-80-162-020-6","LENNY AGUSTIN NINGTYAS","LUMAJANG","2006-08-17","SARONI","P",null,null,null,null,"1-18-05-80-162-",6,"LUMAJANG, 17 Agustus 2006","071","/MINI.L-Kid/30.02.02/S.1-2/VI/2019","071/MINI.L-Kid/30.02.02/S.1-2/VI/2019"]
[21,4281,"0069153972","1-18-05-80-162-021-5","MUHAMMAD AGUS ANDRIANTO","LUMAJANG","2006-08-11","TOTOK YULIANTO","L",null,null,null,null,"1-18-05-80-162-",5,"LUMAJANG, 11 Agustus 2006","072","/MINI.L-Kid/30.02.02/S.1-2/VI/2019","072/MINI.L-Kid/30.02.02/S.1-2/VI/2019"]
[22,4308,"0063078335","1-18-05-80-162-022-4","MAURIS HIDAYATUR ROCHMAN","LUMAJANG","2006-12-11","MOKHAMAD SOLIKHIN","L",null,null,null,null,"1-18-05-80-162-",4,"LUMAJANG, 11 Desember 2006","073","/MINI.L-Kid/30.02.02/S.1-2/VI/2019","073/MINI.L-Kid/30.02.02/S.1-2/VI/2019"]
[23,4314,"0072178353","1-18-05-80-162-023-3","MUHAMMAD BISMAR TAUFIQUROHMAN","LUMAJANG","2007-02-20","BUSTANUL ABEN","L",null,null,null,null,"1-18-05-80-162-",3,"LUMAJANG, 20 Februari 2007","074","/MINI.L-Kid/30.02.02/S.1-2/VI/2019","074/MINI.L-Kid/30.02.02/S.1-2/VI/2019"]
[24,4309,"0072198448","1-18-05-80-162-024-2","MAYA BUNGA ANJANI","LUMAJANG","2007-05-04","NGATERI","P",null,null,null,null,"1-18-05-80-162-",2,"LUMAJANG, 04 Mei 2007","075","/MINI.L-Kid/30.02.02/S.1-2/VI/2019","075/MINI.L-Kid/30.02.02/S.1-2/VI/2019"]
[25,4320,"0064566227","1-18-05-80-162-025-9","MUHAMMAD SAHLAN SHODIQ","LUMAJANG","2006-04-26","ABDULLOH SHIDIQ","L",null,null,null,null,"1-18-05-80-162-",9,"LUMAJANG, 26 April 2006","076","/MINI.L-Kid/30.02.02/S.1-2/VI/2019","076/MINI.L-Kid/30.02.02/S.1-2/VI/2019"]
[26,4279,"0066637092","1-18-05-80-162-026-8","MITA SEPTIANI ISLAMIA","LUMAJANG","2006-09-16","SUBEKHAN","P",null,null,null,null,"1-18-05-80-162-",8,"LUMAJANG, 16 September 2006","077","/MINI.L-Kid/30.02.02/S.1-2/VI/2019","077/MINI.L-Kid/30.02.02/S.1-2/VI/2019"]
[27,4321,"0061244045","1-18-05-80-162-027-7","MUHAMMAD SEPTYAN EKA PRATAMA","LUMAJANG","2006-09-14","ADI SUPARTO","L",null,null,null,null,"1-18-05-80-162-",7,"LUMAJANG, 14 September 2006","078","/MINI.L-Kid/30.02.02/S.1-2/VI/2019","078/MINI.L-Kid/30.02.02/S.1-2/VI/2019"]
[28,"4247","0053546157","1-18-05-80-162-028-6","MOCHAMAD ARIEL FRANS TITO","LUMAJANG","2005-02-12","MARSUGIANTO","L",null,null,null,null,"1-18-05-80-162-",6,"LUMAJANG, 12 Februari 2005","079","/MINI.L-Kid/30.02.02/S.1-2/VI/2019","079/MINI.L-Kid/30.02.02/S.1-2/VI/2019"]
[29,4285,"0067871553","1-18-05-80-162-029-5","MUHAMMAD VERYANSYAH","LUMAJANG","2006-05-21","SUTIKNO","L",null,null,null,null,"1-18-05-80-162-",5,"LUMAJANG, 21 Mei 2006","080","/MINI.L-Kid/30.02.02/S.1-2/VI/2019","080/MINI.L-Kid/30.02.02/S.1-2/VI/2019"]
[30,4310,"0066383678","1-18-05-80-162-030-4","MOCHAMMAD BIMA RISFANDA","LUMAJANG","2006-08-25","IMAM WAHYUDI","L",null,null,null,null,"1-18-05-80-162-",4,"LUMAJANG, 25 Agustus 2006","081","/MINI.L-Kid/30.02.02/S.1-2/VI/2019","081/MINI.L-Kid/30.02.02/S.1-2/VI/2019"]
[31,4286,"0064443822","1-18-05-80-162-031-3","MUHAMMAD ZIDNY NA'IM","LUMAJANG","2006-07-31","AGUS MUSHADI","L",null,null,null,null,"1-18-05-80-162-",3,"LUMAJANG, 31 Juli 2006","082","/MINI.L-Kid/30.02.02/S.1-2/VI/2019","082/MINI.L-Kid/30.02.02/S.1-2/VI/2019"]
[32,4282,"0068336765","1-18-05-80-162-032-2","MUHAMMAD AGUS FERDIANSYAH","LUMAJANG","2006-08-11","TOTOK YULIANTO","L",null,null,null,null,"1-18-05-80-162-",2,"LUMAJANG, 11 Agustus 2006","083","/MINI.L-Kid/30.02.02/S.1-2/VI/2019","083/MINI.L-Kid/30.02.02/S.1-2/VI/2019"]
[33,4287,"0064528717",{"$f":"N40&TEXT(A40,\"#000\"&\"-\"&O40)","v":"1-18-05-80-162-033-9"},"MUHAMMAD FARDAN ABDILLAH","LUMAJANG","2006-01-18","EDI SUSANTO","L",null,null,null,null,"1-18-05-80-162-",9,{"$f":"F40&\", \"&TEXT(G40,\"[$-id-ID]dd mmmm yyyy\")","v":"LUMAJANG, 18 Januari 2006"},"084","/MINI.L-Kid/30.02.02/S.1-2/VI/2019","084/MINI.L-Kid/30.02.02/S.1-2/VI/2019"]
[34,4315,"0067870495","1-18-05-80-162-034-8","NABILA ARISKA PUTRI","LUMAJANG","2006-06-16","MUHAMMAD ZAINURI","P",null,null,null,null,"1-18-05-80-162-",8,"LUMAJANG, 16 Juni 2006","085","/MINI.L-Kid/30.02.02/S.1-2/VI/2019","085/MINI.L-Kid/30.02.02/S.1-2/VI/2019"]
[35,4288,"0068641191","1-18-05-80-162-035-7","MUHAMMAD FERDINAN JAYYIDAH RIFQI","LUMAJANG","2007-05-13","MUHAMAD SHOLEH","L",null,null,null,null,"1-18-05-80-162-",7,"LUMAJANG, 13 Mei 2007","086","/MINI.L-Kid/30.02.02/S.1-2/VI/2019","086/MINI.L-Kid/30.02.02/S.1-2/VI/2019"]
[36,4283,"0077212388","1-18-05-80-162-036-6","NAFISA INDRIANI","LUMAJANG","2006-06-03","ABDUL GHOFAR","P",null,null,null,null,"1-18-05-80-162-",6,"LUMAJANG, 03 Juni 2006","087","/MINI.L-Kid/30.02.02/S.1-2/VI/2019","087/MINI.L-Kid/30.02.02/S.1-2/VI/2019"]
[37,"4257","0069944706","1-18-05-80-162-037-5","MUHAMMAD FIRMANSYAH","LUMAJANG","2006-09-27","MULYADI","L",null,null,null,null,"1-18-05-80-162-",5,"LUMAJANG, 27 September 2006","088","/MINI.L-Kid/30.02.02/S.1-2/VI/2019","088/MINI.L-Kid/30.02.02/S.1-2/VI/2019"]
[38,4317,"0068498059","1-18-05-80-162-038-4","NAJWA FARISYA BAROROH","LUMAJANG","2006-12-25","MOCHAMAD SYAIR","P",null,null,null,null,"1-18-05-80-162-",4,"LUMAJANG, 25 Desember 2006","089","/MINI.L-Kid/30.02.02/S.1-2/VI/2019","089/MINI.L-Kid/30.02.02/S.1-2/VI/2019"]
[39,4289,"0065225517","1-18-05-80-162-039-3","NUR FITRIYAH","LUMAJANG","2006-11-02","SLAMET","P",null,null,null,null,"1-18-05-80-162-",3,"LUMAJANG, 02 November 2006","090","/MINI.L-Kid/30.02.02/S.1-2/VI/2019","090/MINI.L-Kid/30.02.02/S.1-2/VI/2019"]
[40,4318,"0061441364","1-18-05-80-162-040-2","MUHAMMAD HILDAN DWI SAPUTRA","LUMAJANG","2006-05-04","SUDIYO","L",null,null,null,null,"1-18-05-80-162-",2,"LUMAJANG, 04 Mei 2006","091","/MINI.L-Kid/30.02.02/S.1-2/VI/2019","091/MINI.L-Kid/30.02.02/S.1-2/VI/2019"]
[41,4392,"0075794532","1-18-05-80-162-041-9","PUTRI NAFI'ATUS SOLIKHAH","LUMAJANG","2007-02-24","KUSNO WIBOWO","P",null,null,null,null,"1-18-05-80-162-",9,"LUMAJANG, 24 Februari 2007","092","/MINI.L-Kid/30.02.02/S.1-2/VI/2019","092/MINI.L-Kid/30.02.02/S.1-2/VI/2019"]
[42,4284,"0069578000","1-18-05-80-162-042-8","MUHAMMAD RAYA KAFAF JAUHARI","LUMAJANG","2006-09-06","WAWAN JAUHARI","L",null,null,null,null,"1-18-05-80-162-",8,"LUMAJANG, 06 September 2006","093","/MINI.L-Kid/30.02.02/S.1-2/VI/2019","093/MINI.L-Kid/30.02.02/S.1-2/VI/2019"]
[43,4290,"0063558216","1-18-05-80-162-043-7","QORIATUN SHOLIHAH","LUMAJANG","2006-05-04","HOTIB","P",null,null,null,null,"1-18-05-80-162-",7,"LUMAJANG, 04 Mei 2006","094","/MINI.L-Kid/30.02.02/S.1-2/VI/2019","094/MINI.L-Kid/30.02.02/S.1-2/VI/2019"]
[44,4319,"0065329770","1-18-05-80-162-044-6","MUHAMMAD RUDI TANTOWIK","LUMAJANG","2006-09-09","MUHAMMAD SOLEH","L",null,null,null,null,"1-18-05-80-162-",6,"LUMAJANG, 09 September 2006","095","/MINI.L-Kid/30.02.02/S.1-2/VI/2019","095/MINI.L-Kid/30.02.02/S.1-2/VI/2019"]
[45,4291,"0067071679","1-18-05-80-162-045-5","RACHMAD HIDAYAT","LUMAJANG","2006-08-27","MASDUKI","L",null,null,null,null,"1-18-05-80-162-",5,"LUMAJANG, 27 Agustus 2006","096","/MINI.L-Kid/30.02.02/S.1-2/VI/2019","096/MINI.L-Kid/30.02.02/S.1-2/VI/2019"]
[46,4322,"0051101989","1-18-05-80-162-046-4","MUHAMMAD ZULDIENUR HABIBIE","LUMAJANG","2005-11-30","MA'LUM (Alm)","L",null,null,null,null,"1-18-05-80-162-",4,"LUMAJANG, 30 November 2005","097","/MINI.L-Kid/30.02.02/S.1-2/VI/2019","097/MINI.L-Kid/30.02.02/S.1-2/VI/2019"]
[47,4292,"0072001696","1-18-05-80-162-047-3","RHEA RAYSHANADA NUGRAHA","SURABAYA","2007-02-06","DANANG ARI NUGROHO","P",null,null,null,null,"1-18-05-80-162-",3,"SURABAYA, 06 Februari 2007","098","/MINI.L-Kid/30.02.02/S.1-2/VI/2019","098/MINI.L-Kid/30.02.02/S.1-2/VI/2019"]
[48,4323,"0078949167","1-18-05-80-162-048-2","MUKHAMAD KHOIRUL AMIN","LUMAJANG","2007-05-02","SUPIYANTO","L",null,null,null,null,"1-18-05-80-162-",2,"LUMAJANG, 02 Mei 2007","099","/MINI.L-Kid/30.02.02/S.1-2/VI/2019","099/MINI.L-Kid/30.02.02/S.1-2/VI/2019"]
[49,4293,"0064217705","1-18-05-80-162-049-9","RIYANTI APRILIA","LUMAJANG","2006-04-26","M KHODIRIN","P",null,null,null,null,"1-18-05-80-162-",9,"LUMAJANG, 26 April 2006","100","/MINI.L-Kid/30.02.02/S.1-2/VI/2019","100/MINI.L-Kid/30.02.02/S.1-2/VI/2019"]
[50,"4256","0065699742","1-18-05-80-162-050-8","MUKHAMMAD YAASIIN HASAN KHASBULLOH","LUMAJANG","2006-01-19","SAMSUHAR","L",null,null,null,null,"1-18-05-80-162-",8,"LUMAJANG, 19 Januari 2006","101","/MINI.L-Kid/30.02.02/S.1-2/VI/2019","101/MINI.L-Kid/30.02.02/S.1-2/VI/2019"]
[51,4295,"0061359184","1-18-05-80-162-051-7","SHONIA AULIA AS'AD","LUMAJANG","2006-09-01","ABU ANCAR","P",null,null,null,null,"1-18-05-80-162-",7,"LUMAJANG, 01 September 2006","102","/MINI.L-Kid/30.02.02/S.1-2/VI/2019","102/MINI.L-Kid/30.02.02/S.1-2/VI/2019"]
[52,4294,"0064723905","1-18-05-80-162-052-6","RIZKA AYU WULANDARI","BANYUWANGI","2006-05-23","HARIYONO","P",null,null,null,null,"1-18-05-80-162-",6,"BANYUWANGI, 23 Mei 2006","103","/MINI.L-Kid/30.02.02/S.1-2/VI/2019","103/MINI.L-Kid/30.02.02/S.1-2/VI/2019"]
[53,4298,"0065530554","1-18-05-80-162-053-5","VERLINA DWI MAULANI","LUMAJANG","2006-04-22","MUCHAMMAD KHOIDIN","P",null,null,null,null,"1-18-05-80-162-",5,"LUMAJANG, 22 April 2006","104","/MINI.L-Kid/30.02.02/S.1-2/VI/2019","104/MINI.L-Kid/30.02.02/S.1-2/VI/2019"]
[54,4297,"0063846732","1-18-05-80-162-054-4","USWATUN KHASANAH","LUMAJANG","2006-12-19","GATOT","P",null,null,null,null,"1-18-05-80-162-",4,"LUMAJANG, 19 Desember 2006","105","/MINI.L-Kid/30.02.02/S.1-2/VI/2019","105/MINI.L-Kid/30.02.02/S.1-2/VI/2019"]
[55,4324,"0078966795","1-18-05-80-162-055-3","VIKA KUSUMA WATI","LUMAJANG","2007-05-03","SELAMET EFENDI","P",null,null,null,null,"1-18-05-80-162-",3,"LUMAJANG, 03 Mei 2007","106","/MINI.L-Kid/30.02.02/S.1-2/VI/2019","106/MINI.L-Kid/30.02.02/S.1-2/VI/2019"]
[56,4326,"0064124533","1-18-05-80-162-056-2","YOHAN EGA GILANG PERMANA","LUMAJANG","2006-11-24","MARTONO","L",null,null,null,null,"1-18-05-80-162-",2,"LUMAJANG, 24 November 2006","107","/MINI.L-Kid/30.02.02/S.1-2/VI/2019","107/MINI.L-Kid/30.02.02/S.1-2/VI/2019"]
[57,null,null,{"$f":"N64&TEXT(A64,\"#000\"&\"-\"&O64)","v":"1-18-05-80-162-057-9"},null,null,null,null,null,null,null,null,null,"1-18-05-80-162-",9,{"$f":"F65&\", \"&TEXT(G65,\"[$-id-ID]dd mmmm yyyy\")","v":", 00 Januari 1900"},"108",null,"108"]
[58,null,null,"1-18-05-80-162-058-8",null,null,null,null,null,null,null,null,null,"1-18-05-80-162-",8,", 00 Januari 1900","109",null,"109"]
[59,null,null,"1-18-05-80-162-059-7",null,null,null,null,null,null,null,null,null,"1-18-05-80-162-",7,", 00 Januari 1900","110",null,"110"]
[60,null,null,"1-18-05-80-162-060-6",null,null,null,null,null,null,null,null,null,"1-18-05-80-162-",6,", 00 Januari 1900","111",null,"111"]
[61,null,null,"1-18-05-80-162-061-5",null,null,null,null,null,null,null,null,null,"1-18-05-80-162-",5,", 00 Januari 1900","112",null,"112"]
[62,null,null,"062-4",null,null,null,null,null,null,null,null,null,null,4,", 00 Januari 1900","113",null,"113"]
[63,null,null,"063-3",null,null,null,null,null,null,null,null,null,null,3,", 00 Januari 1900","114",null,"114"]
[64,null,null,"064-2",null,null,null,null,null,null,null,null,null,null,2,", 00 Januari 1900","115",null,"115"]
[65,null,null,"065-",null,null,null,null,null,null,null,null,null,null,null,{"$f":"F73&\", \"&TEXT(G73,\"[$-id-ID]dd mmmm yyyy\")","v":", 00 Januari 1900"},"116",null,{"$f":"Q72&R72","v":"116"}]
[66,null,null,{"$f":"N73&TEXT(A73,\"#000\"&\"-\"&O73)","v":"066-"},null,null,null,null,null,null,null,null,null,null,null,", 00 Januari 1900","117",null,"117"]
[67,null,null,"067-",null,null,null,null,null,null,null,null,null,null,null,", 00 Januari 1900","118",null,"118"]
[68,null,null,"068-",null,null,null,null,null,null,null,null,null,null,null,", 00 Januari 1900","119",null,"119"]
[69,null,null,"069-",null,null,null,null,null,null,null,null,null,null,null,", 00 Januari 1900","120",null,"120"]
[70,null,null,"070-",null,null,null,null,null,null,null,null,null,null,null,", 00 Januari 1900","121",null,"121"]
[71,null,null,"071-",null,null,null,null,null,null,null,null,null,null,null,", 00 Januari 1900","122",null,"122"]
[72,null,null,"072-",null,null,null,null,null,null,null,null,null,null,null,", 00 Januari 1900","123",null,"123"]
[73,null,null,"073-",null,null,null,null,null,null,null,null,null,null,null,", 00 Januari 1900","124",null,"124"]
[74,null,null,"074-",null,null,null,null,null,null,null,null,null,null,null,", 00 Januari 1900","125",null,"125"]
[75,null,null,"075-",null,null,null,null,null,null,null,null,null,null,null,", 00 Januari 1900","126",null,"126"]
[76,null,null,"076-",null,null,null,null,null,null,null,null,null,null,null,", 00 Januari 1900","127",null,"127"]
[77,null,null,"077-",null,null,null,null,null,null,null,null,null,null,null,", 00 Januari 1900","128",null,"128"]
[78,null,null,"078-",null,null,null,null,null,null,null,null,null,null,null,", 00 Januari 1900","129",null,"129"]
[79,null,null,"079-",null,null,null,null,null,null,null,null,null,null,null,", 00 Januari 1900","130",null,"130"]
[80,null,null,"080-",null,null,null,null,null,null,null,null,null,null,null,", 00 Januari 1900","131",null,"131"]
[81,null,null,"081-",null,null,null,null,null,null,null,null,null,null,null,", 00 Januari 1900","132",null,"132"]
[82,null,null,"082-",null,null,null,null,null,null,null,null,null,null,null,", 00 Januari 1900","133",null,"133"]
[83,null,null,"083-",null,null,null,null,null,null,null,null,null,null,null,", 00 Januari 1900","134",null,"134"]
[84,null,null,"084-",null,null,null,null,null,null,null,null,null,null,null,", 00 Januari 1900","135",null,"135"]
[85,null,null,"085-",null,null,null,null,null,null,null,null,null,null,null,", 00 Januari 1900","136",null,"136"]
[86,null,null,"086-",null,null,null,null,null,null,null,null,null,null,null,", 00 Januari 1900","137",null,"137"]
[87,null,null,"087-",null,null,null,null,null,null,null,null,null,null,null,", 00 Januari 1900","138",null,"138"]
[88,null,null,"088-",null,null,null,null,null,null,null,null,null,null,null,", 00 Januari 1900","139",null,"139"]
[89,null,null,"089-",null,null,null,null,null,null,null,null,null,null,null,", 00 Januari 1900","140",null,"140"]
[90,null,null,"090-",null,null,null,null,null,null,null,null,null,null,null,", 00 Januari 1900","141",null,"141"]
[91,null,null,"091-",null,null,null,null,null,null,null,null,null,null,null,", 00 Januari 1900","142",null,"142"]
[92,null,null,"092-",null,null,null,null,null,null,null,null,null,null,null,", 00 Januari 1900","143",null,"143"]
[93,null,null,"093-",null,null,null,null,null,null,null,null,null,null,null,", 00 Januari 1900","144",null,"144"]
[94,null,null,"094-",null,null,null,null,null,null,null,null,null,null,null,", 00 Januari 1900","145",null,"145"]
[95,null,null,"095-",null,null,null,null,null,null,null,null,null,null,null,", 00 Januari 1900","146",null,"146"]
[96,null,null,"096-",null,null,null,null,null,null,null,null,null,null,null,", 00 Januari 1900","147",null,"147"]
[97,null,null,"097-",null,null,null,null,null,null,null,null,null,null,null,", 00 Januari 1900","148",null,"148"]
[98,null,null,"098-",null,null,null,null,null,null,null,null,null,null,null,", 00 Januari 1900","149",null,"149"]
[99,null,null,"099-",null,null,null,null,null,null,null,null,null,null,null,", 00 Januari 1900","150",null,"150"]
[100,null,null,"100-",null,null,null,null,null,null,null,null,null,null,null,", 00 Januari 1900","151",null,"151"]
[101,null,null,"101-",null,null,null,null,null,null,null,null,null,null,null,", 00 Januari 1900","152",null,"152"]
[102,null,null,"102-",null,null,null,null,null,null,null,null,null,null,null,", 00 Januari 1900","153",null,"153"]
[103,null,null,"103-",null,null,null,null,null,null,null,null,null,null,null,", 00 Januari 1900","154",null,"154"]
[104,null,null,"104-",null,null,null,null,null,null,null,null,null,null,null,", 00 Januari 1900","155",null,"155"]
[105,null,null,"105-",null,null,null,null,null,null,null,null,null,null,null,", 00 Januari 1900","156",null,"156"]
[106,null,null,"106-",null,null,null,null,null,null,null,null,null,null,null,", 00 Januari 1900","157",null,"157"]
[107,null,null,"107-",null,null,null,null,null,null,null,null,null,null,null,", 00 Januari 1900","158",null,"158"]
[108,null,null,"108-",null,null,null,null,null,null,null,null,null,null,null,", 00 Januari 1900","159",null,"159"]
[109,null,null,"109-",null,null,null,null,null,null,null,null,null,null,null,", 00 Januari 1900","160",null,"160"]
[110,null,null,"110-",null,null,null,null,null,null,null,null,null,null,null,", 00 Januari 1900","161",null,"161"]
[111,null,null,"111-",null,null,null,null,null,null,null,null,null,null,null,", 00 Januari 1900","162",null,"162"]
[112,null,null,"112-",null,null,null,null,null,null,null,null,null,null,null,", 00 Januari 1900","163",null,"163"]
[113,null,null,"113-",null,null,null,null,null,null,null,null,null,null,null,", 00 Januari 1900","164",null,"164"]
[114,null,null,"114-",null,null,null,null,null,null,null,null,null,null,null,", 00 Januari 1900","165",null,"165"]
[115,null,null,"115-",null,null,null,null,null,null,null,null,null,null,null,", 00 Januari 1900","166",null,"166"]
[116,null,null,"116-",null,null,null,null,null,null,null,null,null,null,null,", 00 Januari 1900","167",null,"167"]
[117,null,null,"117-",null,null,null,null,null,null,null,null,null,null,null,", 00 Januari 1900","168",null,"168"]
[118,null,null,"118-",null,null,null,null,null,null,null,null,null,null,null,", 00 Januari 1900","169",null,"169"]
[119,null,null,"119-",null,null,null,null,null,null,null,null,null,null,null,", 00 Januari 1900","170",null,"170"]
[120,null,null,"120-",null,null,null,null,null,null,null,null,null,null,null,", 00 Januari 1900","171",null,"171"]
[121,null,null,"121-",null,null,null,null,null,null,null,null,null,null,null,", 00 Januari 1900","172",null,"172"]
[122,null,null,"122-",null,null,null,null,null,null,null,null,null,null,null,", 00 Januari 1900","173",null,"173"]
[123,null,null,"123-",null,null,null,null,null,null,null,null,null,null,null,", 00 Januari 1900","174",null,"174"]
[124,null,null,"124-",null,null,null,null,null,null,null,null,null,null,null,", 00 Januari 1900","175",null,"175"]
[125,null,null,"125-",null,null,null,null,null,null,null,null,null,null,null,", 00 Januari 1900","176",null,"176"]
[126,null,null,"126-",null,null,null,null,null,null,null,null,null,null,null,", 00 Januari 1900","177",null,"177"]
[127,null,null,"127-",null,null,null,null,null,null,null,null,null,null,null,", 00 Januari 1900","178",null,"178"]
[128,null,null,"128-",null,null,null,null,null,null,null,null,null,null,null,", 00 Januari 1900","179",null,"179"]
[129,null,null,"129-",null,null,null,null,null,null,null,null,null,null,null,{"$f":"F137&\", \"&TEXT(G137,\"[$-id-ID]dd mmmm yyyy\")","v":", 00 Januari 1900"},"180",null,{"$f":"Q136&R136","v":"180"}]
[130,null,null,{"$f":"N137&TEXT(A137,\"#000\"&\"-\"&O137)","v":"130-"},null,null,null,null,null,null,null,null,null,null,null,", 00 Januari 1900","181",null,"181"]
[131,null,null,"131-",null,null,null,null,null,null,null,null,null,null,null,", 00 Januari 1900","182",null,"182"]
[132,null,null,"132-",null,null,null,null,null,null,null,null,null,null,null,", 00 Januari 1900","183",null,"183"]
[133,null,null,"133-",null,null,null,null,null,null,null,null,null,null,null,", 00 Januari 1900","184",null,"184"]
[134,null,null,"134-",null,null,null,null,null,null,null,null,null,null,null,", 00 Januari 1900","185",null,"185"]
[135,null,null,"135-",null,null,null,null,null,null,null,null,null,null,null,", 00 Januari 1900","186",null,"186"]
[136,null,null,"136-",null,null,null,null,null,null,null,null,null,null,null,", 00 Januari 1900","187",null,"187"]
[137,null,null,"137-",null,null,null,null,null,null,null,null,null,null,null,", 00 Januari 1900","188",null,"188"]
[138,null,null,"138-",null,null,null,null,null,null,null,null,null,null,null,", 00 Januari 1900","189",null,"189"]
[139,null,null,"139-",null,null,null,null,null,null,null,null,null,null,null,", 00 Januari 1900","190",null,"190"]
[140,null,null,"140-",null,null,null,null,null,null,null,null,null,null,null,", 00 Januari 1900","191",null,"191"]
[141,null,null,"141-",null,null,null,null,null,null,null,null,null,null,null,", 00 Januari 1900","192",null,"192"]
[142,null,null,"142-",null,null,null,null,null,null,null,null,null,null,null,", 00 Januari 1900","193",null,"193"]
[143,null,null,"143-",null,null,null,null,null,null,null,null,null,null,null,", 00 Januari 1900","194",null,"194"]
[144,null,null,"144-",null,null,null,null,null,null,null,null,null,null,null,", 00 Januari 1900","195",null,"195"]
[145,null,null,"145-",null,null,null,null,null,null,null,null,null,null,null,", 00 Januari 1900","196",null,"196"]
[146,null,null,"146-",null,null,null,null,null,null,null,null,null,null,null,", 00 Januari 1900","197",null,"197"]
[147,null,null,"147-",null,null,null,null,null,null,null,null,null,null,null,", 00 Januari 1900","198",null,"198"]
[148,null,null,"148-",null,null,null,null,null,null,null,null,null,null,null,", 00 Januari 1900","199",null,"199"]
[149,null,null,"149-",null,null,null,null,null,null,null,null,null,null,null,", 00 Januari 1900","200",null,"200"]
[150,null,null,"150-",null,null,null,null,null,null,null,null,null,null,null,", 00 Januari 1900","201",null,"201"]
[151,null,null,"151-",null,null,null,null,null,null,null,null,null,null,null,", 00 Januari 1900","202",null,"202"]
[152,null,null,"152-",null,null,null,null,null,null,null,null,null,null,null,", 00 Januari 1900","203",null,"203"]
[153,null,null,"153-",null,null,null,null,null,null,null,null,null,null,null,", 00 Januari 1900","204",null,"204"]
[154,null,null,"154-",null,null,null,null,null,null,null,null,null,null,null,", 00 Januari 1900","205",null,"205"]
[155,null,null,"155-",null,null,null,null,null,null,null,null,null,null,null,", 00 Januari 1900","206",null,"206"]
[156,null,null,"156-",null,null,null,null,null,null,null,null,null,null,null,", 00 Januari 1900","207",null,"207"]
[157,null,null,"157-",null,null,null,null,null,null,null,null,null,null,null,", 00 Januari 1900","208",null,"208"]
[158,null,null,"158-",null,null,null,null,null,null,null,null,null,null,null,", 00 Januari 1900","209",null,"209"]
[159,null,null,"159-",null,null,null,null,null,null,null,null,null,null,null,", 00 Januari 1900","210",null,"210"]
[160,null,null,"160-",null,null,null,null,null,null,null,null,null,null,null,", 00 Januari 1900","211",null,"211"]
[161,null,null,"161-",null,null,null,null,null,null,null,null,null,null,null,", 00 Januari 1900","212",null,"212"]
[162,null,null,"162-",null,null,null,null,null,null,null,null,null,null,null,", 00 Januari 1900","213",null,"213"]
[163,null,null,"163-",null,null,null,null,null,null,null,null,null,null,null,", 00 Januari 1900","214",null,"214"]
[164,null,null,"164-",null,null,null,null,null,null,null,null,null,null,null,", 00 Januari 1900","215",null,"215"]
[165,null,null,"165-",null,null,null,null,null,null,null,null,null,null,null,", 00 Januari 1900","216",null,"216"]
[166,null,null,"166-",null,null,null,null,null,null,null,null,null,null,null,", 00 Januari 1900","217",null,"217"]
[167,null,null,"167-",null,null,null,null,null,null,null,null,null,null,null,", 00 Januari 1900","218",null,"218"]
[168,null,null,"168-",null,null,null,null,null,null,null,null,null,null,null,", 00 Januari 1900","219",null,"219"]
[169,null,null,"169-",null,null,null,null,null,null,null,null,null,null,null,", 00 Januari 1900","220",null,"220"]
[170,null,null,"170-",null,null,null,null,null,null,null,null,null,null,null,", 00 Januari 1900","221",null,"221"]
[171,null,null,"171-",null,null,null,null,null,null,null,null,null,null,null,", 00 Januari 1900","222",null,"222"]
[172,null,null,"172-",null,null,null,null,null,null,null,null,null,null,null,", 00 Januari 1900","223",null,"223"]
[173,null,null,"173-",null,null,null,null,null,null,null,null,null,null,null,", 00 Januari 1900","224",null,"224"]
[174,null,null,"174-",null,null,null,null,null,null,null,null,null,null,null,", 00 Januari 1900","225",null,"225"]
[175,null,null,"175-",null,null,null,null,null,null,null,null,null,null,null,", 00 Januari 1900","226",null,"226"]
[176,null,null,"176-",null,null,null,null,null,null,null,null,null,null,null,", 00 Januari 1900","227",null,"227"]
[177,null,null,"177-",null,null,null,null,null,null,null,null,null,null,null,", 00 Januari 1900","228",null,"228"]
[178,null,null,"178-",null,null,null,null,null,null,null,null,null,null,null,", 00 Januari 1900","229",null,"229"]
[179,null,null,"179-",null,null,null,null,null,null,null,null,null,null,null,", 00 Januari 1900","230",null,"230"]
[180,null,null,"180-",null,null,null,null,null,null,null,null,null,null,null,", 00 Januari 1900","231",null,"231"]
[181,null,null,"181-",null,null,null,null,null,null,null,null,null,null,null,", 00 Januari 1900","232",null,"232"]
[182,null,null,"182-",null,null,null,null,null,null,null,null,null,null,null,", 00 Januari 1900","233",null,"233"]
[183,null,null,"183-",null,null,null,null,null,null,null,null,null,null,null,", 00 Januari 1900","234",null,"234"]
[184,null,null,"184-",null,null,null,null,null,null,null,null,null,null,null,", 00 Januari 1900","235",null,"235"]
[185,null,null,"185-",null,null,null,null,null,null,null,null,null,null,null,", 00 Januari 1900","236",null,"236"]
[186,null,null,"186-",null,null,null,null,null,null,null,null,null,null,null,", 00 Januari 1900","237",null,"237"]
[187,null,null,"187-",null,null,null,null,null,null,null,null,null,null,null,", 00 Januari 1900","238",null,"238"]
[188,null,null,"188-",null,null,null,null,null,null,null,null,null,null,null,", 00 Januari 1900","239",null,"239"]
[189,null,null,"189-",null,null,null,null,null,null,null,null,null,null,null,", 00 Januari 1900","240",null,"240"]
[190,null,null,"190-",null,null,null,null,null,null,null,null,null,null,null,", 00 Januari 1900","241",null,"241"]
[191,null,null,"191-",null,null,null,null,null,null,null,null,null,null,null,", 00 Januari 1900","242",null,"242"]
[192,null,null,"192-",null,null,null,null,null,null,null,null,null,null,null,", 00 Januari 1900","243",null,"243"]
[193,null,null,"193-",null,null,null,null,null,null,null,null,null,null,null,{"$f":"F201&\", \"&TEXT(G201,\"[$-id-ID]dd mmmm yyyy\")","v":", 00 Januari 1900"},"244",null,{"$f":"Q200&R200","v":"244"}]
[194,null,null,{"$f":"N201&TEXT(A201,\"#000\"&\"-\"&O201)","v":"194-"},null,null,null,null,null,null,null,null,null,null,null,", 00 Januari 1900","245",null,"245"]
[195,null,null,"195-",null,null,null,null,null,null,null,null,null,null,null,", 00 Januari 1900","246",null,"246"]
[196,null,null,"196-",null,null,null,null,null,null,null,null,null,null,null,", 00 Januari 1900","247",null,"247"]
[197,null,null,"197-",null,null,null,null,null,null,null,null,null,null,null,", 00 Januari 1900","248",null,"248"]
[198,null,null,"198-",null,null,null,null,null,null,null,null,null,null,null,", 00 Januari 1900","249",null,"249"]
[199,null,null,"199-",null,null,null,null,null,null,null,null,null,null,null,", 00 Januari 1900","250",null,"250"]
[200,null,null,"200-"]

{"sheet":"AH","index":2,"n_rows":207,"n_cols":15,"rows_kept":207,"cut":false,"hidden":false,"merged":[[4,14,6,14],[5,11,5,12],[0,0,0,9],[1,0,1,9],[2,0,2,9],[4,0,6,0],[4,1,6,1],[4,2,6,2],[4,3,6,3],[4,4,6,4],[4,5,4,12],[5,5,5,9]]}
["DAFTAR NILAI AKHIR SEKOLAH"]
[{"$f":"AA!A2","v":"MADRASAH IBTIDAIYAH NURUL ISLAM LABRUK KIDUL"}]
[{"$f":"AA!A3","v":"TAHUN PELAJARAN 2018/2019"}]
[]
["NO","No Induk","NISN","Nomor Peserta","Nama Peserta","ALQURAN HADITS",null,null,null,null,null,null,null,null,"rata-rata UAM & PRAKTEK"]
[null,null,null,null,null,"Nilai Semester",null,null,null,null,"Rata- 2","NILAI UAMBD"]
[null,null,null,null,null,7,8,9,10,11,"Rapor","TULIS","PRAKTIK"]
[1,{"$f":"IF(SISWA!B8=0,\"\",SISWA!B8)","v":4270},{"$f":"IF(SISWA!C8=0,\"\",SISWA!C8)","v":"0067566336"},{"$f":"IF(SISWA!D8=0,\"\",SISWA!D8)","v":"1-18-05-80-162-001-9"},{"$f":"IF(SISWA!E8=0,\"\",SISWA!E8)","v":"ADITYA MAULA FANDY TAULANI"},85,81,85,88,91,{"$f":"AVERAGE(F8:J8)","v":86},65,{"$f":"K8","v":86},{"$f":"AVERAGE(L8:M8)","v":75.5},{"$f":"AVERAGE(L8:M8)","v":75.5}]
[2,{"$f":"IF(SISWA!B9=0,\"\",SISWA!B9)","v":4300},{"$f":"IF(SISWA!C9=0,\"\",SISWA!C9)","v":"0066364963"},{"$f":"IF(SISWA!D9=0,\"\",SISWA!D9)","v":"1-18-05-80-162-002-8"},{"$f":"IF(SISWA!E9=0,\"\",SISWA!E9)","v":"AHMAD FERDIAN ALAMSYAH"},73,67,78,73,80,{"$f":"AVERAGE(F9:J9)","v":74.2},65,{"$f":"K9","v":74.2},{"$f":"AVERAGE(L9:M9)","v":69.599999999999994},{"$f":"AVERAGE(L9:M9)","v":69.599999999999994}]
[3,{"$f":"IF(SISWA!B10=0,\"\",SISWA!B10)","v":4271},{"$f":"IF(SISWA!C10=0,\"\",SISWA!C10)","v":"0062805893"},{"$f":"IF(SISWA!D10=0,\"\",SISWA!D10)","v":"1-18-05-80-162-003-7"},{"$f":"IF(SISWA!E10=0,\"\",SISWA!E10)","v":"AHMAD RAMADHANI FADLULLOH"},78,76,82,81,84,80.2,65,80.2,72.599999999999994,72.599999999999994]
[4,{"$f":"IF(SISWA!B11=0,\"\",SISWA!B11)","v":4398},{"$f":"IF(SISWA!C11=0,\"\",SISWA!C11)","v":"0062399399"},{"$f":"IF(SISWA!D11=0,\"\",SISWA!D11)","v":"1-18-05-80-162-004-6"},{"$f":"IF(SISWA!E11=0,\"\",SISWA!E11)","v":"ANANDA AMILIA"},74,68,77,80,86,77,71.900000000000006,77,74.45,74.45]
[5,{"$f":"IF(SISWA!B12=0,\"\",SISWA!B12)","v":4272},{"$f":"IF(SISWA!C12=0,\"\",SISWA!C12)","v":"0071551428"},{"$f":"IF(SISWA!D12=0,\"\",SISWA!D12)","v":"1-18-05-80-162-005-5"},{"$f":"IF(SISWA!E12=0,\"\",SISWA!E12)","v":"ANDINI MAULID DWI LESTARI"},75,74,79,76,84,77.599999999999994,65,77.599999999999994,71.3,71.3]
[6,{"$f":"IF(SISWA!B13=0,\"\",SISWA!B13)","v":4301},{"$f":"IF(SISWA!C13=0,\"\",SISWA!C13)","v":"0061907599"},{"$f":"IF(SISWA!D13=0,\"\",SISWA!D13)","v":"1-18-05-80-162-006-4"},{"$f":"IF(SISWA!E13=0,\"\",SISWA!E13)","v":"ANDRIK YUSRI"},70,61,73,69,82,71,65,71,68,68]
[7,{"$f":"IF(SISWA!B14=0,\"\",SISWA!B14)","v":4273},{"$f":"IF(SISWA!C14=0,\"\",SISWA!C14)","v":"0067280519"},{"$f":"IF(SISWA!D14=0,\"\",SISWA!D14)","v":"1-18-05-80-162-007-3"},{"$f":"IF(SISWA!E14=0,\"\",SISWA!E14)","v":"DEWI SAKINAH ISWARA"},81,81,88,86,89,85,73.099999999999994,85,79.05,79.05]
[8,{"$f":"IF(SISWA!B15=0,\"\",SISWA!B15)","v":4307},{"$f":"IF(SISWA!C15=0,\"\",SISWA!C15)","v":"0066012198"},{"$f":"IF(SISWA!D15=0,\"\",SISWA!D15)","v":"1-18-05-80-162-008-2"},{"$f":"IF(SISWA!E15=0,\"\",SISWA!E15)","v":"CHAKIM"},70,63,70,66,78,69.400000000000006,67.099999999999994,69.400000000000006,68.25,68.25]
[9,{"$f":"IF(SISWA!B16=0,\"\",SISWA!B16)","v":4275},{"$f":"IF(SISWA!C16=0,\"\",SISWA!C16)","v":"0078199679"},{"$f":"IF(SISWA!D16=0,\"\",SISWA!D16)","v":"1-18-05-80-162-009-9"},{"$f":"IF(SISWA!E16=0,\"\",SISWA!E16)","v":"HANIK APRILIA SARI"},80,81,81,82,84,81.599999999999994,67.099999999999994,81.599999999999994,74.349999999999994,74.349999999999994]
[10,{"$f":"IF(SISWA!B17=0,\"\",SISWA!B17)","v":"4238"},{"$f":"IF(SISWA!C17=0,\"\",SISWA!C17)","v":"0051503260"},{"$f":"IF(SISWA!D17=0,\"\",SISWA!D17)","v":"1-18-05-80-162-010-8"},{"$f":"IF(SISWA!E17=0,\"\",SISWA!E17)","v":"DESI NATALIA SAPUTRI"},70,59,71,71,78,69.8,65,69.8,67.400000000000006,67.400000000000006]
[11,{"$f":"IF(SISWA!B18=0,\"\",SISWA!B18)","v":4391},{"$f":"IF(SISWA!C18=0,\"\",SISWA!C18)","v":"0079418518"},{"$f":"IF(SISWA!D18=0,\"\",SISWA!D18)","v":"1-18-05-80-162-011-7"},{"$f":"IF(SISWA!E18=0,\"\",SISWA!E18)","v":"HIDAYATUL KHUMAINIA"},71,64,79,78,83,75,70.900000000000006,75,72.95,72.95]
[12,{"$f":"IF(SISWA!B19=0,\"\",SISWA!B19)","v":4274},{"$f":"IF(SISWA!C19=0,\"\",SISWA!C19)","v":"0077670297"},{"$f":"IF(SISWA!D19=0,\"\",SISWA!D19)","v":"1-18-05-80-162-012-6"},{"$f":"IF(SISWA!E19=0,\"\",SISWA!E19)","v":"DWITA FITA WULANDARI"},73,71,74,75,86,75.8,65,75.8,70.400000000000006,70.400000000000006]
[13,{"$f":"IF(SISWA!B20=0,\"\",SISWA!B20)","v":4276},{"$f":"IF(SISWA!C20=0,\"\",SISWA!C20)","v":"0067236848"},{"$f":"IF(SISWA!D20=0,\"\",SISWA!D20)","v":"1-18-05-80-162-013-5"},{"$f":"IF(SISWA!E20=0,\"\",SISWA!E20)","v":"IZZA ILMIA AZZAHRA"},80,76,83,86,91,83.2,65,83.2,74.099999999999994,74.099999999999994]
[14,{"$f":"IF(SISWA!B21=0,\"\",SISWA!B21)","v":4303},{"$f":"IF(SISWA!C21=0,\"\",SISWA!C21)","v":"0064031376"},{"$f":"IF(SISWA!D21=0,\"\",SISWA!D21)","v":"1-18-05-80-162-014-4"},{"$f":"IF(SISWA!E21=0,\"\",SISWA!E21)","v":"FARIDATUS SAHDIAH"},73,72,74,80,82,76.2,66.290000000000006,76.2,71.245000000000005,71.245000000000005]
[15,{"$f":"IF(SISWA!B22=0,\"\",SISWA!B22)","v":4278},{"$f":"IF(SISWA!C22=0,\"\",SISWA!C22)","v":"0079672823"},{"$f":"IF(SISWA!D22=0,\"\",SISWA!D22)","v":"1-18-05-80-162-015-3"},{"$f":"IF(SISWA!E22=0,\"\",SISWA!E22)","v":"KHARISYA AZZAHRO"},86,86,89,80,94,87,65,87,76,76]
[16,{"$f":"IF(SISWA!B23=0,\"\",SISWA!B23)","v":4277},{"$f":"IF(SISWA!C23=0,\"\",SISWA!C23)","v":"0077101453"},{"$f":"IF(SISWA!D23=0,\"\",SISWA!D23)","v":"1-18-05-80-162-016-2"},{"$f":"IF(SISWA!E23=0,\"\",SISWA!E23)","v":"KARINA FEBBY CAHYA AMILIA"},78,77,80,78,89,80.400000000000006,65,80.400000000000006,72.7,72.7]
[17,{"$f":"IF(SISWA!B24=0,\"\",SISWA!B24)","v":4601},{"$f":"IF(SISWA!C24=0,\"\",SISWA!C24)","v":"0069718082"},{"$f":"IF(SISWA!D24=0,\"\",SISWA!D24)","v":"1-18-05-80-162-017-9"},{"$f":"IF(SISWA!E24=0,\"\",SISWA!E24)","v":"MOCHAMAD RIFKY ROSAN"},72,76,78,76,83,77,65,77,71,71]
[18,{"$f":"IF(SISWA!B25=0,\"\",SISWA!B25)","v":"4241"},{"$f":"IF(SISWA!C25=0,\"\",SISWA!C25)","v":"0057006145"},{"$f":"IF(SISWA!D25=0,\"\",SISWA!D25)","v":"1-18-05-80-162-018-8"},{"$f":"IF(SISWA!E25=0,\"\",SISWA!E25)","v":"KHUSNI CAHYONO"},70,53,69,63,76,66.2,79.099999999999994,66.2,72.650000000000006,72.650000000000006]
[19,{"$f":"IF(SISWA!B26=0,\"\",SISWA!B26)","v":4280},{"$f":"IF(SISWA!C26=0,\"\",SISWA!C26)","v":"0062061356"},{"$f":"IF(SISWA!D26=0,\"\",SISWA!D26)","v":"1-18-05-80-162-019-7"},{"$f":"IF(SISWA!E26=0,\"\",SISWA!E26)","v":"MUCHAMMAD ALIEF FERDIANSYAH"},81,85,82,87,91,85.2,65,85.2,75.099999999999994,75.099999999999994]
[20,{"$f":"IF(SISWA!B27=0,\"\",SISWA!B27)","v":4306},{"$f":"IF(SISWA!C27=0,\"\",SISWA!C27)","v":"0069095925"},{"$f":"IF(SISWA!D27=0,\"\",SISWA!D27)","v":"1-18-05-80-162-020-6"},{"$f":"IF(SISWA!E27=0,\"\",SISWA!E27)","v":"LENNY AGUSTIN NINGTYAS"},70,62,70,67,78,69.400000000000006,65,69.400000000000006,67.2,67.2]
[21,{"$f":"IF(SISWA!B28=0,\"\",SISWA!B28)","v":4281},{"$f":"IF(SISWA!C28=0,\"\",SISWA!C28)","v":"0069153972"},{"$f":"IF(SISWA!D28=0,\"\",SISWA!D28)","v":"1-18-05-80-162-021-5"},{"$f":"IF(SISWA!E28=0,\"\",SISWA!E28)","v":"MUHAMMAD AGUS ANDRIANTO"},78,80,73,78,84,78.599999999999994,65,78.599999999999994,71.8,71.8]
[22,{"$f":"IF(SISWA!B29=0,\"\",SISWA!B29)","v":4308},{"$f":"IF(SISWA!C29=0,\"\",SISWA!C29)","v":"0063078335"},{"$f":"IF(SISWA!D29=0,\"\",SISWA!D29)","v":"1-18-05-80-162-022-4"},{"$f":"IF(SISWA!E29=0,\"\",SISWA!E29)","v":"MAURIS HIDAYATUR ROCHMAN"},76,75,81,80,87,79.8,68.3,79.8,74.05,74.05]
[23,{"$f":"IF(SISWA!B30=0,\"\",SISWA!B30)","v":4314},{"$f":"IF(SISWA!C30=0,\"\",SISWA!C30)","v":"0072178353"},{"$f":"IF(SISWA!D30=0,\"\",SISWA!D30)","v":"1-18-05-80-162-023-3"},{"$f":"IF(SISWA!E30=0,\"\",SISWA!E30)","v":"MUHAMMAD BISMAR TAUFIQUROHMAN"},78,75,82,88,91,82.8,65,82.8,73.900000000000006,73.900000000000006]
[24,{"$f":"IF(SISWA!B31=0,\"\",SISWA!B31)","v":4309},{"$f":"IF(SISWA!C31=0,\"\",SISWA!C31)","v":"0072198448"},{"$f":"IF(SISWA!D31=0,\"\",SISWA!D31)","v":"1-18-05-80-162-024-2"},{"$f":"IF(SISWA!E31=0,\"\",SISWA!E31)","v":"MAYA BUNGA ANJANI"},71,66,71,69,80,71.400000000000006,67.31,71.400000000000006,69.355000000000004,69.355000000000004]
[25,{"$f":"IF(SISWA!B32=0,\"\",SISWA!B32)","v":4320},{"$f":"IF(SISWA!C32=0,\"\",SISWA!C32)","v":"0064566227"},{"$f":"IF(SISWA!D32=0,\"\",SISWA!D32)","v":"1-18-05-80-162-025-9"},{"$f":"IF(SISWA!E32=0,\"\",SISWA!E32)","v":"MUHAMMAD SAHLAN SHODIQ"},81,76,89,83,92,84.2,65,84.2,74.599999999999994,74.599999999999994]
[26,{"$f":"IF(SISWA!B33=0,\"\",SISWA!B33)","v":4279},{"$f":"IF(SISWA!C33=0,\"\",SISWA!C33)","v":"0066637092"},{"$f":"IF(SISWA!D33=0,\"\",SISWA!D33)","v":"1-18-05-80-162-026-8"},{"$f":"IF(SISWA!E33=0,\"\",SISWA!E33)","v":"MITA SEPTIANI ISLAMIA"},70,62,80,78,78,73.599999999999994,65,73.599999999999994,69.3,69.3]
[27,{"$f":"IF(SISWA!B34=0,\"\",SISWA!B34)","v":4321},{"$f":"IF(SISWA!C34=0,\"\",SISWA!C34)","v":"0061244045"},{"$f":"IF(SISWA!D34=0,\"\",SISWA!D34)","v":"1-18-05-80-162-027-7"},{"$f":"IF(SISWA!E34=0,\"\",SISWA!E34)","v":"MUHAMMAD SEPTYAN EKA PRATAMA"},80,76,76,78,84,78.8,65,78.8,71.900000000000006,71.900000000000006]
[28,{"$f":"IF(SISWA!B35=0,\"\",SISWA!B35)","v":"4247"},{"$f":"IF(SISWA!C35=0,\"\",SISWA!C35)","v":"0053546157"},{"$f":"IF(SISWA!D35=0,\"\",SISWA!D35)","v":"1-18-05-80-162-028-6"},{"$f":"IF(SISWA!E35=0,\"\",SISWA!E35)","v":"MOCHAMAD ARIEL FRANS TITO"},70,61,70,68,78,69.400000000000006,65,69.400000000000006,67.2,67.2]
[29,{"$f":"IF(SISWA!B36=0,\"\",SISWA!B36)","v":4285},{"$f":"IF(SISWA!C36=0,\"\",SISWA!C36)","v":"0067871553"},{"$f":"IF(SISWA!D36=0,\"\",SISWA!D36)","v":"1-18-05-80-162-029-5"},{"$f":"IF(SISWA!E36=0,\"\",SISWA!E36)","v":"MUHAMMAD VERYANSYAH"},78,76,73,80,89,79.2,65,79.2,72.099999999999994,72.099999999999994]
[30,{"$f":"IF(SISWA!B37=0,\"\",SISWA!B37)","v":4310},{"$f":"IF(SISWA!C37=0,\"\",SISWA!C37)","v":"0066383678"},{"$f":"IF(SISWA!D37=0,\"\",SISWA!D37)","v":"1-18-05-80-162-030-4"},{"$f":"IF(SISWA!E37=0,\"\",SISWA!E37)","v":"MOCHAMMAD BIMA RISFANDA"},71,57,71,72,78,69.8,65,69.8,67.400000000000006,67.400000000000006]
[31,{"$f":"IF(SISWA!B38=0,\"\",SISWA!B38)","v":4286},{"$f":"IF(SISWA!C38=0,\"\",SISWA!C38)","v":"0064443822"},{"$f":"IF(SISWA!D38=0,\"\",SISWA!D38)","v":"1-18-05-80-162-031-3"},{"$f":"IF(SISWA!E38=0,\"\",SISWA!E38)","v":"MUHAMMAD ZIDNY NA'IM"},86,85,89,80,92,86.4,65,86.4,75.7,75.7]
[32,{"$f":"IF(SISWA!B39=0,\"\",SISWA!B39)","v":4282},{"$f":"IF(SISWA!C39=0,\"\",SISWA!C39)","v":"0068336765"},{"$f":"IF(SISWA!D39=0,\"\",SISWA!D39)","v":"1-18-05-80-162-032-2"},{"$f":"IF(SISWA!E39=0,\"\",SISWA!E39)","v":"MUHAMMAD AGUS FERDIANSYAH"},78,77,79,83,87,80.8,65,80.8,72.900000000000006,72.900000000000006]
[33,{"$f":"IF(SISWA!B40=0,\"\",SISWA!B40)","v":4287},{"$f":"IF(SISWA!C40=0,\"\",SISWA!C40)","v":"0064528717"},{"$f":"IF(SISWA!D40=0,\"\",SISWA!D40)","v":"1-18-05-80-162-033-9"},{"$f":"IF(SISWA!E40=0,\"\",SISWA!E40)","v":"MUHAMMAD FARDAN ABDILLAH"},77,null,77,80,null,78,65,78,71.5,71.5]
[34,{"$f":"IF(SISWA!B41=0,\"\",SISWA!B41)","v":4315},{"$f":"IF(SISWA!C41=0,\"\",SISWA!C41)","v":"0067870495"},{"$f":"IF(SISWA!D41=0,\"\",SISWA!D41)","v":"1-18-05-80-162-034-8"},{"$f":"IF(SISWA!E41=0,\"\",SISWA!E41)","v":"NABILA ARISKA PUTRI"},81,84,83,83,88,83.8,65,83.8,74.400000000000006,74.400000000000006]
[35,{"$f":"IF(SISWA!B42=0,\"\",SISWA!B42)","v":4288},{"$f":"IF(SISWA!C42=0,\"\",SISWA!C42)","v":"0068641191"},{"$f":"IF(SISWA!D42=0,\"\",SISWA!D42)","v":"1-18-05-80-162-035-7"},{"$f":"IF(SISWA!E42=0,\"\",SISWA!E42)","v":"MUHAMMAD FERDINAN JAYYIDAH RIFQI"},80,80,77,85,88,82,65,82,73.5,73.5]
[36,{"$f":"IF(SISWA!B43=0,\"\",SISWA!B43)","v":4283},{"$f":"IF(SISWA!C43=0,\"\",SISWA!C43)","v":"0077212388"},{"$f":"IF(SISWA!D43=0,\"\",SISWA!D43)","v":"1-18-05-80-162-036-6"},{"$f":"IF(SISWA!E43=0,\"\",SISWA!E43)","v":"NAFISA INDRIANI"},81,84,90,91,95,88.2,65,88.2,76.599999999999994,76.599999999999994]
[37,{"$f":"IF(SISWA!B44=0,\"\",SISWA!B44)","v":"4257"},{"$f":"IF(SISWA!C44=0,\"\",SISWA!C44)","v":"0069944706"},{"$f":"IF(SISWA!D44=0,\"\",SISWA!D44)","v":"1-18-05-80-162-037-5"},{"$f":"IF(SISWA!E44=0,\"\",SISWA!E44)","v":"MUHAMMAD FIRMANSYAH"},72,63,71,74,83,72.599999999999994,65,72.599999999999994,68.8,68.8]
[38,{"$f":"IF(SISWA!B45=0,\"\",SISWA!B45)","v":4317},{"$f":"IF(SISWA!C45=0,\"\",SISWA!C45)","v":"0068498059"},{"$f":"IF(SISWA!D45=0,\"\",SISWA!D45)","v":"1-18-05-80-162-038-4"},{"$f":"IF(SISWA!E45=0,\"\",SISWA!E45)","v":"NAJWA FARISYA BAROROH"},76,75,86,87,94,83.6,65,83.6,74.3,74.3]
[39,{"$f":"IF(SISWA!B46=0,\"\",SISWA!B46)","v":4289},{"$f":"IF(SISWA!C46=0,\"\",SISWA!C46)","v":"0065225517"},{"$f":"IF(SISWA!D46=0,\"\",SISWA!D46)","v":"1-18-05-80-162-039-3"},{"$f":"IF(SISWA!E46=0,\"\",SISWA!E46)","v":"NUR FITRIYAH"},78,76,82,79,88,80.599999999999994,65,80.599999999999994,72.8,72.8]
[40,{"$f":"IF(SISWA!B47=0,\"\",SISWA!B47)","v":4318},{"$f":"IF(SISWA!C47=0,\"\",SISWA!C47)","v":"0061441364"},{"$f":"IF(SISWA!D47=0,\"\",SISWA!D47)","v":"1-18-05-80-162-040-2"},{"$f":"IF(SISWA!E47=0,\"\",SISWA!E47)","v":"MUHAMMAD HILDAN DWI SAPUTRA"},71,72,80,78,78,75.8,65,75.8,70.400000000000006,70.400000000000006]
[41,{"$f":"IF(SISWA!B48=0,\"\",SISWA!B48)","v":4392},{"$f":"IF(SISWA!C48=0,\"\",SISWA!C48)","v":"0075794532"},{"$f":"IF(SISWA!D48=0,\"\",SISWA!D48)","v":"1-18-05-80-162-041-9"},{"$f":"IF(SISWA!E48=0,\"\",SISWA!E48)","v":"PUTRI NAFI'ATUS SOLIKHAH"},74,71,80,80,89,78.8,65,78.8,71.900000000000006,71.900000000000006]
[42,{"$f":"IF(SISWA!B49=0,\"\",SISWA!B49)","v":4284},{"$f":"IF(SISWA!C49=0,\"\",SISWA!C49)","v":"0069578000"},{"$f":"IF(SISWA!D49=0,\"\",SISWA!D49)","v":"1-18-05-80-162-042-8"},{"$f":"IF(SISWA!E49=0,\"\",SISWA!E49)","v":"MUHAMMAD RAYA KAFAF JAUHARI"},79,75,80,79,81,78.8,65,78.8,71.900000000000006,71.900000000000006]
[43,{"$f":"IF(SISWA!B50=0,\"\",SISWA!B50)","v":4290},{"$f":"IF(SISWA!C50=0,\"\",SISWA!C50)","v":"0063558216"},{"$f":"IF(SISWA!D50=0,\"\",SISWA!D50)","v":"1-18-05-80-162-043-7"},{"$f":"IF(SISWA!E50=0,\"\",SISWA!E50)","v":"QORIATUN SHOLIHAH"},79,80,72,84,88,80.599999999999994,65,80.599999999999994,72.8,72.8]
[44,{"$f":"IF(SISWA!B51=0,\"\",SISWA!B51)","v":4319},{"$f":"IF(SISWA!C51=0,\"\",SISWA!C51)","v":"0065329770"},{"$f":"IF(SISWA!D51=0,\"\",SISWA!D51)","v":"1-18-05-80-162-044-6"},{"$f":"IF(SISWA!E51=0,\"\",SISWA!E51)","v":"MUHAMMAD RUDI TANTOWIK"},70,71,70,69,78,71.599999999999994,65,71.599999999999994,68.3,68.3]
[45,{"$f":"IF(SISWA!B52=0,\"\",SISWA!B52)","v":4291},{"$f":"IF(SISWA!C52=0,\"\",SISWA!C52)","v":"0067071679"},{"$f":"IF(SISWA!D52=0,\"\",SISWA!D52)","v":"1-18-05-80-162-045-5"},{"$f":"IF(SISWA!E52=0,\"\",SISWA!E52)","v":"RACHMAD HIDAYAT"},77,77,72,78,84,77.599999999999994,65,77.599999999999994,71.3,71.3]
[46,{"$f":"IF(SISWA!B53=0,\"\",SISWA!B53)","v":4322},{"$f":"IF(SISWA!C53=0,\"\",SISWA!C53)","v":"0051101989"},{"$f":"IF(SISWA!D53=0,\"\",SISWA!D53)","v":"1-18-05-80-162-046-4"},{"$f":"IF(SISWA!E53=0,\"\",SISWA!E53)","v":"MUHAMMAD ZULDIENUR HABIBIE"},70,60,76,75,76,71.400000000000006,65,71.400000000000006,68.2,68.2]
[47,{"$f":"IF(SISWA!B54=0,\"\",SISWA!B54)","v":4292},{"$f":"IF(SISWA!C54=0,\"\",SISWA!C54)","v":"0072001696"},{"$f":"IF(SISWA!D54=0,\"\",SISWA!D54)","v":"1-18-05-80-162-047-3"},{"$f":"IF(SISWA!E54=0,\"\",SISWA!E54)","v":"RHEA RAYSHANADA NUGRAHA"},80,78,86,86,91,84.2,65,84.2,74.599999999999994,74.599999999999994]
[48,{"$f":"IF(SISWA!B55=0,\"\",SISWA!B55)","v":4323},{"$f":"IF(SISWA!C55=0,\"\",SISWA!C55)","v":"0078949167"},{"$f":"IF(SISWA!D55=0,\"\",SISWA!D55)","v":"1-18-05-80-162-048-2"},{"$f":"IF(SISWA!E55=0,\"\",SISWA!E55)","v":"MUKHAMAD KHOIRUL AMIN"},70,64,76,79,81,74,65,74,69.5,69.5]
[49,{"$f":"IF(SISWA!B56=0,\"\",SISWA!B56)","v":4293},{"$f":"IF(SISWA!C56=0,\"\",SISWA!C56)","v":"0064217705"},{"$f":"IF(SISWA!D56=0,\"\",SISWA!D56)","v":"1-18-05-80-162-049-9"},{"$f":"IF(SISWA!E56=0,\"\",SISWA!E56)","v":"RIYANTI APRILIA"},81,75,82,84,89,82.2,65,82.2,73.599999999999994,73.599999999999994]
[50,{"$f":"IF(SISWA!B57=0,\"\",SISWA!B57)","v":"4256"},{"$f":"IF(SISWA!C57=0,\"\",SISWA!C57)","v":"0065699742"},{"$f":"IF(SISWA!D57=0,\"\",SISWA!D57)","v":"1-18-05-80-162-050-8"},{"$f":"IF(SISWA!E57=0,\"\",SISWA!E57)","v":"MUKHAMMAD YAASIIN HASAN KHASBULLOH"},75,69,70,72,84,74,70.81,74,72.405000000000001,72.405000000000001]
[51,{"$f":"IF(SISWA!B58=0,\"\",SISWA!B58)","v":4295},{"$f":"IF(SISWA!C58=0,\"\",SISWA!C58)","v":"0061359184"},{"$f":"IF(SISWA!D58=0,\"\",SISWA!D58)","v":"1-18-05-80-162-051-7"},{"$f":"IF(SISWA!E58=0,\"\",SISWA!E58)","v":"SHONIA AULIA AS'AD"},83,86,90,90,96,89,65,89,77,77]
[52,{"$f":"IF(SISWA!B59=0,\"\",SISWA!B59)","v":4294},{"$f":"IF(SISWA!C59=0,\"\",SISWA!C59)","v":"0064723905"},{"$f":"IF(SISWA!D59=0,\"\",SISWA!D59)","v":"1-18-05-80-162-052-6"},{"$f":"IF(SISWA!E59=0,\"\",SISWA!E59)","v":"RIZKA AYU WULANDARI"},78,71,80,81,80,78,65,78,71.5,71.5]
[53,{"$f":"IF(SISWA!B60=0,\"\",SISWA!B60)","v":4298},{"$f":"IF(SISWA!C60=0,\"\",SISWA!C60)","v":"0065530554"},{"$f":"IF(SISWA!D60=0,\"\",SISWA!D60)","v":"1-18-05-80-162-053-5"},{"$f":"IF(SISWA!E60=0,\"\",SISWA!E60)","v":"VERLINA DWI MAULANI"},79,75,80,82,88,80.8,65,80.8,72.900000000000006,72.900000000000006]
[54,{"$f":"IF(SISWA!B61=0,\"\",SISWA!B61)","v":4297},{"$f":"IF(SISWA!C61=0,\"\",SISWA!C61)","v":"0063846732"},{"$f":"IF(SISWA!D61=0,\"\",SISWA!D61)","v":"1-18-05-80-162-054-4"},{"$f":"IF(SISWA!E61=0,\"\",SISWA!E61)","v":"USWATUN KHASANAH"},74,64,82,84,85,77.8,65,77.8,71.400000000000006,71.400000000000006]
[55,{"$f":"IF(SISWA!B62=0,\"\",SISWA!B62)","v":4324},{"$f":"IF(SISWA!C62=0,\"\",SISWA!C62)","v":"0078966795"},{"$f":"IF(SISWA!D62=0,\"\",SISWA!D62)","v":"1-18-05-80-162-055-3"},{"$f":"IF(SISWA!E62=0,\"\",SISWA!E62)","v":"VIKA KUSUMA WATI"},75,68,81,82,86,78.400000000000006,65,78.400000000000006,71.7,71.7]
[56,{"$f":"IF(SISWA!B63=0,\"\",SISWA!B63)","v":4326},{"$f":"IF(SISWA!C63=0,\"\",SISWA!C63)","v":"0064124533"},{"$f":"IF(SISWA!D63=0,\"\",SISWA!D63)","v":"1-18-05-80-162-056-2"},{"$f":"IF(SISWA!E63=0,\"\",SISWA!E63)","v":"YOHAN EGA GILANG PERMANA"},71,null,76,75,75,74.25,65,74.25,69.625,69.625]
[57,{"$f":"IF(SISWA!B64=0,\"\",SISWA!B64)","v":""},{"$f":"IF(SISWA!C64=0,\"\",SISWA!C64)","v":""},{"$f":"IF(SISWA!D64=0,\"\",SISWA!D64)","v":"1-18-05-80-162-057-9"},{"$f":"IF(SISWA!E64=0,\"\",SISWA!E64)","v":""},null,null,null,null,null,{"$f":"AVERAGE(F64:J64)","v":{"$error":"#DIV/0!"}},null,{"$f":"K64","v":{"$error":"#DIV/0!"}},{"$f":"AVERAGE(L64:M64)","v":{"$error":"#DIV/0!"}},{"$f":"AVERAGE(L64:M64)","v":{"$error":"#DIV/0!"}}]
[58,{"$f":"IF(SISWA!B65=0,\"\",SISWA!B65)","v":""},{"$f":"IF(SISWA!C65=0,\"\",SISWA!C65)","v":""},{"$f":"IF(SISWA!D65=0,\"\",SISWA!D65)","v":"1-18-05-80-162-058-8"},{"$f":"IF(SISWA!E65=0,\"\",SISWA!E65)","v":""},null,null,null,null,null,{"$error":"#DIV/0!"},null,null,{"$error":"#DIV/0!"},{"$error":"#DIV/0!"}]
[59,{"$f":"IF(SISWA!B66=0,\"\",SISWA!B66)","v":""},{"$f":"IF(SISWA!C66=0,\"\",SISWA!C66)","v":""},{"$f":"IF(SISWA!D66=0,\"\",SISWA!D66)","v":"1-18-05-80-162-059-7"},{"$f":"IF(SISWA!E66=0,\"\",SISWA!E66)","v":""},null,null,null,null,null,{"$error":"#DIV/0!"},null,null,{"$error":"#DIV/0!"},{"$error":"#DIV/0!"}]
[60,{"$f":"IF(SISWA!B67=0,\"\",SISWA!B67)","v":""},{"$f":"IF(SISWA!C67=0,\"\",SISWA!C67)","v":""},{"$f":"IF(SISWA!D67=0,\"\",SISWA!D67)","v":"1-18-05-80-162-060-6"},{"$f":"IF(SISWA!E67=0,\"\",SISWA!E67)","v":""},null,null,null,null,null,{"$error":"#DIV/0!"},null,null,{"$error":"#DIV/0!"},{"$error":"#DIV/0!"}]
[61,{"$f":"IF(SISWA!B68=0,\"\",SISWA!B68)","v":""},{"$f":"IF(SISWA!C68=0,\"\",SISWA!C68)","v":""},{"$f":"IF(SISWA!D68=0,\"\",SISWA!D68)","v":"1-18-05-80-162-061-5"},{"$f":"IF(SISWA!E68=0,\"\",SISWA!E68)","v":""},null,null,null,null,null,{"$error":"#DIV/0!"},null,null,{"$error":"#DIV/0!"},{"$error":"#DIV/0!"}]
[62,{"$f":"IF(SISWA!B69=0,\"\",SISWA!B69)","v":""},{"$f":"IF(SISWA!C69=0,\"\",SISWA!C69)","v":""},{"$f":"IF(SISWA!D69=0,\"\",SISWA!D69)","v":"062-4"},{"$f":"IF(SISWA!E69=0,\"\",SISWA!E69)","v":""},null,null,null,null,null,{"$error":"#DIV/0!"},null,null,{"$error":"#DIV/0!"},{"$error":"#DIV/0!"}]
[63,{"$f":"IF(SISWA!B70=0,\"\",SISWA!B70)","v":""},{"$f":"IF(SISWA!C70=0,\"\",SISWA!C70)","v":""},{"$f":"IF(SISWA!D70=0,\"\",SISWA!D70)","v":"063-3"},{"$f":"IF(SISWA!E70=0,\"\",SISWA!E70)","v":""},null,null,null,null,null,{"$error":"#DIV/0!"},null,null,{"$error":"#DIV/0!"},{"$error":"#DIV/0!"}]
[64,{"$f":"IF(SISWA!B71=0,\"\",SISWA!B71)","v":""},{"$f":"IF(SISWA!C71=0,\"\",SISWA!C71)","v":""},{"$f":"IF(SISWA!D71=0,\"\",SISWA!D71)","v":"064-2"},{"$f":"IF(SISWA!E71=0,\"\",SISWA!E71)","v":""},null,null,null,null,null,{"$error":"#DIV/0!"},null,null,{"$error":"#DIV/0!"},{"$error":"#DIV/0!"}]
[65,{"$f":"IF(SISWA!B72=0,\"\",SISWA!B72)","v":""},{"$f":"IF(SISWA!C72=0,\"\",SISWA!C72)","v":""},{"$f":"IF(SISWA!D72=0,\"\",SISWA!D72)","v":"065-"},{"$f":"IF(SISWA!E72=0,\"\",SISWA!E72)","v":""},null,null,null,null,null,{"$error":"#DIV/0!"},null,null,{"$error":"#DIV/0!"},{"$error":"#DIV/0!"}]
[66,{"$f":"IF(SISWA!B73=0,\"\",SISWA!B73)","v":""},{"$f":"IF(SISWA!C73=0,\"\",SISWA!C73)","v":""},{"$f":"IF(SISWA!D73=0,\"\",SISWA!D73)","v":"066-"},{"$f":"IF(SISWA!E73=0,\"\",SISWA!E73)","v":""},null,null,null,null,null,{"$f":"AVERAGE(F73:J73)","v":{"$error":"#DIV/0!"}},null,null,{"$f":"AVERAGE(L73:M73)","v":{"$error":"#DIV/0!"}},{"$f":"AVERAGE(L73:M73)","v":{"$error":"#DIV/0!"}}]
[67,{"$f":"IF(SISWA!B74=0,\"\",SISWA!B74)","v":""},{"$f":"IF(SISWA!C74=0,\"\",SISWA!C74)","v":""},{"$f":"IF(SISWA!D74=0,\"\",SISWA!D74)","v":"067-"},{"$f":"IF(SISWA!E74=0,\"\",SISWA!E74)","v":""},null,null,null,null,null,{"$error":"#DIV/0!"},null,null,{"$error":"#DIV/0!"},{"$error":"#DIV/0!"}]
[68,{"$f":"IF(SISWA!B75=0,\"\",SISWA!B75)","v":""},{"$f":"IF(SISWA!C75=0,\"\",SISWA!C75)","v":""},{"$f":"IF(SISWA!D75=0,\"\",SISWA!D75)","v":"068-"},{"$f":"IF(SISWA!E75=0,\"\",SISWA!E75)","v":""},null,null,null,null,null,{"$error":"#DIV/0!"},null,null,{"$error":"#DIV/0!"},{"$error":"#DIV/0!"}]
[69,{"$f":"IF(SISWA!B76=0,\"\",SISWA!B76)","v":""},{"$f":"IF(SISWA!C76=0,\"\",SISWA!C76)","v":""},{"$f":"IF(SISWA!D76=0,\"\",SISWA!D76)","v":"069-"},{"$f":"IF(SISWA!E76=0,\"\",SISWA!E76)","v":""},null,null,null,null,null,{"$error":"#DIV/0!"},null,null,{"$error":"#DIV/0!"},{"$error":"#DIV/0!"}]
[70,{"$f":"IF(SISWA!B77=0,\"\",SISWA!B77)","v":""},{"$f":"IF(SISWA!C77=0,\"\",SISWA!C77)","v":""},{"$f":"IF(SISWA!D77=0,\"\",SISWA!D77)","v":"070-"},{"$f":"IF(SISWA!E77=0,\"\",SISWA!E77)","v":""},null,null,null,null,null,{"$error":"#DIV/0!"},null,null,{"$error":"#DIV/0!"},{"$error":"#DIV/0!"}]
[71,{"$f":"IF(SISWA!B78=0,\"\",SISWA!B78)","v":""},{"$f":"IF(SISWA!C78=0,\"\",SISWA!C78)","v":""},{"$f":"IF(SISWA!D78=0,\"\",SISWA!D78)","v":"071-"},{"$f":"IF(SISWA!E78=0,\"\",SISWA!E78)","v":""},null,null,null,null,null,{"$error":"#DIV/0!"},null,null,{"$error":"#DIV/0!"},{"$error":"#DIV/0!"}]
[72,{"$f":"IF(SISWA!B79=0,\"\",SISWA!B79)","v":""},{"$f":"IF(SISWA!C79=0,\"\",SISWA!C79)","v":""},{"$f":"IF(SISWA!D79=0,\"\",SISWA!D79)","v":"072-"},{"$f":"IF(SISWA!E79=0,\"\",SISWA!E79)","v":""},null,null,null,null,null,{"$error":"#DIV/0!"},null,null,{"$error":"#DIV/0!"},{"$error":"#DIV/0!"}]
[73,{"$f":"IF(SISWA!B80=0,\"\",SISWA!B80)","v":""},{"$f":"IF(SISWA!C80=0,\"\",SISWA!C80)","v":""},{"$f":"IF(SISWA!D80=0,\"\",SISWA!D80)","v":"073-"},{"$f":"IF(SISWA!E80=0,\"\",SISWA!E80)","v":""},null,null,null,null,null,{"$error":"#DIV/0!"},null,null,{"$error":"#DIV/0!"},{"$error":"#DIV/0!"}]
[74,{"$f":"IF(SISWA!B81=0,\"\",SISWA!B81)","v":""},{"$f":"IF(SISWA!C81=0,\"\",SISWA!C81)","v":""},{"$f":"IF(SISWA!D81=0,\"\",SISWA!D81)","v":"074-"},{"$f":"IF(SISWA!E81=0,\"\",SISWA!E81)","v":""},null,null,null,null,null,{"$error":"#DIV/0!"},null,null,{"$error":"#DIV/0!"},{"$error":"#DIV/0!"}]
[75,{"$f":"IF(SISWA!B82=0,\"\",SISWA!B82)","v":""},{"$f":"IF(SISWA!C82=0,\"\",SISWA!C82)","v":""},{"$f":"IF(SISWA!D82=0,\"\",SISWA!D82)","v":"075-"},{"$f":"IF(SISWA!E82=0,\"\",SISWA!E82)","v":""},null,null,null,null,null,{"$error":"#DIV/0!"},null,null,{"$error":"#DIV/0!"},{"$error":"#DIV/0!"}]
[76,{"$f":"IF(SISWA!B83=0,\"\",SISWA!B83)","v":""},{"$f":"IF(SISWA!C83=0,\"\",SISWA!C83)","v":""},{"$f":"IF(SISWA!D83=0,\"\",SISWA!D83)","v":"076-"},{"$f":"IF(SISWA!E83=0,\"\",SISWA!E83)","v":""},null,null,null,null,null,{"$error":"#DIV/0!"},null,null,{"$error":"#DIV/0!"},{"$error":"#DIV/0!"}]
[77,{"$f":"IF(SISWA!B84=0,\"\",SISWA!B84)","v":""},{"$f":"IF(SISWA!C84=0,\"\",SISWA!C84)","v":""},{"$f":"IF(SISWA!D84=0,\"\",SISWA!D84)","v":"077-"},{"$f":"IF(SISWA!E84=0,\"\",SISWA!E84)","v":""},null,null,null,null,null,{"$error":"#DIV/0!"},null,null,{"$error":"#DIV/0!"},{"$error":"#DIV/0!"}]
[78,{"$f":"IF(SISWA!B85=0,\"\",SISWA!B85)","v":""},{"$f":"IF(SISWA!C85=0,\"\",SISWA!C85)","v":""},{"$f":"IF(SISWA!D85=0,\"\",SISWA!D85)","v":"078-"},{"$f":"IF(SISWA!E85=0,\"\",SISWA!E85)","v":""},null,null,null,null,null,{"$error":"#DIV/0!"},null,null,{"$error":"#DIV/0!"},{"$error":"#DIV/0!"}]
[79,{"$f":"IF(SISWA!B86=0,\"\",SISWA!B86)","v":""},{"$f":"IF(SISWA!C86=0,\"\",SISWA!C86)","v":""},{"$f":"IF(SISWA!D86=0,\"\",SISWA!D86)","v":"079-"},{"$f":"IF(SISWA!E86=0,\"\",SISWA!E86)","v":""},null,null,null,null,null,{"$error":"#DIV/0!"},null,null,{"$error":"#DIV/0!"},{"$error":"#DIV/0!"}]
[80,{"$f":"IF(SISWA!B87=0,\"\",SISWA!B87)","v":""},{"$f":"IF(SISWA!C87=0,\"\",SISWA!C87)","v":""},{"$f":"IF(SISWA!D87=0,\"\",SISWA!D87)","v":"080-"},{"$f":"IF(SISWA!E87=0,\"\",SISWA!E87)","v":""},null,null,null,null,null,{"$error":"#DIV/0!"},null,null,{"$error":"#DIV/0!"},{"$error":"#DIV/0!"}]
[81,{"$f":"IF(SISWA!B88=0,\"\",SISWA!B88)","v":""},{"$f":"IF(SISWA!C88=0,\"\",SISWA!C88)","v":""},{"$f":"IF(SISWA!D88=0,\"\",SISWA!D88)","v":"081-"},{"$f":"IF(SISWA!E88=0,\"\",SISWA!E88)","v":""},null,null,null,null,null,{"$error":"#DIV/0!"},null,null,{"$error":"#DIV/0!"},{"$error":"#DIV/0!"}]
[82,{"$f":"IF(SISWA!B89=0,\"\",SISWA!B89)","v":""},{"$f":"IF(SISWA!C89=0,\"\",SISWA!C89)","v":""},{"$f":"IF(SISWA!D89=0,\"\",SISWA!D89)","v":"082-"},{"$f":"IF(SISWA!E89=0,\"\",SISWA!E89)","v":""},null,null,null,null,null,{"$error":"#DIV/0!"},null,null,{"$error":"#DIV/0!"},{"$error":"#DIV/0!"}]
[83,{"$f":"IF(SISWA!B90=0,\"\",SISWA!B90)","v":""},{"$f":"IF(SISWA!C90=0,\"\",SISWA!C90)","v":""},{"$f":"IF(SISWA!D90=0,\"\",SISWA!D90)","v":"083-"},{"$f":"IF(SISWA!E90=0,\"\",SISWA!E90)","v":""},null,null,null,null,null,{"$error":"#DIV/0!"},null,null,{"$error":"#DIV/0!"},{"$error":"#DIV/0!"}]
[84,{"$f":"IF(SISWA!B91=0,\"\",SISWA!B91)","v":""},{"$f":"IF(SISWA!C91=0,\"\",SISWA!C91)","v":""},{"$f":"IF(SISWA!D91=0,\"\",SISWA!D91)","v":"084-"},{"$f":"IF(SISWA!E91=0,\"\",SISWA!E91)","v":""},null,null,null,null,null,{"$error":"#DIV/0!"},null,null,{"$error":"#DIV/0!"},{"$error":"#DIV/0!"}]
[85,{"$f":"IF(SISWA!B92=0,\"\",SISWA!B92)","v":""},{"$f":"IF(SISWA!C92=0,\"\",SISWA!C92)","v":""},{"$f":"IF(SISWA!D92=0,\"\",SISWA!D92)","v":"085-"},{"$f":"IF(SISWA!E92=0,\"\",SISWA!E92)","v":""},null,null,null,null,null,{"$error":"#DIV/0!"},null,null,{"$error":"#DIV/0!"},{"$error":"#DIV/0!"}]
[86,{"$f":"IF(SISWA!B93=0,\"\",SISWA!B93)","v":""},{"$f":"IF(SISWA!C93=0,\"\",SISWA!C93)","v":""},{"$f":"IF(SISWA!D93=0,\"\",SISWA!D93)","v":"086-"},{"$f":"IF(SISWA!E93=0,\"\",SISWA!E93)","v":""},null,null,null,null,null,{"$error":"#DIV/0!"},null,null,{"$error":"#DIV/0!"},{"$error":"#DIV/0!"}]
[87,{"$f":"IF(SISWA!B94=0,\"\",SISWA!B94)","v":""},{"$f":"IF(SISWA!C94=0,\"\",SISWA!C94)","v":""},{"$f":"IF(SISWA!D94=0,\"\",SISWA!D94)","v":"087-"},{"$f":"IF(SISWA!E94=0,\"\",SISWA!E94)","v":""},null,null,null,null,null,{"$error":"#DIV/0!"},null,null,{"$error":"#DIV/0!"},{"$error":"#DIV/0!"}]
[88,{"$f":"IF(SISWA!B95=0,\"\",SISWA!B95)","v":""},{"$f":"IF(SISWA!C95=0,\"\",SISWA!C95)","v":""},{"$f":"IF(SISWA!D95=0,\"\",SISWA!D95)","v":"088-"},{"$f":"IF(SISWA!E95=0,\"\",SISWA!E95)","v":""},null,null,null,null,null,{"$error":"#DIV/0!"},null,null,{"$error":"#DIV/0!"},{"$error":"#DIV/0!"}]
[89,{"$f":"IF(SISWA!B96=0,\"\",SISWA!B96)","v":""},{"$f":"IF(SISWA!C96=0,\"\",SISWA!C96)","v":""},{"$f":"IF(SISWA!D96=0,\"\",SISWA!D96)","v":"089-"},{"$f":"IF(SISWA!E96=0,\"\",SISWA!E96)","v":""},null,null,null,null,null,{"$error":"#DIV/0!"},null,null,{"$error":"#DIV/0!"},{"$error":"#DIV/0!"}]
[90,{"$f":"IF(SISWA!B97=0,\"\",SISWA!B97)","v":""},{"$f":"IF(SISWA!C97=0,\"\",SISWA!C97)","v":""},{"$f":"IF(SISWA!D97=0,\"\",SISWA!D97)","v":"090-"},{"$f":"IF(SISWA!E97=0,\"\",SISWA!E97)","v":""},null,null,null,null,null,{"$error":"#DIV/0!"},null,null,{"$error":"#DIV/0!"},{"$error":"#DIV/0!"}]
[91,{"$f":"IF(SISWA!B98=0,\"\",SISWA!B98)","v":""},{"$f":"IF(SISWA!C98=0,\"\",SISWA!C98)","v":""},{"$f":"IF(SISWA!D98=0,\"\",SISWA!D98)","v":"091-"},{"$f":"IF(SISWA!E98=0,\"\",SISWA!E98)","v":""},null,null,null,null,null,{"$error":"#DIV/0!"},null,null,{"$error":"#DIV/0!"},{"$error":"#DIV/0!"}]
[92,{"$f":"IF(SISWA!B99=0,\"\",SISWA!B99)","v":""},{"$f":"IF(SISWA!C99=0,\"\",SISWA!C99)","v":""},{"$f":"IF(SISWA!D99=0,\"\",SISWA!D99)","v":"092-"},{"$f":"IF(SISWA!E99=0,\"\",SISWA!E99)","v":""},null,null,null,null,null,{"$error":"#DIV/0!"},null,null,{"$error":"#DIV/0!"},{"$error":"#DIV/0!"}]
[93,{"$f":"IF(SISWA!B100=0,\"\",SISWA!B100)","v":""},{"$f":"IF(SISWA!C100=0,\"\",SISWA!C100)","v":""},{"$f":"IF(SISWA!D100=0,\"\",SISWA!D100)","v":"093-"},{"$f":"IF(SISWA!E100=0,\"\",SISWA!E100)","v":""},null,null,null,null,null,{"$error":"#DIV/0!"},null,null,{"$error":"#DIV/0!"},{"$error":"#DIV/0!"}]
[94,{"$f":"IF(SISWA!B101=0,\"\",SISWA!B101)","v":""},{"$f":"IF(SISWA!C101=0,\"\",SISWA!C101)","v":""},{"$f":"IF(SISWA!D101=0,\"\",SISWA!D101)","v":"094-"},{"$f":"IF(SISWA!E101=0,\"\",SISWA!E101)","v":""},null,null,null,null,null,{"$error":"#DIV/0!"},null,null,{"$error":"#DIV/0!"},{"$error":"#DIV/0!"}]
[95,{"$f":"IF(SISWA!B102=0,\"\",SISWA!B102)","v":""},{"$f":"IF(SISWA!C102=0,\"\",SISWA!C102)","v":""},{"$f":"IF(SISWA!D102=0,\"\",SISWA!D102)","v":"095-"},{"$f":"IF(SISWA!E102=0,\"\",SISWA!E102)","v":""},null,null,null,null,null,{"$error":"#DIV/0!"},null,null,{"$error":"#DIV/0!"},{"$error":"#DIV/0!"}]
[96,{"$f":"IF(SISWA!B103=0,\"\",SISWA!B103)","v":""},{"$f":"IF(SISWA!C103=0,\"\",SISWA!C103)","v":""},{"$f":"IF(SISWA!D103=0,\"\",SISWA!D103)","v":"096-"},{"$f":"IF(SISWA!E103=0,\"\",SISWA!E103)","v":""},null,null,null,null,null,{"$error":"#DIV/0!"},null,null,{"$error":"#DIV/0!"},{"$error":"#DIV/0!"}]
[97,{"$f":"IF(SISWA!B104=0,\"\",SISWA!B104)","v":""},{"$f":"IF(SISWA!C104=0,\"\",SISWA!C104)","v":""},{"$f":"IF(SISWA!D104=0,\"\",SISWA!D104)","v":"097-"},{"$f":"IF(SISWA!E104=0,\"\",SISWA!E104)","v":""},null,null,null,null,null,{"$error":"#DIV/0!"},null,null,{"$error":"#DIV/0!"},{"$error":"#DIV/0!"}]
[98,{"$f":"IF(SISWA!B105=0,\"\",SISWA!B105)","v":""},{"$f":"IF(SISWA!C105=0,\"\",SISWA!C105)","v":""},{"$f":"IF(SISWA!D105=0,\"\",SISWA!D105)","v":"098-"},{"$f":"IF(SISWA!E105=0,\"\",SISWA!E105)","v":""},null,null,null,null,null,{"$error":"#DIV/0!"},null,null,{"$error":"#DIV/0!"},{"$error":"#DIV/0!"}]
[99,{"$f":"IF(SISWA!B106=0,\"\",SISWA!B106)","v":""},{"$f":"IF(SISWA!C106=0,\"\",SISWA!C106)","v":""},{"$f":"IF(SISWA!D106=0,\"\",SISWA!D106)","v":"099-"},{"$f":"IF(SISWA!E106=0,\"\",SISWA!E106)","v":""},null,null,null,null,null,{"$error":"#DIV/0!"},null,null,{"$error":"#DIV/0!"},{"$error":"#DIV/0!"}]
[100,{"$f":"IF(SISWA!B107=0,\"\",SISWA!B107)","v":""},{"$f":"IF(SISWA!C107=0,\"\",SISWA!C107)","v":""},{"$f":"IF(SISWA!D107=0,\"\",SISWA!D107)","v":"100-"},{"$f":"IF(SISWA!E107=0,\"\",SISWA!E107)","v":""},null,null,null,null,null,{"$error":"#DIV/0!"},null,null,{"$error":"#DIV/0!"},{"$error":"#DIV/0!"}]
[101,{"$f":"IF(SISWA!B108=0,\"\",SISWA!B108)","v":""},{"$f":"IF(SISWA!C108=0,\"\",SISWA!C108)","v":""},{"$f":"IF(SISWA!D108=0,\"\",SISWA!D108)","v":"101-"},{"$f":"IF(SISWA!E108=0,\"\",SISWA!E108)","v":""},null,null,null,null,null,{"$error":"#DIV/0!"},null,null,{"$error":"#DIV/0!"},{"$error":"#DIV/0!"}]
[102,{"$f":"IF(SISWA!B109=0,\"\",SISWA!B109)","v":""},{"$f":"IF(SISWA!C109=0,\"\",SISWA!C109)","v":""},{"$f":"IF(SISWA!D109=0,\"\",SISWA!D109)","v":"102-"},{"$f":"IF(SISWA!E109=0,\"\",SISWA!E109)","v":""},null,null,null,null,null,{"$error":"#DIV/0!"},null,null,{"$error":"#DIV/0!"},{"$error":"#DIV/0!"}]
[103,{"$f":"IF(SISWA!B110=0,\"\",SISWA!B110)","v":""},{"$f":"IF(SISWA!C110=0,\"\",SISWA!C110)","v":""},{"$f":"IF(SISWA!D110=0,\"\",SISWA!D110)","v":"103-"},{"$f":"IF(SISWA!E110=0,\"\",SISWA!E110)","v":""},null,null,null,null,null,{"$error":"#DIV/0!"},null,null,{"$error":"#DIV/0!"},{"$error":"#DIV/0!"}]
[104,{"$f":"IF(SISWA!B111=0,\"\",SISWA!B111)","v":""},{"$f":"IF(SISWA!C111=0,\"\",SISWA!C111)","v":""},{"$f":"IF(SISWA!D111=0,\"\",SISWA!D111)","v":"104-"},{"$f":"IF(SISWA!E111=0,\"\",SISWA!E111)","v":""},null,null,null,null,null,{"$error":"#DIV/0!"},null,null,{"$error":"#DIV/0!"},{"$error":"#DIV/0!"}]
[105,{"$f":"IF(SISWA!B112=0,\"\",SISWA!B112)","v":""},{"$f":"IF(SISWA!C112=0,\"\",SISWA!C112)","v":""},{"$f":"IF(SISWA!D112=0,\"\",SISWA!D112)","v":"105-"},{"$f":"IF(SISWA!E112=0,\"\",SISWA!E112)","v":""},null,null,null,null,null,{"$error":"#DIV/0!"},null,null,{"$error":"#DIV/0!"},{"$error":"#DIV/0!"}]
[106,{"$f":"IF(SISWA!B113=0,\"\",SISWA!B113)","v":""},{"$f":"IF(SISWA!C113=0,\"\",SISWA!C113)","v":""},{"$f":"IF(SISWA!D113=0,\"\",SISWA!D113)","v":"106-"},{"$f":"IF(SISWA!E113=0,\"\",SISWA!E113)","v":""},null,null,null,null,null,{"$error":"#DIV/0!"},null,null,{"$error":"#DIV/0!"},{"$error":"#DIV/0!"}]
[107,{"$f":"IF(SISWA!B114=0,\"\",SISWA!B114)","v":""},{"$f":"IF(SISWA!C114=0,\"\",SISWA!C114)","v":""},{"$f":"IF(SISWA!D114=0,\"\",SISWA!D114)","v":"107-"},{"$f":"IF(SISWA!E114=0,\"\",SISWA!E114)","v":""},null,null,null,null,null,{"$error":"#DIV/0!"},null,null,{"$error":"#DIV/0!"},{"$error":"#DIV/0!"}]
[108,{"$f":"IF(SISWA!B115=0,\"\",SISWA!B115)","v":""},{"$f":"IF(SISWA!C115=0,\"\",SISWA!C115)","v":""},{"$f":"IF(SISWA!D115=0,\"\",SISWA!D115)","v":"108-"},{"$f":"IF(SISWA!E115=0,\"\",SISWA!E115)","v":""},null,null,null,null,null,{"$error":"#DIV/0!"},null,null,{"$error":"#DIV/0!"},{"$error":"#DIV/0!"}]
[109,{"$f":"IF(SISWA!B116=0,\"\",SISWA!B116)","v":""},{"$f":"IF(SISWA!C116=0,\"\",SISWA!C116)","v":""},{"$f":"IF(SISWA!D116=0,\"\",SISWA!D116)","v":"109-"},{"$f":"IF(SISWA!E116=0,\"\",SISWA!E116)","v":""},null,null,null,null,null,{"$error":"#DIV/0!"},null,null,{"$error":"#DIV/0!"},{"$error":"#DIV/0!"}]
[110,{"$f":"IF(SISWA!B117=0,\"\",SISWA!B117)","v":""},{"$f":"IF(SISWA!C117=0,\"\",SISWA!C117)","v":""},{"$f":"IF(SISWA!D117=0,\"\",SISWA!D117)","v":"110-"},{"$f":"IF(SISWA!E117=0,\"\",SISWA!E117)","v":""},null,null,null,null,null,{"$error":"#DIV/0!"},null,null,{"$error":"#DIV/0!"},{"$error":"#DIV/0!"}]
[111,{"$f":"IF(SISWA!B118=0,\"\",SISWA!B118)","v":""},{"$f":"IF(SISWA!C118=0,\"\",SISWA!C118)","v":""},{"$f":"IF(SISWA!D118=0,\"\",SISWA!D118)","v":"111-"},{"$f":"IF(SISWA!E118=0,\"\",SISWA!E118)","v":""},null,null,null,null,null,{"$error":"#DIV/0!"},null,null,{"$error":"#DIV/0!"},{"$error":"#DIV/0!"}]
[112,{"$f":"IF(SISWA!B119=0,\"\",SISWA!B119)","v":""},{"$f":"IF(SISWA!C119=0,\"\",SISWA!C119)","v":""},{"$f":"IF(SISWA!D119=0,\"\",SISWA!D119)","v":"112-"},{"$f":"IF(SISWA!E119=0,\"\",SISWA!E119)","v":""},null,null,null,null,null,{"$error":"#DIV/0!"},null,null,{"$error":"#DIV/0!"},{"$error":"#DIV/0!"}]
[113,{"$f":"IF(SISWA!B120=0,\"\",SISWA!B120)","v":""},{"$f":"IF(SISWA!C120=0,\"\",SISWA!C120)","v":""},{"$f":"IF(SISWA!D120=0,\"\",SISWA!D120)","v":"113-"},{"$f":"IF(SISWA!E120=0,\"\",SISWA!E120)","v":""},null,null,null,null,null,{"$error":"#DIV/0!"},null,null,{"$error":"#DIV/0!"},{"$error":"#DIV/0!"}]
[114,{"$f":"IF(SISWA!B121=0,\"\",SISWA!B121)","v":""},{"$f":"IF(SISWA!C121=0,\"\",SISWA!C121)","v":""},{"$f":"IF(SISWA!D121=0,\"\",SISWA!D121)","v":"114-"},{"$f":"IF(SISWA!E121=0,\"\",SISWA!E121)","v":""},null,null,null,null,null,{"$error":"#DIV/0!"},null,null,{"$error":"#DIV/0!"},{"$error":"#DIV/0!"}]
[115,{"$f":"IF(SISWA!B122=0,\"\",SISWA!B122)","v":""},{"$f":"IF(SISWA!C122=0,\"\",SISWA!C122)","v":""},{"$f":"IF(SISWA!D122=0,\"\",SISWA!D122)","v":"115-"},{"$f":"IF(SISWA!E122=0,\"\",SISWA!E122)","v":""},null,null,null,null,null,{"$error":"#DIV/0!"},null,null,{"$error":"#DIV/0!"},{"$error":"#DIV/0!"}]
[116,{"$f":"IF(SISWA!B123=0,\"\",SISWA!B123)","v":""},{"$f":"IF(SISWA!C123=0,\"\",SISWA!C123)","v":""},{"$f":"IF(SISWA!D123=0,\"\",SISWA!D123)","v":"116-"},{"$f":"IF(SISWA!E123=0,\"\",SISWA!E123)","v":""},null,null,null,null,null,{"$error":"#DIV/0!"},null,null,{"$error":"#DIV/0!"},{"$error":"#DIV/0!"}]
[117,{"$f":"IF(SISWA!B124=0,\"\",SISWA!B124)","v":""},{"$f":"IF(SISWA!C124=0,\"\",SISWA!C124)","v":""},{"$f":"IF(SISWA!D124=0,\"\",SISWA!D124)","v":"117-"},{"$f":"IF(SISWA!E124=0,\"\",SISWA!E124)","v":""},null,null,null,null,null,{"$error":"#DIV/0!"},null,null,{"$error":"#DIV/0!"},{"$error":"#DIV/0!"}]
[118,{"$f":"IF(SISWA!B125=0,\"\",SISWA!B125)","v":""},{"$f":"IF(SISWA!C125=0,\"\",SISWA!C125)","v":""},{"$f":"IF(SISWA!D125=0,\"\",SISWA!D125)","v":"118-"},{"$f":"IF(SISWA!E125=0,\"\",SISWA!E125)","v":""},null,null,null,null,null,{"$error":"#DIV/0!"},null,null,{"$error":"#DIV/0!"},{"$error":"#DIV/0!"}]
[119,{"$f":"IF(SISWA!B126=0,\"\",SISWA!B126)","v":""},{"$f":"IF(SISWA!C126=0,\"\",SISWA!C126)","v":""},{"$f":"IF(SISWA!D126=0,\"\",SISWA!D126)","v":"119-"},{"$f":"IF(SISWA!E126=0,\"\",SISWA!E126)","v":""},null,null,null,null,null,{"$error":"#DIV/0!"},null,null,{"$error":"#DIV/0!"},{"$error":"#DIV/0!"}]
[120,{"$f":"IF(SISWA!B127=0,\"\",SISWA!B127)","v":""},{"$f":"IF(SISWA!C127=0,\"\",SISWA!C127)","v":""},{"$f":"IF(SISWA!D127=0,\"\",SISWA!D127)","v":"120-"},{"$f":"IF(SISWA!E127=0,\"\",SISWA!E127)","v":""},null,null,null,null,null,{"$error":"#DIV/0!"},null,null,{"$error":"#DIV/0!"},{"$error":"#DIV/0!"}]
[121,{"$f":"IF(SISWA!B128=0,\"\",SISWA!B128)","v":""},{"$f":"IF(SISWA!C128=0,\"\",SISWA!C128)","v":""},{"$f":"IF(SISWA!D128=0,\"\",SISWA!D128)","v":"121-"},{"$f":"IF(SISWA!E128=0,\"\",SISWA!E128)","v":""},null,null,null,null,null,{"$error":"#DIV/0!"},null,null,{"$error":"#DIV/0!"},{"$error":"#DIV/0!"}]
[122,{"$f":"IF(SISWA!B129=0,\"\",SISWA!B129)","v":""},{"$f":"IF(SISWA!C129=0,\"\",SISWA!C129)","v":""},{"$f":"IF(SISWA!D129=0,\"\",SISWA!D129)","v":"122-"},{"$f":"IF(SISWA!E129=0,\"\",SISWA!E129)","v":""},null,null,null,null,null,{"$error":"#DIV/0!"},null,null,{"$error":"#DIV/0!"},{"$error":"#DIV/0!"}]
[123,{"$f":"IF(SISWA!B130=0,\"\",SISWA!B130)","v":""},{"$f":"IF(SISWA!C130=0,\"\",SISWA!C130)","v":""},{"$f":"IF(SISWA!D130=0,\"\",SISWA!D130)","v":"123-"},{"$f":"IF(SISWA!E130=0,\"\",SISWA!E130)","v":""},null,null,null,null,null,{"$error":"#DIV/0!"},null,null,{"$error":"#DIV/0!"},{"$error":"#DIV/0!"}]
[124,{"$f":"IF(SISWA!B131=0,\"\",SISWA!B131)","v":""},{"$f":"IF(SISWA!C131=0,\"\",SISWA!C131)","v":""},{"$f":"IF(SISWA!D131=0,\"\",SISWA!D131)","v":"124-"},{"$f":"IF(SISWA!E131=0,\"\",SISWA!E131)","v":""},null,null,null,null,null,{"$error":"#DIV/0!"},null,null,{"$error":"#DIV/0!"},{"$error":"#DIV/0!"}]
[125,{"$f":"IF(SISWA!B132=0,\"\",SISWA!B132)","v":""},{"$f":"IF(SISWA!C132=0,\"\",SISWA!C132)","v":""},{"$f":"IF(SISWA!D132=0,\"\",SISWA!D132)","v":"125-"},{"$f":"IF(SISWA!E132=0,\"\",SISWA!E132)","v":""},null,null,null,null,null,{"$error":"#DIV/0!"},null,null,{"$error":"#DIV/0!"},{"$error":"#DIV/0!"}]
[126,{"$f":"IF(SISWA!B133=0,\"\",SISWA!B133)","v":""},{"$f":"IF(SISWA!C133=0,\"\",SISWA!C133)","v":""},{"$f":"IF(SISWA!D133=0,\"\",SISWA!D133)","v":"126-"},{"$f":"IF(SISWA!E133=0,\"\",SISWA!E133)","v":""},null,null,null,null,null,{"$error":"#DIV/0!"},null,null,{"$error":"#DIV/0!"},{"$error":"#DIV/0!"}]
[127,{"$f":"IF(SISWA!B134=0,\"\",SISWA!B134)","v":""},{"$f":"IF(SISWA!C134=0,\"\",SISWA!C134)","v":""},{"$f":"IF(SISWA!D134=0,\"\",SISWA!D134)","v":"127-"},{"$f":"IF(SISWA!E134=0,\"\",SISWA!E134)","v":""},null,null,null,null,null,{"$error":"#DIV/0!"},null,null,{"$error":"#DIV/0!"},{"$error":"#DIV/0!"}]
[128,{"$f":"IF(SISWA!B135=0,\"\",SISWA!B135)","v":""},{"$f":"IF(SISWA!C135=0,\"\",SISWA!C135)","v":""},{"$f":"IF(SISWA!D135=0,\"\",SISWA!D135)","v":"128-"},{"$f":"IF(SISWA!E135=0,\"\",SISWA!E135)","v":""},null,null,null,null,null,{"$error":"#DIV/0!"},null,null,{"$error":"#DIV/0!"},{"$error":"#DIV/0!"}]
[129,{"$f":"IF(SISWA!B136=0,\"\",SISWA!B136)","v":""},{"$f":"IF(SISWA!C136=0,\"\",SISWA!C136)","v":""},{"$f":"IF(SISWA!D136=0,\"\",SISWA!D136)","v":"129-"},{"$f":"IF(SISWA!E136=0,\"\",SISWA!E136)","v":""},null,null,null,null,null,{"$error":"#DIV/0!"},null,null,{"$error":"#DIV/0!"},{"$error":"#DIV/0!"}]
[130,{"$f":"IF(SISWA!B137=0,\"\",SISWA!B137)","v":""},{"$f":"IF(SISWA!C137=0,\"\",SISWA!C137)","v":""},{"$f":"IF(SISWA!D137=0,\"\",SISWA!D137)","v":"130-"},{"$f":"IF(SISWA!E137=0,\"\",SISWA!E137)","v":""},null,null,null,null,null,{"$f":"AVERAGE(F137:J137)","v":{"$error":"#DIV/0!"}},null,null,{"$f":"AVERAGE(L137:M137)","v":{"$error":"#DIV/0!"}},{"$f":"AVERAGE(L137:M137)","v":{"$error":"#DIV/0!"}}]
[131,{"$f":"IF(SISWA!B138=0,\"\",SISWA!B138)","v":""},{"$f":"IF(SISWA!C138=0,\"\",SISWA!C138)","v":""},{"$f":"IF(SISWA!D138=0,\"\",SISWA!D138)","v":"131-"},{"$f":"IF(SISWA!E138=0,\"\",SISWA!E138)","v":""},null,null,null,null,null,{"$error":"#DIV/0!"},null,null,{"$error":"#DIV/0!"},{"$error":"#DIV/0!"}]
[132,{"$f":"IF(SISWA!B139=0,\"\",SISWA!B139)","v":""},{"$f":"IF(SISWA!C139=0,\"\",SISWA!C139)","v":""},{"$f":"IF(SISWA!D139=0,\"\",SISWA!D139)","v":"132-"},{"$f":"IF(SISWA!E139=0,\"\",SISWA!E139)","v":""},null,null,null,null,null,{"$error":"#DIV/0!"},null,null,{"$error":"#DIV/0!"},{"$error":"#DIV/0!"}]
[133,{"$f":"IF(SISWA!B140=0,\"\",SISWA!B140)","v":""},{"$f":"IF(SISWA!C140=0,\"\",SISWA!C140)","v":""},{"$f":"IF(SISWA!D140=0,\"\",SISWA!D140)","v":"133-"},{"$f":"IF(SISWA!E140=0,\"\",SISWA!E140)","v":""},null,null,null,null,null,{"$error":"#DIV/0!"},null,null,{"$error":"#DIV/0!"},{"$error":"#DIV/0!"}]
[134,{"$f":"IF(SISWA!B141=0,\"\",SISWA!B141)","v":""},{"$f":"IF(SISWA!C141=0,\"\",SISWA!C141)","v":""},{"$f":"IF(SISWA!D141=0,\"\",SISWA!D141)","v":"134-"},{"$f":"IF(SISWA!E141=0,\"\",SISWA!E141)","v":""},null,null,null,null,null,{"$error":"#DIV/0!"},null,null,{"$error":"#DIV/0!"},{"$error":"#DIV/0!"}]
[135,{"$f":"IF(SISWA!B142=0,\"\",SISWA!B142)","v":""},{"$f":"IF(SISWA!C142=0,\"\",SISWA!C142)","v":""},{"$f":"IF(SISWA!D142=0,\"\",SISWA!D142)","v":"135-"},{"$f":"IF(SISWA!E142=0,\"\",SISWA!E142)","v":""},null,null,null,null,null,{"$error":"#DIV/0!"},null,null,{"$error":"#DIV/0!"},{"$error":"#DIV/0!"}]
[136,{"$f":"IF(SISWA!B143=0,\"\",SISWA!B143)","v":""},{"$f":"IF(SISWA!C143=0,\"\",SISWA!C143)","v":""},{"$f":"IF(SISWA!D143=0,\"\",SISWA!D143)","v":"136-"},{"$f":"IF(SISWA!E143=0,\"\",SISWA!E143)","v":""},null,null,null,null,null,{"$error":"#DIV/0!"},null,null,{"$error":"#DIV/0!"},{"$error":"#DIV/0!"}]
[137,{"$f":"IF(SISWA!B144=0,\"\",SISWA!B144)","v":""},{"$f":"IF(SISWA!C144=0,\"\",SISWA!C144)","v":""},{"$f":"IF(SISWA!D144=0,\"\",SISWA!D144)","v":"137-"},{"$f":"IF(SISWA!E144=0,\"\",SISWA!E144)","v":""},null,null,null,null,null,{"$error":"#DIV/0!"},null,null,{"$error":"#DIV/0!"},{"$error":"#DIV/0!"}]
[138,{"$f":"IF(SISWA!B145=0,\"\",SISWA!B145)","v":""},{"$f":"IF(SISWA!C145=0,\"\",SISWA!C145)","v":""},{"$f":"IF(SISWA!D145=0,\"\",SISWA!D145)","v":"138-"},{"$f":"IF(SISWA!E145=0,\"\",SISWA!E145)","v":""},null,null,null,null,null,{"$error":"#DIV/0!"},null,null,{"$error":"#DIV/0!"},{"$error":"#DIV/0!"}]
[139,{"$f":"IF(SISWA!B146=0,\"\",SISWA!B146)","v":""},{"$f":"IF(SISWA!C146=0,\"\",SISWA!C146)","v":""},{"$f":"IF(SISWA!D146=0,\"\",SISWA!D146)","v":"139-"},{"$f":"IF(SISWA!E146=0,\"\",SISWA!E146)","v":""},null,null,null,null,null,{"$error":"#DIV/0!"},null,null,{"$error":"#DIV/0!"},{"$error":"#DIV/0!"}]
[140,{"$f":"IF(SISWA!B147=0,\"\",SISWA!B147)","v":""},{"$f":"IF(SISWA!C147=0,\"\",SISWA!C147)","v":""},{"$f":"IF(SISWA!D147=0,\"\",SISWA!D147)","v":"140-"},{"$f":"IF(SISWA!E147=0,\"\",SISWA!E147)","v":""},null,null,null,null,null,{"$error":"#DIV/0!"},null,null,{"$error":"#DIV/0!"},{"$error":"#DIV/0!"}]
[141,{"$f":"IF(SISWA!B148=0,\"\",SISWA!B148)","v":""},{"$f":"IF(SISWA!C148=0,\"\",SISWA!C148)","v":""},{"$f":"IF(SISWA!D148=0,\"\",SISWA!D148)","v":"141-"},{"$f":"IF(SISWA!E148=0,\"\",SISWA!E148)","v":""},null,null,null,null,null,{"$error":"#DIV/0!"},null,null,{"$error":"#DIV/0!"},{"$error":"#DIV/0!"}]
[142,{"$f":"IF(SISWA!B149=0,\"\",SISWA!B149)","v":""},{"$f":"IF(SISWA!C149=0,\"\",SISWA!C149)","v":""},{"$f":"IF(SISWA!D149=0,\"\",SISWA!D149)","v":"142-"},{"$f":"IF(SISWA!E149=0,\"\",SISWA!E149)","v":""},null,null,null,null,null,{"$error":"#DIV/0!"},null,null,{"$error":"#DIV/0!"},{"$error":"#DIV/0!"}]
[143,{"$f":"IF(SISWA!B150=0,\"\",SISWA!B150)","v":""},{"$f":"IF(SISWA!C150=0,\"\",SISWA!C150)","v":""},{"$f":"IF(SISWA!D150=0,\"\",SISWA!D150)","v":"143-"},{"$f":"IF(SISWA!E150=0,\"\",SISWA!E150)","v":""},null,null,null,null,null,{"$error":"#DIV/0!"},null,null,{"$error":"#DIV/0!"},{"$error":"#DIV/0!"}]
[144,{"$f":"IF(SISWA!B151=0,\"\",SISWA!B151)","v":""},{"$f":"IF(SISWA!C151=0,\"\",SISWA!C151)","v":""},{"$f":"IF(SISWA!D151=0,\"\",SISWA!D151)","v":"144-"},{"$f":"IF(SISWA!E151=0,\"\",SISWA!E151)","v":""},null,null,null,null,null,{"$error":"#DIV/0!"},null,null,{"$error":"#DIV/0!"},{"$error":"#DIV/0!"}]
[145,{"$f":"IF(SISWA!B152=0,\"\",SISWA!B152)","v":""},{"$f":"IF(SISWA!C152=0,\"\",SISWA!C152)","v":""},{"$f":"IF(SISWA!D152=0,\"\",SISWA!D152)","v":"145-"},{"$f":"IF(SISWA!E152=0,\"\",SISWA!E152)","v":""},null,null,null,null,null,{"$error":"#DIV/0!"},null,null,{"$error":"#DIV/0!"},{"$error":"#DIV/0!"}]
[146,{"$f":"IF(SISWA!B153=0,\"\",SISWA!B153)","v":""},{"$f":"IF(SISWA!C153=0,\"\",SISWA!C153)","v":""},{"$f":"IF(SISWA!D153=0,\"\",SISWA!D153)","v":"146-"},{"$f":"IF(SISWA!E153=0,\"\",SISWA!E153)","v":""},null,null,null,null,null,{"$error":"#DIV/0!"},null,null,{"$error":"#DIV/0!"},{"$error":"#DIV/0!"}]
[147,{"$f":"IF(SISWA!B154=0,\"\",SISWA!B154)","v":""},{"$f":"IF(SISWA!C154=0,\"\",SISWA!C154)","v":""},{"$f":"IF(SISWA!D154=0,\"\",SISWA!D154)","v":"147-"},{"$f":"IF(SISWA!E154=0,\"\",SISWA!E154)","v":""},null,null,null,null,null,{"$error":"#DIV/0!"},null,null,{"$error":"#DIV/0!"},{"$error":"#DIV/0!"}]
[148,{"$f":"IF(SISWA!B155=0,\"\",SISWA!B155)","v":""},{"$f":"IF(SISWA!C155=0,\"\",SISWA!C155)","v":""},{"$f":"IF(SISWA!D155=0,\"\",SISWA!D155)","v":"148-"},{"$f":"IF(SISWA!E155=0,\"\",SISWA!E155)","v":""},null,null,null,null,null,{"$error":"#DIV/0!"},null,null,{"$error":"#DIV/0!"},{"$error":"#DIV/0!"}]
[149,{"$f":"IF(SISWA!B156=0,\"\",SISWA!B156)","v":""},{"$f":"IF(SISWA!C156=0,\"\",SISWA!C156)","v":""},{"$f":"IF(SISWA!D156=0,\"\",SISWA!D156)","v":"149-"},{"$f":"IF(SISWA!E156=0,\"\",SISWA!E156)","v":""},null,null,null,null,null,{"$error":"#DIV/0!"},null,null,{"$error":"#DIV/0!"},{"$error":"#DIV/0!"}]
[150,{"$f":"IF(SISWA!B157=0,\"\",SISWA!B157)","v":""},{"$f":"IF(SISWA!C157=0,\"\",SISWA!C157)","v":""},{"$f":"IF(SISWA!D157=0,\"\",SISWA!D157)","v":"150-"},{"$f":"IF(SISWA!E157=0,\"\",SISWA!E157)","v":""},null,null,null,null,null,{"$error":"#DIV/0!"},null,null,{"$error":"#DIV/0!"},{"$error":"#DIV/0!"}]
[151,{"$f":"IF(SISWA!B158=0,\"\",SISWA!B158)","v":""},{"$f":"IF(SISWA!C158=0,\"\",SISWA!C158)","v":""},{"$f":"IF(SISWA!D158=0,\"\",SISWA!D158)","v":"151-"},{"$f":"IF(SISWA!E158=0,\"\",SISWA!E158)","v":""},null,null,null,null,null,{"$error":"#DIV/0!"},null,null,{"$error":"#DIV/0!"},{"$error":"#DIV/0!"}]
[152,{"$f":"IF(SISWA!B159=0,\"\",SISWA!B159)","v":""},{"$f":"IF(SISWA!C159=0,\"\",SISWA!C159)","v":""},{"$f":"IF(SISWA!D159=0,\"\",SISWA!D159)","v":"152-"},{"$f":"IF(SISWA!E159=0,\"\",SISWA!E159)","v":""},null,null,null,null,null,{"$error":"#DIV/0!"},null,null,{"$error":"#DIV/0!"},{"$error":"#DIV/0!"}]
[153,{"$f":"IF(SISWA!B160=0,\"\",SISWA!B160)","v":""},{"$f":"IF(SISWA!C160=0,\"\",SISWA!C160)","v":""},{"$f":"IF(SISWA!D160=0,\"\",SISWA!D160)","v":"153-"},{"$f":"IF(SISWA!E160=0,\"\",SISWA!E160)","v":""},null,null,null,null,null,{"$error":"#DIV/0!"},null,null,{"$error":"#DIV/0!"},{"$error":"#DIV/0!"}]
[154,{"$f":"IF(SISWA!B161=0,\"\",SISWA!B161)","v":""},{"$f":"IF(SISWA!C161=0,\"\",SISWA!C161)","v":""},{"$f":"IF(SISWA!D161=0,\"\",SISWA!D161)","v":"154-"},{"$f":"IF(SISWA!E161=0,\"\",SISWA!E161)","v":""},null,null,null,null,null,{"$error":"#DIV/0!"},null,null,{"$error":"#DIV/0!"},{"$error":"#DIV/0!"}]
[155,{"$f":"IF(SISWA!B162=0,\"\",SISWA!B162)","v":""},{"$f":"IF(SISWA!C162=0,\"\",SISWA!C162)","v":""},{"$f":"IF(SISWA!D162=0,\"\",SISWA!D162)","v":"155-"},{"$f":"IF(SISWA!E162=0,\"\",SISWA!E162)","v":""},null,null,null,null,null,{"$error":"#DIV/0!"},null,null,{"$error":"#DIV/0!"},{"$error":"#DIV/0!"}]
[156,{"$f":"IF(SISWA!B163=0,\"\",SISWA!B163)","v":""},{"$f":"IF(SISWA!C163=0,\"\",SISWA!C163)","v":""},{"$f":"IF(SISWA!D163=0,\"\",SISWA!D163)","v":"156-"},{"$f":"IF(SISWA!E163=0,\"\",SISWA!E163)","v":""},null,null,null,null,null,{"$error":"#DIV/0!"},null,null,{"$error":"#DIV/0!"},{"$error":"#DIV/0!"}]
[157,{"$f":"IF(SISWA!B164=0,\"\",SISWA!B164)","v":""},{"$f":"IF(SISWA!C164=0,\"\",SISWA!C164)","v":""},{"$f":"IF(SISWA!D164=0,\"\",SISWA!D164)","v":"157-"},{"$f":"IF(SISWA!E164=0,\"\",SISWA!E164)","v":""},null,null,null,null,null,{"$error":"#DIV/0!"},null,null,{"$error":"#DIV/0!"},{"$error":"#DIV/0!"}]
[158,{"$f":"IF(SISWA!B165=0,\"\",SISWA!B165)","v":""},{"$f":"IF(SISWA!C165=0,\"\",SISWA!C165)","v":""},{"$f":"IF(SISWA!D165=0,\"\",SISWA!D165)","v":"158-"},{"$f":"IF(SISWA!E165=0,\"\",SISWA!E165)","v":""},null,null,null,null,null,{"$error":"#DIV/0!"},null,null,{"$error":"#DIV/0!"},{"$error":"#DIV/0!"}]
[159,{"$f":"IF(SISWA!B166=0,\"\",SISWA!B166)","v":""},{"$f":"IF(SISWA!C166=0,\"\",SISWA!C166)","v":""},{"$f":"IF(SISWA!D166=0,\"\",SISWA!D166)","v":"159-"},{"$f":"IF(SISWA!E166=0,\"\",SISWA!E166)","v":""},null,null,null,null,null,{"$error":"#DIV/0!"},null,null,{"$error":"#DIV/0!"},{"$error":"#DIV/0!"}]
[160,{"$f":"IF(SISWA!B167=0,\"\",SISWA!B167)","v":""},{"$f":"IF(SISWA!C167=0,\"\",SISWA!C167)","v":""},{"$f":"IF(SISWA!D167=0,\"\",SISWA!D167)","v":"160-"},{"$f":"IF(SISWA!E167=0,\"\",SISWA!E167)","v":""},null,null,null,null,null,{"$error":"#DIV/0!"},null,null,{"$error":"#DIV/0!"},{"$error":"#DIV/0!"}]
[161,{"$f":"IF(SISWA!B168=0,\"\",SISWA!B168)","v":""},{"$f":"IF(SISWA!C168=0,\"\",SISWA!C168)","v":""},{"$f":"IF(SISWA!D168=0,\"\",SISWA!D168)","v":"161-"},{"$f":"IF(SISWA!E168=0,\"\",SISWA!E168)","v":""},null,null,null,null,null,{"$error":"#DIV/0!"},null,null,{"$error":"#DIV/0!"},{"$error":"#DIV/0!"}]
[162,{"$f":"IF(SISWA!B169=0,\"\",SISWA!B169)","v":""},{"$f":"IF(SISWA!C169=0,\"\",SISWA!C169)","v":""},{"$f":"IF(SISWA!D169=0,\"\",SISWA!D169)","v":"162-"},{"$f":"IF(SISWA!E169=0,\"\",SISWA!E169)","v":""},null,null,null,null,null,{"$error":"#DIV/0!"},null,null,{"$error":"#DIV/0!"},{"$error":"#DIV/0!"}]
[163,{"$f":"IF(SISWA!B170=0,\"\",SISWA!B170)","v":""},{"$f":"IF(SISWA!C170=0,\"\",SISWA!C170)","v":""},{"$f":"IF(SISWA!D170=0,\"\",SISWA!D170)","v":"163-"},{"$f":"IF(SISWA!E170=0,\"\",SISWA!E170)","v":""},null,null,null,null,null,{"$error":"#DIV/0!"},null,null,{"$error":"#DIV/0!"},{"$error":"#DIV/0!"}]
[164,{"$f":"IF(SISWA!B171=0,\"\",SISWA!B171)","v":""},{"$f":"IF(SISWA!C171=0,\"\",SISWA!C171)","v":""},{"$f":"IF(SISWA!D171=0,\"\",SISWA!D171)","v":"164-"},{"$f":"IF(SISWA!E171=0,\"\",SISWA!E171)","v":""},null,null,null,null,null,{"$error":"#DIV/0!"},null,null,{"$error":"#DIV/0!"},{"$error":"#DIV/0!"}]
[165,{"$f":"IF(SISWA!B172=0,\"\",SISWA!B172)","v":""},{"$f":"IF(SISWA!C172=0,\"\",SISWA!C172)","v":""},{"$f":"IF(SISWA!D172=0,\"\",SISWA!D172)","v":"165-"},{"$f":"IF(SISWA!E172=0,\"\",SISWA!E172)","v":""},null,null,null,null,null,{"$error":"#DIV/0!"},null,null,{"$error":"#DIV/0!"},{"$error":"#DIV/0!"}]
[166,{"$f":"IF(SISWA!B173=0,\"\",SISWA!B173)","v":""},{"$f":"IF(SISWA!C173=0,\"\",SISWA!C173)","v":""},{"$f":"IF(SISWA!D173=0,\"\",SISWA!D173)","v":"166-"},{"$f":"IF(SISWA!E173=0,\"\",SISWA!E173)","v":""},null,null,null,null,null,{"$error":"#DIV/0!"},null,null,{"$error":"#DIV/0!"},{"$error":"#DIV/0!"}]
[167,{"$f":"IF(SISWA!B174=0,\"\",SISWA!B174)","v":""},{"$f":"IF(SISWA!C174=0,\"\",SISWA!C174)","v":""},{"$f":"IF(SISWA!D174=0,\"\",SISWA!D174)","v":"167-"},{"$f":"IF(SISWA!E174=0,\"\",SISWA!E174)","v":""},null,null,null,null,null,{"$error":"#DIV/0!"},null,null,{"$error":"#DIV/0!"},{"$error":"#DIV/0!"}]
[168,{"$f":"IF(SISWA!B175=0,\"\",SISWA!B175)","v":""},{"$f":"IF(SISWA!C175=0,\"\",SISWA!C175)","v":""},{"$f":"IF(SISWA!D175=0,\"\",SISWA!D175)","v":"168-"},{"$f":"IF(SISWA!E175=0,\"\",SISWA!E175)","v":""},null,null,null,null,null,{"$error":"#DIV/0!"},null,null,{"$error":"#DIV/0!"},{"$error":"#DIV/0!"}]
[169,{"$f":"IF(SISWA!B176=0,\"\",SISWA!B176)","v":""},{"$f":"IF(SISWA!C176=0,\"\",SISWA!C176)","v":""},{"$f":"IF(SISWA!D176=0,\"\",SISWA!D176)","v":"169-"},{"$f":"IF(SISWA!E176=0,\"\",SISWA!E176)","v":""},null,null,null,null,null,{"$error":"#DIV/0!"},null,null,{"$error":"#DIV/0!"},{"$error":"#DIV/0!"}]
[170,{"$f":"IF(SISWA!B177=0,\"\",SISWA!B177)","v":""},{"$f":"IF(SISWA!C177=0,\"\",SISWA!C177)","v":""},{"$f":"IF(SISWA!D177=0,\"\",SISWA!D177)","v":"170-"},{"$f":"IF(SISWA!E177=0,\"\",SISWA!E177)","v":""},null,null,null,null,null,{"$error":"#DIV/0!"},null,null,{"$error":"#DIV/0!"},{"$error":"#DIV/0!"}]
[171,{"$f":"IF(SISWA!B178=0,\"\",SISWA!B178)","v":""},{"$f":"IF(SISWA!C178=0,\"\",SISWA!C178)","v":""},{"$f":"IF(SISWA!D178=0,\"\",SISWA!D178)","v":"171-"},{"$f":"IF(SISWA!E178=0,\"\",SISWA!E178)","v":""},null,null,null,null,null,{"$error":"#DIV/0!"},null,null,{"$error":"#DIV/0!"},{"$error":"#DIV/0!"}]
[172,{"$f":"IF(SISWA!B179=0,\"\",SISWA!B179)","v":""},{"$f":"IF(SISWA!C179=0,\"\",SISWA!C179)","v":""},{"$f":"IF(SISWA!D179=0,\"\",SISWA!D179)","v":"172-"},{"$f":"IF(SISWA!E179=0,\"\",SISWA!E179)","v":""},null,null,null,null,null,{"$error":"#DIV/0!"},null,null,{"$error":"#DIV/0!"},{"$error":"#DIV/0!"}]
[173,{"$f":"IF(SISWA!B180=0,\"\",SISWA!B180)","v":""},{"$f":"IF(SISWA!C180=0,\"\",SISWA!C180)","v":""},{"$f":"IF(SISWA!D180=0,\"\",SISWA!D180)","v":"173-"},{"$f":"IF(SISWA!E180=0,\"\",SISWA!E180)","v":""},null,null,null,null,null,{"$error":"#DIV/0!"},null,null,{"$error":"#DIV/0!"},{"$error":"#DIV/0!"}]
[174,{"$f":"IF(SISWA!B181=0,\"\",SISWA!B181)","v":""},{"$f":"IF(SISWA!C181=0,\"\",SISWA!C181)","v":""},{"$f":"IF(SISWA!D181=0,\"\",SISWA!D181)","v":"174-"},{"$f":"IF(SISWA!E181=0,\"\",SISWA!E181)","v":""},null,null,null,null,null,{"$error":"#DIV/0!"},null,null,{"$error":"#DIV/0!"},{"$error":"#DIV/0!"}]
[175,{"$f":"IF(SISWA!B182=0,\"\",SISWA!B182)","v":""},{"$f":"IF(SISWA!C182=0,\"\",SISWA!C182)","v":""},{"$f":"IF(SISWA!D182=0,\"\",SISWA!D182)","v":"175-"},{"$f":"IF(SISWA!E182=0,\"\",SISWA!E182)","v":""},null,null,null,null,null,{"$error":"#DIV/0!"},null,null,{"$error":"#DIV/0!"},{"$error":"#DIV/0!"}]
[176,{"$f":"IF(SISWA!B183=0,\"\",SISWA!B183)","v":""},{"$f":"IF(SISWA!C183=0,\"\",SISWA!C183)","v":""},{"$f":"IF(SISWA!D183=0,\"\",SISWA!D183)","v":"176-"},{"$f":"IF(SISWA!E183=0,\"\",SISWA!E183)","v":""},null,null,null,null,null,{"$error":"#DIV/0!"},null,null,{"$error":"#DIV/0!"},{"$error":"#DIV/0!"}]
[177,{"$f":"IF(SISWA!B184=0,\"\",SISWA!B184)","v":""},{"$f":"IF(SISWA!C184=0,\"\",SISWA!C184)","v":""},{"$f":"IF(SISWA!D184=0,\"\",SISWA!D184)","v":"177-"},{"$f":"IF(SISWA!E184=0,\"\",SISWA!E184)","v":""},null,null,null,null,null,{"$error":"#DIV/0!"},null,null,{"$error":"#DIV/0!"},{"$error":"#DIV/0!"}]
[178,{"$f":"IF(SISWA!B185=0,\"\",SISWA!B185)","v":""},{"$f":"IF(SISWA!C185=0,\"\",SISWA!C185)","v":""},{"$f":"IF(SISWA!D185=0,\"\",SISWA!D185)","v":"178-"},{"$f":"IF(SISWA!E185=0,\"\",SISWA!E185)","v":""},null,null,null,null,null,{"$error":"#DIV/0!"},null,null,{"$error":"#DIV/0!"},{"$error":"#DIV/0!"}]
[179,{"$f":"IF(SISWA!B186=0,\"\",SISWA!B186)","v":""},{"$f":"IF(SISWA!C186=0,\"\",SISWA!C186)","v":""},{"$f":"IF(SISWA!D186=0,\"\",SISWA!D186)","v":"179-"},{"$f":"IF(SISWA!E186=0,\"\",SISWA!E186)","v":""},null,null,null,null,null,{"$error":"#DIV/0!"},null,null,{"$error":"#DIV/0!"},{"$error":"#DIV/0!"}]
[180,{"$f":"IF(SISWA!B187=0,\"\",SISWA!B187)","v":""},{"$f":"IF(SISWA!C187=0,\"\",SISWA!C187)","v":""},{"$f":"IF(SISWA!D187=0,\"\",SISWA!D187)","v":"180-"},{"$f":"IF(SISWA!E187=0,\"\",SISWA!E187)","v":""},null,null,null,null,null,{"$error":"#DIV/0!"},null,null,{"$error":"#DIV/0!"},{"$error":"#DIV/0!"}]
[181,{"$f":"IF(SISWA!B188=0,\"\",SISWA!B188)","v":""},{"$f":"IF(SISWA!C188=0,\"\",SISWA!C188)","v":""},{"$f":"IF(SISWA!D188=0,\"\",SISWA!D188)","v":"181-"},{"$f":"IF(SISWA!E188=0,\"\",SISWA!E188)","v":""},null,null,null,null,null,{"$error":"#DIV/0!"},null,null,{"$error":"#DIV/0!"},{"$error":"#DIV/0!"}]
[182,{"$f":"IF(SISWA!B189=0,\"\",SISWA!B189)","v":""},{"$f":"IF(SISWA!C189=0,\"\",SISWA!C189)","v":""},{"$f":"IF(SISWA!D189=0,\"\",SISWA!D189)","v":"182-"},{"$f":"IF(SISWA!E189=0,\"\",SISWA!E189)","v":""},null,null,null,null,null,{"$error":"#DIV/0!"},null,null,{"$error":"#DIV/0!"},{"$error":"#DIV/0!"}]
[183,{"$f":"IF(SISWA!B190=0,\"\",SISWA!B190)","v":""},{"$f":"IF(SISWA!C190=0,\"\",SISWA!C190)","v":""},{"$f":"IF(SISWA!D190=0,\"\",SISWA!D190)","v":"183-"},{"$f":"IF(SISWA!E190=0,\"\",SISWA!E190)","v":""},null,null,null,null,null,{"$error":"#DIV/0!"},null,null,{"$error":"#DIV/0!"},{"$error":"#DIV/0!"}]
[184,{"$f":"IF(SISWA!B191=0,\"\",SISWA!B191)","v":""},{"$f":"IF(SISWA!C191=0,\"\",SISWA!C191)","v":""},{"$f":"IF(SISWA!D191=0,\"\",SISWA!D191)","v":"184-"},{"$f":"IF(SISWA!E191=0,\"\",SISWA!E191)","v":""},null,null,null,null,null,{"$error":"#DIV/0!"},null,null,{"$error":"#DIV/0!"},{"$error":"#DIV/0!"}]
[185,{"$f":"IF(SISWA!B192=0,\"\",SISWA!B192)","v":""},{"$f":"IF(SISWA!C192=0,\"\",SISWA!C192)","v":""},{"$f":"IF(SISWA!D192=0,\"\",SISWA!D192)","v":"185-"},{"$f":"IF(SISWA!E192=0,\"\",SISWA!E192)","v":""},null,null,null,null,null,{"$error":"#DIV/0!"},null,null,{"$error":"#DIV/0!"},{"$error":"#DIV/0!"}]
[186,{"$f":"IF(SISWA!B193=0,\"\",SISWA!B193)","v":""},{"$f":"IF(SISWA!C193=0,\"\",SISWA!C193)","v":""},{"$f":"IF(SISWA!D193=0,\"\",SISWA!D193)","v":"186-"},{"$f":"IF(SISWA!E193=0,\"\",SISWA!E193)","v":""},null,null,null,null,null,{"$error":"#DIV/0!"},null,null,{"$error":"#DIV/0!"},{"$error":"#DIV/0!"}]
[187,{"$f":"IF(SISWA!B194=0,\"\",SISWA!B194)","v":""},{"$f":"IF(SISWA!C194=0,\"\",SISWA!C194)","v":""},{"$f":"IF(SISWA!D194=0,\"\",SISWA!D194)","v":"187-"},{"$f":"IF(SISWA!E194=0,\"\",SISWA!E194)","v":""},null,null,null,null,null,{"$error":"#DIV/0!"},null,null,{"$error":"#DIV/0!"},{"$error":"#DIV/0!"}]
[188,{"$f":"IF(SISWA!B195=0,\"\",SISWA!B195)","v":""},{"$f":"IF(SISWA!C195=0,\"\",SISWA!C195)","v":""},{"$f":"IF(SISWA!D195=0,\"\",SISWA!D195)","v":"188-"},{"$f":"IF(SISWA!E195=0,\"\",SISWA!E195)","v":""},null,null,null,null,null,{"$error":"#DIV/0!"},null,null,{"$error":"#DIV/0!"},{"$error":"#DIV/0!"}]
[189,{"$f":"IF(SISWA!B196=0,\"\",SISWA!B196)","v":""},{"$f":"IF(SISWA!C196=0,\"\",SISWA!C196)","v":""},{"$f":"IF(SISWA!D196=0,\"\",SISWA!D196)","v":"189-"},{"$f":"IF(SISWA!E196=0,\"\",SISWA!E196)","v":""},null,null,null,null,null,{"$error":"#DIV/0!"},null,null,{"$error":"#DIV/0!"},{"$error":"#DIV/0!"}]
[190,{"$f":"IF(SISWA!B197=0,\"\",SISWA!B197)","v":""},{"$f":"IF(SISWA!C197=0,\"\",SISWA!C197)","v":""},{"$f":"IF(SISWA!D197=0,\"\",SISWA!D197)","v":"190-"},{"$f":"IF(SISWA!E197=0,\"\",SISWA!E197)","v":""},null,null,null,null,null,{"$error":"#DIV/0!"},null,null,{"$error":"#DIV/0!"},{"$error":"#DIV/0!"}]
[191,{"$f":"IF(SISWA!B198=0,\"\",SISWA!B198)","v":""},{"$f":"IF(SISWA!C198=0,\"\",SISWA!C198)","v":""},{"$f":"IF(SISWA!D198=0,\"\",SISWA!D198)","v":"191-"},{"$f":"IF(SISWA!E198=0,\"\",SISWA!E198)","v":""},null,null,null,null,null,{"$error":"#DIV/0!"},null,null,{"$error":"#DIV/0!"},{"$error":"#DIV/0!"}]
[192,{"$f":"IF(SISWA!B199=0,\"\",SISWA!B199)","v":""},{"$f":"IF(SISWA!C199=0,\"\",SISWA!C199)","v":""},{"$f":"IF(SISWA!D199=0,\"\",SISWA!D199)","v":"192-"},{"$f":"IF(SISWA!E199=0,\"\",SISWA!E199)","v":""},null,null,null,null,null,{"$error":"#DIV/0!"},null,null,{"$error":"#DIV/0!"},{"$error":"#DIV/0!"}]
[193,{"$f":"IF(SISWA!B200=0,\"\",SISWA!B200)","v":""},{"$f":"IF(SISWA!C200=0,\"\",SISWA!C200)","v":""},{"$f":"IF(SISWA!D200=0,\"\",SISWA!D200)","v":"193-"},{"$f":"IF(SISWA!E200=0,\"\",SISWA!E200)","v":""},null,null,null,null,null,{"$error":"#DIV/0!"},null,null,{"$error":"#DIV/0!"},{"$error":"#DIV/0!"}]
[194,{"$f":"IF(SISWA!B201=0,\"\",SISWA!B201)","v":""},{"$f":"IF(SISWA!C201=0,\"\",SISWA!C201)","v":""},{"$f":"IF(SISWA!D201=0,\"\",SISWA!D201)","v":"194-"},{"$f":"IF(SISWA!E201=0,\"\",SISWA!E201)","v":""},null,null,null,null,null,{"$f":"AVERAGE(F201:J201)","v":{"$error":"#DIV/0!"}},null,null,{"$f":"AVERAGE(L201:M201)","v":{"$error":"#DIV/0!"}},{"$f":"AVERAGE(L201:M201)","v":{"$error":"#DIV/0!"}}]
[195,{"$f":"IF(SISWA!B202=0,\"\",SISWA!B202)","v":""},{"$f":"IF(SISWA!C202=0,\"\",SISWA!C202)","v":""},{"$f":"IF(SISWA!D202=0,\"\",SISWA!D202)","v":"195-"},{"$f":"IF(SISWA!E202=0,\"\",SISWA!E202)","v":""},null,null,null,null,null,{"$error":"#DIV/0!"},null,null,{"$error":"#DIV/0!"},{"$error":"#DIV/0!"}]
[196,{"$f":"IF(SISWA!B203=0,\"\",SISWA!B203)","v":""},{"$f":"IF(SISWA!C203=0,\"\",SISWA!C203)","v":""},{"$f":"IF(SISWA!D203=0,\"\",SISWA!D203)","v":"196-"},{"$f":"IF(SISWA!E203=0,\"\",SISWA!E203)","v":""},null,null,null,null,null,{"$error":"#DIV/0!"},null,null,{"$error":"#DIV/0!"},{"$error":"#DIV/0!"}]
[197,{"$f":"IF(SISWA!B204=0,\"\",SISWA!B204)","v":""},{"$f":"IF(SISWA!C204=0,\"\",SISWA!C204)","v":""},{"$f":"IF(SISWA!D204=0,\"\",SISWA!D204)","v":"197-"},{"$f":"IF(SISWA!E204=0,\"\",SISWA!E204)","v":""},null,null,null,null,null,{"$error":"#DIV/0!"},null,null,{"$error":"#DIV/0!"},{"$error":"#DIV/0!"}]
[198,{"$f":"IF(SISWA!B205=0,\"\",SISWA!B205)","v":""},{"$f":"IF(SISWA!C205=0,\"\",SISWA!C205)","v":""},{"$f":"IF(SISWA!D205=0,\"\",SISWA!D205)","v":"198-"},{"$f":"IF(SISWA!E205=0,\"\",SISWA!E205)","v":""},null,null,null,null,null,{"$error":"#DIV/0!"},null,null,{"$error":"#DIV/0!"},{"$error":"#DIV/0!"}]
[199,{"$f":"IF(SISWA!B206=0,\"\",SISWA!B206)","v":""},{"$f":"IF(SISWA!C206=0,\"\",SISWA!C206)","v":""},{"$f":"IF(SISWA!D206=0,\"\",SISWA!D206)","v":"199-"},{"$f":"IF(SISWA!E206=0,\"\",SISWA!E206)","v":""},null,null,null,null,null,{"$error":"#DIV/0!"},null,null,{"$error":"#DIV/0!"},{"$error":"#DIV/0!"}]
[200,{"$f":"IF(SISWA!B207=0,\"\",SISWA!B207)","v":""},{"$f":"IF(SISWA!C207=0,\"\",SISWA!C207)","v":""},{"$f":"IF(SISWA!D207=0,\"\",SISWA!D207)","v":"200-"},{"$f":"IF(SISWA!E207=0,\"\",SISWA!E207)","v":""},null,null,null,null,null,{"$error":"#DIV/0!"},null,null,{"$error":"#DIV/0!"},{"$error":"#DIV/0!"}]

{"sheet":"AA","index":3,"n_rows":207,"n_cols":15,"rows_kept":207,"cut":false,"hidden":false,"merged":[[4,14,6,14],[5,11,5,12],[0,0,0,9],[1,0,1,9],[2,0,2,9],[4,0,6,0],[4,1,6,1],[4,2,6,2],[4,3,6,3],[4,4,6,4],[4,5,4,12],[5,5,5,9]]}
["DAFTAR NILAI AKHIR SEKOLAH"]
[{"$f":"UPPER(DEPAN!Y6)&\" \"&UPPER(DEPAN!AA6)","v":"MADRASAH IBTIDAIYAH NURUL ISLAM LABRUK KIDUL"}]
[{"$f":"DEPAN!Y16","v":"TAHUN PELAJARAN 2018/2019"}]
[]
["NO","No Induk","NISN","Nomor Peserta","Nama Peserta","Akhidah Akhlak",null,null,null,null,null,null,null,null,"rata-rata UAM & PRAKTEK"]
[null,null,null,null,null,"Nilai Semester",null,null,null,null,"Rata- 2","NILAI UAMBD"]
[null,null,null,null,null,7,8,9,10,11,"Rapor","TULIS","PRAKTIK"]
[1,{"$f":"IF(SISWA!B8=0,\"\",SISWA!B8)","v":4270},{"$f":"IF(SISWA!C8=0,\"\",SISWA!C8)","v":"0067566336"},{"$f":"IF(SISWA!D8=0,\"\",SISWA!D8)","v":"1-18-05-80-162-001-9"},{"$f":"IF(SISWA!E8=0,\"\",SISWA!E8)","v":"ADITYA MAULA FANDY TAULANI"},81,82,80,89,96,{"$f":"AVERAGE(F8:J8)","v":85.6},65,{"$f":"K8","v":85.6},{"$f":"AVERAGE(L8:M8)","v":75.3},{"$f":"AVERAGE(L8:M8)","v":75.3}]
[2,{"$f":"IF(SISWA!B9=0,\"\",SISWA!B9)","v":4300},{"$f":"IF(SISWA!C9=0,\"\",SISWA!C9)","v":"0066364963"},{"$f":"IF(SISWA!D9=0,\"\",SISWA!D9)","v":"1-18-05-80-162-002-8"},{"$f":"IF(SISWA!E9=0,\"\",SISWA!E9)","v":"AHMAD FERDIAN ALAMSYAH"},71,65,75,72,83,{"$f":"AVERAGE(F9:J9)","v":73.2},71,{"$f":"K9","v":73.2},{"$f":"AVERAGE(L9:M9)","v":72.099999999999994},{"$f":"AVERAGE(L9:M9)","v":72.099999999999994}]
[3,{"$f":"IF(SISWA!B10=0,\"\",SISWA!B10)","v":4271},{"$f":"IF(SISWA!C10=0,\"\",SISWA!C10)","v":"0062805893"},{"$f":"IF(SISWA!D10=0,\"\",SISWA!D10)","v":"1-18-05-80-162-003-7"},{"$f":"IF(SISWA!E10=0,\"\",SISWA!E10)","v":"AHMAD RAMADHANI FADLULLOH"},77,79,80,80,83,79.8,68,79.8,73.900000000000006,73.900000000000006]
[4,{"$f":"IF(SISWA!B11=0,\"\",SISWA!B11)","v":4398},{"$f":"IF(SISWA!C11=0,\"\",SISWA!C11)","v":"0062399399"},{"$f":"IF(SISWA!D11=0,\"\",SISWA!D11)","v":"1-18-05-80-162-004-6"},{"$f":"IF(SISWA!E11=0,\"\",SISWA!E11)","v":"ANANDA AMILIA"},73,71,75,78,85,76.400000000000006,74,76.400000000000006,75.2,75.2]
[5,{"$f":"IF(SISWA!B12=0,\"\",SISWA!B12)","v":4272},{"$f":"IF(SISWA!C12=0,\"\",SISWA!C12)","v":"0071551428"},{"$f":"IF(SISWA!D12=0,\"\",SISWA!D12)","v":"1-18-05-80-162-005-5"},{"$f":"IF(SISWA!E12=0,\"\",SISWA!E12)","v":"ANDINI MAULID DWI LESTARI"},78,70,76,78,85,77.400000000000006,71,77.400000000000006,74.2,74.2]
[6,{"$f":"IF(SISWA!B13=0,\"\",SISWA!B13)","v":4301},{"$f":"IF(SISWA!C13=0,\"\",SISWA!C13)","v":"0061907599"},{"$f":"IF(SISWA!D13=0,\"\",SISWA!D13)","v":"1-18-05-80-162-006-4"},{"$f":"IF(SISWA!E13=0,\"\",SISWA!E13)","v":"ANDRIK YUSRI"},70,61,75,67,81,70.8,65,70.8,67.900000000000006,67.900000000000006]
[7,{"$f":"IF(SISWA!B14=0,\"\",SISWA!B14)","v":4273},{"$f":"IF(SISWA!C14=0,\"\",SISWA!C14)","v":"0067280519"},{"$f":"IF(SISWA!D14=0,\"\",SISWA!D14)","v":"1-18-05-80-162-007-3"},{"$f":"IF(SISWA!E14=0,\"\",SISWA!E14)","v":"DEWI SAKINAH ISWARA"},79,79,79,82,92,82.2,91,82.2,86.6,86.6]
[8,{"$f":"IF(SISWA!B15=0,\"\",SISWA!B15)","v":4307},{"$f":"IF(SISWA!C15=0,\"\",SISWA!C15)","v":"0066012198"},{"$f":"IF(SISWA!D15=0,\"\",SISWA!D15)","v":"1-18-05-80-162-008-2"},{"$f":"IF(SISWA!E15=0,\"\",SISWA!E15)","v":"CHAKIM"},69,57,73,63,81,68.599999999999994,65,{"$f":"K15","v":68.599999999999994},{"$f":"AVERAGE(L15:M15)","v":66.8},{"$f":"AVERAGE(L15:M15)","v":66.8}]
[9,{"$f":"IF(SISWA!B16=0,\"\",SISWA!B16)","v":4275},{"$f":"IF(SISWA!C16=0,\"\",SISWA!C16)","v":"0078199679"},{"$f":"IF(SISWA!D16=0,\"\",SISWA!D16)","v":"1-18-05-80-162-009-9"},{"$f":"IF(SISWA!E16=0,\"\",SISWA!E16)","v":"HANIK APRILIA SARI"},79,77,76,80,84,79.2,74,79.2,76.599999999999994,76.599999999999994]
[10,{"$f":"IF(SISWA!B17=0,\"\",SISWA!B17)","v":"4238"},{"$f":"IF(SISWA!C17=0,\"\",SISWA!C17)","v":"0051503260"},{"$f":"IF(SISWA!D17=0,\"\",SISWA!D17)","v":"1-18-05-80-162-010-8"},{"$f":"IF(SISWA!E17=0,\"\",SISWA!E17)","v":"DESI NATALIA SAPUTRI"},69,59,74,66,79,69.400000000000006,65,69.400000000000006,67.2,67.2]
[11,{"$f":"IF(SISWA!B18=0,\"\",SISWA!B18)","v":4391},{"$f":"IF(SISWA!C18=0,\"\",SISWA!C18)","v":"0079418518"},{"$f":"IF(SISWA!D18=0,\"\",SISWA!D18)","v":"1-18-05-80-162-011-7"},{"$f":"IF(SISWA!E18=0,\"\",SISWA!E18)","v":"HIDAYATUL KHUMAINIA"},70,70,76,79,83,75.599999999999994,83,75.599999999999994,79.3,79.3]
[12,{"$f":"IF(SISWA!B19=0,\"\",SISWA!B19)","v":4274},{"$f":"IF(SISWA!C19=0,\"\",SISWA!C19)","v":"0077670297"},{"$f":"IF(SISWA!D19=0,\"\",SISWA!D19)","v":"1-18-05-80-162-012-6"},{"$f":"IF(SISWA!E19=0,\"\",SISWA!E19)","v":"DWITA FITA WULANDARI"},75,63,75,73,85,74.2,65,74.2,69.599999999999994,69.599999999999994]
[13,{"$f":"IF(SISWA!B20=0,\"\",SISWA!B20)","v":4276},{"$f":"IF(SISWA!C20=0,\"\",SISWA!C20)","v":"0067236848"},{"$f":"IF(SISWA!D20=0,\"\",SISWA!D20)","v":"1-18-05-80-162-013-5"},{"$f":"IF(SISWA!E20=0,\"\",SISWA!E20)","v":"IZZA ILMIA AZZAHRA"},78,79,76,83,90,81.2,65,81.2,73.099999999999994,73.099999999999994]
[14,{"$f":"IF(SISWA!B21=0,\"\",SISWA!B21)","v":4303},{"$f":"IF(SISWA!C21=0,\"\",SISWA!C21)","v":"0064031376"},{"$f":"IF(SISWA!D21=0,\"\",SISWA!D21)","v":"1-18-05-80-162-014-4"},{"$f":"IF(SISWA!E21=0,\"\",SISWA!E21)","v":"FARIDATUS SAHDIAH"},73,69,77,75,83,75.400000000000006,83,75.400000000000006,79.2,79.2]
[15,{"$f":"IF(SISWA!B22=0,\"\",SISWA!B22)","v":4278},{"$f":"IF(SISWA!C22=0,\"\",SISWA!C22)","v":"0079672823"},{"$f":"IF(SISWA!D22=0,\"\",SISWA!D22)","v":"1-18-05-80-162-015-3"},{"$f":"IF(SISWA!E22=0,\"\",SISWA!E22)","v":"KHARISYA AZZAHRO"},87,87,78,87,95,86.8,68,86.8,77.400000000000006,77.400000000000006]
[16,{"$f":"IF(SISWA!B23=0,\"\",SISWA!B23)","v":4277},{"$f":"IF(SISWA!C23=0,\"\",SISWA!C23)","v":"0077101453"},{"$f":"IF(SISWA!D23=0,\"\",SISWA!D23)","v":"1-18-05-80-162-016-2"},{"$f":"IF(SISWA!E23=0,\"\",SISWA!E23)","v":"KARINA FEBBY CAHYA AMILIA"},78,78,77,82,89,80.8,68,80.8,74.400000000000006,74.400000000000006]
[17,{"$f":"IF(SISWA!B24=0,\"\",SISWA!B24)","v":4601},{"$f":"IF(SISWA!C24=0,\"\",SISWA!C24)","v":"0069718082"},{"$f":"IF(SISWA!D24=0,\"\",SISWA!D24)","v":"1-18-05-80-162-017-9"},{"$f":"IF(SISWA!E24=0,\"\",SISWA!E24)","v":"MOCHAMAD RIFKY ROSAN"},74,75,74,89,84,79.2,65,95,80,80]
[18,{"$f":"IF(SISWA!B25=0,\"\",SISWA!B25)","v":"4241"},{"$f":"IF(SISWA!C25=0,\"\",SISWA!C25)","v":"0057006145"},{"$f":"IF(SISWA!D25=0,\"\",SISWA!D25)","v":"1-18-05-80-162-018-8"},{"$f":"IF(SISWA!E25=0,\"\",SISWA!E25)","v":"KHUSNI CAHYONO"},70,58,72,60,81,68.2,89,68.2,78.599999999999994,78.599999999999994]
[19,{"$f":"IF(SISWA!B26=0,\"\",SISWA!B26)","v":4280},{"$f":"IF(SISWA!C26=0,\"\",SISWA!C26)","v":"0062061356"},{"$f":"IF(SISWA!D26=0,\"\",SISWA!D26)","v":"1-18-05-80-162-019-7"},{"$f":"IF(SISWA!E26=0,\"\",SISWA!E26)","v":"MUCHAMMAD ALIEF FERDIANSYAH"},78,78,78,78,89,80.2,65,80.2,72.599999999999994,72.599999999999994]
[20,{"$f":"IF(SISWA!B27=0,\"\",SISWA!B27)","v":4306},{"$f":"IF(SISWA!C27=0,\"\",SISWA!C27)","v":"0069095925"},{"$f":"IF(SISWA!D27=0,\"\",SISWA!D27)","v":"1-18-05-80-162-020-6"},{"$f":"IF(SISWA!E27=0,\"\",SISWA!E27)","v":"LENNY AGUSTIN NINGTYAS"},69,57,73,64,79,68.400000000000006,77,68.400000000000006,72.7,72.7]
[21,{"$f":"IF(SISWA!B28=0,\"\",SISWA!B28)","v":4281},{"$f":"IF(SISWA!C28=0,\"\",SISWA!C28)","v":"0069153972"},{"$f":"IF(SISWA!D28=0,\"\",SISWA!D28)","v":"1-18-05-80-162-021-5"},{"$f":"IF(SISWA!E28=0,\"\",SISWA!E28)","v":"MUHAMMAD AGUS ANDRIANTO"},76,74,75,74,85,76.8,65,76.8,70.900000000000006,70.900000000000006]
[22,{"$f":"IF(SISWA!B29=0,\"\",SISWA!B29)","v":4308},{"$f":"IF(SISWA!C29=0,\"\",SISWA!C29)","v":"0063078335"},{"$f":"IF(SISWA!D29=0,\"\",SISWA!D29)","v":"1-18-05-80-162-022-4"},{"$f":"IF(SISWA!E29=0,\"\",SISWA!E29)","v":"MAURIS HIDAYATUR ROCHMAN"},75,76,75,79,86,78.2,80,78.2,79.099999999999994,79.099999999999994]
[23,{"$f":"IF(SISWA!B30=0,\"\",SISWA!B30)","v":4314},{"$f":"IF(SISWA!C30=0,\"\",SISWA!C30)","v":"0072178353"},{"$f":"IF(SISWA!D30=0,\"\",SISWA!D30)","v":"1-18-05-80-162-023-3"},{"$f":"IF(SISWA!E30=0,\"\",SISWA!E30)","v":"MUHAMMAD BISMAR TAUFIQUROHMAN"},79,78,77,83,88,81,65,81,73,73]
[24,{"$f":"IF(SISWA!B31=0,\"\",SISWA!B31)","v":4309},{"$f":"IF(SISWA!C31=0,\"\",SISWA!C31)","v":"0072198448"},{"$f":"IF(SISWA!D31=0,\"\",SISWA!D31)","v":"1-18-05-80-162-024-2"},{"$f":"IF(SISWA!E31=0,\"\",SISWA!E31)","v":"MAYA BUNGA ANJANI"},70,59,75,72,79,71,74,95,84.5,84.5]
[25,{"$f":"IF(SISWA!B32=0,\"\",SISWA!B32)","v":4320},{"$f":"IF(SISWA!C32=0,\"\",SISWA!C32)","v":"0064566227"},{"$f":"IF(SISWA!D32=0,\"\",SISWA!D32)","v":"1-18-05-80-162-025-9"},{"$f":"IF(SISWA!E32=0,\"\",SISWA!E32)","v":"MUHAMMAD SAHLAN SHODIQ"},80,82,77,83,87,81.8,65,95,80,80]
[26,{"$f":"IF(SISWA!B33=0,\"\",SISWA!B33)","v":4279},{"$f":"IF(SISWA!C33=0,\"\",SISWA!C33)","v":"0066637092"},{"$f":"IF(SISWA!D33=0,\"\",SISWA!D33)","v":"1-18-05-80-162-026-8"},{"$f":"IF(SISWA!E33=0,\"\",SISWA!E33)","v":"MITA SEPTIANI ISLAMIA"},70,66,75,75,78,72.8,86,72.8,79.400000000000006,79.400000000000006]
[27,{"$f":"IF(SISWA!B34=0,\"\",SISWA!B34)","v":4321},{"$f":"IF(SISWA!C34=0,\"\",SISWA!C34)","v":"0061244045"},{"$f":"IF(SISWA!D34=0,\"\",SISWA!D34)","v":"1-18-05-80-162-027-7"},{"$f":"IF(SISWA!E34=0,\"\",SISWA!E34)","v":"MUHAMMAD SEPTYAN EKA PRATAMA"},78,81,77,79,84,79.8,65,79.8,72.400000000000006,72.400000000000006]
[28,{"$f":"IF(SISWA!B35=0,\"\",SISWA!B35)","v":"4247"},{"$f":"IF(SISWA!C35=0,\"\",SISWA!C35)","v":"0053546157"},{"$f":"IF(SISWA!D35=0,\"\",SISWA!D35)","v":"1-18-05-80-162-028-6"},{"$f":"IF(SISWA!E35=0,\"\",SISWA!E35)","v":"MOCHAMAD ARIEL FRANS TITO"},70,60,74,70,79,70.599999999999994,71,70.599999999999994,70.8,70.8]
[29,{"$f":"IF(SISWA!B36=0,\"\",SISWA!B36)","v":4285},{"$f":"IF(SISWA!C36=0,\"\",SISWA!C36)","v":"0067871553"},{"$f":"IF(SISWA!D36=0,\"\",SISWA!D36)","v":"1-18-05-80-162-029-5"},{"$f":"IF(SISWA!E36=0,\"\",SISWA!E36)","v":"MUHAMMAD VERYANSYAH"},78,73,79,77,86,78.599999999999994,65,78.599999999999994,71.8,71.8]
[30,{"$f":"IF(SISWA!B37=0,\"\",SISWA!B37)","v":4310},{"$f":"IF(SISWA!C37=0,\"\",SISWA!C37)","v":"0066383678"},{"$f":"IF(SISWA!D37=0,\"\",SISWA!D37)","v":"1-18-05-80-162-030-4"},{"$f":"IF(SISWA!E37=0,\"\",SISWA!E37)","v":"MOCHAMMAD BIMA RISFANDA"},71,63,75,70,81,72,80,72,76,76]
[31,{"$f":"IF(SISWA!B38=0,\"\",SISWA!B38)","v":4286},{"$f":"IF(SISWA!C38=0,\"\",SISWA!C38)","v":"0064443822"},{"$f":"IF(SISWA!D38=0,\"\",SISWA!D38)","v":"1-18-05-80-162-031-3"},{"$f":"IF(SISWA!E38=0,\"\",SISWA!E38)","v":"MUHAMMAD ZIDNY NA'IM"},81,86,79,84,90,84,65,84,74.5,74.5]
[32,{"$f":"IF(SISWA!B39=0,\"\",SISWA!B39)","v":4282},{"$f":"IF(SISWA!C39=0,\"\",SISWA!C39)","v":"0068336765"},{"$f":"IF(SISWA!D39=0,\"\",SISWA!D39)","v":"1-18-05-80-162-032-2"},{"$f":"IF(SISWA!E39=0,\"\",SISWA!E39)","v":"MUHAMMAD AGUS FERDIANSYAH"},75,72,75,80,84,77.2,80,77.2,78.599999999999994,78.599999999999994]
[33,{"$f":"IF(SISWA!B40=0,\"\",SISWA!B40)","v":4287},{"$f":"IF(SISWA!C40=0,\"\",SISWA!C40)","v":"0064528717"},{"$f":"IF(SISWA!D40=0,\"\",SISWA!D40)","v":"1-18-05-80-162-033-9"},{"$f":"IF(SISWA!E40=0,\"\",SISWA!E40)","v":"MUHAMMAD FARDAN ABDILLAH"},78,null,76,75,null,76.333333333333329,65,76.333333333333329,70.666666666666657,70.666666666666657]
[34,{"$f":"IF(SISWA!B41=0,\"\",SISWA!B41)","v":4315},{"$f":"IF(SISWA!C41=0,\"\",SISWA!C41)","v":"0067870495"},{"$f":"IF(SISWA!D41=0,\"\",SISWA!D41)","v":"1-18-05-80-162-034-8"},{"$f":"IF(SISWA!E41=0,\"\",SISWA!E41)","v":"NABILA ARISKA PUTRI"},81,81,77,86,86,82.2,80,82.2,81.099999999999994,81.099999999999994]
[35,{"$f":"IF(SISWA!B42=0,\"\",SISWA!B42)","v":4288},{"$f":"IF(SISWA!C42=0,\"\",SISWA!C42)","v":"0068641191"},{"$f":"IF(SISWA!D42=0,\"\",SISWA!D42)","v":"1-18-05-80-162-035-7"},{"$f":"IF(SISWA!E42=0,\"\",SISWA!E42)","v":"MUHAMMAD FERDINAN JAYYIDAH RIFQI"},79,79,77,78,89,80.400000000000006,65,80.400000000000006,72.7,72.7]
[36,{"$f":"IF(SISWA!B43=0,\"\",SISWA!B43)","v":4283},{"$f":"IF(SISWA!C43=0,\"\",SISWA!C43)","v":"0077212388"},{"$f":"IF(SISWA!D43=0,\"\",SISWA!D43)","v":"1-18-05-80-162-036-6"},{"$f":"IF(SISWA!E43=0,\"\",SISWA!E43)","v":"NAFISA INDRIANI"},80,86,83,85,94,85.6,71,85.6,78.3,78.3]
[37,{"$f":"IF(SISWA!B44=0,\"\",SISWA!B44)","v":"4257"},{"$f":"IF(SISWA!C44=0,\"\",SISWA!C44)","v":"0069944706"},{"$f":"IF(SISWA!D44=0,\"\",SISWA!D44)","v":"1-18-05-80-162-037-5"},{"$f":"IF(SISWA!E44=0,\"\",SISWA!E44)","v":"MUHAMMAD FIRMANSYAH"},72,68,79,71,83,74.599999999999994,65,74.599999999999994,69.8,69.8]
[38,{"$f":"IF(SISWA!B45=0,\"\",SISWA!B45)","v":4317},{"$f":"IF(SISWA!C45=0,\"\",SISWA!C45)","v":"0068498059"},{"$f":"IF(SISWA!D45=0,\"\",SISWA!D45)","v":"1-18-05-80-162-038-4"},{"$f":"IF(SISWA!E45=0,\"\",SISWA!E45)","v":"NAJWA FARISYA BAROROH"},80,79,78,84,93,82.8,80,82.8,81.400000000000006,81.400000000000006]
[39,{"$f":"IF(SISWA!B46=0,\"\",SISWA!B46)","v":4289},{"$f":"IF(SISWA!C46=0,\"\",SISWA!C46)","v":"0065225517"},{"$f":"IF(SISWA!D46=0,\"\",SISWA!D46)","v":"1-18-05-80-162-039-3"},{"$f":"IF(SISWA!E46=0,\"\",SISWA!E46)","v":"NUR FITRIYAH"},78,79,78,79,89,80.599999999999994,65,80.599999999999994,72.8,72.8]
[40,{"$f":"IF(SISWA!B47=0,\"\",SISWA!B47)","v":4318},{"$f":"IF(SISWA!C47=0,\"\",SISWA!C47)","v":"0061441364"},{"$f":"IF(SISWA!D47=0,\"\",SISWA!D47)","v":"1-18-05-80-162-040-2"},{"$f":"IF(SISWA!E47=0,\"\",SISWA!E47)","v":"MUHAMMAD HILDAN DWI SAPUTRA"},70,70,75,76,79,74,65,74,69.5,69.5]
[41,{"$f":"IF(SISWA!B48=0,\"\",SISWA!B48)","v":4392},{"$f":"IF(SISWA!C48=0,\"\",SISWA!C48)","v":"0075794532"},{"$f":"IF(SISWA!D48=0,\"\",SISWA!D48)","v":"1-18-05-80-162-041-9"},{"$f":"IF(SISWA!E48=0,\"\",SISWA!E48)","v":"PUTRI NAFI'ATUS SOLIKHAH"},76,72,76,79,87,78,65,78,71.5,71.5]
[42,{"$f":"IF(SISWA!B49=0,\"\",SISWA!B49)","v":4284},{"$f":"IF(SISWA!C49=0,\"\",SISWA!C49)","v":"0069578000"},{"$f":"IF(SISWA!D49=0,\"\",SISWA!D49)","v":"1-18-05-80-162-042-8"},{"$f":"IF(SISWA!E49=0,\"\",SISWA!E49)","v":"MUHAMMAD RAYA KAFAF JAUHARI"},80,77,78,81,83,79.8,80,79.8,79.900000000000006,79.900000000000006]
[43,{"$f":"IF(SISWA!B50=0,\"\",SISWA!B50)","v":4290},{"$f":"IF(SISWA!C50=0,\"\",SISWA!C50)","v":"0063558216"},{"$f":"IF(SISWA!D50=0,\"\",SISWA!D50)","v":"1-18-05-80-162-043-7"},{"$f":"IF(SISWA!E50=0,\"\",SISWA!E50)","v":"QORIATUN SHOLIHAH"},81,78,79,84,87,{"$f":"AVERAGE(F50:J50)","v":81.8},65,81.8,73.400000000000006,73.400000000000006]
[44,{"$f":"IF(SISWA!B51=0,\"\",SISWA!B51)","v":4319},{"$f":"IF(SISWA!C51=0,\"\",SISWA!C51)","v":"0065329770"},{"$f":"IF(SISWA!D51=0,\"\",SISWA!D51)","v":"1-18-05-80-162-044-6"},{"$f":"IF(SISWA!E51=0,\"\",SISWA!E51)","v":"MUHAMMAD RUDI TANTOWIK"},71,64,74,63,79,70.2,65,70.2,67.599999999999994,67.599999999999994]
[45,{"$f":"IF(SISWA!B52=0,\"\",SISWA!B52)","v":4291},{"$f":"IF(SISWA!C52=0,\"\",SISWA!C52)","v":"0067071679"},{"$f":"IF(SISWA!D52=0,\"\",SISWA!D52)","v":"1-18-05-80-162-045-5"},{"$f":"IF(SISWA!E52=0,\"\",SISWA!E52)","v":"RACHMAD HIDAYAT"},77,73,76,72,83,76.2,80,76.2,78.099999999999994,78.099999999999994]
[46,{"$f":"IF(SISWA!B53=0,\"\",SISWA!B53)","v":4322},{"$f":"IF(SISWA!C53=0,\"\",SISWA!C53)","v":"0051101989"},{"$f":"IF(SISWA!D53=0,\"\",SISWA!D53)","v":"1-18-05-80-162-046-4"},{"$f":"IF(SISWA!E53=0,\"\",SISWA!E53)","v":"MUHAMMAD ZULDIENUR HABIBIE"},67,59,75,75,79,71,86,71,78.5,78.5]
[47,{"$f":"IF(SISWA!B54=0,\"\",SISWA!B54)","v":4292},{"$f":"IF(SISWA!C54=0,\"\",SISWA!C54)","v":"0072001696"},{"$f":"IF(SISWA!D54=0,\"\",SISWA!D54)","v":"1-18-05-80-162-047-3"},{"$f":"IF(SISWA!E54=0,\"\",SISWA!E54)","v":"RHEA RAYSHANADA NUGRAHA"},79,82,76,85,88,82,71,82,76.5,76.5]
[48,{"$f":"IF(SISWA!B55=0,\"\",SISWA!B55)","v":4323},{"$f":"IF(SISWA!C55=0,\"\",SISWA!C55)","v":"0078949167"},{"$f":"IF(SISWA!D55=0,\"\",SISWA!D55)","v":"1-18-05-80-162-048-2"},{"$f":"IF(SISWA!E55=0,\"\",SISWA!E55)","v":"MUKHAMAD KHOIRUL AMIN"},70,70,75,72,81,73.599999999999994,65,73.599999999999994,69.3,69.3]
[49,{"$f":"IF(SISWA!B56=0,\"\",SISWA!B56)","v":4293},{"$f":"IF(SISWA!C56=0,\"\",SISWA!C56)","v":"0064217705"},{"$f":"IF(SISWA!D56=0,\"\",SISWA!D56)","v":"1-18-05-80-162-049-9"},{"$f":"IF(SISWA!E56=0,\"\",SISWA!E56)","v":"RIYANTI APRILIA"},81,78,77,89,89,82.8,65,82.8,73.900000000000006,73.900000000000006]
[50,{"$f":"IF(SISWA!B57=0,\"\",SISWA!B57)","v":"4256"},{"$f":"IF(SISWA!C57=0,\"\",SISWA!C57)","v":"0065699742"},{"$f":"IF(SISWA!D57=0,\"\",SISWA!D57)","v":"1-18-05-80-162-050-8"},{"$f":"IF(SISWA!E57=0,\"\",SISWA!E57)","v":"MUKHAMMAD YAASIIN HASAN KHASBULLOH"},76,67,75,77,83,75.599999999999994,71,75.599999999999994,73.3,73.3]
[51,{"$f":"IF(SISWA!B58=0,\"\",SISWA!B58)","v":4295},{"$f":"IF(SISWA!C58=0,\"\",SISWA!C58)","v":"0061359184"},{"$f":"IF(SISWA!D58=0,\"\",SISWA!D58)","v":"1-18-05-80-162-051-7"},{"$f":"IF(SISWA!E58=0,\"\",SISWA!E58)","v":"SHONIA AULIA AS'AD"},84,92,80,90,96,88.4,65,88.4,76.7,76.7]
[52,{"$f":"IF(SISWA!B59=0,\"\",SISWA!B59)","v":4294},{"$f":"IF(SISWA!C59=0,\"\",SISWA!C59)","v":"0064723905"},{"$f":"IF(SISWA!D59=0,\"\",SISWA!D59)","v":"1-18-05-80-162-052-6"},{"$f":"IF(SISWA!E59=0,\"\",SISWA!E59)","v":"RIZKA AYU WULANDARI"},78,74,77,78,83,78,74,78,76,76]
[53,{"$f":"IF(SISWA!B60=0,\"\",SISWA!B60)","v":4298},{"$f":"IF(SISWA!C60=0,\"\",SISWA!C60)","v":"0065530554"},{"$f":"IF(SISWA!D60=0,\"\",SISWA!D60)","v":"1-18-05-80-162-053-5"},{"$f":"IF(SISWA!E60=0,\"\",SISWA!E60)","v":"VERLINA DWI MAULANI"},81,80,77,81,86,81,65,81,73,73]
[54,{"$f":"IF(SISWA!B61=0,\"\",SISWA!B61)","v":4297},{"$f":"IF(SISWA!C61=0,\"\",SISWA!C61)","v":"0063846732"},{"$f":"IF(SISWA!D61=0,\"\",SISWA!D61)","v":"1-18-05-80-162-054-4"},{"$f":"IF(SISWA!E61=0,\"\",SISWA!E61)","v":"USWATUN KHASANAH"},74,67,76,78,83,75.599999999999994,65,75.599999999999994,70.3,70.3]
[55,{"$f":"IF(SISWA!B62=0,\"\",SISWA!B62)","v":4324},{"$f":"IF(SISWA!C62=0,\"\",SISWA!C62)","v":"0078966795"},{"$f":"IF(SISWA!D62=0,\"\",SISWA!D62)","v":"1-18-05-80-162-055-3"},{"$f":"IF(SISWA!E62=0,\"\",SISWA!E62)","v":"VIKA KUSUMA WATI"},77,72,76,77,84,77.2,65,77.2,71.099999999999994,71.099999999999994]
[56,{"$f":"IF(SISWA!B63=0,\"\",SISWA!B63)","v":4326},{"$f":"IF(SISWA!C63=0,\"\",SISWA!C63)","v":"0064124533"},{"$f":"IF(SISWA!D63=0,\"\",SISWA!D63)","v":"1-18-05-80-162-056-2"},{"$f":"IF(SISWA!E63=0,\"\",SISWA!E63)","v":"YOHAN EGA GILANG PERMANA"},70,null,75,75,77,74.25,65,74.25,69.625,69.625]
[57,{"$f":"IF(SISWA!B64=0,\"\",SISWA!B64)","v":""},{"$f":"IF(SISWA!C64=0,\"\",SISWA!C64)","v":""},{"$f":"IF(SISWA!D64=0,\"\",SISWA!D64)","v":"1-18-05-80-162-057-9"},{"$f":"IF(SISWA!E64=0,\"\",SISWA!E64)","v":""},null,null,null,null,null,{"$error":"#DIV/0!"},null,{"$error":"#DIV/0!"},{"$error":"#DIV/0!"},{"$error":"#DIV/0!"}]
[58,{"$f":"IF(SISWA!B65=0,\"\",SISWA!B65)","v":""},{"$f":"IF(SISWA!C65=0,\"\",SISWA!C65)","v":""},{"$f":"IF(SISWA!D65=0,\"\",SISWA!D65)","v":"1-18-05-80-162-058-8"},{"$f":"IF(SISWA!E65=0,\"\",SISWA!E65)","v":""},null,null,null,null,null,{"$error":"#DIV/0!"},null,null,{"$error":"#DIV/0!"},{"$error":"#DIV/0!"}]
[59,{"$f":"IF(SISWA!B66=0,\"\",SISWA!B66)","v":""},{"$f":"IF(SISWA!C66=0,\"\",SISWA!C66)","v":""},{"$f":"IF(SISWA!D66=0,\"\",SISWA!D66)","v":"1-18-05-80-162-059-7"},{"$f":"IF(SISWA!E66=0,\"\",SISWA!E66)","v":""},null,null,null,null,null,{"$error":"#DIV/0!"},null,null,{"$error":"#DIV/0!"},{"$error":"#DIV/0!"}]
[60,{"$f":"IF(SISWA!B67=0,\"\",SISWA!B67)","v":""},{"$f":"IF(SISWA!C67=0,\"\",SISWA!C67)","v":""},{"$f":"IF(SISWA!D67=0,\"\",SISWA!D67)","v":"1-18-05-80-162-060-6"},{"$f":"IF(SISWA!E67=0,\"\",SISWA!E67)","v":""},null,null,null,null,null,{"$error":"#DIV/0!"},null,null,{"$error":"#DIV/0!"},{"$error":"#DIV/0!"}]
[61,{"$f":"IF(SISWA!B68=0,\"\",SISWA!B68)","v":""},{"$f":"IF(SISWA!C68=0,\"\",SISWA!C68)","v":""},{"$f":"IF(SISWA!D68=0,\"\",SISWA!D68)","v":"1-18-05-80-162-061-5"},{"$f":"IF(SISWA!E68=0,\"\",SISWA!E68)","v":""},null,null,null,null,null,{"$error":"#DIV/0!"},null,null,{"$error":"#DIV/0!"},{"$error":"#DIV/0!"}]
[62,{"$f":"IF(SISWA!B69=0,\"\",SISWA!B69)","v":""},{"$f":"IF(SISWA!C69=0,\"\",SISWA!C69)","v":""},{"$f":"IF(SISWA!D69=0,\"\",SISWA!D69)","v":"062-4"},{"$f":"IF(SISWA!E69=0,\"\",SISWA!E69)","v":""},null,null,null,null,null,{"$error":"#DIV/0!"},null,null,{"$error":"#DIV/0!"},{"$error":"#DIV/0!"}]
[63,{"$f":"IF(SISWA!B70=0,\"\",SISWA!B70)","v":""},{"$f":"IF(SISWA!C70=0,\"\",SISWA!C70)","v":""},{"$f":"IF(SISWA!D70=0,\"\",SISWA!D70)","v":"063-3"},{"$f":"IF(SISWA!E70=0,\"\",SISWA!E70)","v":""},null,null,null,null,null,{"$error":"#DIV/0!"},null,null,{"$error":"#DIV/0!"},{"$error":"#DIV/0!"}]
[64,{"$f":"IF(SISWA!B71=0,\"\",SISWA!B71)","v":""},{"$f":"IF(SISWA!C71=0,\"\",SISWA!C71)","v":""},{"$f":"IF(SISWA!D71=0,\"\",SISWA!D71)","v":"064-2"},{"$f":"IF(SISWA!E71=0,\"\",SISWA!E71)","v":""},null,null,null,null,null,{"$error":"#DIV/0!"},null,null,{"$error":"#DIV/0!"},{"$error":"#DIV/0!"}]
[65,{"$f":"IF(SISWA!B72=0,\"\",SISWA!B72)","v":""},{"$f":"IF(SISWA!C72=0,\"\",SISWA!C72)","v":""},{"$f":"IF(SISWA!D72=0,\"\",SISWA!D72)","v":"065-"},{"$f":"IF(SISWA!E72=0,\"\",SISWA!E72)","v":""},null,null,null,null,null,{"$error":"#DIV/0!"},null,null,{"$error":"#DIV/0!"},{"$error":"#DIV/0!"}]
[66,{"$f":"IF(SISWA!B73=0,\"\",SISWA!B73)","v":""},{"$f":"IF(SISWA!C73=0,\"\",SISWA!C73)","v":""},{"$f":"IF(SISWA!D73=0,\"\",SISWA!D73)","v":"066-"},{"$f":"IF(SISWA!E73=0,\"\",SISWA!E73)","v":""},null,null,null,null,null,{"$f":"AVERAGE(F73:J73)","v":{"$error":"#DIV/0!"}},null,null,{"$f":"AVERAGE(L73:M73)","v":{"$error":"#DIV/0!"}},{"$f":"AVERAGE(L73:M73)","v":{"$error":"#DIV/0!"}}]
[67,{"$f":"IF(SISWA!B74=0,\"\",SISWA!B74)","v":""},{"$f":"IF(SISWA!C74=0,\"\",SISWA!C74)","v":""},{"$f":"IF(SISWA!D74=0,\"\",SISWA!D74)","v":"067-"},{"$f":"IF(SISWA!E74=0,\"\",SISWA!E74)","v":""},null,null,null,null,null,{"$error":"#DIV/0!"},null,null,{"$error":"#DIV/0!"},{"$error":"#DIV/0!"}]
[68,{"$f":"IF(SISWA!B75=0,\"\",SISWA!B75)","v":""},{"$f":"IF(SISWA!C75=0,\"\",SISWA!C75)","v":""},{"$f":"IF(SISWA!D75=0,\"\",SISWA!D75)","v":"068-"},{"$f":"IF(SISWA!E75=0,\"\",SISWA!E75)","v":""},null,null,null,null,null,{"$error":"#DIV/0!"},null,null,{"$error":"#DIV/0!"},{"$error":"#DIV/0!"}]
[69,{"$f":"IF(SISWA!B76=0,\"\",SISWA!B76)","v":""},{"$f":"IF(SISWA!C76=0,\"\",SISWA!C76)","v":""},{"$f":"IF(SISWA!D76=0,\"\",SISWA!D76)","v":"069-"},{"$f":"IF(SISWA!E76=0,\"\",SISWA!E76)","v":""},null,null,null,null,null,{"$error":"#DIV/0!"},null,null,{"$error":"#DIV/0!"},{"$error":"#DIV/0!"}]
[70,{"$f":"IF(SISWA!B77=0,\"\",SISWA!B77)","v":""},{"$f":"IF(SISWA!C77=0,\"\",SISWA!C77)","v":""},{"$f":"IF(SISWA!D77=0,\"\",SISWA!D77)","v":"070-"},{"$f":"IF(SISWA!E77=0,\"\",SISWA!E77)","v":""},null,null,null,null,null,{"$error":"#DIV/0!"},null,null,{"$error":"#DIV/0!"},{"$error":"#DIV/0!"}]
[71,{"$f":"IF(SISWA!B78=0,\"\",SISWA!B78)","v":""},{"$f":"IF(SISWA!C78=0,\"\",SISWA!C78)","v":""},{"$f":"IF(SISWA!D78=0,\"\",SISWA!D78)","v":"071-"},{"$f":"IF(SISWA!E78=0,\"\",SISWA!E78)","v":""},null,null,null,null,null,{"$error":"#DIV/0!"},null,null,{"$error":"#DIV/0!"},{"$error":"#DIV/0!"}]
[72,{"$f":"IF(SISWA!B79=0,\"\",SISWA!B79)","v":""},{"$f":"IF(SISWA!C79=0,\"\",SISWA!C79)","v":""},{"$f":"IF(SISWA!D79=0,\"\",SISWA!D79)","v":"072-"},{"$f":"IF(SISWA!E79=0,\"\",SISWA!E79)","v":""},null,null,null,null,null,{"$error":"#DIV/0!"},null,null,{"$error":"#DIV/0!"},{"$error":"#DIV/0!"}]
[73,{"$f":"IF(SISWA!B80=0,\"\",SISWA!B80)","v":""},{"$f":"IF(SISWA!C80=0,\"\",SISWA!C80)","v":""},{"$f":"IF(SISWA!D80=0,\"\",SISWA!D80)","v":"073-"},{"$f":"IF(SISWA!E80=0,\"\",SISWA!E80)","v":""},null,null,null,null,null,{"$error":"#DIV/0!"},null,null,{"$error":"#DIV/0!"},{"$error":"#DIV/0!"}]
[74,{"$f":"IF(SISWA!B81=0,\"\",SISWA!B81)","v":""},{"$f":"IF(SISWA!C81=0,\"\",SISWA!C81)","v":""},{"$f":"IF(SISWA!D81=0,\"\",SISWA!D81)","v":"074-"},{"$f":"IF(SISWA!E81=0,\"\",SISWA!E81)","v":""},null,null,null,null,null,{"$error":"#DIV/0!"},null,null,{"$error":"#DIV/0!"},{"$error":"#DIV/0!"}]
[75,{"$f":"IF(SISWA!B82=0,\"\",SISWA!B82)","v":""},{"$f":"IF(SISWA!C82=0,\"\",SISWA!C82)","v":""},{"$f":"IF(SISWA!D82=0,\"\",SISWA!D82)","v":"075-"},{"$f":"IF(SISWA!E82=0,\"\",SISWA!E82)","v":""},null,null,null,null,null,{"$error":"#DIV/0!"},null,null,{"$error":"#DIV/0!"},{"$error":"#DIV/0!"}]
[76,{"$f":"IF(SISWA!B83=0,\"\",SISWA!B83)","v":""},{"$f":"IF(SISWA!C83=0,\"\",SISWA!C83)","v":""},{"$f":"IF(SISWA!D83=0,\"\",SISWA!D83)","v":"076-"},{"$f":"IF(SISWA!E83=0,\"\",SISWA!E83)","v":""},null,null,null,null,null,{"$error":"#DIV/0!"},null,null,{"$error":"#DIV/0!"},{"$error":"#DIV/0!"}]
[77,{"$f":"IF(SISWA!B84=0,\"\",SISWA!B84)","v":""},{"$f":"IF(SISWA!C84=0,\"\",SISWA!C84)","v":""},{"$f":"IF(SISWA!D84=0,\"\",SISWA!D84)","v":"077-"},{"$f":"IF(SISWA!E84=0,\"\",SISWA!E84)","v":""},null,null,null,null,null,{"$error":"#DIV/0!"},null,null,{"$error":"#DIV/0!"},{"$error":"#DIV/0!"}]
[78,{"$f":"IF(SISWA!B85=0,\"\",SISWA!B85)","v":""},{"$f":"IF(SISWA!C85=0,\"\",SISWA!C85)","v":""},{"$f":"IF(SISWA!D85=0,\"\",SISWA!D85)","v":"078-"},{"$f":"IF(SISWA!E85=0,\"\",SISWA!E85)","v":""},null,null,null,null,null,{"$error":"#DIV/0!"},null,null,{"$error":"#DIV/0!"},{"$error":"#DIV/0!"}]
[79,{"$f":"IF(SISWA!B86=0,\"\",SISWA!B86)","v":""},{"$f":"IF(SISWA!C86=0,\"\",SISWA!C86)","v":""},{"$f":"IF(SISWA!D86=0,\"\",SISWA!D86)","v":"079-"},{"$f":"IF(SISWA!E86=0,\"\",SISWA!E86)","v":""},null,null,null,null,null,{"$error":"#DIV/0!"},null,null,{"$error":"#DIV/0!"},{"$error":"#DIV/0!"}]
[80,{"$f":"IF(SISWA!B87=0,\"\",SISWA!B87)","v":""},{"$f":"IF(SISWA!C87=0,\"\",SISWA!C87)","v":""},{"$f":"IF(SISWA!D87=0,\"\",SISWA!D87)","v":"080-"},{"$f":"IF(SISWA!E87=0,\"\",SISWA!E87)","v":""},null,null,null,null,null,{"$error":"#DIV/0!"},null,null,{"$error":"#DIV/0!"},{"$error":"#DIV/0!"}]
[81,{"$f":"IF(SISWA!B88=0,\"\",SISWA!B88)","v":""},{"$f":"IF(SISWA!C88=0,\"\",SISWA!C88)","v":""},{"$f":"IF(SISWA!D88=0,\"\",SISWA!D88)","v":"081-"},{"$f":"IF(SISWA!E88=0,\"\",SISWA!E88)","v":""},null,null,null,null,null,{"$error":"#DIV/0!"},null,null,{"$error":"#DIV/0!"},{"$error":"#DIV/0!"}]
[82,{"$f":"IF(SISWA!B89=0,\"\",SISWA!B89)","v":""},{"$f":"IF(SISWA!C89=0,\"\",SISWA!C89)","v":""},{"$f":"IF(SISWA!D89=0,\"\",SISWA!D89)","v":"082-"},{"$f":"IF(SISWA!E89=0,\"\",SISWA!E89)","v":""},null,null,null,null,null,{"$error":"#DIV/0!"},null,null,{"$error":"#DIV/0!"},{"$error":"#DIV/0!"}]
[83,{"$f":"IF(SISWA!B90=0,\"\",SISWA!B90)","v":""},{"$f":"IF(SISWA!C90=0,\"\",SISWA!C90)","v":""},{"$f":"IF(SISWA!D90=0,\"\",SISWA!D90)","v":"083-"},{"$f":"IF(SISWA!E90=0,\"\",SISWA!E90)","v":""},null,null,null,null,null,{"$error":"#DIV/0!"},null,null,{"$error":"#DIV/0!"},{"$error":"#DIV/0!"}]
[84,{"$f":"IF(SISWA!B91=0,\"\",SISWA!B91)","v":""},{"$f":"IF(SISWA!C91=0,\"\",SISWA!C91)","v":""},{"$f":"IF(SISWA!D91=0,\"\",SISWA!D91)","v":"084-"},{"$f":"IF(SISWA!E91=0,\"\",SISWA!E91)","v":""},null,null,null,null,null,{"$error":"#DIV/0!"},null,null,{"$error":"#DIV/0!"},{"$error":"#DIV/0!"}]
[85,{"$f":"IF(SISWA!B92=0,\"\",SISWA!B92)","v":""},{"$f":"IF(SISWA!C92=0,\"\",SISWA!C92)","v":""},{"$f":"IF(SISWA!D92=0,\"\",SISWA!D92)","v":"085-"},{"$f":"IF(SISWA!E92=0,\"\",SISWA!E92)","v":""},null,null,null,null,null,{"$error":"#DIV/0!"},null,null,{"$error":"#DIV/0!"},{"$error":"#DIV/0!"}]
[86,{"$f":"IF(SISWA!B93=0,\"\",SISWA!B93)","v":""},{"$f":"IF(SISWA!C93=0,\"\",SISWA!C93)","v":""},{"$f":"IF(SISWA!D93=0,\"\",SISWA!D93)","v":"086-"},{"$f":"IF(SISWA!E93=0,\"\",SISWA!E93)","v":""},null,null,null,null,null,{"$error":"#DIV/0!"},null,null,{"$error":"#DIV/0!"},{"$error":"#DIV/0!"}]
[87,{"$f":"IF(SISWA!B94=0,\"\",SISWA!B94)","v":""},{"$f":"IF(SISWA!C94=0,\"\",SISWA!C94)","v":""},{"$f":"IF(SISWA!D94=0,\"\",SISWA!D94)","v":"087-"},{"$f":"IF(SISWA!E94=0,\"\",SISWA!E94)","v":""},null,null,null,null,null,{"$error":"#DIV/0!"},null,null,{"$error":"#DIV/0!"},{"$error":"#DIV/0!"}]
[88,{"$f":"IF(SISWA!B95=0,\"\",SISWA!B95)","v":""},{"$f":"IF(SISWA!C95=0,\"\",SISWA!C95)","v":""},{"$f":"IF(SISWA!D95=0,\"\",SISWA!D95)","v":"088-"},{"$f":"IF(SISWA!E95=0,\"\",SISWA!E95)","v":""},null,null,null,null,null,{"$error":"#DIV/0!"},null,null,{"$error":"#DIV/0!"},{"$error":"#DIV/0!"}]
[89,{"$f":"IF(SISWA!B96=0,\"\",SISWA!B96)","v":""},{"$f":"IF(SISWA!C96=0,\"\",SISWA!C96)","v":""},{"$f":"IF(SISWA!D96=0,\"\",SISWA!D96)","v":"089-"},{"$f":"IF(SISWA!E96=0,\"\",SISWA!E96)","v":""},null,null,null,null,null,{"$error":"#DIV/0!"},null,null,{"$error":"#DIV/0!"},{"$error":"#DIV/0!"}]
[90,{"$f":"IF(SISWA!B97=0,\"\",SISWA!B97)","v":""},{"$f":"IF(SISWA!C97=0,\"\",SISWA!C97)","v":""},{"$f":"IF(SISWA!D97=0,\"\",SISWA!D97)","v":"090-"},{"$f":"IF(SISWA!E97=0,\"\",SISWA!E97)","v":""},null,null,null,null,null,{"$error":"#DIV/0!"},null,null,{"$error":"#DIV/0!"},{"$error":"#DIV/0!"}]
[91,{"$f":"IF(SISWA!B98=0,\"\",SISWA!B98)","v":""},{"$f":"IF(SISWA!C98=0,\"\",SISWA!C98)","v":""},{"$f":"IF(SISWA!D98=0,\"\",SISWA!D98)","v":"091-"},{"$f":"IF(SISWA!E98=0,\"\",SISWA!E98)","v":""},null,null,null,null,null,{"$error":"#DIV/0!"},null,null,{"$error":"#DIV/0!"},{"$error":"#DIV/0!"}]
[92,{"$f":"IF(SISWA!B99=0,\"\",SISWA!B99)","v":""},{"$f":"IF(SISWA!C99=0,\"\",SISWA!C99)","v":""},{"$f":"IF(SISWA!D99=0,\"\",SISWA!D99)","v":"092-"},{"$f":"IF(SISWA!E99=0,\"\",SISWA!E99)","v":""},null,null,null,null,null,{"$error":"#DIV/0!"},null,null,{"$error":"#DIV/0!"},{"$error":"#DIV/0!"}]
[93,{"$f":"IF(SISWA!B100=0,\"\",SISWA!B100)","v":""},{"$f":"IF(SISWA!C100=0,\"\",SISWA!C100)","v":""},{"$f":"IF(SISWA!D100=0,\"\",SISWA!D100)","v":"093-"},{"$f":"IF(SISWA!E100=0,\"\",SISWA!E100)","v":""},null,null,null,null,null,{"$error":"#DIV/0!"},null,null,{"$error":"#DIV/0!"},{"$error":"#DIV/0!"}]
[94,{"$f":"IF(SISWA!B101=0,\"\",SISWA!B101)","v":""},{"$f":"IF(SISWA!C101=0,\"\",SISWA!C101)","v":""},{"$f":"IF(SISWA!D101=0,\"\",SISWA!D101)","v":"094-"},{"$f":"IF(SISWA!E101=0,\"\",SISWA!E101)","v":""},null,null,null,null,null,{"$error":"#DIV/0!"},null,null,{"$error":"#DIV/0!"},{"$error":"#DIV/0!"}]
[95,{"$f":"IF(SISWA!B102=0,\"\",SISWA!B102)","v":""},{"$f":"IF(SISWA!C102=0,\"\",SISWA!C102)","v":""},{"$f":"IF(SISWA!D102=0,\"\",SISWA!D102)","v":"095-"},{"$f":"IF(SISWA!E102=0,\"\",SISWA!E102)","v":""},null,null,null,null,null,{"$error":"#DIV/0!"},null,null,{"$error":"#DIV/0!"},{"$error":"#DIV/0!"}]
[96,{"$f":"IF(SISWA!B103=0,\"\",SISWA!B103)","v":""},{"$f":"IF(SISWA!C103=0,\"\",SISWA!C103)","v":""},{"$f":"IF(SISWA!D103=0,\"\",SISWA!D103)","v":"096-"},{"$f":"IF(SISWA!E103=0,\"\",SISWA!E103)","v":""},null,null,null,null,null,{"$error":"#DIV/0!"},null,null,{"$error":"#DIV/0!"},{"$error":"#DIV/0!"}]
[97,{"$f":"IF(SISWA!B104=0,\"\",SISWA!B104)","v":""},{"$f":"IF(SISWA!C104=0,\"\",SISWA!C104)","v":""},{"$f":"IF(SISWA!D104=0,\"\",SISWA!D104)","v":"097-"},{"$f":"IF(SISWA!E104=0,\"\",SISWA!E104)","v":""},null,null,null,null,null,{"$error":"#DIV/0!"},null,null,{"$error":"#DIV/0!"},{"$error":"#DIV/0!"}]
[98,{"$f":"IF(SISWA!B105=0,\"\",SISWA!B105)","v":""},{"$f":"IF(SISWA!C105=0,\"\",SISWA!C105)","v":""},{"$f":"IF(SISWA!D105=0,\"\",SISWA!D105)","v":"098-"},{"$f":"IF(SISWA!E105=0,\"\",SISWA!E105)","v":""},null,null,null,null,null,{"$error":"#DIV/0!"},null,null,{"$error":"#DIV/0!"},{"$error":"#DIV/0!"}]
[99,{"$f":"IF(SISWA!B106=0,\"\",SISWA!B106)","v":""},{"$f":"IF(SISWA!C106=0,\"\",SISWA!C106)","v":""},{"$f":"IF(SISWA!D106=0,\"\",SISWA!D106)","v":"099-"},{"$f":"IF(SISWA!E106=0,\"\",SISWA!E106)","v":""},null,null,null,null,null,{"$error":"#DIV/0!"},null,null,{"$error":"#DIV/0!"},{"$error":"#DIV/0!"}]
[100,{"$f":"IF(SISWA!B107=0,\"\",SISWA!B107)","v":""},{"$f":"IF(SISWA!C107=0,\"\",SISWA!C107)","v":""},{"$f":"IF(SISWA!D107=0,\"\",SISWA!D107)","v":"100-"},{"$f":"IF(SISWA!E107=0,\"\",SISWA!E107)","v":""},null,null,null,null,null,{"$error":"#DIV/0!"},null,null,{"$error":"#DIV/0!"},{"$error":"#DIV/0!"}]
[101,{"$f":"IF(SISWA!B108=0,\"\",SISWA!B108)","v":""},{"$f":"IF(SISWA!C108=0,\"\",SISWA!C108)","v":""},{"$f":"IF(SISWA!D108=0,\"\",SISWA!D108)","v":"101-"},{"$f":"IF(SISWA!E108=0,\"\",SISWA!E108)","v":""},null,null,null,null,null,{"$error":"#DIV/0!"},null,null,{"$error":"#DIV/0!"},{"$error":"#DIV/0!"}]
[102,{"$f":"IF(SISWA!B109=0,\"\",SISWA!B109)","v":""},{"$f":"IF(SISWA!C109=0,\"\",SISWA!C109)","v":""},{"$f":"IF(SISWA!D109=0,\"\",SISWA!D109)","v":"102-"},{"$f":"IF(SISWA!E109=0,\"\",SISWA!E109)","v":""},null,null,null,null,null,{"$error":"#DIV/0!"},null,null,{"$error":"#DIV/0!"},{"$error":"#DIV/0!"}]
[103,{"$f":"IF(SISWA!B110=0,\"\",SISWA!B110)","v":""},{"$f":"IF(SISWA!C110=0,\"\",SISWA!C110)","v":""},{"$f":"IF(SISWA!D110=0,\"\",SISWA!D110)","v":"103-"},{"$f":"IF(SISWA!E110=0,\"\",SISWA!E110)","v":""},null,null,null,null,null,{"$error":"#DIV/0!"},null,null,{"$error":"#DIV/0!"},{"$error":"#DIV/0!"}]
[104,{"$f":"IF(SISWA!B111=0,\"\",SISWA!B111)","v":""},{"$f":"IF(SISWA!C111=0,\"\",SISWA!C111)","v":""},{"$f":"IF(SISWA!D111=0,\"\",SISWA!D111)","v":"104-"},{"$f":"IF(SISWA!E111=0,\"\",SISWA!E111)","v":""},null,null,null,null,null,{"$error":"#DIV/0!"},null,null,{"$error":"#DIV/0!"},{"$error":"#DIV/0!"}]
[105,{"$f":"IF(SISWA!B112=0,\"\",SISWA!B112)","v":""},{"$f":"IF(SISWA!C112=0,\"\",SISWA!C112)","v":""},{"$f":"IF(SISWA!D112=0,\"\",SISWA!D112)","v":"105-"},{"$f":"IF(SISWA!E112=0,\"\",SISWA!E112)","v":""},null,null,null,null,null,{"$error":"#DIV/0!"},null,null,{"$error":"#DIV/0!"},{"$error":"#DIV/0!"}]
[106,{"$f":"IF(SISWA!B113=0,\"\",SISWA!B113)","v":""},{"$f":"IF(SISWA!C113=0,\"\",SISWA!C113)","v":""},{"$f":"IF(SISWA!D113=0,\"\",SISWA!D113)","v":"106-"},{"$f":"IF(SISWA!E113=0,\"\",SISWA!E113)","v":""},null,null,null,null,null,{"$error":"#DIV/0!"},null,null,{"$error":"#DIV/0!"},{"$error":"#DIV/0!"}]
[107,{"$f":"IF(SISWA!B114=0,\"\",SISWA!B114)","v":""},{"$f":"IF(SISWA!C114=0,\"\",SISWA!C114)","v":""},{"$f":"IF(SISWA!D114=0,\"\",SISWA!D114)","v":"107-"},{"$f":"IF(SISWA!E114=0,\"\",SISWA!E114)","v":""},null,null,null,null,null,{"$error":"#DIV/0!"},null,null,{"$error":"#DIV/0!"},{"$error":"#DIV/0!"}]
[108,{"$f":"IF(SISWA!B115=0,\"\",SISWA!B115)","v":""},{"$f":"IF(SISWA!C115=0,\"\",SISWA!C115)","v":""},{"$f":"IF(SISWA!D115=0,\"\",SISWA!D115)","v":"108-"},{"$f":"IF(SISWA!E115=0,\"\",SISWA!E115)","v":""},null,null,null,null,null,{"$error":"#DIV/0!"},null,null,{"$error":"#DIV/0!"},{"$error":"#DIV/0!"}]
[109,{"$f":"IF(SISWA!B116=0,\"\",SISWA!B116)","v":""},{"$f":"IF(SISWA!C116=0,\"\",SISWA!C116)","v":""},{"$f":"IF(SISWA!D116=0,\"\",SISWA!D116)","v":"109-"},{"$f":"IF(SISWA!E116=0,\"\",SISWA!E116)","v":""},null,null,null,null,null,{"$error":"#DIV/0!"},null,null,{"$error":"#DIV/0!"},{"$error":"#DIV/0!"}]
[110,{"$f":"IF(SISWA!B117=0,\"\",SISWA!B117)","v":""},{"$f":"IF(SISWA!C117=0,\"\",SISWA!C117)","v":""},{"$f":"IF(SISWA!D117=0,\"\",SISWA!D117)","v":"110-"},{"$f":"IF(SISWA!E117=0,\"\",SISWA!E117)","v":""},null,null,null,null,null,{"$error":"#DIV/0!"},null,null,{"$error":"#DIV/0!"},{"$error":"#DIV/0!"}]
[111,{"$f":"IF(SISWA!B118=0,\"\",SISWA!B118)","v":""},{"$f":"IF(SISWA!C118=0,\"\",SISWA!C118)","v":""},{"$f":"IF(SISWA!D118=0,\"\",SISWA!D118)","v":"111-"},{"$f":"IF(SISWA!E118=0,\"\",SISWA!E118)","v":""},null,null,null,null,null,{"$error":"#DIV/0!"},null,null,{"$error":"#DIV/0!"},{"$error":"#DIV/0!"}]
[112,{"$f":"IF(SISWA!B119=0,\"\",SISWA!B119)","v":""},{"$f":"IF(SISWA!C119=0,\"\",SISWA!C119)","v":""},{"$f":"IF(SISWA!D119=0,\"\",SISWA!D119)","v":"112-"},{"$f":"IF(SISWA!E119=0,\"\",SISWA!E119)","v":""},null,null,null,null,null,{"$error":"#DIV/0!"},null,null,{"$error":"#DIV/0!"},{"$error":"#DIV/0!"}]
[113,{"$f":"IF(SISWA!B120=0,\"\",SISWA!B120)","v":""},{"$f":"IF(SISWA!C120=0,\"\",SISWA!C120)","v":""},{"$f":"IF(SISWA!D120=0,\"\",SISWA!D120)","v":"113-"},{"$f":"IF(SISWA!E120=0,\"\",SISWA!E120)","v":""},null,null,null,null,null,{"$error":"#DIV/0!"},null,null,{"$error":"#DIV/0!"},{"$error":"#DIV/0!"}]
[114,{"$f":"IF(SISWA!B121=0,\"\",SISWA!B121)","v":""},{"$f":"IF(SISWA!C121=0,\"\",SISWA!C121)","v":""},{"$f":"IF(SISWA!D121=0,\"\",SISWA!D121)","v":"114-"},{"$f":"IF(SISWA!E121=0,\"\",SISWA!E121)","v":""},null,null,null,null,null,{"$error":"#DIV/0!"},null,null,{"$error":"#DIV/0!"},{"$error":"#DIV/0!"}]
[115,{"$f":"IF(SISWA!B122=0,\"\",SISWA!B122)","v":""},{"$f":"IF(SISWA!C122=0,\"\",SISWA!C122)","v":""},{"$f":"IF(SISWA!D122=0,\"\",SISWA!D122)","v":"115-"},{"$f":"IF(SISWA!E122=0,\"\",SISWA!E122)","v":""},null,null,null,null,null,{"$error":"#DIV/0!"},null,null,{"$error":"#DIV/0!"},{"$error":"#DIV/0!"}]
[116,{"$f":"IF(SISWA!B123=0,\"\",SISWA!B123)","v":""},{"$f":"IF(SISWA!C123=0,\"\",SISWA!C123)","v":""},{"$f":"IF(SISWA!D123=0,\"\",SISWA!D123)","v":"116-"},{"$f":"IF(SISWA!E123=0,\"\",SISWA!E123)","v":""},null,null,null,null,null,{"$error":"#DIV/0!"},null,null,{"$error":"#DIV/0!"},{"$error":"#DIV/0!"}]
[117,{"$f":"IF(SISWA!B124=0,\"\",SISWA!B124)","v":""},{"$f":"IF(SISWA!C124=0,\"\",SISWA!C124)","v":""},{"$f":"IF(SISWA!D124=0,\"\",SISWA!D124)","v":"117-"},{"$f":"IF(SISWA!E124=0,\"\",SISWA!E124)","v":""},null,null,null,null,null,{"$error":"#DIV/0!"},null,null,{"$error":"#DIV/0!"},{"$error":"#DIV/0!"}]
[118,{"$f":"IF(SISWA!B125=0,\"\",SISWA!B125)","v":""},{"$f":"IF(SISWA!C125=0,\"\",SISWA!C125)","v":""},{"$f":"IF(SISWA!D125=0,\"\",SISWA!D125)","v":"118-"},{"$f":"IF(SISWA!E125=0,\"\",SISWA!E125)","v":""},null,null,null,null,null,{"$error":"#DIV/0!"},null,null,{"$error":"#DIV/0!"},{"$error":"#DIV/0!"}]
[119,{"$f":"IF(SISWA!B126=0,\"\",SISWA!B126)","v":""},{"$f":"IF(SISWA!C126=0,\"\",SISWA!C126)","v":""},{"$f":"IF(SISWA!D126=0,\"\",SISWA!D126)","v":"119-"},{"$f":"IF(SISWA!E126=0,\"\",SISWA!E126)","v":""},null,null,null,null,null,{"$error":"#DIV/0!"},null,null,{"$error":"#DIV/0!"},{"$error":"#DIV/0!"}]
[120,{"$f":"IF(SISWA!B127=0,\"\",SISWA!B127)","v":""},{"$f":"IF(SISWA!C127=0,\"\",SISWA!C127)","v":""},{"$f":"IF(SISWA!D127=0,\"\",SISWA!D127)","v":"120-"},{"$f":"IF(SISWA!E127=0,\"\",SISWA!E127)","v":""},null,null,null,null,null,{"$error":"#DIV/0!"},null,null,{"$error":"#DIV/0!"},{"$error":"#DIV/0!"}]
[121,{"$f":"IF(SISWA!B128=0,\"\",SISWA!B128)","v":""},{"$f":"IF(SISWA!C128=0,\"\",SISWA!C128)","v":""},{"$f":"IF(SISWA!D128=0,\"\",SISWA!D128)","v":"121-"},{"$f":"IF(SISWA!E128=0,\"\",SISWA!E128)","v":""},null,null,null,null,null,{"$error":"#DIV/0!"},null,null,{"$error":"#DIV/0!"},{"$error":"#DIV/0!"}]
[122,{"$f":"IF(SISWA!B129=0,\"\",SISWA!B129)","v":""},{"$f":"IF(SISWA!C129=0,\"\",SISWA!C129)","v":""},{"$f":"IF(SISWA!D129=0,\"\",SISWA!D129)","v":"122-"},{"$f":"IF(SISWA!E129=0,\"\",SISWA!E129)","v":""},null,null,null,null,null,{"$error":"#DIV/0!"},null,null,{"$error":"#DIV/0!"},{"$error":"#DIV/0!"}]
[123,{"$f":"IF(SISWA!B130=0,\"\",SISWA!B130)","v":""},{"$f":"IF(SISWA!C130=0,\"\",SISWA!C130)","v":""},{"$f":"IF(SISWA!D130=0,\"\",SISWA!D130)","v":"123-"},{"$f":"IF(SISWA!E130=0,\"\",SISWA!E130)","v":""},null,null,null,null,null,{"$error":"#DIV/0!"},null,null,{"$error":"#DIV/0!"},{"$error":"#DIV/0!"}]
[124,{"$f":"IF(SISWA!B131=0,\"\",SISWA!B131)","v":""},{"$f":"IF(SISWA!C131=0,\"\",SISWA!C131)","v":""},{"$f":"IF(SISWA!D131=0,\"\",SISWA!D131)","v":"124-"},{"$f":"IF(SISWA!E131=0,\"\",SISWA!E131)","v":""},null,null,null,null,null,{"$error":"#DIV/0!"},null,null,{"$error":"#DIV/0!"},{"$error":"#DIV/0!"}]
[125,{"$f":"IF(SISWA!B132=0,\"\",SISWA!B132)","v":""},{"$f":"IF(SISWA!C132=0,\"\",SISWA!C132)","v":""},{"$f":"IF(SISWA!D132=0,\"\",SISWA!D132)","v":"125-"},{"$f":"IF(SISWA!E132=0,\"\",SISWA!E132)","v":""},null,null,null,null,null,{"$error":"#DIV/0!"},null,null,{"$error":"#DIV/0!"},{"$error":"#DIV/0!"}]
[126,{"$f":"IF(SISWA!B133=0,\"\",SISWA!B133)","v":""},{"$f":"IF(SISWA!C133=0,\"\",SISWA!C133)","v":""},{"$f":"IF(SISWA!D133=0,\"\",SISWA!D133)","v":"126-"},{"$f":"IF(SISWA!E133=0,\"\",SISWA!E133)","v":""},null,null,null,null,null,{"$error":"#DIV/0!"},null,null,{"$error":"#DIV/0!"},{"$error":"#DIV/0!"}]
[127,{"$f":"IF(SISWA!B134=0,\"\",SISWA!B134)","v":""},{"$f":"IF(SISWA!C134=0,\"\",SISWA!C134)","v":""},{"$f":"IF(SISWA!D134=0,\"\",SISWA!D134)","v":"127-"},{"$f":"IF(SISWA!E134=0,\"\",SISWA!E134)","v":""},null,null,null,null,null,{"$error":"#DIV/0!"},null,null,{"$error":"#DIV/0!"},{"$error":"#DIV/0!"}]
[128,{"$f":"IF(SISWA!B135=0,\"\",SISWA!B135)","v":""},{"$f":"IF(SISWA!C135=0,\"\",SISWA!C135)","v":""},{"$f":"IF(SISWA!D135=0,\"\",SISWA!D135)","v":"128-"},{"$f":"IF(SISWA!E135=0,\"\",SISWA!E135)","v":""},null,null,null,null,null,{"$error":"#DIV/0!"},null,null,{"$error":"#DIV/0!"},{"$error":"#DIV/0!"}]
[129,{"$f":"IF(SISWA!B136=0,\"\",SISWA!B136)","v":""},{"$f":"IF(SISWA!C136=0,\"\",SISWA!C136)","v":""},{"$f":"IF(SISWA!D136=0,\"\",SISWA!D136)","v":"129-"},{"$f":"IF(SISWA!E136=0,\"\",SISWA!E136)","v":""},null,null,null,null,null,{"$error":"#DIV/0!"},null,null,{"$error":"#DIV/0!"},{"$error":"#DIV/0!"}]
[130,{"$f":"IF(SISWA!B137=0,\"\",SISWA!B137)","v":""},{"$f":"IF(SISWA!C137=0,\"\",SISWA!C137)","v":""},{"$f":"IF(SISWA!D137=0,\"\",SISWA!D137)","v":"130-"},{"$f":"IF(SISWA!E137=0,\"\",SISWA!E137)","v":""},null,null,null,null,null,{"$f":"AVERAGE(F137:J137)","v":{"$error":"#DIV/0!"}},null,null,{"$f":"AVERAGE(L137:M137)","v":{"$error":"#DIV/0!"}},{"$f":"AVERAGE(L137:M137)","v":{"$error":"#DIV/0!"}}]
[131,{"$f":"IF(SISWA!B138=0,\"\",SISWA!B138)","v":""},{"$f":"IF(SISWA!C138=0,\"\",SISWA!C138)","v":""},{"$f":"IF(SISWA!D138=0,\"\",SISWA!D138)","v":"131-"},{"$f":"IF(SISWA!E138=0,\"\",SISWA!E138)","v":""},null,null,null,null,null,{"$error":"#DIV/0!"},null,null,{"$error":"#DIV/0!"},{"$error":"#DIV/0!"}]
[132,{"$f":"IF(SISWA!B139=0,\"\",SISWA!B139)","v":""},{"$f":"IF(SISWA!C139=0,\"\",SISWA!C139)","v":""},{"$f":"IF(SISWA!D139=0,\"\",SISWA!D139)","v":"132-"},{"$f":"IF(SISWA!E139=0,\"\",SISWA!E139)","v":""},null,null,null,null,null,{"$error":"#DIV/0!"},null,null,{"$error":"#DIV/0!"},{"$error":"#DIV/0!"}]
[133,{"$f":"IF(SISWA!B140=0,\"\",SISWA!B140)","v":""},{"$f":"IF(SISWA!C140=0,\"\",SISWA!C140)","v":""},{"$f":"IF(SISWA!D140=0,\"\",SISWA!D140)","v":"133-"},{"$f":"IF(SISWA!E140=0,\"\",SISWA!E140)","v":""},null,null,null,null,null,{"$error":"#DIV/0!"},null,null,{"$error":"#DIV/0!"},{"$error":"#DIV/0!"}]
[134,{"$f":"IF(SISWA!B141=0,\"\",SISWA!B141)","v":""},{"$f":"IF(SISWA!C141=0,\"\",SISWA!C141)","v":""},{"$f":"IF(SISWA!D141=0,\"\",SISWA!D141)","v":"134-"},{"$f":"IF(SISWA!E141=0,\"\",SISWA!E141)","v":""},null,null,null,null,null,{"$error":"#DIV/0!"},null,null,{"$error":"#DIV/0!"},{"$error":"#DIV/0!"}]
[135,{"$f":"IF(SISWA!B142=0,\"\",SISWA!B142)","v":""},{"$f":"IF(SISWA!C142=0,\"\",SISWA!C142)","v":""},{"$f":"IF(SISWA!D142=0,\"\",SISWA!D142)","v":"135-"},{"$f":"IF(SISWA!E142=0,\"\",SISWA!E142)","v":""},null,null,null,null,null,{"$error":"#DIV/0!"},null,null,{"$error":"#DIV/0!"},{"$error":"#DIV/0!"}]
[136,{"$f":"IF(SISWA!B143=0,\"\",SISWA!B143)","v":""},{"$f":"IF(SISWA!C143=0,\"\",SISWA!C143)","v":""},{"$f":"IF(SISWA!D143=0,\"\",SISWA!D143)","v":"136-"},{"$f":"IF(SISWA!E143=0,\"\",SISWA!E143)","v":""},null,null,null,null,null,{"$error":"#DIV/0!"},null,null,{"$error":"#DIV/0!"},{"$error":"#DIV/0!"}]
[137,{"$f":"IF(SISWA!B144=0,\"\",SISWA!B144)","v":""},{"$f":"IF(SISWA!C144=0,\"\",SISWA!C144)","v":""},{"$f":"IF(SISWA!D144=0,\"\",SISWA!D144)","v":"137-"},{"$f":"IF(SISWA!E144=0,\"\",SISWA!E144)","v":""},null,null,null,null,null,{"$error":"#DIV/0!"},null,null,{"$error":"#DIV/0!"},{"$error":"#DIV/0!"}]
[138,{"$f":"IF(SISWA!B145=0,\"\",SISWA!B145)","v":""},{"$f":"IF(SISWA!C145=0,\"\",SISWA!C145)","v":""},{"$f":"IF(SISWA!D145=0,\"\",SISWA!D145)","v":"138-"},{"$f":"IF(SISWA!E145=0,\"\",SISWA!E145)","v":""},null,null,null,null,null,{"$error":"#DIV/0!"},null,null,{"$error":"#DIV/0!"},{"$error":"#DIV/0!"}]
[139,{"$f":"IF(SISWA!B146=0,\"\",SISWA!B146)","v":""},{"$f":"IF(SISWA!C146=0,\"\",SISWA!C146)","v":""},{"$f":"IF(SISWA!D146=0,\"\",SISWA!D146)","v":"139-"},{"$f":"IF(SISWA!E146=0,\"\",SISWA!E146)","v":""},null,null,null,null,null,{"$error":"#DIV/0!"},null,null,{"$error":"#DIV/0!"},{"$error":"#DIV/0!"}]
[140,{"$f":"IF(SISWA!B147=0,\"\",SISWA!B147)","v":""},{"$f":"IF(SISWA!C147=0,\"\",SISWA!C147)","v":""},{"$f":"IF(SISWA!D147=0,\"\",SISWA!D147)","v":"140-"},{"$f":"IF(SISWA!E147=0,\"\",SISWA!E147)","v":""},null,null,null,null,null,{"$error":"#DIV/0!"},null,null,{"$error":"#DIV/0!"},{"$error":"#DIV/0!"}]
[141,{"$f":"IF(SISWA!B148=0,\"\",SISWA!B148)","v":""},{"$f":"IF(SISWA!C148=0,\"\",SISWA!C148)","v":""},{"$f":"IF(SISWA!D148=0,\"\",SISWA!D148)","v":"141-"},{"$f":"IF(SISWA!E148=0,\"\",SISWA!E148)","v":""},null,null,null,null,null,{"$error":"#DIV/0!"},null,null,{"$error":"#DIV/0!"},{"$error":"#DIV/0!"}]
[142,{"$f":"IF(SISWA!B149=0,\"\",SISWA!B149)","v":""},{"$f":"IF(SISWA!C149=0,\"\",SISWA!C149)","v":""},{"$f":"IF(SISWA!D149=0,\"\",SISWA!D149)","v":"142-"},{"$f":"IF(SISWA!E149=0,\"\",SISWA!E149)","v":""},null,null,null,null,null,{"$error":"#DIV/0!"},null,null,{"$error":"#DIV/0!"},{"$error":"#DIV/0!"}]
[143,{"$f":"IF(SISWA!B150=0,\"\",SISWA!B150)","v":""},{"$f":"IF(SISWA!C150=0,\"\",SISWA!C150)","v":""},{"$f":"IF(SISWA!D150=0,\"\",SISWA!D150)","v":"143-"},{"$f":"IF(SISWA!E150=0,\"\",SISWA!E150)","v":""},null,null,null,null,null,{"$error":"#DIV/0!"},null,null,{"$error":"#DIV/0!"},{"$error":"#DIV/0!"}]
[144,{"$f":"IF(SISWA!B151=0,\"\",SISWA!B151)","v":""},{"$f":"IF(SISWA!C151=0,\"\",SISWA!C151)","v":""},{"$f":"IF(SISWA!D151=0,\"\",SISWA!D151)","v":"144-"},{"$f":"IF(SISWA!E151=0,\"\",SISWA!E151)","v":""},null,null,null,null,null,{"$error":"#DIV/0!"},null,null,{"$error":"#DIV/0!"},{"$error":"#DIV/0!"}]
[145,{"$f":"IF(SISWA!B152=0,\"\",SISWA!B152)","v":""},{"$f":"IF(SISWA!C152=0,\"\",SISWA!C152)","v":""},{"$f":"IF(SISWA!D152=0,\"\",SISWA!D152)","v":"145-"},{"$f":"IF(SISWA!E152=0,\"\",SISWA!E152)","v":""},null,null,null,null,null,{"$error":"#DIV/0!"},null,null,{"$error":"#DIV/0!"},{"$error":"#DIV/0!"}]
[146,{"$f":"IF(SISWA!B153=0,\"\",SISWA!B153)","v":""},{"$f":"IF(SISWA!C153=0,\"\",SISWA!C153)","v":""},{"$f":"IF(SISWA!D153=0,\"\",SISWA!D153)","v":"146-"},{"$f":"IF(SISWA!E153=0,\"\",SISWA!E153)","v":""},null,null,null,null,null,{"$error":"#DIV/0!"},null,null,{"$error":"#DIV/0!"},{"$error":"#DIV/0!"}]
[147,{"$f":"IF(SISWA!B154=0,\"\",SISWA!B154)","v":""},{"$f":"IF(SISWA!C154=0,\"\",SISWA!C154)","v":""},{"$f":"IF(SISWA!D154=0,\"\",SISWA!D154)","v":"147-"},{"$f":"IF(SISWA!E154=0,\"\",SISWA!E154)","v":""},null,null,null,null,null,{"$error":"#DIV/0!"},null,null,{"$error":"#DIV/0!"},{"$error":"#DIV/0!"}]
[148,{"$f":"IF(SISWA!B155=0,\"\",SISWA!B155)","v":""},{"$f":"IF(SISWA!C155=0,\"\",SISWA!C155)","v":""},{"$f":"IF(SISWA!D155=0,\"\",SISWA!D155)","v":"148-"},{"$f":"IF(SISWA!E155=0,\"\",SISWA!E155)","v":""},null,null,null,null,null,{"$error":"#DIV/0!"},null,null,{"$error":"#DIV/0!"},{"$error":"#DIV/0!"}]
[149,{"$f":"IF(SISWA!B156=0,\"\",SISWA!B156)","v":""},{"$f":"IF(SISWA!C156=0,\"\",SISWA!C156)","v":""},{"$f":"IF(SISWA!D156=0,\"\",SISWA!D156)","v":"149-"},{"$f":"IF(SISWA!E156=0,\"\",SISWA!E156)","v":""},null,null,null,null,null,{"$error":"#DIV/0!"},null,null,{"$error":"#DIV/0!"},{"$error":"#DIV/0!"}]
[150,{"$f":"IF(SISWA!B157=0,\"\",SISWA!B157)","v":""},{"$f":"IF(SISWA!C157=0,\"\",SISWA!C157)","v":""},{"$f":"IF(SISWA!D157=0,\"\",SISWA!D157)","v":"150-"},{"$f":"IF(SISWA!E157=0,\"\",SISWA!E157)","v":""},null,null,null,null,null,{"$error":"#DIV/0!"},null,null,{"$error":"#DIV/0!"},{"$error":"#DIV/0!"}]
[151,{"$f":"IF(SISWA!B158=0,\"\",SISWA!B158)","v":""},{"$f":"IF(SISWA!C158=0,\"\",SISWA!C158)","v":""},{"$f":"IF(SISWA!D158=0,\"\",SISWA!D158)","v":"151-"},{"$f":"IF(SISWA!E158=0,\"\",SISWA!E158)","v":""},null,null,null,null,null,{"$error":"#DIV/0!"},null,null,{"$error":"#DIV/0!"},{"$error":"#DIV/0!"}]
[152,{"$f":"IF(SISWA!B159=0,\"\",SISWA!B159)","v":""},{"$f":"IF(SISWA!C159=0,\"\",SISWA!C159)","v":""},{"$f":"IF(SISWA!D159=0,\"\",SISWA!D159)","v":"152-"},{"$f":"IF(SISWA!E159=0,\"\",SISWA!E159)","v":""},null,null,null,null,null,{"$error":"#DIV/0!"},null,null,{"$error":"#DIV/0!"},{"$error":"#DIV/0!"}]
[153,{"$f":"IF(SISWA!B160=0,\"\",SISWA!B160)","v":""},{"$f":"IF(SISWA!C160=0,\"\",SISWA!C160)","v":""},{"$f":"IF(SISWA!D160=0,\"\",SISWA!D160)","v":"153-"},{"$f":"IF(SISWA!E160=0,\"\",SISWA!E160)","v":""},null,null,null,null,null,{"$error":"#DIV/0!"},null,null,{"$error":"#DIV/0!"},{"$error":"#DIV/0!"}]
[154,{"$f":"IF(SISWA!B161=0,\"\",SISWA!B161)","v":""},{"$f":"IF(SISWA!C161=0,\"\",SISWA!C161)","v":""},{"$f":"IF(SISWA!D161=0,\"\",SISWA!D161)","v":"154-"},{"$f":"IF(SISWA!E161=0,\"\",SISWA!E161)","v":""},null,null,null,null,null,{"$error":"#DIV/0!"},null,null,{"$error":"#DIV/0!"},{"$error":"#DIV/0!"}]
[155,{"$f":"IF(SISWA!B162=0,\"\",SISWA!B162)","v":""},{"$f":"IF(SISWA!C162=0,\"\",SISWA!C162)","v":""},{"$f":"IF(SISWA!D162=0,\"\",SISWA!D162)","v":"155-"},{"$f":"IF(SISWA!E162=0,\"\",SISWA!E162)","v":""},null,null,null,null,null,{"$error":"#DIV/0!"},null,null,{"$error":"#DIV/0!"},{"$error":"#DIV/0!"}]
[156,{"$f":"IF(SISWA!B163=0,\"\",SISWA!B163)","v":""},{"$f":"IF(SISWA!C163=0,\"\",SISWA!C163)","v":""},{"$f":"IF(SISWA!D163=0,\"\",SISWA!D163)","v":"156-"},{"$f":"IF(SISWA!E163=0,\"\",SISWA!E163)","v":""},null,null,null,null,null,{"$error":"#DIV/0!"},null,null,{"$error":"#DIV/0!"},{"$error":"#DIV/0!"}]
[157,{"$f":"IF(SISWA!B164=0,\"\",SISWA!B164)","v":""},{"$f":"IF(SISWA!C164=0,\"\",SISWA!C164)","v":""},{"$f":"IF(SISWA!D164=0,\"\",SISWA!D164)","v":"157-"},{"$f":"IF(SISWA!E164=0,\"\",SISWA!E164)","v":""},null,null,null,null,null,{"$error":"#DIV/0!"},null,null,{"$error":"#DIV/0!"},{"$error":"#DIV/0!"}]
[158,{"$f":"IF(SISWA!B165=0,\"\",SISWA!B165)","v":""},{"$f":"IF(SISWA!C165=0,\"\",SISWA!C165)","v":""},{"$f":"IF(SISWA!D165=0,\"\",SISWA!D165)","v":"158-"},{"$f":"IF(SISWA!E165=0,\"\",SISWA!E165)","v":""},null,null,null,null,null,{"$error":"#DIV/0!"},null,null,{"$error":"#DIV/0!"},{"$error":"#DIV/0!"}]
[159,{"$f":"IF(SISWA!B166=0,\"\",SISWA!B166)","v":""},{"$f":"IF(SISWA!C166=0,\"\",SISWA!C166)","v":""},{"$f":"IF(SISWA!D166=0,\"\",SISWA!D166)","v":"159-"},{"$f":"IF(SISWA!E166=0,\"\",SISWA!E166)","v":""},null,null,null,null,null,{"$error":"#DIV/0!"},null,null,{"$error":"#DIV/0!"},{"$error":"#DIV/0!"}]
[160,{"$f":"IF(SISWA!B167=0,\"\",SISWA!B167)","v":""},{"$f":"IF(SISWA!C167=0,\"\",SISWA!C167)","v":""},{"$f":"IF(SISWA!D167=0,\"\",SISWA!D167)","v":"160-"},{"$f":"IF(SISWA!E167=0,\"\",SISWA!E167)","v":""},null,null,null,null,null,{"$error":"#DIV/0!"},null,null,{"$error":"#DIV/0!"},{"$error":"#DIV/0!"}]
[161,{"$f":"IF(SISWA!B168=0,\"\",SISWA!B168)","v":""},{"$f":"IF(SISWA!C168=0,\"\",SISWA!C168)","v":""},{"$f":"IF(SISWA!D168=0,\"\",SISWA!D168)","v":"161-"},{"$f":"IF(SISWA!E168=0,\"\",SISWA!E168)","v":""},null,null,null,null,null,{"$error":"#DIV/0!"},null,null,{"$error":"#DIV/0!"},{"$error":"#DIV/0!"}]
[162,{"$f":"IF(SISWA!B169=0,\"\",SISWA!B169)","v":""},{"$f":"IF(SISWA!C169=0,\"\",SISWA!C169)","v":""},{"$f":"IF(SISWA!D169=0,\"\",SISWA!D169)","v":"162-"},{"$f":"IF(SISWA!E169=0,\"\",SISWA!E169)","v":""},null,null,null,null,null,{"$error":"#DIV/0!"},null,null,{"$error":"#DIV/0!"},{"$error":"#DIV/0!"}]
[163,{"$f":"IF(SISWA!B170=0,\"\",SISWA!B170)","v":""},{"$f":"IF(SISWA!C170=0,\"\",SISWA!C170)","v":""},{"$f":"IF(SISWA!D170=0,\"\",SISWA!D170)","v":"163-"},{"$f":"IF(SISWA!E170=0,\"\",SISWA!E170)","v":""},null,null,null,null,null,{"$error":"#DIV/0!"},null,null,{"$error":"#DIV/0!"},{"$error":"#DIV/0!"}]
[164,{"$f":"IF(SISWA!B171=0,\"\",SISWA!B171)","v":""},{"$f":"IF(SISWA!C171=0,\"\",SISWA!C171)","v":""},{"$f":"IF(SISWA!D171=0,\"\",SISWA!D171)","v":"164-"},{"$f":"IF(SISWA!E171=0,\"\",SISWA!E171)","v":""},null,null,null,null,null,{"$error":"#DIV/0!"},null,null,{"$error":"#DIV/0!"},{"$error":"#DIV/0!"}]
[165,{"$f":"IF(SISWA!B172=0,\"\",SISWA!B172)","v":""},{"$f":"IF(SISWA!C172=0,\"\",SISWA!C172)","v":""},{"$f":"IF(SISWA!D172=0,\"\",SISWA!D172)","v":"165-"},{"$f":"IF(SISWA!E172=0,\"\",SISWA!E172)","v":""},null,null,null,null,null,{"$error":"#DIV/0!"},null,null,{"$error":"#DIV/0!"},{"$error":"#DIV/0!"}]
[166,{"$f":"IF(SISWA!B173=0,\"\",SISWA!B173)","v":""},{"$f":"IF(SISWA!C173=0,\"\",SISWA!C173)","v":""},{"$f":"IF(SISWA!D173=0,\"\",SISWA!D173)","v":"166-"},{"$f":"IF(SISWA!E173=0,\"\",SISWA!E173)","v":""},null,null,null,null,null,{"$error":"#DIV/0!"},null,null,{"$error":"#DIV/0!"},{"$error":"#DIV/0!"}]
[167,{"$f":"IF(SISWA!B174=0,\"\",SISWA!B174)","v":""},{"$f":"IF(SISWA!C174=0,\"\",SISWA!C174)","v":""},{"$f":"IF(SISWA!D174=0,\"\",SISWA!D174)","v":"167-"},{"$f":"IF(SISWA!E174=0,\"\",SISWA!E174)","v":""},null,null,null,null,null,{"$error":"#DIV/0!"},null,null,{"$error":"#DIV/0!"},{"$error":"#DIV/0!"}]
[168,{"$f":"IF(SISWA!B175=0,\"\",SISWA!B175)","v":""},{"$f":"IF(SISWA!C175=0,\"\",SISWA!C175)","v":""},{"$f":"IF(SISWA!D175=0,\"\",SISWA!D175)","v":"168-"},{"$f":"IF(SISWA!E175=0,\"\",SISWA!E175)","v":""},null,null,null,null,null,{"$error":"#DIV/0!"},null,null,{"$error":"#DIV/0!"},{"$error":"#DIV/0!"}]
[169,{"$f":"IF(SISWA!B176=0,\"\",SISWA!B176)","v":""},{"$f":"IF(SISWA!C176=0,\"\",SISWA!C176)","v":""},{"$f":"IF(SISWA!D176=0,\"\",SISWA!D176)","v":"169-"},{"$f":"IF(SISWA!E176=0,\"\",SISWA!E176)","v":""},null,null,null,null,null,{"$error":"#DIV/0!"},null,null,{"$error":"#DIV/0!"},{"$error":"#DIV/0!"}]
[170,{"$f":"IF(SISWA!B177=0,\"\",SISWA!B177)","v":""},{"$f":"IF(SISWA!C177=0,\"\",SISWA!C177)","v":""},{"$f":"IF(SISWA!D177=0,\"\",SISWA!D177)","v":"170-"},{"$f":"IF(SISWA!E177=0,\"\",SISWA!E177)","v":""},null,null,null,null,null,{"$error":"#DIV/0!"},null,null,{"$error":"#DIV/0!"},{"$error":"#DIV/0!"}]
[171,{"$f":"IF(SISWA!B178=0,\"\",SISWA!B178)","v":""},{"$f":"IF(SISWA!C178=0,\"\",SISWA!C178)","v":""},{"$f":"IF(SISWA!D178=0,\"\",SISWA!D178)","v":"171-"},{"$f":"IF(SISWA!E178=0,\"\",SISWA!E178)","v":""},null,null,null,null,null,{"$error":"#DIV/0!"},null,null,{"$error":"#DIV/0!"},{"$error":"#DIV/0!"}]
[172,{"$f":"IF(SISWA!B179=0,\"\",SISWA!B179)","v":""},{"$f":"IF(SISWA!C179=0,\"\",SISWA!C179)","v":""},{"$f":"IF(SISWA!D179=0,\"\",SISWA!D179)","v":"172-"},{"$f":"IF(SISWA!E179=0,\"\",SISWA!E179)","v":""},null,null,null,null,null,{"$error":"#DIV/0!"},null,null,{"$error":"#DIV/0!"},{"$error":"#DIV/0!"}]
[173,{"$f":"IF(SISWA!B180=0,\"\",SISWA!B180)","v":""},{"$f":"IF(SISWA!C180=0,\"\",SISWA!C180)","v":""},{"$f":"IF(SISWA!D180=0,\"\",SISWA!D180)","v":"173-"},{"$f":"IF(SISWA!E180=0,\"\",SISWA!E180)","v":""},null,null,null,null,null,{"$error":"#DIV/0!"},null,null,{"$error":"#DIV/0!"},{"$error":"#DIV/0!"}]
[174,{"$f":"IF(SISWA!B181=0,\"\",SISWA!B181)","v":""},{"$f":"IF(SISWA!C181=0,\"\",SISWA!C181)","v":""},{"$f":"IF(SISWA!D181=0,\"\",SISWA!D181)","v":"174-"},{"$f":"IF(SISWA!E181=0,\"\",SISWA!E181)","v":""},null,null,null,null,null,{"$error":"#DIV/0!"},null,null,{"$error":"#DIV/0!"},{"$error":"#DIV/0!"}]
[175,{"$f":"IF(SISWA!B182=0,\"\",SISWA!B182)","v":""},{"$f":"IF(SISWA!C182=0,\"\",SISWA!C182)","v":""},{"$f":"IF(SISWA!D182=0,\"\",SISWA!D182)","v":"175-"},{"$f":"IF(SISWA!E182=0,\"\",SISWA!E182)","v":""},null,null,null,null,null,{"$error":"#DIV/0!"},null,null,{"$error":"#DIV/0!"},{"$error":"#DIV/0!"}]
[176,{"$f":"IF(SISWA!B183=0,\"\",SISWA!B183)","v":""},{"$f":"IF(SISWA!C183=0,\"\",SISWA!C183)","v":""},{"$f":"IF(SISWA!D183=0,\"\",SISWA!D183)","v":"176-"},{"$f":"IF(SISWA!E183=0,\"\",SISWA!E183)","v":""},null,null,null,null,null,{"$error":"#DIV/0!"},null,null,{"$error":"#DIV/0!"},{"$error":"#DIV/0!"}]
[177,{"$f":"IF(SISWA!B184=0,\"\",SISWA!B184)","v":""},{"$f":"IF(SISWA!C184=0,\"\",SISWA!C184)","v":""},{"$f":"IF(SISWA!D184=0,\"\",SISWA!D184)","v":"177-"},{"$f":"IF(SISWA!E184=0,\"\",SISWA!E184)","v":""},null,null,null,null,null,{"$error":"#DIV/0!"},null,null,{"$error":"#DIV/0!"},{"$error":"#DIV/0!"}]
[178,{"$f":"IF(SISWA!B185=0,\"\",SISWA!B185)","v":""},{"$f":"IF(SISWA!C185=0,\"\",SISWA!C185)","v":""},{"$f":"IF(SISWA!D185=0,\"\",SISWA!D185)","v":"178-"},{"$f":"IF(SISWA!E185=0,\"\",SISWA!E185)","v":""},null,null,null,null,null,{"$error":"#DIV/0!"},null,null,{"$error":"#DIV/0!"},{"$error":"#DIV/0!"}]
[179,{"$f":"IF(SISWA!B186=0,\"\",SISWA!B186)","v":""},{"$f":"IF(SISWA!C186=0,\"\",SISWA!C186)","v":""},{"$f":"IF(SISWA!D186=0,\"\",SISWA!D186)","v":"179-"},{"$f":"IF(SISWA!E186=0,\"\",SISWA!E186)","v":""},null,null,null,null,null,{"$error":"#DIV/0!"},null,null,{"$error":"#DIV/0!"},{"$error":"#DIV/0!"}]
[180,{"$f":"IF(SISWA!B187=0,\"\",SISWA!B187)","v":""},{"$f":"IF(SISWA!C187=0,\"\",SISWA!C187)","v":""},{"$f":"IF(SISWA!D187=0,\"\",SISWA!D187)","v":"180-"},{"$f":"IF(SISWA!E187=0,\"\",SISWA!E187)","v":""},null,null,null,null,null,{"$error":"#DIV/0!"},null,null,{"$error":"#DIV/0!"},{"$error":"#DIV/0!"}]
[181,{"$f":"IF(SISWA!B188=0,\"\",SISWA!B188)","v":""},{"$f":"IF(SISWA!C188=0,\"\",SISWA!C188)","v":""},{"$f":"IF(SISWA!D188=0,\"\",SISWA!D188)","v":"181-"},{"$f":"IF(SISWA!E188=0,\"\",SISWA!E188)","v":""},null,null,null,null,null,{"$error":"#DIV/0!"},null,null,{"$error":"#DIV/0!"},{"$error":"#DIV/0!"}]
[182,{"$f":"IF(SISWA!B189=0,\"\",SISWA!B189)","v":""},{"$f":"IF(SISWA!C189=0,\"\",SISWA!C189)","v":""},{"$f":"IF(SISWA!D189=0,\"\",SISWA!D189)","v":"182-"},{"$f":"IF(SISWA!E189=0,\"\",SISWA!E189)","v":""},null,null,null,null,null,{"$error":"#DIV/0!"},null,null,{"$error":"#DIV/0!"},{"$error":"#DIV/0!"}]
[183,{"$f":"IF(SISWA!B190=0,\"\",SISWA!B190)","v":""},{"$f":"IF(SISWA!C190=0,\"\",SISWA!C190)","v":""},{"$f":"IF(SISWA!D190=0,\"\",SISWA!D190)","v":"183-"},{"$f":"IF(SISWA!E190=0,\"\",SISWA!E190)","v":""},null,null,null,null,null,{"$error":"#DIV/0!"},null,null,{"$error":"#DIV/0!"},{"$error":"#DIV/0!"}]
[184,{"$f":"IF(SISWA!B191=0,\"\",SISWA!B191)","v":""},{"$f":"IF(SISWA!C191=0,\"\",SISWA!C191)","v":""},{"$f":"IF(SISWA!D191=0,\"\",SISWA!D191)","v":"184-"},{"$f":"IF(SISWA!E191=0,\"\",SISWA!E191)","v":""},null,null,null,null,null,{"$error":"#DIV/0!"},null,null,{"$error":"#DIV/0!"},{"$error":"#DIV/0!"}]
[185,{"$f":"IF(SISWA!B192=0,\"\",SISWA!B192)","v":""},{"$f":"IF(SISWA!C192=0,\"\",SISWA!C192)","v":""},{"$f":"IF(SISWA!D192=0,\"\",SISWA!D192)","v":"185-"},{"$f":"IF(SISWA!E192=0,\"\",SISWA!E192)","v":""},null,null,null,null,null,{"$error":"#DIV/0!"},null,null,{"$error":"#DIV/0!"},{"$error":"#DIV/0!"}]
[186,{"$f":"IF(SISWA!B193=0,\"\",SISWA!B193)","v":""},{"$f":"IF(SISWA!C193=0,\"\",SISWA!C193)","v":""},{"$f":"IF(SISWA!D193=0,\"\",SISWA!D193)","v":"186-"},{"$f":"IF(SISWA!E193=0,\"\",SISWA!E193)","v":""},null,null,null,null,null,{"$error":"#DIV/0!"},null,null,{"$error":"#DIV/0!"},{"$error":"#DIV/0!"}]
[187,{"$f":"IF(SISWA!B194=0,\"\",SISWA!B194)","v":""},{"$f":"IF(SISWA!C194=0,\"\",SISWA!C194)","v":""},{"$f":"IF(SISWA!D194=0,\"\",SISWA!D194)","v":"187-"},{"$f":"IF(SISWA!E194=0,\"\",SISWA!E194)","v":""},null,null,null,null,null,{"$error":"#DIV/0!"},null,null,{"$error":"#DIV/0!"},{"$error":"#DIV/0!"}]
[188,{"$f":"IF(SISWA!B195=0,\"\",SISWA!B195)","v":""},{"$f":"IF(SISWA!C195=0,\"\",SISWA!C195)","v":""},{"$f":"IF(SISWA!D195=0,\"\",SISWA!D195)","v":"188-"},{"$f":"IF(SISWA!E195=0,\"\",SISWA!E195)","v":""},null,null,null,null,null,{"$error":"#DIV/0!"},null,null,{"$error":"#DIV/0!"},{"$error":"#DIV/0!"}]
[189,{"$f":"IF(SISWA!B196=0,\"\",SISWA!B196)","v":""},{"$f":"IF(SISWA!C196=0,\"\",SISWA!C196)","v":""},{"$f":"IF(SISWA!D196=0,\"\",SISWA!D196)","v":"189-"},{"$f":"IF(SISWA!E196=0,\"\",SISWA!E196)","v":""},null,null,null,null,null,{"$error":"#DIV/0!"},null,null,{"$error":"#DIV/0!"},{"$error":"#DIV/0!"}]
[190,{"$f":"IF(SISWA!B197=0,\"\",SISWA!B197)","v":""},{"$f":"IF(SISWA!C197=0,\"\",SISWA!C197)","v":""},{"$f":"IF(SISWA!D197=0,\"\",SISWA!D197)","v":"190-"},{"$f":"IF(SISWA!E197=0,\"\",SISWA!E197)","v":""},null,null,null,null,null,{"$error":"#DIV/0!"},null,null,{"$error":"#DIV/0!"},{"$error":"#DIV/0!"}]
[191,{"$f":"IF(SISWA!B198=0,\"\",SISWA!B198)","v":""},{"$f":"IF(SISWA!C198=0,\"\",SISWA!C198)","v":""},{"$f":"IF(SISWA!D198=0,\"\",SISWA!D198)","v":"191-"},{"$f":"IF(SISWA!E198=0,\"\",SISWA!E198)","v":""},null,null,null,null,null,{"$error":"#DIV/0!"},null,null,{"$error":"#DIV/0!"},{"$error":"#DIV/0!"}]
[192,{"$f":"IF(SISWA!B199=0,\"\",SISWA!B199)","v":""},{"$f":"IF(SISWA!C199=0,\"\",SISWA!C199)","v":""},{"$f":"IF(SISWA!D199=0,\"\",SISWA!D199)","v":"192-"},{"$f":"IF(SISWA!E199=0,\"\",SISWA!E199)","v":""},null,null,null,null,null,{"$error":"#DIV/0!"},null,null,{"$error":"#DIV/0!"},{"$error":"#DIV/0!"}]
[193,{"$f":"IF(SISWA!B200=0,\"\",SISWA!B200)","v":""},{"$f":"IF(SISWA!C200=0,\"\",SISWA!C200)","v":""},{"$f":"IF(SISWA!D200=0,\"\",SISWA!D200)","v":"193-"},{"$f":"IF(SISWA!E200=0,\"\",SISWA!E200)","v":""},null,null,null,null,null,{"$error":"#DIV/0!"},null,null,{"$error":"#DIV/0!"},{"$error":"#DIV/0!"}]
[194,{"$f":"IF(SISWA!B201=0,\"\",SISWA!B201)","v":""},{"$f":"IF(SISWA!C201=0,\"\",SISWA!C201)","v":""},{"$f":"IF(SISWA!D201=0,\"\",SISWA!D201)","v":"194-"},{"$f":"IF(SISWA!E201=0,\"\",SISWA!E201)","v":""},null,null,null,null,null,{"$f":"AVERAGE(F201:J201)","v":{"$error":"#DIV/0!"}},null,null,{"$f":"AVERAGE(L201:M201)","v":{"$error":"#DIV/0!"}},{"$f":"AVERAGE(L201:M201)","v":{"$error":"#DIV/0!"}}]
[195,{"$f":"IF(SISWA!B202=0,\"\",SISWA!B202)","v":""},{"$f":"IF(SISWA!C202=0,\"\",SISWA!C202)","v":""},{"$f":"IF(SISWA!D202=0,\"\",SISWA!D202)","v":"195-"},{"$f":"IF(SISWA!E202=0,\"\",SISWA!E202)","v":""},null,null,null,null,null,{"$error":"#DIV/0!"},null,null,{"$error":"#DIV/0!"},{"$error":"#DIV/0!"}]
[196,{"$f":"IF(SISWA!B203=0,\"\",SISWA!B203)","v":""},{"$f":"IF(SISWA!C203=0,\"\",SISWA!C203)","v":""},{"$f":"IF(SISWA!D203=0,\"\",SISWA!D203)","v":"196-"},{"$f":"IF(SISWA!E203=0,\"\",SISWA!E203)","v":""},null,null,null,null,null,{"$error":"#DIV/0!"},null,null,{"$error":"#DIV/0!"},{"$error":"#DIV/0!"}]
[197,{"$f":"IF(SISWA!B204=0,\"\",SISWA!B204)","v":""},{"$f":"IF(SISWA!C204=0,\"\",SISWA!C204)","v":""},{"$f":"IF(SISWA!D204=0,\"\",SISWA!D204)","v":"197-"},{"$f":"IF(SISWA!E204=0,\"\",SISWA!E204)","v":""},null,null,null,null,null,{"$error":"#DIV/0!"},null,null,{"$error":"#DIV/0!"},{"$error":"#DIV/0!"}]
[198,{"$f":"IF(SISWA!B205=0,\"\",SISWA!B205)","v":""},{"$f":"IF(SISWA!C205=0,\"\",SISWA!C205)","v":""},{"$f":"IF(SISWA!D205=0,\"\",SISWA!D205)","v":"198-"},{"$f":"IF(SISWA!E205=0,\"\",SISWA!E205)","v":""},null,null,null,null,null,{"$error":"#DIV/0!"},null,null,{"$error":"#DIV/0!"},{"$error":"#DIV/0!"}]
[199,{"$f":"IF(SISWA!B206=0,\"\",SISWA!B206)","v":""},{"$f":"IF(SISWA!C206=0,\"\",SISWA!C206)","v":""},{"$f":"IF(SISWA!D206=0,\"\",SISWA!D206)","v":"199-"},{"$f":"IF(SISWA!E206=0,\"\",SISWA!E206)","v":""},null,null,null,null,null,{"$error":"#DIV/0!"},null,null,{"$error":"#DIV/0!"},{"$error":"#DIV/0!"}]
[200,{"$f":"IF(SISWA!B207=0,\"\",SISWA!B207)","v":""},{"$f":"IF(SISWA!C207=0,\"\",SISWA!C207)","v":""},{"$f":"IF(SISWA!D207=0,\"\",SISWA!D207)","v":"200-"},{"$f":"IF(SISWA!E207=0,\"\",SISWA!E207)","v":""},null,null,null,null,null,{"$error":"#DIV/0!"},null,null,{"$error":"#DIV/0!"},{"$error":"#DIV/0!"}]

{"sheet":"FQ","index":4,"n_rows":207,"n_cols":15,"rows_kept":207,"cut":false,"hidden":false,"merged":[[4,13,6,13],[5,11,5,12],[0,0,0,9],[1,0,1,9],[2,0,2,9],[4,0,6,0],[4,1,6,1],[4,2,6,2],[4,3,6,3],[4,4,6,4],[4,5,4,12],[5,5,5,9]]}
["DAFTAR NILAI AKHIR SEKOLAH"]
[{"$f":"AA!A2","v":"MADRASAH IBTIDAIYAH NURUL ISLAM LABRUK KIDUL"}]
[{"$f":"AA!A3","v":"TAHUN PELAJARAN 2018/2019"}]
[]
["NO","No Induk","NISN","Nomor Peserta","Nama Peserta","FIQIH",null,null,null,null,null,null,null,"rata-rata UAM & PRAKTEK"]
[null,null,null,null,null,"Nilai Semester",null,null,null,null,"Rata- 2","NILAI UAMBD"]
[null,null,null,null,null,7,8,9,10,11,"Rapor","TULIS","PRAKTIK"]
[1,{"$f":"IF(SISWA!B8=0,\"\",SISWA!B8)","v":4270},{"$f":"IF(SISWA!C8=0,\"\",SISWA!C8)","v":"0067566336"},{"$f":"IF(SISWA!D8=0,\"\",SISWA!D8)","v":"1-18-05-80-162-001-9"},{"$f":"IF(SISWA!E8=0,\"\",SISWA!E8)","v":"ADITYA MAULA FANDY TAULANI"},79,85,87,84,91,{"$f":"AVERAGE(F8:J8)","v":85.2},65,{"$f":"K8","v":85.2},{"$f":"AVERAGE(K8:L8)","v":75.099999999999994},{"$f":"N8","v":75.099999999999994}]
[2,{"$f":"IF(SISWA!B9=0,\"\",SISWA!B9)","v":4300},{"$f":"IF(SISWA!C9=0,\"\",SISWA!C9)","v":"0066364963"},{"$f":"IF(SISWA!D9=0,\"\",SISWA!D9)","v":"1-18-05-80-162-002-8"},{"$f":"IF(SISWA!E9=0,\"\",SISWA!E9)","v":"AHMAD FERDIAN ALAMSYAH"},74,73,77,71,80,{"$f":"AVERAGE(F9:J9)","v":75},65,{"$f":"K9","v":75},{"$f":"AVERAGE(K9:L9)","v":70},{"$f":"N9","v":70}]
[3,{"$f":"IF(SISWA!B10=0,\"\",SISWA!B10)","v":4271},{"$f":"IF(SISWA!C10=0,\"\",SISWA!C10)","v":"0062805893"},{"$f":"IF(SISWA!D10=0,\"\",SISWA!D10)","v":"1-18-05-80-162-003-7"},{"$f":"IF(SISWA!E10=0,\"\",SISWA!E10)","v":"AHMAD RAMADHANI FADLULLOH"},76,74,82,78,83,78.599999999999994,65,78.599999999999994,71.8,71.8]
[4,{"$f":"IF(SISWA!B11=0,\"\",SISWA!B11)","v":4398},{"$f":"IF(SISWA!C11=0,\"\",SISWA!C11)","v":"0062399399"},{"$f":"IF(SISWA!D11=0,\"\",SISWA!D11)","v":"1-18-05-80-162-004-6"},{"$f":"IF(SISWA!E11=0,\"\",SISWA!E11)","v":"ANANDA AMILIA"},75,76,75,75,85,77.2,76.7,77.2,76.95,76.95]
[5,{"$f":"IF(SISWA!B12=0,\"\",SISWA!B12)","v":4272},{"$f":"IF(SISWA!C12=0,\"\",SISWA!C12)","v":"0071551428"},{"$f":"IF(SISWA!D12=0,\"\",SISWA!D12)","v":"1-18-05-80-162-005-5"},{"$f":"IF(SISWA!E12=0,\"\",SISWA!E12)","v":"ANDINI MAULID DWI LESTARI"},77,80,77,77,88,79.8,65,79.8,72.400000000000006,72.400000000000006]
[6,{"$f":"IF(SISWA!B13=0,\"\",SISWA!B13)","v":4301},{"$f":"IF(SISWA!C13=0,\"\",SISWA!C13)","v":"0061907599"},{"$f":"IF(SISWA!D13=0,\"\",SISWA!D13)","v":"1-18-05-80-162-006-4"},{"$f":"IF(SISWA!E13=0,\"\",SISWA!E13)","v":"ANDRIK YUSRI"},70,62,75,73,75,71,65,71,68,68]
[7,{"$f":"IF(SISWA!B14=0,\"\",SISWA!B14)","v":4273},{"$f":"IF(SISWA!C14=0,\"\",SISWA!C14)","v":"0067280519"},{"$f":"IF(SISWA!D14=0,\"\",SISWA!D14)","v":"1-18-05-80-162-007-3"},{"$f":"IF(SISWA!E14=0,\"\",SISWA!E14)","v":"DEWI SAKINAH ISWARA"},79,77,95,90,92,86.6,93.3,86.6,89.949999999999989,89.949999999999989]
[8,{"$f":"IF(SISWA!B15=0,\"\",SISWA!B15)","v":4307},{"$f":"IF(SISWA!C15=0,\"\",SISWA!C15)","v":"0066012198"},{"$f":"IF(SISWA!D15=0,\"\",SISWA!D15)","v":"1-18-05-80-162-008-2"},{"$f":"IF(SISWA!E15=0,\"\",SISWA!E15)","v":"CHAKIM"},70,64,76,69,76,71,68.7,71,69.849999999999994,69.849999999999994]
[9,{"$f":"IF(SISWA!B16=0,\"\",SISWA!B16)","v":4275},{"$f":"IF(SISWA!C16=0,\"\",SISWA!C16)","v":"0078199679"},{"$f":"IF(SISWA!D16=0,\"\",SISWA!D16)","v":"1-18-05-80-162-009-9"},{"$f":"IF(SISWA!E16=0,\"\",SISWA!E16)","v":"HANIK APRILIA SARI"},79,78,83,89,87,83.2,65,83.2,74.099999999999994,74.099999999999994]
[10,{"$f":"IF(SISWA!B17=0,\"\",SISWA!B17)","v":"4238"},{"$f":"IF(SISWA!C17=0,\"\",SISWA!C17)","v":"0051503260"},{"$f":"IF(SISWA!D17=0,\"\",SISWA!D17)","v":"1-18-05-80-162-010-8"},{"$f":"IF(SISWA!E17=0,\"\",SISWA!E17)","v":"DESI NATALIA SAPUTRI"},70,64,76,67,77,70.8,65,70.8,67.900000000000006,67.900000000000006]
[11,{"$f":"IF(SISWA!B18=0,\"\",SISWA!B18)","v":4391},{"$f":"IF(SISWA!C18=0,\"\",SISWA!C18)","v":"0079418518"},{"$f":"IF(SISWA!D18=0,\"\",SISWA!D18)","v":"1-18-05-80-162-011-7"},{"$f":"IF(SISWA!E18=0,\"\",SISWA!E18)","v":"HIDAYATUL KHUMAINIA"},72,72,77,76,83,76,76.7,76,76.349999999999994,76.349999999999994]
[12,{"$f":"IF(SISWA!B19=0,\"\",SISWA!B19)","v":4274},{"$f":"IF(SISWA!C19=0,\"\",SISWA!C19)","v":"0077670297"},{"$f":"IF(SISWA!D19=0,\"\",SISWA!D19)","v":"1-18-05-80-162-012-6"},{"$f":"IF(SISWA!E19=0,\"\",SISWA!E19)","v":"DWITA FITA WULANDARI"},74,71,79,73,87,76.8,65,76.8,70.900000000000006,70.900000000000006]
[13,{"$f":"IF(SISWA!B20=0,\"\",SISWA!B20)","v":4276},{"$f":"IF(SISWA!C20=0,\"\",SISWA!C20)","v":"0067236848"},{"$f":"IF(SISWA!D20=0,\"\",SISWA!D20)","v":"1-18-05-80-162-013-5"},{"$f":"IF(SISWA!E20=0,\"\",SISWA!E20)","v":"IZZA ILMIA AZZAHRA"},78,83,91,90,91,86.6,65,86.6,75.8,75.8]
[14,{"$f":"IF(SISWA!B21=0,\"\",SISWA!B21)","v":4303},{"$f":"IF(SISWA!C21=0,\"\",SISWA!C21)","v":"0064031376"},{"$f":"IF(SISWA!D21=0,\"\",SISWA!D21)","v":"1-18-05-80-162-014-4"},{"$f":"IF(SISWA!E21=0,\"\",SISWA!E21)","v":"FARIDATUS SAHDIAH"},73,76,79,77,79,76.8,65,76.8,70.900000000000006,70.900000000000006]
[15,{"$f":"IF(SISWA!B22=0,\"\",SISWA!B22)","v":4278},{"$f":"IF(SISWA!C22=0,\"\",SISWA!C22)","v":"0079672823"},{"$f":"IF(SISWA!D22=0,\"\",SISWA!D22)","v":"1-18-05-80-162-015-3"},{"$f":"IF(SISWA!E22=0,\"\",SISWA!E22)","v":"KHARISYA AZZAHRO"},86,87,80,84,96,86.6,65,86.6,75.8,75.8]
[16,{"$f":"IF(SISWA!B23=0,\"\",SISWA!B23)","v":4277},{"$f":"IF(SISWA!C23=0,\"\",SISWA!C23)","v":"0077101453"},{"$f":"IF(SISWA!D23=0,\"\",SISWA!D23)","v":"1-18-05-80-162-016-2"},{"$f":"IF(SISWA!E23=0,\"\",SISWA!E23)","v":"KARINA FEBBY CAHYA AMILIA"},77,77,84,83,84,81,65,81,73,73]
[17,{"$f":"IF(SISWA!B24=0,\"\",SISWA!B24)","v":4601},{"$f":"IF(SISWA!C24=0,\"\",SISWA!C24)","v":"0069718082"},{"$f":"IF(SISWA!D24=0,\"\",SISWA!D24)","v":"1-18-05-80-162-017-9"},{"$f":"IF(SISWA!E24=0,\"\",SISWA!E24)","v":"MOCHAMAD RIFKY ROSAN"},75,71,78,85,83,78.400000000000006,65,78.400000000000006,71.7,71.7]
[18,{"$f":"IF(SISWA!B25=0,\"\",SISWA!B25)","v":"4241"},{"$f":"IF(SISWA!C25=0,\"\",SISWA!C25)","v":"0057006145"},{"$f":"IF(SISWA!D25=0,\"\",SISWA!D25)","v":"1-18-05-80-162-018-8"},{"$f":"IF(SISWA!E25=0,\"\",SISWA!E25)","v":"KHUSNI CAHYONO"},70,56,74,65,75,68,65,68,66.5,66.5]
[19,{"$f":"IF(SISWA!B26=0,\"\",SISWA!B26)","v":4280},{"$f":"IF(SISWA!C26=0,\"\",SISWA!C26)","v":"0062061356"},{"$f":"IF(SISWA!D26=0,\"\",SISWA!D26)","v":"1-18-05-80-162-019-7"},{"$f":"IF(SISWA!E26=0,\"\",SISWA!E26)","v":"MUCHAMMAD ALIEF FERDIANSYAH"},79,83,83,89,92,85.2,65,85.2,75.099999999999994,75.099999999999994]
[20,{"$f":"IF(SISWA!B27=0,\"\",SISWA!B27)","v":4306},{"$f":"IF(SISWA!C27=0,\"\",SISWA!C27)","v":"0069095925"},{"$f":"IF(SISWA!D27=0,\"\",SISWA!D27)","v":"1-18-05-80-162-020-6"},{"$f":"IF(SISWA!E27=0,\"\",SISWA!E27)","v":"LENNY AGUSTIN NINGTYAS"},70,66,74,63,76,69.8,65,69.8,67.400000000000006,67.400000000000006]
[21,{"$f":"IF(SISWA!B28=0,\"\",SISWA!B28)","v":4281},{"$f":"IF(SISWA!C28=0,\"\",SISWA!C28)","v":"0069153972"},{"$f":"IF(SISWA!D28=0,\"\",SISWA!D28)","v":"1-18-05-80-162-021-5"},{"$f":"IF(SISWA!E28=0,\"\",SISWA!E28)","v":"MUHAMMAD AGUS ANDRIANTO"},78,72,77,75,84,77.2,65,77.2,71.099999999999994,71.099999999999994]
[22,{"$f":"IF(SISWA!B29=0,\"\",SISWA!B29)","v":4308},{"$f":"IF(SISWA!C29=0,\"\",SISWA!C29)","v":"0063078335"},{"$f":"IF(SISWA!D29=0,\"\",SISWA!D29)","v":"1-18-05-80-162-022-4"},{"$f":"IF(SISWA!E29=0,\"\",SISWA!E29)","v":"MAURIS HIDAYATUR ROCHMAN"},76,77,75,75,84,77.400000000000006,70,77.400000000000006,73.7,73.7]
[23,{"$f":"IF(SISWA!B30=0,\"\",SISWA!B30)","v":4314},{"$f":"IF(SISWA!C30=0,\"\",SISWA!C30)","v":"0072178353"},{"$f":"IF(SISWA!D30=0,\"\",SISWA!D30)","v":"1-18-05-80-162-023-3"},{"$f":"IF(SISWA!E30=0,\"\",SISWA!E30)","v":"MUHAMMAD BISMAR TAUFIQUROHMAN"},77,81,78,78,88,80.400000000000006,65,80.400000000000006,72.7,72.7]
[24,{"$f":"IF(SISWA!B31=0,\"\",SISWA!B31)","v":4309},{"$f":"IF(SISWA!C31=0,\"\",SISWA!C31)","v":"0072198448"},{"$f":"IF(SISWA!D31=0,\"\",SISWA!D31)","v":"1-18-05-80-162-024-2"},{"$f":"IF(SISWA!E31=0,\"\",SISWA!E31)","v":"MAYA BUNGA ANJANI"},73,57,75,64,76,69,65,69,67,67]
[25,{"$f":"IF(SISWA!B32=0,\"\",SISWA!B32)","v":4320},{"$f":"IF(SISWA!C32=0,\"\",SISWA!C32)","v":"0064566227"},{"$f":"IF(SISWA!D32=0,\"\",SISWA!D32)","v":"1-18-05-80-162-025-9"},{"$f":"IF(SISWA!E32=0,\"\",SISWA!E32)","v":"MUHAMMAD SAHLAN SHODIQ"},80,85,93,88,87,86.6,65,86.6,75.8,75.8]
[26,{"$f":"IF(SISWA!B33=0,\"\",SISWA!B33)","v":4279},{"$f":"IF(SISWA!C33=0,\"\",SISWA!C33)","v":"0066637092"},{"$f":"IF(SISWA!D33=0,\"\",SISWA!D33)","v":"1-18-05-80-162-026-8"},{"$f":"IF(SISWA!E33=0,\"\",SISWA!E33)","v":"MITA SEPTIANI ISLAMIA"},71,67,75,75,75,72.599999999999994,100,72.599999999999994,86.3,86.3]
[27,{"$f":"IF(SISWA!B34=0,\"\",SISWA!B34)","v":4321},{"$f":"IF(SISWA!C34=0,\"\",SISWA!C34)","v":"0061244045"},{"$f":"IF(SISWA!D34=0,\"\",SISWA!D34)","v":"1-18-05-80-162-027-7"},{"$f":"IF(SISWA!E34=0,\"\",SISWA!E34)","v":"MUHAMMAD SEPTYAN EKA PRATAMA"},77,78,78,76,83,78.400000000000006,65,78.400000000000006,71.7,71.7]
[28,{"$f":"IF(SISWA!B35=0,\"\",SISWA!B35)","v":"4247"},{"$f":"IF(SISWA!C35=0,\"\",SISWA!C35)","v":"0053546157"},{"$f":"IF(SISWA!D35=0,\"\",SISWA!D35)","v":"1-18-05-80-162-028-6"},{"$f":"IF(SISWA!E35=0,\"\",SISWA!E35)","v":"MOCHAMAD ARIEL FRANS TITO"},71,63,75,67,76,70.400000000000006,70,70.400000000000006,70.2,70.2]
[29,{"$f":"IF(SISWA!B36=0,\"\",SISWA!B36)","v":4285},{"$f":"IF(SISWA!C36=0,\"\",SISWA!C36)","v":"0067871553"},{"$f":"IF(SISWA!D36=0,\"\",SISWA!D36)","v":"1-18-05-80-162-029-5"},{"$f":"IF(SISWA!E36=0,\"\",SISWA!E36)","v":"MUHAMMAD VERYANSYAH"},75,82,82,80,88,81.400000000000006,65,81.400000000000006,73.2,73.2]
[30,{"$f":"IF(SISWA!B37=0,\"\",SISWA!B37)","v":4310},{"$f":"IF(SISWA!C37=0,\"\",SISWA!C37)","v":"0066383678"},{"$f":"IF(SISWA!D37=0,\"\",SISWA!D37)","v":"1-18-05-80-162-030-4"},{"$f":"IF(SISWA!E37=0,\"\",SISWA!E37)","v":"MOCHAMMAD BIMA RISFANDA"},73,67,78,70,77,73,73.3,73,73.150000000000006,73.150000000000006]
[31,{"$f":"IF(SISWA!B38=0,\"\",SISWA!B38)","v":4286},{"$f":"IF(SISWA!C38=0,\"\",SISWA!C38)","v":"0064443822"},{"$f":"IF(SISWA!D38=0,\"\",SISWA!D38)","v":"1-18-05-80-162-031-3"},{"$f":"IF(SISWA!E38=0,\"\",SISWA!E38)","v":"MUHAMMAD ZIDNY NA'IM"},82,89,86,81,92,86,65,86,75.5,75.5]
[32,{"$f":"IF(SISWA!B39=0,\"\",SISWA!B39)","v":4282},{"$f":"IF(SISWA!C39=0,\"\",SISWA!C39)","v":"0068336765"},{"$f":"IF(SISWA!D39=0,\"\",SISWA!D39)","v":"1-18-05-80-162-032-2"},{"$f":"IF(SISWA!E39=0,\"\",SISWA!E39)","v":"MUHAMMAD AGUS FERDIANSYAH"},78,73,80,78,83,78.400000000000006,65,78.400000000000006,71.7,71.7]
[33,{"$f":"IF(SISWA!B40=0,\"\",SISWA!B40)","v":4287},{"$f":"IF(SISWA!C40=0,\"\",SISWA!C40)","v":"0064528717"},{"$f":"IF(SISWA!D40=0,\"\",SISWA!D40)","v":"1-18-05-80-162-033-9"},{"$f":"IF(SISWA!E40=0,\"\",SISWA!E40)","v":"MUHAMMAD FARDAN ABDILLAH"},77,null,79,83,null,79.666666666666671,65,79.666666666666671,72.333333333333343,72.333333333333343]
[34,{"$f":"IF(SISWA!B41=0,\"\",SISWA!B41)","v":4315},{"$f":"IF(SISWA!C41=0,\"\",SISWA!C41)","v":"0067870495"},{"$f":"IF(SISWA!D41=0,\"\",SISWA!D41)","v":"1-18-05-80-162-034-8"},{"$f":"IF(SISWA!E41=0,\"\",SISWA!E41)","v":"NABILA ARISKA PUTRI"},80,81,79,83,85,81.599999999999994,73.3,81.599999999999994,77.449999999999989,77.449999999999989]
[35,{"$f":"IF(SISWA!B42=0,\"\",SISWA!B42)","v":4288},{"$f":"IF(SISWA!C42=0,\"\",SISWA!C42)","v":"0068641191"},{"$f":"IF(SISWA!D42=0,\"\",SISWA!D42)","v":"1-18-05-80-162-035-7"},{"$f":"IF(SISWA!E42=0,\"\",SISWA!E42)","v":"MUHAMMAD FERDINAN JAYYIDAH RIFQI"},79,79,77,78,85,79.599999999999994,65,79.599999999999994,72.3,72.3]
[36,{"$f":"IF(SISWA!B43=0,\"\",SISWA!B43)","v":4283},{"$f":"IF(SISWA!C43=0,\"\",SISWA!C43)","v":"0077212388"},{"$f":"IF(SISWA!D43=0,\"\",SISWA!D43)","v":"1-18-05-80-162-036-6"},{"$f":"IF(SISWA!E43=0,\"\",SISWA!E43)","v":"NAFISA INDRIANI"},79,81,95,88,94,87.4,68.7,87.4,78.050000000000011,78.050000000000011]
[37,{"$f":"IF(SISWA!B44=0,\"\",SISWA!B44)","v":"4257"},{"$f":"IF(SISWA!C44=0,\"\",SISWA!C44)","v":"0069944706"},{"$f":"IF(SISWA!D44=0,\"\",SISWA!D44)","v":"1-18-05-80-162-037-5"},{"$f":"IF(SISWA!E44=0,\"\",SISWA!E44)","v":"MUHAMMAD FIRMANSYAH"},74,64,78,77,79,74.400000000000006,65,74.400000000000006,69.7,69.7]
[38,{"$f":"IF(SISWA!B45=0,\"\",SISWA!B45)","v":4317},{"$f":"IF(SISWA!C45=0,\"\",SISWA!C45)","v":"0068498059"},{"$f":"IF(SISWA!D45=0,\"\",SISWA!D45)","v":"1-18-05-80-162-038-4"},{"$f":"IF(SISWA!E45=0,\"\",SISWA!E45)","v":"NAJWA FARISYA BAROROH"},77,81,88,88,90,84.8,65,84.8,74.900000000000006,74.900000000000006]
[39,{"$f":"IF(SISWA!B46=0,\"\",SISWA!B46)","v":4289},{"$f":"IF(SISWA!C46=0,\"\",SISWA!C46)","v":"0065225517"},{"$f":"IF(SISWA!D46=0,\"\",SISWA!D46)","v":"1-18-05-80-162-039-3"},{"$f":"IF(SISWA!E46=0,\"\",SISWA!E46)","v":"NUR FITRIYAH"},75,75,84,83,87,80.8,65,80.8,72.900000000000006,72.900000000000006]
[40,{"$f":"IF(SISWA!B47=0,\"\",SISWA!B47)","v":4318},{"$f":"IF(SISWA!C47=0,\"\",SISWA!C47)","v":"0061441364"},{"$f":"IF(SISWA!D47=0,\"\",SISWA!D47)","v":"1-18-05-80-162-040-2"},{"$f":"IF(SISWA!E47=0,\"\",SISWA!E47)","v":"MUHAMMAD HILDAN DWI SAPUTRA"},73,74,76,75,78,75.2,65,75.2,70.099999999999994,70.099999999999994]
[41,{"$f":"IF(SISWA!B48=0,\"\",SISWA!B48)","v":4392},{"$f":"IF(SISWA!C48=0,\"\",SISWA!C48)","v":"0075794532"},{"$f":"IF(SISWA!D48=0,\"\",SISWA!D48)","v":"1-18-05-80-162-041-9"},{"$f":"IF(SISWA!E48=0,\"\",SISWA!E48)","v":"PUTRI NAFI'ATUS SOLIKHAH"},77,73,84,88,89,82.2,65,82.2,73.599999999999994,73.599999999999994]
[42,{"$f":"IF(SISWA!B49=0,\"\",SISWA!B49)","v":4284},{"$f":"IF(SISWA!C49=0,\"\",SISWA!C49)","v":"0069578000"},{"$f":"IF(SISWA!D49=0,\"\",SISWA!D49)","v":"1-18-05-80-162-042-8"},{"$f":"IF(SISWA!E49=0,\"\",SISWA!E49)","v":"MUHAMMAD RAYA KAFAF JAUHARI"},79,78,82,78,82,79.8,65,79.8,72.400000000000006,72.400000000000006]
[43,{"$f":"IF(SISWA!B50=0,\"\",SISWA!B50)","v":4290},{"$f":"IF(SISWA!C50=0,\"\",SISWA!C50)","v":"0063558216"},{"$f":"IF(SISWA!D50=0,\"\",SISWA!D50)","v":"1-18-05-80-162-043-7"},{"$f":"IF(SISWA!E50=0,\"\",SISWA!E50)","v":"QORIATUN SHOLIHAH"},78,76,79,78,85,79.2,65,79.2,72.099999999999994,{"$f":"N50","v":72.099999999999994}]
[44,{"$f":"IF(SISWA!B51=0,\"\",SISWA!B51)","v":4319},{"$f":"IF(SISWA!C51=0,\"\",SISWA!C51)","v":"0065329770"},{"$f":"IF(SISWA!D51=0,\"\",SISWA!D51)","v":"1-18-05-80-162-044-6"},{"$f":"IF(SISWA!E51=0,\"\",SISWA!E51)","v":"MUHAMMAD RUDI TANTOWIK"},71,68,77,70,75,72.2,65,72.2,68.599999999999994,68.599999999999994]
[45,{"$f":"IF(SISWA!B52=0,\"\",SISWA!B52)","v":4291},{"$f":"IF(SISWA!C52=0,\"\",SISWA!C52)","v":"0067071679"},{"$f":"IF(SISWA!D52=0,\"\",SISWA!D52)","v":"1-18-05-80-162-045-5"},{"$f":"IF(SISWA!E52=0,\"\",SISWA!E52)","v":"RACHMAD HIDAYAT"},75,77,79,72,83,77.2,65,77.2,71.099999999999994,71.099999999999994]
[46,{"$f":"IF(SISWA!B53=0,\"\",SISWA!B53)","v":4322},{"$f":"IF(SISWA!C53=0,\"\",SISWA!C53)","v":"0051101989"},{"$f":"IF(SISWA!D53=0,\"\",SISWA!D53)","v":"1-18-05-80-162-046-4"},{"$f":"IF(SISWA!E53=0,\"\",SISWA!E53)","v":"MUHAMMAD ZULDIENUR HABIBIE"},70,58,75,75,75,70.599999999999994,65,70.599999999999994,67.8,67.8]
[47,{"$f":"IF(SISWA!B54=0,\"\",SISWA!B54)","v":4292},{"$f":"IF(SISWA!C54=0,\"\",SISWA!C54)","v":"0072001696"},{"$f":"IF(SISWA!D54=0,\"\",SISWA!D54)","v":"1-18-05-80-162-047-3"},{"$f":"IF(SISWA!E54=0,\"\",SISWA!E54)","v":"RHEA RAYSHANADA NUGRAHA"},78,81,79,79,86,80.599999999999994,65,80.599999999999994,72.8,72.8]
[48,{"$f":"IF(SISWA!B55=0,\"\",SISWA!B55)","v":4323},{"$f":"IF(SISWA!C55=0,\"\",SISWA!C55)","v":"0078949167"},{"$f":"IF(SISWA!D55=0,\"\",SISWA!D55)","v":"1-18-05-80-162-048-2"},{"$f":"IF(SISWA!E55=0,\"\",SISWA!E55)","v":"MUKHAMAD KHOIRUL AMIN"},70,64,76,72,77,71.8,65,71.8,68.400000000000006,68.400000000000006]
[49,{"$f":"IF(SISWA!B56=0,\"\",SISWA!B56)","v":4293},{"$f":"IF(SISWA!C56=0,\"\",SISWA!C56)","v":"0064217705"},{"$f":"IF(SISWA!D56=0,\"\",SISWA!D56)","v":"1-18-05-80-162-049-9"},{"$f":"IF(SISWA!E56=0,\"\",SISWA!E56)","v":"RIYANTI APRILIA"},79,75,84,89,89,83.2,65,83.2,74.099999999999994,74.099999999999994]
[50,{"$f":"IF(SISWA!B57=0,\"\",SISWA!B57)","v":"4256"},{"$f":"IF(SISWA!C57=0,\"\",SISWA!C57)","v":"0065699742"},{"$f":"IF(SISWA!D57=0,\"\",SISWA!D57)","v":"1-18-05-80-162-050-8"},{"$f":"IF(SISWA!E57=0,\"\",SISWA!E57)","v":"MUKHAMMAD YAASIIN HASAN KHASBULLOH"},77,77,78,75,79,77.2,65,77.2,71.099999999999994,71.099999999999994]
[51,{"$f":"IF(SISWA!B58=0,\"\",SISWA!B58)","v":4295},{"$f":"IF(SISWA!C58=0,\"\",SISWA!C58)","v":"0061359184"},{"$f":"IF(SISWA!D58=0,\"\",SISWA!D58)","v":"1-18-05-80-162-051-7"},{"$f":"IF(SISWA!E58=0,\"\",SISWA!E58)","v":"SHONIA AULIA AS'AD"},81,89,81,90,97,87.6,65,87.6,76.3,76.3]
[52,{"$f":"IF(SISWA!B59=0,\"\",SISWA!B59)","v":4294},{"$f":"IF(SISWA!C59=0,\"\",SISWA!C59)","v":"0064723905"},{"$f":"IF(SISWA!D59=0,\"\",SISWA!D59)","v":"1-18-05-80-162-052-6"},{"$f":"IF(SISWA!E59=0,\"\",SISWA!E59)","v":"RIZKA AYU WULANDARI"},76,75,76,78,79,76.8,65,76.8,70.900000000000006,70.900000000000006]
[53,{"$f":"IF(SISWA!B60=0,\"\",SISWA!B60)","v":4298},{"$f":"IF(SISWA!C60=0,\"\",SISWA!C60)","v":"0065530554"},{"$f":"IF(SISWA!D60=0,\"\",SISWA!D60)","v":"1-18-05-80-162-053-5"},{"$f":"IF(SISWA!E60=0,\"\",SISWA!E60)","v":"VERLINA DWI MAULANI"},78,81,80,81,85,81,65,81,73,73]
[54,{"$f":"IF(SISWA!B61=0,\"\",SISWA!B61)","v":4297},{"$f":"IF(SISWA!C61=0,\"\",SISWA!C61)","v":"0063846732"},{"$f":"IF(SISWA!D61=0,\"\",SISWA!D61)","v":"1-18-05-80-162-054-4"},{"$f":"IF(SISWA!E61=0,\"\",SISWA!E61)","v":"USWATUN KHASANAH"},75,72,81,78,78,76.8,65,76.8,70.900000000000006,70.900000000000006]
[55,{"$f":"IF(SISWA!B62=0,\"\",SISWA!B62)","v":4324},{"$f":"IF(SISWA!C62=0,\"\",SISWA!C62)","v":"0078966795"},{"$f":"IF(SISWA!D62=0,\"\",SISWA!D62)","v":"1-18-05-80-162-055-3"},{"$f":"IF(SISWA!E62=0,\"\",SISWA!E62)","v":"VIKA KUSUMA WATI"},79,78,80,84,87,81.599999999999994,65,81.599999999999994,73.3,73.3]
[56,{"$f":"IF(SISWA!B63=0,\"\",SISWA!B63)","v":4326},{"$f":"IF(SISWA!C63=0,\"\",SISWA!C63)","v":"0064124533"},{"$f":"IF(SISWA!D63=0,\"\",SISWA!D63)","v":"1-18-05-80-162-056-2"},{"$f":"IF(SISWA!E63=0,\"\",SISWA!E63)","v":"YOHAN EGA GILANG PERMANA"},71,null,75,75,76,74.25,65,74.25,69.625,69.625]
[57,{"$f":"IF(SISWA!B64=0,\"\",SISWA!B64)","v":""},{"$f":"IF(SISWA!C64=0,\"\",SISWA!C64)","v":""},{"$f":"IF(SISWA!D64=0,\"\",SISWA!D64)","v":"1-18-05-80-162-057-9"},{"$f":"IF(SISWA!E64=0,\"\",SISWA!E64)","v":""},null,null,null,null,null,{"$f":"AVERAGE(F64:J64)","v":{"$error":"#DIV/0!"}},null,{"$f":"K64","v":{"$error":"#DIV/0!"}},{"$f":"AVERAGE(K64:L64)","v":{"$error":"#DIV/0!"}}]
[58,{"$f":"IF(SISWA!B65=0,\"\",SISWA!B65)","v":""},{"$f":"IF(SISWA!C65=0,\"\",SISWA!C65)","v":""},{"$f":"IF(SISWA!D65=0,\"\",SISWA!D65)","v":"1-18-05-80-162-058-8"},{"$f":"IF(SISWA!E65=0,\"\",SISWA!E65)","v":""},null,null,null,null,null,{"$error":"#DIV/0!"},null,null,{"$error":"#DIV/0!"}]
[59,{"$f":"IF(SISWA!B66=0,\"\",SISWA!B66)","v":""},{"$f":"IF(SISWA!C66=0,\"\",SISWA!C66)","v":""},{"$f":"IF(SISWA!D66=0,\"\",SISWA!D66)","v":"1-18-05-80-162-059-7"},{"$f":"IF(SISWA!E66=0,\"\",SISWA!E66)","v":""},null,null,null,null,null,{"$error":"#DIV/0!"},null,null,{"$error":"#DIV/0!"}]
[60,{"$f":"IF(SISWA!B67=0,\"\",SISWA!B67)","v":""},{"$f":"IF(SISWA!C67=0,\"\",SISWA!C67)","v":""},{"$f":"IF(SISWA!D67=0,\"\",SISWA!D67)","v":"1-18-05-80-162-060-6"},{"$f":"IF(SISWA!E67=0,\"\",SISWA!E67)","v":""},null,null,null,null,null,{"$error":"#DIV/0!"},null,null,{"$error":"#DIV/0!"}]
[61,{"$f":"IF(SISWA!B68=0,\"\",SISWA!B68)","v":""},{"$f":"IF(SISWA!C68=0,\"\",SISWA!C68)","v":""},{"$f":"IF(SISWA!D68=0,\"\",SISWA!D68)","v":"1-18-05-80-162-061-5"},{"$f":"IF(SISWA!E68=0,\"\",SISWA!E68)","v":""},null,null,null,null,null,{"$error":"#DIV/0!"},null,null,{"$error":"#DIV/0!"}]
[62,{"$f":"IF(SISWA!B69=0,\"\",SISWA!B69)","v":""},{"$f":"IF(SISWA!C69=0,\"\",SISWA!C69)","v":""},{"$f":"IF(SISWA!D69=0,\"\",SISWA!D69)","v":"062-4"},{"$f":"IF(SISWA!E69=0,\"\",SISWA!E69)","v":""},null,null,null,null,null,{"$error":"#DIV/0!"},null,null,{"$error":"#DIV/0!"}]
[63,{"$f":"IF(SISWA!B70=0,\"\",SISWA!B70)","v":""},{"$f":"IF(SISWA!C70=0,\"\",SISWA!C70)","v":""},{"$f":"IF(SISWA!D70=0,\"\",SISWA!D70)","v":"063-3"},{"$f":"IF(SISWA!E70=0,\"\",SISWA!E70)","v":""},null,null,null,null,null,{"$error":"#DIV/0!"},null,null,{"$error":"#DIV/0!"}]
[64,{"$f":"IF(SISWA!B71=0,\"\",SISWA!B71)","v":""},{"$f":"IF(SISWA!C71=0,\"\",SISWA!C71)","v":""},{"$f":"IF(SISWA!D71=0,\"\",SISWA!D71)","v":"064-2"},{"$f":"IF(SISWA!E71=0,\"\",SISWA!E71)","v":""},null,null,null,null,null,{"$error":"#DIV/0!"},null,null,{"$error":"#DIV/0!"}]
[65,{"$f":"IF(SISWA!B72=0,\"\",SISWA!B72)","v":""},{"$f":"IF(SISWA!C72=0,\"\",SISWA!C72)","v":""},{"$f":"IF(SISWA!D72=0,\"\",SISWA!D72)","v":"065-"},{"$f":"IF(SISWA!E72=0,\"\",SISWA!E72)","v":""},null,null,null,null,null,{"$error":"#DIV/0!"},null,null,{"$error":"#DIV/0!"}]
[66,{"$f":"IF(SISWA!B73=0,\"\",SISWA!B73)","v":""},{"$f":"IF(SISWA!C73=0,\"\",SISWA!C73)","v":""},{"$f":"IF(SISWA!D73=0,\"\",SISWA!D73)","v":"066-"},{"$f":"IF(SISWA!E73=0,\"\",SISWA!E73)","v":""},null,null,null,null,null,{"$f":"AVERAGE(F73:J73)","v":{"$error":"#DIV/0!"}},null,null,{"$f":"AVERAGE(K73:L73)","v":{"$error":"#DIV/0!"}}]
[67,{"$f":"IF(SISWA!B74=0,\"\",SISWA!B74)","v":""},{"$f":"IF(SISWA!C74=0,\"\",SISWA!C74)","v":""},{"$f":"IF(SISWA!D74=0,\"\",SISWA!D74)","v":"067-"},{"$f":"IF(SISWA!E74=0,\"\",SISWA!E74)","v":""},null,null,null,null,null,{"$error":"#DIV/0!"},null,null,{"$error":"#DIV/0!"}]
[68,{"$f":"IF(SISWA!B75=0,\"\",SISWA!B75)","v":""},{"$f":"IF(SISWA!C75=0,\"\",SISWA!C75)","v":""},{"$f":"IF(SISWA!D75=0,\"\",SISWA!D75)","v":"068-"},{"$f":"IF(SISWA!E75=0,\"\",SISWA!E75)","v":""},null,null,null,null,null,{"$error":"#DIV/0!"},null,null,{"$error":"#DIV/0!"}]
[69,{"$f":"IF(SISWA!B76=0,\"\",SISWA!B76)","v":""},{"$f":"IF(SISWA!C76=0,\"\",SISWA!C76)","v":""},{"$f":"IF(SISWA!D76=0,\"\",SISWA!D76)","v":"069-"},{"$f":"IF(SISWA!E76=0,\"\",SISWA!E76)","v":""},null,null,null,null,null,{"$error":"#DIV/0!"},null,null,{"$error":"#DIV/0!"}]
[70,{"$f":"IF(SISWA!B77=0,\"\",SISWA!B77)","v":""},{"$f":"IF(SISWA!C77=0,\"\",SISWA!C77)","v":""},{"$f":"IF(SISWA!D77=0,\"\",SISWA!D77)","v":"070-"},{"$f":"IF(SISWA!E77=0,\"\",SISWA!E77)","v":""},null,null,null,null,null,{"$error":"#DIV/0!"},null,null,{"$error":"#DIV/0!"}]
[71,{"$f":"IF(SISWA!B78=0,\"\",SISWA!B78)","v":""},{"$f":"IF(SISWA!C78=0,\"\",SISWA!C78)","v":""},{"$f":"IF(SISWA!D78=0,\"\",SISWA!D78)","v":"071-"},{"$f":"IF(SISWA!E78=0,\"\",SISWA!E78)","v":""},null,null,null,null,null,{"$error":"#DIV/0!"},null,null,{"$error":"#DIV/0!"}]
[72,{"$f":"IF(SISWA!B79=0,\"\",SISWA!B79)","v":""},{"$f":"IF(SISWA!C79=0,\"\",SISWA!C79)","v":""},{"$f":"IF(SISWA!D79=0,\"\",SISWA!D79)","v":"072-"},{"$f":"IF(SISWA!E79=0,\"\",SISWA!E79)","v":""},null,null,null,null,null,{"$error":"#DIV/0!"},null,null,{"$error":"#DIV/0!"}]
[73,{"$f":"IF(SISWA!B80=0,\"\",SISWA!B80)","v":""},{"$f":"IF(SISWA!C80=0,\"\",SISWA!C80)","v":""},{"$f":"IF(SISWA!D80=0,\"\",SISWA!D80)","v":"073-"},{"$f":"IF(SISWA!E80=0,\"\",SISWA!E80)","v":""},null,null,null,null,null,{"$error":"#DIV/0!"},null,null,{"$error":"#DIV/0!"}]
[74,{"$f":"IF(SISWA!B81=0,\"\",SISWA!B81)","v":""},{"$f":"IF(SISWA!C81=0,\"\",SISWA!C81)","v":""},{"$f":"IF(SISWA!D81=0,\"\",SISWA!D81)","v":"074-"},{"$f":"IF(SISWA!E81=0,\"\",SISWA!E81)","v":""},null,null,null,null,null,{"$error":"#DIV/0!"},null,null,{"$error":"#DIV/0!"}]
[75,{"$f":"IF(SISWA!B82=0,\"\",SISWA!B82)","v":""},{"$f":"IF(SISWA!C82=0,\"\",SISWA!C82)","v":""},{"$f":"IF(SISWA!D82=0,\"\",SISWA!D82)","v":"075-"},{"$f":"IF(SISWA!E82=0,\"\",SISWA!E82)","v":""},null,null,null,null,null,{"$error":"#DIV/0!"},null,null,{"$error":"#DIV/0!"}]
[76,{"$f":"IF(SISWA!B83=0,\"\",SISWA!B83)","v":""},{"$f":"IF(SISWA!C83=0,\"\",SISWA!C83)","v":""},{"$f":"IF(SISWA!D83=0,\"\",SISWA!D83)","v":"076-"},{"$f":"IF(SISWA!E83=0,\"\",SISWA!E83)","v":""},null,null,null,null,null,{"$error":"#DIV/0!"},null,null,{"$error":"#DIV/0!"}]
[77,{"$f":"IF(SISWA!B84=0,\"\",SISWA!B84)","v":""},{"$f":"IF(SISWA!C84=0,\"\",SISWA!C84)","v":""},{"$f":"IF(SISWA!D84=0,\"\",SISWA!D84)","v":"077-"},{"$f":"IF(SISWA!E84=0,\"\",SISWA!E84)","v":""},null,null,null,null,null,{"$error":"#DIV/0!"},null,null,{"$error":"#DIV/0!"}]
[78,{"$f":"IF(SISWA!B85=0,\"\",SISWA!B85)","v":""},{"$f":"IF(SISWA!C85=0,\"\",SISWA!C85)","v":""},{"$f":"IF(SISWA!D85=0,\"\",SISWA!D85)","v":"078-"},{"$f":"IF(SISWA!E85=0,\"\",SISWA!E85)","v":""},null,null,null,null,null,{"$error":"#DIV/0!"},null,null,{"$error":"#DIV/0!"}]
[79,{"$f":"IF(SISWA!B86=0,\"\",SISWA!B86)","v":""},{"$f":"IF(SISWA!C86=0,\"\",SISWA!C86)","v":""},{"$f":"IF(SISWA!D86=0,\"\",SISWA!D86)","v":"079-"},{"$f":"IF(SISWA!E86=0,\"\",SISWA!E86)","v":""},null,null,null,null,null,{"$error":"#DIV/0!"},null,null,{"$error":"#DIV/0!"}]
[80,{"$f":"IF(SISWA!B87=0,\"\",SISWA!B87)","v":""},{"$f":"IF(SISWA!C87=0,\"\",SISWA!C87)","v":""},{"$f":"IF(SISWA!D87=0,\"\",SISWA!D87)","v":"080-"},{"$f":"IF(SISWA!E87=0,\"\",SISWA!E87)","v":""},null,null,null,null,null,{"$error":"#DIV/0!"},null,null,{"$error":"#DIV/0!"}]
[81,{"$f":"IF(SISWA!B88=0,\"\",SISWA!B88)","v":""},{"$f":"IF(SISWA!C88=0,\"\",SISWA!C88)","v":""},{"$f":"IF(SISWA!D88=0,\"\",SISWA!D88)","v":"081-"},{"$f":"IF(SISWA!E88=0,\"\",SISWA!E88)","v":""},null,null,null,null,null,{"$error":"#DIV/0!"},null,null,{"$error":"#DIV/0!"}]
[82,{"$f":"IF(SISWA!B89=0,\"\",SISWA!B89)","v":""},{"$f":"IF(SISWA!C89=0,\"\",SISWA!C89)","v":""},{"$f":"IF(SISWA!D89=0,\"\",SISWA!D89)","v":"082-"},{"$f":"IF(SISWA!E89=0,\"\",SISWA!E89)","v":""},null,null,null,null,null,{"$error":"#DIV/0!"},null,null,{"$error":"#DIV/0!"}]
[83,{"$f":"IF(SISWA!B90=0,\"\",SISWA!B90)","v":""},{"$f":"IF(SISWA!C90=0,\"\",SISWA!C90)","v":""},{"$f":"IF(SISWA!D90=0,\"\",SISWA!D90)","v":"083-"},{"$f":"IF(SISWA!E90=0,\"\",SISWA!E90)","v":""},null,null,null,null,null,{"$error":"#DIV/0!"},null,null,{"$error":"#DIV/0!"}]
[84,{"$f":"IF(SISWA!B91=0,\"\",SISWA!B91)","v":""},{"$f":"IF(SISWA!C91=0,\"\",SISWA!C91)","v":""},{"$f":"IF(SISWA!D91=0,\"\",SISWA!D91)","v":"084-"},{"$f":"IF(SISWA!E91=0,\"\",SISWA!E91)","v":""},null,null,null,null,null,{"$error":"#DIV/0!"},null,null,{"$error":"#DIV/0!"}]
[85,{"$f":"IF(SISWA!B92=0,\"\",SISWA!B92)","v":""},{"$f":"IF(SISWA!C92=0,\"\",SISWA!C92)","v":""},{"$f":"IF(SISWA!D92=0,\"\",SISWA!D92)","v":"085-"},{"$f":"IF(SISWA!E92=0,\"\",SISWA!E92)","v":""},null,null,null,null,null,{"$error":"#DIV/0!"},null,null,{"$error":"#DIV/0!"}]
[86,{"$f":"IF(SISWA!B93=0,\"\",SISWA!B93)","v":""},{"$f":"IF(SISWA!C93=0,\"\",SISWA!C93)","v":""},{"$f":"IF(SISWA!D93=0,\"\",SISWA!D93)","v":"086-"},{"$f":"IF(SISWA!E93=0,\"\",SISWA!E93)","v":""},null,null,null,null,null,{"$error":"#DIV/0!"},null,null,{"$error":"#DIV/0!"}]
[87,{"$f":"IF(SISWA!B94=0,\"\",SISWA!B94)","v":""},{"$f":"IF(SISWA!C94=0,\"\",SISWA!C94)","v":""},{"$f":"IF(SISWA!D94=0,\"\",SISWA!D94)","v":"087-"},{"$f":"IF(SISWA!E94=0,\"\",SISWA!E94)","v":""},null,null,null,null,null,{"$error":"#DIV/0!"},null,null,{"$error":"#DIV/0!"}]
[88,{"$f":"IF(SISWA!B95=0,\"\",SISWA!B95)","v":""},{"$f":"IF(SISWA!C95=0,\"\",SISWA!C95)","v":""},{"$f":"IF(SISWA!D95=0,\"\",SISWA!D95)","v":"088-"},{"$f":"IF(SISWA!E95=0,\"\",SISWA!E95)","v":""},null,null,null,null,null,{"$error":"#DIV/0!"},null,null,{"$error":"#DIV/0!"}]
[89,{"$f":"IF(SISWA!B96=0,\"\",SISWA!B96)","v":""},{"$f":"IF(SISWA!C96=0,\"\",SISWA!C96)","v":""},{"$f":"IF(SISWA!D96=0,\"\",SISWA!D96)","v":"089-"},{"$f":"IF(SISWA!E96=0,\"\",SISWA!E96)","v":""},null,null,null,null,null,{"$error":"#DIV/0!"},null,null,{"$error":"#DIV/0!"}]
[90,{"$f":"IF(SISWA!B97=0,\"\",SISWA!B97)","v":""},{"$f":"IF(SISWA!C97=0,\"\",SISWA!C97)","v":""},{"$f":"IF(SISWA!D97=0,\"\",SISWA!D97)","v":"090-"},{"$f":"IF(SISWA!E97=0,\"\",SISWA!E97)","v":""},null,null,null,null,null,{"$error":"#DIV/0!"},null,null,{"$error":"#DIV/0!"}]
[91,{"$f":"IF(SISWA!B98=0,\"\",SISWA!B98)","v":""},{"$f":"IF(SISWA!C98=0,\"\",SISWA!C98)","v":""},{"$f":"IF(SISWA!D98=0,\"\",SISWA!D98)","v":"091-"},{"$f":"IF(SISWA!E98=0,\"\",SISWA!E98)","v":""},null,null,null,null,null,{"$error":"#DIV/0!"},null,null,{"$error":"#DIV/0!"}]
[92,{"$f":"IF(SISWA!B99=0,\"\",SISWA!B99)","v":""},{"$f":"IF(SISWA!C99=0,\"\",SISWA!C99)","v":""},{"$f":"IF(SISWA!D99=0,\"\",SISWA!D99)","v":"092-"},{"$f":"IF(SISWA!E99=0,\"\",SISWA!E99)","v":""},null,null,null,null,null,{"$error":"#DIV/0!"},null,null,{"$error":"#DIV/0!"}]
[93,{"$f":"IF(SISWA!B100=0,\"\",SISWA!B100)","v":""},{"$f":"IF(SISWA!C100=0,\"\",SISWA!C100)","v":""},{"$f":"IF(SISWA!D100=0,\"\",SISWA!D100)","v":"093-"},{"$f":"IF(SISWA!E100=0,\"\",SISWA!E100)","v":""},null,null,null,null,null,{"$error":"#DIV/0!"},null,null,{"$error":"#DIV/0!"}]
[94,{"$f":"IF(SISWA!B101=0,\"\",SISWA!B101)","v":""},{"$f":"IF(SISWA!C101=0,\"\",SISWA!C101)","v":""},{"$f":"IF(SISWA!D101=0,\"\",SISWA!D101)","v":"094-"},{"$f":"IF(SISWA!E101=0,\"\",SISWA!E101)","v":""},null,null,null,null,null,{"$error":"#DIV/0!"},null,null,{"$error":"#DIV/0!"}]
[95,{"$f":"IF(SISWA!B102=0,\"\",SISWA!B102)","v":""},{"$f":"IF(SISWA!C102=0,\"\",SISWA!C102)","v":""},{"$f":"IF(SISWA!D102=0,\"\",SISWA!D102)","v":"095-"},{"$f":"IF(SISWA!E102=0,\"\",SISWA!E102)","v":""},null,null,null,null,null,{"$error":"#DIV/0!"},null,null,{"$error":"#DIV/0!"}]
[96,{"$f":"IF(SISWA!B103=0,\"\",SISWA!B103)","v":""},{"$f":"IF(SISWA!C103=0,\"\",SISWA!C103)","v":""},{"$f":"IF(SISWA!D103=0,\"\",SISWA!D103)","v":"096-"},{"$f":"IF(SISWA!E103=0,\"\",SISWA!E103)","v":""},null,null,null,null,null,{"$error":"#DIV/0!"},null,null,{"$error":"#DIV/0!"}]
[97,{"$f":"IF(SISWA!B104=0,\"\",SISWA!B104)","v":""},{"$f":"IF(SISWA!C104=0,\"\",SISWA!C104)","v":""},{"$f":"IF(SISWA!D104=0,\"\",SISWA!D104)","v":"097-"},{"$f":"IF(SISWA!E104=0,\"\",SISWA!E104)","v":""},null,null,null,null,null,{"$error":"#DIV/0!"},null,null,{"$error":"#DIV/0!"}]
[98,{"$f":"IF(SISWA!B105=0,\"\",SISWA!B105)","v":""},{"$f":"IF(SISWA!C105=0,\"\",SISWA!C105)","v":""},{"$f":"IF(SISWA!D105=0,\"\",SISWA!D105)","v":"098-"},{"$f":"IF(SISWA!E105=0,\"\",SISWA!E105)","v":""},null,null,null,null,null,{"$error":"#DIV/0!"},null,null,{"$error":"#DIV/0!"}]
[99,{"$f":"IF(SISWA!B106=0,\"\",SISWA!B106)","v":""},{"$f":"IF(SISWA!C106=0,\"\",SISWA!C106)","v":""},{"$f":"IF(SISWA!D106=0,\"\",SISWA!D106)","v":"099-"},{"$f":"IF(SISWA!E106=0,\"\",SISWA!E106)","v":""},null,null,null,null,null,{"$error":"#DIV/0!"},null,null,{"$error":"#DIV/0!"}]
[100,{"$f":"IF(SISWA!B107=0,\"\",SISWA!B107)","v":""},{"$f":"IF(SISWA!C107=0,\"\",SISWA!C107)","v":""},{"$f":"IF(SISWA!D107=0,\"\",SISWA!D107)","v":"100-"},{"$f":"IF(SISWA!E107=0,\"\",SISWA!E107)","v":""},null,null,null,null,null,{"$error":"#DIV/0!"},null,null,{"$error":"#DIV/0!"}]
[101,{"$f":"IF(SISWA!B108=0,\"\",SISWA!B108)","v":""},{"$f":"IF(SISWA!C108=0,\"\",SISWA!C108)","v":""},{"$f":"IF(SISWA!D108=0,\"\",SISWA!D108)","v":"101-"},{"$f":"IF(SISWA!E108=0,\"\",SISWA!E108)","v":""},null,null,null,null,null,{"$error":"#DIV/0!"},null,null,{"$error":"#DIV/0!"}]
[102,{"$f":"IF(SISWA!B109=0,\"\",SISWA!B109)","v":""},{"$f":"IF(SISWA!C109=0,\"\",SISWA!C109)","v":""},{"$f":"IF(SISWA!D109=0,\"\",SISWA!D109)","v":"102-"},{"$f":"IF(SISWA!E109=0,\"\",SISWA!E109)","v":""},null,null,null,null,null,{"$error":"#DIV/0!"},null,null,{"$error":"#DIV/0!"}]
[103,{"$f":"IF(SISWA!B110=0,\"\",SISWA!B110)","v":""},{"$f":"IF(SISWA!C110=0,\"\",SISWA!C110)","v":""},{"$f":"IF(SISWA!D110=0,\"\",SISWA!D110)","v":"103-"},{"$f":"IF(SISWA!E110=0,\"\",SISWA!E110)","v":""},null,null,null,null,null,{"$error":"#DIV/0!"},null,null,{"$error":"#DIV/0!"}]
[104,{"$f":"IF(SISWA!B111=0,\"\",SISWA!B111)","v":""},{"$f":"IF(SISWA!C111=0,\"\",SISWA!C111)","v":""},{"$f":"IF(SISWA!D111=0,\"\",SISWA!D111)","v":"104-"},{"$f":"IF(SISWA!E111=0,\"\",SISWA!E111)","v":""},null,null,null,null,null,{"$error":"#DIV/0!"},null,null,{"$error":"#DIV/0!"}]
[105,{"$f":"IF(SISWA!B112=0,\"\",SISWA!B112)","v":""},{"$f":"IF(SISWA!C112=0,\"\",SISWA!C112)","v":""},{"$f":"IF(SISWA!D112=0,\"\",SISWA!D112)","v":"105-"},{"$f":"IF(SISWA!E112=0,\"\",SISWA!E112)","v":""},null,null,null,null,null,{"$error":"#DIV/0!"},null,null,{"$error":"#DIV/0!"}]
[106,{"$f":"IF(SISWA!B113=0,\"\",SISWA!B113)","v":""},{"$f":"IF(SISWA!C113=0,\"\",SISWA!C113)","v":""},{"$f":"IF(SISWA!D113=0,\"\",SISWA!D113)","v":"106-"},{"$f":"IF(SISWA!E113=0,\"\",SISWA!E113)","v":""},null,null,null,null,null,{"$error":"#DIV/0!"},null,null,{"$error":"#DIV/0!"}]
[107,{"$f":"IF(SISWA!B114=0,\"\",SISWA!B114)","v":""},{"$f":"IF(SISWA!C114=0,\"\",SISWA!C114)","v":""},{"$f":"IF(SISWA!D114=0,\"\",SISWA!D114)","v":"107-"},{"$f":"IF(SISWA!E114=0,\"\",SISWA!E114)","v":""},null,null,null,null,null,{"$error":"#DIV/0!"},null,null,{"$error":"#DIV/0!"}]
[108,{"$f":"IF(SISWA!B115=0,\"\",SISWA!B115)","v":""},{"$f":"IF(SISWA!C115=0,\"\",SISWA!C115)","v":""},{"$f":"IF(SISWA!D115=0,\"\",SISWA!D115)","v":"108-"},{"$f":"IF(SISWA!E115=0,\"\",SISWA!E115)","v":""},null,null,null,null,null,{"$error":"#DIV/0!"},null,null,{"$error":"#DIV/0!"}]
[109,{"$f":"IF(SISWA!B116=0,\"\",SISWA!B116)","v":""},{"$f":"IF(SISWA!C116=0,\"\",SISWA!C116)","v":""},{"$f":"IF(SISWA!D116=0,\"\",SISWA!D116)","v":"109-"},{"$f":"IF(SISWA!E116=0,\"\",SISWA!E116)","v":""},null,null,null,null,null,{"$error":"#DIV/0!"},null,null,{"$error":"#DIV/0!"}]
[110,{"$f":"IF(SISWA!B117=0,\"\",SISWA!B117)","v":""},{"$f":"IF(SISWA!C117=0,\"\",SISWA!C117)","v":""},{"$f":"IF(SISWA!D117=0,\"\",SISWA!D117)","v":"110-"},{"$f":"IF(SISWA!E117=0,\"\",SISWA!E117)","v":""},null,null,null,null,null,{"$error":"#DIV/0!"},null,null,{"$error":"#DIV/0!"}]
[111,{"$f":"IF(SISWA!B118=0,\"\",SISWA!B118)","v":""},{"$f":"IF(SISWA!C118=0,\"\",SISWA!C118)","v":""},{"$f":"IF(SISWA!D118=0,\"\",SISWA!D118)","v":"111-"},{"$f":"IF(SISWA!E118=0,\"\",SISWA!E118)","v":""},null,null,null,null,null,{"$error":"#DIV/0!"},null,null,{"$error":"#DIV/0!"}]
[112,{"$f":"IF(SISWA!B119=0,\"\",SISWA!B119)","v":""},{"$f":"IF(SISWA!C119=0,\"\",SISWA!C119)","v":""},{"$f":"IF(SISWA!D119=0,\"\",SISWA!D119)","v":"112-"},{"$f":"IF(SISWA!E119=0,\"\",SISWA!E119)","v":""},null,null,null,null,null,{"$error":"#DIV/0!"},null,null,{"$error":"#DIV/0!"}]
[113,{"$f":"IF(SISWA!B120=0,\"\",SISWA!B120)","v":""},{"$f":"IF(SISWA!C120=0,\"\",SISWA!C120)","v":""},{"$f":"IF(SISWA!D120=0,\"\",SISWA!D120)","v":"113-"},{"$f":"IF(SISWA!E120=0,\"\",SISWA!E120)","v":""},null,null,null,null,null,{"$error":"#DIV/0!"},null,null,{"$error":"#DIV/0!"}]
[114,{"$f":"IF(SISWA!B121=0,\"\",SISWA!B121)","v":""},{"$f":"IF(SISWA!C121=0,\"\",SISWA!C121)","v":""},{"$f":"IF(SISWA!D121=0,\"\",SISWA!D121)","v":"114-"},{"$f":"IF(SISWA!E121=0,\"\",SISWA!E121)","v":""},null,null,null,null,null,{"$error":"#DIV/0!"},null,null,{"$error":"#DIV/0!"}]
[115,{"$f":"IF(SISWA!B122=0,\"\",SISWA!B122)","v":""},{"$f":"IF(SISWA!C122=0,\"\",SISWA!C122)","v":""},{"$f":"IF(SISWA!D122=0,\"\",SISWA!D122)","v":"115-"},{"$f":"IF(SISWA!E122=0,\"\",SISWA!E122)","v":""},null,null,null,null,null,{"$error":"#DIV/0!"},null,null,{"$error":"#DIV/0!"}]
[116,{"$f":"IF(SISWA!B123=0,\"\",SISWA!B123)","v":""},{"$f":"IF(SISWA!C123=0,\"\",SISWA!C123)","v":""},{"$f":"IF(SISWA!D123=0,\"\",SISWA!D123)","v":"116-"},{"$f":"IF(SISWA!E123=0,\"\",SISWA!E123)","v":""},null,null,null,null,null,{"$error":"#DIV/0!"},null,null,{"$error":"#DIV/0!"}]
[117,{"$f":"IF(SISWA!B124=0,\"\",SISWA!B124)","v":""},{"$f":"IF(SISWA!C124=0,\"\",SISWA!C124)","v":""},{"$f":"IF(SISWA!D124=0,\"\",SISWA!D124)","v":"117-"},{"$f":"IF(SISWA!E124=0,\"\",SISWA!E124)","v":""},null,null,null,null,null,{"$error":"#DIV/0!"},null,null,{"$error":"#DIV/0!"}]
[118,{"$f":"IF(SISWA!B125=0,\"\",SISWA!B125)","v":""},{"$f":"IF(SISWA!C125=0,\"\",SISWA!C125)","v":""},{"$f":"IF(SISWA!D125=0,\"\",SISWA!D125)","v":"118-"},{"$f":"IF(SISWA!E125=0,\"\",SISWA!E125)","v":""},null,null,null,null,null,{"$error":"#DIV/0!"},null,null,{"$error":"#DIV/0!"}]
[119,{"$f":"IF(SISWA!B126=0,\"\",SISWA!B126)","v":""},{"$f":"IF(SISWA!C126=0,\"\",SISWA!C126)","v":""},{"$f":"IF(SISWA!D126=0,\"\",SISWA!D126)","v":"119-"},{"$f":"IF(SISWA!E126=0,\"\",SISWA!E126)","v":""},null,null,null,null,null,{"$error":"#DIV/0!"},null,null,{"$error":"#DIV/0!"}]
[120,{"$f":"IF(SISWA!B127=0,\"\",SISWA!B127)","v":""},{"$f":"IF(SISWA!C127=0,\"\",SISWA!C127)","v":""},{"$f":"IF(SISWA!D127=0,\"\",SISWA!D127)","v":"120-"},{"$f":"IF(SISWA!E127=0,\"\",SISWA!E127)","v":""},null,null,null,null,null,{"$error":"#DIV/0!"},null,null,{"$error":"#DIV/0!"}]
[121,{"$f":"IF(SISWA!B128=0,\"\",SISWA!B128)","v":""},{"$f":"IF(SISWA!C128=0,\"\",SISWA!C128)","v":""},{"$f":"IF(SISWA!D128=0,\"\",SISWA!D128)","v":"121-"},{"$f":"IF(SISWA!E128=0,\"\",SISWA!E128)","v":""},null,null,null,null,null,{"$error":"#DIV/0!"},null,null,{"$error":"#DIV/0!"}]
[122,{"$f":"IF(SISWA!B129=0,\"\",SISWA!B129)","v":""},{"$f":"IF(SISWA!C129=0,\"\",SISWA!C129)","v":""},{"$f":"IF(SISWA!D129=0,\"\",SISWA!D129)","v":"122-"},{"$f":"IF(SISWA!E129=0,\"\",SISWA!E129)","v":""},null,null,null,null,null,{"$error":"#DIV/0!"},null,null,{"$error":"#DIV/0!"}]
[123,{"$f":"IF(SISWA!B130=0,\"\",SISWA!B130)","v":""},{"$f":"IF(SISWA!C130=0,\"\",SISWA!C130)","v":""},{"$f":"IF(SISWA!D130=0,\"\",SISWA!D130)","v":"123-"},{"$f":"IF(SISWA!E130=0,\"\",SISWA!E130)","v":""},null,null,null,null,null,{"$error":"#DIV/0!"},null,null,{"$error":"#DIV/0!"}]
[124,{"$f":"IF(SISWA!B131=0,\"\",SISWA!B131)","v":""},{"$f":"IF(SISWA!C131=0,\"\",SISWA!C131)","v":""},{"$f":"IF(SISWA!D131=0,\"\",SISWA!D131)","v":"124-"},{"$f":"IF(SISWA!E131=0,\"\",SISWA!E131)","v":""},null,null,null,null,null,{"$error":"#DIV/0!"},null,null,{"$error":"#DIV/0!"}]
[125,{"$f":"IF(SISWA!B132=0,\"\",SISWA!B132)","v":""},{"$f":"IF(SISWA!C132=0,\"\",SISWA!C132)","v":""},{"$f":"IF(SISWA!D132=0,\"\",SISWA!D132)","v":"125-"},{"$f":"IF(SISWA!E132=0,\"\",SISWA!E132)","v":""},null,null,null,null,null,{"$error":"#DIV/0!"},null,null,{"$error":"#DIV/0!"}]
[126,{"$f":"IF(SISWA!B133=0,\"\",SISWA!B133)","v":""},{"$f":"IF(SISWA!C133=0,\"\",SISWA!C133)","v":""},{"$f":"IF(SISWA!D133=0,\"\",SISWA!D133)","v":"126-"},{"$f":"IF(SISWA!E133=0,\"\",SISWA!E133)","v":""},null,null,null,null,null,{"$error":"#DIV/0!"},null,null,{"$error":"#DIV/0!"}]
[127,{"$f":"IF(SISWA!B134=0,\"\",SISWA!B134)","v":""},{"$f":"IF(SISWA!C134=0,\"\",SISWA!C134)","v":""},{"$f":"IF(SISWA!D134=0,\"\",SISWA!D134)","v":"127-"},{"$f":"IF(SISWA!E134=0,\"\",SISWA!E134)","v":""},null,null,null,null,null,{"$error":"#DIV/0!"},null,null,{"$error":"#DIV/0!"}]
[128,{"$f":"IF(SISWA!B135=0,\"\",SISWA!B135)","v":""},{"$f":"IF(SISWA!C135=0,\"\",SISWA!C135)","v":""},{"$f":"IF(SISWA!D135=0,\"\",SISWA!D135)","v":"128-"},{"$f":"IF(SISWA!E135=0,\"\",SISWA!E135)","v":""},null,null,null,null,null,{"$error":"#DIV/0!"},null,null,{"$error":"#DIV/0!"}]
[129,{"$f":"IF(SISWA!B136=0,\"\",SISWA!B136)","v":""},{"$f":"IF(SISWA!C136=0,\"\",SISWA!C136)","v":""},{"$f":"IF(SISWA!D136=0,\"\",SISWA!D136)","v":"129-"},{"$f":"IF(SISWA!E136=0,\"\",SISWA!E136)","v":""},null,null,null,null,null,{"$error":"#DIV/0!"},null,null,{"$error":"#DIV/0!"}]
[130,{"$f":"IF(SISWA!B137=0,\"\",SISWA!B137)","v":""},{"$f":"IF(SISWA!C137=0,\"\",SISWA!C137)","v":""},{"$f":"IF(SISWA!D137=0,\"\",SISWA!D137)","v":"130-"},{"$f":"IF(SISWA!E137=0,\"\",SISWA!E137)","v":""},null,null,null,null,null,{"$f":"AVERAGE(F137:J137)","v":{"$error":"#DIV/0!"}},null,null,{"$f":"AVERAGE(K137:L137)","v":{"$error":"#DIV/0!"}}]
[131,{"$f":"IF(SISWA!B138=0,\"\",SISWA!B138)","v":""},{"$f":"IF(SISWA!C138=0,\"\",SISWA!C138)","v":""},{"$f":"IF(SISWA!D138=0,\"\",SISWA!D138)","v":"131-"},{"$f":"IF(SISWA!E138=0,\"\",SISWA!E138)","v":""},null,null,null,null,null,{"$error":"#DIV/0!"},null,null,{"$error":"#DIV/0!"}]
[132,{"$f":"IF(SISWA!B139=0,\"\",SISWA!B139)","v":""},{"$f":"IF(SISWA!C139=0,\"\",SISWA!C139)","v":""},{"$f":"IF(SISWA!D139=0,\"\",SISWA!D139)","v":"132-"},{"$f":"IF(SISWA!E139=0,\"\",SISWA!E139)","v":""},null,null,null,null,null,{"$error":"#DIV/0!"},null,null,{"$error":"#DIV/0!"}]
[133,{"$f":"IF(SISWA!B140=0,\"\",SISWA!B140)","v":""},{"$f":"IF(SISWA!C140=0,\"\",SISWA!C140)","v":""},{"$f":"IF(SISWA!D140=0,\"\",SISWA!D140)","v":"133-"},{"$f":"IF(SISWA!E140=0,\"\",SISWA!E140)","v":""},null,null,null,null,null,{"$error":"#DIV/0!"},null,null,{"$error":"#DIV/0!"}]
[134,{"$f":"IF(SISWA!B141=0,\"\",SISWA!B141)","v":""},{"$f":"IF(SISWA!C141=0,\"\",SISWA!C141)","v":""},{"$f":"IF(SISWA!D141=0,\"\",SISWA!D141)","v":"134-"},{"$f":"IF(SISWA!E141=0,\"\",SISWA!E141)","v":""},null,null,null,null,null,{"$error":"#DIV/0!"},null,null,{"$error":"#DIV/0!"}]
[135,{"$f":"IF(SISWA!B142=0,\"\",SISWA!B142)","v":""},{"$f":"IF(SISWA!C142=0,\"\",SISWA!C142)","v":""},{"$f":"IF(SISWA!D142=0,\"\",SISWA!D142)","v":"135-"},{"$f":"IF(SISWA!E142=0,\"\",SISWA!E142)","v":""},null,null,null,null,null,{"$error":"#DIV/0!"},null,null,{"$error":"#DIV/0!"}]
[136,{"$f":"IF(SISWA!B143=0,\"\",SISWA!B143)","v":""},{"$f":"IF(SISWA!C143=0,\"\",SISWA!C143)","v":""},{"$f":"IF(SISWA!D143=0,\"\",SISWA!D143)","v":"136-"},{"$f":"IF(SISWA!E143=0,\"\",SISWA!E143)","v":""},null,null,null,null,null,{"$error":"#DIV/0!"},null,null,{"$error":"#DIV/0!"}]
[137,{"$f":"IF(SISWA!B144=0,\"\",SISWA!B144)","v":""},{"$f":"IF(SISWA!C144=0,\"\",SISWA!C144)","v":""},{"$f":"IF(SISWA!D144=0,\"\",SISWA!D144)","v":"137-"},{"$f":"IF(SISWA!E144=0,\"\",SISWA!E144)","v":""},null,null,null,null,null,{"$error":"#DIV/0!"},null,null,{"$error":"#DIV/0!"}]
[138,{"$f":"IF(SISWA!B145=0,\"\",SISWA!B145)","v":""},{"$f":"IF(SISWA!C145=0,\"\",SISWA!C145)","v":""},{"$f":"IF(SISWA!D145=0,\"\",SISWA!D145)","v":"138-"},{"$f":"IF(SISWA!E145=0,\"\",SISWA!E145)","v":""},null,null,null,null,null,{"$error":"#DIV/0!"},null,null,{"$error":"#DIV/0!"}]
[139,{"$f":"IF(SISWA!B146=0,\"\",SISWA!B146)","v":""},{"$f":"IF(SISWA!C146=0,\"\",SISWA!C146)","v":""},{"$f":"IF(SISWA!D146=0,\"\",SISWA!D146)","v":"139-"},{"$f":"IF(SISWA!E146=0,\"\",SISWA!E146)","v":""},null,null,null,null,null,{"$error":"#DIV/0!"},null,null,{"$error":"#DIV/0!"}]
[140,{"$f":"IF(SISWA!B147=0,\"\",SISWA!B147)","v":""},{"$f":"IF(SISWA!C147=0,\"\",SISWA!C147)","v":""},{"$f":"IF(SISWA!D147=0,\"\",SISWA!D147)","v":"140-"},{"$f":"IF(SISWA!E147=0,\"\",SISWA!E147)","v":""},null,null,null,null,null,{"$error":"#DIV/0!"},null,null,{"$error":"#DIV/0!"}]
[141,{"$f":"IF(SISWA!B148=0,\"\",SISWA!B148)","v":""},{"$f":"IF(SISWA!C148=0,\"\",SISWA!C148)","v":""},{"$f":"IF(SISWA!D148=0,\"\",SISWA!D148)","v":"141-"},{"$f":"IF(SISWA!E148=0,\"\",SISWA!E148)","v":""},null,null,null,null,null,{"$error":"#DIV/0!"},null,null,{"$error":"#DIV/0!"}]
[142,{"$f":"IF(SISWA!B149=0,\"\",SISWA!B149)","v":""},{"$f":"IF(SISWA!C149=0,\"\",SISWA!C149)","v":""},{"$f":"IF(SISWA!D149=0,\"\",SISWA!D149)","v":"142-"},{"$f":"IF(SISWA!E149=0,\"\",SISWA!E149)","v":""},null,null,null,null,null,{"$error":"#DIV/0!"},null,null,{"$error":"#DIV/0!"}]
[143,{"$f":"IF(SISWA!B150=0,\"\",SISWA!B150)","v":""},{"$f":"IF(SISWA!C150=0,\"\",SISWA!C150)","v":""},{"$f":"IF(SISWA!D150=0,\"\",SISWA!D150)","v":"143-"},{"$f":"IF(SISWA!E150=0,\"\",SISWA!E150)","v":""},null,null,null,null,null,{"$error":"#DIV/0!"},null,null,{"$error":"#DIV/0!"}]
[144,{"$f":"IF(SISWA!B151=0,\"\",SISWA!B151)","v":""},{"$f":"IF(SISWA!C151=0,\"\",SISWA!C151)","v":""},{"$f":"IF(SISWA!D151=0,\"\",SISWA!D151)","v":"144-"},{"$f":"IF(SISWA!E151=0,\"\",SISWA!E151)","v":""},null,null,null,null,null,{"$error":"#DIV/0!"},null,null,{"$error":"#DIV/0!"}]
[145,{"$f":"IF(SISWA!B152=0,\"\",SISWA!B152)","v":""},{"$f":"IF(SISWA!C152=0,\"\",SISWA!C152)","v":""},{"$f":"IF(SISWA!D152=0,\"\",SISWA!D152)","v":"145-"},{"$f":"IF(SISWA!E152=0,\"\",SISWA!E152)","v":""},null,null,null,null,null,{"$error":"#DIV/0!"},null,null,{"$error":"#DIV/0!"}]
[146,{"$f":"IF(SISWA!B153=0,\"\",SISWA!B153)","v":""},{"$f":"IF(SISWA!C153=0,\"\",SISWA!C153)","v":""},{"$f":"IF(SISWA!D153=0,\"\",SISWA!D153)","v":"146-"},{"$f":"IF(SISWA!E153=0,\"\",SISWA!E153)","v":""},null,null,null,null,null,{"$error":"#DIV/0!"},null,null,{"$error":"#DIV/0!"}]
[147,{"$f":"IF(SISWA!B154=0,\"\",SISWA!B154)","v":""},{"$f":"IF(SISWA!C154=0,\"\",SISWA!C154)","v":""},{"$f":"IF(SISWA!D154=0,\"\",SISWA!D154)","v":"147-"},{"$f":"IF(SISWA!E154=0,\"\",SISWA!E154)","v":""},null,null,null,null,null,{"$error":"#DIV/0!"},null,null,{"$error":"#DIV/0!"}]
[148,{"$f":"IF(SISWA!B155=0,\"\",SISWA!B155)","v":""},{"$f":"IF(SISWA!C155=0,\"\",SISWA!C155)","v":""},{"$f":"IF(SISWA!D155=0,\"\",SISWA!D155)","v":"148-"},{"$f":"IF(SISWA!E155=0,\"\",SISWA!E155)","v":""},null,null,null,null,null,{"$error":"#DIV/0!"},null,null,{"$error":"#DIV/0!"}]
[149,{"$f":"IF(SISWA!B156=0,\"\",SISWA!B156)","v":""},{"$f":"IF(SISWA!C156=0,\"\",SISWA!C156)","v":""},{"$f":"IF(SISWA!D156=0,\"\",SISWA!D156)","v":"149-"},{"$f":"IF(SISWA!E156=0,\"\",SISWA!E156)","v":""},null,null,null,null,null,{"$error":"#DIV/0!"},null,null,{"$error":"#DIV/0!"}]
[150,{"$f":"IF(SISWA!B157=0,\"\",SISWA!B157)","v":""},{"$f":"IF(SISWA!C157=0,\"\",SISWA!C157)","v":""},{"$f":"IF(SISWA!D157=0,\"\",SISWA!D157)","v":"150-"},{"$f":"IF(SISWA!E157=0,\"\",SISWA!E157)","v":""},null,null,null,null,null,{"$error":"#DIV/0!"},null,null,{"$error":"#DIV/0!"}]
[151,{"$f":"IF(SISWA!B158=0,\"\",SISWA!B158)","v":""},{"$f":"IF(SISWA!C158=0,\"\",SISWA!C158)","v":""},{"$f":"IF(SISWA!D158=0,\"\",SISWA!D158)","v":"151-"},{"$f":"IF(SISWA!E158=0,\"\",SISWA!E158)","v":""},null,null,null,null,null,{"$error":"#DIV/0!"},null,null,{"$error":"#DIV/0!"}]
[152,{"$f":"IF(SISWA!B159=0,\"\",SISWA!B159)","v":""},{"$f":"IF(SISWA!C159=0,\"\",SISWA!C159)","v":""},{"$f":"IF(SISWA!D159=0,\"\",SISWA!D159)","v":"152-"},{"$f":"IF(SISWA!E159=0,\"\",SISWA!E159)","v":""},null,null,null,null,null,{"$error":"#DIV/0!"},null,null,{"$error":"#DIV/0!"}]
[153,{"$f":"IF(SISWA!B160=0,\"\",SISWA!B160)","v":""},{"$f":"IF(SISWA!C160=0,\"\",SISWA!C160)","v":""},{"$f":"IF(SISWA!D160=0,\"\",SISWA!D160)","v":"153-"},{"$f":"IF(SISWA!E160=0,\"\",SISWA!E160)","v":""},null,null,null,null,null,{"$error":"#DIV/0!"},null,null,{"$error":"#DIV/0!"}]
[154,{"$f":"IF(SISWA!B161=0,\"\",SISWA!B161)","v":""},{"$f":"IF(SISWA!C161=0,\"\",SISWA!C161)","v":""},{"$f":"IF(SISWA!D161=0,\"\",SISWA!D161)","v":"154-"},{"$f":"IF(SISWA!E161=0,\"\",SISWA!E161)","v":""},null,null,null,null,null,{"$error":"#DIV/0!"},null,null,{"$error":"#DIV/0!"}]
[155,{"$f":"IF(SISWA!B162=0,\"\",SISWA!B162)","v":""},{"$f":"IF(SISWA!C162=0,\"\",SISWA!C162)","v":""},{"$f":"IF(SISWA!D162=0,\"\",SISWA!D162)","v":"155-"},{"$f":"IF(SISWA!E162=0,\"\",SISWA!E162)","v":""},null,null,null,null,null,{"$error":"#DIV/0!"},null,null,{"$error":"#DIV/0!"}]
[156,{"$f":"IF(SISWA!B163=0,\"\",SISWA!B163)","v":""},{"$f":"IF(SISWA!C163=0,\"\",SISWA!C163)","v":""},{"$f":"IF(SISWA!D163=0,\"\",SISWA!D163)","v":"156-"},{"$f":"IF(SISWA!E163=0,\"\",SISWA!E163)","v":""},null,null,null,null,null,{"$error":"#DIV/0!"},null,null,{"$error":"#DIV/0!"}]
[157,{"$f":"IF(SISWA!B164=0,\"\",SISWA!B164)","v":""},{"$f":"IF(SISWA!C164=0,\"\",SISWA!C164)","v":""},{"$f":"IF(SISWA!D164=0,\"\",SISWA!D164)","v":"157-"},{"$f":"IF(SISWA!E164=0,\"\",SISWA!E164)","v":""},null,null,null,null,null,{"$error":"#DIV/0!"},null,null,{"$error":"#DIV/0!"}]
[158,{"$f":"IF(SISWA!B165=0,\"\",SISWA!B165)","v":""},{"$f":"IF(SISWA!C165=0,\"\",SISWA!C165)","v":""},{"$f":"IF(SISWA!D165=0,\"\",SISWA!D165)","v":"158-"},{"$f":"IF(SISWA!E165=0,\"\",SISWA!E165)","v":""},null,null,null,null,null,{"$error":"#DIV/0!"},null,null,{"$error":"#DIV/0!"}]
[159,{"$f":"IF(SISWA!B166=0,\"\",SISWA!B166)","v":""},{"$f":"IF(SISWA!C166=0,\"\",SISWA!C166)","v":""},{"$f":"IF(SISWA!D166=0,\"\",SISWA!D166)","v":"159-"},{"$f":"IF(SISWA!E166=0,\"\",SISWA!E166)","v":""},null,null,null,null,null,{"$error":"#DIV/0!"},null,null,{"$error":"#DIV/0!"}]
[160,{"$f":"IF(SISWA!B167=0,\"\",SISWA!B167)","v":""},{"$f":"IF(SISWA!C167=0,\"\",SISWA!C167)","v":""},{"$f":"IF(SISWA!D167=0,\"\",SISWA!D167)","v":"160-"},{"$f":"IF(SISWA!E167=0,\"\",SISWA!E167)","v":""},null,null,null,null,null,{"$error":"#DIV/0!"},null,null,{"$error":"#DIV/0!"}]
[161,{"$f":"IF(SISWA!B168=0,\"\",SISWA!B168)","v":""},{"$f":"IF(SISWA!C168=0,\"\",SISWA!C168)","v":""},{"$f":"IF(SISWA!D168=0,\"\",SISWA!D168)","v":"161-"},{"$f":"IF(SISWA!E168=0,\"\",SISWA!E168)","v":""},null,null,null,null,null,{"$error":"#DIV/0!"},null,null,{"$error":"#DIV/0!"}]
[162,{"$f":"IF(SISWA!B169=0,\"\",SISWA!B169)","v":""},{"$f":"IF(SISWA!C169=0,\"\",SISWA!C169)","v":""},{"$f":"IF(SISWA!D169=0,\"\",SISWA!D169)","v":"162-"},{"$f":"IF(SISWA!E169=0,\"\",SISWA!E169)","v":""},null,null,null,null,null,{"$error":"#DIV/0!"},null,null,{"$error":"#DIV/0!"}]
[163,{"$f":"IF(SISWA!B170=0,\"\",SISWA!B170)","v":""},{"$f":"IF(SISWA!C170=0,\"\",SISWA!C170)","v":""},{"$f":"IF(SISWA!D170=0,\"\",SISWA!D170)","v":"163-"},{"$f":"IF(SISWA!E170=0,\"\",SISWA!E170)","v":""},null,null,null,null,null,{"$error":"#DIV/0!"},null,null,{"$error":"#DIV/0!"}]
[164,{"$f":"IF(SISWA!B171=0,\"\",SISWA!B171)","v":""},{"$f":"IF(SISWA!C171=0,\"\",SISWA!C171)","v":""},{"$f":"IF(SISWA!D171=0,\"\",SISWA!D171)","v":"164-"},{"$f":"IF(SISWA!E171=0,\"\",SISWA!E171)","v":""},null,null,null,null,null,{"$error":"#DIV/0!"},null,null,{"$error":"#DIV/0!"}]
[165,{"$f":"IF(SISWA!B172=0,\"\",SISWA!B172)","v":""},{"$f":"IF(SISWA!C172=0,\"\",SISWA!C172)","v":""},{"$f":"IF(SISWA!D172=0,\"\",SISWA!D172)","v":"165-"},{"$f":"IF(SISWA!E172=0,\"\",SISWA!E172)","v":""},null,null,null,null,null,{"$error":"#DIV/0!"},null,null,{"$error":"#DIV/0!"}]
[166,{"$f":"IF(SISWA!B173=0,\"\",SISWA!B173)","v":""},{"$f":"IF(SISWA!C173=0,\"\",SISWA!C173)","v":""},{"$f":"IF(SISWA!D173=0,\"\",SISWA!D173)","v":"166-"},{"$f":"IF(SISWA!E173=0,\"\",SISWA!E173)","v":""},null,null,null,null,null,{"$error":"#DIV/0!"},null,null,{"$error":"#DIV/0!"}]
[167,{"$f":"IF(SISWA!B174=0,\"\",SISWA!B174)","v":""},{"$f":"IF(SISWA!C174=0,\"\",SISWA!C174)","v":""},{"$f":"IF(SISWA!D174=0,\"\",SISWA!D174)","v":"167-"},{"$f":"IF(SISWA!E174=0,\"\",SISWA!E174)","v":""},null,null,null,null,null,{"$error":"#DIV/0!"},null,null,{"$error":"#DIV/0!"}]
[168,{"$f":"IF(SISWA!B175=0,\"\",SISWA!B175)","v":""},{"$f":"IF(SISWA!C175=0,\"\",SISWA!C175)","v":""},{"$f":"IF(SISWA!D175=0,\"\",SISWA!D175)","v":"168-"},{"$f":"IF(SISWA!E175=0,\"\",SISWA!E175)","v":""},null,null,null,null,null,{"$error":"#DIV/0!"},null,null,{"$error":"#DIV/0!"}]
[169,{"$f":"IF(SISWA!B176=0,\"\",SISWA!B176)","v":""},{"$f":"IF(SISWA!C176=0,\"\",SISWA!C176)","v":""},{"$f":"IF(SISWA!D176=0,\"\",SISWA!D176)","v":"169-"},{"$f":"IF(SISWA!E176=0,\"\",SISWA!E176)","v":""},null,null,null,null,null,{"$error":"#DIV/0!"},null,null,{"$error":"#DIV/0!"}]
[170,{"$f":"IF(SISWA!B177=0,\"\",SISWA!B177)","v":""},{"$f":"IF(SISWA!C177=0,\"\",SISWA!C177)","v":""},{"$f":"IF(SISWA!D177=0,\"\",SISWA!D177)","v":"170-"},{"$f":"IF(SISWA!E177=0,\"\",SISWA!E177)","v":""},null,null,null,null,null,{"$error":"#DIV/0!"},null,null,{"$error":"#DIV/0!"}]
[171,{"$f":"IF(SISWA!B178=0,\"\",SISWA!B178)","v":""},{"$f":"IF(SISWA!C178=0,\"\",SISWA!C178)","v":""},{"$f":"IF(SISWA!D178=0,\"\",SISWA!D178)","v":"171-"},{"$f":"IF(SISWA!E178=0,\"\",SISWA!E178)","v":""},null,null,null,null,null,{"$error":"#DIV/0!"},null,null,{"$error":"#DIV/0!"}]
[172,{"$f":"IF(SISWA!B179=0,\"\",SISWA!B179)","v":""},{"$f":"IF(SISWA!C179=0,\"\",SISWA!C179)","v":""},{"$f":"IF(SISWA!D179=0,\"\",SISWA!D179)","v":"172-"},{"$f":"IF(SISWA!E179=0,\"\",SISWA!E179)","v":""},null,null,null,null,null,{"$error":"#DIV/0!"},null,null,{"$error":"#DIV/0!"}]
[173,{"$f":"IF(SISWA!B180=0,\"\",SISWA!B180)","v":""},{"$f":"IF(SISWA!C180=0,\"\",SISWA!C180)","v":""},{"$f":"IF(SISWA!D180=0,\"\",SISWA!D180)","v":"173-"},{"$f":"IF(SISWA!E180=0,\"\",SISWA!E180)","v":""},null,null,null,null,null,{"$error":"#DIV/0!"},null,null,{"$error":"#DIV/0!"}]
[174,{"$f":"IF(SISWA!B181=0,\"\",SISWA!B181)","v":""},{"$f":"IF(SISWA!C181=0,\"\",SISWA!C181)","v":""},{"$f":"IF(SISWA!D181=0,\"\",SISWA!D181)","v":"174-"},{"$f":"IF(SISWA!E181=0,\"\",SISWA!E181)","v":""},null,null,null,null,null,{"$error":"#DIV/0!"},null,null,{"$error":"#DIV/0!"}]
[175,{"$f":"IF(SISWA!B182=0,\"\",SISWA!B182)","v":""},{"$f":"IF(SISWA!C182=0,\"\",SISWA!C182)","v":""},{"$f":"IF(SISWA!D182=0,\"\",SISWA!D182)","v":"175-"},{"$f":"IF(SISWA!E182=0,\"\",SISWA!E182)","v":""},null,null,null,null,null,{"$error":"#DIV/0!"},null,null,{"$error":"#DIV/0!"}]
[176,{"$f":"IF(SISWA!B183=0,\"\",SISWA!B183)","v":""},{"$f":"IF(SISWA!C183=0,\"\",SISWA!C183)","v":""},{"$f":"IF(SISWA!D183=0,\"\",SISWA!D183)","v":"176-"},{"$f":"IF(SISWA!E183=0,\"\",SISWA!E183)","v":""},null,null,null,null,null,{"$error":"#DIV/0!"},null,null,{"$error":"#DIV/0!"}]
[177,{"$f":"IF(SISWA!B184=0,\"\",SISWA!B184)","v":""},{"$f":"IF(SISWA!C184=0,\"\",SISWA!C184)","v":""},{"$f":"IF(SISWA!D184=0,\"\",SISWA!D184)","v":"177-"},{"$f":"IF(SISWA!E184=0,\"\",SISWA!E184)","v":""},null,null,null,null,null,{"$error":"#DIV/0!"},null,null,{"$error":"#DIV/0!"}]
[178,{"$f":"IF(SISWA!B185=0,\"\",SISWA!B185)","v":""},{"$f":"IF(SISWA!C185=0,\"\",SISWA!C185)","v":""},{"$f":"IF(SISWA!D185=0,\"\",SISWA!D185)","v":"178-"},{"$f":"IF(SISWA!E185=0,\"\",SISWA!E185)","v":""},null,null,null,null,null,{"$error":"#DIV/0!"},null,null,{"$error":"#DIV/0!"}]
[179,{"$f":"IF(SISWA!B186=0,\"\",SISWA!B186)","v":""},{"$f":"IF(SISWA!C186=0,\"\",SISWA!C186)","v":""},{"$f":"IF(SISWA!D186=0,\"\",SISWA!D186)","v":"179-"},{"$f":"IF(SISWA!E186=0,\"\",SISWA!E186)","v":""},null,null,null,null,null,{"$error":"#DIV/0!"},null,null,{"$error":"#DIV/0!"}]
[180,{"$f":"IF(SISWA!B187=0,\"\",SISWA!B187)","v":""},{"$f":"IF(SISWA!C187=0,\"\",SISWA!C187)","v":""},{"$f":"IF(SISWA!D187=0,\"\",SISWA!D187)","v":"180-"},{"$f":"IF(SISWA!E187=0,\"\",SISWA!E187)","v":""},null,null,null,null,null,{"$error":"#DIV/0!"},null,null,{"$error":"#DIV/0!"}]
[181,{"$f":"IF(SISWA!B188=0,\"\",SISWA!B188)","v":""},{"$f":"IF(SISWA!C188=0,\"\",SISWA!C188)","v":""},{"$f":"IF(SISWA!D188=0,\"\",SISWA!D188)","v":"181-"},{"$f":"IF(SISWA!E188=0,\"\",SISWA!E188)","v":""},null,null,null,null,null,{"$error":"#DIV/0!"},null,null,{"$error":"#DIV/0!"}]
[182,{"$f":"IF(SISWA!B189=0,\"\",SISWA!B189)","v":""},{"$f":"IF(SISWA!C189=0,\"\",SISWA!C189)","v":""},{"$f":"IF(SISWA!D189=0,\"\",SISWA!D189)","v":"182-"},{"$f":"IF(SISWA!E189=0,\"\",SISWA!E189)","v":""},null,null,null,null,null,{"$error":"#DIV/0!"},null,null,{"$error":"#DIV/0!"}]
[183,{"$f":"IF(SISWA!B190=0,\"\",SISWA!B190)","v":""},{"$f":"IF(SISWA!C190=0,\"\",SISWA!C190)","v":""},{"$f":"IF(SISWA!D190=0,\"\",SISWA!D190)","v":"183-"},{"$f":"IF(SISWA!E190=0,\"\",SISWA!E190)","v":""},null,null,null,null,null,{"$error":"#DIV/0!"},null,null,{"$error":"#DIV/0!"}]
[184,{"$f":"IF(SISWA!B191=0,\"\",SISWA!B191)","v":""},{"$f":"IF(SISWA!C191=0,\"\",SISWA!C191)","v":""},{"$f":"IF(SISWA!D191=0,\"\",SISWA!D191)","v":"184-"},{"$f":"IF(SISWA!E191=0,\"\",SISWA!E191)","v":""},null,null,null,null,null,{"$error":"#DIV/0!"},null,null,{"$error":"#DIV/0!"}]
[185,{"$f":"IF(SISWA!B192=0,\"\",SISWA!B192)","v":""},{"$f":"IF(SISWA!C192=0,\"\",SISWA!C192)","v":""},{"$f":"IF(SISWA!D192=0,\"\",SISWA!D192)","v":"185-"},{"$f":"IF(SISWA!E192=0,\"\",SISWA!E192)","v":""},null,null,null,null,null,{"$error":"#DIV/0!"},null,null,{"$error":"#DIV/0!"}]
[186,{"$f":"IF(SISWA!B193=0,\"\",SISWA!B193)","v":""},{"$f":"IF(SISWA!C193=0,\"\",SISWA!C193)","v":""},{"$f":"IF(SISWA!D193=0,\"\",SISWA!D193)","v":"186-"},{"$f":"IF(SISWA!E193=0,\"\",SISWA!E193)","v":""},null,null,null,null,null,{"$error":"#DIV/0!"},null,null,{"$error":"#DIV/0!"}]
[187,{"$f":"IF(SISWA!B194=0,\"\",SISWA!B194)","v":""},{"$f":"IF(SISWA!C194=0,\"\",SISWA!C194)","v":""},{"$f":"IF(SISWA!D194=0,\"\",SISWA!D194)","v":"187-"},{"$f":"IF(SISWA!E194=0,\"\",SISWA!E194)","v":""},null,null,null,null,null,{"$error":"#DIV/0!"},null,null,{"$error":"#DIV/0!"}]
[188,{"$f":"IF(SISWA!B195=0,\"\",SISWA!B195)","v":""},{"$f":"IF(SISWA!C195=0,\"\",SISWA!C195)","v":""},{"$f":"IF(SISWA!D195=0,\"\",SISWA!D195)","v":"188-"},{"$f":"IF(SISWA!E195=0,\"\",SISWA!E195)","v":""},null,null,null,null,null,{"$error":"#DIV/0!"},null,null,{"$error":"#DIV/0!"}]
[189,{"$f":"IF(SISWA!B196=0,\"\",SISWA!B196)","v":""},{"$f":"IF(SISWA!C196=0,\"\",SISWA!C196)","v":""},{"$f":"IF(SISWA!D196=0,\"\",SISWA!D196)","v":"189-"},{"$f":"IF(SISWA!E196=0,\"\",SISWA!E196)","v":""},null,null,null,null,null,{"$error":"#DIV/0!"},null,null,{"$error":"#DIV/0!"}]
[190,{"$f":"IF(SISWA!B197=0,\"\",SISWA!B197)","v":""},{"$f":"IF(SISWA!C197=0,\"\",SISWA!C197)","v":""},{"$f":"IF(SISWA!D197=0,\"\",SISWA!D197)","v":"190-"},{"$f":"IF(SISWA!E197=0,\"\",SISWA!E197)","v":""},null,null,null,null,null,{"$error":"#DIV/0!"},null,null,{"$error":"#DIV/0!"}]
[191,{"$f":"IF(SISWA!B198=0,\"\",SISWA!B198)","v":""},{"$f":"IF(SISWA!C198=0,\"\",SISWA!C198)","v":""},{"$f":"IF(SISWA!D198=0,\"\",SISWA!D198)","v":"191-"},{"$f":"IF(SISWA!E198=0,\"\",SISWA!E198)","v":""},null,null,null,null,null,{"$error":"#DIV/0!"},null,null,{"$error":"#DIV/0!"}]
[192,{"$f":"IF(SISWA!B199=0,\"\",SISWA!B199)","v":""},{"$f":"IF(SISWA!C199=0,\"\",SISWA!C199)","v":""},{"$f":"IF(SISWA!D199=0,\"\",SISWA!D199)","v":"192-"},{"$f":"IF(SISWA!E199=0,\"\",SISWA!E199)","v":""},null,null,null,null,null,{"$error":"#DIV/0!"},null,null,{"$error":"#DIV/0!"}]
[193,{"$f":"IF(SISWA!B200=0,\"\",SISWA!B200)","v":""},{"$f":"IF(SISWA!C200=0,\"\",SISWA!C200)","v":""},{"$f":"IF(SISWA!D200=0,\"\",SISWA!D200)","v":"193-"},{"$f":"IF(SISWA!E200=0,\"\",SISWA!E200)","v":""},null,null,null,null,null,{"$error":"#DIV/0!"},null,null,{"$error":"#DIV/0!"}]
[194,{"$f":"IF(SISWA!B201=0,\"\",SISWA!B201)","v":""},{"$f":"IF(SISWA!C201=0,\"\",SISWA!C201)","v":""},{"$f":"IF(SISWA!D201=0,\"\",SISWA!D201)","v":"194-"},{"$f":"IF(SISWA!E201=0,\"\",SISWA!E201)","v":""},null,null,null,null,null,{"$f":"AVERAGE(F201:J201)","v":{"$error":"#DIV/0!"}},null,null,{"$f":"AVERAGE(K201:L201)","v":{"$error":"#DIV/0!"}}]
[195,{"$f":"IF(SISWA!B202=0,\"\",SISWA!B202)","v":""},{"$f":"IF(SISWA!C202=0,\"\",SISWA!C202)","v":""},{"$f":"IF(SISWA!D202=0,\"\",SISWA!D202)","v":"195-"},{"$f":"IF(SISWA!E202=0,\"\",SISWA!E202)","v":""},null,null,null,null,null,{"$error":"#DIV/0!"},null,null,{"$error":"#DIV/0!"}]
[196,{"$f":"IF(SISWA!B203=0,\"\",SISWA!B203)","v":""},{"$f":"IF(SISWA!C203=0,\"\",SISWA!C203)","v":""},{"$f":"IF(SISWA!D203=0,\"\",SISWA!D203)","v":"196-"},{"$f":"IF(SISWA!E203=0,\"\",SISWA!E203)","v":""},null,null,null,null,null,{"$error":"#DIV/0!"},null,null,{"$error":"#DIV/0!"}]
[197,{"$f":"IF(SISWA!B204=0,\"\",SISWA!B204)","v":""},{"$f":"IF(SISWA!C204=0,\"\",SISWA!C204)","v":""},{"$f":"IF(SISWA!D204=0,\"\",SISWA!D204)","v":"197-"},{"$f":"IF(SISWA!E204=0,\"\",SISWA!E204)","v":""},null,null,null,null,null,{"$error":"#DIV/0!"},null,null,{"$error":"#DIV/0!"}]
[198,{"$f":"IF(SISWA!B205=0,\"\",SISWA!B205)","v":""},{"$f":"IF(SISWA!C205=0,\"\",SISWA!C205)","v":""},{"$f":"IF(SISWA!D205=0,\"\",SISWA!D205)","v":"198-"},{"$f":"IF(SISWA!E205=0,\"\",SISWA!E205)","v":""},null,null,null,null,null,{"$error":"#DIV/0!"},null,null,{"$error":"#DIV/0!"}]
[199,{"$f":"IF(SISWA!B206=0,\"\",SISWA!B206)","v":""},{"$f":"IF(SISWA!C206=0,\"\",SISWA!C206)","v":""},{"$f":"IF(SISWA!D206=0,\"\",SISWA!D206)","v":"199-"},{"$f":"IF(SISWA!E206=0,\"\",SISWA!E206)","v":""},null,null,null,null,null,{"$error":"#DIV/0!"},null,null,{"$error":"#DIV/0!"}]
[200,{"$f":"IF(SISWA!B207=0,\"\",SISWA!B207)","v":""},{"$f":"IF(SISWA!C207=0,\"\",SISWA!C207)","v":""},{"$f":"IF(SISWA!D207=0,\"\",SISWA!D207)","v":"200-"},{"$f":"IF(SISWA!E207=0,\"\",SISWA!E207)","v":""},null,null,null,null,null,{"$error":"#DIV/0!"},null,null,{"$error":"#DIV/0!"}]

{"sheet":"SKI","index":5,"n_rows":207,"n_cols":15,"rows_kept":207,"cut":false,"hidden":false,"merged":[[4,14,6,14],[5,11,5,12],[0,0,0,9],[1,0,1,9],[2,0,2,9],[4,0,6,0],[4,1,6,1],[4,2,6,2],[4,3,6,3],[4,4,6,4],[4,5,4,12],[5,5,5,9]]}
["DAFTAR NILAI AKHIR SEKOLAH"]
[{"$f":"AA!A2","v":"MADRASAH IBTIDAIYAH NURUL ISLAM LABRUK KIDUL"}]
[{"$f":"AA!A3","v":"TAHUN PELAJARAN 2018/2019"}]
[]
["NO","No Induk","NISN","Nomor Peserta","Nama Peserta","SKI",null,null,null,null,null,null,null,null,"rata-rata UAM & PRAKTEK"]
[null,null,null,null,null,"Nilai Semester",null,null,null,null,"Rata- 2","NILAI UAMBD"]
[null,null,null,null,null,7,8,9,10,11,"Rapor","TULIS","PRAKTIK"]
[1,{"$f":"IF(SISWA!B8=0,\"\",SISWA!B8)","v":4270},{"$f":"IF(SISWA!C8=0,\"\",SISWA!C8)","v":"0067566336"},{"$f":"IF(SISWA!D8=0,\"\",SISWA!D8)","v":"1-18-05-80-162-001-9"},{"$f":"IF(SISWA!E8=0,\"\",SISWA!E8)","v":"ADITYA MAULA FANDY TAULANI"},83,86,78,83,91,{"$f":"AVERAGE(F8:J8)","v":84.2},65,{"$f":"K8","v":84.2},{"$f":"AVERAGE(L8:M8)","v":74.599999999999994},{"$f":"AVERAGE(L8:M8)","v":74.599999999999994}]
[2,{"$f":"IF(SISWA!B9=0,\"\",SISWA!B9)","v":4300},{"$f":"IF(SISWA!C9=0,\"\",SISWA!C9)","v":"0066364963"},{"$f":"IF(SISWA!D9=0,\"\",SISWA!D9)","v":"1-18-05-80-162-002-8"},{"$f":"IF(SISWA!E9=0,\"\",SISWA!E9)","v":"AHMAD FERDIAN ALAMSYAH"},72,80,72,68,84,{"$f":"AVERAGE(F9:J9)","v":75.2},70.31,{"$f":"K9","v":75.2},{"$f":"AVERAGE(L9:M9)","v":72.754999999999995},{"$f":"AVERAGE(L9:M9)","v":72.754999999999995}]
[3,{"$f":"IF(SISWA!B10=0,\"\",SISWA!B10)","v":4271},{"$f":"IF(SISWA!C10=0,\"\",SISWA!C10)","v":"0062805893"},{"$f":"IF(SISWA!D10=0,\"\",SISWA!D10)","v":"1-18-05-80-162-003-7"},{"$f":"IF(SISWA!E10=0,\"\",SISWA!E10)","v":"AHMAD RAMADHANI FADLULLOH"},75,78,73,75,86,77.400000000000006,66.11,77.400000000000006,71.754999999999995,71.754999999999995]
[4,{"$f":"IF(SISWA!B11=0,\"\",SISWA!B11)","v":4398},{"$f":"IF(SISWA!C11=0,\"\",SISWA!C11)","v":"0062399399"},{"$f":"IF(SISWA!D11=0,\"\",SISWA!D11)","v":"1-18-05-80-162-004-6"},{"$f":"IF(SISWA!E11=0,\"\",SISWA!E11)","v":"ANANDA AMILIA"},72,83,74,74,85,77.599999999999994,72.8,77.599999999999994,75.199999999999989,75.199999999999989]
[5,{"$f":"IF(SISWA!B12=0,\"\",SISWA!B12)","v":4272},{"$f":"IF(SISWA!C12=0,\"\",SISWA!C12)","v":"0071551428"},{"$f":"IF(SISWA!D12=0,\"\",SISWA!D12)","v":"1-18-05-80-162-005-5"},{"$f":"IF(SISWA!E12=0,\"\",SISWA!E12)","v":"ANDINI MAULID DWI LESTARI"},75,81,75,69,89,77.8,68.89,77.8,73.344999999999999,73.344999999999999]
[6,{"$f":"IF(SISWA!B13=0,\"\",SISWA!B13)","v":4301},{"$f":"IF(SISWA!C13=0,\"\",SISWA!C13)","v":"0061907599"},{"$f":"IF(SISWA!D13=0,\"\",SISWA!D13)","v":"1-18-05-80-162-006-4"},{"$f":"IF(SISWA!E13=0,\"\",SISWA!E13)","v":"ANDRIK YUSRI"},70,72,71,66,85,72.8,67.69,72.8,70.245000000000005,70.245000000000005]
[7,{"$f":"IF(SISWA!B14=0,\"\",SISWA!B14)","v":4273},{"$f":"IF(SISWA!C14=0,\"\",SISWA!C14)","v":"0067280519"},{"$f":"IF(SISWA!D14=0,\"\",SISWA!D14)","v":"1-18-05-80-162-007-3"},{"$f":"IF(SISWA!E14=0,\"\",SISWA!E14)","v":"DEWI SAKINAH ISWARA"},85,83,80,77,88,82.6,79.69,82.6,81.144999999999996,81.144999999999996]
[8,{"$f":"IF(SISWA!B15=0,\"\",SISWA!B15)","v":4307},{"$f":"IF(SISWA!C15=0,\"\",SISWA!C15)","v":"0066012198"},{"$f":"IF(SISWA!D15=0,\"\",SISWA!D15)","v":"1-18-05-80-162-008-2"},{"$f":"IF(SISWA!E15=0,\"\",SISWA!E15)","v":"CHAKIM"},70,73,71,58,84,71.2,65,71.2,68.099999999999994,68.099999999999994]
[9,{"$f":"IF(SISWA!B16=0,\"\",SISWA!B16)","v":4275},{"$f":"IF(SISWA!C16=0,\"\",SISWA!C16)","v":"0078199679"},{"$f":"IF(SISWA!D16=0,\"\",SISWA!D16)","v":"1-18-05-80-162-009-9"},{"$f":"IF(SISWA!E16=0,\"\",SISWA!E16)","v":"HANIK APRILIA SARI"},82,82,76,79,87,81.2,65,81.2,73.099999999999994,73.099999999999994]
[10,{"$f":"IF(SISWA!B17=0,\"\",SISWA!B17)","v":"4238"},{"$f":"IF(SISWA!C17=0,\"\",SISWA!C17)","v":"0051503260"},{"$f":"IF(SISWA!D17=0,\"\",SISWA!D17)","v":"1-18-05-80-162-010-8"},{"$f":"IF(SISWA!E17=0,\"\",SISWA!E17)","v":"DESI NATALIA SAPUTRI"},70,73,71,65,84,72.599999999999994,65,72.599999999999994,68.8,68.8]
[11,{"$f":"IF(SISWA!B18=0,\"\",SISWA!B18)","v":4391},{"$f":"IF(SISWA!C18=0,\"\",SISWA!C18)","v":"0079418518"},{"$f":"IF(SISWA!D18=0,\"\",SISWA!D18)","v":"1-18-05-80-162-011-7"},{"$f":"IF(SISWA!E18=0,\"\",SISWA!E18)","v":"HIDAYATUL KHUMAINIA"},73,81,77,77,86,78.8,69.790000000000006,78.8,74.295000000000002,74.295000000000002]
[12,{"$f":"IF(SISWA!B19=0,\"\",SISWA!B19)","v":4274},{"$f":"IF(SISWA!C19=0,\"\",SISWA!C19)","v":"0077670297"},{"$f":"IF(SISWA!D19=0,\"\",SISWA!D19)","v":"1-18-05-80-162-012-6"},{"$f":"IF(SISWA!E19=0,\"\",SISWA!E19)","v":"DWITA FITA WULANDARI"},73,79,72,70,86,76,65,76,70.5,70.5]
[13,{"$f":"IF(SISWA!B20=0,\"\",SISWA!B20)","v":4276},{"$f":"IF(SISWA!C20=0,\"\",SISWA!C20)","v":"0067236848"},{"$f":"IF(SISWA!D20=0,\"\",SISWA!D20)","v":"1-18-05-80-162-013-5"},{"$f":"IF(SISWA!E20=0,\"\",SISWA!E20)","v":"IZZA ILMIA AZZAHRA"},80,83,77,75,88,80.599999999999994,65,80.599999999999994,72.8,72.8]
[14,{"$f":"IF(SISWA!B21=0,\"\",SISWA!B21)","v":4303},{"$f":"IF(SISWA!C21=0,\"\",SISWA!C21)","v":"0064031376"},{"$f":"IF(SISWA!D21=0,\"\",SISWA!D21)","v":"1-18-05-80-162-014-4"},{"$f":"IF(SISWA!E21=0,\"\",SISWA!E21)","v":"FARIDATUS SAHDIAH"},73,77,72,71,86,75.8,72.11,75.8,73.954999999999998,73.954999999999998]
[15,{"$f":"IF(SISWA!B22=0,\"\",SISWA!B22)","v":4278},{"$f":"IF(SISWA!C22=0,\"\",SISWA!C22)","v":"0079672823"},{"$f":"IF(SISWA!D22=0,\"\",SISWA!D22)","v":"1-18-05-80-162-015-3"},{"$f":"IF(SISWA!E22=0,\"\",SISWA!E22)","v":"KHARISYA AZZAHRO"},88,85,80,84,88,85,65,85,75,75]
[16,{"$f":"IF(SISWA!B23=0,\"\",SISWA!B23)","v":4277},{"$f":"IF(SISWA!C23=0,\"\",SISWA!C23)","v":"0077101453"},{"$f":"IF(SISWA!D23=0,\"\",SISWA!D23)","v":"1-18-05-80-162-016-2"},{"$f":"IF(SISWA!E23=0,\"\",SISWA!E23)","v":"KARINA FEBBY CAHYA AMILIA"},79,80,72,76,85,78.400000000000006,66.790000000000006,78.400000000000006,72.594999999999999,72.594999999999999]
[17,{"$f":"IF(SISWA!B24=0,\"\",SISWA!B24)","v":4601},{"$f":"IF(SISWA!C24=0,\"\",SISWA!C24)","v":"0069718082"},{"$f":"IF(SISWA!D24=0,\"\",SISWA!D24)","v":"1-18-05-80-162-017-9"},{"$f":"IF(SISWA!E24=0,\"\",SISWA!E24)","v":"MOCHAMAD RIFKY ROSAN"},71,73,76,85,89,78.8,65,78.8,71.900000000000006,71.900000000000006]
[18,{"$f":"IF(SISWA!B25=0,\"\",SISWA!B25)","v":"4241"},{"$f":"IF(SISWA!C25=0,\"\",SISWA!C25)","v":"0057006145"},{"$f":"IF(SISWA!D25=0,\"\",SISWA!D25)","v":"1-18-05-80-162-018-8"},{"$f":"IF(SISWA!E25=0,\"\",SISWA!E25)","v":"KHUSNI CAHYONO"},70,71,70,61,82,70.8,69.91,70.8,70.35499999999999,70.35499999999999]
[19,{"$f":"IF(SISWA!B26=0,\"\",SISWA!B26)","v":4280},{"$f":"IF(SISWA!C26=0,\"\",SISWA!C26)","v":"0062061356"},{"$f":"IF(SISWA!D26=0,\"\",SISWA!D26)","v":"1-18-05-80-162-019-7"},{"$f":"IF(SISWA!E26=0,\"\",SISWA!E26)","v":"MUCHAMMAD ALIEF FERDIANSYAH"},82,83,73,74,88,80,65,80,72.5,72.5]
[20,{"$f":"IF(SISWA!B27=0,\"\",SISWA!B27)","v":4306},{"$f":"IF(SISWA!C27=0,\"\",SISWA!C27)","v":"0069095925"},{"$f":"IF(SISWA!D27=0,\"\",SISWA!D27)","v":"1-18-05-80-162-020-6"},{"$f":"IF(SISWA!E27=0,\"\",SISWA!E27)","v":"LENNY AGUSTIN NINGTYAS"},70,73,70,60,84,71.400000000000006,67.19,71.400000000000006,69.295000000000002,69.295000000000002]
[21,{"$f":"IF(SISWA!B28=0,\"\",SISWA!B28)","v":4281},{"$f":"IF(SISWA!C28=0,\"\",SISWA!C28)","v":"0069153972"},{"$f":"IF(SISWA!D28=0,\"\",SISWA!D28)","v":"1-18-05-80-162-021-5"},{"$f":"IF(SISWA!E28=0,\"\",SISWA!E28)","v":"MUHAMMAD AGUS ANDRIANTO"},75,79,71,75,85,77,65,77,71,71]
[22,{"$f":"IF(SISWA!B29=0,\"\",SISWA!B29)","v":4308},{"$f":"IF(SISWA!C29=0,\"\",SISWA!C29)","v":"0063078335"},{"$f":"IF(SISWA!D29=0,\"\",SISWA!D29)","v":"1-18-05-80-162-022-4"},{"$f":"IF(SISWA!E29=0,\"\",SISWA!E29)","v":"MAURIS HIDAYATUR ROCHMAN"},75,78,73,74,85,77,66.7,77,71.849999999999994,71.849999999999994]
[23,{"$f":"IF(SISWA!B30=0,\"\",SISWA!B30)","v":4314},{"$f":"IF(SISWA!C30=0,\"\",SISWA!C30)","v":"0072178353"},{"$f":"IF(SISWA!D30=0,\"\",SISWA!D30)","v":"1-18-05-80-162-023-3"},{"$f":"IF(SISWA!E30=0,\"\",SISWA!E30)","v":"MUHAMMAD BISMAR TAUFIQUROHMAN"},78,86,74,76,86,80,70.19,80,75.094999999999999,75.094999999999999]
[24,{"$f":"IF(SISWA!B31=0,\"\",SISWA!B31)","v":4309},{"$f":"IF(SISWA!C31=0,\"\",SISWA!C31)","v":"0072198448"},{"$f":"IF(SISWA!D31=0,\"\",SISWA!D31)","v":"1-18-05-80-162-024-2"},{"$f":"IF(SISWA!E31=0,\"\",SISWA!E31)","v":"MAYA BUNGA ANJANI"},72,73,72,62,85,72.8,68.89,72.8,70.844999999999999,70.844999999999999]
[25,{"$f":"IF(SISWA!B32=0,\"\",SISWA!B32)","v":4320},{"$f":"IF(SISWA!C32=0,\"\",SISWA!C32)","v":"0064566227"},{"$f":"IF(SISWA!D32=0,\"\",SISWA!D32)","v":"1-18-05-80-162-025-9"},{"$f":"IF(SISWA!E32=0,\"\",SISWA!E32)","v":"MUHAMMAD SAHLAN SHODIQ"},81,86,75,78,89,81.8,65,81.8,73.400000000000006,73.400000000000006]
[26,{"$f":"IF(SISWA!B33=0,\"\",SISWA!B33)","v":4279},{"$f":"IF(SISWA!C33=0,\"\",SISWA!C33)","v":"0066637092"},{"$f":"IF(SISWA!D33=0,\"\",SISWA!D33)","v":"1-18-05-80-162-026-8"},{"$f":"IF(SISWA!E33=0,\"\",SISWA!E33)","v":"MITA SEPTIANI ISLAMIA"},70,75,72,74,85,75.2,86.8,75.2,81,81]
[27,{"$f":"IF(SISWA!B34=0,\"\",SISWA!B34)","v":4321},{"$f":"IF(SISWA!C34=0,\"\",SISWA!C34)","v":"0061244045"},{"$f":"IF(SISWA!D34=0,\"\",SISWA!D34)","v":"1-18-05-80-162-027-7"},{"$f":"IF(SISWA!E34=0,\"\",SISWA!E34)","v":"MUHAMMAD SEPTYAN EKA PRATAMA"},77,80,77,68,85,77.400000000000006,65,77.400000000000006,71.2,71.2]
[28,{"$f":"IF(SISWA!B35=0,\"\",SISWA!B35)","v":"4247"},{"$f":"IF(SISWA!C35=0,\"\",SISWA!C35)","v":"0053546157"},{"$f":"IF(SISWA!D35=0,\"\",SISWA!D35)","v":"1-18-05-80-162-028-6"},{"$f":"IF(SISWA!E35=0,\"\",SISWA!E35)","v":"MOCHAMAD ARIEL FRANS TITO"},70,73,72,65,83,72.599999999999994,66.7,72.599999999999994,69.650000000000006,69.650000000000006]
[29,{"$f":"IF(SISWA!B36=0,\"\",SISWA!B36)","v":4285},{"$f":"IF(SISWA!C36=0,\"\",SISWA!C36)","v":"0067871553"},{"$f":"IF(SISWA!D36=0,\"\",SISWA!D36)","v":"1-18-05-80-162-029-5"},{"$f":"IF(SISWA!E36=0,\"\",SISWA!E36)","v":"MUHAMMAD VERYANSYAH"},76,85,76,74,86,79.400000000000006,65,79.400000000000006,72.2,72.2]
[30,{"$f":"IF(SISWA!B37=0,\"\",SISWA!B37)","v":4310},{"$f":"IF(SISWA!C37=0,\"\",SISWA!C37)","v":"0066383678"},{"$f":"IF(SISWA!D37=0,\"\",SISWA!D37)","v":"1-18-05-80-162-030-4"},{"$f":"IF(SISWA!E37=0,\"\",SISWA!E37)","v":"MOCHAMMAD BIMA RISFANDA"},72,73,70,66,86,73.400000000000006,69.7,73.400000000000006,71.550000000000011,71.550000000000011]
[31,{"$f":"IF(SISWA!B38=0,\"\",SISWA!B38)","v":4286},{"$f":"IF(SISWA!C38=0,\"\",SISWA!C38)","v":"0064443822"},{"$f":"IF(SISWA!D38=0,\"\",SISWA!D38)","v":"1-18-05-80-162-031-3"},{"$f":"IF(SISWA!E38=0,\"\",SISWA!E38)","v":"MUHAMMAD ZIDNY NA'IM"},85,84,86,81,88,84.8,65,84.8,74.900000000000006,74.900000000000006]
[32,{"$f":"IF(SISWA!B39=0,\"\",SISWA!B39)","v":4282},{"$f":"IF(SISWA!C39=0,\"\",SISWA!C39)","v":"0068336765"},{"$f":"IF(SISWA!D39=0,\"\",SISWA!D39)","v":"1-18-05-80-162-032-2"},{"$f":"IF(SISWA!E39=0,\"\",SISWA!E39)","v":"MUHAMMAD AGUS FERDIANSYAH"},75,78,73,76,86,77.599999999999994,65,77.599999999999994,71.3,71.3]
[33,{"$f":"IF(SISWA!B40=0,\"\",SISWA!B40)","v":4287},{"$f":"IF(SISWA!C40=0,\"\",SISWA!C40)","v":"0064528717"},{"$f":"IF(SISWA!D40=0,\"\",SISWA!D40)","v":"1-18-05-80-162-033-9"},{"$f":"IF(SISWA!E40=0,\"\",SISWA!E40)","v":"MUHAMMAD FARDAN ABDILLAH"},73,null,72,74,null,73,70.19,73,71.594999999999999,71.594999999999999]
[34,{"$f":"IF(SISWA!B41=0,\"\",SISWA!B41)","v":4315},{"$f":"IF(SISWA!C41=0,\"\",SISWA!C41)","v":"0067870495"},{"$f":"IF(SISWA!D41=0,\"\",SISWA!D41)","v":"1-18-05-80-162-034-8"},{"$f":"IF(SISWA!E41=0,\"\",SISWA!E41)","v":"NABILA ARISKA PUTRI"},80,83,81,82,88,82.8,74.989999999999995,82.8,78.894999999999996,78.894999999999996]
[35,{"$f":"IF(SISWA!B42=0,\"\",SISWA!B42)","v":4288},{"$f":"IF(SISWA!C42=0,\"\",SISWA!C42)","v":"0068641191"},{"$f":"IF(SISWA!D42=0,\"\",SISWA!D42)","v":"1-18-05-80-162-035-7"},{"$f":"IF(SISWA!E42=0,\"\",SISWA!E42)","v":"MUHAMMAD FERDINAN JAYYIDAH RIFQI"},82,82,76,76,86,80.400000000000006,65,80.400000000000006,72.7,72.7]
[36,{"$f":"IF(SISWA!B43=0,\"\",SISWA!B43)","v":4283},{"$f":"IF(SISWA!C43=0,\"\",SISWA!C43)","v":"0077212388"},{"$f":"IF(SISWA!D43=0,\"\",SISWA!D43)","v":"1-18-05-80-162-036-6"},{"$f":"IF(SISWA!E43=0,\"\",SISWA!E43)","v":"NAFISA INDRIANI"},85,88,78,80,89,84,72.89,84,78.444999999999993,78.444999999999993]
[37,{"$f":"IF(SISWA!B44=0,\"\",SISWA!B44)","v":"4257"},{"$f":"IF(SISWA!C44=0,\"\",SISWA!C44)","v":"0069944706"},{"$f":"IF(SISWA!D44=0,\"\",SISWA!D44)","v":"1-18-05-80-162-037-5"},{"$f":"IF(SISWA!E44=0,\"\",SISWA!E44)","v":"MUHAMMAD FIRMANSYAH"},72,75,73,66,85,74.2,65,74.2,69.599999999999994,69.599999999999994]
[38,{"$f":"IF(SISWA!B45=0,\"\",SISWA!B45)","v":4317},{"$f":"IF(SISWA!C45=0,\"\",SISWA!C45)","v":"0068498059"},{"$f":"IF(SISWA!D45=0,\"\",SISWA!D45)","v":"1-18-05-80-162-038-4"},{"$f":"IF(SISWA!E45=0,\"\",SISWA!E45)","v":"NAJWA FARISYA BAROROH"},79,84,78,76,88,81,75.89,81,78.444999999999993,78.444999999999993]
[39,{"$f":"IF(SISWA!B46=0,\"\",SISWA!B46)","v":4289},{"$f":"IF(SISWA!C46=0,\"\",SISWA!C46)","v":"0065225517"},{"$f":"IF(SISWA!D46=0,\"\",SISWA!D46)","v":"1-18-05-80-162-039-3"},{"$f":"IF(SISWA!E46=0,\"\",SISWA!E46)","v":"NUR FITRIYAH"},78,79,75,74,87,78.599999999999994,65,78.599999999999994,71.8,71.8]
[40,{"$f":"IF(SISWA!B47=0,\"\",SISWA!B47)","v":4318},{"$f":"IF(SISWA!C47=0,\"\",SISWA!C47)","v":"0061441364"},{"$f":"IF(SISWA!D47=0,\"\",SISWA!D47)","v":"1-18-05-80-162-040-2"},{"$f":"IF(SISWA!E47=0,\"\",SISWA!E47)","v":"MUHAMMAD HILDAN DWI SAPUTRA"},72,74,74,74,85,75.8,65,75.8,70.400000000000006,70.400000000000006]
[41,{"$f":"IF(SISWA!B48=0,\"\",SISWA!B48)","v":4392},{"$f":"IF(SISWA!C48=0,\"\",SISWA!C48)","v":"0075794532"},{"$f":"IF(SISWA!D48=0,\"\",SISWA!D48)","v":"1-18-05-80-162-041-9"},{"$f":"IF(SISWA!E48=0,\"\",SISWA!E48)","v":"PUTRI NAFI'ATUS SOLIKHAH"},76,86,72,76,85,79,65,79,72,72]
[42,{"$f":"IF(SISWA!B49=0,\"\",SISWA!B49)","v":4284},{"$f":"IF(SISWA!C49=0,\"\",SISWA!C49)","v":"0069578000"},{"$f":"IF(SISWA!D49=0,\"\",SISWA!D49)","v":"1-18-05-80-162-042-8"},{"$f":"IF(SISWA!E49=0,\"\",SISWA!E49)","v":"MUHAMMAD RAYA KAFAF JAUHARI"},83,75,72,75,89,78.8,65,78.8,71.900000000000006,71.900000000000006]
[43,{"$f":"IF(SISWA!B50=0,\"\",SISWA!B50)","v":4290},{"$f":"IF(SISWA!C50=0,\"\",SISWA!C50)","v":"0063558216"},{"$f":"IF(SISWA!D50=0,\"\",SISWA!D50)","v":"1-18-05-80-162-043-7"},{"$f":"IF(SISWA!E50=0,\"\",SISWA!E50)","v":"QORIATUN SHOLIHAH"},82,81,81,73,86,80.599999999999994,65,80.599999999999994,72.8,72.8]
[44,{"$f":"IF(SISWA!B51=0,\"\",SISWA!B51)","v":4319},{"$f":"IF(SISWA!C51=0,\"\",SISWA!C51)","v":"0065329770"},{"$f":"IF(SISWA!D51=0,\"\",SISWA!D51)","v":"1-18-05-80-162-044-6"},{"$f":"IF(SISWA!E51=0,\"\",SISWA!E51)","v":"MUHAMMAD RUDI TANTOWIK"},70,72,70,64,86,72.400000000000006,65,72.400000000000006,68.7,68.7]
[45,{"$f":"IF(SISWA!B52=0,\"\",SISWA!B52)","v":4291},{"$f":"IF(SISWA!C52=0,\"\",SISWA!C52)","v":"0067071679"},{"$f":"IF(SISWA!D52=0,\"\",SISWA!D52)","v":"1-18-05-80-162-045-5"},{"$f":"IF(SISWA!E52=0,\"\",SISWA!E52)","v":"RACHMAD HIDAYAT"},73,74,74,66,88,75,74.09,75,74.545000000000002,74.545000000000002]
[46,{"$f":"IF(SISWA!B53=0,\"\",SISWA!B53)","v":4322},{"$f":"IF(SISWA!C53=0,\"\",SISWA!C53)","v":"0051101989"},{"$f":"IF(SISWA!D53=0,\"\",SISWA!D53)","v":"1-18-05-80-162-046-4"},{"$f":"IF(SISWA!E53=0,\"\",SISWA!E53)","v":"MUHAMMAD ZULDIENUR HABIBIE"},70,71,71,74,83,73.8,67.81,73.8,70.805000000000007,70.805000000000007]
[47,{"$f":"IF(SISWA!B54=0,\"\",SISWA!B54)","v":4292},{"$f":"IF(SISWA!C54=0,\"\",SISWA!C54)","v":"0072001696"},{"$f":"IF(SISWA!D54=0,\"\",SISWA!D54)","v":"1-18-05-80-162-047-3"},{"$f":"IF(SISWA!E54=0,\"\",SISWA!E54)","v":"RHEA RAYSHANADA NUGRAHA"},79,80,83,82,89,82.6,84.7,82.6,83.65,83.65]
[48,{"$f":"IF(SISWA!B55=0,\"\",SISWA!B55)","v":4323},{"$f":"IF(SISWA!C55=0,\"\",SISWA!C55)","v":"0078949167"},{"$f":"IF(SISWA!D55=0,\"\",SISWA!D55)","v":"1-18-05-80-162-048-2"},{"$f":"IF(SISWA!E55=0,\"\",SISWA!E55)","v":"MUKHAMAD KHOIRUL AMIN"},70,75,73,67,85,74,65,74,69.5,69.5]
[49,{"$f":"IF(SISWA!B56=0,\"\",SISWA!B56)","v":4293},{"$f":"IF(SISWA!C56=0,\"\",SISWA!C56)","v":"0064217705"},{"$f":"IF(SISWA!D56=0,\"\",SISWA!D56)","v":"1-18-05-80-162-049-9"},{"$f":"IF(SISWA!E56=0,\"\",SISWA!E56)","v":"RIYANTI APRILIA"},81,82,74,74,87,79.599999999999994,65,79.599999999999994,72.3,72.3]
[50,{"$f":"IF(SISWA!B57=0,\"\",SISWA!B57)","v":"4256"},{"$f":"IF(SISWA!C57=0,\"\",SISWA!C57)","v":"0065699742"},{"$f":"IF(SISWA!D57=0,\"\",SISWA!D57)","v":"1-18-05-80-162-050-8"},{"$f":"IF(SISWA!E57=0,\"\",SISWA!E57)","v":"MUKHAMMAD YAASIIN HASAN KHASBULLOH"},77,83,70,73,85,77.599999999999994,65,77.599999999999994,71.3,71.3]
[51,{"$f":"IF(SISWA!B58=0,\"\",SISWA!B58)","v":4295},{"$f":"IF(SISWA!C58=0,\"\",SISWA!C58)","v":"0061359184"},{"$f":"IF(SISWA!D58=0,\"\",SISWA!D58)","v":"1-18-05-80-162-051-7"},{"$f":"IF(SISWA!E58=0,\"\",SISWA!E58)","v":"SHONIA AULIA AS'AD"},87,92,86,91,94,90,65,90,77.5,77.5]
[52,{"$f":"IF(SISWA!B59=0,\"\",SISWA!B59)","v":4294},{"$f":"IF(SISWA!C59=0,\"\",SISWA!C59)","v":"0064723905"},{"$f":"IF(SISWA!D59=0,\"\",SISWA!D59)","v":"1-18-05-80-162-052-6"},{"$f":"IF(SISWA!E59=0,\"\",SISWA!E59)","v":"RIZKA AYU WULANDARI"},72,74,75,74,85,76,67.69,76,71.844999999999999,71.844999999999999]
[53,{"$f":"IF(SISWA!B60=0,\"\",SISWA!B60)","v":4298},{"$f":"IF(SISWA!C60=0,\"\",SISWA!C60)","v":"0065530554"},{"$f":"IF(SISWA!D60=0,\"\",SISWA!D60)","v":"1-18-05-80-162-053-5"},{"$f":"IF(SISWA!E60=0,\"\",SISWA!E60)","v":"VERLINA DWI MAULANI"},80,82,76,77,86,80.2,65,80.2,72.599999999999994,72.599999999999994]
[54,{"$f":"IF(SISWA!B61=0,\"\",SISWA!B61)","v":4297},{"$f":"IF(SISWA!C61=0,\"\",SISWA!C61)","v":"0063846732"},{"$f":"IF(SISWA!D61=0,\"\",SISWA!D61)","v":"1-18-05-80-162-054-4"},{"$f":"IF(SISWA!E61=0,\"\",SISWA!E61)","v":"USWATUN KHASANAH"},72,80,72,74,86,76.8,97.31,76.8,87.055000000000007,87.055000000000007]
[55,{"$f":"IF(SISWA!B62=0,\"\",SISWA!B62)","v":4324},{"$f":"IF(SISWA!C62=0,\"\",SISWA!C62)","v":"0078966795"},{"$f":"IF(SISWA!D62=0,\"\",SISWA!D62)","v":"1-18-05-80-162-055-3"},{"$f":"IF(SISWA!E62=0,\"\",SISWA!E62)","v":"VIKA KUSUMA WATI"},79,88,75,76,86,80.8,65,80.8,72.900000000000006,72.900000000000006]
[56,{"$f":"IF(SISWA!B63=0,\"\",SISWA!B63)","v":4326},{"$f":"IF(SISWA!C63=0,\"\",SISWA!C63)","v":"0064124533"},{"$f":"IF(SISWA!D63=0,\"\",SISWA!D63)","v":"1-18-05-80-162-056-2"},{"$f":"IF(SISWA!E63=0,\"\",SISWA!E63)","v":"YOHAN EGA GILANG PERMANA"},72,null,71,74,83,75,65,75,70,70]
[57,{"$f":"IF(SISWA!B64=0,\"\",SISWA!B64)","v":""},{"$f":"IF(SISWA!C64=0,\"\",SISWA!C64)","v":""},{"$f":"IF(SISWA!D64=0,\"\",SISWA!D64)","v":"1-18-05-80-162-057-9"},{"$f":"IF(SISWA!E64=0,\"\",SISWA!E64)","v":""},null,null,null,null,null,{"$error":"#DIV/0!"},null,{"$error":"#DIV/0!"},{"$error":"#DIV/0!"},{"$error":"#DIV/0!"}]
[58,{"$f":"IF(SISWA!B65=0,\"\",SISWA!B65)","v":""},{"$f":"IF(SISWA!C65=0,\"\",SISWA!C65)","v":""},{"$f":"IF(SISWA!D65=0,\"\",SISWA!D65)","v":"1-18-05-80-162-058-8"},{"$f":"IF(SISWA!E65=0,\"\",SISWA!E65)","v":""},null,null,null,null,null,{"$error":"#DIV/0!"},null,null,{"$error":"#DIV/0!"},{"$error":"#DIV/0!"}]
[59,{"$f":"IF(SISWA!B66=0,\"\",SISWA!B66)","v":""},{"$f":"IF(SISWA!C66=0,\"\",SISWA!C66)","v":""},{"$f":"IF(SISWA!D66=0,\"\",SISWA!D66)","v":"1-18-05-80-162-059-7"},{"$f":"IF(SISWA!E66=0,\"\",SISWA!E66)","v":""},null,null,null,null,null,{"$error":"#DIV/0!"},null,null,{"$error":"#DIV/0!"},{"$error":"#DIV/0!"}]
[60,{"$f":"IF(SISWA!B67=0,\"\",SISWA!B67)","v":""},{"$f":"IF(SISWA!C67=0,\"\",SISWA!C67)","v":""},{"$f":"IF(SISWA!D67=0,\"\",SISWA!D67)","v":"1-18-05-80-162-060-6"},{"$f":"IF(SISWA!E67=0,\"\",SISWA!E67)","v":""},null,null,null,null,null,{"$error":"#DIV/0!"},null,null,{"$error":"#DIV/0!"},{"$error":"#DIV/0!"}]
[61,{"$f":"IF(SISWA!B68=0,\"\",SISWA!B68)","v":""},{"$f":"IF(SISWA!C68=0,\"\",SISWA!C68)","v":""},{"$f":"IF(SISWA!D68=0,\"\",SISWA!D68)","v":"1-18-05-80-162-061-5"},{"$f":"IF(SISWA!E68=0,\"\",SISWA!E68)","v":""},null,null,null,null,null,{"$error":"#DIV/0!"},null,null,{"$error":"#DIV/0!"},{"$error":"#DIV/0!"}]
[62,{"$f":"IF(SISWA!B69=0,\"\",SISWA!B69)","v":""},{"$f":"IF(SISWA!C69=0,\"\",SISWA!C69)","v":""},{"$f":"IF(SISWA!D69=0,\"\",SISWA!D69)","v":"062-4"},{"$f":"IF(SISWA!E69=0,\"\",SISWA!E69)","v":""},null,null,null,null,null,{"$error":"#DIV/0!"},null,null,{"$error":"#DIV/0!"},{"$error":"#DIV/0!"}]
[63,{"$f":"IF(SISWA!B70=0,\"\",SISWA!B70)","v":""},{"$f":"IF(SISWA!C70=0,\"\",SISWA!C70)","v":""},{"$f":"IF(SISWA!D70=0,\"\",SISWA!D70)","v":"063-3"},{"$f":"IF(SISWA!E70=0,\"\",SISWA!E70)","v":""},null,null,null,null,null,{"$error":"#DIV/0!"},null,null,{"$error":"#DIV/0!"},{"$error":"#DIV/0!"}]
[64,{"$f":"IF(SISWA!B71=0,\"\",SISWA!B71)","v":""},{"$f":"IF(SISWA!C71=0,\"\",SISWA!C71)","v":""},{"$f":"IF(SISWA!D71=0,\"\",SISWA!D71)","v":"064-2"},{"$f":"IF(SISWA!E71=0,\"\",SISWA!E71)","v":""},null,null,null,null,null,{"$error":"#DIV/0!"},null,null,{"$error":"#DIV/0!"},{"$error":"#DIV/0!"}]
[65,{"$f":"IF(SISWA!B72=0,\"\",SISWA!B72)","v":""},{"$f":"IF(SISWA!C72=0,\"\",SISWA!C72)","v":""},{"$f":"IF(SISWA!D72=0,\"\",SISWA!D72)","v":"065-"},{"$f":"IF(SISWA!E72=0,\"\",SISWA!E72)","v":""},null,null,null,null,null,{"$error":"#DIV/0!"},null,null,{"$error":"#DIV/0!"},{"$error":"#DIV/0!"}]
[66,{"$f":"IF(SISWA!B73=0,\"\",SISWA!B73)","v":""},{"$f":"IF(SISWA!C73=0,\"\",SISWA!C73)","v":""},{"$f":"IF(SISWA!D73=0,\"\",SISWA!D73)","v":"066-"},{"$f":"IF(SISWA!E73=0,\"\",SISWA!E73)","v":""},null,null,null,null,null,{"$f":"AVERAGE(F73:J73)","v":{"$error":"#DIV/0!"}},null,null,{"$f":"AVERAGE(L73:M73)","v":{"$error":"#DIV/0!"}},{"$f":"AVERAGE(L73:M73)","v":{"$error":"#DIV/0!"}}]
[67,{"$f":"IF(SISWA!B74=0,\"\",SISWA!B74)","v":""},{"$f":"IF(SISWA!C74=0,\"\",SISWA!C74)","v":""},{"$f":"IF(SISWA!D74=0,\"\",SISWA!D74)","v":"067-"},{"$f":"IF(SISWA!E74=0,\"\",SISWA!E74)","v":""},null,null,null,null,null,{"$error":"#DIV/0!"},null,null,{"$error":"#DIV/0!"},{"$error":"#DIV/0!"}]
[68,{"$f":"IF(SISWA!B75=0,\"\",SISWA!B75)","v":""},{"$f":"IF(SISWA!C75=0,\"\",SISWA!C75)","v":""},{"$f":"IF(SISWA!D75=0,\"\",SISWA!D75)","v":"068-"},{"$f":"IF(SISWA!E75=0,\"\",SISWA!E75)","v":""},null,null,null,null,null,{"$error":"#DIV/0!"},null,null,{"$error":"#DIV/0!"},{"$error":"#DIV/0!"}]
[69,{"$f":"IF(SISWA!B76=0,\"\",SISWA!B76)","v":""},{"$f":"IF(SISWA!C76=0,\"\",SISWA!C76)","v":""},{"$f":"IF(SISWA!D76=0,\"\",SISWA!D76)","v":"069-"},{"$f":"IF(SISWA!E76=0,\"\",SISWA!E76)","v":""},null,null,null,null,null,{"$error":"#DIV/0!"},null,null,{"$error":"#DIV/0!"},{"$error":"#DIV/0!"}]
[70,{"$f":"IF(SISWA!B77=0,\"\",SISWA!B77)","v":""},{"$f":"IF(SISWA!C77=0,\"\",SISWA!C77)","v":""},{"$f":"IF(SISWA!D77=0,\"\",SISWA!D77)","v":"070-"},{"$f":"IF(SISWA!E77=0,\"\",SISWA!E77)","v":""},null,null,null,null,null,{"$error":"#DIV/0!"},null,null,{"$error":"#DIV/0!"},{"$error":"#DIV/0!"}]
[71,{"$f":"IF(SISWA!B78=0,\"\",SISWA!B78)","v":""},{"$f":"IF(SISWA!C78=0,\"\",SISWA!C78)","v":""},{"$f":"IF(SISWA!D78=0,\"\",SISWA!D78)","v":"071-"},{"$f":"IF(SISWA!E78=0,\"\",SISWA!E78)","v":""},null,null,null,null,null,{"$error":"#DIV/0!"},null,null,{"$error":"#DIV/0!"},{"$error":"#DIV/0!"}]
[72,{"$f":"IF(SISWA!B79=0,\"\",SISWA!B79)","v":""},{"$f":"IF(SISWA!C79=0,\"\",SISWA!C79)","v":""},{"$f":"IF(SISWA!D79=0,\"\",SISWA!D79)","v":"072-"},{"$f":"IF(SISWA!E79=0,\"\",SISWA!E79)","v":""},null,null,null,null,null,{"$error":"#DIV/0!"},null,null,{"$error":"#DIV/0!"},{"$error":"#DIV/0!"}]
[73,{"$f":"IF(SISWA!B80=0,\"\",SISWA!B80)","v":""},{"$f":"IF(SISWA!C80=0,\"\",SISWA!C80)","v":""},{"$f":"IF(SISWA!D80=0,\"\",SISWA!D80)","v":"073-"},{"$f":"IF(SISWA!E80=0,\"\",SISWA!E80)","v":""},null,null,null,null,null,{"$error":"#DIV/0!"},null,null,{"$error":"#DIV/0!"},{"$error":"#DIV/0!"}]
[74,{"$f":"IF(SISWA!B81=0,\"\",SISWA!B81)","v":""},{"$f":"IF(SISWA!C81=0,\"\",SISWA!C81)","v":""},{"$f":"IF(SISWA!D81=0,\"\",SISWA!D81)","v":"074-"},{"$f":"IF(SISWA!E81=0,\"\",SISWA!E81)","v":""},null,null,null,null,null,{"$error":"#DIV/0!"},null,null,{"$error":"#DIV/0!"},{"$error":"#DIV/0!"}]
[75,{"$f":"IF(SISWA!B82=0,\"\",SISWA!B82)","v":""},{"$f":"IF(SISWA!C82=0,\"\",SISWA!C82)","v":""},{"$f":"IF(SISWA!D82=0,\"\",SISWA!D82)","v":"075-"},{"$f":"IF(SISWA!E82=0,\"\",SISWA!E82)","v":""},null,null,null,null,null,{"$error":"#DIV/0!"},null,null,{"$error":"#DIV/0!"},{"$error":"#DIV/0!"}]
[76,{"$f":"IF(SISWA!B83=0,\"\",SISWA!B83)","v":""},{"$f":"IF(SISWA!C83=0,\"\",SISWA!C83)","v":""},{"$f":"IF(SISWA!D83=0,\"\",SISWA!D83)","v":"076-"},{"$f":"IF(SISWA!E83=0,\"\",SISWA!E83)","v":""},null,null,null,null,null,{"$error":"#DIV/0!"},null,null,{"$error":"#DIV/0!"},{"$error":"#DIV/0!"}]
[77,{"$f":"IF(SISWA!B84=0,\"\",SISWA!B84)","v":""},{"$f":"IF(SISWA!C84=0,\"\",SISWA!C84)","v":""},{"$f":"IF(SISWA!D84=0,\"\",SISWA!D84)","v":"077-"},{"$f":"IF(SISWA!E84=0,\"\",SISWA!E84)","v":""},null,null,null,null,null,{"$error":"#DIV/0!"},null,null,{"$error":"#DIV/0!"},{"$error":"#DIV/0!"}]
[78,{"$f":"IF(SISWA!B85=0,\"\",SISWA!B85)","v":""},{"$f":"IF(SISWA!C85=0,\"\",SISWA!C85)","v":""},{"$f":"IF(SISWA!D85=0,\"\",SISWA!D85)","v":"078-"},{"$f":"IF(SISWA!E85=0,\"\",SISWA!E85)","v":""},null,null,null,null,null,{"$error":"#DIV/0!"},null,null,{"$error":"#DIV/0!"},{"$error":"#DIV/0!"}]
[79,{"$f":"IF(SISWA!B86=0,\"\",SISWA!B86)","v":""},{"$f":"IF(SISWA!C86=0,\"\",SISWA!C86)","v":""},{"$f":"IF(SISWA!D86=0,\"\",SISWA!D86)","v":"079-"},{"$f":"IF(SISWA!E86=0,\"\",SISWA!E86)","v":""},null,null,null,null,null,{"$error":"#DIV/0!"},null,null,{"$error":"#DIV/0!"},{"$error":"#DIV/0!"}]
[80,{"$f":"IF(SISWA!B87=0,\"\",SISWA!B87)","v":""},{"$f":"IF(SISWA!C87=0,\"\",SISWA!C87)","v":""},{"$f":"IF(SISWA!D87=0,\"\",SISWA!D87)","v":"080-"},{"$f":"IF(SISWA!E87=0,\"\",SISWA!E87)","v":""},null,null,null,null,null,{"$error":"#DIV/0!"},null,null,{"$error":"#DIV/0!"},{"$error":"#DIV/0!"}]
[81,{"$f":"IF(SISWA!B88=0,\"\",SISWA!B88)","v":""},{"$f":"IF(SISWA!C88=0,\"\",SISWA!C88)","v":""},{"$f":"IF(SISWA!D88=0,\"\",SISWA!D88)","v":"081-"},{"$f":"IF(SISWA!E88=0,\"\",SISWA!E88)","v":""},null,null,null,null,null,{"$error":"#DIV/0!"},null,null,{"$error":"#DIV/0!"},{"$error":"#DIV/0!"}]
[82,{"$f":"IF(SISWA!B89=0,\"\",SISWA!B89)","v":""},{"$f":"IF(SISWA!C89=0,\"\",SISWA!C89)","v":""},{"$f":"IF(SISWA!D89=0,\"\",SISWA!D89)","v":"082-"},{"$f":"IF(SISWA!E89=0,\"\",SISWA!E89)","v":""},null,null,null,null,null,{"$error":"#DIV/0!"},null,null,{"$error":"#DIV/0!"},{"$error":"#DIV/0!"}]
[83,{"$f":"IF(SISWA!B90=0,\"\",SISWA!B90)","v":""},{"$f":"IF(SISWA!C90=0,\"\",SISWA!C90)","v":""},{"$f":"IF(SISWA!D90=0,\"\",SISWA!D90)","v":"083-"},{"$f":"IF(SISWA!E90=0,\"\",SISWA!E90)","v":""},null,null,null,null,null,{"$error":"#DIV/0!"},null,null,{"$error":"#DIV/0!"},{"$error":"#DIV/0!"}]
[84,{"$f":"IF(SISWA!B91=0,\"\",SISWA!B91)","v":""},{"$f":"IF(SISWA!C91=0,\"\",SISWA!C91)","v":""},{"$f":"IF(SISWA!D91=0,\"\",SISWA!D91)","v":"084-"},{"$f":"IF(SISWA!E91=0,\"\",SISWA!E91)","v":""},null,null,null,null,null,{"$error":"#DIV/0!"},null,null,{"$error":"#DIV/0!"},{"$error":"#DIV/0!"}]
[85,{"$f":"IF(SISWA!B92=0,\"\",SISWA!B92)","v":""},{"$f":"IF(SISWA!C92=0,\"\",SISWA!C92)","v":""},{"$f":"IF(SISWA!D92=0,\"\",SISWA!D92)","v":"085-"},{"$f":"IF(SISWA!E92=0,\"\",SISWA!E92)","v":""},null,null,null,null,null,{"$error":"#DIV/0!"},null,null,{"$error":"#DIV/0!"},{"$error":"#DIV/0!"}]
[86,{"$f":"IF(SISWA!B93=0,\"\",SISWA!B93)","v":""},{"$f":"IF(SISWA!C93=0,\"\",SISWA!C93)","v":""},{"$f":"IF(SISWA!D93=0,\"\",SISWA!D93)","v":"086-"},{"$f":"IF(SISWA!E93=0,\"\",SISWA!E93)","v":""},null,null,null,null,null,{"$error":"#DIV/0!"},null,null,{"$error":"#DIV/0!"},{"$error":"#DIV/0!"}]
[87,{"$f":"IF(SISWA!B94=0,\"\",SISWA!B94)","v":""},{"$f":"IF(SISWA!C94=0,\"\",SISWA!C94)","v":""},{"$f":"IF(SISWA!D94=0,\"\",SISWA!D94)","v":"087-"},{"$f":"IF(SISWA!E94=0,\"\",SISWA!E94)","v":""},null,null,null,null,null,{"$error":"#DIV/0!"},null,null,{"$error":"#DIV/0!"},{"$error":"#DIV/0!"}]
[88,{"$f":"IF(SISWA!B95=0,\"\",SISWA!B95)","v":""},{"$f":"IF(SISWA!C95=0,\"\",SISWA!C95)","v":""},{"$f":"IF(SISWA!D95=0,\"\",SISWA!D95)","v":"088-"},{"$f":"IF(SISWA!E95=0,\"\",SISWA!E95)","v":""},null,null,null,null,null,{"$error":"#DIV/0!"},null,null,{"$error":"#DIV/0!"},{"$error":"#DIV/0!"}]
[89,{"$f":"IF(SISWA!B96=0,\"\",SISWA!B96)","v":""},{"$f":"IF(SISWA!C96=0,\"\",SISWA!C96)","v":""},{"$f":"IF(SISWA!D96=0,\"\",SISWA!D96)","v":"089-"},{"$f":"IF(SISWA!E96=0,\"\",SISWA!E96)","v":""},null,null,null,null,null,{"$error":"#DIV/0!"},null,null,{"$error":"#DIV/0!"},{"$error":"#DIV/0!"}]
[90,{"$f":"IF(SISWA!B97=0,\"\",SISWA!B97)","v":""},{"$f":"IF(SISWA!C97=0,\"\",SISWA!C97)","v":""},{"$f":"IF(SISWA!D97=0,\"\",SISWA!D97)","v":"090-"},{"$f":"IF(SISWA!E97=0,\"\",SISWA!E97)","v":""},null,null,null,null,null,{"$error":"#DIV/0!"},null,null,{"$error":"#DIV/0!"},{"$error":"#DIV/0!"}]
[91,{"$f":"IF(SISWA!B98=0,\"\",SISWA!B98)","v":""},{"$f":"IF(SISWA!C98=0,\"\",SISWA!C98)","v":""},{"$f":"IF(SISWA!D98=0,\"\",SISWA!D98)","v":"091-"},{"$f":"IF(SISWA!E98=0,\"\",SISWA!E98)","v":""},null,null,null,null,null,{"$error":"#DIV/0!"},null,null,{"$error":"#DIV/0!"},{"$error":"#DIV/0!"}]
[92,{"$f":"IF(SISWA!B99=0,\"\",SISWA!B99)","v":""},{"$f":"IF(SISWA!C99=0,\"\",SISWA!C99)","v":""},{"$f":"IF(SISWA!D99=0,\"\",SISWA!D99)","v":"092-"},{"$f":"IF(SISWA!E99=0,\"\",SISWA!E99)","v":""},null,null,null,null,null,{"$error":"#DIV/0!"},null,null,{"$error":"#DIV/0!"},{"$error":"#DIV/0!"}]
[93,{"$f":"IF(SISWA!B100=0,\"\",SISWA!B100)","v":""},{"$f":"IF(SISWA!C100=0,\"\",SISWA!C100)","v":""},{"$f":"IF(SISWA!D100=0,\"\",SISWA!D100)","v":"093-"},{"$f":"IF(SISWA!E100=0,\"\",SISWA!E100)","v":""},null,null,null,null,null,{"$error":"#DIV/0!"},null,null,{"$error":"#DIV/0!"},{"$error":"#DIV/0!"}]
[94,{"$f":"IF(SISWA!B101=0,\"\",SISWA!B101)","v":""},{"$f":"IF(SISWA!C101=0,\"\",SISWA!C101)","v":""},{"$f":"IF(SISWA!D101=0,\"\",SISWA!D101)","v":"094-"},{"$f":"IF(SISWA!E101=0,\"\",SISWA!E101)","v":""},null,null,null,null,null,{"$error":"#DIV/0!"},null,null,{"$error":"#DIV/0!"},{"$error":"#DIV/0!"}]
[95,{"$f":"IF(SISWA!B102=0,\"\",SISWA!B102)","v":""},{"$f":"IF(SISWA!C102=0,\"\",SISWA!C102)","v":""},{"$f":"IF(SISWA!D102=0,\"\",SISWA!D102)","v":"095-"},{"$f":"IF(SISWA!E102=0,\"\",SISWA!E102)","v":""},null,null,null,null,null,{"$error":"#DIV/0!"},null,null,{"$error":"#DIV/0!"},{"$error":"#DIV/0!"}]
[96,{"$f":"IF(SISWA!B103=0,\"\",SISWA!B103)","v":""},{"$f":"IF(SISWA!C103=0,\"\",SISWA!C103)","v":""},{"$f":"IF(SISWA!D103=0,\"\",SISWA!D103)","v":"096-"},{"$f":"IF(SISWA!E103=0,\"\",SISWA!E103)","v":""},null,null,null,null,null,{"$error":"#DIV/0!"},null,null,{"$error":"#DIV/0!"},{"$error":"#DIV/0!"}]
[97,{"$f":"IF(SISWA!B104=0,\"\",SISWA!B104)","v":""},{"$f":"IF(SISWA!C104=0,\"\",SISWA!C104)","v":""},{"$f":"IF(SISWA!D104=0,\"\",SISWA!D104)","v":"097-"},{"$f":"IF(SISWA!E104=0,\"\",SISWA!E104)","v":""},null,null,null,null,null,{"$error":"#DIV/0!"},null,null,{"$error":"#DIV/0!"},{"$error":"#DIV/0!"}]
[98,{"$f":"IF(SISWA!B105=0,\"\",SISWA!B105)","v":""},{"$f":"IF(SISWA!C105=0,\"\",SISWA!C105)","v":""},{"$f":"IF(SISWA!D105=0,\"\",SISWA!D105)","v":"098-"},{"$f":"IF(SISWA!E105=0,\"\",SISWA!E105)","v":""},null,null,null,null,null,{"$error":"#DIV/0!"},null,null,{"$error":"#DIV/0!"},{"$error":"#DIV/0!"}]
[99,{"$f":"IF(SISWA!B106=0,\"\",SISWA!B106)","v":""},{"$f":"IF(SISWA!C106=0,\"\",SISWA!C106)","v":""},{"$f":"IF(SISWA!D106=0,\"\",SISWA!D106)","v":"099-"},{"$f":"IF(SISWA!E106=0,\"\",SISWA!E106)","v":""},null,null,null,null,null,{"$error":"#DIV/0!"},null,null,{"$error":"#DIV/0!"},{"$error":"#DIV/0!"}]
[100,{"$f":"IF(SISWA!B107=0,\"\",SISWA!B107)","v":""},{"$f":"IF(SISWA!C107=0,\"\",SISWA!C107)","v":""},{"$f":"IF(SISWA!D107=0,\"\",SISWA!D107)","v":"100-"},{"$f":"IF(SISWA!E107=0,\"\",SISWA!E107)","v":""},null,null,null,null,null,{"$error":"#DIV/0!"},null,null,{"$error":"#DIV/0!"},{"$error":"#DIV/0!"}]
[101,{"$f":"IF(SISWA!B108=0,\"\",SISWA!B108)","v":""},{"$f":"IF(SISWA!C108=0,\"\",SISWA!C108)","v":""},{"$f":"IF(SISWA!D108=0,\"\",SISWA!D108)","v":"101-"},{"$f":"IF(SISWA!E108=0,\"\",SISWA!E108)","v":""},null,null,null,null,null,{"$error":"#DIV/0!"},null,null,{"$error":"#DIV/0!"},{"$error":"#DIV/0!"}]
[102,{"$f":"IF(SISWA!B109=0,\"\",SISWA!B109)","v":""},{"$f":"IF(SISWA!C109=0,\"\",SISWA!C109)","v":""},{"$f":"IF(SISWA!D109=0,\"\",SISWA!D109)","v":"102-"},{"$f":"IF(SISWA!E109=0,\"\",SISWA!E109)","v":""},null,null,null,null,null,{"$error":"#DIV/0!"},null,null,{"$error":"#DIV/0!"},{"$error":"#DIV/0!"}]
[103,{"$f":"IF(SISWA!B110=0,\"\",SISWA!B110)","v":""},{"$f":"IF(SISWA!C110=0,\"\",SISWA!C110)","v":""},{"$f":"IF(SISWA!D110=0,\"\",SISWA!D110)","v":"103-"},{"$f":"IF(SISWA!E110=0,\"\",SISWA!E110)","v":""},null,null,null,null,null,{"$error":"#DIV/0!"},null,null,{"$error":"#DIV/0!"},{"$error":"#DIV/0!"}]
[104,{"$f":"IF(SISWA!B111=0,\"\",SISWA!B111)","v":""},{"$f":"IF(SISWA!C111=0,\"\",SISWA!C111)","v":""},{"$f":"IF(SISWA!D111=0,\"\",SISWA!D111)","v":"104-"},{"$f":"IF(SISWA!E111=0,\"\",SISWA!E111)","v":""},null,null,null,null,null,{"$error":"#DIV/0!"},null,null,{"$error":"#DIV/0!"},{"$error":"#DIV/0!"}]
[105,{"$f":"IF(SISWA!B112=0,\"\",SISWA!B112)","v":""},{"$f":"IF(SISWA!C112=0,\"\",SISWA!C112)","v":""},{"$f":"IF(SISWA!D112=0,\"\",SISWA!D112)","v":"105-"},{"$f":"IF(SISWA!E112=0,\"\",SISWA!E112)","v":""},null,null,null,null,null,{"$error":"#DIV/0!"},null,null,{"$error":"#DIV/0!"},{"$error":"#DIV/0!"}]
[106,{"$f":"IF(SISWA!B113=0,\"\",SISWA!B113)","v":""},{"$f":"IF(SISWA!C113=0,\"\",SISWA!C113)","v":""},{"$f":"IF(SISWA!D113=0,\"\",SISWA!D113)","v":"106-"},{"$f":"IF(SISWA!E113=0,\"\",SISWA!E113)","v":""},null,null,null,null,null,{"$error":"#DIV/0!"},null,null,{"$error":"#DIV/0!"},{"$error":"#DIV/0!"}]
[107,{"$f":"IF(SISWA!B114=0,\"\",SISWA!B114)","v":""},{"$f":"IF(SISWA!C114=0,\"\",SISWA!C114)","v":""},{"$f":"IF(SISWA!D114=0,\"\",SISWA!D114)","v":"107-"},{"$f":"IF(SISWA!E114=0,\"\",SISWA!E114)","v":""},null,null,null,null,null,{"$error":"#DIV/0!"},null,null,{"$error":"#DIV/0!"},{"$error":"#DIV/0!"}]
[108,{"$f":"IF(SISWA!B115=0,\"\",SISWA!B115)","v":""},{"$f":"IF(SISWA!C115=0,\"\",SISWA!C115)","v":""},{"$f":"IF(SISWA!D115=0,\"\",SISWA!D115)","v":"108-"},{"$f":"IF(SISWA!E115=0,\"\",SISWA!E115)","v":""},null,null,null,null,null,{"$error":"#DIV/0!"},null,null,{"$error":"#DIV/0!"},{"$error":"#DIV/0!"}]
[109,{"$f":"IF(SISWA!B116=0,\"\",SISWA!B116)","v":""},{"$f":"IF(SISWA!C116=0,\"\",SISWA!C116)","v":""},{"$f":"IF(SISWA!D116=0,\"\",SISWA!D116)","v":"109-"},{"$f":"IF(SISWA!E116=0,\"\",SISWA!E116)","v":""},null,null,null,null,null,{"$error":"#DIV/0!"},null,null,{"$error":"#DIV/0!"},{"$error":"#DIV/0!"}]
[110,{"$f":"IF(SISWA!B117=0,\"\",SISWA!B117)","v":""},{"$f":"IF(SISWA!C117=0,\"\",SISWA!C117)","v":""},{"$f":"IF(SISWA!D117=0,\"\",SISWA!D117)","v":"110-"},{"$f":"IF(SISWA!E117=0,\"\",SISWA!E117)","v":""},null,null,null,null,null,{"$error":"#DIV/0!"},null,null,{"$error":"#DIV/0!"},{"$error":"#DIV/0!"}]
[111,{"$f":"IF(SISWA!B118=0,\"\",SISWA!B118)","v":""},{"$f":"IF(SISWA!C118=0,\"\",SISWA!C118)","v":""},{"$f":"IF(SISWA!D118=0,\"\",SISWA!D118)","v":"111-"},{"$f":"IF(SISWA!E118=0,\"\",SISWA!E118)","v":""},null,null,null,null,null,{"$error":"#DIV/0!"},null,null,{"$error":"#DIV/0!"},{"$error":"#DIV/0!"}]
[112,{"$f":"IF(SISWA!B119=0,\"\",SISWA!B119)","v":""},{"$f":"IF(SISWA!C119=0,\"\",SISWA!C119)","v":""},{"$f":"IF(SISWA!D119=0,\"\",SISWA!D119)","v":"112-"},{"$f":"IF(SISWA!E119=0,\"\",SISWA!E119)","v":""},null,null,null,null,null,{"$error":"#DIV/0!"},null,null,{"$error":"#DIV/0!"},{"$error":"#DIV/0!"}]
[113,{"$f":"IF(SISWA!B120=0,\"\",SISWA!B120)","v":""},{"$f":"IF(SISWA!C120=0,\"\",SISWA!C120)","v":""},{"$f":"IF(SISWA!D120=0,\"\",SISWA!D120)","v":"113-"},{"$f":"IF(SISWA!E120=0,\"\",SISWA!E120)","v":""},null,null,null,null,null,{"$error":"#DIV/0!"},null,null,{"$error":"#DIV/0!"},{"$error":"#DIV/0!"}]
[114,{"$f":"IF(SISWA!B121=0,\"\",SISWA!B121)","v":""},{"$f":"IF(SISWA!C121=0,\"\",SISWA!C121)","v":""},{"$f":"IF(SISWA!D121=0,\"\",SISWA!D121)","v":"114-"},{"$f":"IF(SISWA!E121=0,\"\",SISWA!E121)","v":""},null,null,null,null,null,{"$error":"#DIV/0!"},null,null,{"$error":"#DIV/0!"},{"$error":"#DIV/0!"}]
[115,{"$f":"IF(SISWA!B122=0,\"\",SISWA!B122)","v":""},{"$f":"IF(SISWA!C122=0,\"\",SISWA!C122)","v":""},{"$f":"IF(SISWA!D122=0,\"\",SISWA!D122)","v":"115-"},{"$f":"IF(SISWA!E122=0,\"\",SISWA!E122)","v":""},null,null,null,null,null,{"$error":"#DIV/0!"},null,null,{"$error":"#DIV/0!"},{"$error":"#DIV/0!"}]
[116,{"$f":"IF(SISWA!B123=0,\"\",SISWA!B123)","v":""},{"$f":"IF(SISWA!C123=0,\"\",SISWA!C123)","v":""},{"$f":"IF(SISWA!D123=0,\"\",SISWA!D123)","v":"116-"},{"$f":"IF(SISWA!E123=0,\"\",SISWA!E123)","v":""},null,null,null,null,null,{"$error":"#DIV/0!"},null,null,{"$error":"#DIV/0!"},{"$error":"#DIV/0!"}]
[117,{"$f":"IF(SISWA!B124=0,\"\",SISWA!B124)","v":""},{"$f":"IF(SISWA!C124=0,\"\",SISWA!C124)","v":""},{"$f":"IF(SISWA!D124=0,\"\",SISWA!D124)","v":"117-"},{"$f":"IF(SISWA!E124=0,\"\",SISWA!E124)","v":""},null,null,null,null,null,{"$error":"#DIV/0!"},null,null,{"$error":"#DIV/0!"},{"$error":"#DIV/0!"}]
[118,{"$f":"IF(SISWA!B125=0,\"\",SISWA!B125)","v":""},{"$f":"IF(SISWA!C125=0,\"\",SISWA!C125)","v":""},{"$f":"IF(SISWA!D125=0,\"\",SISWA!D125)","v":"118-"},{"$f":"IF(SISWA!E125=0,\"\",SISWA!E125)","v":""},null,null,null,null,null,{"$error":"#DIV/0!"},null,null,{"$error":"#DIV/0!"},{"$error":"#DIV/0!"}]
[119,{"$f":"IF(SISWA!B126=0,\"\",SISWA!B126)","v":""},{"$f":"IF(SISWA!C126=0,\"\",SISWA!C126)","v":""},{"$f":"IF(SISWA!D126=0,\"\",SISWA!D126)","v":"119-"},{"$f":"IF(SISWA!E126=0,\"\",SISWA!E126)","v":""},null,null,null,null,null,{"$error":"#DIV/0!"},null,null,{"$error":"#DIV/0!"},{"$error":"#DIV/0!"}]
[120,{"$f":"IF(SISWA!B127=0,\"\",SISWA!B127)","v":""},{"$f":"IF(SISWA!C127=0,\"\",SISWA!C127)","v":""},{"$f":"IF(SISWA!D127=0,\"\",SISWA!D127)","v":"120-"},{"$f":"IF(SISWA!E127=0,\"\",SISWA!E127)","v":""},null,null,null,null,null,{"$error":"#DIV/0!"},null,null,{"$error":"#DIV/0!"},{"$error":"#DIV/0!"}]
[121,{"$f":"IF(SISWA!B128=0,\"\",SISWA!B128)","v":""},{"$f":"IF(SISWA!C128=0,\"\",SISWA!C128)","v":""},{"$f":"IF(SISWA!D128=0,\"\",SISWA!D128)","v":"121-"},{"$f":"IF(SISWA!E128=0,\"\",SISWA!E128)","v":""},null,null,null,null,null,{"$error":"#DIV/0!"},null,null,{"$error":"#DIV/0!"},{"$error":"#DIV/0!"}]
[122,{"$f":"IF(SISWA!B129=0,\"\",SISWA!B129)","v":""},{"$f":"IF(SISWA!C129=0,\"\",SISWA!C129)","v":""},{"$f":"IF(SISWA!D129=0,\"\",SISWA!D129)","v":"122-"},{"$f":"IF(SISWA!E129=0,\"\",SISWA!E129)","v":""},null,null,null,null,null,{"$error":"#DIV/0!"},null,null,{"$error":"#DIV/0!"},{"$error":"#DIV/0!"}]
[123,{"$f":"IF(SISWA!B130=0,\"\",SISWA!B130)","v":""},{"$f":"IF(SISWA!C130=0,\"\",SISWA!C130)","v":""},{"$f":"IF(SISWA!D130=0,\"\",SISWA!D130)","v":"123-"},{"$f":"IF(SISWA!E130=0,\"\",SISWA!E130)","v":""},null,null,null,null,null,{"$error":"#DIV/0!"},null,null,{"$error":"#DIV/0!"},{"$error":"#DIV/0!"}]
[124,{"$f":"IF(SISWA!B131=0,\"\",SISWA!B131)","v":""},{"$f":"IF(SISWA!C131=0,\"\",SISWA!C131)","v":""},{"$f":"IF(SISWA!D131=0,\"\",SISWA!D131)","v":"124-"},{"$f":"IF(SISWA!E131=0,\"\",SISWA!E131)","v":""},null,null,null,null,null,{"$error":"#DIV/0!"},null,null,{"$error":"#DIV/0!"},{"$error":"#DIV/0!"}]
[125,{"$f":"IF(SISWA!B132=0,\"\",SISWA!B132)","v":""},{"$f":"IF(SISWA!C132=0,\"\",SISWA!C132)","v":""},{"$f":"IF(SISWA!D132=0,\"\",SISWA!D132)","v":"125-"},{"$f":"IF(SISWA!E132=0,\"\",SISWA!E132)","v":""},null,null,null,null,null,{"$error":"#DIV/0!"},null,null,{"$error":"#DIV/0!"},{"$error":"#DIV/0!"}]
[126,{"$f":"IF(SISWA!B133=0,\"\",SISWA!B133)","v":""},{"$f":"IF(SISWA!C133=0,\"\",SISWA!C133)","v":""},{"$f":"IF(SISWA!D133=0,\"\",SISWA!D133)","v":"126-"},{"$f":"IF(SISWA!E133=0,\"\",SISWA!E133)","v":""},null,null,null,null,null,{"$error":"#DIV/0!"},null,null,{"$error":"#DIV/0!"},{"$error":"#DIV/0!"}]
[127,{"$f":"IF(SISWA!B134=0,\"\",SISWA!B134)","v":""},{"$f":"IF(SISWA!C134=0,\"\",SISWA!C134)","v":""},{"$f":"IF(SISWA!D134=0,\"\",SISWA!D134)","v":"127-"},{"$f":"IF(SISWA!E134=0,\"\",SISWA!E134)","v":""},null,null,null,null,null,{"$error":"#DIV/0!"},null,null,{"$error":"#DIV/0!"},{"$error":"#DIV/0!"}]
[128,{"$f":"IF(SISWA!B135=0,\"\",SISWA!B135)","v":""},{"$f":"IF(SISWA!C135=0,\"\",SISWA!C135)","v":""},{"$f":"IF(SISWA!D135=0,\"\",SISWA!D135)","v":"128-"},{"$f":"IF(SISWA!E135=0,\"\",SISWA!E135)","v":""},null,null,null,null,null,{"$error":"#DIV/0!"},null,null,{"$error":"#DIV/0!"},{"$error":"#DIV/0!"}]
[129,{"$f":"IF(SISWA!B136=0,\"\",SISWA!B136)","v":""},{"$f":"IF(SISWA!C136=0,\"\",SISWA!C136)","v":""},{"$f":"IF(SISWA!D136=0,\"\",SISWA!D136)","v":"129-"},{"$f":"IF(SISWA!E136=0,\"\",SISWA!E136)","v":""},null,null,null,null,null,{"$error":"#DIV/0!"},null,null,{"$error":"#DIV/0!"},{"$error":"#DIV/0!"}]
[130,{"$f":"IF(SISWA!B137=0,\"\",SISWA!B137)","v":""},{"$f":"IF(SISWA!C137=0,\"\",SISWA!C137)","v":""},{"$f":"IF(SISWA!D137=0,\"\",SISWA!D137)","v":"130-"},{"$f":"IF(SISWA!E137=0,\"\",SISWA!E137)","v":""},null,null,null,null,null,{"$f":"AVERAGE(F137:J137)","v":{"$error":"#DIV/0!"}},null,null,{"$f":"AVERAGE(L137:M137)","v":{"$error":"#DIV/0!"}},{"$f":"AVERAGE(L137:M137)","v":{"$error":"#DIV/0!"}}]
[131,{"$f":"IF(SISWA!B138=0,\"\",SISWA!B138)","v":""},{"$f":"IF(SISWA!C138=0,\"\",SISWA!C138)","v":""},{"$f":"IF(SISWA!D138=0,\"\",SISWA!D138)","v":"131-"},{"$f":"IF(SISWA!E138=0,\"\",SISWA!E138)","v":""},null,null,null,null,null,{"$error":"#DIV/0!"},null,null,{"$error":"#DIV/0!"},{"$error":"#DIV/0!"}]
[132,{"$f":"IF(SISWA!B139=0,\"\",SISWA!B139)","v":""},{"$f":"IF(SISWA!C139=0,\"\",SISWA!C139)","v":""},{"$f":"IF(SISWA!D139=0,\"\",SISWA!D139)","v":"132-"},{"$f":"IF(SISWA!E139=0,\"\",SISWA!E139)","v":""},null,null,null,null,null,{"$error":"#DIV/0!"},null,null,{"$error":"#DIV/0!"},{"$error":"#DIV/0!"}]
[133,{"$f":"IF(SISWA!B140=0,\"\",SISWA!B140)","v":""},{"$f":"IF(SISWA!C140=0,\"\",SISWA!C140)","v":""},{"$f":"IF(SISWA!D140=0,\"\",SISWA!D140)","v":"133-"},{"$f":"IF(SISWA!E140=0,\"\",SISWA!E140)","v":""},null,null,null,null,null,{"$error":"#DIV/0!"},null,null,{"$error":"#DIV/0!"},{"$error":"#DIV/0!"}]
[134,{"$f":"IF(SISWA!B141=0,\"\",SISWA!B141)","v":""},{"$f":"IF(SISWA!C141=0,\"\",SISWA!C141)","v":""},{"$f":"IF(SISWA!D141=0,\"\",SISWA!D141)","v":"134-"},{"$f":"IF(SISWA!E141=0,\"\",SISWA!E141)","v":""},null,null,null,null,null,{"$error":"#DIV/0!"},null,null,{"$error":"#DIV/0!"},{"$error":"#DIV/0!"}]
[135,{"$f":"IF(SISWA!B142=0,\"\",SISWA!B142)","v":""},{"$f":"IF(SISWA!C142=0,\"\",SISWA!C142)","v":""},{"$f":"IF(SISWA!D142=0,\"\",SISWA!D142)","v":"135-"},{"$f":"IF(SISWA!E142=0,\"\",SISWA!E142)","v":""},null,null,null,null,null,{"$error":"#DIV/0!"},null,null,{"$error":"#DIV/0!"},{"$error":"#DIV/0!"}]
[136,{"$f":"IF(SISWA!B143=0,\"\",SISWA!B143)","v":""},{"$f":"IF(SISWA!C143=0,\"\",SISWA!C143)","v":""},{"$f":"IF(SISWA!D143=0,\"\",SISWA!D143)","v":"136-"},{"$f":"IF(SISWA!E143=0,\"\",SISWA!E143)","v":""},null,null,null,null,null,{"$error":"#DIV/0!"},null,null,{"$error":"#DIV/0!"},{"$error":"#DIV/0!"}]
[137,{"$f":"IF(SISWA!B144=0,\"\",SISWA!B144)","v":""},{"$f":"IF(SISWA!C144=0,\"\",SISWA!C144)","v":""},{"$f":"IF(SISWA!D144=0,\"\",SISWA!D144)","v":"137-"},{"$f":"IF(SISWA!E144=0,\"\",SISWA!E144)","v":""},null,null,null,null,null,{"$error":"#DIV/0!"},null,null,{"$error":"#DIV/0!"},{"$error":"#DIV/0!"}]
[138,{"$f":"IF(SISWA!B145=0,\"\",SISWA!B145)","v":""},{"$f":"IF(SISWA!C145=0,\"\",SISWA!C145)","v":""},{"$f":"IF(SISWA!D145=0,\"\",SISWA!D145)","v":"138-"},{"$f":"IF(SISWA!E145=0,\"\",SISWA!E145)","v":""},null,null,null,null,null,{"$error":"#DIV/0!"},null,null,{"$error":"#DIV/0!"},{"$error":"#DIV/0!"}]
[139,{"$f":"IF(SISWA!B146=0,\"\",SISWA!B146)","v":""},{"$f":"IF(SISWA!C146=0,\"\",SISWA!C146)","v":""},{"$f":"IF(SISWA!D146=0,\"\",SISWA!D146)","v":"139-"},{"$f":"IF(SISWA!E146=0,\"\",SISWA!E146)","v":""},null,null,null,null,null,{"$error":"#DIV/0!"},null,null,{"$error":"#DIV/0!"},{"$error":"#DIV/0!"}]
[140,{"$f":"IF(SISWA!B147=0,\"\",SISWA!B147)","v":""},{"$f":"IF(SISWA!C147=0,\"\",SISWA!C147)","v":""},{"$f":"IF(SISWA!D147=0,\"\",SISWA!D147)","v":"140-"},{"$f":"IF(SISWA!E147=0,\"\",SISWA!E147)","v":""},null,null,null,null,null,{"$error":"#DIV/0!"},null,null,{"$error":"#DIV/0!"},{"$error":"#DIV/0!"}]
[141,{"$f":"IF(SISWA!B148=0,\"\",SISWA!B148)","v":""},{"$f":"IF(SISWA!C148=0,\"\",SISWA!C148)","v":""},{"$f":"IF(SISWA!D148=0,\"\",SISWA!D148)","v":"141-"},{"$f":"IF(SISWA!E148=0,\"\",SISWA!E148)","v":""},null,null,null,null,null,{"$error":"#DIV/0!"},null,null,{"$error":"#DIV/0!"},{"$error":"#DIV/0!"}]
[142,{"$f":"IF(SISWA!B149=0,\"\",SISWA!B149)","v":""},{"$f":"IF(SISWA!C149=0,\"\",SISWA!C149)","v":""},{"$f":"IF(SISWA!D149=0,\"\",SISWA!D149)","v":"142-"},{"$f":"IF(SISWA!E149=0,\"\",SISWA!E149)","v":""},null,null,null,null,null,{"$error":"#DIV/0!"},null,null,{"$error":"#DIV/0!"},{"$error":"#DIV/0!"}]
[143,{"$f":"IF(SISWA!B150=0,\"\",SISWA!B150)","v":""},{"$f":"IF(SISWA!C150=0,\"\",SISWA!C150)","v":""},{"$f":"IF(SISWA!D150=0,\"\",SISWA!D150)","v":"143-"},{"$f":"IF(SISWA!E150=0,\"\",SISWA!E150)","v":""},null,null,null,null,null,{"$error":"#DIV/0!"},null,null,{"$error":"#DIV/0!"},{"$error":"#DIV/0!"}]
[144,{"$f":"IF(SISWA!B151=0,\"\",SISWA!B151)","v":""},{"$f":"IF(SISWA!C151=0,\"\",SISWA!C151)","v":""},{"$f":"IF(SISWA!D151=0,\"\",SISWA!D151)","v":"144-"},{"$f":"IF(SISWA!E151=0,\"\",SISWA!E151)","v":""},null,null,null,null,null,{"$error":"#DIV/0!"},null,null,{"$error":"#DIV/0!"},{"$error":"#DIV/0!"}]
[145,{"$f":"IF(SISWA!B152=0,\"\",SISWA!B152)","v":""},{"$f":"IF(SISWA!C152=0,\"\",SISWA!C152)","v":""},{"$f":"IF(SISWA!D152=0,\"\",SISWA!D152)","v":"145-"},{"$f":"IF(SISWA!E152=0,\"\",SISWA!E152)","v":""},null,null,null,null,null,{"$error":"#DIV/0!"},null,null,{"$error":"#DIV/0!"},{"$error":"#DIV/0!"}]
[146,{"$f":"IF(SISWA!B153=0,\"\",SISWA!B153)","v":""},{"$f":"IF(SISWA!C153=0,\"\",SISWA!C153)","v":""},{"$f":"IF(SISWA!D153=0,\"\",SISWA!D153)","v":"146-"},{"$f":"IF(SISWA!E153=0,\"\",SISWA!E153)","v":""},null,null,null,null,null,{"$error":"#DIV/0!"},null,null,{"$error":"#DIV/0!"},{"$error":"#DIV/0!"}]
[147,{"$f":"IF(SISWA!B154=0,\"\",SISWA!B154)","v":""},{"$f":"IF(SISWA!C154=0,\"\",SISWA!C154)","v":""},{"$f":"IF(SISWA!D154=0,\"\",SISWA!D154)","v":"147-"},{"$f":"IF(SISWA!E154=0,\"\",SISWA!E154)","v":""},null,null,null,null,null,{"$error":"#DIV/0!"},null,null,{"$error":"#DIV/0!"},{"$error":"#DIV/0!"}]
[148,{"$f":"IF(SISWA!B155=0,\"\",SISWA!B155)","v":""},{"$f":"IF(SISWA!C155=0,\"\",SISWA!C155)","v":""},{"$f":"IF(SISWA!D155=0,\"\",SISWA!D155)","v":"148-"},{"$f":"IF(SISWA!E155=0,\"\",SISWA!E155)","v":""},null,null,null,null,null,{"$error":"#DIV/0!"},null,null,{"$error":"#DIV/0!"},{"$error":"#DIV/0!"}]
[149,{"$f":"IF(SISWA!B156=0,\"\",SISWA!B156)","v":""},{"$f":"IF(SISWA!C156=0,\"\",SISWA!C156)","v":""},{"$f":"IF(SISWA!D156=0,\"\",SISWA!D156)","v":"149-"},{"$f":"IF(SISWA!E156=0,\"\",SISWA!E156)","v":""},null,null,null,null,null,{"$error":"#DIV/0!"},null,null,{"$error":"#DIV/0!"},{"$error":"#DIV/0!"}]
[150,{"$f":"IF(SISWA!B157=0,\"\",SISWA!B157)","v":""},{"$f":"IF(SISWA!C157=0,\"\",SISWA!C157)","v":""},{"$f":"IF(SISWA!D157=0,\"\",SISWA!D157)","v":"150-"},{"$f":"IF(SISWA!E157=0,\"\",SISWA!E157)","v":""},null,null,null,null,null,{"$error":"#DIV/0!"},null,null,{"$error":"#DIV/0!"},{"$error":"#DIV/0!"}]
[151,{"$f":"IF(SISWA!B158=0,\"\",SISWA!B158)","v":""},{"$f":"IF(SISWA!C158=0,\"\",SISWA!C158)","v":""},{"$f":"IF(SISWA!D158=0,\"\",SISWA!D158)","v":"151-"},{"$f":"IF(SISWA!E158=0,\"\",SISWA!E158)","v":""},null,null,null,null,null,{"$error":"#DIV/0!"},null,null,{"$error":"#DIV/0!"},{"$error":"#DIV/0!"}]
[152,{"$f":"IF(SISWA!B159=0,\"\",SISWA!B159)","v":""},{"$f":"IF(SISWA!C159=0,\"\",SISWA!C159)","v":""},{"$f":"IF(SISWA!D159=0,\"\",SISWA!D159)","v":"152-"},{"$f":"IF(SISWA!E159=0,\"\",SISWA!E159)","v":""},null,null,null,null,null,{"$error":"#DIV/0!"},null,null,{"$error":"#DIV/0!"},{"$error":"#DIV/0!"}]
[153,{"$f":"IF(SISWA!B160=0,\"\",SISWA!B160)","v":""},{"$f":"IF(SISWA!C160=0,\"\",SISWA!C160)","v":""},{"$f":"IF(SISWA!D160=0,\"\",SISWA!D160)","v":"153-"},{"$f":"IF(SISWA!E160=0,\"\",SISWA!E160)","v":""},null,null,null,null,null,{"$error":"#DIV/0!"},null,null,{"$error":"#DIV/0!"},{"$error":"#DIV/0!"}]
[154,{"$f":"IF(SISWA!B161=0,\"\",SISWA!B161)","v":""},{"$f":"IF(SISWA!C161=0,\"\",SISWA!C161)","v":""},{"$f":"IF(SISWA!D161=0,\"\",SISWA!D161)","v":"154-"},{"$f":"IF(SISWA!E161=0,\"\",SISWA!E161)","v":""},null,null,null,null,null,{"$error":"#DIV/0!"},null,null,{"$error":"#DIV/0!"},{"$error":"#DIV/0!"}]
[155,{"$f":"IF(SISWA!B162=0,\"\",SISWA!B162)","v":""},{"$f":"IF(SISWA!C162=0,\"\",SISWA!C162)","v":""},{"$f":"IF(SISWA!D162=0,\"\",SISWA!D162)","v":"155-"},{"$f":"IF(SISWA!E162=0,\"\",SISWA!E162)","v":""},null,null,null,null,null,{"$error":"#DIV/0!"},null,null,{"$error":"#DIV/0!"},{"$error":"#DIV/0!"}]
[156,{"$f":"IF(SISWA!B163=0,\"\",SISWA!B163)","v":""},{"$f":"IF(SISWA!C163=0,\"\",SISWA!C163)","v":""},{"$f":"IF(SISWA!D163=0,\"\",SISWA!D163)","v":"156-"},{"$f":"IF(SISWA!E163=0,\"\",SISWA!E163)","v":""},null,null,null,null,null,{"$error":"#DIV/0!"},null,null,{"$error":"#DIV/0!"},{"$error":"#DIV/0!"}]
[157,{"$f":"IF(SISWA!B164=0,\"\",SISWA!B164)","v":""},{"$f":"IF(SISWA!C164=0,\"\",SISWA!C164)","v":""},{"$f":"IF(SISWA!D164=0,\"\",SISWA!D164)","v":"157-"},{"$f":"IF(SISWA!E164=0,\"\",SISWA!E164)","v":""},null,null,null,null,null,{"$error":"#DIV/0!"},null,null,{"$error":"#DIV/0!"},{"$error":"#DIV/0!"}]
[158,{"$f":"IF(SISWA!B165=0,\"\",SISWA!B165)","v":""},{"$f":"IF(SISWA!C165=0,\"\",SISWA!C165)","v":""},{"$f":"IF(SISWA!D165=0,\"\",SISWA!D165)","v":"158-"},{"$f":"IF(SISWA!E165=0,\"\",SISWA!E165)","v":""},null,null,null,null,null,{"$error":"#DIV/0!"},null,null,{"$error":"#DIV/0!"},{"$error":"#DIV/0!"}]
[159,{"$f":"IF(SISWA!B166=0,\"\",SISWA!B166)","v":""},{"$f":"IF(SISWA!C166=0,\"\",SISWA!C166)","v":""},{"$f":"IF(SISWA!D166=0,\"\",SISWA!D166)","v":"159-"},{"$f":"IF(SISWA!E166=0,\"\",SISWA!E166)","v":""},null,null,null,null,null,{"$error":"#DIV/0!"},null,null,{"$error":"#DIV/0!"},{"$error":"#DIV/0!"}]
[160,{"$f":"IF(SISWA!B167=0,\"\",SISWA!B167)","v":""},{"$f":"IF(SISWA!C167=0,\"\",SISWA!C167)","v":""},{"$f":"IF(SISWA!D167=0,\"\",SISWA!D167)","v":"160-"},{"$f":"IF(SISWA!E167=0,\"\",SISWA!E167)","v":""},null,null,null,null,null,{"$error":"#DIV/0!"},null,null,{"$error":"#DIV/0!"},{"$error":"#DIV/0!"}]
[161,{"$f":"IF(SISWA!B168=0,\"\",SISWA!B168)","v":""},{"$f":"IF(SISWA!C168=0,\"\",SISWA!C168)","v":""},{"$f":"IF(SISWA!D168=0,\"\",SISWA!D168)","v":"161-"},{"$f":"IF(SISWA!E168=0,\"\",SISWA!E168)","v":""},null,null,null,null,null,{"$error":"#DIV/0!"},null,null,{"$error":"#DIV/0!"},{"$error":"#DIV/0!"}]
[162,{"$f":"IF(SISWA!B169=0,\"\",SISWA!B169)","v":""},{"$f":"IF(SISWA!C169=0,\"\",SISWA!C169)","v":""},{"$f":"IF(SISWA!D169=0,\"\",SISWA!D169)","v":"162-"},{"$f":"IF(SISWA!E169=0,\"\",SISWA!E169)","v":""},null,null,null,null,null,{"$error":"#DIV/0!"},null,null,{"$error":"#DIV/0!"},{"$error":"#DIV/0!"}]
[163,{"$f":"IF(SISWA!B170=0,\"\",SISWA!B170)","v":""},{"$f":"IF(SISWA!C170=0,\"\",SISWA!C170)","v":""},{"$f":"IF(SISWA!D170=0,\"\",SISWA!D170)","v":"163-"},{"$f":"IF(SISWA!E170=0,\"\",SISWA!E170)","v":""},null,null,null,null,null,{"$error":"#DIV/0!"},null,null,{"$error":"#DIV/0!"},{"$error":"#DIV/0!"}]
[164,{"$f":"IF(SISWA!B171=0,\"\",SISWA!B171)","v":""},{"$f":"IF(SISWA!C171=0,\"\",SISWA!C171)","v":""},{"$f":"IF(SISWA!D171=0,\"\",SISWA!D171)","v":"164-"},{"$f":"IF(SISWA!E171=0,\"\",SISWA!E171)","v":""},null,null,null,null,null,{"$error":"#DIV/0!"},null,null,{"$error":"#DIV/0!"},{"$error":"#DIV/0!"}]
[165,{"$f":"IF(SISWA!B172=0,\"\",SISWA!B172)","v":""},{"$f":"IF(SISWA!C172=0,\"\",SISWA!C172)","v":""},{"$f":"IF(SISWA!D172=0,\"\",SISWA!D172)","v":"165-"},{"$f":"IF(SISWA!E172=0,\"\",SISWA!E172)","v":""},null,null,null,null,null,{"$error":"#DIV/0!"},null,null,{"$error":"#DIV/0!"},{"$error":"#DIV/0!"}]
[166,{"$f":"IF(SISWA!B173=0,\"\",SISWA!B173)","v":""},{"$f":"IF(SISWA!C173=0,\"\",SISWA!C173)","v":""},{"$f":"IF(SISWA!D173=0,\"\",SISWA!D173)","v":"166-"},{"$f":"IF(SISWA!E173=0,\"\",SISWA!E173)","v":""},null,null,null,null,null,{"$error":"#DIV/0!"},null,null,{"$error":"#DIV/0!"},{"$error":"#DIV/0!"}]
[167,{"$f":"IF(SISWA!B174=0,\"\",SISWA!B174)","v":""},{"$f":"IF(SISWA!C174=0,\"\",SISWA!C174)","v":""},{"$f":"IF(SISWA!D174=0,\"\",SISWA!D174)","v":"167-"},{"$f":"IF(SISWA!E174=0,\"\",SISWA!E174)","v":""},null,null,null,null,null,{"$error":"#DIV/0!"},null,null,{"$error":"#DIV/0!"},{"$error":"#DIV/0!"}]
[168,{"$f":"IF(SISWA!B175=0,\"\",SISWA!B175)","v":""},{"$f":"IF(SISWA!C175=0,\"\",SISWA!C175)","v":""},{"$f":"IF(SISWA!D175=0,\"\",SISWA!D175)","v":"168-"},{"$f":"IF(SISWA!E175=0,\"\",SISWA!E175)","v":""},null,null,null,null,null,{"$error":"#DIV/0!"},null,null,{"$error":"#DIV/0!"},{"$error":"#DIV/0!"}]
[169,{"$f":"IF(SISWA!B176=0,\"\",SISWA!B176)","v":""},{"$f":"IF(SISWA!C176=0,\"\",SISWA!C176)","v":""},{"$f":"IF(SISWA!D176=0,\"\",SISWA!D176)","v":"169-"},{"$f":"IF(SISWA!E176=0,\"\",SISWA!E176)","v":""},null,null,null,null,null,{"$error":"#DIV/0!"},null,null,{"$error":"#DIV/0!"},{"$error":"#DIV/0!"}]
[170,{"$f":"IF(SISWA!B177=0,\"\",SISWA!B177)","v":""},{"$f":"IF(SISWA!C177=0,\"\",SISWA!C177)","v":""},{"$f":"IF(SISWA!D177=0,\"\",SISWA!D177)","v":"170-"},{"$f":"IF(SISWA!E177=0,\"\",SISWA!E177)","v":""},null,null,null,null,null,{"$error":"#DIV/0!"},null,null,{"$error":"#DIV/0!"},{"$error":"#DIV/0!"}]
[171,{"$f":"IF(SISWA!B178=0,\"\",SISWA!B178)","v":""},{"$f":"IF(SISWA!C178=0,\"\",SISWA!C178)","v":""},{"$f":"IF(SISWA!D178=0,\"\",SISWA!D178)","v":"171-"},{"$f":"IF(SISWA!E178=0,\"\",SISWA!E178)","v":""},null,null,null,null,null,{"$error":"#DIV/0!"},null,null,{"$error":"#DIV/0!"},{"$error":"#DIV/0!"}]
[172,{"$f":"IF(SISWA!B179=0,\"\",SISWA!B179)","v":""},{"$f":"IF(SISWA!C179=0,\"\",SISWA!C179)","v":""},{"$f":"IF(SISWA!D179=0,\"\",SISWA!D179)","v":"172-"},{"$f":"IF(SISWA!E179=0,\"\",SISWA!E179)","v":""},null,null,null,null,null,{"$error":"#DIV/0!"},null,null,{"$error":"#DIV/0!"},{"$error":"#DIV/0!"}]
[173,{"$f":"IF(SISWA!B180=0,\"\",SISWA!B180)","v":""},{"$f":"IF(SISWA!C180=0,\"\",SISWA!C180)","v":""},{"$f":"IF(SISWA!D180=0,\"\",SISWA!D180)","v":"173-"},{"$f":"IF(SISWA!E180=0,\"\",SISWA!E180)","v":""},null,null,null,null,null,{"$error":"#DIV/0!"},null,null,{"$error":"#DIV/0!"},{"$error":"#DIV/0!"}]
[174,{"$f":"IF(SISWA!B181=0,\"\",SISWA!B181)","v":""},{"$f":"IF(SISWA!C181=0,\"\",SISWA!C181)","v":""},{"$f":"IF(SISWA!D181=0,\"\",SISWA!D181)","v":"174-"},{"$f":"IF(SISWA!E181=0,\"\",SISWA!E181)","v":""},null,null,null,null,null,{"$error":"#DIV/0!"},null,null,{"$error":"#DIV/0!"},{"$error":"#DIV/0!"}]
[175,{"$f":"IF(SISWA!B182=0,\"\",SISWA!B182)","v":""},{"$f":"IF(SISWA!C182=0,\"\",SISWA!C182)","v":""},{"$f":"IF(SISWA!D182=0,\"\",SISWA!D182)","v":"175-"},{"$f":"IF(SISWA!E182=0,\"\",SISWA!E182)","v":""},null,null,null,null,null,{"$error":"#DIV/0!"},null,null,{"$error":"#DIV/0!"},{"$error":"#DIV/0!"}]
[176,{"$f":"IF(SISWA!B183=0,\"\",SISWA!B183)","v":""},{"$f":"IF(SISWA!C183=0,\"\",SISWA!C183)","v":""},{"$f":"IF(SISWA!D183=0,\"\",SISWA!D183)","v":"176-"},{"$f":"IF(SISWA!E183=0,\"\",SISWA!E183)","v":""},null,null,null,null,null,{"$error":"#DIV/0!"},null,null,{"$error":"#DIV/0!"},{"$error":"#DIV/0!"}]
[177,{"$f":"IF(SISWA!B184=0,\"\",SISWA!B184)","v":""},{"$f":"IF(SISWA!C184=0,\"\",SISWA!C184)","v":""},{"$f":"IF(SISWA!D184=0,\"\",SISWA!D184)","v":"177-"},{"$f":"IF(SISWA!E184=0,\"\",SISWA!E184)","v":""},null,null,null,null,null,{"$error":"#DIV/0!"},null,null,{"$error":"#DIV/0!"},{"$error":"#DIV/0!"}]
[178,{"$f":"IF(SISWA!B185=0,\"\",SISWA!B185)","v":""},{"$f":"IF(SISWA!C185=0,\"\",SISWA!C185)","v":""},{"$f":"IF(SISWA!D185=0,\"\",SISWA!D185)","v":"178-"},{"$f":"IF(SISWA!E185=0,\"\",SISWA!E185)","v":""},null,null,null,null,null,{"$error":"#DIV/0!"},null,null,{"$error":"#DIV/0!"},{"$error":"#DIV/0!"}]
[179,{"$f":"IF(SISWA!B186=0,\"\",SISWA!B186)","v":""},{"$f":"IF(SISWA!C186=0,\"\",SISWA!C186)","v":""},{"$f":"IF(SISWA!D186=0,\"\",SISWA!D186)","v":"179-"},{"$f":"IF(SISWA!E186=0,\"\",SISWA!E186)","v":""},null,null,null,null,null,{"$error":"#DIV/0!"},null,null,{"$error":"#DIV/0!"},{"$error":"#DIV/0!"}]
[180,{"$f":"IF(SISWA!B187=0,\"\",SISWA!B187)","v":""},{"$f":"IF(SISWA!C187=0,\"\",SISWA!C187)","v":""},{"$f":"IF(SISWA!D187=0,\"\",SISWA!D187)","v":"180-"},{"$f":"IF(SISWA!E187=0,\"\",SISWA!E187)","v":""},null,null,null,null,null,{"$error":"#DIV/0!"},null,null,{"$error":"#DIV/0!"},{"$error":"#DIV/0!"}]
[181,{"$f":"IF(SISWA!B188=0,\"\",SISWA!B188)","v":""},{"$f":"IF(SISWA!C188=0,\"\",SISWA!C188)","v":""},{"$f":"IF(SISWA!D188=0,\"\",SISWA!D188)","v":"181-"},{"$f":"IF(SISWA!E188=0,\"\",SISWA!E188)","v":""},null,null,null,null,null,{"$error":"#DIV/0!"},null,null,{"$error":"#DIV/0!"},{"$error":"#DIV/0!"}]
[182,{"$f":"IF(SISWA!B189=0,\"\",SISWA!B189)","v":""},{"$f":"IF(SISWA!C189=0,\"\",SISWA!C189)","v":""},{"$f":"IF(SISWA!D189=0,\"\",SISWA!D189)","v":"182-"},{"$f":"IF(SISWA!E189=0,\"\",SISWA!E189)","v":""},null,null,null,null,null,{"$error":"#DIV/0!"},null,null,{"$error":"#DIV/0!"},{"$error":"#DIV/0!"}]
[183,{"$f":"IF(SISWA!B190=0,\"\",SISWA!B190)","v":""},{"$f":"IF(SISWA!C190=0,\"\",SISWA!C190)","v":""},{"$f":"IF(SISWA!D190=0,\"\",SISWA!D190)","v":"183-"},{"$f":"IF(SISWA!E190=0,\"\",SISWA!E190)","v":""},null,null,null,null,null,{"$error":"#DIV/0!"},null,null,{"$error":"#DIV/0!"},{"$error":"#DIV/0!"}]
[184,{"$f":"IF(SISWA!B191=0,\"\",SISWA!B191)","v":""},{"$f":"IF(SISWA!C191=0,\"\",SISWA!C191)","v":""},{"$f":"IF(SISWA!D191=0,\"\",SISWA!D191)","v":"184-"},{"$f":"IF(SISWA!E191=0,\"\",SISWA!E191)","v":""},null,null,null,null,null,{"$error":"#DIV/0!"},null,null,{"$error":"#DIV/0!"},{"$error":"#DIV/0!"}]
[185,{"$f":"IF(SISWA!B192=0,\"\",SISWA!B192)","v":""},{"$f":"IF(SISWA!C192=0,\"\",SISWA!C192)","v":""},{"$f":"IF(SISWA!D192=0,\"\",SISWA!D192)","v":"185-"},{"$f":"IF(SISWA!E192=0,\"\",SISWA!E192)","v":""},null,null,null,null,null,{"$error":"#DIV/0!"},null,null,{"$error":"#DIV/0!"},{"$error":"#DIV/0!"}]
[186,{"$f":"IF(SISWA!B193=0,\"\",SISWA!B193)","v":""},{"$f":"IF(SISWA!C193=0,\"\",SISWA!C193)","v":""},{"$f":"IF(SISWA!D193=0,\"\",SISWA!D193)","v":"186-"},{"$f":"IF(SISWA!E193=0,\"\",SISWA!E193)","v":""},null,null,null,null,null,{"$error":"#DIV/0!"},null,null,{"$error":"#DIV/0!"},{"$error":"#DIV/0!"}]
[187,{"$f":"IF(SISWA!B194=0,\"\",SISWA!B194)","v":""},{"$f":"IF(SISWA!C194=0,\"\",SISWA!C194)","v":""},{"$f":"IF(SISWA!D194=0,\"\",SISWA!D194)","v":"187-"},{"$f":"IF(SISWA!E194=0,\"\",SISWA!E194)","v":""},null,null,null,null,null,{"$error":"#DIV/0!"},null,null,{"$error":"#DIV/0!"},{"$error":"#DIV/0!"}]
[188,{"$f":"IF(SISWA!B195=0,\"\",SISWA!B195)","v":""},{"$f":"IF(SISWA!C195=0,\"\",SISWA!C195)","v":""},{"$f":"IF(SISWA!D195=0,\"\",SISWA!D195)","v":"188-"},{"$f":"IF(SISWA!E195=0,\"\",SISWA!E195)","v":""},null,null,null,null,null,{"$error":"#DIV/0!"},null,null,{"$error":"#DIV/0!"},{"$error":"#DIV/0!"}]
[189,{"$f":"IF(SISWA!B196=0,\"\",SISWA!B196)","v":""},{"$f":"IF(SISWA!C196=0,\"\",SISWA!C196)","v":""},{"$f":"IF(SISWA!D196=0,\"\",SISWA!D196)","v":"189-"},{"$f":"IF(SISWA!E196=0,\"\",SISWA!E196)","v":""},null,null,null,null,null,{"$error":"#DIV/0!"},null,null,{"$error":"#DIV/0!"},{"$error":"#DIV/0!"}]
[190,{"$f":"IF(SISWA!B197=0,\"\",SISWA!B197)","v":""},{"$f":"IF(SISWA!C197=0,\"\",SISWA!C197)","v":""},{"$f":"IF(SISWA!D197=0,\"\",SISWA!D197)","v":"190-"},{"$f":"IF(SISWA!E197=0,\"\",SISWA!E197)","v":""},null,null,null,null,null,{"$error":"#DIV/0!"},null,null,{"$error":"#DIV/0!"},{"$error":"#DIV/0!"}]
[191,{"$f":"IF(SISWA!B198=0,\"\",SISWA!B198)","v":""},{"$f":"IF(SISWA!C198=0,\"\",SISWA!C198)","v":""},{"$f":"IF(SISWA!D198=0,\"\",SISWA!D198)","v":"191-"},{"$f":"IF(SISWA!E198=0,\"\",SISWA!E198)","v":""},null,null,null,null,null,{"$error":"#DIV/0!"},null,null,{"$error":"#DIV/0!"},{"$error":"#DIV/0!"}]
[192,{"$f":"IF(SISWA!B199=0,\"\",SISWA!B199)","v":""},{"$f":"IF(SISWA!C199=0,\"\",SISWA!C199)","v":""},{"$f":"IF(SISWA!D199=0,\"\",SISWA!D199)","v":"192-"},{"$f":"IF(SISWA!E199=0,\"\",SISWA!E199)","v":""},null,null,null,null,null,{"$error":"#DIV/0!"},null,null,{"$error":"#DIV/0!"},{"$error":"#DIV/0!"}]
[193,{"$f":"IF(SISWA!B200=0,\"\",SISWA!B200)","v":""},{"$f":"IF(SISWA!C200=0,\"\",SISWA!C200)","v":""},{"$f":"IF(SISWA!D200=0,\"\",SISWA!D200)","v":"193-"},{"$f":"IF(SISWA!E200=0,\"\",SISWA!E200)","v":""},null,null,null,null,null,{"$error":"#DIV/0!"},null,null,{"$error":"#DIV/0!"},{"$error":"#DIV/0!"}]
[194,{"$f":"IF(SISWA!B201=0,\"\",SISWA!B201)","v":""},{"$f":"IF(SISWA!C201=0,\"\",SISWA!C201)","v":""},{"$f":"IF(SISWA!D201=0,\"\",SISWA!D201)","v":"194-"},{"$f":"IF(SISWA!E201=0,\"\",SISWA!E201)","v":""},null,null,null,null,null,{"$f":"AVERAGE(F201:J201)","v":{"$error":"#DIV/0!"}},null,null,{"$f":"AVERAGE(L201:M201)","v":{"$error":"#DIV/0!"}},{"$f":"AVERAGE(L201:M201)","v":{"$error":"#DIV/0!"}}]
[195,{"$f":"IF(SISWA!B202=0,\"\",SISWA!B202)","v":""},{"$f":"IF(SISWA!C202=0,\"\",SISWA!C202)","v":""},{"$f":"IF(SISWA!D202=0,\"\",SISWA!D202)","v":"195-"},{"$f":"IF(SISWA!E202=0,\"\",SISWA!E202)","v":""},null,null,null,null,null,{"$error":"#DIV/0!"},null,null,{"$error":"#DIV/0!"},{"$error":"#DIV/0!"}]
[196,{"$f":"IF(SISWA!B203=0,\"\",SISWA!B203)","v":""},{"$f":"IF(SISWA!C203=0,\"\",SISWA!C203)","v":""},{"$f":"IF(SISWA!D203=0,\"\",SISWA!D203)","v":"196-"},{"$f":"IF(SISWA!E203=0,\"\",SISWA!E203)","v":""},null,null,null,null,null,{"$error":"#DIV/0!"},null,null,{"$error":"#DIV/0!"},{"$error":"#DIV/0!"}]
[197,{"$f":"IF(SISWA!B204=0,\"\",SISWA!B204)","v":""},{"$f":"IF(SISWA!C204=0,\"\",SISWA!C204)","v":""},{"$f":"IF(SISWA!D204=0,\"\",SISWA!D204)","v":"197-"},{"$f":"IF(SISWA!E204=0,\"\",SISWA!E204)","v":""},null,null,null,null,null,{"$error":"#DIV/0!"},null,null,{"$error":"#DIV/0!"},{"$error":"#DIV/0!"}]
[198,{"$f":"IF(SISWA!B205=0,\"\",SISWA!B205)","v":""},{"$f":"IF(SISWA!C205=0,\"\",SISWA!C205)","v":""},{"$f":"IF(SISWA!D205=0,\"\",SISWA!D205)","v":"198-"},{"$f":"IF(SISWA!E205=0,\"\",SISWA!E205)","v":""},null,null,null,null,null,{"$error":"#DIV/0!"},null,null,{"$error":"#DIV/0!"},{"$error":"#DIV/0!"}]
[199,{"$f":"IF(SISWA!B206=0,\"\",SISWA!B206)","v":""},{"$f":"IF(SISWA!C206=0,\"\",SISWA!C206)","v":""},{"$f":"IF(SISWA!D206=0,\"\",SISWA!D206)","v":"199-"},{"$f":"IF(SISWA!E206=0,\"\",SISWA!E206)","v":""},null,null,null,null,null,{"$error":"#DIV/0!"},null,null,{"$error":"#DIV/0!"},{"$error":"#DIV/0!"}]
[200,{"$f":"IF(SISWA!B207=0,\"\",SISWA!B207)","v":""},{"$f":"IF(SISWA!C207=0,\"\",SISWA!C207)","v":""},{"$f":"IF(SISWA!D207=0,\"\",SISWA!D207)","v":"200-"},{"$f":"IF(SISWA!E207=0,\"\",SISWA!E207)","v":""},null,null,null,null,null,{"$error":"#DIV/0!"},null,null,{"$error":"#DIV/0!"},{"$error":"#DIV/0!"}]

{"sheet":"IPS","index":6,"n_rows":207,"n_cols":15,"rows_kept":207,"cut":false,"hidden":false,"merged":[[4,13,6,13],[4,5,4,12],[0,0,0,9],[1,0,1,9],[2,0,2,9],[4,0,6,0],[4,1,6,1],[4,2,6,2],[4,3,6,3],[4,4,6,4],[5,5,5,9],[5,11,5,12]]}
["DAFTAR NILAI AKHIR SEKOLAH"]
[{"$f":"AA!A2","v":"MADRASAH IBTIDAIYAH NURUL ISLAM LABRUK KIDUL"}]
[{"$f":"AA!A3","v":"TAHUN PELAJARAN 2018/2019"}]
[]
["NO","No Induk","NISN","Nomor Peserta","Nama Peserta","IPS",null,null,null,null,null,null,null,"rata-rata UAM & PRAKTEK"]
[null,null,null,null,null,"Nilai Semester",null,null,null,null,"Rata- 2","NILAI UAM"]
[null,null,null,null,null,7,8,9,10,11,"Rapor","TULIS","PRAKTIK"]
[1,{"$f":"IF(SISWA!B8=0,\"\",SISWA!B8)","v":4270},{"$f":"IF(SISWA!C8=0,\"\",SISWA!C8)","v":"0067566336"},{"$f":"IF(SISWA!D8=0,\"\",SISWA!D8)","v":"1-18-05-80-162-001-9"},{"$f":"IF(SISWA!E8=0,\"\",SISWA!E8)","v":"ADITYA MAULA FANDY TAULANI"},81,80,83,86,87,{"$f":"AVERAGE(F8:J8)","v":83.4},65,null,{"$f":"AVERAGE(F8:J8)","v":83.4},{"$f":"AVERAGE(L8,F8:J8)","v":80.333333333333329}]
[2,{"$f":"IF(SISWA!B9=0,\"\",SISWA!B9)","v":4300},{"$f":"IF(SISWA!C9=0,\"\",SISWA!C9)","v":"0066364963"},{"$f":"IF(SISWA!D9=0,\"\",SISWA!D9)","v":"1-18-05-80-162-002-8"},{"$f":"IF(SISWA!E9=0,\"\",SISWA!E9)","v":"AHMAD FERDIAN ALAMSYAH"},66,68,84,72,79,{"$f":"AVERAGE(F9:J9)","v":73.8},65,null,{"$f":"AVERAGE(F9:J9)","v":73.8},{"$f":"AVERAGE(L9,F9:J9)","v":72.333333333333329}]
[3,{"$f":"IF(SISWA!B10=0,\"\",SISWA!B10)","v":4271},{"$f":"IF(SISWA!C10=0,\"\",SISWA!C10)","v":"0062805893"},{"$f":"IF(SISWA!D10=0,\"\",SISWA!D10)","v":"1-18-05-80-162-003-7"},{"$f":"IF(SISWA!E10=0,\"\",SISWA!E10)","v":"AHMAD RAMADHANI FADLULLOH"},74,74,80,81,84,78.599999999999994,65,null,78.599999999999994,76.333333333333329]
[4,{"$f":"IF(SISWA!B11=0,\"\",SISWA!B11)","v":4398},{"$f":"IF(SISWA!C11=0,\"\",SISWA!C11)","v":"0062399399"},{"$f":"IF(SISWA!D11=0,\"\",SISWA!D11)","v":"1-18-05-80-162-004-6"},{"$f":"IF(SISWA!E11=0,\"\",SISWA!E11)","v":"ANANDA AMILIA"},72,74,76,75,84,76.2,65,null,76.2,74.333333333333329]
[5,{"$f":"IF(SISWA!B12=0,\"\",SISWA!B12)","v":4272},{"$f":"IF(SISWA!C12=0,\"\",SISWA!C12)","v":"0071551428"},{"$f":"IF(SISWA!D12=0,\"\",SISWA!D12)","v":"1-18-05-80-162-005-5"},{"$f":"IF(SISWA!E12=0,\"\",SISWA!E12)","v":"ANDINI MAULID DWI LESTARI"},73,76,76,74,83,76.400000000000006,72,null,76.400000000000006,75.666666666666671]
[6,{"$f":"IF(SISWA!B13=0,\"\",SISWA!B13)","v":4301},{"$f":"IF(SISWA!C13=0,\"\",SISWA!C13)","v":"0061907599"},{"$f":"IF(SISWA!D13=0,\"\",SISWA!D13)","v":"1-18-05-80-162-006-4"},{"$f":"IF(SISWA!E13=0,\"\",SISWA!E13)","v":"ANDRIK YUSRI"},64,65,73,71,79,70.400000000000006,65,null,70.400000000000006,69.5]
[7,{"$f":"IF(SISWA!B14=0,\"\",SISWA!B14)","v":4273},{"$f":"IF(SISWA!C14=0,\"\",SISWA!C14)","v":"0067280519"},{"$f":"IF(SISWA!D14=0,\"\",SISWA!D14)","v":"1-18-05-80-162-007-3"},{"$f":"IF(SISWA!E14=0,\"\",SISWA!E14)","v":"DEWI SAKINAH ISWARA"},78,79,78,76,84,79,65,null,79,76.666666666666671]
[8,{"$f":"IF(SISWA!B15=0,\"\",SISWA!B15)","v":4307},{"$f":"IF(SISWA!C15=0,\"\",SISWA!C15)","v":"0066012198"},{"$f":"IF(SISWA!D15=0,\"\",SISWA!D15)","v":"1-18-05-80-162-008-2"},{"$f":"IF(SISWA!E15=0,\"\",SISWA!E15)","v":"CHAKIM"},67,62,73,71,79,70.400000000000006,65,null,70.400000000000006,69.5]
[9,{"$f":"IF(SISWA!B16=0,\"\",SISWA!B16)","v":4275},{"$f":"IF(SISWA!C16=0,\"\",SISWA!C16)","v":"0078199679"},{"$f":"IF(SISWA!D16=0,\"\",SISWA!D16)","v":"1-18-05-80-162-009-9"},{"$f":"IF(SISWA!E16=0,\"\",SISWA!E16)","v":"HANIK APRILIA SARI"},78,79,76,77,84,78.8,65,null,78.8,76.5]
[10,{"$f":"IF(SISWA!B17=0,\"\",SISWA!B17)","v":"4238"},{"$f":"IF(SISWA!C17=0,\"\",SISWA!C17)","v":"0051503260"},{"$f":"IF(SISWA!D17=0,\"\",SISWA!D17)","v":"1-18-05-80-162-010-8"},{"$f":"IF(SISWA!E17=0,\"\",SISWA!E17)","v":"DESI NATALIA SAPUTRI"},65,64,74,72,79,70.8,76,null,70.8,71.666666666666671]
[11,{"$f":"IF(SISWA!B18=0,\"\",SISWA!B18)","v":4391},{"$f":"IF(SISWA!C18=0,\"\",SISWA!C18)","v":"0079418518"},{"$f":"IF(SISWA!D18=0,\"\",SISWA!D18)","v":"1-18-05-80-162-011-7"},{"$f":"IF(SISWA!E18=0,\"\",SISWA!E18)","v":"HIDAYATUL KHUMAINIA"},68,68,74,75,84,73.8,65,null,73.8,72.333333333333329]
[12,{"$f":"IF(SISWA!B19=0,\"\",SISWA!B19)","v":4274},{"$f":"IF(SISWA!C19=0,\"\",SISWA!C19)","v":"0077670297"},{"$f":"IF(SISWA!D19=0,\"\",SISWA!D19)","v":"1-18-05-80-162-012-6"},{"$f":"IF(SISWA!E19=0,\"\",SISWA!E19)","v":"DWITA FITA WULANDARI"},70,69,75,74,83,74.2,82,null,74.2,75.5]
[13,{"$f":"IF(SISWA!B20=0,\"\",SISWA!B20)","v":4276},{"$f":"IF(SISWA!C20=0,\"\",SISWA!C20)","v":"0067236848"},{"$f":"IF(SISWA!D20=0,\"\",SISWA!D20)","v":"1-18-05-80-162-013-5"},{"$f":"IF(SISWA!E20=0,\"\",SISWA!E20)","v":"IZZA ILMIA AZZAHRA"},77,81,76,75,85,78.8,65,null,78.8,76.5]
[14,{"$f":"IF(SISWA!B21=0,\"\",SISWA!B21)","v":4303},{"$f":"IF(SISWA!C21=0,\"\",SISWA!C21)","v":"0064031376"},{"$f":"IF(SISWA!D21=0,\"\",SISWA!D21)","v":"1-18-05-80-162-014-4"},{"$f":"IF(SISWA!E21=0,\"\",SISWA!E21)","v":"FARIDATUS SAHDIAH"},70,67,75,72,79,72.599999999999994,65,null,72.599999999999994,71.333333333333329]
[15,{"$f":"IF(SISWA!B22=0,\"\",SISWA!B22)","v":4278},{"$f":"IF(SISWA!C22=0,\"\",SISWA!C22)","v":"0079672823"},{"$f":"IF(SISWA!D22=0,\"\",SISWA!D22)","v":"1-18-05-80-162-015-3"},{"$f":"IF(SISWA!E22=0,\"\",SISWA!E22)","v":"KHARISYA AZZAHRO"},84,82,77,76,93,82.4,65,null,82.4,79.5]
[16,{"$f":"IF(SISWA!B23=0,\"\",SISWA!B23)","v":4277},{"$f":"IF(SISWA!C23=0,\"\",SISWA!C23)","v":"0077101453"},{"$f":"IF(SISWA!D23=0,\"\",SISWA!D23)","v":"1-18-05-80-162-016-2"},{"$f":"IF(SISWA!E23=0,\"\",SISWA!E23)","v":"KARINA FEBBY CAHYA AMILIA"},77,77,73,72,86,77,65,null,77,75]
[17,{"$f":"IF(SISWA!B24=0,\"\",SISWA!B24)","v":4601},{"$f":"IF(SISWA!C24=0,\"\",SISWA!C24)","v":"0069718082"},{"$f":"IF(SISWA!D24=0,\"\",SISWA!D24)","v":"1-18-05-80-162-017-9"},{"$f":"IF(SISWA!E24=0,\"\",SISWA!E24)","v":"MOCHAMAD RIFKY ROSAN"},78,78,75,76,80,77.400000000000006,65,null,77.400000000000006,75.333333333333329]
[18,{"$f":"IF(SISWA!B25=0,\"\",SISWA!B25)","v":"4241"},{"$f":"IF(SISWA!C25=0,\"\",SISWA!C25)","v":"0057006145"},{"$f":"IF(SISWA!D25=0,\"\",SISWA!D25)","v":"1-18-05-80-162-018-8"},{"$f":"IF(SISWA!E25=0,\"\",SISWA!E25)","v":"KHUSNI CAHYONO"},63,69,73,69,79,70.599999999999994,65,null,70.599999999999994,69.666666666666671]
[19,{"$f":"IF(SISWA!B26=0,\"\",SISWA!B26)","v":4280},{"$f":"IF(SISWA!C26=0,\"\",SISWA!C26)","v":"0062061356"},{"$f":"IF(SISWA!D26=0,\"\",SISWA!D26)","v":"1-18-05-80-162-019-7"},{"$f":"IF(SISWA!E26=0,\"\",SISWA!E26)","v":"MUCHAMMAD ALIEF FERDIANSYAH"},79,79,78,81,86,80.599999999999994,74,null,80.599999999999994,79.5]
[20,{"$f":"IF(SISWA!B27=0,\"\",SISWA!B27)","v":4306},{"$f":"IF(SISWA!C27=0,\"\",SISWA!C27)","v":"0069095925"},{"$f":"IF(SISWA!D27=0,\"\",SISWA!D27)","v":"1-18-05-80-162-020-6"},{"$f":"IF(SISWA!E27=0,\"\",SISWA!E27)","v":"LENNY AGUSTIN NINGTYAS"},65,61,73,70,79,69.599999999999994,65,null,69.599999999999994,68.833333333333329]
[21,{"$f":"IF(SISWA!B28=0,\"\",SISWA!B28)","v":4281},{"$f":"IF(SISWA!C28=0,\"\",SISWA!C28)","v":"0069153972"},{"$f":"IF(SISWA!D28=0,\"\",SISWA!D28)","v":"1-18-05-80-162-021-5"},{"$f":"IF(SISWA!E28=0,\"\",SISWA!E28)","v":"MUHAMMAD AGUS ANDRIANTO"},74,80,74,75,83,77.2,65,null,77.2,75.166666666666671]
[22,{"$f":"IF(SISWA!B29=0,\"\",SISWA!B29)","v":4308},{"$f":"IF(SISWA!C29=0,\"\",SISWA!C29)","v":"0063078335"},{"$f":"IF(SISWA!D29=0,\"\",SISWA!D29)","v":"1-18-05-80-162-022-4"},{"$f":"IF(SISWA!E29=0,\"\",SISWA!E29)","v":"MAURIS HIDAYATUR ROCHMAN"},73,76,73,73,86,76.2,65,null,76.2,74.333333333333329]
[23,{"$f":"IF(SISWA!B30=0,\"\",SISWA!B30)","v":4314},{"$f":"IF(SISWA!C30=0,\"\",SISWA!C30)","v":"0072178353"},{"$f":"IF(SISWA!D30=0,\"\",SISWA!D30)","v":"1-18-05-80-162-023-3"},{"$f":"IF(SISWA!E30=0,\"\",SISWA!E30)","v":"MUHAMMAD BISMAR TAUFIQUROHMAN"},71,76,76,77,84,76.8,65,null,76.8,74.833333333333329]
[24,{"$f":"IF(SISWA!B31=0,\"\",SISWA!B31)","v":4309},{"$f":"IF(SISWA!C31=0,\"\",SISWA!C31)","v":"0072198448"},{"$f":"IF(SISWA!D31=0,\"\",SISWA!D31)","v":"1-18-05-80-162-024-2"},{"$f":"IF(SISWA!E31=0,\"\",SISWA!E31)","v":"MAYA BUNGA ANJANI"},65,65,74,72,79,71,65,null,71,70]
[25,{"$f":"IF(SISWA!B32=0,\"\",SISWA!B32)","v":4320},{"$f":"IF(SISWA!C32=0,\"\",SISWA!C32)","v":"0064566227"},{"$f":"IF(SISWA!D32=0,\"\",SISWA!D32)","v":"1-18-05-80-162-025-9"},{"$f":"IF(SISWA!E32=0,\"\",SISWA!E32)","v":"MUHAMMAD SAHLAN SHODIQ"},77,78,75,76,83,77.8,65,null,77.8,75.666666666666671]
[26,{"$f":"IF(SISWA!B33=0,\"\",SISWA!B33)","v":4279},{"$f":"IF(SISWA!C33=0,\"\",SISWA!C33)","v":"0066637092"},{"$f":"IF(SISWA!D33=0,\"\",SISWA!D33)","v":"1-18-05-80-162-026-8"},{"$f":"IF(SISWA!E33=0,\"\",SISWA!E33)","v":"MITA SEPTIANI ISLAMIA"},66,59,70,71,79,69,65,null,69,68.333333333333329]
[27,{"$f":"IF(SISWA!B34=0,\"\",SISWA!B34)","v":4321},{"$f":"IF(SISWA!C34=0,\"\",SISWA!C34)","v":"0061244045"},{"$f":"IF(SISWA!D34=0,\"\",SISWA!D34)","v":"1-18-05-80-162-027-7"},{"$f":"IF(SISWA!E34=0,\"\",SISWA!E34)","v":"MUHAMMAD SEPTYAN EKA PRATAMA"},76,77,76,76,84,77.8,77,null,77.8,77.666666666666671]
[28,{"$f":"IF(SISWA!B35=0,\"\",SISWA!B35)","v":"4247"},{"$f":"IF(SISWA!C35=0,\"\",SISWA!C35)","v":"0053546157"},{"$f":"IF(SISWA!D35=0,\"\",SISWA!D35)","v":"1-18-05-80-162-028-6"},{"$f":"IF(SISWA!E35=0,\"\",SISWA!E35)","v":"MOCHAMAD ARIEL FRANS TITO"},65,68,73,74,79,71.8,65,null,71.8,70.666666666666671]
[29,{"$f":"IF(SISWA!B36=0,\"\",SISWA!B36)","v":4285},{"$f":"IF(SISWA!C36=0,\"\",SISWA!C36)","v":"0067871553"},{"$f":"IF(SISWA!D36=0,\"\",SISWA!D36)","v":"1-18-05-80-162-029-5"},{"$f":"IF(SISWA!E36=0,\"\",SISWA!E36)","v":"MUHAMMAD VERYANSYAH"},76,82,80,76,85,79.8,65,null,79.8,77.333333333333329]
[30,{"$f":"IF(SISWA!B37=0,\"\",SISWA!B37)","v":4310},{"$f":"IF(SISWA!C37=0,\"\",SISWA!C37)","v":"0066383678"},{"$f":"IF(SISWA!D37=0,\"\",SISWA!D37)","v":"1-18-05-80-162-030-4"},{"$f":"IF(SISWA!E37=0,\"\",SISWA!E37)","v":"MOCHAMMAD BIMA RISFANDA"},66,61,75,75,80,71.400000000000006,65,null,71.400000000000006,70.333333333333329]
[31,{"$f":"IF(SISWA!B38=0,\"\",SISWA!B38)","v":4286},{"$f":"IF(SISWA!C38=0,\"\",SISWA!C38)","v":"0064443822"},{"$f":"IF(SISWA!D38=0,\"\",SISWA!D38)","v":"1-18-05-80-162-031-3"},{"$f":"IF(SISWA!E38=0,\"\",SISWA!E38)","v":"MUHAMMAD ZIDNY NA'IM"},82,85,81,77,85,82,80,null,82,81.666666666666671]
[32,{"$f":"IF(SISWA!B39=0,\"\",SISWA!B39)","v":4282},{"$f":"IF(SISWA!C39=0,\"\",SISWA!C39)","v":"0068336765"},{"$f":"IF(SISWA!D39=0,\"\",SISWA!D39)","v":"1-18-05-80-162-032-2"},{"$f":"IF(SISWA!E39=0,\"\",SISWA!E39)","v":"MUHAMMAD AGUS FERDIANSYAH"},74,76,72,72,86,76,70,null,76,75]
[33,{"$f":"IF(SISWA!B40=0,\"\",SISWA!B40)","v":4287},{"$f":"IF(SISWA!C40=0,\"\",SISWA!C40)","v":"0064528717"},{"$f":"IF(SISWA!D40=0,\"\",SISWA!D40)","v":"1-18-05-80-162-033-9"},{"$f":"IF(SISWA!E40=0,\"\",SISWA!E40)","v":"MUHAMMAD FARDAN ABDILLAH"},74,null,71,68,null,71,65,null,71,69.5]
[34,{"$f":"IF(SISWA!B41=0,\"\",SISWA!B41)","v":4315},{"$f":"IF(SISWA!C41=0,\"\",SISWA!C41)","v":"0067870495"},{"$f":"IF(SISWA!D41=0,\"\",SISWA!D41)","v":"1-18-05-80-162-034-8"},{"$f":"IF(SISWA!E41=0,\"\",SISWA!E41)","v":"NABILA ARISKA PUTRI"},79,76,80,77,83,79,65,null,79,76.666666666666671]
[35,{"$f":"IF(SISWA!B42=0,\"\",SISWA!B42)","v":4288},{"$f":"IF(SISWA!C42=0,\"\",SISWA!C42)","v":"0068641191"},{"$f":"IF(SISWA!D42=0,\"\",SISWA!D42)","v":"1-18-05-80-162-035-7"},{"$f":"IF(SISWA!E42=0,\"\",SISWA!E42)","v":"MUHAMMAD FERDINAN JAYYIDAH RIFQI"},76,76,74,70,84,76,65,null,76,74.166666666666671]
[36,{"$f":"IF(SISWA!B43=0,\"\",SISWA!B43)","v":4283},{"$f":"IF(SISWA!C43=0,\"\",SISWA!C43)","v":"0077212388"},{"$f":"IF(SISWA!D43=0,\"\",SISWA!D43)","v":"1-18-05-80-162-036-6"},{"$f":"IF(SISWA!E43=0,\"\",SISWA!E43)","v":"NAFISA INDRIANI"},78,81,88,84,88,83.8,70,null,83.8,81.5]
[37,{"$f":"IF(SISWA!B44=0,\"\",SISWA!B44)","v":"4257"},{"$f":"IF(SISWA!C44=0,\"\",SISWA!C44)","v":"0069944706"},{"$f":"IF(SISWA!D44=0,\"\",SISWA!D44)","v":"1-18-05-80-162-037-5"},{"$f":"IF(SISWA!E44=0,\"\",SISWA!E44)","v":"MUHAMMAD FIRMANSYAH"},68,65,76,76,80,73,65,null,73,71.666666666666671]
[38,{"$f":"IF(SISWA!B45=0,\"\",SISWA!B45)","v":4317},{"$f":"IF(SISWA!C45=0,\"\",SISWA!C45)","v":"0068498059"},{"$f":"IF(SISWA!D45=0,\"\",SISWA!D45)","v":"1-18-05-80-162-038-4"},{"$f":"IF(SISWA!E45=0,\"\",SISWA!E45)","v":"NAJWA FARISYA BAROROH"},75,76,75,78,84,77.599999999999994,65,null,77.599999999999994,75.5]
[39,{"$f":"IF(SISWA!B46=0,\"\",SISWA!B46)","v":4289},{"$f":"IF(SISWA!C46=0,\"\",SISWA!C46)","v":"0065225517"},{"$f":"IF(SISWA!D46=0,\"\",SISWA!D46)","v":"1-18-05-80-162-039-3"},{"$f":"IF(SISWA!E46=0,\"\",SISWA!E46)","v":"NUR FITRIYAH"},74,77,76,75,84,77.2,65,null,77.2,75.166666666666671]
[40,{"$f":"IF(SISWA!B47=0,\"\",SISWA!B47)","v":4318},{"$f":"IF(SISWA!C47=0,\"\",SISWA!C47)","v":"0061441364"},{"$f":"IF(SISWA!D47=0,\"\",SISWA!D47)","v":"1-18-05-80-162-040-2"},{"$f":"IF(SISWA!E47=0,\"\",SISWA!E47)","v":"MUHAMMAD HILDAN DWI SAPUTRA"},67,67,71,70,79,70.8,65,null,70.8,69.833333333333329]
[41,{"$f":"IF(SISWA!B48=0,\"\",SISWA!B48)","v":4392},{"$f":"IF(SISWA!C48=0,\"\",SISWA!C48)","v":"0075794532"},{"$f":"IF(SISWA!D48=0,\"\",SISWA!D48)","v":"1-18-05-80-162-041-9"},{"$f":"IF(SISWA!E48=0,\"\",SISWA!E48)","v":"PUTRI NAFI'ATUS SOLIKHAH"},72,67,74,72,83,73.599999999999994,65,null,73.599999999999994,72.166666666666671]
[42,{"$f":"IF(SISWA!B49=0,\"\",SISWA!B49)","v":4284},{"$f":"IF(SISWA!C49=0,\"\",SISWA!C49)","v":"0069578000"},{"$f":"IF(SISWA!D49=0,\"\",SISWA!D49)","v":"1-18-05-80-162-042-8"},{"$f":"IF(SISWA!E49=0,\"\",SISWA!E49)","v":"MUHAMMAD RAYA KAFAF JAUHARI"},79,72,74,76,80,76.2,65,null,76.2,74.333333333333329]
[43,{"$f":"IF(SISWA!B50=0,\"\",SISWA!B50)","v":4290},{"$f":"IF(SISWA!C50=0,\"\",SISWA!C50)","v":"0063558216"},{"$f":"IF(SISWA!D50=0,\"\",SISWA!D50)","v":"1-18-05-80-162-043-7"},{"$f":"IF(SISWA!E50=0,\"\",SISWA!E50)","v":"QORIATUN SHOLIHAH"},77,76,79,76,85,78.599999999999994,68,null,78.599999999999994,76.833333333333329]
[44,{"$f":"IF(SISWA!B51=0,\"\",SISWA!B51)","v":4319},{"$f":"IF(SISWA!C51=0,\"\",SISWA!C51)","v":"0065329770"},{"$f":"IF(SISWA!D51=0,\"\",SISWA!D51)","v":"1-18-05-80-162-044-6"},{"$f":"IF(SISWA!E51=0,\"\",SISWA!E51)","v":"MUHAMMAD RUDI TANTOWIK"},65,61,74,71,79,70,77,null,70,71.166666666666671]
[45,{"$f":"IF(SISWA!B52=0,\"\",SISWA!B52)","v":4291},{"$f":"IF(SISWA!C52=0,\"\",SISWA!C52)","v":"0067071679"},{"$f":"IF(SISWA!D52=0,\"\",SISWA!D52)","v":"1-18-05-80-162-045-5"},{"$f":"IF(SISWA!E52=0,\"\",SISWA!E52)","v":"RACHMAD HIDAYAT"},74,74,77,75,81,76.2,72,null,76.2,75.5]
[46,{"$f":"IF(SISWA!B53=0,\"\",SISWA!B53)","v":4322},{"$f":"IF(SISWA!C53=0,\"\",SISWA!C53)","v":"0051101989"},{"$f":"IF(SISWA!D53=0,\"\",SISWA!D53)","v":"1-18-05-80-162-046-4"},{"$f":"IF(SISWA!E53=0,\"\",SISWA!E53)","v":"MUHAMMAD ZULDIENUR HABIBIE"},63,64,72,72,79,70,77,null,70,71.166666666666671]
[47,{"$f":"IF(SISWA!B54=0,\"\",SISWA!B54)","v":4292},{"$f":"IF(SISWA!C54=0,\"\",SISWA!C54)","v":"0072001696"},{"$f":"IF(SISWA!D54=0,\"\",SISWA!D54)","v":"1-18-05-80-162-047-3"},{"$f":"IF(SISWA!E54=0,\"\",SISWA!E54)","v":"RHEA RAYSHANADA NUGRAHA"},77,77,79,77,84,78.8,65,null,78.8,76.5]
[48,{"$f":"IF(SISWA!B55=0,\"\",SISWA!B55)","v":4323},{"$f":"IF(SISWA!C55=0,\"\",SISWA!C55)","v":"0078949167"},{"$f":"IF(SISWA!D55=0,\"\",SISWA!D55)","v":"1-18-05-80-162-048-2"},{"$f":"IF(SISWA!E55=0,\"\",SISWA!E55)","v":"MUKHAMAD KHOIRUL AMIN"},66,67,76,73,80,72.400000000000006,68,null,72.400000000000006,71.666666666666671]
[49,{"$f":"IF(SISWA!B56=0,\"\",SISWA!B56)","v":4293},{"$f":"IF(SISWA!C56=0,\"\",SISWA!C56)","v":"0064217705"},{"$f":"IF(SISWA!D56=0,\"\",SISWA!D56)","v":"1-18-05-80-162-049-9"},{"$f":"IF(SISWA!E56=0,\"\",SISWA!E56)","v":"RIYANTI APRILIA"},79,75,74,72,85,77,65,null,77,75]
[50,{"$f":"IF(SISWA!B57=0,\"\",SISWA!B57)","v":"4256"},{"$f":"IF(SISWA!C57=0,\"\",SISWA!C57)","v":"0065699742"},{"$f":"IF(SISWA!D57=0,\"\",SISWA!D57)","v":"1-18-05-80-162-050-8"},{"$f":"IF(SISWA!E57=0,\"\",SISWA!E57)","v":"MUKHAMMAD YAASIIN HASAN KHASBULLOH"},71,69,74,73,82,73.8,65,null,73.8,72.333333333333329]
[51,{"$f":"IF(SISWA!B58=0,\"\",SISWA!B58)","v":4295},{"$f":"IF(SISWA!C58=0,\"\",SISWA!C58)","v":"0061359184"},{"$f":"IF(SISWA!D58=0,\"\",SISWA!D58)","v":"1-18-05-80-162-051-7"},{"$f":"IF(SISWA!E58=0,\"\",SISWA!E58)","v":"SHONIA AULIA AS'AD"},82,84,82,83,94,85,65,null,85,81.666666666666671]
[52,{"$f":"IF(SISWA!B59=0,\"\",SISWA!B59)","v":4294},{"$f":"IF(SISWA!C59=0,\"\",SISWA!C59)","v":"0064723905"},{"$f":"IF(SISWA!D59=0,\"\",SISWA!D59)","v":"1-18-05-80-162-052-6"},{"$f":"IF(SISWA!E59=0,\"\",SISWA!E59)","v":"RIZKA AYU WULANDARI"},74,74,75,75,80,75.599999999999994,76,null,75.599999999999994,75.666666666666671]
[53,{"$f":"IF(SISWA!B60=0,\"\",SISWA!B60)","v":4298},{"$f":"IF(SISWA!C60=0,\"\",SISWA!C60)","v":"0065530554"},{"$f":"IF(SISWA!D60=0,\"\",SISWA!D60)","v":"1-18-05-80-162-053-5"},{"$f":"IF(SISWA!E60=0,\"\",SISWA!E60)","v":"VERLINA DWI MAULANI"},78,77,79,78,84,79.2,76,null,79.2,78.666666666666671]
[54,{"$f":"IF(SISWA!B61=0,\"\",SISWA!B61)","v":4297},{"$f":"IF(SISWA!C61=0,\"\",SISWA!C61)","v":"0063846732"},{"$f":"IF(SISWA!D61=0,\"\",SISWA!D61)","v":"1-18-05-80-162-054-4"},{"$f":"IF(SISWA!E61=0,\"\",SISWA!E61)","v":"USWATUN KHASANAH"},69,69,74,73,84,73.8,65,null,73.8,72.333333333333329]
[55,{"$f":"IF(SISWA!B62=0,\"\",SISWA!B62)","v":4324},{"$f":"IF(SISWA!C62=0,\"\",SISWA!C62)","v":"0078966795"},{"$f":"IF(SISWA!D62=0,\"\",SISWA!D62)","v":"1-18-05-80-162-055-3"},{"$f":"IF(SISWA!E62=0,\"\",SISWA!E62)","v":"VIKA KUSUMA WATI"},76,76,74,76,83,77,65,null,77,75]
[56,{"$f":"IF(SISWA!B63=0,\"\",SISWA!B63)","v":4326},{"$f":"IF(SISWA!C63=0,\"\",SISWA!C63)","v":"0064124533"},{"$f":"IF(SISWA!D63=0,\"\",SISWA!D63)","v":"1-18-05-80-162-056-2"},{"$f":"IF(SISWA!E63=0,\"\",SISWA!E63)","v":"YOHAN EGA GILANG PERMANA"},66,null,70,70,79,71.25,65,null,71.25,70]
[57,{"$f":"IF(SISWA!B64=0,\"\",SISWA!B64)","v":""},{"$f":"IF(SISWA!C64=0,\"\",SISWA!C64)","v":""},{"$f":"IF(SISWA!D64=0,\"\",SISWA!D64)","v":"1-18-05-80-162-057-9"},{"$f":"IF(SISWA!E64=0,\"\",SISWA!E64)","v":""},null,null,null,null,null,{"$f":"AVERAGE(F64:J64)","v":{"$error":"#DIV/0!"}}]
[58,{"$f":"IF(SISWA!B65=0,\"\",SISWA!B65)","v":""},{"$f":"IF(SISWA!C65=0,\"\",SISWA!C65)","v":""},{"$f":"IF(SISWA!D65=0,\"\",SISWA!D65)","v":"1-18-05-80-162-058-8"},{"$f":"IF(SISWA!E65=0,\"\",SISWA!E65)","v":""},null,null,null,null,null,{"$error":"#DIV/0!"}]
[59,{"$f":"IF(SISWA!B66=0,\"\",SISWA!B66)","v":""},{"$f":"IF(SISWA!C66=0,\"\",SISWA!C66)","v":""},{"$f":"IF(SISWA!D66=0,\"\",SISWA!D66)","v":"1-18-05-80-162-059-7"},{"$f":"IF(SISWA!E66=0,\"\",SISWA!E66)","v":""},null,null,null,null,null,{"$error":"#DIV/0!"}]
[60,{"$f":"IF(SISWA!B67=0,\"\",SISWA!B67)","v":""},{"$f":"IF(SISWA!C67=0,\"\",SISWA!C67)","v":""},{"$f":"IF(SISWA!D67=0,\"\",SISWA!D67)","v":"1-18-05-80-162-060-6"},{"$f":"IF(SISWA!E67=0,\"\",SISWA!E67)","v":""},null,null,null,null,null,{"$error":"#DIV/0!"}]
[61,{"$f":"IF(SISWA!B68=0,\"\",SISWA!B68)","v":""},{"$f":"IF(SISWA!C68=0,\"\",SISWA!C68)","v":""},{"$f":"IF(SISWA!D68=0,\"\",SISWA!D68)","v":"1-18-05-80-162-061-5"},{"$f":"IF(SISWA!E68=0,\"\",SISWA!E68)","v":""},null,null,null,null,null,{"$f":"AVERAGE(F68:J68)","v":{"$error":"#DIV/0!"}}]
[62,{"$f":"IF(SISWA!B69=0,\"\",SISWA!B69)","v":""},{"$f":"IF(SISWA!C69=0,\"\",SISWA!C69)","v":""},{"$f":"IF(SISWA!D69=0,\"\",SISWA!D69)","v":"062-4"},{"$f":"IF(SISWA!E69=0,\"\",SISWA!E69)","v":""},null,null,null,null,null,{"$error":"#DIV/0!"}]
[63,{"$f":"IF(SISWA!B70=0,\"\",SISWA!B70)","v":""},{"$f":"IF(SISWA!C70=0,\"\",SISWA!C70)","v":""},{"$f":"IF(SISWA!D70=0,\"\",SISWA!D70)","v":"063-3"},{"$f":"IF(SISWA!E70=0,\"\",SISWA!E70)","v":""},null,null,null,null,null,{"$error":"#DIV/0!"}]
[64,{"$f":"IF(SISWA!B71=0,\"\",SISWA!B71)","v":""},{"$f":"IF(SISWA!C71=0,\"\",SISWA!C71)","v":""},{"$f":"IF(SISWA!D71=0,\"\",SISWA!D71)","v":"064-2"},{"$f":"IF(SISWA!E71=0,\"\",SISWA!E71)","v":""},null,null,null,null,null,{"$error":"#DIV/0!"}]
[65,{"$f":"IF(SISWA!B72=0,\"\",SISWA!B72)","v":""},{"$f":"IF(SISWA!C72=0,\"\",SISWA!C72)","v":""},{"$f":"IF(SISWA!D72=0,\"\",SISWA!D72)","v":"065-"},{"$f":"IF(SISWA!E72=0,\"\",SISWA!E72)","v":""},null,null,null,null,null,{"$error":"#DIV/0!"}]
[66,{"$f":"IF(SISWA!B73=0,\"\",SISWA!B73)","v":""},{"$f":"IF(SISWA!C73=0,\"\",SISWA!C73)","v":""},{"$f":"IF(SISWA!D73=0,\"\",SISWA!D73)","v":"066-"},{"$f":"IF(SISWA!E73=0,\"\",SISWA!E73)","v":""},null,null,null,null,null,{"$error":"#DIV/0!"}]
[67,{"$f":"IF(SISWA!B74=0,\"\",SISWA!B74)","v":""},{"$f":"IF(SISWA!C74=0,\"\",SISWA!C74)","v":""},{"$f":"IF(SISWA!D74=0,\"\",SISWA!D74)","v":"067-"},{"$f":"IF(SISWA!E74=0,\"\",SISWA!E74)","v":""},null,null,null,null,null,{"$error":"#DIV/0!"}]
[68,{"$f":"IF(SISWA!B75=0,\"\",SISWA!B75)","v":""},{"$f":"IF(SISWA!C75=0,\"\",SISWA!C75)","v":""},{"$f":"IF(SISWA!D75=0,\"\",SISWA!D75)","v":"068-"},{"$f":"IF(SISWA!E75=0,\"\",SISWA!E75)","v":""},null,null,null,null,null,{"$error":"#DIV/0!"}]
[69,{"$f":"IF(SISWA!B76=0,\"\",SISWA!B76)","v":""},{"$f":"IF(SISWA!C76=0,\"\",SISWA!C76)","v":""},{"$f":"IF(SISWA!D76=0,\"\",SISWA!D76)","v":"069-"},{"$f":"IF(SISWA!E76=0,\"\",SISWA!E76)","v":""},null,null,null,null,null,{"$error":"#DIV/0!"}]
[70,{"$f":"IF(SISWA!B77=0,\"\",SISWA!B77)","v":""},{"$f":"IF(SISWA!C77=0,\"\",SISWA!C77)","v":""},{"$f":"IF(SISWA!D77=0,\"\",SISWA!D77)","v":"070-"},{"$f":"IF(SISWA!E77=0,\"\",SISWA!E77)","v":""},null,null,null,null,null,{"$error":"#DIV/0!"}]
[71,{"$f":"IF(SISWA!B78=0,\"\",SISWA!B78)","v":""},{"$f":"IF(SISWA!C78=0,\"\",SISWA!C78)","v":""},{"$f":"IF(SISWA!D78=0,\"\",SISWA!D78)","v":"071-"},{"$f":"IF(SISWA!E78=0,\"\",SISWA!E78)","v":""},null,null,null,null,null,{"$error":"#DIV/0!"}]
[72,{"$f":"IF(SISWA!B79=0,\"\",SISWA!B79)","v":""},{"$f":"IF(SISWA!C79=0,\"\",SISWA!C79)","v":""},{"$f":"IF(SISWA!D79=0,\"\",SISWA!D79)","v":"072-"},{"$f":"IF(SISWA!E79=0,\"\",SISWA!E79)","v":""},null,null,null,null,null,{"$error":"#DIV/0!"}]
[73,{"$f":"IF(SISWA!B80=0,\"\",SISWA!B80)","v":""},{"$f":"IF(SISWA!C80=0,\"\",SISWA!C80)","v":""},{"$f":"IF(SISWA!D80=0,\"\",SISWA!D80)","v":"073-"},{"$f":"IF(SISWA!E80=0,\"\",SISWA!E80)","v":""},null,null,null,null,null,{"$error":"#DIV/0!"}]
[74,{"$f":"IF(SISWA!B81=0,\"\",SISWA!B81)","v":""},{"$f":"IF(SISWA!C81=0,\"\",SISWA!C81)","v":""},{"$f":"IF(SISWA!D81=0,\"\",SISWA!D81)","v":"074-"},{"$f":"IF(SISWA!E81=0,\"\",SISWA!E81)","v":""},null,null,null,null,null,{"$error":"#DIV/0!"}]
[75,{"$f":"IF(SISWA!B82=0,\"\",SISWA!B82)","v":""},{"$f":"IF(SISWA!C82=0,\"\",SISWA!C82)","v":""},{"$f":"IF(SISWA!D82=0,\"\",SISWA!D82)","v":"075-"},{"$f":"IF(SISWA!E82=0,\"\",SISWA!E82)","v":""},null,null,null,null,null,{"$error":"#DIV/0!"}]
[76,{"$f":"IF(SISWA!B83=0,\"\",SISWA!B83)","v":""},{"$f":"IF(SISWA!C83=0,\"\",SISWA!C83)","v":""},{"$f":"IF(SISWA!D83=0,\"\",SISWA!D83)","v":"076-"},{"$f":"IF(SISWA!E83=0,\"\",SISWA!E83)","v":""},null,null,null,null,null,{"$error":"#DIV/0!"}]
[77,{"$f":"IF(SISWA!B84=0,\"\",SISWA!B84)","v":""},{"$f":"IF(SISWA!C84=0,\"\",SISWA!C84)","v":""},{"$f":"IF(SISWA!D84=0,\"\",SISWA!D84)","v":"077-"},{"$f":"IF(SISWA!E84=0,\"\",SISWA!E84)","v":""},null,null,null,null,null,{"$error":"#DIV/0!"}]
[78,{"$f":"IF(SISWA!B85=0,\"\",SISWA!B85)","v":""},{"$f":"IF(SISWA!C85=0,\"\",SISWA!C85)","v":""},{"$f":"IF(SISWA!D85=0,\"\",SISWA!D85)","v":"078-"},{"$f":"IF(SISWA!E85=0,\"\",SISWA!E85)","v":""},null,null,null,null,null,{"$error":"#DIV/0!"}]
[79,{"$f":"IF(SISWA!B86=0,\"\",SISWA!B86)","v":""},{"$f":"IF(SISWA!C86=0,\"\",SISWA!C86)","v":""},{"$f":"IF(SISWA!D86=0,\"\",SISWA!D86)","v":"079-"},{"$f":"IF(SISWA!E86=0,\"\",SISWA!E86)","v":""},null,null,null,null,null,{"$error":"#DIV/0!"}]
[80,{"$f":"IF(SISWA!B87=0,\"\",SISWA!B87)","v":""},{"$f":"IF(SISWA!C87=0,\"\",SISWA!C87)","v":""},{"$f":"IF(SISWA!D87=0,\"\",SISWA!D87)","v":"080-"},{"$f":"IF(SISWA!E87=0,\"\",SISWA!E87)","v":""},null,null,null,null,null,{"$error":"#DIV/0!"}]
[81,{"$f":"IF(SISWA!B88=0,\"\",SISWA!B88)","v":""},{"$f":"IF(SISWA!C88=0,\"\",SISWA!C88)","v":""},{"$f":"IF(SISWA!D88=0,\"\",SISWA!D88)","v":"081-"},{"$f":"IF(SISWA!E88=0,\"\",SISWA!E88)","v":""},null,null,null,null,null,{"$error":"#DIV/0!"}]
[82,{"$f":"IF(SISWA!B89=0,\"\",SISWA!B89)","v":""},{"$f":"IF(SISWA!C89=0,\"\",SISWA!C89)","v":""},{"$f":"IF(SISWA!D89=0,\"\",SISWA!D89)","v":"082-"},{"$f":"IF(SISWA!E89=0,\"\",SISWA!E89)","v":""},null,null,null,null,null,{"$error":"#DIV/0!"}]
[83,{"$f":"IF(SISWA!B90=0,\"\",SISWA!B90)","v":""},{"$f":"IF(SISWA!C90=0,\"\",SISWA!C90)","v":""},{"$f":"IF(SISWA!D90=0,\"\",SISWA!D90)","v":"083-"},{"$f":"IF(SISWA!E90=0,\"\",SISWA!E90)","v":""},null,null,null,null,null,{"$error":"#DIV/0!"}]
[84,{"$f":"IF(SISWA!B91=0,\"\",SISWA!B91)","v":""},{"$f":"IF(SISWA!C91=0,\"\",SISWA!C91)","v":""},{"$f":"IF(SISWA!D91=0,\"\",SISWA!D91)","v":"084-"},{"$f":"IF(SISWA!E91=0,\"\",SISWA!E91)","v":""},null,null,null,null,null,{"$error":"#DIV/0!"}]
[85,{"$f":"IF(SISWA!B92=0,\"\",SISWA!B92)","v":""},{"$f":"IF(SISWA!C92=0,\"\",SISWA!C92)","v":""},{"$f":"IF(SISWA!D92=0,\"\",SISWA!D92)","v":"085-"},{"$f":"IF(SISWA!E92=0,\"\",SISWA!E92)","v":""},null,null,null,null,null,{"$error":"#DIV/0!"}]
[86,{"$f":"IF(SISWA!B93=0,\"\",SISWA!B93)","v":""},{"$f":"IF(SISWA!C93=0,\"\",SISWA!C93)","v":""},{"$f":"IF(SISWA!D93=0,\"\",SISWA!D93)","v":"086-"},{"$f":"IF(SISWA!E93=0,\"\",SISWA!E93)","v":""},null,null,null,null,null,{"$error":"#DIV/0!"}]
[87,{"$f":"IF(SISWA!B94=0,\"\",SISWA!B94)","v":""},{"$f":"IF(SISWA!C94=0,\"\",SISWA!C94)","v":""},{"$f":"IF(SISWA!D94=0,\"\",SISWA!D94)","v":"087-"},{"$f":"IF(SISWA!E94=0,\"\",SISWA!E94)","v":""},null,null,null,null,null,{"$error":"#DIV/0!"}]
[88,{"$f":"IF(SISWA!B95=0,\"\",SISWA!B95)","v":""},{"$f":"IF(SISWA!C95=0,\"\",SISWA!C95)","v":""},{"$f":"IF(SISWA!D95=0,\"\",SISWA!D95)","v":"088-"},{"$f":"IF(SISWA!E95=0,\"\",SISWA!E95)","v":""},null,null,null,null,null,{"$error":"#DIV/0!"}]
[89,{"$f":"IF(SISWA!B96=0,\"\",SISWA!B96)","v":""},{"$f":"IF(SISWA!C96=0,\"\",SISWA!C96)","v":""},{"$f":"IF(SISWA!D96=0,\"\",SISWA!D96)","v":"089-"},{"$f":"IF(SISWA!E96=0,\"\",SISWA!E96)","v":""},null,null,null,null,null,{"$error":"#DIV/0!"}]
[90,{"$f":"IF(SISWA!B97=0,\"\",SISWA!B97)","v":""},{"$f":"IF(SISWA!C97=0,\"\",SISWA!C97)","v":""},{"$f":"IF(SISWA!D97=0,\"\",SISWA!D97)","v":"090-"},{"$f":"IF(SISWA!E97=0,\"\",SISWA!E97)","v":""},null,null,null,null,null,{"$error":"#DIV/0!"}]
[91,{"$f":"IF(SISWA!B98=0,\"\",SISWA!B98)","v":""},{"$f":"IF(SISWA!C98=0,\"\",SISWA!C98)","v":""},{"$f":"IF(SISWA!D98=0,\"\",SISWA!D98)","v":"091-"},{"$f":"IF(SISWA!E98=0,\"\",SISWA!E98)","v":""},null,null,null,null,null,{"$error":"#DIV/0!"}]
[92,{"$f":"IF(SISWA!B99=0,\"\",SISWA!B99)","v":""},{"$f":"IF(SISWA!C99=0,\"\",SISWA!C99)","v":""},{"$f":"IF(SISWA!D99=0,\"\",SISWA!D99)","v":"092-"},{"$f":"IF(SISWA!E99=0,\"\",SISWA!E99)","v":""},null,null,null,null,null,{"$error":"#DIV/0!"}]
[93,{"$f":"IF(SISWA!B100=0,\"\",SISWA!B100)","v":""},{"$f":"IF(SISWA!C100=0,\"\",SISWA!C100)","v":""},{"$f":"IF(SISWA!D100=0,\"\",SISWA!D100)","v":"093-"},{"$f":"IF(SISWA!E100=0,\"\",SISWA!E100)","v":""},null,null,null,null,null,{"$error":"#DIV/0!"}]
[94,{"$f":"IF(SISWA!B101=0,\"\",SISWA!B101)","v":""},{"$f":"IF(SISWA!C101=0,\"\",SISWA!C101)","v":""},{"$f":"IF(SISWA!D101=0,\"\",SISWA!D101)","v":"094-"},{"$f":"IF(SISWA!E101=0,\"\",SISWA!E101)","v":""},null,null,null,null,null,{"$error":"#DIV/0!"}]
[95,{"$f":"IF(SISWA!B102=0,\"\",SISWA!B102)","v":""},{"$f":"IF(SISWA!C102=0,\"\",SISWA!C102)","v":""},{"$f":"IF(SISWA!D102=0,\"\",SISWA!D102)","v":"095-"},{"$f":"IF(SISWA!E102=0,\"\",SISWA!E102)","v":""},null,null,null,null,null,{"$error":"#DIV/0!"}]
[96,{"$f":"IF(SISWA!B103=0,\"\",SISWA!B103)","v":""},{"$f":"IF(SISWA!C103=0,\"\",SISWA!C103)","v":""},{"$f":"IF(SISWA!D103=0,\"\",SISWA!D103)","v":"096-"},{"$f":"IF(SISWA!E103=0,\"\",SISWA!E103)","v":""},null,null,null,null,null,{"$error":"#DIV/0!"}]
[97,{"$f":"IF(SISWA!B104=0,\"\",SISWA!B104)","v":""},{"$f":"IF(SISWA!C104=0,\"\",SISWA!C104)","v":""},{"$f":"IF(SISWA!D104=0,\"\",SISWA!D104)","v":"097-"},{"$f":"IF(SISWA!E104=0,\"\",SISWA!E104)","v":""},null,null,null,null,null,{"$error":"#DIV/0!"}]
[98,{"$f":"IF(SISWA!B105=0,\"\",SISWA!B105)","v":""},{"$f":"IF(SISWA!C105=0,\"\",SISWA!C105)","v":""},{"$f":"IF(SISWA!D105=0,\"\",SISWA!D105)","v":"098-"},{"$f":"IF(SISWA!E105=0,\"\",SISWA!E105)","v":""},null,null,null,null,null,{"$error":"#DIV/0!"}]
[99,{"$f":"IF(SISWA!B106=0,\"\",SISWA!B106)","v":""},{"$f":"IF(SISWA!C106=0,\"\",SISWA!C106)","v":""},{"$f":"IF(SISWA!D106=0,\"\",SISWA!D106)","v":"099-"},{"$f":"IF(SISWA!E106=0,\"\",SISWA!E106)","v":""},null,null,null,null,null,{"$error":"#DIV/0!"}]
[100,{"$f":"IF(SISWA!B107=0,\"\",SISWA!B107)","v":""},{"$f":"IF(SISWA!C107=0,\"\",SISWA!C107)","v":""},{"$f":"IF(SISWA!D107=0,\"\",SISWA!D107)","v":"100-"},{"$f":"IF(SISWA!E107=0,\"\",SISWA!E107)","v":""},null,null,null,null,null,{"$error":"#DIV/0!"}]
[101,{"$f":"IF(SISWA!B108=0,\"\",SISWA!B108)","v":""},{"$f":"IF(SISWA!C108=0,\"\",SISWA!C108)","v":""},{"$f":"IF(SISWA!D108=0,\"\",SISWA!D108)","v":"101-"},{"$f":"IF(SISWA!E108=0,\"\",SISWA!E108)","v":""},null,null,null,null,null,{"$error":"#DIV/0!"}]
[102,{"$f":"IF(SISWA!B109=0,\"\",SISWA!B109)","v":""},{"$f":"IF(SISWA!C109=0,\"\",SISWA!C109)","v":""},{"$f":"IF(SISWA!D109=0,\"\",SISWA!D109)","v":"102-"},{"$f":"IF(SISWA!E109=0,\"\",SISWA!E109)","v":""},null,null,null,null,null,{"$error":"#DIV/0!"}]
[103,{"$f":"IF(SISWA!B110=0,\"\",SISWA!B110)","v":""},{"$f":"IF(SISWA!C110=0,\"\",SISWA!C110)","v":""},{"$f":"IF(SISWA!D110=0,\"\",SISWA!D110)","v":"103-"},{"$f":"IF(SISWA!E110=0,\"\",SISWA!E110)","v":""},null,null,null,null,null,{"$error":"#DIV/0!"}]
[104,{"$f":"IF(SISWA!B111=0,\"\",SISWA!B111)","v":""},{"$f":"IF(SISWA!C111=0,\"\",SISWA!C111)","v":""},{"$f":"IF(SISWA!D111=0,\"\",SISWA!D111)","v":"104-"},{"$f":"IF(SISWA!E111=0,\"\",SISWA!E111)","v":""},null,null,null,null,null,{"$error":"#DIV/0!"}]
[105,{"$f":"IF(SISWA!B112=0,\"\",SISWA!B112)","v":""},{"$f":"IF(SISWA!C112=0,\"\",SISWA!C112)","v":""},{"$f":"IF(SISWA!D112=0,\"\",SISWA!D112)","v":"105-"},{"$f":"IF(SISWA!E112=0,\"\",SISWA!E112)","v":""},null,null,null,null,null,{"$error":"#DIV/0!"}]
[106,{"$f":"IF(SISWA!B113=0,\"\",SISWA!B113)","v":""},{"$f":"IF(SISWA!C113=0,\"\",SISWA!C113)","v":""},{"$f":"IF(SISWA!D113=0,\"\",SISWA!D113)","v":"106-"},{"$f":"IF(SISWA!E113=0,\"\",SISWA!E113)","v":""},null,null,null,null,null,{"$error":"#DIV/0!"}]
[107,{"$f":"IF(SISWA!B114=0,\"\",SISWA!B114)","v":""},{"$f":"IF(SISWA!C114=0,\"\",SISWA!C114)","v":""},{"$f":"IF(SISWA!D114=0,\"\",SISWA!D114)","v":"107-"},{"$f":"IF(SISWA!E114=0,\"\",SISWA!E114)","v":""},null,null,null,null,null,{"$error":"#DIV/0!"}]
[108,{"$f":"IF(SISWA!B115=0,\"\",SISWA!B115)","v":""},{"$f":"IF(SISWA!C115=0,\"\",SISWA!C115)","v":""},{"$f":"IF(SISWA!D115=0,\"\",SISWA!D115)","v":"108-"},{"$f":"IF(SISWA!E115=0,\"\",SISWA!E115)","v":""},null,null,null,null,null,{"$error":"#DIV/0!"}]
[109,{"$f":"IF(SISWA!B116=0,\"\",SISWA!B116)","v":""},{"$f":"IF(SISWA!C116=0,\"\",SISWA!C116)","v":""},{"$f":"IF(SISWA!D116=0,\"\",SISWA!D116)","v":"109-"},{"$f":"IF(SISWA!E116=0,\"\",SISWA!E116)","v":""},null,null,null,null,null,{"$error":"#DIV/0!"}]
[110,{"$f":"IF(SISWA!B117=0,\"\",SISWA!B117)","v":""},{"$f":"IF(SISWA!C117=0,\"\",SISWA!C117)","v":""},{"$f":"IF(SISWA!D117=0,\"\",SISWA!D117)","v":"110-"},{"$f":"IF(SISWA!E117=0,\"\",SISWA!E117)","v":""},null,null,null,null,null,{"$error":"#DIV/0!"}]
[111,{"$f":"IF(SISWA!B118=0,\"\",SISWA!B118)","v":""},{"$f":"IF(SISWA!C118=0,\"\",SISWA!C118)","v":""},{"$f":"IF(SISWA!D118=0,\"\",SISWA!D118)","v":"111-"},{"$f":"IF(SISWA!E118=0,\"\",SISWA!E118)","v":""},null,null,null,null,null,{"$error":"#DIV/0!"}]
[112,{"$f":"IF(SISWA!B119=0,\"\",SISWA!B119)","v":""},{"$f":"IF(SISWA!C119=0,\"\",SISWA!C119)","v":""},{"$f":"IF(SISWA!D119=0,\"\",SISWA!D119)","v":"112-"},{"$f":"IF(SISWA!E119=0,\"\",SISWA!E119)","v":""},null,null,null,null,null,{"$error":"#DIV/0!"}]
[113,{"$f":"IF(SISWA!B120=0,\"\",SISWA!B120)","v":""},{"$f":"IF(SISWA!C120=0,\"\",SISWA!C120)","v":""},{"$f":"IF(SISWA!D120=0,\"\",SISWA!D120)","v":"113-"},{"$f":"IF(SISWA!E120=0,\"\",SISWA!E120)","v":""},null,null,null,null,null,{"$error":"#DIV/0!"}]
[114,{"$f":"IF(SISWA!B121=0,\"\",SISWA!B121)","v":""},{"$f":"IF(SISWA!C121=0,\"\",SISWA!C121)","v":""},{"$f":"IF(SISWA!D121=0,\"\",SISWA!D121)","v":"114-"},{"$f":"IF(SISWA!E121=0,\"\",SISWA!E121)","v":""},null,null,null,null,null,{"$error":"#DIV/0!"}]
[115,{"$f":"IF(SISWA!B122=0,\"\",SISWA!B122)","v":""},{"$f":"IF(SISWA!C122=0,\"\",SISWA!C122)","v":""},{"$f":"IF(SISWA!D122=0,\"\",SISWA!D122)","v":"115-"},{"$f":"IF(SISWA!E122=0,\"\",SISWA!E122)","v":""},null,null,null,null,null,{"$error":"#DIV/0!"}]
[116,{"$f":"IF(SISWA!B123=0,\"\",SISWA!B123)","v":""},{"$f":"IF(SISWA!C123=0,\"\",SISWA!C123)","v":""},{"$f":"IF(SISWA!D123=0,\"\",SISWA!D123)","v":"116-"},{"$f":"IF(SISWA!E123=0,\"\",SISWA!E123)","v":""},null,null,null,null,null,{"$error":"#DIV/0!"}]
[117,{"$f":"IF(SISWA!B124=0,\"\",SISWA!B124)","v":""},{"$f":"IF(SISWA!C124=0,\"\",SISWA!C124)","v":""},{"$f":"IF(SISWA!D124=0,\"\",SISWA!D124)","v":"117-"},{"$f":"IF(SISWA!E124=0,\"\",SISWA!E124)","v":""},null,null,null,null,null,{"$error":"#DIV/0!"}]
[118,{"$f":"IF(SISWA!B125=0,\"\",SISWA!B125)","v":""},{"$f":"IF(SISWA!C125=0,\"\",SISWA!C125)","v":""},{"$f":"IF(SISWA!D125=0,\"\",SISWA!D125)","v":"118-"},{"$f":"IF(SISWA!E125=0,\"\",SISWA!E125)","v":""},null,null,null,null,null,{"$error":"#DIV/0!"}]
[119,{"$f":"IF(SISWA!B126=0,\"\",SISWA!B126)","v":""},{"$f":"IF(SISWA!C126=0,\"\",SISWA!C126)","v":""},{"$f":"IF(SISWA!D126=0,\"\",SISWA!D126)","v":"119-"},{"$f":"IF(SISWA!E126=0,\"\",SISWA!E126)","v":""},null,null,null,null,null,{"$error":"#DIV/0!"}]
[120,{"$f":"IF(SISWA!B127=0,\"\",SISWA!B127)","v":""},{"$f":"IF(SISWA!C127=0,\"\",SISWA!C127)","v":""},{"$f":"IF(SISWA!D127=0,\"\",SISWA!D127)","v":"120-"},{"$f":"IF(SISWA!E127=0,\"\",SISWA!E127)","v":""},null,null,null,null,null,{"$error":"#DIV/0!"}]
[121,{"$f":"IF(SISWA!B128=0,\"\",SISWA!B128)","v":""},{"$f":"IF(SISWA!C128=0,\"\",SISWA!C128)","v":""},{"$f":"IF(SISWA!D128=0,\"\",SISWA!D128)","v":"121-"},{"$f":"IF(SISWA!E128=0,\"\",SISWA!E128)","v":""},null,null,null,null,null,{"$error":"#DIV/0!"}]
[122,{"$f":"IF(SISWA!B129=0,\"\",SISWA!B129)","v":""},{"$f":"IF(SISWA!C129=0,\"\",SISWA!C129)","v":""},{"$f":"IF(SISWA!D129=0,\"\",SISWA!D129)","v":"122-"},{"$f":"IF(SISWA!E129=0,\"\",SISWA!E129)","v":""},null,null,null,null,null,{"$error":"#DIV/0!"}]
[123,{"$f":"IF(SISWA!B130=0,\"\",SISWA!B130)","v":""},{"$f":"IF(SISWA!C130=0,\"\",SISWA!C130)","v":""},{"$f":"IF(SISWA!D130=0,\"\",SISWA!D130)","v":"123-"},{"$f":"IF(SISWA!E130=0,\"\",SISWA!E130)","v":""},null,null,null,null,null,{"$error":"#DIV/0!"}]
[124,{"$f":"IF(SISWA!B131=0,\"\",SISWA!B131)","v":""},{"$f":"IF(SISWA!C131=0,\"\",SISWA!C131)","v":""},{"$f":"IF(SISWA!D131=0,\"\",SISWA!D131)","v":"124-"},{"$f":"IF(SISWA!E131=0,\"\",SISWA!E131)","v":""},null,null,null,null,null,{"$error":"#DIV/0!"}]
[125,{"$f":"IF(SISWA!B132=0,\"\",SISWA!B132)","v":""},{"$f":"IF(SISWA!C132=0,\"\",SISWA!C132)","v":""},{"$f":"IF(SISWA!D132=0,\"\",SISWA!D132)","v":"125-"},{"$f":"IF(SISWA!E132=0,\"\",SISWA!E132)","v":""},null,null,null,null,null,{"$f":"AVERAGE(F132:J132)","v":{"$error":"#DIV/0!"}}]
[126,{"$f":"IF(SISWA!B133=0,\"\",SISWA!B133)","v":""},{"$f":"IF(SISWA!C133=0,\"\",SISWA!C133)","v":""},{"$f":"IF(SISWA!D133=0,\"\",SISWA!D133)","v":"126-"},{"$f":"IF(SISWA!E133=0,\"\",SISWA!E133)","v":""},null,null,null,null,null,{"$error":"#DIV/0!"}]
[127,{"$f":"IF(SISWA!B134=0,\"\",SISWA!B134)","v":""},{"$f":"IF(SISWA!C134=0,\"\",SISWA!C134)","v":""},{"$f":"IF(SISWA!D134=0,\"\",SISWA!D134)","v":"127-"},{"$f":"IF(SISWA!E134=0,\"\",SISWA!E134)","v":""},null,null,null,null,null,{"$error":"#DIV/0!"}]
[128,{"$f":"IF(SISWA!B135=0,\"\",SISWA!B135)","v":""},{"$f":"IF(SISWA!C135=0,\"\",SISWA!C135)","v":""},{"$f":"IF(SISWA!D135=0,\"\",SISWA!D135)","v":"128-"},{"$f":"IF(SISWA!E135=0,\"\",SISWA!E135)","v":""},null,null,null,null,null,{"$error":"#DIV/0!"}]
[129,{"$f":"IF(SISWA!B136=0,\"\",SISWA!B136)","v":""},{"$f":"IF(SISWA!C136=0,\"\",SISWA!C136)","v":""},{"$f":"IF(SISWA!D136=0,\"\",SISWA!D136)","v":"129-"},{"$f":"IF(SISWA!E136=0,\"\",SISWA!E136)","v":""},null,null,null,null,null,{"$error":"#DIV/0!"}]
[130,{"$f":"IF(SISWA!B137=0,\"\",SISWA!B137)","v":""},{"$f":"IF(SISWA!C137=0,\"\",SISWA!C137)","v":""},{"$f":"IF(SISWA!D137=0,\"\",SISWA!D137)","v":"130-"},{"$f":"IF(SISWA!E137=0,\"\",SISWA!E137)","v":""},null,null,null,null,null,{"$error":"#DIV/0!"}]
[131,{"$f":"IF(SISWA!B138=0,\"\",SISWA!B138)","v":""},{"$f":"IF(SISWA!C138=0,\"\",SISWA!C138)","v":""},{"$f":"IF(SISWA!D138=0,\"\",SISWA!D138)","v":"131-"},{"$f":"IF(SISWA!E138=0,\"\",SISWA!E138)","v":""},null,null,null,null,null,{"$error":"#DIV/0!"}]
[132,{"$f":"IF(SISWA!B139=0,\"\",SISWA!B139)","v":""},{"$f":"IF(SISWA!C139=0,\"\",SISWA!C139)","v":""},{"$f":"IF(SISWA!D139=0,\"\",SISWA!D139)","v":"132-"},{"$f":"IF(SISWA!E139=0,\"\",SISWA!E139)","v":""},null,null,null,null,null,{"$error":"#DIV/0!"}]
[133,{"$f":"IF(SISWA!B140=0,\"\",SISWA!B140)","v":""},{"$f":"IF(SISWA!C140=0,\"\",SISWA!C140)","v":""},{"$f":"IF(SISWA!D140=0,\"\",SISWA!D140)","v":"133-"},{"$f":"IF(SISWA!E140=0,\"\",SISWA!E140)","v":""},null,null,null,null,null,{"$error":"#DIV/0!"}]
[134,{"$f":"IF(SISWA!B141=0,\"\",SISWA!B141)","v":""},{"$f":"IF(SISWA!C141=0,\"\",SISWA!C141)","v":""},{"$f":"IF(SISWA!D141=0,\"\",SISWA!D141)","v":"134-"},{"$f":"IF(SISWA!E141=0,\"\",SISWA!E141)","v":""},null,null,null,null,null,{"$error":"#DIV/0!"}]
[135,{"$f":"IF(SISWA!B142=0,\"\",SISWA!B142)","v":""},{"$f":"IF(SISWA!C142=0,\"\",SISWA!C142)","v":""},{"$f":"IF(SISWA!D142=0,\"\",SISWA!D142)","v":"135-"},{"$f":"IF(SISWA!E142=0,\"\",SISWA!E142)","v":""},null,null,null,null,null,{"$error":"#DIV/0!"}]
[136,{"$f":"IF(SISWA!B143=0,\"\",SISWA!B143)","v":""},{"$f":"IF(SISWA!C143=0,\"\",SISWA!C143)","v":""},{"$f":"IF(SISWA!D143=0,\"\",SISWA!D143)","v":"136-"},{"$f":"IF(SISWA!E143=0,\"\",SISWA!E143)","v":""},null,null,null,null,null,{"$error":"#DIV/0!"}]
[137,{"$f":"IF(SISWA!B144=0,\"\",SISWA!B144)","v":""},{"$f":"IF(SISWA!C144=0,\"\",SISWA!C144)","v":""},{"$f":"IF(SISWA!D144=0,\"\",SISWA!D144)","v":"137-"},{"$f":"IF(SISWA!E144=0,\"\",SISWA!E144)","v":""},null,null,null,null,null,{"$error":"#DIV/0!"}]
[138,{"$f":"IF(SISWA!B145=0,\"\",SISWA!B145)","v":""},{"$f":"IF(SISWA!C145=0,\"\",SISWA!C145)","v":""},{"$f":"IF(SISWA!D145=0,\"\",SISWA!D145)","v":"138-"},{"$f":"IF(SISWA!E145=0,\"\",SISWA!E145)","v":""},null,null,null,null,null,{"$error":"#DIV/0!"}]
[139,{"$f":"IF(SISWA!B146=0,\"\",SISWA!B146)","v":""},{"$f":"IF(SISWA!C146=0,\"\",SISWA!C146)","v":""},{"$f":"IF(SISWA!D146=0,\"\",SISWA!D146)","v":"139-"},{"$f":"IF(SISWA!E146=0,\"\",SISWA!E146)","v":""},null,null,null,null,null,{"$error":"#DIV/0!"}]
[140,{"$f":"IF(SISWA!B147=0,\"\",SISWA!B147)","v":""},{"$f":"IF(SISWA!C147=0,\"\",SISWA!C147)","v":""},{"$f":"IF(SISWA!D147=0,\"\",SISWA!D147)","v":"140-"},{"$f":"IF(SISWA!E147=0,\"\",SISWA!E147)","v":""},null,null,null,null,null,{"$error":"#DIV/0!"}]
[141,{"$f":"IF(SISWA!B148=0,\"\",SISWA!B148)","v":""},{"$f":"IF(SISWA!C148=0,\"\",SISWA!C148)","v":""},{"$f":"IF(SISWA!D148=0,\"\",SISWA!D148)","v":"141-"},{"$f":"IF(SISWA!E148=0,\"\",SISWA!E148)","v":""},null,null,null,null,null,{"$error":"#DIV/0!"}]
[142,{"$f":"IF(SISWA!B149=0,\"\",SISWA!B149)","v":""},{"$f":"IF(SISWA!C149=0,\"\",SISWA!C149)","v":""},{"$f":"IF(SISWA!D149=0,\"\",SISWA!D149)","v":"142-"},{"$f":"IF(SISWA!E149=0,\"\",SISWA!E149)","v":""},null,null,null,null,null,{"$error":"#DIV/0!"}]
[143,{"$f":"IF(SISWA!B150=0,\"\",SISWA!B150)","v":""},{"$f":"IF(SISWA!C150=0,\"\",SISWA!C150)","v":""},{"$f":"IF(SISWA!D150=0,\"\",SISWA!D150)","v":"143-"},{"$f":"IF(SISWA!E150=0,\"\",SISWA!E150)","v":""},null,null,null,null,null,{"$error":"#DIV/0!"}]
[144,{"$f":"IF(SISWA!B151=0,\"\",SISWA!B151)","v":""},{"$f":"IF(SISWA!C151=0,\"\",SISWA!C151)","v":""},{"$f":"IF(SISWA!D151=0,\"\",SISWA!D151)","v":"144-"},{"$f":"IF(SISWA!E151=0,\"\",SISWA!E151)","v":""},null,null,null,null,null,{"$error":"#DIV/0!"}]
[145,{"$f":"IF(SISWA!B152=0,\"\",SISWA!B152)","v":""},{"$f":"IF(SISWA!C152=0,\"\",SISWA!C152)","v":""},{"$f":"IF(SISWA!D152=0,\"\",SISWA!D152)","v":"145-"},{"$f":"IF(SISWA!E152=0,\"\",SISWA!E152)","v":""},null,null,null,null,null,{"$error":"#DIV/0!"}]
[146,{"$f":"IF(SISWA!B153=0,\"\",SISWA!B153)","v":""},{"$f":"IF(SISWA!C153=0,\"\",SISWA!C153)","v":""},{"$f":"IF(SISWA!D153=0,\"\",SISWA!D153)","v":"146-"},{"$f":"IF(SISWA!E153=0,\"\",SISWA!E153)","v":""},null,null,null,null,null,{"$error":"#DIV/0!"}]
[147,{"$f":"IF(SISWA!B154=0,\"\",SISWA!B154)","v":""},{"$f":"IF(SISWA!C154=0,\"\",SISWA!C154)","v":""},{"$f":"IF(SISWA!D154=0,\"\",SISWA!D154)","v":"147-"},{"$f":"IF(SISWA!E154=0,\"\",SISWA!E154)","v":""},null,null,null,null,null,{"$error":"#DIV/0!"}]
[148,{"$f":"IF(SISWA!B155=0,\"\",SISWA!B155)","v":""},{"$f":"IF(SISWA!C155=0,\"\",SISWA!C155)","v":""},{"$f":"IF(SISWA!D155=0,\"\",SISWA!D155)","v":"148-"},{"$f":"IF(SISWA!E155=0,\"\",SISWA!E155)","v":""},null,null,null,null,null,{"$error":"#DIV/0!"}]
[149,{"$f":"IF(SISWA!B156=0,\"\",SISWA!B156)","v":""},{"$f":"IF(SISWA!C156=0,\"\",SISWA!C156)","v":""},{"$f":"IF(SISWA!D156=0,\"\",SISWA!D156)","v":"149-"},{"$f":"IF(SISWA!E156=0,\"\",SISWA!E156)","v":""},null,null,null,null,null,{"$error":"#DIV/0!"}]
[150,{"$f":"IF(SISWA!B157=0,\"\",SISWA!B157)","v":""},{"$f":"IF(SISWA!C157=0,\"\",SISWA!C157)","v":""},{"$f":"IF(SISWA!D157=0,\"\",SISWA!D157)","v":"150-"},{"$f":"IF(SISWA!E157=0,\"\",SISWA!E157)","v":""},null,null,null,null,null,{"$error":"#DIV/0!"}]
[151,{"$f":"IF(SISWA!B158=0,\"\",SISWA!B158)","v":""},{"$f":"IF(SISWA!C158=0,\"\",SISWA!C158)","v":""},{"$f":"IF(SISWA!D158=0,\"\",SISWA!D158)","v":"151-"},{"$f":"IF(SISWA!E158=0,\"\",SISWA!E158)","v":""},null,null,null,null,null,{"$error":"#DIV/0!"}]
[152,{"$f":"IF(SISWA!B159=0,\"\",SISWA!B159)","v":""},{"$f":"IF(SISWA!C159=0,\"\",SISWA!C159)","v":""},{"$f":"IF(SISWA!D159=0,\"\",SISWA!D159)","v":"152-"},{"$f":"IF(SISWA!E159=0,\"\",SISWA!E159)","v":""},null,null,null,null,null,{"$error":"#DIV/0!"}]
[153,{"$f":"IF(SISWA!B160=0,\"\",SISWA!B160)","v":""},{"$f":"IF(SISWA!C160=0,\"\",SISWA!C160)","v":""},{"$f":"IF(SISWA!D160=0,\"\",SISWA!D160)","v":"153-"},{"$f":"IF(SISWA!E160=0,\"\",SISWA!E160)","v":""},null,null,null,null,null,{"$error":"#DIV/0!"}]
[154,{"$f":"IF(SISWA!B161=0,\"\",SISWA!B161)","v":""},{"$f":"IF(SISWA!C161=0,\"\",SISWA!C161)","v":""},{"$f":"IF(SISWA!D161=0,\"\",SISWA!D161)","v":"154-"},{"$f":"IF(SISWA!E161=0,\"\",SISWA!E161)","v":""},null,null,null,null,null,{"$error":"#DIV/0!"}]
[155,{"$f":"IF(SISWA!B162=0,\"\",SISWA!B162)","v":""},{"$f":"IF(SISWA!C162=0,\"\",SISWA!C162)","v":""},{"$f":"IF(SISWA!D162=0,\"\",SISWA!D162)","v":"155-"},{"$f":"IF(SISWA!E162=0,\"\",SISWA!E162)","v":""},null,null,null,null,null,{"$error":"#DIV/0!"}]
[156,{"$f":"IF(SISWA!B163=0,\"\",SISWA!B163)","v":""},{"$f":"IF(SISWA!C163=0,\"\",SISWA!C163)","v":""},{"$f":"IF(SISWA!D163=0,\"\",SISWA!D163)","v":"156-"},{"$f":"IF(SISWA!E163=0,\"\",SISWA!E163)","v":""},null,null,null,null,null,{"$error":"#DIV/0!"}]
[157,{"$f":"IF(SISWA!B164=0,\"\",SISWA!B164)","v":""},{"$f":"IF(SISWA!C164=0,\"\",SISWA!C164)","v":""},{"$f":"IF(SISWA!D164=0,\"\",SISWA!D164)","v":"157-"},{"$f":"IF(SISWA!E164=0,\"\",SISWA!E164)","v":""},null,null,null,null,null,{"$error":"#DIV/0!"}]
[158,{"$f":"IF(SISWA!B165=0,\"\",SISWA!B165)","v":""},{"$f":"IF(SISWA!C165=0,\"\",SISWA!C165)","v":""},{"$f":"IF(SISWA!D165=0,\"\",SISWA!D165)","v":"158-"},{"$f":"IF(SISWA!E165=0,\"\",SISWA!E165)","v":""},null,null,null,null,null,{"$error":"#DIV/0!"}]
[159,{"$f":"IF(SISWA!B166=0,\"\",SISWA!B166)","v":""},{"$f":"IF(SISWA!C166=0,\"\",SISWA!C166)","v":""},{"$f":"IF(SISWA!D166=0,\"\",SISWA!D166)","v":"159-"},{"$f":"IF(SISWA!E166=0,\"\",SISWA!E166)","v":""},null,null,null,null,null,{"$error":"#DIV/0!"}]
[160,{"$f":"IF(SISWA!B167=0,\"\",SISWA!B167)","v":""},{"$f":"IF(SISWA!C167=0,\"\",SISWA!C167)","v":""},{"$f":"IF(SISWA!D167=0,\"\",SISWA!D167)","v":"160-"},{"$f":"IF(SISWA!E167=0,\"\",SISWA!E167)","v":""},null,null,null,null,null,{"$error":"#DIV/0!"}]
[161,{"$f":"IF(SISWA!B168=0,\"\",SISWA!B168)","v":""},{"$f":"IF(SISWA!C168=0,\"\",SISWA!C168)","v":""},{"$f":"IF(SISWA!D168=0,\"\",SISWA!D168)","v":"161-"},{"$f":"IF(SISWA!E168=0,\"\",SISWA!E168)","v":""},null,null,null,null,null,{"$error":"#DIV/0!"}]
[162,{"$f":"IF(SISWA!B169=0,\"\",SISWA!B169)","v":""},{"$f":"IF(SISWA!C169=0,\"\",SISWA!C169)","v":""},{"$f":"IF(SISWA!D169=0,\"\",SISWA!D169)","v":"162-"},{"$f":"IF(SISWA!E169=0,\"\",SISWA!E169)","v":""},null,null,null,null,null,{"$error":"#DIV/0!"}]
[163,{"$f":"IF(SISWA!B170=0,\"\",SISWA!B170)","v":""},{"$f":"IF(SISWA!C170=0,\"\",SISWA!C170)","v":""},{"$f":"IF(SISWA!D170=0,\"\",SISWA!D170)","v":"163-"},{"$f":"IF(SISWA!E170=0,\"\",SISWA!E170)","v":""},null,null,null,null,null,{"$error":"#DIV/0!"}]
[164,{"$f":"IF(SISWA!B171=0,\"\",SISWA!B171)","v":""},{"$f":"IF(SISWA!C171=0,\"\",SISWA!C171)","v":""},{"$f":"IF(SISWA!D171=0,\"\",SISWA!D171)","v":"164-"},{"$f":"IF(SISWA!E171=0,\"\",SISWA!E171)","v":""},null,null,null,null,null,{"$error":"#DIV/0!"}]
[165,{"$f":"IF(SISWA!B172=0,\"\",SISWA!B172)","v":""},{"$f":"IF(SISWA!C172=0,\"\",SISWA!C172)","v":""},{"$f":"IF(SISWA!D172=0,\"\",SISWA!D172)","v":"165-"},{"$f":"IF(SISWA!E172=0,\"\",SISWA!E172)","v":""},null,null,null,null,null,{"$error":"#DIV/0!"}]
[166,{"$f":"IF(SISWA!B173=0,\"\",SISWA!B173)","v":""},{"$f":"IF(SISWA!C173=0,\"\",SISWA!C173)","v":""},{"$f":"IF(SISWA!D173=0,\"\",SISWA!D173)","v":"166-"},{"$f":"IF(SISWA!E173=0,\"\",SISWA!E173)","v":""},null,null,null,null,null,{"$error":"#DIV/0!"}]
[167,{"$f":"IF(SISWA!B174=0,\"\",SISWA!B174)","v":""},{"$f":"IF(SISWA!C174=0,\"\",SISWA!C174)","v":""},{"$f":"IF(SISWA!D174=0,\"\",SISWA!D174)","v":"167-"},{"$f":"IF(SISWA!E174=0,\"\",SISWA!E174)","v":""},null,null,null,null,null,{"$error":"#DIV/0!"}]
[168,{"$f":"IF(SISWA!B175=0,\"\",SISWA!B175)","v":""},{"$f":"IF(SISWA!C175=0,\"\",SISWA!C175)","v":""},{"$f":"IF(SISWA!D175=0,\"\",SISWA!D175)","v":"168-"},{"$f":"IF(SISWA!E175=0,\"\",SISWA!E175)","v":""},null,null,null,null,null,{"$error":"#DIV/0!"}]
[169,{"$f":"IF(SISWA!B176=0,\"\",SISWA!B176)","v":""},{"$f":"IF(SISWA!C176=0,\"\",SISWA!C176)","v":""},{"$f":"IF(SISWA!D176=0,\"\",SISWA!D176)","v":"169-"},{"$f":"IF(SISWA!E176=0,\"\",SISWA!E176)","v":""},null,null,null,null,null,{"$error":"#DIV/0!"}]
[170,{"$f":"IF(SISWA!B177=0,\"\",SISWA!B177)","v":""},{"$f":"IF(SISWA!C177=0,\"\",SISWA!C177)","v":""},{"$f":"IF(SISWA!D177=0,\"\",SISWA!D177)","v":"170-"},{"$f":"IF(SISWA!E177=0,\"\",SISWA!E177)","v":""},null,null,null,null,null,{"$error":"#DIV/0!"}]
[171,{"$f":"IF(SISWA!B178=0,\"\",SISWA!B178)","v":""},{"$f":"IF(SISWA!C178=0,\"\",SISWA!C178)","v":""},{"$f":"IF(SISWA!D178=0,\"\",SISWA!D178)","v":"171-"},{"$f":"IF(SISWA!E178=0,\"\",SISWA!E178)","v":""},null,null,null,null,null,{"$error":"#DIV/0!"}]
[172,{"$f":"IF(SISWA!B179=0,\"\",SISWA!B179)","v":""},{"$f":"IF(SISWA!C179=0,\"\",SISWA!C179)","v":""},{"$f":"IF(SISWA!D179=0,\"\",SISWA!D179)","v":"172-"},{"$f":"IF(SISWA!E179=0,\"\",SISWA!E179)","v":""},null,null,null,null,null,{"$error":"#DIV/0!"}]
[173,{"$f":"IF(SISWA!B180=0,\"\",SISWA!B180)","v":""},{"$f":"IF(SISWA!C180=0,\"\",SISWA!C180)","v":""},{"$f":"IF(SISWA!D180=0,\"\",SISWA!D180)","v":"173-"},{"$f":"IF(SISWA!E180=0,\"\",SISWA!E180)","v":""},null,null,null,null,null,{"$error":"#DIV/0!"}]
[174,{"$f":"IF(SISWA!B181=0,\"\",SISWA!B181)","v":""},{"$f":"IF(SISWA!C181=0,\"\",SISWA!C181)","v":""},{"$f":"IF(SISWA!D181=0,\"\",SISWA!D181)","v":"174-"},{"$f":"IF(SISWA!E181=0,\"\",SISWA!E181)","v":""},null,null,null,null,null,{"$error":"#DIV/0!"}]
[175,{"$f":"IF(SISWA!B182=0,\"\",SISWA!B182)","v":""},{"$f":"IF(SISWA!C182=0,\"\",SISWA!C182)","v":""},{"$f":"IF(SISWA!D182=0,\"\",SISWA!D182)","v":"175-"},{"$f":"IF(SISWA!E182=0,\"\",SISWA!E182)","v":""},null,null,null,null,null,{"$error":"#DIV/0!"}]
[176,{"$f":"IF(SISWA!B183=0,\"\",SISWA!B183)","v":""},{"$f":"IF(SISWA!C183=0,\"\",SISWA!C183)","v":""},{"$f":"IF(SISWA!D183=0,\"\",SISWA!D183)","v":"176-"},{"$f":"IF(SISWA!E183=0,\"\",SISWA!E183)","v":""},null,null,null,null,null,{"$error":"#DIV/0!"}]
[177,{"$f":"IF(SISWA!B184=0,\"\",SISWA!B184)","v":""},{"$f":"IF(SISWA!C184=0,\"\",SISWA!C184)","v":""},{"$f":"IF(SISWA!D184=0,\"\",SISWA!D184)","v":"177-"},{"$f":"IF(SISWA!E184=0,\"\",SISWA!E184)","v":""},null,null,null,null,null,{"$error":"#DIV/0!"}]
[178,{"$f":"IF(SISWA!B185=0,\"\",SISWA!B185)","v":""},{"$f":"IF(SISWA!C185=0,\"\",SISWA!C185)","v":""},{"$f":"IF(SISWA!D185=0,\"\",SISWA!D185)","v":"178-"},{"$f":"IF(SISWA!E185=0,\"\",SISWA!E185)","v":""},null,null,null,null,null,{"$error":"#DIV/0!"}]
[179,{"$f":"IF(SISWA!B186=0,\"\",SISWA!B186)","v":""},{"$f":"IF(SISWA!C186=0,\"\",SISWA!C186)","v":""},{"$f":"IF(SISWA!D186=0,\"\",SISWA!D186)","v":"179-"},{"$f":"IF(SISWA!E186=0,\"\",SISWA!E186)","v":""},null,null,null,null,null,{"$error":"#DIV/0!"}]
[180,{"$f":"IF(SISWA!B187=0,\"\",SISWA!B187)","v":""},{"$f":"IF(SISWA!C187=0,\"\",SISWA!C187)","v":""},{"$f":"IF(SISWA!D187=0,\"\",SISWA!D187)","v":"180-"},{"$f":"IF(SISWA!E187=0,\"\",SISWA!E187)","v":""},null,null,null,null,null,{"$error":"#DIV/0!"}]
[181,{"$f":"IF(SISWA!B188=0,\"\",SISWA!B188)","v":""},{"$f":"IF(SISWA!C188=0,\"\",SISWA!C188)","v":""},{"$f":"IF(SISWA!D188=0,\"\",SISWA!D188)","v":"181-"},{"$f":"IF(SISWA!E188=0,\"\",SISWA!E188)","v":""},null,null,null,null,null,{"$error":"#DIV/0!"}]
[182,{"$f":"IF(SISWA!B189=0,\"\",SISWA!B189)","v":""},{"$f":"IF(SISWA!C189=0,\"\",SISWA!C189)","v":""},{"$f":"IF(SISWA!D189=0,\"\",SISWA!D189)","v":"182-"},{"$f":"IF(SISWA!E189=0,\"\",SISWA!E189)","v":""},null,null,null,null,null,{"$error":"#DIV/0!"}]
[183,{"$f":"IF(SISWA!B190=0,\"\",SISWA!B190)","v":""},{"$f":"IF(SISWA!C190=0,\"\",SISWA!C190)","v":""},{"$f":"IF(SISWA!D190=0,\"\",SISWA!D190)","v":"183-"},{"$f":"IF(SISWA!E190=0,\"\",SISWA!E190)","v":""},null,null,null,null,null,{"$error":"#DIV/0!"}]
[184,{"$f":"IF(SISWA!B191=0,\"\",SISWA!B191)","v":""},{"$f":"IF(SISWA!C191=0,\"\",SISWA!C191)","v":""},{"$f":"IF(SISWA!D191=0,\"\",SISWA!D191)","v":"184-"},{"$f":"IF(SISWA!E191=0,\"\",SISWA!E191)","v":""},null,null,null,null,null,{"$error":"#DIV/0!"}]
[185,{"$f":"IF(SISWA!B192=0,\"\",SISWA!B192)","v":""},{"$f":"IF(SISWA!C192=0,\"\",SISWA!C192)","v":""},{"$f":"IF(SISWA!D192=0,\"\",SISWA!D192)","v":"185-"},{"$f":"IF(SISWA!E192=0,\"\",SISWA!E192)","v":""},null,null,null,null,null,{"$error":"#DIV/0!"}]
[186,{"$f":"IF(SISWA!B193=0,\"\",SISWA!B193)","v":""},{"$f":"IF(SISWA!C193=0,\"\",SISWA!C193)","v":""},{"$f":"IF(SISWA!D193=0,\"\",SISWA!D193)","v":"186-"},{"$f":"IF(SISWA!E193=0,\"\",SISWA!E193)","v":""},null,null,null,null,null,{"$error":"#DIV/0!"}]
[187,{"$f":"IF(SISWA!B194=0,\"\",SISWA!B194)","v":""},{"$f":"IF(SISWA!C194=0,\"\",SISWA!C194)","v":""},{"$f":"IF(SISWA!D194=0,\"\",SISWA!D194)","v":"187-"},{"$f":"IF(SISWA!E194=0,\"\",SISWA!E194)","v":""},null,null,null,null,null,{"$error":"#DIV/0!"}]
[188,{"$f":"IF(SISWA!B195=0,\"\",SISWA!B195)","v":""},{"$f":"IF(SISWA!C195=0,\"\",SISWA!C195)","v":""},{"$f":"IF(SISWA!D195=0,\"\",SISWA!D195)","v":"188-"},{"$f":"IF(SISWA!E195=0,\"\",SISWA!E195)","v":""},null,null,null,null,null,{"$error":"#DIV/0!"}]
[189,{"$f":"IF(SISWA!B196=0,\"\",SISWA!B196)","v":""},{"$f":"IF(SISWA!C196=0,\"\",SISWA!C196)","v":""},{"$f":"IF(SISWA!D196=0,\"\",SISWA!D196)","v":"189-"},{"$f":"IF(SISWA!E196=0,\"\",SISWA!E196)","v":""},null,null,null,null,null,{"$f":"AVERAGE(F196:J196)","v":{"$error":"#DIV/0!"}}]
[190,{"$f":"IF(SISWA!B197=0,\"\",SISWA!B197)","v":""},{"$f":"IF(SISWA!C197=0,\"\",SISWA!C197)","v":""},{"$f":"IF(SISWA!D197=0,\"\",SISWA!D197)","v":"190-"},{"$f":"IF(SISWA!E197=0,\"\",SISWA!E197)","v":""},null,null,null,null,null,{"$error":"#DIV/0!"}]
[191,{"$f":"IF(SISWA!B198=0,\"\",SISWA!B198)","v":""},{"$f":"IF(SISWA!C198=0,\"\",SISWA!C198)","v":""},{"$f":"IF(SISWA!D198=0,\"\",SISWA!D198)","v":"191-"},{"$f":"IF(SISWA!E198=0,\"\",SISWA!E198)","v":""},null,null,null,null,null,{"$error":"#DIV/0!"}]
[192,{"$f":"IF(SISWA!B199=0,\"\",SISWA!B199)","v":""},{"$f":"IF(SISWA!C199=0,\"\",SISWA!C199)","v":""},{"$f":"IF(SISWA!D199=0,\"\",SISWA!D199)","v":"192-"},{"$f":"IF(SISWA!E199=0,\"\",SISWA!E199)","v":""},null,null,null,null,null,{"$error":"#DIV/0!"}]
[193,{"$f":"IF(SISWA!B200=0,\"\",SISWA!B200)","v":""},{"$f":"IF(SISWA!C200=0,\"\",SISWA!C200)","v":""},{"$f":"IF(SISWA!D200=0,\"\",SISWA!D200)","v":"193-"},{"$f":"IF(SISWA!E200=0,\"\",SISWA!E200)","v":""},null,null,null,null,null,{"$error":"#DIV/0!"}]
[194,{"$f":"IF(SISWA!B201=0,\"\",SISWA!B201)","v":""},{"$f":"IF(SISWA!C201=0,\"\",SISWA!C201)","v":""},{"$f":"IF(SISWA!D201=0,\"\",SISWA!D201)","v":"194-"},{"$f":"IF(SISWA!E201=0,\"\",SISWA!E201)","v":""},null,null,null,null,null,{"$error":"#DIV/0!"}]
[195,{"$f":"IF(SISWA!B202=0,\"\",SISWA!B202)","v":""},{"$f":"IF(SISWA!C202=0,\"\",SISWA!C202)","v":""},{"$f":"IF(SISWA!D202=0,\"\",SISWA!D202)","v":"195-"},{"$f":"IF(SISWA!E202=0,\"\",SISWA!E202)","v":""},null,null,null,null,null,{"$error":"#DIV/0!"}]
[196,{"$f":"IF(SISWA!B203=0,\"\",SISWA!B203)","v":""},{"$f":"IF(SISWA!C203=0,\"\",SISWA!C203)","v":""},{"$f":"IF(SISWA!D203=0,\"\",SISWA!D203)","v":"196-"},{"$f":"IF(SISWA!E203=0,\"\",SISWA!E203)","v":""},null,null,null,null,null,{"$error":"#DIV/0!"}]
[197,{"$f":"IF(SISWA!B204=0,\"\",SISWA!B204)","v":""},{"$f":"IF(SISWA!C204=0,\"\",SISWA!C204)","v":""},{"$f":"IF(SISWA!D204=0,\"\",SISWA!D204)","v":"197-"},{"$f":"IF(SISWA!E204=0,\"\",SISWA!E204)","v":""},null,null,null,null,null,{"$error":"#DIV/0!"}]
[198,{"$f":"IF(SISWA!B205=0,\"\",SISWA!B205)","v":""},{"$f":"IF(SISWA!C205=0,\"\",SISWA!C205)","v":""},{"$f":"IF(SISWA!D205=0,\"\",SISWA!D205)","v":"198-"},{"$f":"IF(SISWA!E205=0,\"\",SISWA!E205)","v":""},null,null,null,null,null,{"$error":"#DIV/0!"}]
[199,{"$f":"IF(SISWA!B206=0,\"\",SISWA!B206)","v":""},{"$f":"IF(SISWA!C206=0,\"\",SISWA!C206)","v":""},{"$f":"IF(SISWA!D206=0,\"\",SISWA!D206)","v":"199-"},{"$f":"IF(SISWA!E206=0,\"\",SISWA!E206)","v":""},null,null,null,null,null,{"$error":"#DIV/0!"}]
[200,{"$f":"IF(SISWA!B207=0,\"\",SISWA!B207)","v":""},{"$f":"IF(SISWA!C207=0,\"\",SISWA!C207)","v":""},{"$f":"IF(SISWA!D207=0,\"\",SISWA!D207)","v":"200-"},{"$f":"IF(SISWA!E207=0,\"\",SISWA!E207)","v":""},null,null,null,null,null,{"$error":"#DIV/0!"}]

{"sheet":"PKn","index":7,"n_rows":207,"n_cols":15,"rows_kept":207,"cut":false,"hidden":false,"merged":[[4,13,6,13],[0,0,0,9],[1,0,1,9],[2,0,2,9],[4,0,6,0],[4,1,6,1],[4,2,6,2],[4,3,6,3],[4,4,6,4],[5,5,5,9],[4,5,4,12],[5,11,5,12]]}
["DAFTAR NILAI AKHIR SEKOLAH"]
[{"$f":"AA!A2","v":"MADRASAH IBTIDAIYAH NURUL ISLAM LABRUK KIDUL"}]
[{"$f":"AA!A3","v":"TAHUN PELAJARAN 2018/2019"}]
[]
["NO","No Induk","NISN","Nomor Peserta","Nama Peserta","PKn",null,null,null,null,null,null,null,"rata-rata UAM & PRAKTEK"]
[null,null,null,null,null,"Nilai Semester",null,null,null,null,"Rata- 2","NILAI UAM"]
[null,null,null,null,null,7,8,9,10,11,"Rapor","TULIS","PRAKTIK"]
[1,{"$f":"IF(SISWA!B8=0,\"\",SISWA!B8)","v":4270},{"$f":"IF(SISWA!C8=0,\"\",SISWA!C8)","v":"0067566336"},{"$f":"IF(SISWA!D8=0,\"\",SISWA!D8)","v":"1-18-05-80-162-001-9"},{"$f":"IF(SISWA!E8=0,\"\",SISWA!E8)","v":"ADITYA MAULA FANDY TAULANI"},80,82,89,93,93,{"$f":"AVERAGE(F8:J8)","v":87.4},65,null,{"$f":"AVERAGE(L8:M8)","v":65},{"$f":"AVERAGE(L8,F8:J8)","v":83.666666666666671}]
[2,{"$f":"IF(SISWA!B9=0,\"\",SISWA!B9)","v":4300},{"$f":"IF(SISWA!C9=0,\"\",SISWA!C9)","v":"0066364963"},{"$f":"IF(SISWA!D9=0,\"\",SISWA!D9)","v":"1-18-05-80-162-002-8"},{"$f":"IF(SISWA!E9=0,\"\",SISWA!E9)","v":"AHMAD FERDIAN ALAMSYAH"},72,66,75,73,78,{"$f":"AVERAGE(F9:J9)","v":72.8},68,null,{"$f":"AVERAGE(L9:M9)","v":68},{"$f":"AVERAGE(L9,F9:J9)","v":72}]
[3,{"$f":"IF(SISWA!B10=0,\"\",SISWA!B10)","v":4271},{"$f":"IF(SISWA!C10=0,\"\",SISWA!C10)","v":"0062805893"},{"$f":"IF(SISWA!D10=0,\"\",SISWA!D10)","v":"1-18-05-80-162-003-7"},{"$f":"IF(SISWA!E10=0,\"\",SISWA!E10)","v":"AHMAD RAMADHANI FADLULLOH"},73,74,80,82,85,78.8,68,null,68,77]
[4,{"$f":"IF(SISWA!B11=0,\"\",SISWA!B11)","v":4398},{"$f":"IF(SISWA!C11=0,\"\",SISWA!C11)","v":"0062399399"},{"$f":"IF(SISWA!D11=0,\"\",SISWA!D11)","v":"1-18-05-80-162-004-6"},{"$f":"IF(SISWA!E11=0,\"\",SISWA!E11)","v":"ANANDA AMILIA"},77,76,79,83,83,79.599999999999994,65,null,65,77.166666666666671]
[5,{"$f":"IF(SISWA!B12=0,\"\",SISWA!B12)","v":4272},{"$f":"IF(SISWA!C12=0,\"\",SISWA!C12)","v":"0071551428"},{"$f":"IF(SISWA!D12=0,\"\",SISWA!D12)","v":"1-18-05-80-162-005-5"},{"$f":"IF(SISWA!E12=0,\"\",SISWA!E12)","v":"ANDINI MAULID DWI LESTARI"},81,73,76,75,82,77.400000000000006,65,null,65,75.333333333333329]
[6,{"$f":"IF(SISWA!B13=0,\"\",SISWA!B13)","v":4301},{"$f":"IF(SISWA!C13=0,\"\",SISWA!C13)","v":"0061907599"},{"$f":"IF(SISWA!D13=0,\"\",SISWA!D13)","v":"1-18-05-80-162-006-4"},{"$f":"IF(SISWA!E13=0,\"\",SISWA!E13)","v":"ANDRIK YUSRI"},67,64,74,70,78,70.599999999999994,65,null,65,69.666666666666671]
[7,{"$f":"IF(SISWA!B14=0,\"\",SISWA!B14)","v":4273},{"$f":"IF(SISWA!C14=0,\"\",SISWA!C14)","v":"0067280519"},{"$f":"IF(SISWA!D14=0,\"\",SISWA!D14)","v":"1-18-05-80-162-007-3"},{"$f":"IF(SISWA!E14=0,\"\",SISWA!E14)","v":"DEWI SAKINAH ISWARA"},79,83,85,90,84,84.2,65,null,65,81]
[8,{"$f":"IF(SISWA!B15=0,\"\",SISWA!B15)","v":4307},{"$f":"IF(SISWA!C15=0,\"\",SISWA!C15)","v":"0066012198"},{"$f":"IF(SISWA!D15=0,\"\",SISWA!D15)","v":"1-18-05-80-162-008-2"},{"$f":"IF(SISWA!E15=0,\"\",SISWA!E15)","v":"CHAKIM"},67,66,73,71,79,71.2,65,null,65,70.166666666666671]
[9,{"$f":"IF(SISWA!B16=0,\"\",SISWA!B16)","v":4275},{"$f":"IF(SISWA!C16=0,\"\",SISWA!C16)","v":"0078199679"},{"$f":"IF(SISWA!D16=0,\"\",SISWA!D16)","v":"1-18-05-80-162-009-9"},{"$f":"IF(SISWA!E16=0,\"\",SISWA!E16)","v":"HANIK APRILIA SARI"},77,80,82,85,82,81.2,65,null,65,78.5]
[10,{"$f":"IF(SISWA!B17=0,\"\",SISWA!B17)","v":"4238"},{"$f":"IF(SISWA!C17=0,\"\",SISWA!C17)","v":"0051503260"},{"$f":"IF(SISWA!D17=0,\"\",SISWA!D17)","v":"1-18-05-80-162-010-8"},{"$f":"IF(SISWA!E17=0,\"\",SISWA!E17)","v":"DESI NATALIA SAPUTRI"},69,63,74,71,78,71,74,null,74,71.5]
[11,{"$f":"IF(SISWA!B18=0,\"\",SISWA!B18)","v":4391},{"$f":"IF(SISWA!C18=0,\"\",SISWA!C18)","v":"0079418518"},{"$f":"IF(SISWA!D18=0,\"\",SISWA!D18)","v":"1-18-05-80-162-011-7"},{"$f":"IF(SISWA!E18=0,\"\",SISWA!E18)","v":"HIDAYATUL KHUMAINIA"},73,70,77,76,83,75.8,65,null,65,74]
[12,{"$f":"IF(SISWA!B19=0,\"\",SISWA!B19)","v":4274},{"$f":"IF(SISWA!C19=0,\"\",SISWA!C19)","v":"0077670297"},{"$f":"IF(SISWA!D19=0,\"\",SISWA!D19)","v":"1-18-05-80-162-012-6"},{"$f":"IF(SISWA!E19=0,\"\",SISWA!E19)","v":"DWITA FITA WULANDARI"},76,72,76,72,83,75.8,82,null,82,76.833333333333329]
[13,{"$f":"IF(SISWA!B20=0,\"\",SISWA!B20)","v":4276},{"$f":"IF(SISWA!C20=0,\"\",SISWA!C20)","v":"0067236848"},{"$f":"IF(SISWA!D20=0,\"\",SISWA!D20)","v":"1-18-05-80-162-013-5"},{"$f":"IF(SISWA!E20=0,\"\",SISWA!E20)","v":"IZZA ILMIA AZZAHRA"},78,80,80,84,86,81.599999999999994,65,null,65,78.833333333333329]
[14,{"$f":"IF(SISWA!B21=0,\"\",SISWA!B21)","v":4303},{"$f":"IF(SISWA!C21=0,\"\",SISWA!C21)","v":"0064031376"},{"$f":"IF(SISWA!D21=0,\"\",SISWA!D21)","v":"1-18-05-80-162-014-4"},{"$f":"IF(SISWA!E21=0,\"\",SISWA!E21)","v":"FARIDATUS SAHDIAH"},74,70,76,74,79,74.599999999999994,65,null,65,73]
[15,{"$f":"IF(SISWA!B22=0,\"\",SISWA!B22)","v":4278},{"$f":"IF(SISWA!C22=0,\"\",SISWA!C22)","v":"0079672823"},{"$f":"IF(SISWA!D22=0,\"\",SISWA!D22)","v":"1-18-05-80-162-015-3"},{"$f":"IF(SISWA!E22=0,\"\",SISWA!E22)","v":"KHARISYA AZZAHRO"},85,85,79,75,92,83.2,65,null,65,80.166666666666671]
[16,{"$f":"IF(SISWA!B23=0,\"\",SISWA!B23)","v":4277},{"$f":"IF(SISWA!C23=0,\"\",SISWA!C23)","v":"0077101453"},{"$f":"IF(SISWA!D23=0,\"\",SISWA!D23)","v":"1-18-05-80-162-016-2"},{"$f":"IF(SISWA!E23=0,\"\",SISWA!E23)","v":"KARINA FEBBY CAHYA AMILIA"},76,79,81,85,85,81.2,65,null,65,78.5]
[17,{"$f":"IF(SISWA!B24=0,\"\",SISWA!B24)","v":4601},{"$f":"IF(SISWA!C24=0,\"\",SISWA!C24)","v":"0069718082"},{"$f":"IF(SISWA!D24=0,\"\",SISWA!D24)","v":"1-18-05-80-162-017-9"},{"$f":"IF(SISWA!E24=0,\"\",SISWA!E24)","v":"MOCHAMAD RIFKY ROSAN"},76,77,75,77,83,77.599999999999994,65,null,65,75.5]
[18,{"$f":"IF(SISWA!B25=0,\"\",SISWA!B25)","v":"4241"},{"$f":"IF(SISWA!C25=0,\"\",SISWA!C25)","v":"0057006145"},{"$f":"IF(SISWA!D25=0,\"\",SISWA!D25)","v":"1-18-05-80-162-018-8"},{"$f":"IF(SISWA!E25=0,\"\",SISWA!E25)","v":"KHUSNI CAHYONO"},70,61,72,71,77,70.2,65,null,65,69.333333333333329]
[19,{"$f":"IF(SISWA!B26=0,\"\",SISWA!B26)","v":4280},{"$f":"IF(SISWA!C26=0,\"\",SISWA!C26)","v":"0062061356"},{"$f":"IF(SISWA!D26=0,\"\",SISWA!D26)","v":"1-18-05-80-162-019-7"},{"$f":"IF(SISWA!E26=0,\"\",SISWA!E26)","v":"MUCHAMMAD ALIEF FERDIANSYAH"},77,79,81,84,86,81.400000000000006,72,null,72,79.833333333333329]
[20,{"$f":"IF(SISWA!B27=0,\"\",SISWA!B27)","v":4306},{"$f":"IF(SISWA!C27=0,\"\",SISWA!C27)","v":"0069095925"},{"$f":"IF(SISWA!D27=0,\"\",SISWA!D27)","v":"1-18-05-80-162-020-6"},{"$f":"IF(SISWA!E27=0,\"\",SISWA!E27)","v":"LENNY AGUSTIN NINGTYAS"},70,66,73,70,78,71.400000000000006,65,null,65,70.333333333333329]
[21,{"$f":"IF(SISWA!B28=0,\"\",SISWA!B28)","v":4281},{"$f":"IF(SISWA!C28=0,\"\",SISWA!C28)","v":"0069153972"},{"$f":"IF(SISWA!D28=0,\"\",SISWA!D28)","v":"1-18-05-80-162-021-5"},{"$f":"IF(SISWA!E28=0,\"\",SISWA!E28)","v":"MUHAMMAD AGUS ANDRIANTO"},74,75,74,72,82,75.400000000000006,65,null,65,73.666666666666671]
[22,{"$f":"IF(SISWA!B29=0,\"\",SISWA!B29)","v":4308},{"$f":"IF(SISWA!C29=0,\"\",SISWA!C29)","v":"0063078335"},{"$f":"IF(SISWA!D29=0,\"\",SISWA!D29)","v":"1-18-05-80-162-022-4"},{"$f":"IF(SISWA!E29=0,\"\",SISWA!E29)","v":"MAURIS HIDAYATUR ROCHMAN"},71,74,73,81,87,77.2,65,null,65,75.166666666666671]
[23,{"$f":"IF(SISWA!B30=0,\"\",SISWA!B30)","v":4314},{"$f":"IF(SISWA!C30=0,\"\",SISWA!C30)","v":"0072178353"},{"$f":"IF(SISWA!D30=0,\"\",SISWA!D30)","v":"1-18-05-80-162-023-3"},{"$f":"IF(SISWA!E30=0,\"\",SISWA!E30)","v":"MUHAMMAD BISMAR TAUFIQUROHMAN"},76,75,81,82,84,79.599999999999994,65,null,65,77.166666666666671]
[24,{"$f":"IF(SISWA!B31=0,\"\",SISWA!B31)","v":4309},{"$f":"IF(SISWA!C31=0,\"\",SISWA!C31)","v":"0072198448"},{"$f":"IF(SISWA!D31=0,\"\",SISWA!D31)","v":"1-18-05-80-162-024-2"},{"$f":"IF(SISWA!E31=0,\"\",SISWA!E31)","v":"MAYA BUNGA ANJANI"},67,64,75,72,78,71.2,65,null,65,70.166666666666671]
[25,{"$f":"IF(SISWA!B32=0,\"\",SISWA!B32)","v":4320},{"$f":"IF(SISWA!C32=0,\"\",SISWA!C32)","v":"0064566227"},{"$f":"IF(SISWA!D32=0,\"\",SISWA!D32)","v":"1-18-05-80-162-025-9"},{"$f":"IF(SISWA!E32=0,\"\",SISWA!E32)","v":"MUHAMMAD SAHLAN SHODIQ"},83,79,84,88,81,83,65,null,65,80]
[26,{"$f":"IF(SISWA!B33=0,\"\",SISWA!B33)","v":4279},{"$f":"IF(SISWA!C33=0,\"\",SISWA!C33)","v":"0066637092"},{"$f":"IF(SISWA!D33=0,\"\",SISWA!D33)","v":"1-18-05-80-162-026-8"},{"$f":"IF(SISWA!E33=0,\"\",SISWA!E33)","v":"MITA SEPTIANI ISLAMIA"},70,63,74,79,77,72.599999999999994,65,null,65,71.333333333333329]
[27,{"$f":"IF(SISWA!B34=0,\"\",SISWA!B34)","v":4321},{"$f":"IF(SISWA!C34=0,\"\",SISWA!C34)","v":"0061244045"},{"$f":"IF(SISWA!D34=0,\"\",SISWA!D34)","v":"1-18-05-80-162-027-7"},{"$f":"IF(SISWA!E34=0,\"\",SISWA!E34)","v":"MUHAMMAD SEPTYAN EKA PRATAMA"},75,81,76,77,81,78,68,null,68,76.333333333333329]
[28,{"$f":"IF(SISWA!B35=0,\"\",SISWA!B35)","v":"4247"},{"$f":"IF(SISWA!C35=0,\"\",SISWA!C35)","v":"0053546157"},{"$f":"IF(SISWA!D35=0,\"\",SISWA!D35)","v":"1-18-05-80-162-028-6"},{"$f":"IF(SISWA!E35=0,\"\",SISWA!E35)","v":"MOCHAMAD ARIEL FRANS TITO"},72,68,73,72,76,72.2,65,null,65,71]
[29,{"$f":"IF(SISWA!B36=0,\"\",SISWA!B36)","v":4285},{"$f":"IF(SISWA!C36=0,\"\",SISWA!C36)","v":"0067871553"},{"$f":"IF(SISWA!D36=0,\"\",SISWA!D36)","v":"1-18-05-80-162-029-5"},{"$f":"IF(SISWA!E36=0,\"\",SISWA!E36)","v":"MUHAMMAD VERYANSYAH"},75,77,80,78,83,78.599999999999994,65,null,65,76.333333333333329]
[30,{"$f":"IF(SISWA!B37=0,\"\",SISWA!B37)","v":4310},{"$f":"IF(SISWA!C37=0,\"\",SISWA!C37)","v":"0066383678"},{"$f":"IF(SISWA!D37=0,\"\",SISWA!D37)","v":"1-18-05-80-162-030-4"},{"$f":"IF(SISWA!E37=0,\"\",SISWA!E37)","v":"MOCHAMMAD BIMA RISFANDA"},72,65,75,75,79,73.2,65,null,65,71.833333333333329]
[31,{"$f":"IF(SISWA!B38=0,\"\",SISWA!B38)","v":4286},{"$f":"IF(SISWA!C38=0,\"\",SISWA!C38)","v":"0064443822"},{"$f":"IF(SISWA!D38=0,\"\",SISWA!D38)","v":"1-18-05-80-162-031-3"},{"$f":"IF(SISWA!E38=0,\"\",SISWA!E38)","v":"MUHAMMAD ZIDNY NA'IM"},83,81,79,78,90,82.2,68,null,68,79.833333333333329]
[32,{"$f":"IF(SISWA!B39=0,\"\",SISWA!B39)","v":4282},{"$f":"IF(SISWA!C39=0,\"\",SISWA!C39)","v":"0068336765"},{"$f":"IF(SISWA!D39=0,\"\",SISWA!D39)","v":"1-18-05-80-162-032-2"},{"$f":"IF(SISWA!E39=0,\"\",SISWA!E39)","v":"MUHAMMAD AGUS FERDIANSYAH"},72,74,76,84,82,77.599999999999994,65,null,65,75.5]
[33,{"$f":"IF(SISWA!B40=0,\"\",SISWA!B40)","v":4287},{"$f":"IF(SISWA!C40=0,\"\",SISWA!C40)","v":"0064528717"},{"$f":"IF(SISWA!D40=0,\"\",SISWA!D40)","v":"1-18-05-80-162-033-9"},{"$f":"IF(SISWA!E40=0,\"\",SISWA!E40)","v":"MUHAMMAD FARDAN ABDILLAH"},73,null,75,74,null,74,65,null,65,71.75]
[34,{"$f":"IF(SISWA!B41=0,\"\",SISWA!B41)","v":4315},{"$f":"IF(SISWA!C41=0,\"\",SISWA!C41)","v":"0067870495"},{"$f":"IF(SISWA!D41=0,\"\",SISWA!D41)","v":"1-18-05-80-162-034-8"},{"$f":"IF(SISWA!E41=0,\"\",SISWA!E41)","v":"NABILA ARISKA PUTRI"},78,80,78,77,84,79.400000000000006,65,null,65,77]
[35,{"$f":"IF(SISWA!B42=0,\"\",SISWA!B42)","v":4288},{"$f":"IF(SISWA!C42=0,\"\",SISWA!C42)","v":"0068641191"},{"$f":"IF(SISWA!D42=0,\"\",SISWA!D42)","v":"1-18-05-80-162-035-7"},{"$f":"IF(SISWA!E42=0,\"\",SISWA!E42)","v":"MUHAMMAD FERDINAN JAYYIDAH RIFQI"},76,76,79,85,88,80.8,65,null,65,78.166666666666671]
[36,{"$f":"IF(SISWA!B43=0,\"\",SISWA!B43)","v":4283},{"$f":"IF(SISWA!C43=0,\"\",SISWA!C43)","v":"0077212388"},{"$f":"IF(SISWA!D43=0,\"\",SISWA!D43)","v":"1-18-05-80-162-036-6"},{"$f":"IF(SISWA!E43=0,\"\",SISWA!E43)","v":"NAFISA INDRIANI"},79,79,88,89,91,85.2,72,null,72,83]
[37,{"$f":"IF(SISWA!B44=0,\"\",SISWA!B44)","v":"4257"},{"$f":"IF(SISWA!C44=0,\"\",SISWA!C44)","v":"0069944706"},{"$f":"IF(SISWA!D44=0,\"\",SISWA!D44)","v":"1-18-05-80-162-037-5"},{"$f":"IF(SISWA!E44=0,\"\",SISWA!E44)","v":"MUHAMMAD FIRMANSYAH"},69,67,75,74,81,73.2,65,null,65,71.833333333333329]
[38,{"$f":"IF(SISWA!B45=0,\"\",SISWA!B45)","v":4317},{"$f":"IF(SISWA!C45=0,\"\",SISWA!C45)","v":"0068498059"},{"$f":"IF(SISWA!D45=0,\"\",SISWA!D45)","v":"1-18-05-80-162-038-4"},{"$f":"IF(SISWA!E45=0,\"\",SISWA!E45)","v":"NAJWA FARISYA BAROROH"},79,74,81,81,86,80.2,65,null,65,77.666666666666671]
[39,{"$f":"IF(SISWA!B46=0,\"\",SISWA!B46)","v":4289},{"$f":"IF(SISWA!C46=0,\"\",SISWA!C46)","v":"0065225517"},{"$f":"IF(SISWA!D46=0,\"\",SISWA!D46)","v":"1-18-05-80-162-039-3"},{"$f":"IF(SISWA!E46=0,\"\",SISWA!E46)","v":"NUR FITRIYAH"},74,77,80,84,82,79.400000000000006,65,null,65,77]
[40,{"$f":"IF(SISWA!B47=0,\"\",SISWA!B47)","v":4318},{"$f":"IF(SISWA!C47=0,\"\",SISWA!C47)","v":"0061441364"},{"$f":"IF(SISWA!D47=0,\"\",SISWA!D47)","v":"1-18-05-80-162-040-2"},{"$f":"IF(SISWA!E47=0,\"\",SISWA!E47)","v":"MUHAMMAD HILDAN DWI SAPUTRA"},71,67,73,73,79,72.599999999999994,65,null,65,71.333333333333329]
[41,{"$f":"IF(SISWA!B48=0,\"\",SISWA!B48)","v":4392},{"$f":"IF(SISWA!C48=0,\"\",SISWA!C48)","v":"0075794532"},{"$f":"IF(SISWA!D48=0,\"\",SISWA!D48)","v":"1-18-05-80-162-041-9"},{"$f":"IF(SISWA!E48=0,\"\",SISWA!E48)","v":"PUTRI NAFI'ATUS SOLIKHAH"},77,73,77,80,83,78,65,null,65,75.833333333333329]
[42,{"$f":"IF(SISWA!B49=0,\"\",SISWA!B49)","v":4284},{"$f":"IF(SISWA!C49=0,\"\",SISWA!C49)","v":"0069578000"},{"$f":"IF(SISWA!D49=0,\"\",SISWA!D49)","v":"1-18-05-80-162-042-8"},{"$f":"IF(SISWA!E49=0,\"\",SISWA!E49)","v":"MUHAMMAD RAYA KAFAF JAUHARI"},79,74,76,76,79,76.8,65,null,65,74.833333333333329]
[43,{"$f":"IF(SISWA!B50=0,\"\",SISWA!B50)","v":4290},{"$f":"IF(SISWA!C50=0,\"\",SISWA!C50)","v":"0063558216"},{"$f":"IF(SISWA!D50=0,\"\",SISWA!D50)","v":"1-18-05-80-162-043-7"},{"$f":"IF(SISWA!E50=0,\"\",SISWA!E50)","v":"QORIATUN SHOLIHAH"},76,76,78,76,81,77.400000000000006,65,null,65,75.333333333333329]
[44,{"$f":"IF(SISWA!B51=0,\"\",SISWA!B51)","v":4319},{"$f":"IF(SISWA!C51=0,\"\",SISWA!C51)","v":"0065329770"},{"$f":"IF(SISWA!D51=0,\"\",SISWA!D51)","v":"1-18-05-80-162-044-6"},{"$f":"IF(SISWA!E51=0,\"\",SISWA!E51)","v":"MUHAMMAD RUDI TANTOWIK"},73,66,74,72,78,72.599999999999994,72,null,72,72.5]
[45,{"$f":"IF(SISWA!B52=0,\"\",SISWA!B52)","v":4291},{"$f":"IF(SISWA!C52=0,\"\",SISWA!C52)","v":"0067071679"},{"$f":"IF(SISWA!D52=0,\"\",SISWA!D52)","v":"1-18-05-80-162-045-5"},{"$f":"IF(SISWA!E52=0,\"\",SISWA!E52)","v":"RACHMAD HIDAYAT"},73,69,77,75,79,74.599999999999994,72,null,72,74.166666666666671]
[46,{"$f":"IF(SISWA!B53=0,\"\",SISWA!B53)","v":4322},{"$f":"IF(SISWA!C53=0,\"\",SISWA!C53)","v":"0051101989"},{"$f":"IF(SISWA!D53=0,\"\",SISWA!D53)","v":"1-18-05-80-162-046-4"},{"$f":"IF(SISWA!E53=0,\"\",SISWA!E53)","v":"MUHAMMAD ZULDIENUR HABIBIE"},69,62,72,73,78,70.8,70,null,70,70.666666666666671]
[47,{"$f":"IF(SISWA!B54=0,\"\",SISWA!B54)","v":4292},{"$f":"IF(SISWA!C54=0,\"\",SISWA!C54)","v":"0072001696"},{"$f":"IF(SISWA!D54=0,\"\",SISWA!D54)","v":"1-18-05-80-162-047-3"},{"$f":"IF(SISWA!E54=0,\"\",SISWA!E54)","v":"RHEA RAYSHANADA NUGRAHA"},76,80,77,78,81,78.400000000000006,65,null,65,76.166666666666671]
[48,{"$f":"IF(SISWA!B55=0,\"\",SISWA!B55)","v":4323},{"$f":"IF(SISWA!C55=0,\"\",SISWA!C55)","v":"0078949167"},{"$f":"IF(SISWA!D55=0,\"\",SISWA!D55)","v":"1-18-05-80-162-048-2"},{"$f":"IF(SISWA!E55=0,\"\",SISWA!E55)","v":"MUKHAMAD KHOIRUL AMIN"},72,63,75,73,79,72.400000000000006,65,null,65,71.166666666666671]
[49,{"$f":"IF(SISWA!B56=0,\"\",SISWA!B56)","v":4293},{"$f":"IF(SISWA!C56=0,\"\",SISWA!C56)","v":"0064217705"},{"$f":"IF(SISWA!D56=0,\"\",SISWA!D56)","v":"1-18-05-80-162-049-9"},{"$f":"IF(SISWA!E56=0,\"\",SISWA!E56)","v":"RIYANTI APRILIA"},78,76,78,75,85,78.400000000000006,65,null,65,76.166666666666671]
[50,{"$f":"IF(SISWA!B57=0,\"\",SISWA!B57)","v":"4256"},{"$f":"IF(SISWA!C57=0,\"\",SISWA!C57)","v":"0065699742"},{"$f":"IF(SISWA!D57=0,\"\",SISWA!D57)","v":"1-18-05-80-162-050-8"},{"$f":"IF(SISWA!E57=0,\"\",SISWA!E57)","v":"MUKHAMMAD YAASIIN HASAN KHASBULLOH"},74,71,75,72,81,74.599999999999994,70,null,70,73.833333333333329]
[51,{"$f":"IF(SISWA!B58=0,\"\",SISWA!B58)","v":4295},{"$f":"IF(SISWA!C58=0,\"\",SISWA!C58)","v":"0061359184"},{"$f":"IF(SISWA!D58=0,\"\",SISWA!D58)","v":"1-18-05-80-162-051-7"},{"$f":"IF(SISWA!E58=0,\"\",SISWA!E58)","v":"SHONIA AULIA AS'AD"},83,87,80,84,91,85,65,null,65,81.666666666666671]
[52,{"$f":"IF(SISWA!B59=0,\"\",SISWA!B59)","v":4294},{"$f":"IF(SISWA!C59=0,\"\",SISWA!C59)","v":"0064723905"},{"$f":"IF(SISWA!D59=0,\"\",SISWA!D59)","v":"1-18-05-80-162-052-6"},{"$f":"IF(SISWA!E59=0,\"\",SISWA!E59)","v":"RIZKA AYU WULANDARI"},74,72,77,83,79,77,74,null,74,76.5]
[53,{"$f":"IF(SISWA!B60=0,\"\",SISWA!B60)","v":4298},{"$f":"IF(SISWA!C60=0,\"\",SISWA!C60)","v":"0065530554"},{"$f":"IF(SISWA!D60=0,\"\",SISWA!D60)","v":"1-18-05-80-162-053-5"},{"$f":"IF(SISWA!E60=0,\"\",SISWA!E60)","v":"VERLINA DWI MAULANI"},78,74,78,75,84,77.8,79,null,79,78]
[54,{"$f":"IF(SISWA!B61=0,\"\",SISWA!B61)","v":4297},{"$f":"IF(SISWA!C61=0,\"\",SISWA!C61)","v":"0063846732"},{"$f":"IF(SISWA!D61=0,\"\",SISWA!D61)","v":"1-18-05-80-162-054-4"},{"$f":"IF(SISWA!E61=0,\"\",SISWA!E61)","v":"USWATUN KHASANAH"},74,70,77,79,81,76.2,84,null,84,77.5]
[55,{"$f":"IF(SISWA!B62=0,\"\",SISWA!B62)","v":4324},{"$f":"IF(SISWA!C62=0,\"\",SISWA!C62)","v":"0078966795"},{"$f":"IF(SISWA!D62=0,\"\",SISWA!D62)","v":"1-18-05-80-162-055-3"},{"$f":"IF(SISWA!E62=0,\"\",SISWA!E62)","v":"VIKA KUSUMA WATI"},80,75,81,81,81,79.599999999999994,89,null,89,81.166666666666671]
[56,{"$f":"IF(SISWA!B63=0,\"\",SISWA!B63)","v":4326},{"$f":"IF(SISWA!C63=0,\"\",SISWA!C63)","v":"0064124533"},{"$f":"IF(SISWA!D63=0,\"\",SISWA!D63)","v":"1-18-05-80-162-056-2"},{"$f":"IF(SISWA!E63=0,\"\",SISWA!E63)","v":"YOHAN EGA GILANG PERMANA"},71,null,72,74,78,73.75,94,null,94,77.8]
[57,{"$f":"IF(SISWA!B64=0,\"\",SISWA!B64)","v":""},{"$f":"IF(SISWA!C64=0,\"\",SISWA!C64)","v":""},{"$f":"IF(SISWA!D64=0,\"\",SISWA!D64)","v":"1-18-05-80-162-057-9"},{"$f":"IF(SISWA!E64=0,\"\",SISWA!E64)","v":""},null,null,null,null,null,{"$f":"AVERAGE(F64:J64)","v":{"$error":"#DIV/0!"}}]
[58,{"$f":"IF(SISWA!B65=0,\"\",SISWA!B65)","v":""},{"$f":"IF(SISWA!C65=0,\"\",SISWA!C65)","v":""},{"$f":"IF(SISWA!D65=0,\"\",SISWA!D65)","v":"1-18-05-80-162-058-8"},{"$f":"IF(SISWA!E65=0,\"\",SISWA!E65)","v":""},null,null,null,null,null,{"$error":"#DIV/0!"}]
[59,{"$f":"IF(SISWA!B66=0,\"\",SISWA!B66)","v":""},{"$f":"IF(SISWA!C66=0,\"\",SISWA!C66)","v":""},{"$f":"IF(SISWA!D66=0,\"\",SISWA!D66)","v":"1-18-05-80-162-059-7"},{"$f":"IF(SISWA!E66=0,\"\",SISWA!E66)","v":""},null,null,null,null,null,{"$error":"#DIV/0!"}]
[60,{"$f":"IF(SISWA!B67=0,\"\",SISWA!B67)","v":""},{"$f":"IF(SISWA!C67=0,\"\",SISWA!C67)","v":""},{"$f":"IF(SISWA!D67=0,\"\",SISWA!D67)","v":"1-18-05-80-162-060-6"},{"$f":"IF(SISWA!E67=0,\"\",SISWA!E67)","v":""},null,null,null,null,null,{"$error":"#DIV/0!"}]
[61,{"$f":"IF(SISWA!B68=0,\"\",SISWA!B68)","v":""},{"$f":"IF(SISWA!C68=0,\"\",SISWA!C68)","v":""},{"$f":"IF(SISWA!D68=0,\"\",SISWA!D68)","v":"1-18-05-80-162-061-5"},{"$f":"IF(SISWA!E68=0,\"\",SISWA!E68)","v":""},null,null,null,null,null,{"$error":"#DIV/0!"}]
[62,{"$f":"IF(SISWA!B69=0,\"\",SISWA!B69)","v":""},{"$f":"IF(SISWA!C69=0,\"\",SISWA!C69)","v":""},{"$f":"IF(SISWA!D69=0,\"\",SISWA!D69)","v":"062-4"},{"$f":"IF(SISWA!E69=0,\"\",SISWA!E69)","v":""},null,null,null,null,null,{"$error":"#DIV/0!"}]
[63,{"$f":"IF(SISWA!B70=0,\"\",SISWA!B70)","v":""},{"$f":"IF(SISWA!C70=0,\"\",SISWA!C70)","v":""},{"$f":"IF(SISWA!D70=0,\"\",SISWA!D70)","v":"063-3"},{"$f":"IF(SISWA!E70=0,\"\",SISWA!E70)","v":""},null,null,null,null,null,{"$error":"#DIV/0!"}]
[64,{"$f":"IF(SISWA!B71=0,\"\",SISWA!B71)","v":""},{"$f":"IF(SISWA!C71=0,\"\",SISWA!C71)","v":""},{"$f":"IF(SISWA!D71=0,\"\",SISWA!D71)","v":"064-2"},{"$f":"IF(SISWA!E71=0,\"\",SISWA!E71)","v":""},null,null,null,null,null,{"$error":"#DIV/0!"}]
[65,{"$f":"IF(SISWA!B72=0,\"\",SISWA!B72)","v":""},{"$f":"IF(SISWA!C72=0,\"\",SISWA!C72)","v":""},{"$f":"IF(SISWA!D72=0,\"\",SISWA!D72)","v":"065-"},{"$f":"IF(SISWA!E72=0,\"\",SISWA!E72)","v":""},null,null,null,null,null,{"$error":"#DIV/0!"}]
[66,{"$f":"IF(SISWA!B73=0,\"\",SISWA!B73)","v":""},{"$f":"IF(SISWA!C73=0,\"\",SISWA!C73)","v":""},{"$f":"IF(SISWA!D73=0,\"\",SISWA!D73)","v":"066-"},{"$f":"IF(SISWA!E73=0,\"\",SISWA!E73)","v":""},null,null,null,null,null,{"$f":"AVERAGE(F73:J73)","v":{"$error":"#DIV/0!"}}]
[67,{"$f":"IF(SISWA!B74=0,\"\",SISWA!B74)","v":""},{"$f":"IF(SISWA!C74=0,\"\",SISWA!C74)","v":""},{"$f":"IF(SISWA!D74=0,\"\",SISWA!D74)","v":"067-"},{"$f":"IF(SISWA!E74=0,\"\",SISWA!E74)","v":""},null,null,null,null,null,{"$error":"#DIV/0!"}]
[68,{"$f":"IF(SISWA!B75=0,\"\",SISWA!B75)","v":""},{"$f":"IF(SISWA!C75=0,\"\",SISWA!C75)","v":""},{"$f":"IF(SISWA!D75=0,\"\",SISWA!D75)","v":"068-"},{"$f":"IF(SISWA!E75=0,\"\",SISWA!E75)","v":""},null,null,null,null,null,{"$error":"#DIV/0!"}]
[69,{"$f":"IF(SISWA!B76=0,\"\",SISWA!B76)","v":""},{"$f":"IF(SISWA!C76=0,\"\",SISWA!C76)","v":""},{"$f":"IF(SISWA!D76=0,\"\",SISWA!D76)","v":"069-"},{"$f":"IF(SISWA!E76=0,\"\",SISWA!E76)","v":""},null,null,null,null,null,{"$error":"#DIV/0!"}]
[70,{"$f":"IF(SISWA!B77=0,\"\",SISWA!B77)","v":""},{"$f":"IF(SISWA!C77=0,\"\",SISWA!C77)","v":""},{"$f":"IF(SISWA!D77=0,\"\",SISWA!D77)","v":"070-"},{"$f":"IF(SISWA!E77=0,\"\",SISWA!E77)","v":""},null,null,null,null,null,{"$error":"#DIV/0!"}]
[71,{"$f":"IF(SISWA!B78=0,\"\",SISWA!B78)","v":""},{"$f":"IF(SISWA!C78=0,\"\",SISWA!C78)","v":""},{"$f":"IF(SISWA!D78=0,\"\",SISWA!D78)","v":"071-"},{"$f":"IF(SISWA!E78=0,\"\",SISWA!E78)","v":""},null,null,null,null,null,{"$error":"#DIV/0!"}]
[72,{"$f":"IF(SISWA!B79=0,\"\",SISWA!B79)","v":""},{"$f":"IF(SISWA!C79=0,\"\",SISWA!C79)","v":""},{"$f":"IF(SISWA!D79=0,\"\",SISWA!D79)","v":"072-"},{"$f":"IF(SISWA!E79=0,\"\",SISWA!E79)","v":""},null,null,null,null,null,{"$error":"#DIV/0!"}]
[73,{"$f":"IF(SISWA!B80=0,\"\",SISWA!B80)","v":""},{"$f":"IF(SISWA!C80=0,\"\",SISWA!C80)","v":""},{"$f":"IF(SISWA!D80=0,\"\",SISWA!D80)","v":"073-"},{"$f":"IF(SISWA!E80=0,\"\",SISWA!E80)","v":""},null,null,null,null,null,{"$error":"#DIV/0!"}]
[74,{"$f":"IF(SISWA!B81=0,\"\",SISWA!B81)","v":""},{"$f":"IF(SISWA!C81=0,\"\",SISWA!C81)","v":""},{"$f":"IF(SISWA!D81=0,\"\",SISWA!D81)","v":"074-"},{"$f":"IF(SISWA!E81=0,\"\",SISWA!E81)","v":""},null,null,null,null,null,{"$error":"#DIV/0!"}]
[75,{"$f":"IF(SISWA!B82=0,\"\",SISWA!B82)","v":""},{"$f":"IF(SISWA!C82=0,\"\",SISWA!C82)","v":""},{"$f":"IF(SISWA!D82=0,\"\",SISWA!D82)","v":"075-"},{"$f":"IF(SISWA!E82=0,\"\",SISWA!E82)","v":""},null,null,null,null,null,{"$error":"#DIV/0!"}]
[76,{"$f":"IF(SISWA!B83=0,\"\",SISWA!B83)","v":""},{"$f":"IF(SISWA!C83=0,\"\",SISWA!C83)","v":""},{"$f":"IF(SISWA!D83=0,\"\",SISWA!D83)","v":"076-"},{"$f":"IF(SISWA!E83=0,\"\",SISWA!E83)","v":""},null,null,null,null,null,{"$error":"#DIV/0!"}]
[77,{"$f":"IF(SISWA!B84=0,\"\",SISWA!B84)","v":""},{"$f":"IF(SISWA!C84=0,\"\",SISWA!C84)","v":""},{"$f":"IF(SISWA!D84=0,\"\",SISWA!D84)","v":"077-"},{"$f":"IF(SISWA!E84=0,\"\",SISWA!E84)","v":""},null,null,null,null,null,{"$error":"#DIV/0!"}]
[78,{"$f":"IF(SISWA!B85=0,\"\",SISWA!B85)","v":""},{"$f":"IF(SISWA!C85=0,\"\",SISWA!C85)","v":""},{"$f":"IF(SISWA!D85=0,\"\",SISWA!D85)","v":"078-"},{"$f":"IF(SISWA!E85=0,\"\",SISWA!E85)","v":""},null,null,null,null,null,{"$error":"#DIV/0!"}]
[79,{"$f":"IF(SISWA!B86=0,\"\",SISWA!B86)","v":""},{"$f":"IF(SISWA!C86=0,\"\",SISWA!C86)","v":""},{"$f":"IF(SISWA!D86=0,\"\",SISWA!D86)","v":"079-"},{"$f":"IF(SISWA!E86=0,\"\",SISWA!E86)","v":""},null,null,null,null,null,{"$error":"#DIV/0!"}]
[80,{"$f":"IF(SISWA!B87=0,\"\",SISWA!B87)","v":""},{"$f":"IF(SISWA!C87=0,\"\",SISWA!C87)","v":""},{"$f":"IF(SISWA!D87=0,\"\",SISWA!D87)","v":"080-"},{"$f":"IF(SISWA!E87=0,\"\",SISWA!E87)","v":""},null,null,null,null,null,{"$error":"#DIV/0!"}]
[81,{"$f":"IF(SISWA!B88=0,\"\",SISWA!B88)","v":""},{"$f":"IF(SISWA!C88=0,\"\",SISWA!C88)","v":""},{"$f":"IF(SISWA!D88=0,\"\",SISWA!D88)","v":"081-"},{"$f":"IF(SISWA!E88=0,\"\",SISWA!E88)","v":""},null,null,null,null,null,{"$error":"#DIV/0!"}]
[82,{"$f":"IF(SISWA!B89=0,\"\",SISWA!B89)","v":""},{"$f":"IF(SISWA!C89=0,\"\",SISWA!C89)","v":""},{"$f":"IF(SISWA!D89=0,\"\",SISWA!D89)","v":"082-"},{"$f":"IF(SISWA!E89=0,\"\",SISWA!E89)","v":""},null,null,null,null,null,{"$error":"#DIV/0!"}]
[83,{"$f":"IF(SISWA!B90=0,\"\",SISWA!B90)","v":""},{"$f":"IF(SISWA!C90=0,\"\",SISWA!C90)","v":""},{"$f":"IF(SISWA!D90=0,\"\",SISWA!D90)","v":"083-"},{"$f":"IF(SISWA!E90=0,\"\",SISWA!E90)","v":""},null,null,null,null,null,{"$error":"#DIV/0!"}]
[84,{"$f":"IF(SISWA!B91=0,\"\",SISWA!B91)","v":""},{"$f":"IF(SISWA!C91=0,\"\",SISWA!C91)","v":""},{"$f":"IF(SISWA!D91=0,\"\",SISWA!D91)","v":"084-"},{"$f":"IF(SISWA!E91=0,\"\",SISWA!E91)","v":""},null,null,null,null,null,{"$error":"#DIV/0!"}]
[85,{"$f":"IF(SISWA!B92=0,\"\",SISWA!B92)","v":""},{"$f":"IF(SISWA!C92=0,\"\",SISWA!C92)","v":""},{"$f":"IF(SISWA!D92=0,\"\",SISWA!D92)","v":"085-"},{"$f":"IF(SISWA!E92=0,\"\",SISWA!E92)","v":""},null,null,null,null,null,{"$error":"#DIV/0!"}]
[86,{"$f":"IF(SISWA!B93=0,\"\",SISWA!B93)","v":""},{"$f":"IF(SISWA!C93=0,\"\",SISWA!C93)","v":""},{"$f":"IF(SISWA!D93=0,\"\",SISWA!D93)","v":"086-"},{"$f":"IF(SISWA!E93=0,\"\",SISWA!E93)","v":""},null,null,null,null,null,{"$error":"#DIV/0!"}]
[87,{"$f":"IF(SISWA!B94=0,\"\",SISWA!B94)","v":""},{"$f":"IF(SISWA!C94=0,\"\",SISWA!C94)","v":""},{"$f":"IF(SISWA!D94=0,\"\",SISWA!D94)","v":"087-"},{"$f":"IF(SISWA!E94=0,\"\",SISWA!E94)","v":""},null,null,null,null,null,{"$error":"#DIV/0!"}]
[88,{"$f":"IF(SISWA!B95=0,\"\",SISWA!B95)","v":""},{"$f":"IF(SISWA!C95=0,\"\",SISWA!C95)","v":""},{"$f":"IF(SISWA!D95=0,\"\",SISWA!D95)","v":"088-"},{"$f":"IF(SISWA!E95=0,\"\",SISWA!E95)","v":""},null,null,null,null,null,{"$error":"#DIV/0!"}]
[89,{"$f":"IF(SISWA!B96=0,\"\",SISWA!B96)","v":""},{"$f":"IF(SISWA!C96=0,\"\",SISWA!C96)","v":""},{"$f":"IF(SISWA!D96=0,\"\",SISWA!D96)","v":"089-"},{"$f":"IF(SISWA!E96=0,\"\",SISWA!E96)","v":""},null,null,null,null,null,{"$error":"#DIV/0!"}]
[90,{"$f":"IF(SISWA!B97=0,\"\",SISWA!B97)","v":""},{"$f":"IF(SISWA!C97=0,\"\",SISWA!C97)","v":""},{"$f":"IF(SISWA!D97=0,\"\",SISWA!D97)","v":"090-"},{"$f":"IF(SISWA!E97=0,\"\",SISWA!E97)","v":""},null,null,null,null,null,{"$error":"#DIV/0!"}]
[91,{"$f":"IF(SISWA!B98=0,\"\",SISWA!B98)","v":""},{"$f":"IF(SISWA!C98=0,\"\",SISWA!C98)","v":""},{"$f":"IF(SISWA!D98=0,\"\",SISWA!D98)","v":"091-"},{"$f":"IF(SISWA!E98=0,\"\",SISWA!E98)","v":""},null,null,null,null,null,{"$error":"#DIV/0!"}]
[92,{"$f":"IF(SISWA!B99=0,\"\",SISWA!B99)","v":""},{"$f":"IF(SISWA!C99=0,\"\",SISWA!C99)","v":""},{"$f":"IF(SISWA!D99=0,\"\",SISWA!D99)","v":"092-"},{"$f":"IF(SISWA!E99=0,\"\",SISWA!E99)","v":""},null,null,null,null,null,{"$error":"#DIV/0!"}]
[93,{"$f":"IF(SISWA!B100=0,\"\",SISWA!B100)","v":""},{"$f":"IF(SISWA!C100=0,\"\",SISWA!C100)","v":""},{"$f":"IF(SISWA!D100=0,\"\",SISWA!D100)","v":"093-"},{"$f":"IF(SISWA!E100=0,\"\",SISWA!E100)","v":""},null,null,null,null,null,{"$error":"#DIV/0!"}]
[94,{"$f":"IF(SISWA!B101=0,\"\",SISWA!B101)","v":""},{"$f":"IF(SISWA!C101=0,\"\",SISWA!C101)","v":""},{"$f":"IF(SISWA!D101=0,\"\",SISWA!D101)","v":"094-"},{"$f":"IF(SISWA!E101=0,\"\",SISWA!E101)","v":""},null,null,null,null,null,{"$error":"#DIV/0!"}]
[95,{"$f":"IF(SISWA!B102=0,\"\",SISWA!B102)","v":""},{"$f":"IF(SISWA!C102=0,\"\",SISWA!C102)","v":""},{"$f":"IF(SISWA!D102=0,\"\",SISWA!D102)","v":"095-"},{"$f":"IF(SISWA!E102=0,\"\",SISWA!E102)","v":""},null,null,null,null,null,{"$error":"#DIV/0!"}]
[96,{"$f":"IF(SISWA!B103=0,\"\",SISWA!B103)","v":""},{"$f":"IF(SISWA!C103=0,\"\",SISWA!C103)","v":""},{"$f":"IF(SISWA!D103=0,\"\",SISWA!D103)","v":"096-"},{"$f":"IF(SISWA!E103=0,\"\",SISWA!E103)","v":""},null,null,null,null,null,{"$error":"#DIV/0!"}]
[97,{"$f":"IF(SISWA!B104=0,\"\",SISWA!B104)","v":""},{"$f":"IF(SISWA!C104=0,\"\",SISWA!C104)","v":""},{"$f":"IF(SISWA!D104=0,\"\",SISWA!D104)","v":"097-"},{"$f":"IF(SISWA!E104=0,\"\",SISWA!E104)","v":""},null,null,null,null,null,{"$error":"#DIV/0!"}]
[98,{"$f":"IF(SISWA!B105=0,\"\",SISWA!B105)","v":""},{"$f":"IF(SISWA!C105=0,\"\",SISWA!C105)","v":""},{"$f":"IF(SISWA!D105=0,\"\",SISWA!D105)","v":"098-"},{"$f":"IF(SISWA!E105=0,\"\",SISWA!E105)","v":""},null,null,null,null,null,{"$error":"#DIV/0!"}]
[99,{"$f":"IF(SISWA!B106=0,\"\",SISWA!B106)","v":""},{"$f":"IF(SISWA!C106=0,\"\",SISWA!C106)","v":""},{"$f":"IF(SISWA!D106=0,\"\",SISWA!D106)","v":"099-"},{"$f":"IF(SISWA!E106=0,\"\",SISWA!E106)","v":""},null,null,null,null,null,{"$error":"#DIV/0!"}]
[100,{"$f":"IF(SISWA!B107=0,\"\",SISWA!B107)","v":""},{"$f":"IF(SISWA!C107=0,\"\",SISWA!C107)","v":""},{"$f":"IF(SISWA!D107=0,\"\",SISWA!D107)","v":"100-"},{"$f":"IF(SISWA!E107=0,\"\",SISWA!E107)","v":""},null,null,null,null,null,{"$error":"#DIV/0!"}]
[101,{"$f":"IF(SISWA!B108=0,\"\",SISWA!B108)","v":""},{"$f":"IF(SISWA!C108=0,\"\",SISWA!C108)","v":""},{"$f":"IF(SISWA!D108=0,\"\",SISWA!D108)","v":"101-"},{"$f":"IF(SISWA!E108=0,\"\",SISWA!E108)","v":""},null,null,null,null,null,{"$error":"#DIV/0!"}]
[102,{"$f":"IF(SISWA!B109=0,\"\",SISWA!B109)","v":""},{"$f":"IF(SISWA!C109=0,\"\",SISWA!C109)","v":""},{"$f":"IF(SISWA!D109=0,\"\",SISWA!D109)","v":"102-"},{"$f":"IF(SISWA!E109=0,\"\",SISWA!E109)","v":""},null,null,null,null,null,{"$error":"#DIV/0!"}]
[103,{"$f":"IF(SISWA!B110=0,\"\",SISWA!B110)","v":""},{"$f":"IF(SISWA!C110=0,\"\",SISWA!C110)","v":""},{"$f":"IF(SISWA!D110=0,\"\",SISWA!D110)","v":"103-"},{"$f":"IF(SISWA!E110=0,\"\",SISWA!E110)","v":""},null,null,null,null,null,{"$error":"#DIV/0!"}]
[104,{"$f":"IF(SISWA!B111=0,\"\",SISWA!B111)","v":""},{"$f":"IF(SISWA!C111=0,\"\",SISWA!C111)","v":""},{"$f":"IF(SISWA!D111=0,\"\",SISWA!D111)","v":"104-"},{"$f":"IF(SISWA!E111=0,\"\",SISWA!E111)","v":""},null,null,null,null,null,{"$error":"#DIV/0!"}]
[105,{"$f":"IF(SISWA!B112=0,\"\",SISWA!B112)","v":""},{"$f":"IF(SISWA!C112=0,\"\",SISWA!C112)","v":""},{"$f":"IF(SISWA!D112=0,\"\",SISWA!D112)","v":"105-"},{"$f":"IF(SISWA!E112=0,\"\",SISWA!E112)","v":""},null,null,null,null,null,{"$error":"#DIV/0!"}]
[106,{"$f":"IF(SISWA!B113=0,\"\",SISWA!B113)","v":""},{"$f":"IF(SISWA!C113=0,\"\",SISWA!C113)","v":""},{"$f":"IF(SISWA!D113=0,\"\",SISWA!D113)","v":"106-"},{"$f":"IF(SISWA!E113=0,\"\",SISWA!E113)","v":""},null,null,null,null,null,{"$error":"#DIV/0!"}]
[107,{"$f":"IF(SISWA!B114=0,\"\",SISWA!B114)","v":""},{"$f":"IF(SISWA!C114=0,\"\",SISWA!C114)","v":""},{"$f":"IF(SISWA!D114=0,\"\",SISWA!D114)","v":"107-"},{"$f":"IF(SISWA!E114=0,\"\",SISWA!E114)","v":""},null,null,null,null,null,{"$error":"#DIV/0!"}]
[108,{"$f":"IF(SISWA!B115=0,\"\",SISWA!B115)","v":""},{"$f":"IF(SISWA!C115=0,\"\",SISWA!C115)","v":""},{"$f":"IF(SISWA!D115=0,\"\",SISWA!D115)","v":"108-"},{"$f":"IF(SISWA!E115=0,\"\",SISWA!E115)","v":""},null,null,null,null,null,{"$error":"#DIV/0!"}]
[109,{"$f":"IF(SISWA!B116=0,\"\",SISWA!B116)","v":""},{"$f":"IF(SISWA!C116=0,\"\",SISWA!C116)","v":""},{"$f":"IF(SISWA!D116=0,\"\",SISWA!D116)","v":"109-"},{"$f":"IF(SISWA!E116=0,\"\",SISWA!E116)","v":""},null,null,null,null,null,{"$error":"#DIV/0!"}]
[110,{"$f":"IF(SISWA!B117=0,\"\",SISWA!B117)","v":""},{"$f":"IF(SISWA!C117=0,\"\",SISWA!C117)","v":""},{"$f":"IF(SISWA!D117=0,\"\",SISWA!D117)","v":"110-"},{"$f":"IF(SISWA!E117=0,\"\",SISWA!E117)","v":""},null,null,null,null,null,{"$error":"#DIV/0!"}]
[111,{"$f":"IF(SISWA!B118=0,\"\",SISWA!B118)","v":""},{"$f":"IF(SISWA!C118=0,\"\",SISWA!C118)","v":""},{"$f":"IF(SISWA!D118=0,\"\",SISWA!D118)","v":"111-"},{"$f":"IF(SISWA!E118=0,\"\",SISWA!E118)","v":""},null,null,null,null,null,{"$error":"#DIV/0!"}]
[112,{"$f":"IF(SISWA!B119=0,\"\",SISWA!B119)","v":""},{"$f":"IF(SISWA!C119=0,\"\",SISWA!C119)","v":""},{"$f":"IF(SISWA!D119=0,\"\",SISWA!D119)","v":"112-"},{"$f":"IF(SISWA!E119=0,\"\",SISWA!E119)","v":""},null,null,null,null,null,{"$error":"#DIV/0!"}]
[113,{"$f":"IF(SISWA!B120=0,\"\",SISWA!B120)","v":""},{"$f":"IF(SISWA!C120=0,\"\",SISWA!C120)","v":""},{"$f":"IF(SISWA!D120=0,\"\",SISWA!D120)","v":"113-"},{"$f":"IF(SISWA!E120=0,\"\",SISWA!E120)","v":""},null,null,null,null,null,{"$error":"#DIV/0!"}]
[114,{"$f":"IF(SISWA!B121=0,\"\",SISWA!B121)","v":""},{"$f":"IF(SISWA!C121=0,\"\",SISWA!C121)","v":""},{"$f":"IF(SISWA!D121=0,\"\",SISWA!D121)","v":"114-"},{"$f":"IF(SISWA!E121=0,\"\",SISWA!E121)","v":""},null,null,null,null,null,{"$error":"#DIV/0!"}]
[115,{"$f":"IF(SISWA!B122=0,\"\",SISWA!B122)","v":""},{"$f":"IF(SISWA!C122=0,\"\",SISWA!C122)","v":""},{"$f":"IF(SISWA!D122=0,\"\",SISWA!D122)","v":"115-"},{"$f":"IF(SISWA!E122=0,\"\",SISWA!E122)","v":""},null,null,null,null,null,{"$error":"#DIV/0!"}]
[116,{"$f":"IF(SISWA!B123=0,\"\",SISWA!B123)","v":""},{"$f":"IF(SISWA!C123=0,\"\",SISWA!C123)","v":""},{"$f":"IF(SISWA!D123=0,\"\",SISWA!D123)","v":"116-"},{"$f":"IF(SISWA!E123=0,\"\",SISWA!E123)","v":""},null,null,null,null,null,{"$error":"#DIV/0!"}]
[117,{"$f":"IF(SISWA!B124=0,\"\",SISWA!B124)","v":""},{"$f":"IF(SISWA!C124=0,\"\",SISWA!C124)","v":""},{"$f":"IF(SISWA!D124=0,\"\",SISWA!D124)","v":"117-"},{"$f":"IF(SISWA!E124=0,\"\",SISWA!E124)","v":""},null,null,null,null,null,{"$error":"#DIV/0!"}]
[118,{"$f":"IF(SISWA!B125=0,\"\",SISWA!B125)","v":""},{"$f":"IF(SISWA!C125=0,\"\",SISWA!C125)","v":""},{"$f":"IF(SISWA!D125=0,\"\",SISWA!D125)","v":"118-"},{"$f":"IF(SISWA!E125=0,\"\",SISWA!E125)","v":""},null,null,null,null,null,{"$error":"#DIV/0!"}]
[119,{"$f":"IF(SISWA!B126=0,\"\",SISWA!B126)","v":""},{"$f":"IF(SISWA!C126=0,\"\",SISWA!C126)","v":""},{"$f":"IF(SISWA!D126=0,\"\",SISWA!D126)","v":"119-"},{"$f":"IF(SISWA!E126=0,\"\",SISWA!E126)","v":""},null,null,null,null,null,{"$error":"#DIV/0!"}]
[120,{"$f":"IF(SISWA!B127=0,\"\",SISWA!B127)","v":""},{"$f":"IF(SISWA!C127=0,\"\",SISWA!C127)","v":""},{"$f":"IF(SISWA!D127=0,\"\",SISWA!D127)","v":"120-"},{"$f":"IF(SISWA!E127=0,\"\",SISWA!E127)","v":""},null,null,null,null,null,{"$error":"#DIV/0!"}]
[121,{"$f":"IF(SISWA!B128=0,\"\",SISWA!B128)","v":""},{"$f":"IF(SISWA!C128=0,\"\",SISWA!C128)","v":""},{"$f":"IF(SISWA!D128=0,\"\",SISWA!D128)","v":"121-"},{"$f":"IF(SISWA!E128=0,\"\",SISWA!E128)","v":""},null,null,null,null,null,{"$error":"#DIV/0!"}]
[122,{"$f":"IF(SISWA!B129=0,\"\",SISWA!B129)","v":""},{"$f":"IF(SISWA!C129=0,\"\",SISWA!C129)","v":""},{"$f":"IF(SISWA!D129=0,\"\",SISWA!D129)","v":"122-"},{"$f":"IF(SISWA!E129=0,\"\",SISWA!E129)","v":""},null,null,null,null,null,{"$error":"#DIV/0!"}]
[123,{"$f":"IF(SISWA!B130=0,\"\",SISWA!B130)","v":""},{"$f":"IF(SISWA!C130=0,\"\",SISWA!C130)","v":""},{"$f":"IF(SISWA!D130=0,\"\",SISWA!D130)","v":"123-"},{"$f":"IF(SISWA!E130=0,\"\",SISWA!E130)","v":""},null,null,null,null,null,{"$error":"#DIV/0!"}]
[124,{"$f":"IF(SISWA!B131=0,\"\",SISWA!B131)","v":""},{"$f":"IF(SISWA!C131=0,\"\",SISWA!C131)","v":""},{"$f":"IF(SISWA!D131=0,\"\",SISWA!D131)","v":"124-"},{"$f":"IF(SISWA!E131=0,\"\",SISWA!E131)","v":""},null,null,null,null,null,{"$error":"#DIV/0!"}]
[125,{"$f":"IF(SISWA!B132=0,\"\",SISWA!B132)","v":""},{"$f":"IF(SISWA!C132=0,\"\",SISWA!C132)","v":""},{"$f":"IF(SISWA!D132=0,\"\",SISWA!D132)","v":"125-"},{"$f":"IF(SISWA!E132=0,\"\",SISWA!E132)","v":""},null,null,null,null,null,{"$error":"#DIV/0!"}]
[126,{"$f":"IF(SISWA!B133=0,\"\",SISWA!B133)","v":""},{"$f":"IF(SISWA!C133=0,\"\",SISWA!C133)","v":""},{"$f":"IF(SISWA!D133=0,\"\",SISWA!D133)","v":"126-"},{"$f":"IF(SISWA!E133=0,\"\",SISWA!E133)","v":""},null,null,null,null,null,{"$error":"#DIV/0!"}]
[127,{"$f":"IF(SISWA!B134=0,\"\",SISWA!B134)","v":""},{"$f":"IF(SISWA!C134=0,\"\",SISWA!C134)","v":""},{"$f":"IF(SISWA!D134=0,\"\",SISWA!D134)","v":"127-"},{"$f":"IF(SISWA!E134=0,\"\",SISWA!E134)","v":""},null,null,null,null,null,{"$error":"#DIV/0!"}]
[128,{"$f":"IF(SISWA!B135=0,\"\",SISWA!B135)","v":""},{"$f":"IF(SISWA!C135=0,\"\",SISWA!C135)","v":""},{"$f":"IF(SISWA!D135=0,\"\",SISWA!D135)","v":"128-"},{"$f":"IF(SISWA!E135=0,\"\",SISWA!E135)","v":""},null,null,null,null,null,{"$error":"#DIV/0!"}]
[129,{"$f":"IF(SISWA!B136=0,\"\",SISWA!B136)","v":""},{"$f":"IF(SISWA!C136=0,\"\",SISWA!C136)","v":""},{"$f":"IF(SISWA!D136=0,\"\",SISWA!D136)","v":"129-"},{"$f":"IF(SISWA!E136=0,\"\",SISWA!E136)","v":""},null,null,null,null,null,{"$error":"#DIV/0!"}]
[130,{"$f":"IF(SISWA!B137=0,\"\",SISWA!B137)","v":""},{"$f":"IF(SISWA!C137=0,\"\",SISWA!C137)","v":""},{"$f":"IF(SISWA!D137=0,\"\",SISWA!D137)","v":"130-"},{"$f":"IF(SISWA!E137=0,\"\",SISWA!E137)","v":""},null,null,null,null,null,{"$f":"AVERAGE(F137:J137)","v":{"$error":"#DIV/0!"}}]
[131,{"$f":"IF(SISWA!B138=0,\"\",SISWA!B138)","v":""},{"$f":"IF(SISWA!C138=0,\"\",SISWA!C138)","v":""},{"$f":"IF(SISWA!D138=0,\"\",SISWA!D138)","v":"131-"},{"$f":"IF(SISWA!E138=0,\"\",SISWA!E138)","v":""},null,null,null,null,null,{"$error":"#DIV/0!"}]
[132,{"$f":"IF(SISWA!B139=0,\"\",SISWA!B139)","v":""},{"$f":"IF(SISWA!C139=0,\"\",SISWA!C139)","v":""},{"$f":"IF(SISWA!D139=0,\"\",SISWA!D139)","v":"132-"},{"$f":"IF(SISWA!E139=0,\"\",SISWA!E139)","v":""},null,null,null,null,null,{"$error":"#DIV/0!"}]
[133,{"$f":"IF(SISWA!B140=0,\"\",SISWA!B140)","v":""},{"$f":"IF(SISWA!C140=0,\"\",SISWA!C140)","v":""},{"$f":"IF(SISWA!D140=0,\"\",SISWA!D140)","v":"133-"},{"$f":"IF(SISWA!E140=0,\"\",SISWA!E140)","v":""},null,null,null,null,null,{"$error":"#DIV/0!"}]
[134,{"$f":"IF(SISWA!B141=0,\"\",SISWA!B141)","v":""},{"$f":"IF(SISWA!C141=0,\"\",SISWA!C141)","v":""},{"$f":"IF(SISWA!D141=0,\"\",SISWA!D141)","v":"134-"},{"$f":"IF(SISWA!E141=0,\"\",SISWA!E141)","v":""},null,null,null,null,null,{"$error":"#DIV/0!"}]
[135,{"$f":"IF(SISWA!B142=0,\"\",SISWA!B142)","v":""},{"$f":"IF(SISWA!C142=0,\"\",SISWA!C142)","v":""},{"$f":"IF(SISWA!D142=0,\"\",SISWA!D142)","v":"135-"},{"$f":"IF(SISWA!E142=0,\"\",SISWA!E142)","v":""},null,null,null,null,null,{"$error":"#DIV/0!"}]
[136,{"$f":"IF(SISWA!B143=0,\"\",SISWA!B143)","v":""},{"$f":"IF(SISWA!C143=0,\"\",SISWA!C143)","v":""},{"$f":"IF(SISWA!D143=0,\"\",SISWA!D143)","v":"136-"},{"$f":"IF(SISWA!E143=0,\"\",SISWA!E143)","v":""},null,null,null,null,null,{"$error":"#DIV/0!"}]
[137,{"$f":"IF(SISWA!B144=0,\"\",SISWA!B144)","v":""},{"$f":"IF(SISWA!C144=0,\"\",SISWA!C144)","v":""},{"$f":"IF(SISWA!D144=0,\"\",SISWA!D144)","v":"137-"},{"$f":"IF(SISWA!E144=0,\"\",SISWA!E144)","v":""},null,null,null,null,null,{"$error":"#DIV/0!"}]
[138,{"$f":"IF(SISWA!B145=0,\"\",SISWA!B145)","v":""},{"$f":"IF(SISWA!C145=0,\"\",SISWA!C145)","v":""},{"$f":"IF(SISWA!D145=0,\"\",SISWA!D145)","v":"138-"},{"$f":"IF(SISWA!E145=0,\"\",SISWA!E145)","v":""},null,null,null,null,null,{"$error":"#DIV/0!"}]
[139,{"$f":"IF(SISWA!B146=0,\"\",SISWA!B146)","v":""},{"$f":"IF(SISWA!C146=0,\"\",SISWA!C146)","v":""},{"$f":"IF(SISWA!D146=0,\"\",SISWA!D146)","v":"139-"},{"$f":"IF(SISWA!E146=0,\"\",SISWA!E146)","v":""},null,null,null,null,null,{"$error":"#DIV/0!"}]
[140,{"$f":"IF(SISWA!B147=0,\"\",SISWA!B147)","v":""},{"$f":"IF(SISWA!C147=0,\"\",SISWA!C147)","v":""},{"$f":"IF(SISWA!D147=0,\"\",SISWA!D147)","v":"140-"},{"$f":"IF(SISWA!E147=0,\"\",SISWA!E147)","v":""},null,null,null,null,null,{"$error":"#DIV/0!"}]
[141,{"$f":"IF(SISWA!B148=0,\"\",SISWA!B148)","v":""},{"$f":"IF(SISWA!C148=0,\"\",SISWA!C148)","v":""},{"$f":"IF(SISWA!D148=0,\"\",SISWA!D148)","v":"141-"},{"$f":"IF(SISWA!E148=0,\"\",SISWA!E148)","v":""},null,null,null,null,null,{"$error":"#DIV/0!"}]
[142,{"$f":"IF(SISWA!B149=0,\"\",SISWA!B149)","v":""},{"$f":"IF(SISWA!C149=0,\"\",SISWA!C149)","v":""},{"$f":"IF(SISWA!D149=0,\"\",SISWA!D149)","v":"142-"},{"$f":"IF(SISWA!E149=0,\"\",SISWA!E149)","v":""},null,null,null,null,null,{"$error":"#DIV/0!"}]
[143,{"$f":"IF(SISWA!B150=0,\"\",SISWA!B150)","v":""},{"$f":"IF(SISWA!C150=0,\"\",SISWA!C150)","v":""},{"$f":"IF(SISWA!D150=0,\"\",SISWA!D150)","v":"143-"},{"$f":"IF(SISWA!E150=0,\"\",SISWA!E150)","v":""},null,null,null,null,null,{"$error":"#DIV/0!"}]
[144,{"$f":"IF(SISWA!B151=0,\"\",SISWA!B151)","v":""},{"$f":"IF(SISWA!C151=0,\"\",SISWA!C151)","v":""},{"$f":"IF(SISWA!D151=0,\"\",SISWA!D151)","v":"144-"},{"$f":"IF(SISWA!E151=0,\"\",SISWA!E151)","v":""},null,null,null,null,null,{"$error":"#DIV/0!"}]
[145,{"$f":"IF(SISWA!B152=0,\"\",SISWA!B152)","v":""},{"$f":"IF(SISWA!C152=0,\"\",SISWA!C152)","v":""},{"$f":"IF(SISWA!D152=0,\"\",SISWA!D152)","v":"145-"},{"$f":"IF(SISWA!E152=0,\"\",SISWA!E152)","v":""},null,null,null,null,null,{"$error":"#DIV/0!"}]
[146,{"$f":"IF(SISWA!B153=0,\"\",SISWA!B153)","v":""},{"$f":"IF(SISWA!C153=0,\"\",SISWA!C153)","v":""},{"$f":"IF(SISWA!D153=0,\"\",SISWA!D153)","v":"146-"},{"$f":"IF(SISWA!E153=0,\"\",SISWA!E153)","v":""},null,null,null,null,null,{"$error":"#DIV/0!"}]
[147,{"$f":"IF(SISWA!B154=0,\"\",SISWA!B154)","v":""},{"$f":"IF(SISWA!C154=0,\"\",SISWA!C154)","v":""},{"$f":"IF(SISWA!D154=0,\"\",SISWA!D154)","v":"147-"},{"$f":"IF(SISWA!E154=0,\"\",SISWA!E154)","v":""},null,null,null,null,null,{"$error":"#DIV/0!"}]
[148,{"$f":"IF(SISWA!B155=0,\"\",SISWA!B155)","v":""},{"$f":"IF(SISWA!C155=0,\"\",SISWA!C155)","v":""},{"$f":"IF(SISWA!D155=0,\"\",SISWA!D155)","v":"148-"},{"$f":"IF(SISWA!E155=0,\"\",SISWA!E155)","v":""},null,null,null,null,null,{"$error":"#DIV/0!"}]
[149,{"$f":"IF(SISWA!B156=0,\"\",SISWA!B156)","v":""},{"$f":"IF(SISWA!C156=0,\"\",SISWA!C156)","v":""},{"$f":"IF(SISWA!D156=0,\"\",SISWA!D156)","v":"149-"},{"$f":"IF(SISWA!E156=0,\"\",SISWA!E156)","v":""},null,null,null,null,null,{"$error":"#DIV/0!"}]
[150,{"$f":"IF(SISWA!B157=0,\"\",SISWA!B157)","v":""},{"$f":"IF(SISWA!C157=0,\"\",SISWA!C157)","v":""},{"$f":"IF(SISWA!D157=0,\"\",SISWA!D157)","v":"150-"},{"$f":"IF(SISWA!E157=0,\"\",SISWA!E157)","v":""},null,null,null,null,null,{"$error":"#DIV/0!"}]
[151,{"$f":"IF(SISWA!B158=0,\"\",SISWA!B158)","v":""},{"$f":"IF(SISWA!C158=0,\"\",SISWA!C158)","v":""},{"$f":"IF(SISWA!D158=0,\"\",SISWA!D158)","v":"151-"},{"$f":"IF(SISWA!E158=0,\"\",SISWA!E158)","v":""},null,null,null,null,null,{"$error":"#DIV/0!"}]
[152,{"$f":"IF(SISWA!B159=0,\"\",SISWA!B159)","v":""},{"$f":"IF(SISWA!C159=0,\"\",SISWA!C159)","v":""},{"$f":"IF(SISWA!D159=0,\"\",SISWA!D159)","v":"152-"},{"$f":"IF(SISWA!E159=0,\"\",SISWA!E159)","v":""},null,null,null,null,null,{"$error":"#DIV/0!"}]
[153,{"$f":"IF(SISWA!B160=0,\"\",SISWA!B160)","v":""},{"$f":"IF(SISWA!C160=0,\"\",SISWA!C160)","v":""},{"$f":"IF(SISWA!D160=0,\"\",SISWA!D160)","v":"153-"},{"$f":"IF(SISWA!E160=0,\"\",SISWA!E160)","v":""},null,null,null,null,null,{"$error":"#DIV/0!"}]
[154,{"$f":"IF(SISWA!B161=0,\"\",SISWA!B161)","v":""},{"$f":"IF(SISWA!C161=0,\"\",SISWA!C161)","v":""},{"$f":"IF(SISWA!D161=0,\"\",SISWA!D161)","v":"154-"},{"$f":"IF(SISWA!E161=0,\"\",SISWA!E161)","v":""},null,null,null,null,null,{"$error":"#DIV/0!"}]
[155,{"$f":"IF(SISWA!B162=0,\"\",SISWA!B162)","v":""},{"$f":"IF(SISWA!C162=0,\"\",SISWA!C162)","v":""},{"$f":"IF(SISWA!D162=0,\"\",SISWA!D162)","v":"155-"},{"$f":"IF(SISWA!E162=0,\"\",SISWA!E162)","v":""},null,null,null,null,null,{"$error":"#DIV/0!"}]
[156,{"$f":"IF(SISWA!B163=0,\"\",SISWA!B163)","v":""},{"$f":"IF(SISWA!C163=0,\"\",SISWA!C163)","v":""},{"$f":"IF(SISWA!D163=0,\"\",SISWA!D163)","v":"156-"},{"$f":"IF(SISWA!E163=0,\"\",SISWA!E163)","v":""},null,null,null,null,null,{"$error":"#DIV/0!"}]
[157,{"$f":"IF(SISWA!B164=0,\"\",SISWA!B164)","v":""},{"$f":"IF(SISWA!C164=0,\"\",SISWA!C164)","v":""},{"$f":"IF(SISWA!D164=0,\"\",SISWA!D164)","v":"157-"},{"$f":"IF(SISWA!E164=0,\"\",SISWA!E164)","v":""},null,null,null,null,null,{"$error":"#DIV/0!"}]
[158,{"$f":"IF(SISWA!B165=0,\"\",SISWA!B165)","v":""},{"$f":"IF(SISWA!C165=0,\"\",SISWA!C165)","v":""},{"$f":"IF(SISWA!D165=0,\"\",SISWA!D165)","v":"158-"},{"$f":"IF(SISWA!E165=0,\"\",SISWA!E165)","v":""},null,null,null,null,null,{"$error":"#DIV/0!"}]
[159,{"$f":"IF(SISWA!B166=0,\"\",SISWA!B166)","v":""},{"$f":"IF(SISWA!C166=0,\"\",SISWA!C166)","v":""},{"$f":"IF(SISWA!D166=0,\"\",SISWA!D166)","v":"159-"},{"$f":"IF(SISWA!E166=0,\"\",SISWA!E166)","v":""},null,null,null,null,null,{"$error":"#DIV/0!"}]
[160,{"$f":"IF(SISWA!B167=0,\"\",SISWA!B167)","v":""},{"$f":"IF(SISWA!C167=0,\"\",SISWA!C167)","v":""},{"$f":"IF(SISWA!D167=0,\"\",SISWA!D167)","v":"160-"},{"$f":"IF(SISWA!E167=0,\"\",SISWA!E167)","v":""},null,null,null,null,null,{"$error":"#DIV/0!"}]
[161,{"$f":"IF(SISWA!B168=0,\"\",SISWA!B168)","v":""},{"$f":"IF(SISWA!C168=0,\"\",SISWA!C168)","v":""},{"$f":"IF(SISWA!D168=0,\"\",SISWA!D168)","v":"161-"},{"$f":"IF(SISWA!E168=0,\"\",SISWA!E168)","v":""},null,null,null,null,null,{"$error":"#DIV/0!"}]
[162,{"$f":"IF(SISWA!B169=0,\"\",SISWA!B169)","v":""},{"$f":"IF(SISWA!C169=0,\"\",SISWA!C169)","v":""},{"$f":"IF(SISWA!D169=0,\"\",SISWA!D169)","v":"162-"},{"$f":"IF(SISWA!E169=0,\"\",SISWA!E169)","v":""},null,null,null,null,null,{"$error":"#DIV/0!"}]
[163,{"$f":"IF(SISWA!B170=0,\"\",SISWA!B170)","v":""},{"$f":"IF(SISWA!C170=0,\"\",SISWA!C170)","v":""},{"$f":"IF(SISWA!D170=0,\"\",SISWA!D170)","v":"163-"},{"$f":"IF(SISWA!E170=0,\"\",SISWA!E170)","v":""},null,null,null,null,null,{"$error":"#DIV/0!"}]
[164,{"$f":"IF(SISWA!B171=0,\"\",SISWA!B171)","v":""},{"$f":"IF(SISWA!C171=0,\"\",SISWA!C171)","v":""},{"$f":"IF(SISWA!D171=0,\"\",SISWA!D171)","v":"164-"},{"$f":"IF(SISWA!E171=0,\"\",SISWA!E171)","v":""},null,null,null,null,null,{"$error":"#DIV/0!"}]
[165,{"$f":"IF(SISWA!B172=0,\"\",SISWA!B172)","v":""},{"$f":"IF(SISWA!C172=0,\"\",SISWA!C172)","v":""},{"$f":"IF(SISWA!D172=0,\"\",SISWA!D172)","v":"165-"},{"$f":"IF(SISWA!E172=0,\"\",SISWA!E172)","v":""},null,null,null,null,null,{"$error":"#DIV/0!"}]
[166,{"$f":"IF(SISWA!B173=0,\"\",SISWA!B173)","v":""},{"$f":"IF(SISWA!C173=0,\"\",SISWA!C173)","v":""},{"$f":"IF(SISWA!D173=0,\"\",SISWA!D173)","v":"166-"},{"$f":"IF(SISWA!E173=0,\"\",SISWA!E173)","v":""},null,null,null,null,null,{"$error":"#DIV/0!"}]
[167,{"$f":"IF(SISWA!B174=0,\"\",SISWA!B174)","v":""},{"$f":"IF(SISWA!C174=0,\"\",SISWA!C174)","v":""},{"$f":"IF(SISWA!D174=0,\"\",SISWA!D174)","v":"167-"},{"$f":"IF(SISWA!E174=0,\"\",SISWA!E174)","v":""},null,null,null,null,null,{"$error":"#DIV/0!"}]
[168,{"$f":"IF(SISWA!B175=0,\"\",SISWA!B175)","v":""},{"$f":"IF(SISWA!C175=0,\"\",SISWA!C175)","v":""},{"$f":"IF(SISWA!D175=0,\"\",SISWA!D175)","v":"168-"},{"$f":"IF(SISWA!E175=0,\"\",SISWA!E175)","v":""},null,null,null,null,null,{"$error":"#DIV/0!"}]
[169,{"$f":"IF(SISWA!B176=0,\"\",SISWA!B176)","v":""},{"$f":"IF(SISWA!C176=0,\"\",SISWA!C176)","v":""},{"$f":"IF(SISWA!D176=0,\"\",SISWA!D176)","v":"169-"},{"$f":"IF(SISWA!E176=0,\"\",SISWA!E176)","v":""},null,null,null,null,null,{"$error":"#DIV/0!"}]
[170,{"$f":"IF(SISWA!B177=0,\"\",SISWA!B177)","v":""},{"$f":"IF(SISWA!C177=0,\"\",SISWA!C177)","v":""},{"$f":"IF(SISWA!D177=0,\"\",SISWA!D177)","v":"170-"},{"$f":"IF(SISWA!E177=0,\"\",SISWA!E177)","v":""},null,null,null,null,null,{"$error":"#DIV/0!"}]
[171,{"$f":"IF(SISWA!B178=0,\"\",SISWA!B178)","v":""},{"$f":"IF(SISWA!C178=0,\"\",SISWA!C178)","v":""},{"$f":"IF(SISWA!D178=0,\"\",SISWA!D178)","v":"171-"},{"$f":"IF(SISWA!E178=0,\"\",SISWA!E178)","v":""},null,null,null,null,null,{"$error":"#DIV/0!"}]
[172,{"$f":"IF(SISWA!B179=0,\"\",SISWA!B179)","v":""},{"$f":"IF(SISWA!C179=0,\"\",SISWA!C179)","v":""},{"$f":"IF(SISWA!D179=0,\"\",SISWA!D179)","v":"172-"},{"$f":"IF(SISWA!E179=0,\"\",SISWA!E179)","v":""},null,null,null,null,null,{"$error":"#DIV/0!"}]
[173,{"$f":"IF(SISWA!B180=0,\"\",SISWA!B180)","v":""},{"$f":"IF(SISWA!C180=0,\"\",SISWA!C180)","v":""},{"$f":"IF(SISWA!D180=0,\"\",SISWA!D180)","v":"173-"},{"$f":"IF(SISWA!E180=0,\"\",SISWA!E180)","v":""},null,null,null,null,null,{"$error":"#DIV/0!"}]
[174,{"$f":"IF(SISWA!B181=0,\"\",SISWA!B181)","v":""},{"$f":"IF(SISWA!C181=0,\"\",SISWA!C181)","v":""},{"$f":"IF(SISWA!D181=0,\"\",SISWA!D181)","v":"174-"},{"$f":"IF(SISWA!E181=0,\"\",SISWA!E181)","v":""},null,null,null,null,null,{"$error":"#DIV/0!"}]
[175,{"$f":"IF(SISWA!B182=0,\"\",SISWA!B182)","v":""},{"$f":"IF(SISWA!C182=0,\"\",SISWA!C182)","v":""},{"$f":"IF(SISWA!D182=0,\"\",SISWA!D182)","v":"175-"},{"$f":"IF(SISWA!E182=0,\"\",SISWA!E182)","v":""},null,null,null,null,null,{"$error":"#DIV/0!"}]
[176,{"$f":"IF(SISWA!B183=0,\"\",SISWA!B183)","v":""},{"$f":"IF(SISWA!C183=0,\"\",SISWA!C183)","v":""},{"$f":"IF(SISWA!D183=0,\"\",SISWA!D183)","v":"176-"},{"$f":"IF(SISWA!E183=0,\"\",SISWA!E183)","v":""},null,null,null,null,null,{"$error":"#DIV/0!"}]
[177,{"$f":"IF(SISWA!B184=0,\"\",SISWA!B184)","v":""},{"$f":"IF(SISWA!C184=0,\"\",SISWA!C184)","v":""},{"$f":"IF(SISWA!D184=0,\"\",SISWA!D184)","v":"177-"},{"$f":"IF(SISWA!E184=0,\"\",SISWA!E184)","v":""},null,null,null,null,null,{"$error":"#DIV/0!"}]
[178,{"$f":"IF(SISWA!B185=0,\"\",SISWA!B185)","v":""},{"$f":"IF(SISWA!C185=0,\"\",SISWA!C185)","v":""},{"$f":"IF(SISWA!D185=0,\"\",SISWA!D185)","v":"178-"},{"$f":"IF(SISWA!E185=0,\"\",SISWA!E185)","v":""},null,null,null,null,null,{"$error":"#DIV/0!"}]
[179,{"$f":"IF(SISWA!B186=0,\"\",SISWA!B186)","v":""},{"$f":"IF(SISWA!C186=0,\"\",SISWA!C186)","v":""},{"$f":"IF(SISWA!D186=0,\"\",SISWA!D186)","v":"179-"},{"$f":"IF(SISWA!E186=0,\"\",SISWA!E186)","v":""},null,null,null,null,null,{"$error":"#DIV/0!"}]
[180,{"$f":"IF(SISWA!B187=0,\"\",SISWA!B187)","v":""},{"$f":"IF(SISWA!C187=0,\"\",SISWA!C187)","v":""},{"$f":"IF(SISWA!D187=0,\"\",SISWA!D187)","v":"180-"},{"$f":"IF(SISWA!E187=0,\"\",SISWA!E187)","v":""},null,null,null,null,null,{"$error":"#DIV/0!"}]
[181,{"$f":"IF(SISWA!B188=0,\"\",SISWA!B188)","v":""},{"$f":"IF(SISWA!C188=0,\"\",SISWA!C188)","v":""},{"$f":"IF(SISWA!D188=0,\"\",SISWA!D188)","v":"181-"},{"$f":"IF(SISWA!E188=0,\"\",SISWA!E188)","v":""},null,null,null,null,null,{"$error":"#DIV/0!"}]
[182,{"$f":"IF(SISWA!B189=0,\"\",SISWA!B189)","v":""},{"$f":"IF(SISWA!C189=0,\"\",SISWA!C189)","v":""},{"$f":"IF(SISWA!D189=0,\"\",SISWA!D189)","v":"182-"},{"$f":"IF(SISWA!E189=0,\"\",SISWA!E189)","v":""},null,null,null,null,null,{"$error":"#DIV/0!"}]
[183,{"$f":"IF(SISWA!B190=0,\"\",SISWA!B190)","v":""},{"$f":"IF(SISWA!C190=0,\"\",SISWA!C190)","v":""},{"$f":"IF(SISWA!D190=0,\"\",SISWA!D190)","v":"183-"},{"$f":"IF(SISWA!E190=0,\"\",SISWA!E190)","v":""},null,null,null,null,null,{"$error":"#DIV/0!"}]
[184,{"$f":"IF(SISWA!B191=0,\"\",SISWA!B191)","v":""},{"$f":"IF(SISWA!C191=0,\"\",SISWA!C191)","v":""},{"$f":"IF(SISWA!D191=0,\"\",SISWA!D191)","v":"184-"},{"$f":"IF(SISWA!E191=0,\"\",SISWA!E191)","v":""},null,null,null,null,null,{"$error":"#DIV/0!"}]
[185,{"$f":"IF(SISWA!B192=0,\"\",SISWA!B192)","v":""},{"$f":"IF(SISWA!C192=0,\"\",SISWA!C192)","v":""},{"$f":"IF(SISWA!D192=0,\"\",SISWA!D192)","v":"185-"},{"$f":"IF(SISWA!E192=0,\"\",SISWA!E192)","v":""},null,null,null,null,null,{"$error":"#DIV/0!"}]
[186,{"$f":"IF(SISWA!B193=0,\"\",SISWA!B193)","v":""},{"$f":"IF(SISWA!C193=0,\"\",SISWA!C193)","v":""},{"$f":"IF(SISWA!D193=0,\"\",SISWA!D193)","v":"186-"},{"$f":"IF(SISWA!E193=0,\"\",SISWA!E193)","v":""},null,null,null,null,null,{"$error":"#DIV/0!"}]
[187,{"$f":"IF(SISWA!B194=0,\"\",SISWA!B194)","v":""},{"$f":"IF(SISWA!C194=0,\"\",SISWA!C194)","v":""},{"$f":"IF(SISWA!D194=0,\"\",SISWA!D194)","v":"187-"},{"$f":"IF(SISWA!E194=0,\"\",SISWA!E194)","v":""},null,null,null,null,null,{"$error":"#DIV/0!"}]
[188,{"$f":"IF(SISWA!B195=0,\"\",SISWA!B195)","v":""},{"$f":"IF(SISWA!C195=0,\"\",SISWA!C195)","v":""},{"$f":"IF(SISWA!D195=0,\"\",SISWA!D195)","v":"188-"},{"$f":"IF(SISWA!E195=0,\"\",SISWA!E195)","v":""},null,null,null,null,null,{"$error":"#DIV/0!"}]
[189,{"$f":"IF(SISWA!B196=0,\"\",SISWA!B196)","v":""},{"$f":"IF(SISWA!C196=0,\"\",SISWA!C196)","v":""},{"$f":"IF(SISWA!D196=0,\"\",SISWA!D196)","v":"189-"},{"$f":"IF(SISWA!E196=0,\"\",SISWA!E196)","v":""},null,null,null,null,null,{"$error":"#DIV/0!"}]
[190,{"$f":"IF(SISWA!B197=0,\"\",SISWA!B197)","v":""},{"$f":"IF(SISWA!C197=0,\"\",SISWA!C197)","v":""},{"$f":"IF(SISWA!D197=0,\"\",SISWA!D197)","v":"190-"},{"$f":"IF(SISWA!E197=0,\"\",SISWA!E197)","v":""},null,null,null,null,null,{"$error":"#DIV/0!"}]
[191,{"$f":"IF(SISWA!B198=0,\"\",SISWA!B198)","v":""},{"$f":"IF(SISWA!C198=0,\"\",SISWA!C198)","v":""},{"$f":"IF(SISWA!D198=0,\"\",SISWA!D198)","v":"191-"},{"$f":"IF(SISWA!E198=0,\"\",SISWA!E198)","v":""},null,null,null,null,null,{"$error":"#DIV/0!"}]
[192,{"$f":"IF(SISWA!B199=0,\"\",SISWA!B199)","v":""},{"$f":"IF(SISWA!C199=0,\"\",SISWA!C199)","v":""},{"$f":"IF(SISWA!D199=0,\"\",SISWA!D199)","v":"192-"},{"$f":"IF(SISWA!E199=0,\"\",SISWA!E199)","v":""},null,null,null,null,null,{"$error":"#DIV/0!"}]
[193,{"$f":"IF(SISWA!B200=0,\"\",SISWA!B200)","v":""},{"$f":"IF(SISWA!C200=0,\"\",SISWA!C200)","v":""},{"$f":"IF(SISWA!D200=0,\"\",SISWA!D200)","v":"193-"},{"$f":"IF(SISWA!E200=0,\"\",SISWA!E200)","v":""},null,null,null,null,null,{"$error":"#DIV/0!"}]
[194,{"$f":"IF(SISWA!B201=0,\"\",SISWA!B201)","v":""},{"$f":"IF(SISWA!C201=0,\"\",SISWA!C201)","v":""},{"$f":"IF(SISWA!D201=0,\"\",SISWA!D201)","v":"194-"},{"$f":"IF(SISWA!E201=0,\"\",SISWA!E201)","v":""},null,null,null,null,null,{"$f":"AVERAGE(F201:J201)","v":{"$error":"#DIV/0!"}}]
[195,{"$f":"IF(SISWA!B202=0,\"\",SISWA!B202)","v":""},{"$f":"IF(SISWA!C202=0,\"\",SISWA!C202)","v":""},{"$f":"IF(SISWA!D202=0,\"\",SISWA!D202)","v":"195-"},{"$f":"IF(SISWA!E202=0,\"\",SISWA!E202)","v":""},null,null,null,null,null,{"$error":"#DIV/0!"}]
[196,{"$f":"IF(SISWA!B203=0,\"\",SISWA!B203)","v":""},{"$f":"IF(SISWA!C203=0,\"\",SISWA!C203)","v":""},{"$f":"IF(SISWA!D203=0,\"\",SISWA!D203)","v":"196-"},{"$f":"IF(SISWA!E203=0,\"\",SISWA!E203)","v":""},null,null,null,null,null,{"$error":"#DIV/0!"}]
[197,{"$f":"IF(SISWA!B204=0,\"\",SISWA!B204)","v":""},{"$f":"IF(SISWA!C204=0,\"\",SISWA!C204)","v":""},{"$f":"IF(SISWA!D204=0,\"\",SISWA!D204)","v":"197-"},{"$f":"IF(SISWA!E204=0,\"\",SISWA!E204)","v":""},null,null,null,null,null,{"$error":"#DIV/0!"}]
[198,{"$f":"IF(SISWA!B205=0,\"\",SISWA!B205)","v":""},{"$f":"IF(SISWA!C205=0,\"\",SISWA!C205)","v":""},{"$f":"IF(SISWA!D205=0,\"\",SISWA!D205)","v":"198-"},{"$f":"IF(SISWA!E205=0,\"\",SISWA!E205)","v":""},null,null,null,null,null,{"$error":"#DIV/0!"}]
[199,{"$f":"IF(SISWA!B206=0,\"\",SISWA!B206)","v":""},{"$f":"IF(SISWA!C206=0,\"\",SISWA!C206)","v":""},{"$f":"IF(SISWA!D206=0,\"\",SISWA!D206)","v":"199-"},{"$f":"IF(SISWA!E206=0,\"\",SISWA!E206)","v":""},null,null,null,null,null,{"$error":"#DIV/0!"}]
[200,{"$f":"IF(SISWA!B207=0,\"\",SISWA!B207)","v":""},{"$f":"IF(SISWA!C207=0,\"\",SISWA!C207)","v":""},{"$f":"IF(SISWA!D207=0,\"\",SISWA!D207)","v":"200-"},{"$f":"IF(SISWA!E207=0,\"\",SISWA!E207)","v":""},null,null,null,null,null,{"$error":"#DIV/0!"}]

{"sheet":"BID","index":8,"n_rows":207,"n_cols":15,"rows_kept":207,"cut":false,"hidden":false,"merged":[[0,0,0,9],[1,0,1,9],[2,0,2,9],[4,0,6,0],[4,1,6,1],[4,2,6,2],[4,3,6,3],[4,4,6,4],[5,5,5,9],[4,5,4,12],[5,11,5,12]]}
["DAFTAR NILAI AKHIR SEKOLAH"]
[{"$f":"AA!A2","v":"MADRASAH IBTIDAIYAH NURUL ISLAM LABRUK KIDUL"}]
[{"$f":"AA!A3","v":"TAHUN PELAJARAN 2018/2019"}]
[]
["NO","No Induk","NISN","Nomor Peserta","Nama Peserta","BAHASA INDONESIA"]
[null,null,null,null,null,"Nilai Semester",null,null,null,null,"Rata- 2","NILAI US"]
[null,null,null,null,null,7,8,9,10,11,"Rapor","TULIS","PRAKTIK"]
[1,{"$f":"IF(SISWA!B8=0,\"\",SISWA!B8)","v":4270},{"$f":"IF(SISWA!C8=0,\"\",SISWA!C8)","v":"0067566336"},{"$f":"IF(SISWA!D8=0,\"\",SISWA!D8)","v":"1-18-05-80-162-001-9"},{"$f":"IF(SISWA!E8=0,\"\",SISWA!E8)","v":"ADITYA MAULA FANDY TAULANI"},80,78,84,88,91,{"$f":"AVERAGE(F8:J8)","v":84.2},83.39,{"$f":"K8","v":84.2},{"$f":"AVERAGE(K8:L8)","v":83.795000000000002},{"$f":"AVERAGE(F8:J8,L8)","v":84.064999999999998}]
[2,{"$f":"IF(SISWA!B9=0,\"\",SISWA!B9)","v":4300},{"$f":"IF(SISWA!C9=0,\"\",SISWA!C9)","v":"0066364963"},{"$f":"IF(SISWA!D9=0,\"\",SISWA!D9)","v":"1-18-05-80-162-002-8"},{"$f":"IF(SISWA!E9=0,\"\",SISWA!E9)","v":"AHMAD FERDIAN ALAMSYAH"},69,64,74,71,79,71.400000000000006,33.07,71.400000000000006,52.234999999999999,{"$f":"AVERAGE(F9:J9,L9)","v":65.01166666666667}]
[3,{"$f":"IF(SISWA!B10=0,\"\",SISWA!B10)","v":4271},{"$f":"IF(SISWA!C10=0,\"\",SISWA!C10)","v":"0062805893"},{"$f":"IF(SISWA!D10=0,\"\",SISWA!D10)","v":"1-18-05-80-162-003-7"},{"$f":"IF(SISWA!E10=0,\"\",SISWA!E10)","v":"AHMAD RAMADHANI FADLULLOH"},74,72,75,76,82,75.8,57.97,75.8,66.884999999999991,72.828333333333333]
[4,{"$f":"IF(SISWA!B11=0,\"\",SISWA!B11)","v":4398},{"$f":"IF(SISWA!C11=0,\"\",SISWA!C11)","v":"0062399399"},{"$f":"IF(SISWA!D11=0,\"\",SISWA!D11)","v":"1-18-05-80-162-004-6"},{"$f":"IF(SISWA!E11=0,\"\",SISWA!E11)","v":"ANANDA AMILIA"},71,72,75,76,84,75.599999999999994,53.16,75.599999999999994,64.38,71.86]
[5,{"$f":"IF(SISWA!B12=0,\"\",SISWA!B12)","v":4272},{"$f":"IF(SISWA!C12=0,\"\",SISWA!C12)","v":"0071551428"},{"$f":"IF(SISWA!D12=0,\"\",SISWA!D12)","v":"1-18-05-80-162-005-5"},{"$f":"IF(SISWA!E12=0,\"\",SISWA!E12)","v":"ANDINI MAULID DWI LESTARI"},74,75,76,76,83,76.8,81.33,76.8,79.064999999999998,77.554999999999993]
[6,{"$f":"IF(SISWA!B13=0,\"\",SISWA!B13)","v":4301},{"$f":"IF(SISWA!C13=0,\"\",SISWA!C13)","v":"0061907599"},{"$f":"IF(SISWA!D13=0,\"\",SISWA!D13)","v":"1-18-05-80-162-006-4"},{"$f":"IF(SISWA!E13=0,\"\",SISWA!E13)","v":"ANDRIK YUSRI"},67,65,73,72,79,71.2,56.21,71.2,63.704999999999998,68.701666666666668]
[7,{"$f":"IF(SISWA!B14=0,\"\",SISWA!B14)","v":4273},{"$f":"IF(SISWA!C14=0,\"\",SISWA!C14)","v":"0067280519"},{"$f":"IF(SISWA!D14=0,\"\",SISWA!D14)","v":"1-18-05-80-162-007-3"},{"$f":"IF(SISWA!E14=0,\"\",SISWA!E14)","v":"DEWI SAKINAH ISWARA"},79,75,82,81,87,80.8,89.86,80.8,85.33,82.31]
[8,{"$f":"IF(SISWA!B15=0,\"\",SISWA!B15)","v":4307},{"$f":"IF(SISWA!C15=0,\"\",SISWA!C15)","v":"0066012198"},{"$f":"IF(SISWA!D15=0,\"\",SISWA!D15)","v":"1-18-05-80-162-008-2"},{"$f":"IF(SISWA!E15=0,\"\",SISWA!E15)","v":"CHAKIM"},67,62,72,69,79,69.8,30.32,69.8,50.06,63.22]
[9,{"$f":"IF(SISWA!B16=0,\"\",SISWA!B16)","v":4275},{"$f":"IF(SISWA!C16=0,\"\",SISWA!C16)","v":"0078199679"},{"$f":"IF(SISWA!D16=0,\"\",SISWA!D16)","v":"1-18-05-80-162-009-9"},{"$f":"IF(SISWA!E16=0,\"\",SISWA!E16)","v":"HANIK APRILIA SARI"},78,70,84,85,84,80.2,61.22,80.2,70.710000000000008,77.036666666666676]
[10,{"$f":"IF(SISWA!B17=0,\"\",SISWA!B17)","v":"4238"},{"$f":"IF(SISWA!C17=0,\"\",SISWA!C17)","v":"0051503260"},{"$f":"IF(SISWA!D17=0,\"\",SISWA!D17)","v":"1-18-05-80-162-010-8"},{"$f":"IF(SISWA!E17=0,\"\",SISWA!E17)","v":"DESI NATALIA SAPUTRI"},70,59,74,67,79,69.8,33.9,69.8,51.849999999999994,63.816666666666663]
[11,{"$f":"IF(SISWA!B18=0,\"\",SISWA!B18)","v":4391},{"$f":"IF(SISWA!C18=0,\"\",SISWA!C18)","v":"0079418518"},{"$f":"IF(SISWA!D18=0,\"\",SISWA!D18)","v":"1-18-05-80-162-011-7"},{"$f":"IF(SISWA!E18=0,\"\",SISWA!E18)","v":"HIDAYATUL KHUMAINIA"},69,71,75,73,82,74,62.21,74,68.105000000000004,72.034999999999997]
[12,{"$f":"IF(SISWA!B19=0,\"\",SISWA!B19)","v":4274},{"$f":"IF(SISWA!C19=0,\"\",SISWA!C19)","v":"0077670297"},{"$f":"IF(SISWA!D19=0,\"\",SISWA!D19)","v":"1-18-05-80-162-012-6"},{"$f":"IF(SISWA!E19=0,\"\",SISWA!E19)","v":"DWITA FITA WULANDARI"},70,68,75,73,87,74.599999999999994,46.42,74.599999999999994,60.51,69.903333333333336]
[13,{"$f":"IF(SISWA!B20=0,\"\",SISWA!B20)","v":4276},{"$f":"IF(SISWA!C20=0,\"\",SISWA!C20)","v":"0067236848"},{"$f":"IF(SISWA!D20=0,\"\",SISWA!D20)","v":"1-18-05-80-162-013-5"},{"$f":"IF(SISWA!E20=0,\"\",SISWA!E20)","v":"IZZA ILMIA AZZAHRA"},77,76,77,83,88,80.2,89.86,80.2,85.03,81.81]
[14,{"$f":"IF(SISWA!B21=0,\"\",SISWA!B21)","v":4303},{"$f":"IF(SISWA!C21=0,\"\",SISWA!C21)","v":"0064031376"},{"$f":"IF(SISWA!D21=0,\"\",SISWA!D21)","v":"1-18-05-80-162-014-4"},{"$f":"IF(SISWA!E21=0,\"\",SISWA!E21)","v":"FARIDATUS SAHDIAH"},69,64,75,72,80,72,57.2,72,64.599999999999994,69.533333333333331]
[15,{"$f":"IF(SISWA!B22=0,\"\",SISWA!B22)","v":4278},{"$f":"IF(SISWA!C22=0,\"\",SISWA!C22)","v":"0079672823"},{"$f":"IF(SISWA!D22=0,\"\",SISWA!D22)","v":"1-18-05-80-162-015-3"},{"$f":"IF(SISWA!E22=0,\"\",SISWA!E22)","v":"KHARISYA AZZAHRO"},85,82,76,74,91,81.599999999999994,91.15,81.599999999999994,86.375,83.191666666666663]
[16,{"$f":"IF(SISWA!B23=0,\"\",SISWA!B23)","v":4277},{"$f":"IF(SISWA!C23=0,\"\",SISWA!C23)","v":"0077101453"},{"$f":"IF(SISWA!D23=0,\"\",SISWA!D23)","v":"1-18-05-80-162-016-2"},{"$f":"IF(SISWA!E23=0,\"\",SISWA!E23)","v":"KARINA FEBBY CAHYA AMILIA"},76,71,76,79,85,77.400000000000006,50.66,77.400000000000006,64.03,72.943333333333328]
[17,{"$f":"IF(SISWA!B24=0,\"\",SISWA!B24)","v":4601},{"$f":"IF(SISWA!C24=0,\"\",SISWA!C24)","v":"0069718082"},{"$f":"IF(SISWA!D24=0,\"\",SISWA!D24)","v":"1-18-05-80-162-017-9"},{"$f":"IF(SISWA!E24=0,\"\",SISWA!E24)","v":"MOCHAMAD RIFKY ROSAN"},75,80,76,73,82,77.2,58.96,77.2,68.08,74.16]
[18,{"$f":"IF(SISWA!B25=0,\"\",SISWA!B25)","v":"4241"},{"$f":"IF(SISWA!C25=0,\"\",SISWA!C25)","v":"0057006145"},{"$f":"IF(SISWA!D25=0,\"\",SISWA!D25)","v":"1-18-05-80-162-018-8"},{"$f":"IF(SISWA!E25=0,\"\",SISWA!E25)","v":"KHUSNI CAHYONO"},66,58,72,64,79,67.8,44.14,67.8,55.97,63.856666666666662]
[19,{"$f":"IF(SISWA!B26=0,\"\",SISWA!B26)","v":4280},{"$f":"IF(SISWA!C26=0,\"\",SISWA!C26)","v":"0062061356"},{"$f":"IF(SISWA!D26=0,\"\",SISWA!D26)","v":"1-18-05-80-162-019-7"},{"$f":"IF(SISWA!E26=0,\"\",SISWA!E26)","v":"MUCHAMMAD ALIEF FERDIANSYAH"},78,75,79,90,87,81.8,95.14,81.8,88.47,84.023333333333326]
[20,{"$f":"IF(SISWA!B27=0,\"\",SISWA!B27)","v":4306},{"$f":"IF(SISWA!C27=0,\"\",SISWA!C27)","v":"0069095925"},{"$f":"IF(SISWA!D27=0,\"\",SISWA!D27)","v":"1-18-05-80-162-020-6"},{"$f":"IF(SISWA!E27=0,\"\",SISWA!E27)","v":"LENNY AGUSTIN NINGTYAS"},66,60,72,69,79,69.2,37.56,69.2,53.38,63.926666666666669]
[21,{"$f":"IF(SISWA!B28=0,\"\",SISWA!B28)","v":4281},{"$f":"IF(SISWA!C28=0,\"\",SISWA!C28)","v":"0069153972"},{"$f":"IF(SISWA!D28=0,\"\",SISWA!D28)","v":"1-18-05-80-162-021-5"},{"$f":"IF(SISWA!E28=0,\"\",SISWA!E28)","v":"MUHAMMAD AGUS ANDRIANTO"},75,72,74,74,83,75.599999999999994,57.97,75.599999999999994,66.784999999999997,72.661666666666676]
[22,{"$f":"IF(SISWA!B29=0,\"\",SISWA!B29)","v":4308},{"$f":"IF(SISWA!C29=0,\"\",SISWA!C29)","v":"0063078335"},{"$f":"IF(SISWA!D29=0,\"\",SISWA!D29)","v":"1-18-05-80-162-022-4"},{"$f":"IF(SISWA!E29=0,\"\",SISWA!E29)","v":"MAURIS HIDAYATUR ROCHMAN"},73,66,76,78,85,75.599999999999994,49.17,75.599999999999994,62.384999999999998,71.195000000000007]
[23,{"$f":"IF(SISWA!B30=0,\"\",SISWA!B30)","v":4314},{"$f":"IF(SISWA!C30=0,\"\",SISWA!C30)","v":"0072178353"},{"$f":"IF(SISWA!D30=0,\"\",SISWA!D30)","v":"1-18-05-80-162-023-3"},{"$f":"IF(SISWA!E30=0,\"\",SISWA!E30)","v":"MUHAMMAD BISMAR TAUFIQUROHMAN"},74,74,76,81,87,78.400000000000006,85.37,78.400000000000006,81.885000000000005,79.561666666666667]
[24,{"$f":"IF(SISWA!B31=0,\"\",SISWA!B31)","v":4309},{"$f":"IF(SISWA!C31=0,\"\",SISWA!C31)","v":"0072198448"},{"$f":"IF(SISWA!D31=0,\"\",SISWA!D31)","v":"1-18-05-80-162-024-2"},{"$f":"IF(SISWA!E31=0,\"\",SISWA!E31)","v":"MAYA BUNGA ANJANI"},69,59,75,70,79,70.400000000000006,34.119999999999997,70.400000000000006,52.260000000000005,64.353333333333339]
[25,{"$f":"IF(SISWA!B32=0,\"\",SISWA!B32)","v":4320},{"$f":"IF(SISWA!C32=0,\"\",SISWA!C32)","v":"0064566227"},{"$f":"IF(SISWA!D32=0,\"\",SISWA!D32)","v":"1-18-05-80-162-025-9"},{"$f":"IF(SISWA!E32=0,\"\",SISWA!E32)","v":"MUHAMMAD SAHLAN SHODIQ"},78,80,85,81,88,82.4,63.97,82.4,73.185000000000002,79.328333333333333]
[26,{"$f":"IF(SISWA!B33=0,\"\",SISWA!B33)","v":4279},{"$f":"IF(SISWA!C33=0,\"\",SISWA!C33)","v":"0066637092"},{"$f":"IF(SISWA!D33=0,\"\",SISWA!D33)","v":"1-18-05-80-162-026-8"},{"$f":"IF(SISWA!E33=0,\"\",SISWA!E33)","v":"MITA SEPTIANI ISLAMIA"},68,60,71,70,79,69.599999999999994,49.42,69.599999999999994,59.51,66.236666666666665]
[27,{"$f":"IF(SISWA!B34=0,\"\",SISWA!B34)","v":4321},{"$f":"IF(SISWA!C34=0,\"\",SISWA!C34)","v":"0061244045"},{"$f":"IF(SISWA!D34=0,\"\",SISWA!D34)","v":"1-18-05-80-162-027-7"},{"$f":"IF(SISWA!E34=0,\"\",SISWA!E34)","v":"MUHAMMAD SEPTYAN EKA PRATAMA"},75,74,75,75,84,76.599999999999994,67.239999999999995,76.599999999999994,71.919999999999987,75.040000000000006]
[28,{"$f":"IF(SISWA!B35=0,\"\",SISWA!B35)","v":"4247"},{"$f":"IF(SISWA!C35=0,\"\",SISWA!C35)","v":"0053546157"},{"$f":"IF(SISWA!D35=0,\"\",SISWA!D35)","v":"1-18-05-80-162-028-6"},{"$f":"IF(SISWA!E35=0,\"\",SISWA!E35)","v":"MOCHAMAD ARIEL FRANS TITO"},68,63,74,71,79,71,44.41,71,57.704999999999998,66.568333333333328]
[29,{"$f":"IF(SISWA!B36=0,\"\",SISWA!B36)","v":4285},{"$f":"IF(SISWA!C36=0,\"\",SISWA!C36)","v":"0067871553"},{"$f":"IF(SISWA!D36=0,\"\",SISWA!D36)","v":"1-18-05-80-162-029-5"},{"$f":"IF(SISWA!E36=0,\"\",SISWA!E36)","v":"MUHAMMAD VERYANSYAH"},75,71,79,73,87,77,46.17,77,61.585000000000001,71.861666666666665]
[30,{"$f":"IF(SISWA!B37=0,\"\",SISWA!B37)","v":4310},{"$f":"IF(SISWA!C37=0,\"\",SISWA!C37)","v":"0066383678"},{"$f":"IF(SISWA!D37=0,\"\",SISWA!D37)","v":"1-18-05-80-162-030-4"},{"$f":"IF(SISWA!E37=0,\"\",SISWA!E37)","v":"MOCHAMMAD BIMA RISFANDA"},68,59,76,70,80,70.599999999999994,24.07,70.599999999999994,47.334999999999994,62.844999999999999]
[31,{"$f":"IF(SISWA!B38=0,\"\",SISWA!B38)","v":4286},{"$f":"IF(SISWA!C38=0,\"\",SISWA!C38)","v":"0064443822"},{"$f":"IF(SISWA!D38=0,\"\",SISWA!D38)","v":"1-18-05-80-162-031-3"},{"$f":"IF(SISWA!E38=0,\"\",SISWA!E38)","v":"MUHAMMAD ZIDNY NA'IM"},83,84,79,76,85,81.400000000000006,88.37,81.400000000000006,84.885000000000005,82.561666666666667]
[32,{"$f":"IF(SISWA!B39=0,\"\",SISWA!B39)","v":4282},{"$f":"IF(SISWA!C39=0,\"\",SISWA!C39)","v":"0068336765"},{"$f":"IF(SISWA!D39=0,\"\",SISWA!D39)","v":"1-18-05-80-162-032-2"},{"$f":"IF(SISWA!E39=0,\"\",SISWA!E39)","v":"MUHAMMAD AGUS FERDIANSYAH"},74,73,73,74,82,75.2,54.45,75.2,64.825000000000003,71.74166666666666]
[33,{"$f":"IF(SISWA!B40=0,\"\",SISWA!B40)","v":4287},{"$f":"IF(SISWA!C40=0,\"\",SISWA!C40)","v":"0064528717"},{"$f":"IF(SISWA!D40=0,\"\",SISWA!D40)","v":"1-18-05-80-162-033-9"},{"$f":"IF(SISWA!E40=0,\"\",SISWA!E40)","v":"MUHAMMAD FARDAN ABDILLAH"},74,null,72,72,null,72.666666666666671,80.86,72.666666666666671,76.763333333333335,74.715000000000003]
[34,{"$f":"IF(SISWA!B41=0,\"\",SISWA!B41)","v":4315},{"$f":"IF(SISWA!C41=0,\"\",SISWA!C41)","v":"0067870495"},{"$f":"IF(SISWA!D41=0,\"\",SISWA!D41)","v":"1-18-05-80-162-034-8"},{"$f":"IF(SISWA!E41=0,\"\",SISWA!E41)","v":"NABILA ARISKA PUTRI"},79,74,78,74,84,77.8,48.45,77.8,63.125,72.908333333333331]
[35,{"$f":"IF(SISWA!B42=0,\"\",SISWA!B42)","v":4288},{"$f":"IF(SISWA!C42=0,\"\",SISWA!C42)","v":"0068641191"},{"$f":"IF(SISWA!D42=0,\"\",SISWA!D42)","v":"1-18-05-80-162-035-7"},{"$f":"IF(SISWA!E42=0,\"\",SISWA!E42)","v":"MUHAMMAD FERDINAN JAYYIDAH RIFQI"},76,76,72,81,87,78.400000000000006,80.61,78.400000000000006,79.504999999999995,78.768333333333331]
[36,{"$f":"IF(SISWA!B43=0,\"\",SISWA!B43)","v":4283},{"$f":"IF(SISWA!C43=0,\"\",SISWA!C43)","v":"0077212388"},{"$f":"IF(SISWA!D43=0,\"\",SISWA!D43)","v":"1-18-05-80-162-036-6"},{"$f":"IF(SISWA!E43=0,\"\",SISWA!E43)","v":"NAFISA INDRIANI"},78,74,85,85,87,81.8,86.61,81.8,84.204999999999998,82.601666666666674]
[37,{"$f":"IF(SISWA!B44=0,\"\",SISWA!B44)","v":"4257"},{"$f":"IF(SISWA!C44=0,\"\",SISWA!C44)","v":"0069944706"},{"$f":"IF(SISWA!D44=0,\"\",SISWA!D44)","v":"1-18-05-80-162-037-5"},{"$f":"IF(SISWA!E44=0,\"\",SISWA!E44)","v":"MUHAMMAD FIRMANSYAH"},68,62,76,72,80,71.599999999999994,61.49,71.599999999999994,66.545000000000002,69.915000000000006]
[38,{"$f":"IF(SISWA!B45=0,\"\",SISWA!B45)","v":4317},{"$f":"IF(SISWA!C45=0,\"\",SISWA!C45)","v":"0068498059"},{"$f":"IF(SISWA!D45=0,\"\",SISWA!D45)","v":"1-18-05-80-162-038-4"},{"$f":"IF(SISWA!E45=0,\"\",SISWA!E45)","v":"NAJWA FARISYA BAROROH"},77,74,84,86,87,81.599999999999994,46.42,81.599999999999994,64.009999999999991,75.736666666666665]
[39,{"$f":"IF(SISWA!B46=0,\"\",SISWA!B46)","v":4289},{"$f":"IF(SISWA!C46=0,\"\",SISWA!C46)","v":"0065225517"},{"$f":"IF(SISWA!D46=0,\"\",SISWA!D46)","v":"1-18-05-80-162-039-3"},{"$f":"IF(SISWA!E46=0,\"\",SISWA!E46)","v":"NUR FITRIYAH"},72,74,83,86,84,79.8,61.96,79.8,70.88,76.826666666666668]
[40,{"$f":"IF(SISWA!B47=0,\"\",SISWA!B47)","v":4318},{"$f":"IF(SISWA!C47=0,\"\",SISWA!C47)","v":"0061441364"},{"$f":"IF(SISWA!D47=0,\"\",SISWA!D47)","v":"1-18-05-80-162-040-2"},{"$f":"IF(SISWA!E47=0,\"\",SISWA!E47)","v":"MUHAMMAD HILDAN DWI SAPUTRA"},70,65,71,75,79,72,51.18,72,61.59,68.53]
[41,{"$f":"IF(SISWA!B48=0,\"\",SISWA!B48)","v":4392},{"$f":"IF(SISWA!C48=0,\"\",SISWA!C48)","v":"0075794532"},{"$f":"IF(SISWA!D48=0,\"\",SISWA!D48)","v":"1-18-05-80-162-041-9"},{"$f":"IF(SISWA!E48=0,\"\",SISWA!E48)","v":"PUTRI NAFI'ATUS SOLIKHAH"},73,70,77,84,86,78,54.45,78,66.224999999999994,74.075000000000003]
[42,{"$f":"IF(SISWA!B49=0,\"\",SISWA!B49)","v":4284},{"$f":"IF(SISWA!C49=0,\"\",SISWA!C49)","v":"0069578000"},{"$f":"IF(SISWA!D49=0,\"\",SISWA!D49)","v":"1-18-05-80-162-042-8"},{"$f":"IF(SISWA!E49=0,\"\",SISWA!E49)","v":"MUHAMMAD RAYA KAFAF JAUHARI"},80,73,72,78,80,76.599999999999994,42.7,76.599999999999994,59.65,70.95]
[43,{"$f":"IF(SISWA!B50=0,\"\",SISWA!B50)","v":4290},{"$f":"IF(SISWA!C50=0,\"\",SISWA!C50)","v":"0063558216"},{"$f":"IF(SISWA!D50=0,\"\",SISWA!D50)","v":"1-18-05-80-162-043-7"},{"$f":"IF(SISWA!E50=0,\"\",SISWA!E50)","v":"QORIATUN SHOLIHAH"},76,69,79,72,84,76,63.72,76,69.86,73.953333333333333]
[44,{"$f":"IF(SISWA!B51=0,\"\",SISWA!B51)","v":4319},{"$f":"IF(SISWA!C51=0,\"\",SISWA!C51)","v":"0065329770"},{"$f":"IF(SISWA!D51=0,\"\",SISWA!D51)","v":"1-18-05-80-162-044-6"},{"$f":"IF(SISWA!E51=0,\"\",SISWA!E51)","v":"MUHAMMAD RUDI TANTOWIK"},68,62,74,69,79,70.400000000000006,27.85,70.400000000000006,49.125,63.308333333333337]
[45,{"$f":"IF(SISWA!B52=0,\"\",SISWA!B52)","v":4291},{"$f":"IF(SISWA!C52=0,\"\",SISWA!C52)","v":"0067071679"},{"$f":"IF(SISWA!D52=0,\"\",SISWA!D52)","v":"1-18-05-80-162-045-5"},{"$f":"IF(SISWA!E52=0,\"\",SISWA!E52)","v":"RACHMAD HIDAYAT"},73,66,77,73,83,74.400000000000006,40.89,74.400000000000006,57.645000000000003,68.814999999999998]
[46,{"$f":"IF(SISWA!B53=0,\"\",SISWA!B53)","v":4322},{"$f":"IF(SISWA!C53=0,\"\",SISWA!C53)","v":"0051101989"},{"$f":"IF(SISWA!D53=0,\"\",SISWA!D53)","v":"1-18-05-80-162-046-4"},{"$f":"IF(SISWA!E53=0,\"\",SISWA!E53)","v":"MUHAMMAD ZULDIENUR HABIBIE"},66,58,71,73,79,69.400000000000006,41.41,69.400000000000006,55.405000000000001,64.734999999999999]
[47,{"$f":"IF(SISWA!B54=0,\"\",SISWA!B54)","v":4292},{"$f":"IF(SISWA!C54=0,\"\",SISWA!C54)","v":"0072001696"},{"$f":"IF(SISWA!D54=0,\"\",SISWA!D54)","v":"1-18-05-80-162-047-3"},{"$f":"IF(SISWA!E54=0,\"\",SISWA!E54)","v":"RHEA RAYSHANADA NUGRAHA"},77,74,77,71,85,76.8,68.73,76.8,72.765000000000001,75.454999999999998]
[48,{"$f":"IF(SISWA!B55=0,\"\",SISWA!B55)","v":4323},{"$f":"IF(SISWA!C55=0,\"\",SISWA!C55)","v":"0078949167"},{"$f":"IF(SISWA!D55=0,\"\",SISWA!D55)","v":"1-18-05-80-162-048-2"},{"$f":"IF(SISWA!E55=0,\"\",SISWA!E55)","v":"MUKHAMAD KHOIRUL AMIN"},64,63,75,69,79,70,34.369999999999997,70,52.185000000000002,64.061666666666667]
[49,{"$f":"IF(SISWA!B56=0,\"\",SISWA!B56)","v":4293},{"$f":"IF(SISWA!C56=0,\"\",SISWA!C56)","v":"0064217705"},{"$f":"IF(SISWA!D56=0,\"\",SISWA!D56)","v":"1-18-05-80-162-049-9"},{"$f":"IF(SISWA!E56=0,\"\",SISWA!E56)","v":"RIYANTI APRILIA"},79,69,79,80,84,78.2,53.16,78.2,65.680000000000007,74.026666666666657]
[50,{"$f":"IF(SISWA!B57=0,\"\",SISWA!B57)","v":"4256"},{"$f":"IF(SISWA!C57=0,\"\",SISWA!C57)","v":"0065699742"},{"$f":"IF(SISWA!D57=0,\"\",SISWA!D57)","v":"1-18-05-80-162-050-8"},{"$f":"IF(SISWA!E57=0,\"\",SISWA!E57)","v":"MUKHAMMAD YAASIIN HASAN KHASBULLOH"},72,68,76,71,81,73.599999999999994,50.93,73.599999999999994,62.265000000000001,69.821666666666673]
[51,{"$f":"IF(SISWA!B58=0,\"\",SISWA!B58)","v":4295},{"$f":"IF(SISWA!C58=0,\"\",SISWA!C58)","v":"0061359184"},{"$f":"IF(SISWA!D58=0,\"\",SISWA!D58)","v":"1-18-05-80-162-051-7"},{"$f":"IF(SISWA!E58=0,\"\",SISWA!E58)","v":"SHONIA AULIA AS'AD"},83,77,80,79,94,82.6,91.62,82.6,87.11,84.103333333333339]
[52,{"$f":"IF(SISWA!B59=0,\"\",SISWA!B59)","v":4294},{"$f":"IF(SISWA!C59=0,\"\",SISWA!C59)","v":"0064723905"},{"$f":"IF(SISWA!D59=0,\"\",SISWA!D59)","v":"1-18-05-80-162-052-6"},{"$f":"IF(SISWA!E59=0,\"\",SISWA!E59)","v":"RIZKA AYU WULANDARI"},74,65,75,74,80,73.599999999999994,52.69,73.599999999999994,63.144999999999996,70.114999999999995]
[53,{"$f":"IF(SISWA!B60=0,\"\",SISWA!B60)","v":4298},{"$f":"IF(SISWA!C60=0,\"\",SISWA!C60)","v":"0065530554"},{"$f":"IF(SISWA!D60=0,\"\",SISWA!D60)","v":"1-18-05-80-162-053-5"},{"$f":"IF(SISWA!E60=0,\"\",SISWA!E60)","v":"VERLINA DWI MAULANI"},78,72,79,75,84,77.599999999999994,50.93,77.599999999999994,64.265000000000001,73.155000000000001]
[54,{"$f":"IF(SISWA!B61=0,\"\",SISWA!B61)","v":4297},{"$f":"IF(SISWA!C61=0,\"\",SISWA!C61)","v":"0063846732"},{"$f":"IF(SISWA!D61=0,\"\",SISWA!D61)","v":"1-18-05-80-162-054-4"},{"$f":"IF(SISWA!E61=0,\"\",SISWA!E61)","v":"USWATUN KHASANAH"},71,69,74,74,84,74.400000000000006,59.93,74.400000000000006,67.165000000000006,71.98833333333333]
[55,{"$f":"IF(SISWA!B62=0,\"\",SISWA!B62)","v":4324},{"$f":"IF(SISWA!C62=0,\"\",SISWA!C62)","v":"0078966795"},{"$f":"IF(SISWA!D62=0,\"\",SISWA!D62)","v":"1-18-05-80-162-055-3"},{"$f":"IF(SISWA!E62=0,\"\",SISWA!E62)","v":"VIKA KUSUMA WATI"},77,69,81,82,83,78.400000000000006,60.2,78.400000000000006,69.300000000000011,75.36666666666666]
[56,{"$f":"IF(SISWA!B63=0,\"\",SISWA!B63)","v":4326},{"$f":"IF(SISWA!C63=0,\"\",SISWA!C63)","v":"0064124533"},{"$f":"IF(SISWA!D63=0,\"\",SISWA!D63)","v":"1-18-05-80-162-056-2"},{"$f":"IF(SISWA!E63=0,\"\",SISWA!E63)","v":"YOHAN EGA GILANG PERMANA"},68,null,72,77,79,74,41.93,74,57.965000000000003,67.585999999999999]
[57,{"$f":"IF(SISWA!B64=0,\"\",SISWA!B64)","v":""},{"$f":"IF(SISWA!C64=0,\"\",SISWA!C64)","v":""},{"$f":"IF(SISWA!D64=0,\"\",SISWA!D64)","v":"1-18-05-80-162-057-9"},{"$f":"IF(SISWA!E64=0,\"\",SISWA!E64)","v":""},null,null,null,null,null,{"$f":"AVERAGE(F64:J64)","v":{"$error":"#DIV/0!"}},null,{"$f":"K64","v":{"$error":"#DIV/0!"}},{"$f":"AVERAGE(K64:L64)","v":{"$error":"#DIV/0!"}}]
[58,{"$f":"IF(SISWA!B65=0,\"\",SISWA!B65)","v":""},{"$f":"IF(SISWA!C65=0,\"\",SISWA!C65)","v":""},{"$f":"IF(SISWA!D65=0,\"\",SISWA!D65)","v":"1-18-05-80-162-058-8"},{"$f":"IF(SISWA!E65=0,\"\",SISWA!E65)","v":""},null,null,null,null,null,{"$error":"#DIV/0!"},null,null,{"$error":"#DIV/0!"}]
[59,{"$f":"IF(SISWA!B66=0,\"\",SISWA!B66)","v":""},{"$f":"IF(SISWA!C66=0,\"\",SISWA!C66)","v":""},{"$f":"IF(SISWA!D66=0,\"\",SISWA!D66)","v":"1-18-05-80-162-059-7"},{"$f":"IF(SISWA!E66=0,\"\",SISWA!E66)","v":""},null,null,null,null,null,{"$error":"#DIV/0!"},null,null,{"$error":"#DIV/0!"}]
[60,{"$f":"IF(SISWA!B67=0,\"\",SISWA!B67)","v":""},{"$f":"IF(SISWA!C67=0,\"\",SISWA!C67)","v":""},{"$f":"IF(SISWA!D67=0,\"\",SISWA!D67)","v":"1-18-05-80-162-060-6"},{"$f":"IF(SISWA!E67=0,\"\",SISWA!E67)","v":""},null,null,null,null,null,{"$error":"#DIV/0!"},null,null,{"$error":"#DIV/0!"}]
[61,{"$f":"IF(SISWA!B68=0,\"\",SISWA!B68)","v":""},{"$f":"IF(SISWA!C68=0,\"\",SISWA!C68)","v":""},{"$f":"IF(SISWA!D68=0,\"\",SISWA!D68)","v":"1-18-05-80-162-061-5"},{"$f":"IF(SISWA!E68=0,\"\",SISWA!E68)","v":""},null,null,null,null,null,{"$f":"AVERAGE(F68:J68)","v":{"$error":"#DIV/0!"}},null,null,{"$error":"#DIV/0!"}]
[62,{"$f":"IF(SISWA!B69=0,\"\",SISWA!B69)","v":""},{"$f":"IF(SISWA!C69=0,\"\",SISWA!C69)","v":""},{"$f":"IF(SISWA!D69=0,\"\",SISWA!D69)","v":"062-4"},{"$f":"IF(SISWA!E69=0,\"\",SISWA!E69)","v":""},null,null,null,null,null,{"$error":"#DIV/0!"},null,null,{"$error":"#DIV/0!"}]
[63,{"$f":"IF(SISWA!B70=0,\"\",SISWA!B70)","v":""},{"$f":"IF(SISWA!C70=0,\"\",SISWA!C70)","v":""},{"$f":"IF(SISWA!D70=0,\"\",SISWA!D70)","v":"063-3"},{"$f":"IF(SISWA!E70=0,\"\",SISWA!E70)","v":""},null,null,null,null,null,{"$error":"#DIV/0!"},null,null,{"$error":"#DIV/0!"}]
[64,{"$f":"IF(SISWA!B71=0,\"\",SISWA!B71)","v":""},{"$f":"IF(SISWA!C71=0,\"\",SISWA!C71)","v":""},{"$f":"IF(SISWA!D71=0,\"\",SISWA!D71)","v":"064-2"},{"$f":"IF(SISWA!E71=0,\"\",SISWA!E71)","v":""},null,null,null,null,null,{"$error":"#DIV/0!"},null,null,{"$error":"#DIV/0!"}]
[65,{"$f":"IF(SISWA!B72=0,\"\",SISWA!B72)","v":""},{"$f":"IF(SISWA!C72=0,\"\",SISWA!C72)","v":""},{"$f":"IF(SISWA!D72=0,\"\",SISWA!D72)","v":"065-"},{"$f":"IF(SISWA!E72=0,\"\",SISWA!E72)","v":""},null,null,null,null,null,{"$error":"#DIV/0!"},null,null,{"$error":"#DIV/0!"}]
[66,{"$f":"IF(SISWA!B73=0,\"\",SISWA!B73)","v":""},{"$f":"IF(SISWA!C73=0,\"\",SISWA!C73)","v":""},{"$f":"IF(SISWA!D73=0,\"\",SISWA!D73)","v":"066-"},{"$f":"IF(SISWA!E73=0,\"\",SISWA!E73)","v":""},null,null,null,null,null,{"$error":"#DIV/0!"},null,null,{"$f":"AVERAGE(K73:L73)","v":{"$error":"#DIV/0!"}}]
[67,{"$f":"IF(SISWA!B74=0,\"\",SISWA!B74)","v":""},{"$f":"IF(SISWA!C74=0,\"\",SISWA!C74)","v":""},{"$f":"IF(SISWA!D74=0,\"\",SISWA!D74)","v":"067-"},{"$f":"IF(SISWA!E74=0,\"\",SISWA!E74)","v":""},null,null,null,null,null,{"$error":"#DIV/0!"},null,null,{"$error":"#DIV/0!"}]
[68,{"$f":"IF(SISWA!B75=0,\"\",SISWA!B75)","v":""},{"$f":"IF(SISWA!C75=0,\"\",SISWA!C75)","v":""},{"$f":"IF(SISWA!D75=0,\"\",SISWA!D75)","v":"068-"},{"$f":"IF(SISWA!E75=0,\"\",SISWA!E75)","v":""},null,null,null,null,null,{"$error":"#DIV/0!"},null,null,{"$error":"#DIV/0!"}]
[69,{"$f":"IF(SISWA!B76=0,\"\",SISWA!B76)","v":""},{"$f":"IF(SISWA!C76=0,\"\",SISWA!C76)","v":""},{"$f":"IF(SISWA!D76=0,\"\",SISWA!D76)","v":"069-"},{"$f":"IF(SISWA!E76=0,\"\",SISWA!E76)","v":""},null,null,null,null,null,{"$error":"#DIV/0!"},null,null,{"$error":"#DIV/0!"}]
[70,{"$f":"IF(SISWA!B77=0,\"\",SISWA!B77)","v":""},{"$f":"IF(SISWA!C77=0,\"\",SISWA!C77)","v":""},{"$f":"IF(SISWA!D77=0,\"\",SISWA!D77)","v":"070-"},{"$f":"IF(SISWA!E77=0,\"\",SISWA!E77)","v":""},null,null,null,null,null,{"$error":"#DIV/0!"},null,null,{"$error":"#DIV/0!"}]
[71,{"$f":"IF(SISWA!B78=0,\"\",SISWA!B78)","v":""},{"$f":"IF(SISWA!C78=0,\"\",SISWA!C78)","v":""},{"$f":"IF(SISWA!D78=0,\"\",SISWA!D78)","v":"071-"},{"$f":"IF(SISWA!E78=0,\"\",SISWA!E78)","v":""},null,null,null,null,null,{"$error":"#DIV/0!"},null,null,{"$error":"#DIV/0!"}]
[72,{"$f":"IF(SISWA!B79=0,\"\",SISWA!B79)","v":""},{"$f":"IF(SISWA!C79=0,\"\",SISWA!C79)","v":""},{"$f":"IF(SISWA!D79=0,\"\",SISWA!D79)","v":"072-"},{"$f":"IF(SISWA!E79=0,\"\",SISWA!E79)","v":""},null,null,null,null,null,{"$error":"#DIV/0!"},null,null,{"$error":"#DIV/0!"}]
[73,{"$f":"IF(SISWA!B80=0,\"\",SISWA!B80)","v":""},{"$f":"IF(SISWA!C80=0,\"\",SISWA!C80)","v":""},{"$f":"IF(SISWA!D80=0,\"\",SISWA!D80)","v":"073-"},{"$f":"IF(SISWA!E80=0,\"\",SISWA!E80)","v":""},null,null,null,null,null,{"$error":"#DIV/0!"},null,null,{"$error":"#DIV/0!"}]
[74,{"$f":"IF(SISWA!B81=0,\"\",SISWA!B81)","v":""},{"$f":"IF(SISWA!C81=0,\"\",SISWA!C81)","v":""},{"$f":"IF(SISWA!D81=0,\"\",SISWA!D81)","v":"074-"},{"$f":"IF(SISWA!E81=0,\"\",SISWA!E81)","v":""},null,null,null,null,null,{"$error":"#DIV/0!"},null,null,{"$error":"#DIV/0!"}]
[75,{"$f":"IF(SISWA!B82=0,\"\",SISWA!B82)","v":""},{"$f":"IF(SISWA!C82=0,\"\",SISWA!C82)","v":""},{"$f":"IF(SISWA!D82=0,\"\",SISWA!D82)","v":"075-"},{"$f":"IF(SISWA!E82=0,\"\",SISWA!E82)","v":""},null,null,null,null,null,{"$error":"#DIV/0!"},null,null,{"$error":"#DIV/0!"}]
[76,{"$f":"IF(SISWA!B83=0,\"\",SISWA!B83)","v":""},{"$f":"IF(SISWA!C83=0,\"\",SISWA!C83)","v":""},{"$f":"IF(SISWA!D83=0,\"\",SISWA!D83)","v":"076-"},{"$f":"IF(SISWA!E83=0,\"\",SISWA!E83)","v":""},null,null,null,null,null,{"$error":"#DIV/0!"},null,null,{"$error":"#DIV/0!"}]
[77,{"$f":"IF(SISWA!B84=0,\"\",SISWA!B84)","v":""},{"$f":"IF(SISWA!C84=0,\"\",SISWA!C84)","v":""},{"$f":"IF(SISWA!D84=0,\"\",SISWA!D84)","v":"077-"},{"$f":"IF(SISWA!E84=0,\"\",SISWA!E84)","v":""},null,null,null,null,null,{"$error":"#DIV/0!"},null,null,{"$error":"#DIV/0!"}]
[78,{"$f":"IF(SISWA!B85=0,\"\",SISWA!B85)","v":""},{"$f":"IF(SISWA!C85=0,\"\",SISWA!C85)","v":""},{"$f":"IF(SISWA!D85=0,\"\",SISWA!D85)","v":"078-"},{"$f":"IF(SISWA!E85=0,\"\",SISWA!E85)","v":""},null,null,null,null,null,{"$error":"#DIV/0!"},null,null,{"$error":"#DIV/0!"}]
[79,{"$f":"IF(SISWA!B86=0,\"\",SISWA!B86)","v":""},{"$f":"IF(SISWA!C86=0,\"\",SISWA!C86)","v":""},{"$f":"IF(SISWA!D86=0,\"\",SISWA!D86)","v":"079-"},{"$f":"IF(SISWA!E86=0,\"\",SISWA!E86)","v":""},null,null,null,null,null,{"$error":"#DIV/0!"},null,null,{"$error":"#DIV/0!"}]
[80,{"$f":"IF(SISWA!B87=0,\"\",SISWA!B87)","v":""},{"$f":"IF(SISWA!C87=0,\"\",SISWA!C87)","v":""},{"$f":"IF(SISWA!D87=0,\"\",SISWA!D87)","v":"080-"},{"$f":"IF(SISWA!E87=0,\"\",SISWA!E87)","v":""},null,null,null,null,null,{"$error":"#DIV/0!"},null,null,{"$error":"#DIV/0!"}]
[81,{"$f":"IF(SISWA!B88=0,\"\",SISWA!B88)","v":""},{"$f":"IF(SISWA!C88=0,\"\",SISWA!C88)","v":""},{"$f":"IF(SISWA!D88=0,\"\",SISWA!D88)","v":"081-"},{"$f":"IF(SISWA!E88=0,\"\",SISWA!E88)","v":""},null,null,null,null,null,{"$error":"#DIV/0!"},null,null,{"$error":"#DIV/0!"}]
[82,{"$f":"IF(SISWA!B89=0,\"\",SISWA!B89)","v":""},{"$f":"IF(SISWA!C89=0,\"\",SISWA!C89)","v":""},{"$f":"IF(SISWA!D89=0,\"\",SISWA!D89)","v":"082-"},{"$f":"IF(SISWA!E89=0,\"\",SISWA!E89)","v":""},null,null,null,null,null,{"$error":"#DIV/0!"},null,null,{"$error":"#DIV/0!"}]
[83,{"$f":"IF(SISWA!B90=0,\"\",SISWA!B90)","v":""},{"$f":"IF(SISWA!C90=0,\"\",SISWA!C90)","v":""},{"$f":"IF(SISWA!D90=0,\"\",SISWA!D90)","v":"083-"},{"$f":"IF(SISWA!E90=0,\"\",SISWA!E90)","v":""},null,null,null,null,null,{"$error":"#DIV/0!"},null,null,{"$error":"#DIV/0!"}]
[84,{"$f":"IF(SISWA!B91=0,\"\",SISWA!B91)","v":""},{"$f":"IF(SISWA!C91=0,\"\",SISWA!C91)","v":""},{"$f":"IF(SISWA!D91=0,\"\",SISWA!D91)","v":"084-"},{"$f":"IF(SISWA!E91=0,\"\",SISWA!E91)","v":""},null,null,null,null,null,{"$error":"#DIV/0!"},null,null,{"$error":"#DIV/0!"}]
[85,{"$f":"IF(SISWA!B92=0,\"\",SISWA!B92)","v":""},{"$f":"IF(SISWA!C92=0,\"\",SISWA!C92)","v":""},{"$f":"IF(SISWA!D92=0,\"\",SISWA!D92)","v":"085-"},{"$f":"IF(SISWA!E92=0,\"\",SISWA!E92)","v":""},null,null,null,null,null,{"$error":"#DIV/0!"},null,null,{"$error":"#DIV/0!"}]
[86,{"$f":"IF(SISWA!B93=0,\"\",SISWA!B93)","v":""},{"$f":"IF(SISWA!C93=0,\"\",SISWA!C93)","v":""},{"$f":"IF(SISWA!D93=0,\"\",SISWA!D93)","v":"086-"},{"$f":"IF(SISWA!E93=0,\"\",SISWA!E93)","v":""},null,null,null,null,null,{"$error":"#DIV/0!"},null,null,{"$error":"#DIV/0!"}]
[87,{"$f":"IF(SISWA!B94=0,\"\",SISWA!B94)","v":""},{"$f":"IF(SISWA!C94=0,\"\",SISWA!C94)","v":""},{"$f":"IF(SISWA!D94=0,\"\",SISWA!D94)","v":"087-"},{"$f":"IF(SISWA!E94=0,\"\",SISWA!E94)","v":""},null,null,null,null,null,{"$error":"#DIV/0!"},null,null,{"$error":"#DIV/0!"}]
[88,{"$f":"IF(SISWA!B95=0,\"\",SISWA!B95)","v":""},{"$f":"IF(SISWA!C95=0,\"\",SISWA!C95)","v":""},{"$f":"IF(SISWA!D95=0,\"\",SISWA!D95)","v":"088-"},{"$f":"IF(SISWA!E95=0,\"\",SISWA!E95)","v":""},null,null,null,null,null,{"$error":"#DIV/0!"},null,null,{"$error":"#DIV/0!"}]
[89,{"$f":"IF(SISWA!B96=0,\"\",SISWA!B96)","v":""},{"$f":"IF(SISWA!C96=0,\"\",SISWA!C96)","v":""},{"$f":"IF(SISWA!D96=0,\"\",SISWA!D96)","v":"089-"},{"$f":"IF(SISWA!E96=0,\"\",SISWA!E96)","v":""},null,null,null,null,null,{"$error":"#DIV/0!"},null,null,{"$error":"#DIV/0!"}]
[90,{"$f":"IF(SISWA!B97=0,\"\",SISWA!B97)","v":""},{"$f":"IF(SISWA!C97=0,\"\",SISWA!C97)","v":""},{"$f":"IF(SISWA!D97=0,\"\",SISWA!D97)","v":"090-"},{"$f":"IF(SISWA!E97=0,\"\",SISWA!E97)","v":""},null,null,null,null,null,{"$error":"#DIV/0!"},null,null,{"$error":"#DIV/0!"}]
[91,{"$f":"IF(SISWA!B98=0,\"\",SISWA!B98)","v":""},{"$f":"IF(SISWA!C98=0,\"\",SISWA!C98)","v":""},{"$f":"IF(SISWA!D98=0,\"\",SISWA!D98)","v":"091-"},{"$f":"IF(SISWA!E98=0,\"\",SISWA!E98)","v":""},null,null,null,null,null,{"$error":"#DIV/0!"},null,null,{"$error":"#DIV/0!"}]
[92,{"$f":"IF(SISWA!B99=0,\"\",SISWA!B99)","v":""},{"$f":"IF(SISWA!C99=0,\"\",SISWA!C99)","v":""},{"$f":"IF(SISWA!D99=0,\"\",SISWA!D99)","v":"092-"},{"$f":"IF(SISWA!E99=0,\"\",SISWA!E99)","v":""},null,null,null,null,null,{"$error":"#DIV/0!"},null,null,{"$error":"#DIV/0!"}]
[93,{"$f":"IF(SISWA!B100=0,\"\",SISWA!B100)","v":""},{"$f":"IF(SISWA!C100=0,\"\",SISWA!C100)","v":""},{"$f":"IF(SISWA!D100=0,\"\",SISWA!D100)","v":"093-"},{"$f":"IF(SISWA!E100=0,\"\",SISWA!E100)","v":""},null,null,null,null,null,{"$error":"#DIV/0!"},null,null,{"$error":"#DIV/0!"}]
[94,{"$f":"IF(SISWA!B101=0,\"\",SISWA!B101)","v":""},{"$f":"IF(SISWA!C101=0,\"\",SISWA!C101)","v":""},{"$f":"IF(SISWA!D101=0,\"\",SISWA!D101)","v":"094-"},{"$f":"IF(SISWA!E101=0,\"\",SISWA!E101)","v":""},null,null,null,null,null,{"$error":"#DIV/0!"},null,null,{"$error":"#DIV/0!"}]
[95,{"$f":"IF(SISWA!B102=0,\"\",SISWA!B102)","v":""},{"$f":"IF(SISWA!C102=0,\"\",SISWA!C102)","v":""},{"$f":"IF(SISWA!D102=0,\"\",SISWA!D102)","v":"095-"},{"$f":"IF(SISWA!E102=0,\"\",SISWA!E102)","v":""},null,null,null,null,null,{"$error":"#DIV/0!"},null,null,{"$error":"#DIV/0!"}]
[96,{"$f":"IF(SISWA!B103=0,\"\",SISWA!B103)","v":""},{"$f":"IF(SISWA!C103=0,\"\",SISWA!C103)","v":""},{"$f":"IF(SISWA!D103=0,\"\",SISWA!D103)","v":"096-"},{"$f":"IF(SISWA!E103=0,\"\",SISWA!E103)","v":""},null,null,null,null,null,{"$error":"#DIV/0!"},null,null,{"$error":"#DIV/0!"}]
[97,{"$f":"IF(SISWA!B104=0,\"\",SISWA!B104)","v":""},{"$f":"IF(SISWA!C104=0,\"\",SISWA!C104)","v":""},{"$f":"IF(SISWA!D104=0,\"\",SISWA!D104)","v":"097-"},{"$f":"IF(SISWA!E104=0,\"\",SISWA!E104)","v":""},null,null,null,null,null,{"$error":"#DIV/0!"},null,null,{"$error":"#DIV/0!"}]
[98,{"$f":"IF(SISWA!B105=0,\"\",SISWA!B105)","v":""},{"$f":"IF(SISWA!C105=0,\"\",SISWA!C105)","v":""},{"$f":"IF(SISWA!D105=0,\"\",SISWA!D105)","v":"098-"},{"$f":"IF(SISWA!E105=0,\"\",SISWA!E105)","v":""},null,null,null,null,null,{"$error":"#DIV/0!"},null,null,{"$error":"#DIV/0!"}]
[99,{"$f":"IF(SISWA!B106=0,\"\",SISWA!B106)","v":""},{"$f":"IF(SISWA!C106=0,\"\",SISWA!C106)","v":""},{"$f":"IF(SISWA!D106=0,\"\",SISWA!D106)","v":"099-"},{"$f":"IF(SISWA!E106=0,\"\",SISWA!E106)","v":""},null,null,null,null,null,{"$error":"#DIV/0!"},null,null,{"$error":"#DIV/0!"}]
[100,{"$f":"IF(SISWA!B107=0,\"\",SISWA!B107)","v":""},{"$f":"IF(SISWA!C107=0,\"\",SISWA!C107)","v":""},{"$f":"IF(SISWA!D107=0,\"\",SISWA!D107)","v":"100-"},{"$f":"IF(SISWA!E107=0,\"\",SISWA!E107)","v":""},null,null,null,null,null,{"$error":"#DIV/0!"},null,null,{"$error":"#DIV/0!"}]
[101,{"$f":"IF(SISWA!B108=0,\"\",SISWA!B108)","v":""},{"$f":"IF(SISWA!C108=0,\"\",SISWA!C108)","v":""},{"$f":"IF(SISWA!D108=0,\"\",SISWA!D108)","v":"101-"},{"$f":"IF(SISWA!E108=0,\"\",SISWA!E108)","v":""},null,null,null,null,null,{"$error":"#DIV/0!"},null,null,{"$error":"#DIV/0!"}]
[102,{"$f":"IF(SISWA!B109=0,\"\",SISWA!B109)","v":""},{"$f":"IF(SISWA!C109=0,\"\",SISWA!C109)","v":""},{"$f":"IF(SISWA!D109=0,\"\",SISWA!D109)","v":"102-"},{"$f":"IF(SISWA!E109=0,\"\",SISWA!E109)","v":""},null,null,null,null,null,{"$error":"#DIV/0!"},null,null,{"$error":"#DIV/0!"}]
[103,{"$f":"IF(SISWA!B110=0,\"\",SISWA!B110)","v":""},{"$f":"IF(SISWA!C110=0,\"\",SISWA!C110)","v":""},{"$f":"IF(SISWA!D110=0,\"\",SISWA!D110)","v":"103-"},{"$f":"IF(SISWA!E110=0,\"\",SISWA!E110)","v":""},null,null,null,null,null,{"$error":"#DIV/0!"},null,null,{"$error":"#DIV/0!"}]
[104,{"$f":"IF(SISWA!B111=0,\"\",SISWA!B111)","v":""},{"$f":"IF(SISWA!C111=0,\"\",SISWA!C111)","v":""},{"$f":"IF(SISWA!D111=0,\"\",SISWA!D111)","v":"104-"},{"$f":"IF(SISWA!E111=0,\"\",SISWA!E111)","v":""},null,null,null,null,null,{"$error":"#DIV/0!"},null,null,{"$error":"#DIV/0!"}]
[105,{"$f":"IF(SISWA!B112=0,\"\",SISWA!B112)","v":""},{"$f":"IF(SISWA!C112=0,\"\",SISWA!C112)","v":""},{"$f":"IF(SISWA!D112=0,\"\",SISWA!D112)","v":"105-"},{"$f":"IF(SISWA!E112=0,\"\",SISWA!E112)","v":""},null,null,null,null,null,{"$error":"#DIV/0!"},null,null,{"$error":"#DIV/0!"}]
[106,{"$f":"IF(SISWA!B113=0,\"\",SISWA!B113)","v":""},{"$f":"IF(SISWA!C113=0,\"\",SISWA!C113)","v":""},{"$f":"IF(SISWA!D113=0,\"\",SISWA!D113)","v":"106-"},{"$f":"IF(SISWA!E113=0,\"\",SISWA!E113)","v":""},null,null,null,null,null,{"$error":"#DIV/0!"},null,null,{"$error":"#DIV/0!"}]
[107,{"$f":"IF(SISWA!B114=0,\"\",SISWA!B114)","v":""},{"$f":"IF(SISWA!C114=0,\"\",SISWA!C114)","v":""},{"$f":"IF(SISWA!D114=0,\"\",SISWA!D114)","v":"107-"},{"$f":"IF(SISWA!E114=0,\"\",SISWA!E114)","v":""},null,null,null,null,null,{"$error":"#DIV/0!"},null,null,{"$error":"#DIV/0!"}]
[108,{"$f":"IF(SISWA!B115=0,\"\",SISWA!B115)","v":""},{"$f":"IF(SISWA!C115=0,\"\",SISWA!C115)","v":""},{"$f":"IF(SISWA!D115=0,\"\",SISWA!D115)","v":"108-"},{"$f":"IF(SISWA!E115=0,\"\",SISWA!E115)","v":""},null,null,null,null,null,{"$error":"#DIV/0!"},null,null,{"$error":"#DIV/0!"}]
[109,{"$f":"IF(SISWA!B116=0,\"\",SISWA!B116)","v":""},{"$f":"IF(SISWA!C116=0,\"\",SISWA!C116)","v":""},{"$f":"IF(SISWA!D116=0,\"\",SISWA!D116)","v":"109-"},{"$f":"IF(SISWA!E116=0,\"\",SISWA!E116)","v":""},null,null,null,null,null,{"$error":"#DIV/0!"},null,null,{"$error":"#DIV/0!"}]
[110,{"$f":"IF(SISWA!B117=0,\"\",SISWA!B117)","v":""},{"$f":"IF(SISWA!C117=0,\"\",SISWA!C117)","v":""},{"$f":"IF(SISWA!D117=0,\"\",SISWA!D117)","v":"110-"},{"$f":"IF(SISWA!E117=0,\"\",SISWA!E117)","v":""},null,null,null,null,null,{"$error":"#DIV/0!"},null,null,{"$error":"#DIV/0!"}]
[111,{"$f":"IF(SISWA!B118=0,\"\",SISWA!B118)","v":""},{"$f":"IF(SISWA!C118=0,\"\",SISWA!C118)","v":""},{"$f":"IF(SISWA!D118=0,\"\",SISWA!D118)","v":"111-"},{"$f":"IF(SISWA!E118=0,\"\",SISWA!E118)","v":""},null,null,null,null,null,{"$error":"#DIV/0!"},null,null,{"$error":"#DIV/0!"}]
[112,{"$f":"IF(SISWA!B119=0,\"\",SISWA!B119)","v":""},{"$f":"IF(SISWA!C119=0,\"\",SISWA!C119)","v":""},{"$f":"IF(SISWA!D119=0,\"\",SISWA!D119)","v":"112-"},{"$f":"IF(SISWA!E119=0,\"\",SISWA!E119)","v":""},null,null,null,null,null,{"$error":"#DIV/0!"},null,null,{"$error":"#DIV/0!"}]
[113,{"$f":"IF(SISWA!B120=0,\"\",SISWA!B120)","v":""},{"$f":"IF(SISWA!C120=0,\"\",SISWA!C120)","v":""},{"$f":"IF(SISWA!D120=0,\"\",SISWA!D120)","v":"113-"},{"$f":"IF(SISWA!E120=0,\"\",SISWA!E120)","v":""},null,null,null,null,null,{"$error":"#DIV/0!"},null,null,{"$error":"#DIV/0!"}]
[114,{"$f":"IF(SISWA!B121=0,\"\",SISWA!B121)","v":""},{"$f":"IF(SISWA!C121=0,\"\",SISWA!C121)","v":""},{"$f":"IF(SISWA!D121=0,\"\",SISWA!D121)","v":"114-"},{"$f":"IF(SISWA!E121=0,\"\",SISWA!E121)","v":""},null,null,null,null,null,{"$error":"#DIV/0!"},null,null,{"$error":"#DIV/0!"}]
[115,{"$f":"IF(SISWA!B122=0,\"\",SISWA!B122)","v":""},{"$f":"IF(SISWA!C122=0,\"\",SISWA!C122)","v":""},{"$f":"IF(SISWA!D122=0,\"\",SISWA!D122)","v":"115-"},{"$f":"IF(SISWA!E122=0,\"\",SISWA!E122)","v":""},null,null,null,null,null,{"$error":"#DIV/0!"},null,null,{"$error":"#DIV/0!"}]
[116,{"$f":"IF(SISWA!B123=0,\"\",SISWA!B123)","v":""},{"$f":"IF(SISWA!C123=0,\"\",SISWA!C123)","v":""},{"$f":"IF(SISWA!D123=0,\"\",SISWA!D123)","v":"116-"},{"$f":"IF(SISWA!E123=0,\"\",SISWA!E123)","v":""},null,null,null,null,null,{"$error":"#DIV/0!"},null,null,{"$error":"#DIV/0!"}]
[117,{"$f":"IF(SISWA!B124=0,\"\",SISWA!B124)","v":""},{"$f":"IF(SISWA!C124=0,\"\",SISWA!C124)","v":""},{"$f":"IF(SISWA!D124=0,\"\",SISWA!D124)","v":"117-"},{"$f":"IF(SISWA!E124=0,\"\",SISWA!E124)","v":""},null,null,null,null,null,{"$error":"#DIV/0!"},null,null,{"$error":"#DIV/0!"}]
[118,{"$f":"IF(SISWA!B125=0,\"\",SISWA!B125)","v":""},{"$f":"IF(SISWA!C125=0,\"\",SISWA!C125)","v":""},{"$f":"IF(SISWA!D125=0,\"\",SISWA!D125)","v":"118-"},{"$f":"IF(SISWA!E125=0,\"\",SISWA!E125)","v":""},null,null,null,null,null,{"$error":"#DIV/0!"},null,null,{"$error":"#DIV/0!"}]
[119,{"$f":"IF(SISWA!B126=0,\"\",SISWA!B126)","v":""},{"$f":"IF(SISWA!C126=0,\"\",SISWA!C126)","v":""},{"$f":"IF(SISWA!D126=0,\"\",SISWA!D126)","v":"119-"},{"$f":"IF(SISWA!E126=0,\"\",SISWA!E126)","v":""},null,null,null,null,null,{"$error":"#DIV/0!"},null,null,{"$error":"#DIV/0!"}]
[120,{"$f":"IF(SISWA!B127=0,\"\",SISWA!B127)","v":""},{"$f":"IF(SISWA!C127=0,\"\",SISWA!C127)","v":""},{"$f":"IF(SISWA!D127=0,\"\",SISWA!D127)","v":"120-"},{"$f":"IF(SISWA!E127=0,\"\",SISWA!E127)","v":""},null,null,null,null,null,{"$error":"#DIV/0!"},null,null,{"$error":"#DIV/0!"}]
[121,{"$f":"IF(SISWA!B128=0,\"\",SISWA!B128)","v":""},{"$f":"IF(SISWA!C128=0,\"\",SISWA!C128)","v":""},{"$f":"IF(SISWA!D128=0,\"\",SISWA!D128)","v":"121-"},{"$f":"IF(SISWA!E128=0,\"\",SISWA!E128)","v":""},null,null,null,null,null,{"$error":"#DIV/0!"},null,null,{"$error":"#DIV/0!"}]
[122,{"$f":"IF(SISWA!B129=0,\"\",SISWA!B129)","v":""},{"$f":"IF(SISWA!C129=0,\"\",SISWA!C129)","v":""},{"$f":"IF(SISWA!D129=0,\"\",SISWA!D129)","v":"122-"},{"$f":"IF(SISWA!E129=0,\"\",SISWA!E129)","v":""},null,null,null,null,null,{"$error":"#DIV/0!"},null,null,{"$error":"#DIV/0!"}]
[123,{"$f":"IF(SISWA!B130=0,\"\",SISWA!B130)","v":""},{"$f":"IF(SISWA!C130=0,\"\",SISWA!C130)","v":""},{"$f":"IF(SISWA!D130=0,\"\",SISWA!D130)","v":"123-"},{"$f":"IF(SISWA!E130=0,\"\",SISWA!E130)","v":""},null,null,null,null,null,{"$error":"#DIV/0!"},null,null,{"$error":"#DIV/0!"}]
[124,{"$f":"IF(SISWA!B131=0,\"\",SISWA!B131)","v":""},{"$f":"IF(SISWA!C131=0,\"\",SISWA!C131)","v":""},{"$f":"IF(SISWA!D131=0,\"\",SISWA!D131)","v":"124-"},{"$f":"IF(SISWA!E131=0,\"\",SISWA!E131)","v":""},null,null,null,null,null,{"$error":"#DIV/0!"},null,null,{"$error":"#DIV/0!"}]
[125,{"$f":"IF(SISWA!B132=0,\"\",SISWA!B132)","v":""},{"$f":"IF(SISWA!C132=0,\"\",SISWA!C132)","v":""},{"$f":"IF(SISWA!D132=0,\"\",SISWA!D132)","v":"125-"},{"$f":"IF(SISWA!E132=0,\"\",SISWA!E132)","v":""},null,null,null,null,null,{"$f":"AVERAGE(F132:J132)","v":{"$error":"#DIV/0!"}},null,null,{"$error":"#DIV/0!"}]
[126,{"$f":"IF(SISWA!B133=0,\"\",SISWA!B133)","v":""},{"$f":"IF(SISWA!C133=0,\"\",SISWA!C133)","v":""},{"$f":"IF(SISWA!D133=0,\"\",SISWA!D133)","v":"126-"},{"$f":"IF(SISWA!E133=0,\"\",SISWA!E133)","v":""},null,null,null,null,null,{"$error":"#DIV/0!"},null,null,{"$error":"#DIV/0!"}]
[127,{"$f":"IF(SISWA!B134=0,\"\",SISWA!B134)","v":""},{"$f":"IF(SISWA!C134=0,\"\",SISWA!C134)","v":""},{"$f":"IF(SISWA!D134=0,\"\",SISWA!D134)","v":"127-"},{"$f":"IF(SISWA!E134=0,\"\",SISWA!E134)","v":""},null,null,null,null,null,{"$error":"#DIV/0!"},null,null,{"$error":"#DIV/0!"}]
[128,{"$f":"IF(SISWA!B135=0,\"\",SISWA!B135)","v":""},{"$f":"IF(SISWA!C135=0,\"\",SISWA!C135)","v":""},{"$f":"IF(SISWA!D135=0,\"\",SISWA!D135)","v":"128-"},{"$f":"IF(SISWA!E135=0,\"\",SISWA!E135)","v":""},null,null,null,null,null,{"$error":"#DIV/0!"},null,null,{"$error":"#DIV/0!"}]
[129,{"$f":"IF(SISWA!B136=0,\"\",SISWA!B136)","v":""},{"$f":"IF(SISWA!C136=0,\"\",SISWA!C136)","v":""},{"$f":"IF(SISWA!D136=0,\"\",SISWA!D136)","v":"129-"},{"$f":"IF(SISWA!E136=0,\"\",SISWA!E136)","v":""},null,null,null,null,null,{"$error":"#DIV/0!"},null,null,{"$error":"#DIV/0!"}]
[130,{"$f":"IF(SISWA!B137=0,\"\",SISWA!B137)","v":""},{"$f":"IF(SISWA!C137=0,\"\",SISWA!C137)","v":""},{"$f":"IF(SISWA!D137=0,\"\",SISWA!D137)","v":"130-"},{"$f":"IF(SISWA!E137=0,\"\",SISWA!E137)","v":""},null,null,null,null,null,{"$error":"#DIV/0!"},null,null,{"$f":"AVERAGE(K137:L137)","v":{"$error":"#DIV/0!"}}]
[131,{"$f":"IF(SISWA!B138=0,\"\",SISWA!B138)","v":""},{"$f":"IF(SISWA!C138=0,\"\",SISWA!C138)","v":""},{"$f":"IF(SISWA!D138=0,\"\",SISWA!D138)","v":"131-"},{"$f":"IF(SISWA!E138=0,\"\",SISWA!E138)","v":""},null,null,null,null,null,{"$error":"#DIV/0!"},null,null,{"$error":"#DIV/0!"}]
[132,{"$f":"IF(SISWA!B139=0,\"\",SISWA!B139)","v":""},{"$f":"IF(SISWA!C139=0,\"\",SISWA!C139)","v":""},{"$f":"IF(SISWA!D139=0,\"\",SISWA!D139)","v":"132-"},{"$f":"IF(SISWA!E139=0,\"\",SISWA!E139)","v":""},null,null,null,null,null,{"$error":"#DIV/0!"},null,null,{"$error":"#DIV/0!"}]
[133,{"$f":"IF(SISWA!B140=0,\"\",SISWA!B140)","v":""},{"$f":"IF(SISWA!C140=0,\"\",SISWA!C140)","v":""},{"$f":"IF(SISWA!D140=0,\"\",SISWA!D140)","v":"133-"},{"$f":"IF(SISWA!E140=0,\"\",SISWA!E140)","v":""},null,null,null,null,null,{"$error":"#DIV/0!"},null,null,{"$error":"#DIV/0!"}]
[134,{"$f":"IF(SISWA!B141=0,\"\",SISWA!B141)","v":""},{"$f":"IF(SISWA!C141=0,\"\",SISWA!C141)","v":""},{"$f":"IF(SISWA!D141=0,\"\",SISWA!D141)","v":"134-"},{"$f":"IF(SISWA!E141=0,\"\",SISWA!E141)","v":""},null,null,null,null,null,{"$error":"#DIV/0!"},null,null,{"$error":"#DIV/0!"}]
[135,{"$f":"IF(SISWA!B142=0,\"\",SISWA!B142)","v":""},{"$f":"IF(SISWA!C142=0,\"\",SISWA!C142)","v":""},{"$f":"IF(SISWA!D142=0,\"\",SISWA!D142)","v":"135-"},{"$f":"IF(SISWA!E142=0,\"\",SISWA!E142)","v":""},null,null,null,null,null,{"$error":"#DIV/0!"},null,null,{"$error":"#DIV/0!"}]
[136,{"$f":"IF(SISWA!B143=0,\"\",SISWA!B143)","v":""},{"$f":"IF(SISWA!C143=0,\"\",SISWA!C143)","v":""},{"$f":"IF(SISWA!D143=0,\"\",SISWA!D143)","v":"136-"},{"$f":"IF(SISWA!E143=0,\"\",SISWA!E143)","v":""},null,null,null,null,null,{"$error":"#DIV/0!"},null,null,{"$error":"#DIV/0!"}]
[137,{"$f":"IF(SISWA!B144=0,\"\",SISWA!B144)","v":""},{"$f":"IF(SISWA!C144=0,\"\",SISWA!C144)","v":""},{"$f":"IF(SISWA!D144=0,\"\",SISWA!D144)","v":"137-"},{"$f":"IF(SISWA!E144=0,\"\",SISWA!E144)","v":""},null,null,null,null,null,{"$error":"#DIV/0!"},null,null,{"$error":"#DIV/0!"}]
[138,{"$f":"IF(SISWA!B145=0,\"\",SISWA!B145)","v":""},{"$f":"IF(SISWA!C145=0,\"\",SISWA!C145)","v":""},{"$f":"IF(SISWA!D145=0,\"\",SISWA!D145)","v":"138-"},{"$f":"IF(SISWA!E145=0,\"\",SISWA!E145)","v":""},null,null,null,null,null,{"$error":"#DIV/0!"},null,null,{"$error":"#DIV/0!"}]
[139,{"$f":"IF(SISWA!B146=0,\"\",SISWA!B146)","v":""},{"$f":"IF(SISWA!C146=0,\"\",SISWA!C146)","v":""},{"$f":"IF(SISWA!D146=0,\"\",SISWA!D146)","v":"139-"},{"$f":"IF(SISWA!E146=0,\"\",SISWA!E146)","v":""},null,null,null,null,null,{"$error":"#DIV/0!"},null,null,{"$error":"#DIV/0!"}]
[140,{"$f":"IF(SISWA!B147=0,\"\",SISWA!B147)","v":""},{"$f":"IF(SISWA!C147=0,\"\",SISWA!C147)","v":""},{"$f":"IF(SISWA!D147=0,\"\",SISWA!D147)","v":"140-"},{"$f":"IF(SISWA!E147=0,\"\",SISWA!E147)","v":""},null,null,null,null,null,{"$error":"#DIV/0!"},null,null,{"$error":"#DIV/0!"}]
[141,{"$f":"IF(SISWA!B148=0,\"\",SISWA!B148)","v":""},{"$f":"IF(SISWA!C148=0,\"\",SISWA!C148)","v":""},{"$f":"IF(SISWA!D148=0,\"\",SISWA!D148)","v":"141-"},{"$f":"IF(SISWA!E148=0,\"\",SISWA!E148)","v":""},null,null,null,null,null,{"$error":"#DIV/0!"},null,null,{"$error":"#DIV/0!"}]
[142,{"$f":"IF(SISWA!B149=0,\"\",SISWA!B149)","v":""},{"$f":"IF(SISWA!C149=0,\"\",SISWA!C149)","v":""},{"$f":"IF(SISWA!D149=0,\"\",SISWA!D149)","v":"142-"},{"$f":"IF(SISWA!E149=0,\"\",SISWA!E149)","v":""},null,null,null,null,null,{"$error":"#DIV/0!"},null,null,{"$error":"#DIV/0!"}]
[143,{"$f":"IF(SISWA!B150=0,\"\",SISWA!B150)","v":""},{"$f":"IF(SISWA!C150=0,\"\",SISWA!C150)","v":""},{"$f":"IF(SISWA!D150=0,\"\",SISWA!D150)","v":"143-"},{"$f":"IF(SISWA!E150=0,\"\",SISWA!E150)","v":""},null,null,null,null,null,{"$error":"#DIV/0!"},null,null,{"$error":"#DIV/0!"}]
[144,{"$f":"IF(SISWA!B151=0,\"\",SISWA!B151)","v":""},{"$f":"IF(SISWA!C151=0,\"\",SISWA!C151)","v":""},{"$f":"IF(SISWA!D151=0,\"\",SISWA!D151)","v":"144-"},{"$f":"IF(SISWA!E151=0,\"\",SISWA!E151)","v":""},null,null,null,null,null,{"$error":"#DIV/0!"},null,null,{"$error":"#DIV/0!"}]
[145,{"$f":"IF(SISWA!B152=0,\"\",SISWA!B152)","v":""},{"$f":"IF(SISWA!C152=0,\"\",SISWA!C152)","v":""},{"$f":"IF(SISWA!D152=0,\"\",SISWA!D152)","v":"145-"},{"$f":"IF(SISWA!E152=0,\"\",SISWA!E152)","v":""},null,null,null,null,null,{"$error":"#DIV/0!"},null,null,{"$error":"#DIV/0!"}]
[146,{"$f":"IF(SISWA!B153=0,\"\",SISWA!B153)","v":""},{"$f":"IF(SISWA!C153=0,\"\",SISWA!C153)","v":""},{"$f":"IF(SISWA!D153=0,\"\",SISWA!D153)","v":"146-"},{"$f":"IF(SISWA!E153=0,\"\",SISWA!E153)","v":""},null,null,null,null,null,{"$error":"#DIV/0!"},null,null,{"$error":"#DIV/0!"}]
[147,{"$f":"IF(SISWA!B154=0,\"\",SISWA!B154)","v":""},{"$f":"IF(SISWA!C154=0,\"\",SISWA!C154)","v":""},{"$f":"IF(SISWA!D154=0,\"\",SISWA!D154)","v":"147-"},{"$f":"IF(SISWA!E154=0,\"\",SISWA!E154)","v":""},null,null,null,null,null,{"$error":"#DIV/0!"},null,null,{"$error":"#DIV/0!"}]
[148,{"$f":"IF(SISWA!B155=0,\"\",SISWA!B155)","v":""},{"$f":"IF(SISWA!C155=0,\"\",SISWA!C155)","v":""},{"$f":"IF(SISWA!D155=0,\"\",SISWA!D155)","v":"148-"},{"$f":"IF(SISWA!E155=0,\"\",SISWA!E155)","v":""},null,null,null,null,null,{"$error":"#DIV/0!"},null,null,{"$error":"#DIV/0!"}]
[149,{"$f":"IF(SISWA!B156=0,\"\",SISWA!B156)","v":""},{"$f":"IF(SISWA!C156=0,\"\",SISWA!C156)","v":""},{"$f":"IF(SISWA!D156=0,\"\",SISWA!D156)","v":"149-"},{"$f":"IF(SISWA!E156=0,\"\",SISWA!E156)","v":""},null,null,null,null,null,{"$error":"#DIV/0!"},null,null,{"$error":"#DIV/0!"}]
[150,{"$f":"IF(SISWA!B157=0,\"\",SISWA!B157)","v":""},{"$f":"IF(SISWA!C157=0,\"\",SISWA!C157)","v":""},{"$f":"IF(SISWA!D157=0,\"\",SISWA!D157)","v":"150-"},{"$f":"IF(SISWA!E157=0,\"\",SISWA!E157)","v":""},null,null,null,null,null,{"$error":"#DIV/0!"},null,null,{"$error":"#DIV/0!"}]
[151,{"$f":"IF(SISWA!B158=0,\"\",SISWA!B158)","v":""},{"$f":"IF(SISWA!C158=0,\"\",SISWA!C158)","v":""},{"$f":"IF(SISWA!D158=0,\"\",SISWA!D158)","v":"151-"},{"$f":"IF(SISWA!E158=0,\"\",SISWA!E158)","v":""},null,null,null,null,null,{"$error":"#DIV/0!"},null,null,{"$error":"#DIV/0!"}]
[152,{"$f":"IF(SISWA!B159=0,\"\",SISWA!B159)","v":""},{"$f":"IF(SISWA!C159=0,\"\",SISWA!C159)","v":""},{"$f":"IF(SISWA!D159=0,\"\",SISWA!D159)","v":"152-"},{"$f":"IF(SISWA!E159=0,\"\",SISWA!E159)","v":""},null,null,null,null,null,{"$error":"#DIV/0!"},null,null,{"$error":"#DIV/0!"}]
[153,{"$f":"IF(SISWA!B160=0,\"\",SISWA!B160)","v":""},{"$f":"IF(SISWA!C160=0,\"\",SISWA!C160)","v":""},{"$f":"IF(SISWA!D160=0,\"\",SISWA!D160)","v":"153-"},{"$f":"IF(SISWA!E160=0,\"\",SISWA!E160)","v":""},null,null,null,null,null,{"$error":"#DIV/0!"},null,null,{"$error":"#DIV/0!"}]
[154,{"$f":"IF(SISWA!B161=0,\"\",SISWA!B161)","v":""},{"$f":"IF(SISWA!C161=0,\"\",SISWA!C161)","v":""},{"$f":"IF(SISWA!D161=0,\"\",SISWA!D161)","v":"154-"},{"$f":"IF(SISWA!E161=0,\"\",SISWA!E161)","v":""},null,null,null,null,null,{"$error":"#DIV/0!"},null,null,{"$error":"#DIV/0!"}]
[155,{"$f":"IF(SISWA!B162=0,\"\",SISWA!B162)","v":""},{"$f":"IF(SISWA!C162=0,\"\",SISWA!C162)","v":""},{"$f":"IF(SISWA!D162=0,\"\",SISWA!D162)","v":"155-"},{"$f":"IF(SISWA!E162=0,\"\",SISWA!E162)","v":""},null,null,null,null,null,{"$error":"#DIV/0!"},null,null,{"$error":"#DIV/0!"}]
[156,{"$f":"IF(SISWA!B163=0,\"\",SISWA!B163)","v":""},{"$f":"IF(SISWA!C163=0,\"\",SISWA!C163)","v":""},{"$f":"IF(SISWA!D163=0,\"\",SISWA!D163)","v":"156-"},{"$f":"IF(SISWA!E163=0,\"\",SISWA!E163)","v":""},null,null,null,null,null,{"$error":"#DIV/0!"},null,null,{"$error":"#DIV/0!"}]
[157,{"$f":"IF(SISWA!B164=0,\"\",SISWA!B164)","v":""},{"$f":"IF(SISWA!C164=0,\"\",SISWA!C164)","v":""},{"$f":"IF(SISWA!D164=0,\"\",SISWA!D164)","v":"157-"},{"$f":"IF(SISWA!E164=0,\"\",SISWA!E164)","v":""},null,null,null,null,null,{"$error":"#DIV/0!"},null,null,{"$error":"#DIV/0!"}]
[158,{"$f":"IF(SISWA!B165=0,\"\",SISWA!B165)","v":""},{"$f":"IF(SISWA!C165=0,\"\",SISWA!C165)","v":""},{"$f":"IF(SISWA!D165=0,\"\",SISWA!D165)","v":"158-"},{"$f":"IF(SISWA!E165=0,\"\",SISWA!E165)","v":""},null,null,null,null,null,{"$error":"#DIV/0!"},null,null,{"$error":"#DIV/0!"}]
[159,{"$f":"IF(SISWA!B166=0,\"\",SISWA!B166)","v":""},{"$f":"IF(SISWA!C166=0,\"\",SISWA!C166)","v":""},{"$f":"IF(SISWA!D166=0,\"\",SISWA!D166)","v":"159-"},{"$f":"IF(SISWA!E166=0,\"\",SISWA!E166)","v":""},null,null,null,null,null,{"$error":"#DIV/0!"},null,null,{"$error":"#DIV/0!"}]
[160,{"$f":"IF(SISWA!B167=0,\"\",SISWA!B167)","v":""},{"$f":"IF(SISWA!C167=0,\"\",SISWA!C167)","v":""},{"$f":"IF(SISWA!D167=0,\"\",SISWA!D167)","v":"160-"},{"$f":"IF(SISWA!E167=0,\"\",SISWA!E167)","v":""},null,null,null,null,null,{"$error":"#DIV/0!"},null,null,{"$error":"#DIV/0!"}]
[161,{"$f":"IF(SISWA!B168=0,\"\",SISWA!B168)","v":""},{"$f":"IF(SISWA!C168=0,\"\",SISWA!C168)","v":""},{"$f":"IF(SISWA!D168=0,\"\",SISWA!D168)","v":"161-"},{"$f":"IF(SISWA!E168=0,\"\",SISWA!E168)","v":""},null,null,null,null,null,{"$error":"#DIV/0!"},null,null,{"$error":"#DIV/0!"}]
[162,{"$f":"IF(SISWA!B169=0,\"\",SISWA!B169)","v":""},{"$f":"IF(SISWA!C169=0,\"\",SISWA!C169)","v":""},{"$f":"IF(SISWA!D169=0,\"\",SISWA!D169)","v":"162-"},{"$f":"IF(SISWA!E169=0,\"\",SISWA!E169)","v":""},null,null,null,null,null,{"$error":"#DIV/0!"},null,null,{"$error":"#DIV/0!"}]
[163,{"$f":"IF(SISWA!B170=0,\"\",SISWA!B170)","v":""},{"$f":"IF(SISWA!C170=0,\"\",SISWA!C170)","v":""},{"$f":"IF(SISWA!D170=0,\"\",SISWA!D170)","v":"163-"},{"$f":"IF(SISWA!E170=0,\"\",SISWA!E170)","v":""},null,null,null,null,null,{"$error":"#DIV/0!"},null,null,{"$error":"#DIV/0!"}]
[164,{"$f":"IF(SISWA!B171=0,\"\",SISWA!B171)","v":""},{"$f":"IF(SISWA!C171=0,\"\",SISWA!C171)","v":""},{"$f":"IF(SISWA!D171=0,\"\",SISWA!D171)","v":"164-"},{"$f":"IF(SISWA!E171=0,\"\",SISWA!E171)","v":""},null,null,null,null,null,{"$error":"#DIV/0!"},null,null,{"$error":"#DIV/0!"}]
[165,{"$f":"IF(SISWA!B172=0,\"\",SISWA!B172)","v":""},{"$f":"IF(SISWA!C172=0,\"\",SISWA!C172)","v":""},{"$f":"IF(SISWA!D172=0,\"\",SISWA!D172)","v":"165-"},{"$f":"IF(SISWA!E172=0,\"\",SISWA!E172)","v":""},null,null,null,null,null,{"$error":"#DIV/0!"},null,null,{"$error":"#DIV/0!"}]
[166,{"$f":"IF(SISWA!B173=0,\"\",SISWA!B173)","v":""},{"$f":"IF(SISWA!C173=0,\"\",SISWA!C173)","v":""},{"$f":"IF(SISWA!D173=0,\"\",SISWA!D173)","v":"166-"},{"$f":"IF(SISWA!E173=0,\"\",SISWA!E173)","v":""},null,null,null,null,null,{"$error":"#DIV/0!"},null,null,{"$error":"#DIV/0!"}]
[167,{"$f":"IF(SISWA!B174=0,\"\",SISWA!B174)","v":""},{"$f":"IF(SISWA!C174=0,\"\",SISWA!C174)","v":""},{"$f":"IF(SISWA!D174=0,\"\",SISWA!D174)","v":"167-"},{"$f":"IF(SISWA!E174=0,\"\",SISWA!E174)","v":""},null,null,null,null,null,{"$error":"#DIV/0!"},null,null,{"$error":"#DIV/0!"}]
[168,{"$f":"IF(SISWA!B175=0,\"\",SISWA!B175)","v":""},{"$f":"IF(SISWA!C175=0,\"\",SISWA!C175)","v":""},{"$f":"IF(SISWA!D175=0,\"\",SISWA!D175)","v":"168-"},{"$f":"IF(SISWA!E175=0,\"\",SISWA!E175)","v":""},null,null,null,null,null,{"$error":"#DIV/0!"},null,null,{"$error":"#DIV/0!"}]
[169,{"$f":"IF(SISWA!B176=0,\"\",SISWA!B176)","v":""},{"$f":"IF(SISWA!C176=0,\"\",SISWA!C176)","v":""},{"$f":"IF(SISWA!D176=0,\"\",SISWA!D176)","v":"169-"},{"$f":"IF(SISWA!E176=0,\"\",SISWA!E176)","v":""},null,null,null,null,null,{"$error":"#DIV/0!"},null,null,{"$error":"#DIV/0!"}]
[170,{"$f":"IF(SISWA!B177=0,\"\",SISWA!B177)","v":""},{"$f":"IF(SISWA!C177=0,\"\",SISWA!C177)","v":""},{"$f":"IF(SISWA!D177=0,\"\",SISWA!D177)","v":"170-"},{"$f":"IF(SISWA!E177=0,\"\",SISWA!E177)","v":""},null,null,null,null,null,{"$error":"#DIV/0!"},null,null,{"$error":"#DIV/0!"}]
[171,{"$f":"IF(SISWA!B178=0,\"\",SISWA!B178)","v":""},{"$f":"IF(SISWA!C178=0,\"\",SISWA!C178)","v":""},{"$f":"IF(SISWA!D178=0,\"\",SISWA!D178)","v":"171-"},{"$f":"IF(SISWA!E178=0,\"\",SISWA!E178)","v":""},null,null,null,null,null,{"$error":"#DIV/0!"},null,null,{"$error":"#DIV/0!"}]
[172,{"$f":"IF(SISWA!B179=0,\"\",SISWA!B179)","v":""},{"$f":"IF(SISWA!C179=0,\"\",SISWA!C179)","v":""},{"$f":"IF(SISWA!D179=0,\"\",SISWA!D179)","v":"172-"},{"$f":"IF(SISWA!E179=0,\"\",SISWA!E179)","v":""},null,null,null,null,null,{"$error":"#DIV/0!"},null,null,{"$error":"#DIV/0!"}]
[173,{"$f":"IF(SISWA!B180=0,\"\",SISWA!B180)","v":""},{"$f":"IF(SISWA!C180=0,\"\",SISWA!C180)","v":""},{"$f":"IF(SISWA!D180=0,\"\",SISWA!D180)","v":"173-"},{"$f":"IF(SISWA!E180=0,\"\",SISWA!E180)","v":""},null,null,null,null,null,{"$error":"#DIV/0!"},null,null,{"$error":"#DIV/0!"}]
[174,{"$f":"IF(SISWA!B181=0,\"\",SISWA!B181)","v":""},{"$f":"IF(SISWA!C181=0,\"\",SISWA!C181)","v":""},{"$f":"IF(SISWA!D181=0,\"\",SISWA!D181)","v":"174-"},{"$f":"IF(SISWA!E181=0,\"\",SISWA!E181)","v":""},null,null,null,null,null,{"$error":"#DIV/0!"},null,null,{"$error":"#DIV/0!"}]
[175,{"$f":"IF(SISWA!B182=0,\"\",SISWA!B182)","v":""},{"$f":"IF(SISWA!C182=0,\"\",SISWA!C182)","v":""},{"$f":"IF(SISWA!D182=0,\"\",SISWA!D182)","v":"175-"},{"$f":"IF(SISWA!E182=0,\"\",SISWA!E182)","v":""},null,null,null,null,null,{"$error":"#DIV/0!"},null,null,{"$error":"#DIV/0!"}]
[176,{"$f":"IF(SISWA!B183=0,\"\",SISWA!B183)","v":""},{"$f":"IF(SISWA!C183=0,\"\",SISWA!C183)","v":""},{"$f":"IF(SISWA!D183=0,\"\",SISWA!D183)","v":"176-"},{"$f":"IF(SISWA!E183=0,\"\",SISWA!E183)","v":""},null,null,null,null,null,{"$error":"#DIV/0!"},null,null,{"$error":"#DIV/0!"}]
[177,{"$f":"IF(SISWA!B184=0,\"\",SISWA!B184)","v":""},{"$f":"IF(SISWA!C184=0,\"\",SISWA!C184)","v":""},{"$f":"IF(SISWA!D184=0,\"\",SISWA!D184)","v":"177-"},{"$f":"IF(SISWA!E184=0,\"\",SISWA!E184)","v":""},null,null,null,null,null,{"$error":"#DIV/0!"},null,null,{"$error":"#DIV/0!"}]
[178,{"$f":"IF(SISWA!B185=0,\"\",SISWA!B185)","v":""},{"$f":"IF(SISWA!C185=0,\"\",SISWA!C185)","v":""},{"$f":"IF(SISWA!D185=0,\"\",SISWA!D185)","v":"178-"},{"$f":"IF(SISWA!E185=0,\"\",SISWA!E185)","v":""},null,null,null,null,null,{"$error":"#DIV/0!"},null,null,{"$error":"#DIV/0!"}]
[179,{"$f":"IF(SISWA!B186=0,\"\",SISWA!B186)","v":""},{"$f":"IF(SISWA!C186=0,\"\",SISWA!C186)","v":""},{"$f":"IF(SISWA!D186=0,\"\",SISWA!D186)","v":"179-"},{"$f":"IF(SISWA!E186=0,\"\",SISWA!E186)","v":""},null,null,null,null,null,{"$error":"#DIV/0!"},null,null,{"$error":"#DIV/0!"}]
[180,{"$f":"IF(SISWA!B187=0,\"\",SISWA!B187)","v":""},{"$f":"IF(SISWA!C187=0,\"\",SISWA!C187)","v":""},{"$f":"IF(SISWA!D187=0,\"\",SISWA!D187)","v":"180-"},{"$f":"IF(SISWA!E187=0,\"\",SISWA!E187)","v":""},null,null,null,null,null,{"$error":"#DIV/0!"},null,null,{"$error":"#DIV/0!"}]
[181,{"$f":"IF(SISWA!B188=0,\"\",SISWA!B188)","v":""},{"$f":"IF(SISWA!C188=0,\"\",SISWA!C188)","v":""},{"$f":"IF(SISWA!D188=0,\"\",SISWA!D188)","v":"181-"},{"$f":"IF(SISWA!E188=0,\"\",SISWA!E188)","v":""},null,null,null,null,null,{"$error":"#DIV/0!"},null,null,{"$error":"#DIV/0!"}]
[182,{"$f":"IF(SISWA!B189=0,\"\",SISWA!B189)","v":""},{"$f":"IF(SISWA!C189=0,\"\",SISWA!C189)","v":""},{"$f":"IF(SISWA!D189=0,\"\",SISWA!D189)","v":"182-"},{"$f":"IF(SISWA!E189=0,\"\",SISWA!E189)","v":""},null,null,null,null,null,{"$error":"#DIV/0!"},null,null,{"$error":"#DIV/0!"}]
[183,{"$f":"IF(SISWA!B190=0,\"\",SISWA!B190)","v":""},{"$f":"IF(SISWA!C190=0,\"\",SISWA!C190)","v":""},{"$f":"IF(SISWA!D190=0,\"\",SISWA!D190)","v":"183-"},{"$f":"IF(SISWA!E190=0,\"\",SISWA!E190)","v":""},null,null,null,null,null,{"$error":"#DIV/0!"},null,null,{"$error":"#DIV/0!"}]
[184,{"$f":"IF(SISWA!B191=0,\"\",SISWA!B191)","v":""},{"$f":"IF(SISWA!C191=0,\"\",SISWA!C191)","v":""},{"$f":"IF(SISWA!D191=0,\"\",SISWA!D191)","v":"184-"},{"$f":"IF(SISWA!E191=0,\"\",SISWA!E191)","v":""},null,null,null,null,null,{"$error":"#DIV/0!"},null,null,{"$error":"#DIV/0!"}]
[185,{"$f":"IF(SISWA!B192=0,\"\",SISWA!B192)","v":""},{"$f":"IF(SISWA!C192=0,\"\",SISWA!C192)","v":""},{"$f":"IF(SISWA!D192=0,\"\",SISWA!D192)","v":"185-"},{"$f":"IF(SISWA!E192=0,\"\",SISWA!E192)","v":""},null,null,null,null,null,{"$error":"#DIV/0!"},null,null,{"$error":"#DIV/0!"}]
[186,{"$f":"IF(SISWA!B193=0,\"\",SISWA!B193)","v":""},{"$f":"IF(SISWA!C193=0,\"\",SISWA!C193)","v":""},{"$f":"IF(SISWA!D193=0,\"\",SISWA!D193)","v":"186-"},{"$f":"IF(SISWA!E193=0,\"\",SISWA!E193)","v":""},null,null,null,null,null,{"$error":"#DIV/0!"},null,null,{"$error":"#DIV/0!"}]
[187,{"$f":"IF(SISWA!B194=0,\"\",SISWA!B194)","v":""},{"$f":"IF(SISWA!C194=0,\"\",SISWA!C194)","v":""},{"$f":"IF(SISWA!D194=0,\"\",SISWA!D194)","v":"187-"},{"$f":"IF(SISWA!E194=0,\"\",SISWA!E194)","v":""},null,null,null,null,null,{"$error":"#DIV/0!"},null,null,{"$error":"#DIV/0!"}]
[188,{"$f":"IF(SISWA!B195=0,\"\",SISWA!B195)","v":""},{"$f":"IF(SISWA!C195=0,\"\",SISWA!C195)","v":""},{"$f":"IF(SISWA!D195=0,\"\",SISWA!D195)","v":"188-"},{"$f":"IF(SISWA!E195=0,\"\",SISWA!E195)","v":""},null,null,null,null,null,{"$error":"#DIV/0!"},null,null,{"$error":"#DIV/0!"}]
[189,{"$f":"IF(SISWA!B196=0,\"\",SISWA!B196)","v":""},{"$f":"IF(SISWA!C196=0,\"\",SISWA!C196)","v":""},{"$f":"IF(SISWA!D196=0,\"\",SISWA!D196)","v":"189-"},{"$f":"IF(SISWA!E196=0,\"\",SISWA!E196)","v":""},null,null,null,null,null,{"$f":"AVERAGE(F196:J196)","v":{"$error":"#DIV/0!"}},null,null,{"$error":"#DIV/0!"}]
[190,{"$f":"IF(SISWA!B197=0,\"\",SISWA!B197)","v":""},{"$f":"IF(SISWA!C197=0,\"\",SISWA!C197)","v":""},{"$f":"IF(SISWA!D197=0,\"\",SISWA!D197)","v":"190-"},{"$f":"IF(SISWA!E197=0,\"\",SISWA!E197)","v":""},null,null,null,null,null,{"$error":"#DIV/0!"},null,null,{"$error":"#DIV/0!"}]
[191,{"$f":"IF(SISWA!B198=0,\"\",SISWA!B198)","v":""},{"$f":"IF(SISWA!C198=0,\"\",SISWA!C198)","v":""},{"$f":"IF(SISWA!D198=0,\"\",SISWA!D198)","v":"191-"},{"$f":"IF(SISWA!E198=0,\"\",SISWA!E198)","v":""},null,null,null,null,null,{"$error":"#DIV/0!"},null,null,{"$error":"#DIV/0!"}]
[192,{"$f":"IF(SISWA!B199=0,\"\",SISWA!B199)","v":""},{"$f":"IF(SISWA!C199=0,\"\",SISWA!C199)","v":""},{"$f":"IF(SISWA!D199=0,\"\",SISWA!D199)","v":"192-"},{"$f":"IF(SISWA!E199=0,\"\",SISWA!E199)","v":""},null,null,null,null,null,{"$error":"#DIV/0!"},null,null,{"$error":"#DIV/0!"}]
[193,{"$f":"IF(SISWA!B200=0,\"\",SISWA!B200)","v":""},{"$f":"IF(SISWA!C200=0,\"\",SISWA!C200)","v":""},{"$f":"IF(SISWA!D200=0,\"\",SISWA!D200)","v":"193-"},{"$f":"IF(SISWA!E200=0,\"\",SISWA!E200)","v":""},null,null,null,null,null,{"$error":"#DIV/0!"},null,null,{"$error":"#DIV/0!"}]
[194,{"$f":"IF(SISWA!B201=0,\"\",SISWA!B201)","v":""},{"$f":"IF(SISWA!C201=0,\"\",SISWA!C201)","v":""},{"$f":"IF(SISWA!D201=0,\"\",SISWA!D201)","v":"194-"},{"$f":"IF(SISWA!E201=0,\"\",SISWA!E201)","v":""},null,null,null,null,null,{"$error":"#DIV/0!"},null,null,{"$f":"AVERAGE(K201:L201)","v":{"$error":"#DIV/0!"}}]
[195,{"$f":"IF(SISWA!B202=0,\"\",SISWA!B202)","v":""},{"$f":"IF(SISWA!C202=0,\"\",SISWA!C202)","v":""},{"$f":"IF(SISWA!D202=0,\"\",SISWA!D202)","v":"195-"},{"$f":"IF(SISWA!E202=0,\"\",SISWA!E202)","v":""},null,null,null,null,null,{"$error":"#DIV/0!"},null,null,{"$error":"#DIV/0!"}]
[196,{"$f":"IF(SISWA!B203=0,\"\",SISWA!B203)","v":""},{"$f":"IF(SISWA!C203=0,\"\",SISWA!C203)","v":""},{"$f":"IF(SISWA!D203=0,\"\",SISWA!D203)","v":"196-"},{"$f":"IF(SISWA!E203=0,\"\",SISWA!E203)","v":""},null,null,null,null,null,{"$error":"#DIV/0!"},null,null,{"$error":"#DIV/0!"}]
[197,{"$f":"IF(SISWA!B204=0,\"\",SISWA!B204)","v":""},{"$f":"IF(SISWA!C204=0,\"\",SISWA!C204)","v":""},{"$f":"IF(SISWA!D204=0,\"\",SISWA!D204)","v":"197-"},{"$f":"IF(SISWA!E204=0,\"\",SISWA!E204)","v":""},null,null,null,null,null,{"$error":"#DIV/0!"},null,null,{"$error":"#DIV/0!"}]
[198,{"$f":"IF(SISWA!B205=0,\"\",SISWA!B205)","v":""},{"$f":"IF(SISWA!C205=0,\"\",SISWA!C205)","v":""},{"$f":"IF(SISWA!D205=0,\"\",SISWA!D205)","v":"198-"},{"$f":"IF(SISWA!E205=0,\"\",SISWA!E205)","v":""},null,null,null,null,null,{"$error":"#DIV/0!"},null,null,{"$error":"#DIV/0!"}]
[199,{"$f":"IF(SISWA!B206=0,\"\",SISWA!B206)","v":""},{"$f":"IF(SISWA!C206=0,\"\",SISWA!C206)","v":""},{"$f":"IF(SISWA!D206=0,\"\",SISWA!D206)","v":"199-"},{"$f":"IF(SISWA!E206=0,\"\",SISWA!E206)","v":""},null,null,null,null,null,{"$error":"#DIV/0!"},null,null,{"$error":"#DIV/0!"}]
[200,{"$f":"IF(SISWA!B207=0,\"\",SISWA!B207)","v":""},{"$f":"IF(SISWA!C207=0,\"\",SISWA!C207)","v":""},{"$f":"IF(SISWA!D207=0,\"\",SISWA!D207)","v":"200-"},{"$f":"IF(SISWA!E207=0,\"\",SISWA!E207)","v":""},null,null,null,null,null,{"$error":"#DIV/0!"},null,null,{"$error":"#DIV/0!"}]

{"sheet":"BA","index":9,"n_rows":207,"n_cols":15,"rows_kept":207,"cut":false,"hidden":false,"merged":[[4,14,6,14],[5,11,5,12],[0,0,0,9],[1,0,1,9],[2,0,2,9],[4,0,6,0],[4,1,6,1],[4,2,6,2],[4,3,6,3],[4,4,6,4],[4,5,4,12],[5,5,5,9]]}
["DAFTAR NILAI AKHIR SEKOLAH"]
[{"$f":"AA!A2","v":"MADRASAH IBTIDAIYAH NURUL ISLAM LABRUK KIDUL"}]
[{"$f":"AA!A3","v":"TAHUN PELAJARAN 2018/2019"}]
[]
["NO","No Induk","NISN","Nomor Peserta","Nama Peserta","BAHASA ARAB",null,null,null,null,null,null,null,null,"rata-rata UAM & PRAKTEK"]
[null,null,null,null,null,"Nilai Semester",null,null,null,null,"Rata- 2","NILAI UAMBD"]
[null,null,null,null,null,7,8,9,10,11,"Rapor","TULIS","PRAKTIK"]
[1,{"$f":"IF(SISWA!B8=0,\"\",SISWA!B8)","v":4270},{"$f":"IF(SISWA!C8=0,\"\",SISWA!C8)","v":"0067566336"},{"$f":"IF(SISWA!D8=0,\"\",SISWA!D8)","v":"1-18-05-80-162-001-9"},{"$f":"IF(SISWA!E8=0,\"\",SISWA!E8)","v":"ADITYA MAULA FANDY TAULANI"},81,82,76,81,81,{"$f":"AVERAGE(F8:J8)","v":80.2},65,{"$f":"K8","v":80.2},{"$f":"AVERAGE(L8:M8)","v":72.599999999999994},{"$f":"AVERAGE(L8:M8)","v":72.599999999999994}]
[2,{"$f":"IF(SISWA!B9=0,\"\",SISWA!B9)","v":4300},{"$f":"IF(SISWA!C9=0,\"\",SISWA!C9)","v":"0066364963"},{"$f":"IF(SISWA!D9=0,\"\",SISWA!D9)","v":"1-18-05-80-162-002-8"},{"$f":"IF(SISWA!E9=0,\"\",SISWA!E9)","v":"AHMAD FERDIAN ALAMSYAH"},69,75,72,64,79,{"$f":"AVERAGE(F9:J9)","v":71.8},65,{"$f":"K9","v":71.8},{"$f":"AVERAGE(L9:M9)","v":68.400000000000006},{"$f":"AVERAGE(L9:M9)","v":68.400000000000006}]
[3,{"$f":"IF(SISWA!B10=0,\"\",SISWA!B10)","v":4271},{"$f":"IF(SISWA!C10=0,\"\",SISWA!C10)","v":"0062805893"},{"$f":"IF(SISWA!D10=0,\"\",SISWA!D10)","v":"1-18-05-80-162-003-7"},{"$f":"IF(SISWA!E10=0,\"\",SISWA!E10)","v":"AHMAD RAMADHANI FADLULLOH"},74,75,72,76,82,75.8,65,75.8,70.400000000000006,70.400000000000006]
[4,{"$f":"IF(SISWA!B11=0,\"\",SISWA!B11)","v":4398},{"$f":"IF(SISWA!C11=0,\"\",SISWA!C11)","v":"0062399399"},{"$f":"IF(SISWA!D11=0,\"\",SISWA!D11)","v":"1-18-05-80-162-004-6"},{"$f":"IF(SISWA!E11=0,\"\",SISWA!E11)","v":"ANANDA AMILIA"},76,76,74,78,79,76.599999999999994,65,76.599999999999994,70.8,70.8]
[5,{"$f":"IF(SISWA!B12=0,\"\",SISWA!B12)","v":4272},{"$f":"IF(SISWA!C12=0,\"\",SISWA!C12)","v":"0071551428"},{"$f":"IF(SISWA!D12=0,\"\",SISWA!D12)","v":"1-18-05-80-162-005-5"},{"$f":"IF(SISWA!E12=0,\"\",SISWA!E12)","v":"ANDINI MAULID DWI LESTARI"},73,76,67,68,83,73.400000000000006,65,73.400000000000006,69.2,69.2]
[6,{"$f":"IF(SISWA!B13=0,\"\",SISWA!B13)","v":4301},{"$f":"IF(SISWA!C13=0,\"\",SISWA!C13)","v":"0061907599"},{"$f":"IF(SISWA!D13=0,\"\",SISWA!D13)","v":"1-18-05-80-162-006-4"},{"$f":"IF(SISWA!E13=0,\"\",SISWA!E13)","v":"ANDRIK YUSRI"},68,72,71,65,79,71,65,71,68,68]
[7,{"$f":"IF(SISWA!B14=0,\"\",SISWA!B14)","v":4273},{"$f":"IF(SISWA!C14=0,\"\",SISWA!C14)","v":"0067280519"},{"$f":"IF(SISWA!D14=0,\"\",SISWA!D14)","v":"1-18-05-80-162-007-3"},{"$f":"IF(SISWA!E14=0,\"\",SISWA!E14)","v":"DEWI SAKINAH ISWARA"},80,80,77,76,88,80.2,65,80.2,72.599999999999994,72.599999999999994]
[8,{"$f":"IF(SISWA!B15=0,\"\",SISWA!B15)","v":4307},{"$f":"IF(SISWA!C15=0,\"\",SISWA!C15)","v":"0066012198"},{"$f":"IF(SISWA!D15=0,\"\",SISWA!D15)","v":"1-18-05-80-162-008-2"},{"$f":"IF(SISWA!E15=0,\"\",SISWA!E15)","v":"CHAKIM"},68,72,63,65,77,69,65,69,67,67]
[9,{"$f":"IF(SISWA!B16=0,\"\",SISWA!B16)","v":4275},{"$f":"IF(SISWA!C16=0,\"\",SISWA!C16)","v":"0078199679"},{"$f":"IF(SISWA!D16=0,\"\",SISWA!D16)","v":"1-18-05-80-162-009-9"},{"$f":"IF(SISWA!E16=0,\"\",SISWA!E16)","v":"HANIK APRILIA SARI"},79,78,73,74,84,77.599999999999994,65,77.599999999999994,71.3,71.3]
[10,{"$f":"IF(SISWA!B17=0,\"\",SISWA!B17)","v":"4238"},{"$f":"IF(SISWA!C17=0,\"\",SISWA!C17)","v":"0051503260"},{"$f":"IF(SISWA!D17=0,\"\",SISWA!D17)","v":"1-18-05-80-162-010-8"},{"$f":"IF(SISWA!E17=0,\"\",SISWA!E17)","v":"DESI NATALIA SAPUTRI"},68,72,63,66,79,69.599999999999994,65,69.599999999999994,67.3,67.3]
[11,{"$f":"IF(SISWA!B18=0,\"\",SISWA!B18)","v":4391},{"$f":"IF(SISWA!C18=0,\"\",SISWA!C18)","v":"0079418518"},{"$f":"IF(SISWA!D18=0,\"\",SISWA!D18)","v":"1-18-05-80-162-011-7"},{"$f":"IF(SISWA!E18=0,\"\",SISWA!E18)","v":"HIDAYATUL KHUMAINIA"},75,79,72,71,86,76.599999999999994,65,76.599999999999994,70.8,70.8]
[12,{"$f":"IF(SISWA!B19=0,\"\",SISWA!B19)","v":4274},{"$f":"IF(SISWA!C19=0,\"\",SISWA!C19)","v":"0077670297"},{"$f":"IF(SISWA!D19=0,\"\",SISWA!D19)","v":"1-18-05-80-162-012-6"},{"$f":"IF(SISWA!E19=0,\"\",SISWA!E19)","v":"DWITA FITA WULANDARI"},73,76,69,70,78,73.2,65,73.2,69.099999999999994,69.099999999999994]
[13,{"$f":"IF(SISWA!B20=0,\"\",SISWA!B20)","v":4276},{"$f":"IF(SISWA!C20=0,\"\",SISWA!C20)","v":"0067236848"},{"$f":"IF(SISWA!D20=0,\"\",SISWA!D20)","v":"1-18-05-80-162-013-5"},{"$f":"IF(SISWA!E20=0,\"\",SISWA!E20)","v":"IZZA ILMIA AZZAHRA"},77,77,75,74,85,77.599999999999994,65,77.599999999999994,71.3,71.3]
[14,{"$f":"IF(SISWA!B21=0,\"\",SISWA!B21)","v":4303},{"$f":"IF(SISWA!C21=0,\"\",SISWA!C21)","v":"0064031376"},{"$f":"IF(SISWA!D21=0,\"\",SISWA!D21)","v":"1-18-05-80-162-014-4"},{"$f":"IF(SISWA!E21=0,\"\",SISWA!E21)","v":"FARIDATUS SAHDIAH"},73,76,69,70,79,73.400000000000006,65,73.400000000000006,69.2,69.2]
[15,{"$f":"IF(SISWA!B22=0,\"\",SISWA!B22)","v":4278},{"$f":"IF(SISWA!C22=0,\"\",SISWA!C22)","v":"0079672823"},{"$f":"IF(SISWA!D22=0,\"\",SISWA!D22)","v":"1-18-05-80-162-015-3"},{"$f":"IF(SISWA!E22=0,\"\",SISWA!E22)","v":"KHARISYA AZZAHRO"},83,83,79,72,85,80.400000000000006,65,80.400000000000006,72.7,72.7]
[16,{"$f":"IF(SISWA!B23=0,\"\",SISWA!B23)","v":4277},{"$f":"IF(SISWA!C23=0,\"\",SISWA!C23)","v":"0077101453"},{"$f":"IF(SISWA!D23=0,\"\",SISWA!D23)","v":"1-18-05-80-162-016-2"},{"$f":"IF(SISWA!E23=0,\"\",SISWA!E23)","v":"KARINA FEBBY CAHYA AMILIA"},73,77,72,78,83,76.599999999999994,65,76.599999999999994,70.8,70.8]
[17,{"$f":"IF(SISWA!B24=0,\"\",SISWA!B24)","v":4601},{"$f":"IF(SISWA!C24=0,\"\",SISWA!C24)","v":"0069718082"},{"$f":"IF(SISWA!D24=0,\"\",SISWA!D24)","v":"1-18-05-80-162-017-9"},{"$f":"IF(SISWA!E24=0,\"\",SISWA!E24)","v":"MOCHAMAD RIFKY ROSAN"},70,71,73,71,80,73,65,73,69,69]
[18,{"$f":"IF(SISWA!B25=0,\"\",SISWA!B25)","v":"4241"},{"$f":"IF(SISWA!C25=0,\"\",SISWA!C25)","v":"0057006145"},{"$f":"IF(SISWA!D25=0,\"\",SISWA!D25)","v":"1-18-05-80-162-018-8"},{"$f":"IF(SISWA!E25=0,\"\",SISWA!E25)","v":"KHUSNI CAHYONO"},68,71,67,64,76,69.2,65,69.2,67.099999999999994,67.099999999999994]
[19,{"$f":"IF(SISWA!B26=0,\"\",SISWA!B26)","v":4280},{"$f":"IF(SISWA!C26=0,\"\",SISWA!C26)","v":"0062061356"},{"$f":"IF(SISWA!D26=0,\"\",SISWA!D26)","v":"1-18-05-80-162-019-7"},{"$f":"IF(SISWA!E26=0,\"\",SISWA!E26)","v":"MUCHAMMAD ALIEF FERDIANSYAH"},77,79,75,78,81,78,65,78,71.5,71.5]
[20,{"$f":"IF(SISWA!B27=0,\"\",SISWA!B27)","v":4306},{"$f":"IF(SISWA!C27=0,\"\",SISWA!C27)","v":"0069095925"},{"$f":"IF(SISWA!D27=0,\"\",SISWA!D27)","v":"1-18-05-80-162-020-6"},{"$f":"IF(SISWA!E27=0,\"\",SISWA!E27)","v":"LENNY AGUSTIN NINGTYAS"},68,73,66,65,79,70.2,65,70.2,67.599999999999994,67.599999999999994]
[21,{"$f":"IF(SISWA!B28=0,\"\",SISWA!B28)","v":4281},{"$f":"IF(SISWA!C28=0,\"\",SISWA!C28)","v":"0069153972"},{"$f":"IF(SISWA!D28=0,\"\",SISWA!D28)","v":"1-18-05-80-162-021-5"},{"$f":"IF(SISWA!E28=0,\"\",SISWA!E28)","v":"MUHAMMAD AGUS ANDRIANTO"},73,75,66,67,85,73.2,65,73.2,69.099999999999994,69.099999999999994]
[22,{"$f":"IF(SISWA!B29=0,\"\",SISWA!B29)","v":4308},{"$f":"IF(SISWA!C29=0,\"\",SISWA!C29)","v":"0063078335"},{"$f":"IF(SISWA!D29=0,\"\",SISWA!D29)","v":"1-18-05-80-162-022-4"},{"$f":"IF(SISWA!E29=0,\"\",SISWA!E29)","v":"MAURIS HIDAYATUR ROCHMAN"},71,77,72,74,82,75.2,65,75.2,70.099999999999994,70.099999999999994]
[23,{"$f":"IF(SISWA!B30=0,\"\",SISWA!B30)","v":4314},{"$f":"IF(SISWA!C30=0,\"\",SISWA!C30)","v":"0072178353"},{"$f":"IF(SISWA!D30=0,\"\",SISWA!D30)","v":"1-18-05-80-162-023-3"},{"$f":"IF(SISWA!E30=0,\"\",SISWA!E30)","v":"MUHAMMAD BISMAR TAUFIQUROHMAN"},74,82,75,80,85,79.2,65,79.2,72.099999999999994,72.099999999999994]
[24,{"$f":"IF(SISWA!B31=0,\"\",SISWA!B31)","v":4309},{"$f":"IF(SISWA!C31=0,\"\",SISWA!C31)","v":"0072198448"},{"$f":"IF(SISWA!D31=0,\"\",SISWA!D31)","v":"1-18-05-80-162-024-2"},{"$f":"IF(SISWA!E31=0,\"\",SISWA!E31)","v":"MAYA BUNGA ANJANI"},68,71,65,69,81,70.8,65,70.8,67.900000000000006,67.900000000000006]
[25,{"$f":"IF(SISWA!B32=0,\"\",SISWA!B32)","v":4320},{"$f":"IF(SISWA!C32=0,\"\",SISWA!C32)","v":"0064566227"},{"$f":"IF(SISWA!D32=0,\"\",SISWA!D32)","v":"1-18-05-80-162-025-9"},{"$f":"IF(SISWA!E32=0,\"\",SISWA!E32)","v":"MUHAMMAD SAHLAN SHODIQ"},78,86,79,81,82,81.2,65,81.2,73.099999999999994,73.099999999999994]
[26,{"$f":"IF(SISWA!B33=0,\"\",SISWA!B33)","v":4279},{"$f":"IF(SISWA!C33=0,\"\",SISWA!C33)","v":"0066637092"},{"$f":"IF(SISWA!D33=0,\"\",SISWA!D33)","v":"1-18-05-80-162-026-8"},{"$f":"IF(SISWA!E33=0,\"\",SISWA!E33)","v":"MITA SEPTIANI ISLAMIA"},68,74,72,74,79,73.400000000000006,65,73.400000000000006,69.2,69.2]
[27,{"$f":"IF(SISWA!B34=0,\"\",SISWA!B34)","v":4321},{"$f":"IF(SISWA!C34=0,\"\",SISWA!C34)","v":"0061244045"},{"$f":"IF(SISWA!D34=0,\"\",SISWA!D34)","v":"1-18-05-80-162-027-7"},{"$f":"IF(SISWA!E34=0,\"\",SISWA!E34)","v":"MUHAMMAD SEPTYAN EKA PRATAMA"},75,78,74,68,83,75.599999999999994,65,75.599999999999994,70.3,70.3]
[28,{"$f":"IF(SISWA!B35=0,\"\",SISWA!B35)","v":"4247"},{"$f":"IF(SISWA!C35=0,\"\",SISWA!C35)","v":"0053546157"},{"$f":"IF(SISWA!D35=0,\"\",SISWA!D35)","v":"1-18-05-80-162-028-6"},{"$f":"IF(SISWA!E35=0,\"\",SISWA!E35)","v":"MOCHAMAD ARIEL FRANS TITO"},68,72,66,67,81,70.8,65,70.8,67.900000000000006,67.900000000000006]
[29,{"$f":"IF(SISWA!B36=0,\"\",SISWA!B36)","v":4285},{"$f":"IF(SISWA!C36=0,\"\",SISWA!C36)","v":"0067871553"},{"$f":"IF(SISWA!D36=0,\"\",SISWA!D36)","v":"1-18-05-80-162-029-5"},{"$f":"IF(SISWA!E36=0,\"\",SISWA!E36)","v":"MUHAMMAD VERYANSYAH"},73,81,72,70,83,75.8,65,75.8,70.400000000000006,70.400000000000006]
[30,{"$f":"IF(SISWA!B37=0,\"\",SISWA!B37)","v":4310},{"$f":"IF(SISWA!C37=0,\"\",SISWA!C37)","v":"0066383678"},{"$f":"IF(SISWA!D37=0,\"\",SISWA!D37)","v":"1-18-05-80-162-030-4"},{"$f":"IF(SISWA!E37=0,\"\",SISWA!E37)","v":"MOCHAMMAD BIMA RISFANDA"},68,72,70,66,79,71,65,71,68,68]
[31,{"$f":"IF(SISWA!B38=0,\"\",SISWA!B38)","v":4286},{"$f":"IF(SISWA!C38=0,\"\",SISWA!C38)","v":"0064443822"},{"$f":"IF(SISWA!D38=0,\"\",SISWA!D38)","v":"1-18-05-80-162-031-3"},{"$f":"IF(SISWA!E38=0,\"\",SISWA!E38)","v":"MUHAMMAD ZIDNY NA'IM"},81,82,76,73,81,78.599999999999994,65,78.599999999999994,71.8,71.8]
[32,{"$f":"IF(SISWA!B39=0,\"\",SISWA!B39)","v":4282},{"$f":"IF(SISWA!C39=0,\"\",SISWA!C39)","v":"0068336765"},{"$f":"IF(SISWA!D39=0,\"\",SISWA!D39)","v":"1-18-05-80-162-032-2"},{"$f":"IF(SISWA!E39=0,\"\",SISWA!E39)","v":"MUHAMMAD AGUS FERDIANSYAH"},71,75,72,74,82,74.8,65,74.8,69.900000000000006,69.900000000000006]
[33,{"$f":"IF(SISWA!B40=0,\"\",SISWA!B40)","v":4287},{"$f":"IF(SISWA!C40=0,\"\",SISWA!C40)","v":"0064528717"},{"$f":"IF(SISWA!D40=0,\"\",SISWA!D40)","v":"1-18-05-80-162-033-9"},{"$f":"IF(SISWA!E40=0,\"\",SISWA!E40)","v":"MUHAMMAD FARDAN ABDILLAH"},70,null,72,74,null,72,65,72,68.5,68.5]
[34,{"$f":"IF(SISWA!B41=0,\"\",SISWA!B41)","v":4315},{"$f":"IF(SISWA!C41=0,\"\",SISWA!C41)","v":"0067870495"},{"$f":"IF(SISWA!D41=0,\"\",SISWA!D41)","v":"1-18-05-80-162-034-8"},{"$f":"IF(SISWA!E41=0,\"\",SISWA!E41)","v":"NABILA ARISKA PUTRI"},81,79,79,71,87,79.400000000000006,65,79.400000000000006,72.2,72.2]
[35,{"$f":"IF(SISWA!B42=0,\"\",SISWA!B42)","v":4288},{"$f":"IF(SISWA!C42=0,\"\",SISWA!C42)","v":"0068641191"},{"$f":"IF(SISWA!D42=0,\"\",SISWA!D42)","v":"1-18-05-80-162-035-7"},{"$f":"IF(SISWA!E42=0,\"\",SISWA!E42)","v":"MUHAMMAD FERDINAN JAYYIDAH RIFQI"},76,76,73,78,78,76.2,65,76.2,70.599999999999994,70.599999999999994]
[36,{"$f":"IF(SISWA!B43=0,\"\",SISWA!B43)","v":4283},{"$f":"IF(SISWA!C43=0,\"\",SISWA!C43)","v":"0077212388"},{"$f":"IF(SISWA!D43=0,\"\",SISWA!D43)","v":"1-18-05-80-162-036-6"},{"$f":"IF(SISWA!E43=0,\"\",SISWA!E43)","v":"NAFISA INDRIANI"},82,88,82,86,89,85.4,65,85.4,75.2,75.2]
[37,{"$f":"IF(SISWA!B44=0,\"\",SISWA!B44)","v":"4257"},{"$f":"IF(SISWA!C44=0,\"\",SISWA!C44)","v":"0069944706"},{"$f":"IF(SISWA!D44=0,\"\",SISWA!D44)","v":"1-18-05-80-162-037-5"},{"$f":"IF(SISWA!E44=0,\"\",SISWA!E44)","v":"MUHAMMAD FIRMANSYAH"},68,72,70,67,79,71.2,65,71.2,68.099999999999994,68.099999999999994]
[38,{"$f":"IF(SISWA!B45=0,\"\",SISWA!B45)","v":4317},{"$f":"IF(SISWA!C45=0,\"\",SISWA!C45)","v":"0068498059"},{"$f":"IF(SISWA!D45=0,\"\",SISWA!D45)","v":"1-18-05-80-162-038-4"},{"$f":"IF(SISWA!E45=0,\"\",SISWA!E45)","v":"NAJWA FARISYA BAROROH"},76,80,78,80,87,80.2,65,80.2,72.599999999999994,72.599999999999994]
[39,{"$f":"IF(SISWA!B46=0,\"\",SISWA!B46)","v":4289},{"$f":"IF(SISWA!C46=0,\"\",SISWA!C46)","v":"0065225517"},{"$f":"IF(SISWA!D46=0,\"\",SISWA!D46)","v":"1-18-05-80-162-039-3"},{"$f":"IF(SISWA!E46=0,\"\",SISWA!E46)","v":"NUR FITRIYAH"},78,55,73,78,85,73.8,65,73.8,69.400000000000006,69.400000000000006]
[40,{"$f":"IF(SISWA!B47=0,\"\",SISWA!B47)","v":4318},{"$f":"IF(SISWA!C47=0,\"\",SISWA!C47)","v":"0061441364"},{"$f":"IF(SISWA!D47=0,\"\",SISWA!D47)","v":"1-18-05-80-162-040-2"},{"$f":"IF(SISWA!E47=0,\"\",SISWA!E47)","v":"MUHAMMAD HILDAN DWI SAPUTRA"},68,72,70,74,81,73,65,73,69,69]
[41,{"$f":"IF(SISWA!B48=0,\"\",SISWA!B48)","v":4392},{"$f":"IF(SISWA!C48=0,\"\",SISWA!C48)","v":"0075794532"},{"$f":"IF(SISWA!D48=0,\"\",SISWA!D48)","v":"1-18-05-80-162-041-9"},{"$f":"IF(SISWA!E48=0,\"\",SISWA!E48)","v":"PUTRI NAFI'ATUS SOLIKHAH"},78,84,72,78,89,80.2,65,80.2,72.599999999999994,72.599999999999994]
[42,{"$f":"IF(SISWA!B49=0,\"\",SISWA!B49)","v":4284},{"$f":"IF(SISWA!C49=0,\"\",SISWA!C49)","v":"0069578000"},{"$f":"IF(SISWA!D49=0,\"\",SISWA!D49)","v":"1-18-05-80-162-042-8"},{"$f":"IF(SISWA!E49=0,\"\",SISWA!E49)","v":"MUHAMMAD RAYA KAFAF JAUHARI"},78,75,70,74,88,77,65,77,71,71]
[43,{"$f":"IF(SISWA!B50=0,\"\",SISWA!B50)","v":4290},{"$f":"IF(SISWA!C50=0,\"\",SISWA!C50)","v":"0063558216"},{"$f":"IF(SISWA!D50=0,\"\",SISWA!D50)","v":"1-18-05-80-162-043-7"},{"$f":"IF(SISWA!E50=0,\"\",SISWA!E50)","v":"QORIATUN SHOLIHAH"},78,80,77,72,87,78.8,65,78.8,71.900000000000006,71.900000000000006]
[44,{"$f":"IF(SISWA!B51=0,\"\",SISWA!B51)","v":4319},{"$f":"IF(SISWA!C51=0,\"\",SISWA!C51)","v":"0065329770"},{"$f":"IF(SISWA!D51=0,\"\",SISWA!D51)","v":"1-18-05-80-162-044-6"},{"$f":"IF(SISWA!E51=0,\"\",SISWA!E51)","v":"MUHAMMAD RUDI TANTOWIK"},68,72,70,67,82,71.8,65,71.8,68.400000000000006,68.400000000000006]
[45,{"$f":"IF(SISWA!B52=0,\"\",SISWA!B52)","v":4291},{"$f":"IF(SISWA!C52=0,\"\",SISWA!C52)","v":"0067071679"},{"$f":"IF(SISWA!D52=0,\"\",SISWA!D52)","v":"1-18-05-80-162-045-5"},{"$f":"IF(SISWA!E52=0,\"\",SISWA!E52)","v":"RACHMAD HIDAYAT"},70,77,70,67,84,73.599999999999994,65,73.599999999999994,69.3,69.3]
[46,{"$f":"IF(SISWA!B53=0,\"\",SISWA!B53)","v":4322},{"$f":"IF(SISWA!C53=0,\"\",SISWA!C53)","v":"0051101989"},{"$f":"IF(SISWA!D53=0,\"\",SISWA!D53)","v":"1-18-05-80-162-046-4"},{"$f":"IF(SISWA!E53=0,\"\",SISWA!E53)","v":"MUHAMMAD ZULDIENUR HABIBIE"},68,71,70,74,79,72.400000000000006,65,72.400000000000006,68.7,68.7]
[47,{"$f":"IF(SISWA!B54=0,\"\",SISWA!B54)","v":4292},{"$f":"IF(SISWA!C54=0,\"\",SISWA!C54)","v":"0072001696"},{"$f":"IF(SISWA!D54=0,\"\",SISWA!D54)","v":"1-18-05-80-162-047-3"},{"$f":"IF(SISWA!E54=0,\"\",SISWA!E54)","v":"RHEA RAYSHANADA NUGRAHA"},77,78,76,72,83,77.2,65,77.2,71.099999999999994,71.099999999999994]
[48,{"$f":"IF(SISWA!B55=0,\"\",SISWA!B55)","v":4323},{"$f":"IF(SISWA!C55=0,\"\",SISWA!C55)","v":"0078949167"},{"$f":"IF(SISWA!D55=0,\"\",SISWA!D55)","v":"1-18-05-80-162-048-2"},{"$f":"IF(SISWA!E55=0,\"\",SISWA!E55)","v":"MUKHAMAD KHOIRUL AMIN"},72,75,72,69,79,73.400000000000006,65,73.400000000000006,69.2,69.2]
[49,{"$f":"IF(SISWA!B56=0,\"\",SISWA!B56)","v":4293},{"$f":"IF(SISWA!C56=0,\"\",SISWA!C56)","v":"0064217705"},{"$f":"IF(SISWA!D56=0,\"\",SISWA!D56)","v":"1-18-05-80-162-049-9"},{"$f":"IF(SISWA!E56=0,\"\",SISWA!E56)","v":"RIYANTI APRILIA"},80,78,78,78,83,79.400000000000006,65,79.400000000000006,72.2,72.2]
[50,{"$f":"IF(SISWA!B57=0,\"\",SISWA!B57)","v":"4256"},{"$f":"IF(SISWA!C57=0,\"\",SISWA!C57)","v":"0065699742"},{"$f":"IF(SISWA!D57=0,\"\",SISWA!D57)","v":"1-18-05-80-162-050-8"},{"$f":"IF(SISWA!E57=0,\"\",SISWA!E57)","v":"MUKHAMMAD YAASIIN HASAN KHASBULLOH"},77,80,79,69,77,76.400000000000006,65,76.400000000000006,70.7,70.7]
[51,{"$f":"IF(SISWA!B58=0,\"\",SISWA!B58)","v":4295},{"$f":"IF(SISWA!C58=0,\"\",SISWA!C58)","v":"0061359184"},{"$f":"IF(SISWA!D58=0,\"\",SISWA!D58)","v":"1-18-05-80-162-051-7"},{"$f":"IF(SISWA!E58=0,\"\",SISWA!E58)","v":"SHONIA AULIA AS'AD"},87,89,82,80,92,86,65,86,75.5,75.5]
[52,{"$f":"IF(SISWA!B59=0,\"\",SISWA!B59)","v":4294},{"$f":"IF(SISWA!C59=0,\"\",SISWA!C59)","v":"0064723905"},{"$f":"IF(SISWA!D59=0,\"\",SISWA!D59)","v":"1-18-05-80-162-052-6"},{"$f":"IF(SISWA!E59=0,\"\",SISWA!E59)","v":"RIZKA AYU WULANDARI"},73,75,71,74,79,74.400000000000006,65,74.400000000000006,69.7,69.7]
[53,{"$f":"IF(SISWA!B60=0,\"\",SISWA!B60)","v":4298},{"$f":"IF(SISWA!C60=0,\"\",SISWA!C60)","v":"0065530554"},{"$f":"IF(SISWA!D60=0,\"\",SISWA!D60)","v":"1-18-05-80-162-053-5"},{"$f":"IF(SISWA!E60=0,\"\",SISWA!E60)","v":"VERLINA DWI MAULANI"},78,79,74,75,85,78.2,65,78.2,71.599999999999994,71.599999999999994]
[54,{"$f":"IF(SISWA!B61=0,\"\",SISWA!B61)","v":4297},{"$f":"IF(SISWA!C61=0,\"\",SISWA!C61)","v":"0063846732"},{"$f":"IF(SISWA!D61=0,\"\",SISWA!D61)","v":"1-18-05-80-162-054-4"},{"$f":"IF(SISWA!E61=0,\"\",SISWA!E61)","v":"USWATUN KHASANAH"},69,79,73,76,79,75.2,65,75.2,70.099999999999994,70.099999999999994]
[55,{"$f":"IF(SISWA!B62=0,\"\",SISWA!B62)","v":4324},{"$f":"IF(SISWA!C62=0,\"\",SISWA!C62)","v":"0078966795"},{"$f":"IF(SISWA!D62=0,\"\",SISWA!D62)","v":"1-18-05-80-162-055-3"},{"$f":"IF(SISWA!E62=0,\"\",SISWA!E62)","v":"VIKA KUSUMA WATI"},79,84,75,81,91,82,65,82,73.5,73.5]
[56,{"$f":"IF(SISWA!B63=0,\"\",SISWA!B63)","v":4326},{"$f":"IF(SISWA!C63=0,\"\",SISWA!C63)","v":"0064124533"},{"$f":"IF(SISWA!D63=0,\"\",SISWA!D63)","v":"1-18-05-80-162-056-2"},{"$f":"IF(SISWA!E63=0,\"\",SISWA!E63)","v":"YOHAN EGA GILANG PERMANA"},68,null,70,74,77,72.25,65,72.25,68.625,68.625]
[57,{"$f":"IF(SISWA!B64=0,\"\",SISWA!B64)","v":""},{"$f":"IF(SISWA!C64=0,\"\",SISWA!C64)","v":""},{"$f":"IF(SISWA!D64=0,\"\",SISWA!D64)","v":"1-18-05-80-162-057-9"},{"$f":"IF(SISWA!E64=0,\"\",SISWA!E64)","v":""},null,null,null,null,null,{"$error":"#DIV/0!"},null,{"$error":"#DIV/0!"},{"$error":"#DIV/0!"},{"$error":"#DIV/0!"}]
[58,{"$f":"IF(SISWA!B65=0,\"\",SISWA!B65)","v":""},{"$f":"IF(SISWA!C65=0,\"\",SISWA!C65)","v":""},{"$f":"IF(SISWA!D65=0,\"\",SISWA!D65)","v":"1-18-05-80-162-058-8"},{"$f":"IF(SISWA!E65=0,\"\",SISWA!E65)","v":""},null,null,null,null,null,{"$error":"#DIV/0!"},null,null,{"$error":"#DIV/0!"},{"$error":"#DIV/0!"}]
[59,{"$f":"IF(SISWA!B66=0,\"\",SISWA!B66)","v":""},{"$f":"IF(SISWA!C66=0,\"\",SISWA!C66)","v":""},{"$f":"IF(SISWA!D66=0,\"\",SISWA!D66)","v":"1-18-05-80-162-059-7"},{"$f":"IF(SISWA!E66=0,\"\",SISWA!E66)","v":""},null,null,null,null,null,{"$error":"#DIV/0!"},null,null,{"$error":"#DIV/0!"},{"$error":"#DIV/0!"}]
[60,{"$f":"IF(SISWA!B67=0,\"\",SISWA!B67)","v":""},{"$f":"IF(SISWA!C67=0,\"\",SISWA!C67)","v":""},{"$f":"IF(SISWA!D67=0,\"\",SISWA!D67)","v":"1-18-05-80-162-060-6"},{"$f":"IF(SISWA!E67=0,\"\",SISWA!E67)","v":""},null,null,null,null,null,{"$error":"#DIV/0!"},null,null,{"$error":"#DIV/0!"},{"$error":"#DIV/0!"}]
[61,{"$f":"IF(SISWA!B68=0,\"\",SISWA!B68)","v":""},{"$f":"IF(SISWA!C68=0,\"\",SISWA!C68)","v":""},{"$f":"IF(SISWA!D68=0,\"\",SISWA!D68)","v":"1-18-05-80-162-061-5"},{"$f":"IF(SISWA!E68=0,\"\",SISWA!E68)","v":""},null,null,null,null,null,{"$error":"#DIV/0!"},null,null,{"$error":"#DIV/0!"},{"$error":"#DIV/0!"}]
[62,{"$f":"IF(SISWA!B69=0,\"\",SISWA!B69)","v":""},{"$f":"IF(SISWA!C69=0,\"\",SISWA!C69)","v":""},{"$f":"IF(SISWA!D69=0,\"\",SISWA!D69)","v":"062-4"},{"$f":"IF(SISWA!E69=0,\"\",SISWA!E69)","v":""},null,null,null,null,null,{"$error":"#DIV/0!"},null,null,{"$error":"#DIV/0!"},{"$error":"#DIV/0!"}]
[63,{"$f":"IF(SISWA!B70=0,\"\",SISWA!B70)","v":""},{"$f":"IF(SISWA!C70=0,\"\",SISWA!C70)","v":""},{"$f":"IF(SISWA!D70=0,\"\",SISWA!D70)","v":"063-3"},{"$f":"IF(SISWA!E70=0,\"\",SISWA!E70)","v":""},null,null,null,null,null,{"$error":"#DIV/0!"},null,null,{"$error":"#DIV/0!"},{"$error":"#DIV/0!"}]
[64,{"$f":"IF(SISWA!B71=0,\"\",SISWA!B71)","v":""},{"$f":"IF(SISWA!C71=0,\"\",SISWA!C71)","v":""},{"$f":"IF(SISWA!D71=0,\"\",SISWA!D71)","v":"064-2"},{"$f":"IF(SISWA!E71=0,\"\",SISWA!E71)","v":""},null,null,null,null,null,{"$error":"#DIV/0!"},null,null,{"$error":"#DIV/0!"},{"$error":"#DIV/0!"}]
[65,{"$f":"IF(SISWA!B72=0,\"\",SISWA!B72)","v":""},{"$f":"IF(SISWA!C72=0,\"\",SISWA!C72)","v":""},{"$f":"IF(SISWA!D72=0,\"\",SISWA!D72)","v":"065-"},{"$f":"IF(SISWA!E72=0,\"\",SISWA!E72)","v":""},null,null,null,null,null,{"$error":"#DIV/0!"},null,null,{"$error":"#DIV/0!"},{"$error":"#DIV/0!"}]
[66,{"$f":"IF(SISWA!B73=0,\"\",SISWA!B73)","v":""},{"$f":"IF(SISWA!C73=0,\"\",SISWA!C73)","v":""},{"$f":"IF(SISWA!D73=0,\"\",SISWA!D73)","v":"066-"},{"$f":"IF(SISWA!E73=0,\"\",SISWA!E73)","v":""},null,null,null,null,null,{"$f":"AVERAGE(F73:J73)","v":{"$error":"#DIV/0!"}},null,null,{"$f":"AVERAGE(L73:M73)","v":{"$error":"#DIV/0!"}},{"$f":"AVERAGE(L73:M73)","v":{"$error":"#DIV/0!"}}]
[67,{"$f":"IF(SISWA!B74=0,\"\",SISWA!B74)","v":""},{"$f":"IF(SISWA!C74=0,\"\",SISWA!C74)","v":""},{"$f":"IF(SISWA!D74=0,\"\",SISWA!D74)","v":"067-"},{"$f":"IF(SISWA!E74=0,\"\",SISWA!E74)","v":""},null,null,null,null,null,{"$error":"#DIV/0!"},null,null,{"$error":"#DIV/0!"},{"$error":"#DIV/0!"}]
[68,{"$f":"IF(SISWA!B75=0,\"\",SISWA!B75)","v":""},{"$f":"IF(SISWA!C75=0,\"\",SISWA!C75)","v":""},{"$f":"IF(SISWA!D75=0,\"\",SISWA!D75)","v":"068-"},{"$f":"IF(SISWA!E75=0,\"\",SISWA!E75)","v":""},null,null,null,null,null,{"$error":"#DIV/0!"},null,null,{"$error":"#DIV/0!"},{"$error":"#DIV/0!"}]
[69,{"$f":"IF(SISWA!B76=0,\"\",SISWA!B76)","v":""},{"$f":"IF(SISWA!C76=0,\"\",SISWA!C76)","v":""},{"$f":"IF(SISWA!D76=0,\"\",SISWA!D76)","v":"069-"},{"$f":"IF(SISWA!E76=0,\"\",SISWA!E76)","v":""},null,null,null,null,null,{"$error":"#DIV/0!"},null,null,{"$error":"#DIV/0!"},{"$error":"#DIV/0!"}]
[70,{"$f":"IF(SISWA!B77=0,\"\",SISWA!B77)","v":""},{"$f":"IF(SISWA!C77=0,\"\",SISWA!C77)","v":""},{"$f":"IF(SISWA!D77=0,\"\",SISWA!D77)","v":"070-"},{"$f":"IF(SISWA!E77=0,\"\",SISWA!E77)","v":""},null,null,null,null,null,{"$error":"#DIV/0!"},null,null,{"$error":"#DIV/0!"},{"$error":"#DIV/0!"}]
[71,{"$f":"IF(SISWA!B78=0,\"\",SISWA!B78)","v":""},{"$f":"IF(SISWA!C78=0,\"\",SISWA!C78)","v":""},{"$f":"IF(SISWA!D78=0,\"\",SISWA!D78)","v":"071-"},{"$f":"IF(SISWA!E78=0,\"\",SISWA!E78)","v":""},null,null,null,null,null,{"$error":"#DIV/0!"},null,null,{"$error":"#DIV/0!"},{"$error":"#DIV/0!"}]
[72,{"$f":"IF(SISWA!B79=0,\"\",SISWA!B79)","v":""},{"$f":"IF(SISWA!C79=0,\"\",SISWA!C79)","v":""},{"$f":"IF(SISWA!D79=0,\"\",SISWA!D79)","v":"072-"},{"$f":"IF(SISWA!E79=0,\"\",SISWA!E79)","v":""},null,null,null,null,null,{"$error":"#DIV/0!"},null,null,{"$error":"#DIV/0!"},{"$error":"#DIV/0!"}]
[73,{"$f":"IF(SISWA!B80=0,\"\",SISWA!B80)","v":""},{"$f":"IF(SISWA!C80=0,\"\",SISWA!C80)","v":""},{"$f":"IF(SISWA!D80=0,\"\",SISWA!D80)","v":"073-"},{"$f":"IF(SISWA!E80=0,\"\",SISWA!E80)","v":""},null,null,null,null,null,{"$error":"#DIV/0!"},null,null,{"$error":"#DIV/0!"},{"$error":"#DIV/0!"}]
[74,{"$f":"IF(SISWA!B81=0,\"\",SISWA!B81)","v":""},{"$f":"IF(SISWA!C81=0,\"\",SISWA!C81)","v":""},{"$f":"IF(SISWA!D81=0,\"\",SISWA!D81)","v":"074-"},{"$f":"IF(SISWA!E81=0,\"\",SISWA!E81)","v":""},null,null,null,null,null,{"$error":"#DIV/0!"},null,null,{"$error":"#DIV/0!"},{"$error":"#DIV/0!"}]
[75,{"$f":"IF(SISWA!B82=0,\"\",SISWA!B82)","v":""},{"$f":"IF(SISWA!C82=0,\"\",SISWA!C82)","v":""},{"$f":"IF(SISWA!D82=0,\"\",SISWA!D82)","v":"075-"},{"$f":"IF(SISWA!E82=0,\"\",SISWA!E82)","v":""},null,null,null,null,null,{"$error":"#DIV/0!"},null,null,{"$error":"#DIV/0!"},{"$error":"#DIV/0!"}]
[76,{"$f":"IF(SISWA!B83=0,\"\",SISWA!B83)","v":""},{"$f":"IF(SISWA!C83=0,\"\",SISWA!C83)","v":""},{"$f":"IF(SISWA!D83=0,\"\",SISWA!D83)","v":"076-"},{"$f":"IF(SISWA!E83=0,\"\",SISWA!E83)","v":""},null,null,null,null,null,{"$error":"#DIV/0!"},null,null,{"$error":"#DIV/0!"},{"$error":"#DIV/0!"}]
[77,{"$f":"IF(SISWA!B84=0,\"\",SISWA!B84)","v":""},{"$f":"IF(SISWA!C84=0,\"\",SISWA!C84)","v":""},{"$f":"IF(SISWA!D84=0,\"\",SISWA!D84)","v":"077-"},{"$f":"IF(SISWA!E84=0,\"\",SISWA!E84)","v":""},null,null,null,null,null,{"$error":"#DIV/0!"},null,null,{"$error":"#DIV/0!"},{"$error":"#DIV/0!"}]
[78,{"$f":"IF(SISWA!B85=0,\"\",SISWA!B85)","v":""},{"$f":"IF(SISWA!C85=0,\"\",SISWA!C85)","v":""},{"$f":"IF(SISWA!D85=0,\"\",SISWA!D85)","v":"078-"},{"$f":"IF(SISWA!E85=0,\"\",SISWA!E85)","v":""},null,null,null,null,null,{"$error":"#DIV/0!"},null,null,{"$error":"#DIV/0!"},{"$error":"#DIV/0!"}]
[79,{"$f":"IF(SISWA!B86=0,\"\",SISWA!B86)","v":""},{"$f":"IF(SISWA!C86=0,\"\",SISWA!C86)","v":""},{"$f":"IF(SISWA!D86=0,\"\",SISWA!D86)","v":"079-"},{"$f":"IF(SISWA!E86=0,\"\",SISWA!E86)","v":""},null,null,null,null,null,{"$error":"#DIV/0!"},null,null,{"$error":"#DIV/0!"},{"$error":"#DIV/0!"}]
[80,{"$f":"IF(SISWA!B87=0,\"\",SISWA!B87)","v":""},{"$f":"IF(SISWA!C87=0,\"\",SISWA!C87)","v":""},{"$f":"IF(SISWA!D87=0,\"\",SISWA!D87)","v":"080-"},{"$f":"IF(SISWA!E87=0,\"\",SISWA!E87)","v":""},null,null,null,null,null,{"$error":"#DIV/0!"},null,null,{"$error":"#DIV/0!"},{"$error":"#DIV/0!"}]
[81,{"$f":"IF(SISWA!B88=0,\"\",SISWA!B88)","v":""},{"$f":"IF(SISWA!C88=0,\"\",SISWA!C88)","v":""},{"$f":"IF(SISWA!D88=0,\"\",SISWA!D88)","v":"081-"},{"$f":"IF(SISWA!E88=0,\"\",SISWA!E88)","v":""},null,null,null,null,null,{"$error":"#DIV/0!"},null,null,{"$error":"#DIV/0!"},{"$error":"#DIV/0!"}]
[82,{"$f":"IF(SISWA!B89=0,\"\",SISWA!B89)","v":""},{"$f":"IF(SISWA!C89=0,\"\",SISWA!C89)","v":""},{"$f":"IF(SISWA!D89=0,\"\",SISWA!D89)","v":"082-"},{"$f":"IF(SISWA!E89=0,\"\",SISWA!E89)","v":""},null,null,null,null,null,{"$error":"#DIV/0!"},null,null,{"$error":"#DIV/0!"},{"$error":"#DIV/0!"}]
[83,{"$f":"IF(SISWA!B90=0,\"\",SISWA!B90)","v":""},{"$f":"IF(SISWA!C90=0,\"\",SISWA!C90)","v":""},{"$f":"IF(SISWA!D90=0,\"\",SISWA!D90)","v":"083-"},{"$f":"IF(SISWA!E90=0,\"\",SISWA!E90)","v":""},null,null,null,null,null,{"$error":"#DIV/0!"},null,null,{"$error":"#DIV/0!"},{"$error":"#DIV/0!"}]
[84,{"$f":"IF(SISWA!B91=0,\"\",SISWA!B91)","v":""},{"$f":"IF(SISWA!C91=0,\"\",SISWA!C91)","v":""},{"$f":"IF(SISWA!D91=0,\"\",SISWA!D91)","v":"084-"},{"$f":"IF(SISWA!E91=0,\"\",SISWA!E91)","v":""},null,null,null,null,null,{"$error":"#DIV/0!"},null,null,{"$error":"#DIV/0!"},{"$error":"#DIV/0!"}]
[85,{"$f":"IF(SISWA!B92=0,\"\",SISWA!B92)","v":""},{"$f":"IF(SISWA!C92=0,\"\",SISWA!C92)","v":""},{"$f":"IF(SISWA!D92=0,\"\",SISWA!D92)","v":"085-"},{"$f":"IF(SISWA!E92=0,\"\",SISWA!E92)","v":""},null,null,null,null,null,{"$error":"#DIV/0!"},null,null,{"$error":"#DIV/0!"},{"$error":"#DIV/0!"}]
[86,{"$f":"IF(SISWA!B93=0,\"\",SISWA!B93)","v":""},{"$f":"IF(SISWA!C93=0,\"\",SISWA!C93)","v":""},{"$f":"IF(SISWA!D93=0,\"\",SISWA!D93)","v":"086-"},{"$f":"IF(SISWA!E93=0,\"\",SISWA!E93)","v":""},null,null,null,null,null,{"$error":"#DIV/0!"},null,null,{"$error":"#DIV/0!"},{"$error":"#DIV/0!"}]
[87,{"$f":"IF(SISWA!B94=0,\"\",SISWA!B94)","v":""},{"$f":"IF(SISWA!C94=0,\"\",SISWA!C94)","v":""},{"$f":"IF(SISWA!D94=0,\"\",SISWA!D94)","v":"087-"},{"$f":"IF(SISWA!E94=0,\"\",SISWA!E94)","v":""},null,null,null,null,null,{"$error":"#DIV/0!"},null,null,{"$error":"#DIV/0!"},{"$error":"#DIV/0!"}]
[88,{"$f":"IF(SISWA!B95=0,\"\",SISWA!B95)","v":""},{"$f":"IF(SISWA!C95=0,\"\",SISWA!C95)","v":""},{"$f":"IF(SISWA!D95=0,\"\",SISWA!D95)","v":"088-"},{"$f":"IF(SISWA!E95=0,\"\",SISWA!E95)","v":""},null,null,null,null,null,{"$error":"#DIV/0!"},null,null,{"$error":"#DIV/0!"},{"$error":"#DIV/0!"}]
[89,{"$f":"IF(SISWA!B96=0,\"\",SISWA!B96)","v":""},{"$f":"IF(SISWA!C96=0,\"\",SISWA!C96)","v":""},{"$f":"IF(SISWA!D96=0,\"\",SISWA!D96)","v":"089-"},{"$f":"IF(SISWA!E96=0,\"\",SISWA!E96)","v":""},null,null,null,null,null,{"$error":"#DIV/0!"},null,null,{"$error":"#DIV/0!"},{"$error":"#DIV/0!"}]
[90,{"$f":"IF(SISWA!B97=0,\"\",SISWA!B97)","v":""},{"$f":"IF(SISWA!C97=0,\"\",SISWA!C97)","v":""},{"$f":"IF(SISWA!D97=0,\"\",SISWA!D97)","v":"090-"},{"$f":"IF(SISWA!E97=0,\"\",SISWA!E97)","v":""},null,null,null,null,null,{"$error":"#DIV/0!"},null,null,{"$error":"#DIV/0!"},{"$error":"#DIV/0!"}]
[91,{"$f":"IF(SISWA!B98=0,\"\",SISWA!B98)","v":""},{"$f":"IF(SISWA!C98=0,\"\",SISWA!C98)","v":""},{"$f":"IF(SISWA!D98=0,\"\",SISWA!D98)","v":"091-"},{"$f":"IF(SISWA!E98=0,\"\",SISWA!E98)","v":""},null,null,null,null,null,{"$error":"#DIV/0!"},null,null,{"$error":"#DIV/0!"},{"$error":"#DIV/0!"}]
[92,{"$f":"IF(SISWA!B99=0,\"\",SISWA!B99)","v":""},{"$f":"IF(SISWA!C99=0,\"\",SISWA!C99)","v":""},{"$f":"IF(SISWA!D99=0,\"\",SISWA!D99)","v":"092-"},{"$f":"IF(SISWA!E99=0,\"\",SISWA!E99)","v":""},null,null,null,null,null,{"$error":"#DIV/0!"},null,null,{"$error":"#DIV/0!"},{"$error":"#DIV/0!"}]
[93,{"$f":"IF(SISWA!B100=0,\"\",SISWA!B100)","v":""},{"$f":"IF(SISWA!C100=0,\"\",SISWA!C100)","v":""},{"$f":"IF(SISWA!D100=0,\"\",SISWA!D100)","v":"093-"},{"$f":"IF(SISWA!E100=0,\"\",SISWA!E100)","v":""},null,null,null,null,null,{"$error":"#DIV/0!"},null,null,{"$error":"#DIV/0!"},{"$error":"#DIV/0!"}]
[94,{"$f":"IF(SISWA!B101=0,\"\",SISWA!B101)","v":""},{"$f":"IF(SISWA!C101=0,\"\",SISWA!C101)","v":""},{"$f":"IF(SISWA!D101=0,\"\",SISWA!D101)","v":"094-"},{"$f":"IF(SISWA!E101=0,\"\",SISWA!E101)","v":""},null,null,null,null,null,{"$error":"#DIV/0!"},null,null,{"$error":"#DIV/0!"},{"$error":"#DIV/0!"}]
[95,{"$f":"IF(SISWA!B102=0,\"\",SISWA!B102)","v":""},{"$f":"IF(SISWA!C102=0,\"\",SISWA!C102)","v":""},{"$f":"IF(SISWA!D102=0,\"\",SISWA!D102)","v":"095-"},{"$f":"IF(SISWA!E102=0,\"\",SISWA!E102)","v":""},null,null,null,null,null,{"$error":"#DIV/0!"},null,null,{"$error":"#DIV/0!"},{"$error":"#DIV/0!"}]
[96,{"$f":"IF(SISWA!B103=0,\"\",SISWA!B103)","v":""},{"$f":"IF(SISWA!C103=0,\"\",SISWA!C103)","v":""},{"$f":"IF(SISWA!D103=0,\"\",SISWA!D103)","v":"096-"},{"$f":"IF(SISWA!E103=0,\"\",SISWA!E103)","v":""},null,null,null,null,null,{"$error":"#DIV/0!"},null,null,{"$error":"#DIV/0!"},{"$error":"#DIV/0!"}]
[97,{"$f":"IF(SISWA!B104=0,\"\",SISWA!B104)","v":""},{"$f":"IF(SISWA!C104=0,\"\",SISWA!C104)","v":""},{"$f":"IF(SISWA!D104=0,\"\",SISWA!D104)","v":"097-"},{"$f":"IF(SISWA!E104=0,\"\",SISWA!E104)","v":""},null,null,null,null,null,{"$error":"#DIV/0!"},null,null,{"$error":"#DIV/0!"},{"$error":"#DIV/0!"}]
[98,{"$f":"IF(SISWA!B105=0,\"\",SISWA!B105)","v":""},{"$f":"IF(SISWA!C105=0,\"\",SISWA!C105)","v":""},{"$f":"IF(SISWA!D105=0,\"\",SISWA!D105)","v":"098-"},{"$f":"IF(SISWA!E105=0,\"\",SISWA!E105)","v":""},null,null,null,null,null,{"$error":"#DIV/0!"},null,null,{"$error":"#DIV/0!"},{"$error":"#DIV/0!"}]
[99,{"$f":"IF(SISWA!B106=0,\"\",SISWA!B106)","v":""},{"$f":"IF(SISWA!C106=0,\"\",SISWA!C106)","v":""},{"$f":"IF(SISWA!D106=0,\"\",SISWA!D106)","v":"099-"},{"$f":"IF(SISWA!E106=0,\"\",SISWA!E106)","v":""},null,null,null,null,null,{"$error":"#DIV/0!"},null,null,{"$error":"#DIV/0!"},{"$error":"#DIV/0!"}]
[100,{"$f":"IF(SISWA!B107=0,\"\",SISWA!B107)","v":""},{"$f":"IF(SISWA!C107=0,\"\",SISWA!C107)","v":""},{"$f":"IF(SISWA!D107=0,\"\",SISWA!D107)","v":"100-"},{"$f":"IF(SISWA!E107=0,\"\",SISWA!E107)","v":""},null,null,null,null,null,{"$error":"#DIV/0!"},null,null,{"$error":"#DIV/0!"},{"$error":"#DIV/0!"}]
[101,{"$f":"IF(SISWA!B108=0,\"\",SISWA!B108)","v":""},{"$f":"IF(SISWA!C108=0,\"\",SISWA!C108)","v":""},{"$f":"IF(SISWA!D108=0,\"\",SISWA!D108)","v":"101-"},{"$f":"IF(SISWA!E108=0,\"\",SISWA!E108)","v":""},null,null,null,null,null,{"$error":"#DIV/0!"},null,null,{"$error":"#DIV/0!"},{"$error":"#DIV/0!"}]
[102,{"$f":"IF(SISWA!B109=0,\"\",SISWA!B109)","v":""},{"$f":"IF(SISWA!C109=0,\"\",SISWA!C109)","v":""},{"$f":"IF(SISWA!D109=0,\"\",SISWA!D109)","v":"102-"},{"$f":"IF(SISWA!E109=0,\"\",SISWA!E109)","v":""},null,null,null,null,null,{"$error":"#DIV/0!"},null,null,{"$error":"#DIV/0!"},{"$error":"#DIV/0!"}]
[103,{"$f":"IF(SISWA!B110=0,\"\",SISWA!B110)","v":""},{"$f":"IF(SISWA!C110=0,\"\",SISWA!C110)","v":""},{"$f":"IF(SISWA!D110=0,\"\",SISWA!D110)","v":"103-"},{"$f":"IF(SISWA!E110=0,\"\",SISWA!E110)","v":""},null,null,null,null,null,{"$error":"#DIV/0!"},null,null,{"$error":"#DIV/0!"},{"$error":"#DIV/0!"}]
[104,{"$f":"IF(SISWA!B111=0,\"\",SISWA!B111)","v":""},{"$f":"IF(SISWA!C111=0,\"\",SISWA!C111)","v":""},{"$f":"IF(SISWA!D111=0,\"\",SISWA!D111)","v":"104-"},{"$f":"IF(SISWA!E111=0,\"\",SISWA!E111)","v":""},null,null,null,null,null,{"$error":"#DIV/0!"},null,null,{"$error":"#DIV/0!"},{"$error":"#DIV/0!"}]
[105,{"$f":"IF(SISWA!B112=0,\"\",SISWA!B112)","v":""},{"$f":"IF(SISWA!C112=0,\"\",SISWA!C112)","v":""},{"$f":"IF(SISWA!D112=0,\"\",SISWA!D112)","v":"105-"},{"$f":"IF(SISWA!E112=0,\"\",SISWA!E112)","v":""},null,null,null,null,null,{"$error":"#DIV/0!"},null,null,{"$error":"#DIV/0!"},{"$error":"#DIV/0!"}]
[106,{"$f":"IF(SISWA!B113=0,\"\",SISWA!B113)","v":""},{"$f":"IF(SISWA!C113=0,\"\",SISWA!C113)","v":""},{"$f":"IF(SISWA!D113=0,\"\",SISWA!D113)","v":"106-"},{"$f":"IF(SISWA!E113=0,\"\",SISWA!E113)","v":""},null,null,null,null,null,{"$error":"#DIV/0!"},null,null,{"$error":"#DIV/0!"},{"$error":"#DIV/0!"}]
[107,{"$f":"IF(SISWA!B114=0,\"\",SISWA!B114)","v":""},{"$f":"IF(SISWA!C114=0,\"\",SISWA!C114)","v":""},{"$f":"IF(SISWA!D114=0,\"\",SISWA!D114)","v":"107-"},{"$f":"IF(SISWA!E114=0,\"\",SISWA!E114)","v":""},null,null,null,null,null,{"$error":"#DIV/0!"},null,null,{"$error":"#DIV/0!"},{"$error":"#DIV/0!"}]
[108,{"$f":"IF(SISWA!B115=0,\"\",SISWA!B115)","v":""},{"$f":"IF(SISWA!C115=0,\"\",SISWA!C115)","v":""},{"$f":"IF(SISWA!D115=0,\"\",SISWA!D115)","v":"108-"},{"$f":"IF(SISWA!E115=0,\"\",SISWA!E115)","v":""},null,null,null,null,null,{"$error":"#DIV/0!"},null,null,{"$error":"#DIV/0!"},{"$error":"#DIV/0!"}]
[109,{"$f":"IF(SISWA!B116=0,\"\",SISWA!B116)","v":""},{"$f":"IF(SISWA!C116=0,\"\",SISWA!C116)","v":""},{"$f":"IF(SISWA!D116=0,\"\",SISWA!D116)","v":"109-"},{"$f":"IF(SISWA!E116=0,\"\",SISWA!E116)","v":""},null,null,null,null,null,{"$error":"#DIV/0!"},null,null,{"$error":"#DIV/0!"},{"$error":"#DIV/0!"}]
[110,{"$f":"IF(SISWA!B117=0,\"\",SISWA!B117)","v":""},{"$f":"IF(SISWA!C117=0,\"\",SISWA!C117)","v":""},{"$f":"IF(SISWA!D117=0,\"\",SISWA!D117)","v":"110-"},{"$f":"IF(SISWA!E117=0,\"\",SISWA!E117)","v":""},null,null,null,null,null,{"$error":"#DIV/0!"},null,null,{"$error":"#DIV/0!"},{"$error":"#DIV/0!"}]
[111,{"$f":"IF(SISWA!B118=0,\"\",SISWA!B118)","v":""},{"$f":"IF(SISWA!C118=0,\"\",SISWA!C118)","v":""},{"$f":"IF(SISWA!D118=0,\"\",SISWA!D118)","v":"111-"},{"$f":"IF(SISWA!E118=0,\"\",SISWA!E118)","v":""},null,null,null,null,null,{"$error":"#DIV/0!"},null,null,{"$error":"#DIV/0!"},{"$error":"#DIV/0!"}]
[112,{"$f":"IF(SISWA!B119=0,\"\",SISWA!B119)","v":""},{"$f":"IF(SISWA!C119=0,\"\",SISWA!C119)","v":""},{"$f":"IF(SISWA!D119=0,\"\",SISWA!D119)","v":"112-"},{"$f":"IF(SISWA!E119=0,\"\",SISWA!E119)","v":""},null,null,null,null,null,{"$error":"#DIV/0!"},null,null,{"$error":"#DIV/0!"},{"$error":"#DIV/0!"}]
[113,{"$f":"IF(SISWA!B120=0,\"\",SISWA!B120)","v":""},{"$f":"IF(SISWA!C120=0,\"\",SISWA!C120)","v":""},{"$f":"IF(SISWA!D120=0,\"\",SISWA!D120)","v":"113-"},{"$f":"IF(SISWA!E120=0,\"\",SISWA!E120)","v":""},null,null,null,null,null,{"$error":"#DIV/0!"},null,null,{"$error":"#DIV/0!"},{"$error":"#DIV/0!"}]
[114,{"$f":"IF(SISWA!B121=0,\"\",SISWA!B121)","v":""},{"$f":"IF(SISWA!C121=0,\"\",SISWA!C121)","v":""},{"$f":"IF(SISWA!D121=0,\"\",SISWA!D121)","v":"114-"},{"$f":"IF(SISWA!E121=0,\"\",SISWA!E121)","v":""},null,null,null,null,null,{"$error":"#DIV/0!"},null,null,{"$error":"#DIV/0!"},{"$error":"#DIV/0!"}]
[115,{"$f":"IF(SISWA!B122=0,\"\",SISWA!B122)","v":""},{"$f":"IF(SISWA!C122=0,\"\",SISWA!C122)","v":""},{"$f":"IF(SISWA!D122=0,\"\",SISWA!D122)","v":"115-"},{"$f":"IF(SISWA!E122=0,\"\",SISWA!E122)","v":""},null,null,null,null,null,{"$error":"#DIV/0!"},null,null,{"$error":"#DIV/0!"},{"$error":"#DIV/0!"}]
[116,{"$f":"IF(SISWA!B123=0,\"\",SISWA!B123)","v":""},{"$f":"IF(SISWA!C123=0,\"\",SISWA!C123)","v":""},{"$f":"IF(SISWA!D123=0,\"\",SISWA!D123)","v":"116-"},{"$f":"IF(SISWA!E123=0,\"\",SISWA!E123)","v":""},null,null,null,null,null,{"$error":"#DIV/0!"},null,null,{"$error":"#DIV/0!"},{"$error":"#DIV/0!"}]
[117,{"$f":"IF(SISWA!B124=0,\"\",SISWA!B124)","v":""},{"$f":"IF(SISWA!C124=0,\"\",SISWA!C124)","v":""},{"$f":"IF(SISWA!D124=0,\"\",SISWA!D124)","v":"117-"},{"$f":"IF(SISWA!E124=0,\"\",SISWA!E124)","v":""},null,null,null,null,null,{"$error":"#DIV/0!"},null,null,{"$error":"#DIV/0!"},{"$error":"#DIV/0!"}]
[118,{"$f":"IF(SISWA!B125=0,\"\",SISWA!B125)","v":""},{"$f":"IF(SISWA!C125=0,\"\",SISWA!C125)","v":""},{"$f":"IF(SISWA!D125=0,\"\",SISWA!D125)","v":"118-"},{"$f":"IF(SISWA!E125=0,\"\",SISWA!E125)","v":""},null,null,null,null,null,{"$error":"#DIV/0!"},null,null,{"$error":"#DIV/0!"},{"$error":"#DIV/0!"}]
[119,{"$f":"IF(SISWA!B126=0,\"\",SISWA!B126)","v":""},{"$f":"IF(SISWA!C126=0,\"\",SISWA!C126)","v":""},{"$f":"IF(SISWA!D126=0,\"\",SISWA!D126)","v":"119-"},{"$f":"IF(SISWA!E126=0,\"\",SISWA!E126)","v":""},null,null,null,null,null,{"$error":"#DIV/0!"},null,null,{"$error":"#DIV/0!"},{"$error":"#DIV/0!"}]
[120,{"$f":"IF(SISWA!B127=0,\"\",SISWA!B127)","v":""},{"$f":"IF(SISWA!C127=0,\"\",SISWA!C127)","v":""},{"$f":"IF(SISWA!D127=0,\"\",SISWA!D127)","v":"120-"},{"$f":"IF(SISWA!E127=0,\"\",SISWA!E127)","v":""},null,null,null,null,null,{"$error":"#DIV/0!"},null,null,{"$error":"#DIV/0!"},{"$error":"#DIV/0!"}]
[121,{"$f":"IF(SISWA!B128=0,\"\",SISWA!B128)","v":""},{"$f":"IF(SISWA!C128=0,\"\",SISWA!C128)","v":""},{"$f":"IF(SISWA!D128=0,\"\",SISWA!D128)","v":"121-"},{"$f":"IF(SISWA!E128=0,\"\",SISWA!E128)","v":""},null,null,null,null,null,{"$error":"#DIV/0!"},null,null,{"$error":"#DIV/0!"},{"$error":"#DIV/0!"}]
[122,{"$f":"IF(SISWA!B129=0,\"\",SISWA!B129)","v":""},{"$f":"IF(SISWA!C129=0,\"\",SISWA!C129)","v":""},{"$f":"IF(SISWA!D129=0,\"\",SISWA!D129)","v":"122-"},{"$f":"IF(SISWA!E129=0,\"\",SISWA!E129)","v":""},null,null,null,null,null,{"$error":"#DIV/0!"},null,null,{"$error":"#DIV/0!"},{"$error":"#DIV/0!"}]
[123,{"$f":"IF(SISWA!B130=0,\"\",SISWA!B130)","v":""},{"$f":"IF(SISWA!C130=0,\"\",SISWA!C130)","v":""},{"$f":"IF(SISWA!D130=0,\"\",SISWA!D130)","v":"123-"},{"$f":"IF(SISWA!E130=0,\"\",SISWA!E130)","v":""},null,null,null,null,null,{"$error":"#DIV/0!"},null,null,{"$error":"#DIV/0!"},{"$error":"#DIV/0!"}]
[124,{"$f":"IF(SISWA!B131=0,\"\",SISWA!B131)","v":""},{"$f":"IF(SISWA!C131=0,\"\",SISWA!C131)","v":""},{"$f":"IF(SISWA!D131=0,\"\",SISWA!D131)","v":"124-"},{"$f":"IF(SISWA!E131=0,\"\",SISWA!E131)","v":""},null,null,null,null,null,{"$error":"#DIV/0!"},null,null,{"$error":"#DIV/0!"},{"$error":"#DIV/0!"}]
[125,{"$f":"IF(SISWA!B132=0,\"\",SISWA!B132)","v":""},{"$f":"IF(SISWA!C132=0,\"\",SISWA!C132)","v":""},{"$f":"IF(SISWA!D132=0,\"\",SISWA!D132)","v":"125-"},{"$f":"IF(SISWA!E132=0,\"\",SISWA!E132)","v":""},null,null,null,null,null,{"$error":"#DIV/0!"},null,null,{"$error":"#DIV/0!"},{"$error":"#DIV/0!"}]
[126,{"$f":"IF(SISWA!B133=0,\"\",SISWA!B133)","v":""},{"$f":"IF(SISWA!C133=0,\"\",SISWA!C133)","v":""},{"$f":"IF(SISWA!D133=0,\"\",SISWA!D133)","v":"126-"},{"$f":"IF(SISWA!E133=0,\"\",SISWA!E133)","v":""},null,null,null,null,null,{"$error":"#DIV/0!"},null,null,{"$error":"#DIV/0!"},{"$error":"#DIV/0!"}]
[127,{"$f":"IF(SISWA!B134=0,\"\",SISWA!B134)","v":""},{"$f":"IF(SISWA!C134=0,\"\",SISWA!C134)","v":""},{"$f":"IF(SISWA!D134=0,\"\",SISWA!D134)","v":"127-"},{"$f":"IF(SISWA!E134=0,\"\",SISWA!E134)","v":""},null,null,null,null,null,{"$error":"#DIV/0!"},null,null,{"$error":"#DIV/0!"},{"$error":"#DIV/0!"}]
[128,{"$f":"IF(SISWA!B135=0,\"\",SISWA!B135)","v":""},{"$f":"IF(SISWA!C135=0,\"\",SISWA!C135)","v":""},{"$f":"IF(SISWA!D135=0,\"\",SISWA!D135)","v":"128-"},{"$f":"IF(SISWA!E135=0,\"\",SISWA!E135)","v":""},null,null,null,null,null,{"$error":"#DIV/0!"},null,null,{"$error":"#DIV/0!"},{"$error":"#DIV/0!"}]
[129,{"$f":"IF(SISWA!B136=0,\"\",SISWA!B136)","v":""},{"$f":"IF(SISWA!C136=0,\"\",SISWA!C136)","v":""},{"$f":"IF(SISWA!D136=0,\"\",SISWA!D136)","v":"129-"},{"$f":"IF(SISWA!E136=0,\"\",SISWA!E136)","v":""},null,null,null,null,null,{"$error":"#DIV/0!"},null,null,{"$error":"#DIV/0!"},{"$error":"#DIV/0!"}]
[130,{"$f":"IF(SISWA!B137=0,\"\",SISWA!B137)","v":""},{"$f":"IF(SISWA!C137=0,\"\",SISWA!C137)","v":""},{"$f":"IF(SISWA!D137=0,\"\",SISWA!D137)","v":"130-"},{"$f":"IF(SISWA!E137=0,\"\",SISWA!E137)","v":""},null,null,null,null,null,{"$f":"AVERAGE(F137:J137)","v":{"$error":"#DIV/0!"}},null,null,{"$f":"AVERAGE(L137:M137)","v":{"$error":"#DIV/0!"}},{"$f":"AVERAGE(L137:M137)","v":{"$error":"#DIV/0!"}}]
[131,{"$f":"IF(SISWA!B138=0,\"\",SISWA!B138)","v":""},{"$f":"IF(SISWA!C138=0,\"\",SISWA!C138)","v":""},{"$f":"IF(SISWA!D138=0,\"\",SISWA!D138)","v":"131-"},{"$f":"IF(SISWA!E138=0,\"\",SISWA!E138)","v":""},null,null,null,null,null,{"$error":"#DIV/0!"},null,null,{"$error":"#DIV/0!"},{"$error":"#DIV/0!"}]
[132,{"$f":"IF(SISWA!B139=0,\"\",SISWA!B139)","v":""},{"$f":"IF(SISWA!C139=0,\"\",SISWA!C139)","v":""},{"$f":"IF(SISWA!D139=0,\"\",SISWA!D139)","v":"132-"},{"$f":"IF(SISWA!E139=0,\"\",SISWA!E139)","v":""},null,null,null,null,null,{"$error":"#DIV/0!"},null,null,{"$error":"#DIV/0!"},{"$error":"#DIV/0!"}]
[133,{"$f":"IF(SISWA!B140=0,\"\",SISWA!B140)","v":""},{"$f":"IF(SISWA!C140=0,\"\",SISWA!C140)","v":""},{"$f":"IF(SISWA!D140=0,\"\",SISWA!D140)","v":"133-"},{"$f":"IF(SISWA!E140=0,\"\",SISWA!E140)","v":""},null,null,null,null,null,{"$error":"#DIV/0!"},null,null,{"$error":"#DIV/0!"},{"$error":"#DIV/0!"}]
[134,{"$f":"IF(SISWA!B141=0,\"\",SISWA!B141)","v":""},{"$f":"IF(SISWA!C141=0,\"\",SISWA!C141)","v":""},{"$f":"IF(SISWA!D141=0,\"\",SISWA!D141)","v":"134-"},{"$f":"IF(SISWA!E141=0,\"\",SISWA!E141)","v":""},null,null,null,null,null,{"$error":"#DIV/0!"},null,null,{"$error":"#DIV/0!"},{"$error":"#DIV/0!"}]
[135,{"$f":"IF(SISWA!B142=0,\"\",SISWA!B142)","v":""},{"$f":"IF(SISWA!C142=0,\"\",SISWA!C142)","v":""},{"$f":"IF(SISWA!D142=0,\"\",SISWA!D142)","v":"135-"},{"$f":"IF(SISWA!E142=0,\"\",SISWA!E142)","v":""},null,null,null,null,null,{"$error":"#DIV/0!"},null,null,{"$error":"#DIV/0!"},{"$error":"#DIV/0!"}]
[136,{"$f":"IF(SISWA!B143=0,\"\",SISWA!B143)","v":""},{"$f":"IF(SISWA!C143=0,\"\",SISWA!C143)","v":""},{"$f":"IF(SISWA!D143=0,\"\",SISWA!D143)","v":"136-"},{"$f":"IF(SISWA!E143=0,\"\",SISWA!E143)","v":""},null,null,null,null,null,{"$error":"#DIV/0!"},null,null,{"$error":"#DIV/0!"},{"$error":"#DIV/0!"}]
[137,{"$f":"IF(SISWA!B144=0,\"\",SISWA!B144)","v":""},{"$f":"IF(SISWA!C144=0,\"\",SISWA!C144)","v":""},{"$f":"IF(SISWA!D144=0,\"\",SISWA!D144)","v":"137-"},{"$f":"IF(SISWA!E144=0,\"\",SISWA!E144)","v":""},null,null,null,null,null,{"$error":"#DIV/0!"},null,null,{"$error":"#DIV/0!"},{"$error":"#DIV/0!"}]
[138,{"$f":"IF(SISWA!B145=0,\"\",SISWA!B145)","v":""},{"$f":"IF(SISWA!C145=0,\"\",SISWA!C145)","v":""},{"$f":"IF(SISWA!D145=0,\"\",SISWA!D145)","v":"138-"},{"$f":"IF(SISWA!E145=0,\"\",SISWA!E145)","v":""},null,null,null,null,null,{"$error":"#DIV/0!"},null,null,{"$error":"#DIV/0!"},{"$error":"#DIV/0!"}]
[139,{"$f":"IF(SISWA!B146=0,\"\",SISWA!B146)","v":""},{"$f":"IF(SISWA!C146=0,\"\",SISWA!C146)","v":""},{"$f":"IF(SISWA!D146=0,\"\",SISWA!D146)","v":"139-"},{"$f":"IF(SISWA!E146=0,\"\",SISWA!E146)","v":""},null,null,null,null,null,{"$error":"#DIV/0!"},null,null,{"$error":"#DIV/0!"},{"$error":"#DIV/0!"}]
[140,{"$f":"IF(SISWA!B147=0,\"\",SISWA!B147)","v":""},{"$f":"IF(SISWA!C147=0,\"\",SISWA!C147)","v":""},{"$f":"IF(SISWA!D147=0,\"\",SISWA!D147)","v":"140-"},{"$f":"IF(SISWA!E147=0,\"\",SISWA!E147)","v":""},null,null,null,null,null,{"$error":"#DIV/0!"},null,null,{"$error":"#DIV/0!"},{"$error":"#DIV/0!"}]
[141,{"$f":"IF(SISWA!B148=0,\"\",SISWA!B148)","v":""},{"$f":"IF(SISWA!C148=0,\"\",SISWA!C148)","v":""},{"$f":"IF(SISWA!D148=0,\"\",SISWA!D148)","v":"141-"},{"$f":"IF(SISWA!E148=0,\"\",SISWA!E148)","v":""},null,null,null,null,null,{"$error":"#DIV/0!"},null,null,{"$error":"#DIV/0!"},{"$error":"#DIV/0!"}]
[142,{"$f":"IF(SISWA!B149=0,\"\",SISWA!B149)","v":""},{"$f":"IF(SISWA!C149=0,\"\",SISWA!C149)","v":""},{"$f":"IF(SISWA!D149=0,\"\",SISWA!D149)","v":"142-"},{"$f":"IF(SISWA!E149=0,\"\",SISWA!E149)","v":""},null,null,null,null,null,{"$error":"#DIV/0!"},null,null,{"$error":"#DIV/0!"},{"$error":"#DIV/0!"}]
[143,{"$f":"IF(SISWA!B150=0,\"\",SISWA!B150)","v":""},{"$f":"IF(SISWA!C150=0,\"\",SISWA!C150)","v":""},{"$f":"IF(SISWA!D150=0,\"\",SISWA!D150)","v":"143-"},{"$f":"IF(SISWA!E150=0,\"\",SISWA!E150)","v":""},null,null,null,null,null,{"$error":"#DIV/0!"},null,null,{"$error":"#DIV/0!"},{"$error":"#DIV/0!"}]
[144,{"$f":"IF(SISWA!B151=0,\"\",SISWA!B151)","v":""},{"$f":"IF(SISWA!C151=0,\"\",SISWA!C151)","v":""},{"$f":"IF(SISWA!D151=0,\"\",SISWA!D151)","v":"144-"},{"$f":"IF(SISWA!E151=0,\"\",SISWA!E151)","v":""},null,null,null,null,null,{"$error":"#DIV/0!"},null,null,{"$error":"#DIV/0!"},{"$error":"#DIV/0!"}]
[145,{"$f":"IF(SISWA!B152=0,\"\",SISWA!B152)","v":""},{"$f":"IF(SISWA!C152=0,\"\",SISWA!C152)","v":""},{"$f":"IF(SISWA!D152=0,\"\",SISWA!D152)","v":"145-"},{"$f":"IF(SISWA!E152=0,\"\",SISWA!E152)","v":""},null,null,null,null,null,{"$error":"#DIV/0!"},null,null,{"$error":"#DIV/0!"},{"$error":"#DIV/0!"}]
[146,{"$f":"IF(SISWA!B153=0,\"\",SISWA!B153)","v":""},{"$f":"IF(SISWA!C153=0,\"\",SISWA!C153)","v":""},{"$f":"IF(SISWA!D153=0,\"\",SISWA!D153)","v":"146-"},{"$f":"IF(SISWA!E153=0,\"\",SISWA!E153)","v":""},null,null,null,null,null,{"$error":"#DIV/0!"},null,null,{"$error":"#DIV/0!"},{"$error":"#DIV/0!"}]
[147,{"$f":"IF(SISWA!B154=0,\"\",SISWA!B154)","v":""},{"$f":"IF(SISWA!C154=0,\"\",SISWA!C154)","v":""},{"$f":"IF(SISWA!D154=0,\"\",SISWA!D154)","v":"147-"},{"$f":"IF(SISWA!E154=0,\"\",SISWA!E154)","v":""},null,null,null,null,null,{"$error":"#DIV/0!"},null,null,{"$error":"#DIV/0!"},{"$error":"#DIV/0!"}]
[148,{"$f":"IF(SISWA!B155=0,\"\",SISWA!B155)","v":""},{"$f":"IF(SISWA!C155=0,\"\",SISWA!C155)","v":""},{"$f":"IF(SISWA!D155=0,\"\",SISWA!D155)","v":"148-"},{"$f":"IF(SISWA!E155=0,\"\",SISWA!E155)","v":""},null,null,null,null,null,{"$error":"#DIV/0!"},null,null,{"$error":"#DIV/0!"},{"$error":"#DIV/0!"}]
[149,{"$f":"IF(SISWA!B156=0,\"\",SISWA!B156)","v":""},{"$f":"IF(SISWA!C156=0,\"\",SISWA!C156)","v":""},{"$f":"IF(SISWA!D156=0,\"\",SISWA!D156)","v":"149-"},{"$f":"IF(SISWA!E156=0,\"\",SISWA!E156)","v":""},null,null,null,null,null,{"$error":"#DIV/0!"},null,null,{"$error":"#DIV/0!"},{"$error":"#DIV/0!"}]
[150,{"$f":"IF(SISWA!B157=0,\"\",SISWA!B157)","v":""},{"$f":"IF(SISWA!C157=0,\"\",SISWA!C157)","v":""},{"$f":"IF(SISWA!D157=0,\"\",SISWA!D157)","v":"150-"},{"$f":"IF(SISWA!E157=0,\"\",SISWA!E157)","v":""},null,null,null,null,null,{"$error":"#DIV/0!"},null,null,{"$error":"#DIV/0!"},{"$error":"#DIV/0!"}]
[151,{"$f":"IF(SISWA!B158=0,\"\",SISWA!B158)","v":""},{"$f":"IF(SISWA!C158=0,\"\",SISWA!C158)","v":""},{"$f":"IF(SISWA!D158=0,\"\",SISWA!D158)","v":"151-"},{"$f":"IF(SISWA!E158=0,\"\",SISWA!E158)","v":""},null,null,null,null,null,{"$error":"#DIV/0!"},null,null,{"$error":"#DIV/0!"},{"$error":"#DIV/0!"}]
[152,{"$f":"IF(SISWA!B159=0,\"\",SISWA!B159)","v":""},{"$f":"IF(SISWA!C159=0,\"\",SISWA!C159)","v":""},{"$f":"IF(SISWA!D159=0,\"\",SISWA!D159)","v":"152-"},{"$f":"IF(SISWA!E159=0,\"\",SISWA!E159)","v":""},null,null,null,null,null,{"$error":"#DIV/0!"},null,null,{"$error":"#DIV/0!"},{"$error":"#DIV/0!"}]
[153,{"$f":"IF(SISWA!B160=0,\"\",SISWA!B160)","v":""},{"$f":"IF(SISWA!C160=0,\"\",SISWA!C160)","v":""},{"$f":"IF(SISWA!D160=0,\"\",SISWA!D160)","v":"153-"},{"$f":"IF(SISWA!E160=0,\"\",SISWA!E160)","v":""},null,null,null,null,null,{"$error":"#DIV/0!"},null,null,{"$error":"#DIV/0!"},{"$error":"#DIV/0!"}]
[154,{"$f":"IF(SISWA!B161=0,\"\",SISWA!B161)","v":""},{"$f":"IF(SISWA!C161=0,\"\",SISWA!C161)","v":""},{"$f":"IF(SISWA!D161=0,\"\",SISWA!D161)","v":"154-"},{"$f":"IF(SISWA!E161=0,\"\",SISWA!E161)","v":""},null,null,null,null,null,{"$error":"#DIV/0!"},null,null,{"$error":"#DIV/0!"},{"$error":"#DIV/0!"}]
[155,{"$f":"IF(SISWA!B162=0,\"\",SISWA!B162)","v":""},{"$f":"IF(SISWA!C162=0,\"\",SISWA!C162)","v":""},{"$f":"IF(SISWA!D162=0,\"\",SISWA!D162)","v":"155-"},{"$f":"IF(SISWA!E162=0,\"\",SISWA!E162)","v":""},null,null,null,null,null,{"$error":"#DIV/0!"},null,null,{"$error":"#DIV/0!"},{"$error":"#DIV/0!"}]
[156,{"$f":"IF(SISWA!B163=0,\"\",SISWA!B163)","v":""},{"$f":"IF(SISWA!C163=0,\"\",SISWA!C163)","v":""},{"$f":"IF(SISWA!D163=0,\"\",SISWA!D163)","v":"156-"},{"$f":"IF(SISWA!E163=0,\"\",SISWA!E163)","v":""},null,null,null,null,null,{"$error":"#DIV/0!"},null,null,{"$error":"#DIV/0!"},{"$error":"#DIV/0!"}]
[157,{"$f":"IF(SISWA!B164=0,\"\",SISWA!B164)","v":""},{"$f":"IF(SISWA!C164=0,\"\",SISWA!C164)","v":""},{"$f":"IF(SISWA!D164=0,\"\",SISWA!D164)","v":"157-"},{"$f":"IF(SISWA!E164=0,\"\",SISWA!E164)","v":""},null,null,null,null,null,{"$error":"#DIV/0!"},null,null,{"$error":"#DIV/0!"},{"$error":"#DIV/0!"}]
[158,{"$f":"IF(SISWA!B165=0,\"\",SISWA!B165)","v":""},{"$f":"IF(SISWA!C165=0,\"\",SISWA!C165)","v":""},{"$f":"IF(SISWA!D165=0,\"\",SISWA!D165)","v":"158-"},{"$f":"IF(SISWA!E165=0,\"\",SISWA!E165)","v":""},null,null,null,null,null,{"$error":"#DIV/0!"},null,null,{"$error":"#DIV/0!"},{"$error":"#DIV/0!"}]
[159,{"$f":"IF(SISWA!B166=0,\"\",SISWA!B166)","v":""},{"$f":"IF(SISWA!C166=0,\"\",SISWA!C166)","v":""},{"$f":"IF(SISWA!D166=0,\"\",SISWA!D166)","v":"159-"},{"$f":"IF(SISWA!E166=0,\"\",SISWA!E166)","v":""},null,null,null,null,null,{"$error":"#DIV/0!"},null,null,{"$error":"#DIV/0!"},{"$error":"#DIV/0!"}]
[160,{"$f":"IF(SISWA!B167=0,\"\",SISWA!B167)","v":""},{"$f":"IF(SISWA!C167=0,\"\",SISWA!C167)","v":""},{"$f":"IF(SISWA!D167=0,\"\",SISWA!D167)","v":"160-"},{"$f":"IF(SISWA!E167=0,\"\",SISWA!E167)","v":""},null,null,null,null,null,{"$error":"#DIV/0!"},null,null,{"$error":"#DIV/0!"},{"$error":"#DIV/0!"}]
[161,{"$f":"IF(SISWA!B168=0,\"\",SISWA!B168)","v":""},{"$f":"IF(SISWA!C168=0,\"\",SISWA!C168)","v":""},{"$f":"IF(SISWA!D168=0,\"\",SISWA!D168)","v":"161-"},{"$f":"IF(SISWA!E168=0,\"\",SISWA!E168)","v":""},null,null,null,null,null,{"$error":"#DIV/0!"},null,null,{"$error":"#DIV/0!"},{"$error":"#DIV/0!"}]
[162,{"$f":"IF(SISWA!B169=0,\"\",SISWA!B169)","v":""},{"$f":"IF(SISWA!C169=0,\"\",SISWA!C169)","v":""},{"$f":"IF(SISWA!D169=0,\"\",SISWA!D169)","v":"162-"},{"$f":"IF(SISWA!E169=0,\"\",SISWA!E169)","v":""},null,null,null,null,null,{"$error":"#DIV/0!"},null,null,{"$error":"#DIV/0!"},{"$error":"#DIV/0!"}]
[163,{"$f":"IF(SISWA!B170=0,\"\",SISWA!B170)","v":""},{"$f":"IF(SISWA!C170=0,\"\",SISWA!C170)","v":""},{"$f":"IF(SISWA!D170=0,\"\",SISWA!D170)","v":"163-"},{"$f":"IF(SISWA!E170=0,\"\",SISWA!E170)","v":""},null,null,null,null,null,{"$error":"#DIV/0!"},null,null,{"$error":"#DIV/0!"},{"$error":"#DIV/0!"}]
[164,{"$f":"IF(SISWA!B171=0,\"\",SISWA!B171)","v":""},{"$f":"IF(SISWA!C171=0,\"\",SISWA!C171)","v":""},{"$f":"IF(SISWA!D171=0,\"\",SISWA!D171)","v":"164-"},{"$f":"IF(SISWA!E171=0,\"\",SISWA!E171)","v":""},null,null,null,null,null,{"$error":"#DIV/0!"},null,null,{"$error":"#DIV/0!"},{"$error":"#DIV/0!"}]
[165,{"$f":"IF(SISWA!B172=0,\"\",SISWA!B172)","v":""},{"$f":"IF(SISWA!C172=0,\"\",SISWA!C172)","v":""},{"$f":"IF(SISWA!D172=0,\"\",SISWA!D172)","v":"165-"},{"$f":"IF(SISWA!E172=0,\"\",SISWA!E172)","v":""},null,null,null,null,null,{"$error":"#DIV/0!"},null,null,{"$error":"#DIV/0!"},{"$error":"#DIV/0!"}]
[166,{"$f":"IF(SISWA!B173=0,\"\",SISWA!B173)","v":""},{"$f":"IF(SISWA!C173=0,\"\",SISWA!C173)","v":""},{"$f":"IF(SISWA!D173=0,\"\",SISWA!D173)","v":"166-"},{"$f":"IF(SISWA!E173=0,\"\",SISWA!E173)","v":""},null,null,null,null,null,{"$error":"#DIV/0!"},null,null,{"$error":"#DIV/0!"},{"$error":"#DIV/0!"}]
[167,{"$f":"IF(SISWA!B174=0,\"\",SISWA!B174)","v":""},{"$f":"IF(SISWA!C174=0,\"\",SISWA!C174)","v":""},{"$f":"IF(SISWA!D174=0,\"\",SISWA!D174)","v":"167-"},{"$f":"IF(SISWA!E174=0,\"\",SISWA!E174)","v":""},null,null,null,null,null,{"$error":"#DIV/0!"},null,null,{"$error":"#DIV/0!"},{"$error":"#DIV/0!"}]
[168,{"$f":"IF(SISWA!B175=0,\"\",SISWA!B175)","v":""},{"$f":"IF(SISWA!C175=0,\"\",SISWA!C175)","v":""},{"$f":"IF(SISWA!D175=0,\"\",SISWA!D175)","v":"168-"},{"$f":"IF(SISWA!E175=0,\"\",SISWA!E175)","v":""},null,null,null,null,null,{"$error":"#DIV/0!"},null,null,{"$error":"#DIV/0!"},{"$error":"#DIV/0!"}]
[169,{"$f":"IF(SISWA!B176=0,\"\",SISWA!B176)","v":""},{"$f":"IF(SISWA!C176=0,\"\",SISWA!C176)","v":""},{"$f":"IF(SISWA!D176=0,\"\",SISWA!D176)","v":"169-"},{"$f":"IF(SISWA!E176=0,\"\",SISWA!E176)","v":""},null,null,null,null,null,{"$error":"#DIV/0!"},null,null,{"$error":"#DIV/0!"},{"$error":"#DIV/0!"}]
[170,{"$f":"IF(SISWA!B177=0,\"\",SISWA!B177)","v":""},{"$f":"IF(SISWA!C177=0,\"\",SISWA!C177)","v":""},{"$f":"IF(SISWA!D177=0,\"\",SISWA!D177)","v":"170-"},{"$f":"IF(SISWA!E177=0,\"\",SISWA!E177)","v":""},null,null,null,null,null,{"$error":"#DIV/0!"},null,null,{"$error":"#DIV/0!"},{"$error":"#DIV/0!"}]
[171,{"$f":"IF(SISWA!B178=0,\"\",SISWA!B178)","v":""},{"$f":"IF(SISWA!C178=0,\"\",SISWA!C178)","v":""},{"$f":"IF(SISWA!D178=0,\"\",SISWA!D178)","v":"171-"},{"$f":"IF(SISWA!E178=0,\"\",SISWA!E178)","v":""},null,null,null,null,null,{"$error":"#DIV/0!"},null,null,{"$error":"#DIV/0!"},{"$error":"#DIV/0!"}]
[172,{"$f":"IF(SISWA!B179=0,\"\",SISWA!B179)","v":""},{"$f":"IF(SISWA!C179=0,\"\",SISWA!C179)","v":""},{"$f":"IF(SISWA!D179=0,\"\",SISWA!D179)","v":"172-"},{"$f":"IF(SISWA!E179=0,\"\",SISWA!E179)","v":""},null,null,null,null,null,{"$error":"#DIV/0!"},null,null,{"$error":"#DIV/0!"},{"$error":"#DIV/0!"}]
[173,{"$f":"IF(SISWA!B180=0,\"\",SISWA!B180)","v":""},{"$f":"IF(SISWA!C180=0,\"\",SISWA!C180)","v":""},{"$f":"IF(SISWA!D180=0,\"\",SISWA!D180)","v":"173-"},{"$f":"IF(SISWA!E180=0,\"\",SISWA!E180)","v":""},null,null,null,null,null,{"$error":"#DIV/0!"},null,null,{"$error":"#DIV/0!"},{"$error":"#DIV/0!"}]
[174,{"$f":"IF(SISWA!B181=0,\"\",SISWA!B181)","v":""},{"$f":"IF(SISWA!C181=0,\"\",SISWA!C181)","v":""},{"$f":"IF(SISWA!D181=0,\"\",SISWA!D181)","v":"174-"},{"$f":"IF(SISWA!E181=0,\"\",SISWA!E181)","v":""},null,null,null,null,null,{"$error":"#DIV/0!"},null,null,{"$error":"#DIV/0!"},{"$error":"#DIV/0!"}]
[175,{"$f":"IF(SISWA!B182=0,\"\",SISWA!B182)","v":""},{"$f":"IF(SISWA!C182=0,\"\",SISWA!C182)","v":""},{"$f":"IF(SISWA!D182=0,\"\",SISWA!D182)","v":"175-"},{"$f":"IF(SISWA!E182=0,\"\",SISWA!E182)","v":""},null,null,null,null,null,{"$error":"#DIV/0!"},null,null,{"$error":"#DIV/0!"},{"$error":"#DIV/0!"}]
[176,{"$f":"IF(SISWA!B183=0,\"\",SISWA!B183)","v":""},{"$f":"IF(SISWA!C183=0,\"\",SISWA!C183)","v":""},{"$f":"IF(SISWA!D183=0,\"\",SISWA!D183)","v":"176-"},{"$f":"IF(SISWA!E183=0,\"\",SISWA!E183)","v":""},null,null,null,null,null,{"$error":"#DIV/0!"},null,null,{"$error":"#DIV/0!"},{"$error":"#DIV/0!"}]
[177,{"$f":"IF(SISWA!B184=0,\"\",SISWA!B184)","v":""},{"$f":"IF(SISWA!C184=0,\"\",SISWA!C184)","v":""},{"$f":"IF(SISWA!D184=0,\"\",SISWA!D184)","v":"177-"},{"$f":"IF(SISWA!E184=0,\"\",SISWA!E184)","v":""},null,null,null,null,null,{"$error":"#DIV/0!"},null,null,{"$error":"#DIV/0!"},{"$error":"#DIV/0!"}]
[178,{"$f":"IF(SISWA!B185=0,\"\",SISWA!B185)","v":""},{"$f":"IF(SISWA!C185=0,\"\",SISWA!C185)","v":""},{"$f":"IF(SISWA!D185=0,\"\",SISWA!D185)","v":"178-"},{"$f":"IF(SISWA!E185=0,\"\",SISWA!E185)","v":""},null,null,null,null,null,{"$error":"#DIV/0!"},null,null,{"$error":"#DIV/0!"},{"$error":"#DIV/0!"}]
[179,{"$f":"IF(SISWA!B186=0,\"\",SISWA!B186)","v":""},{"$f":"IF(SISWA!C186=0,\"\",SISWA!C186)","v":""},{"$f":"IF(SISWA!D186=0,\"\",SISWA!D186)","v":"179-"},{"$f":"IF(SISWA!E186=0,\"\",SISWA!E186)","v":""},null,null,null,null,null,{"$error":"#DIV/0!"},null,null,{"$error":"#DIV/0!"},{"$error":"#DIV/0!"}]
[180,{"$f":"IF(SISWA!B187=0,\"\",SISWA!B187)","v":""},{"$f":"IF(SISWA!C187=0,\"\",SISWA!C187)","v":""},{"$f":"IF(SISWA!D187=0,\"\",SISWA!D187)","v":"180-"},{"$f":"IF(SISWA!E187=0,\"\",SISWA!E187)","v":""},null,null,null,null,null,{"$error":"#DIV/0!"},null,null,{"$error":"#DIV/0!"},{"$error":"#DIV/0!"}]
[181,{"$f":"IF(SISWA!B188=0,\"\",SISWA!B188)","v":""},{"$f":"IF(SISWA!C188=0,\"\",SISWA!C188)","v":""},{"$f":"IF(SISWA!D188=0,\"\",SISWA!D188)","v":"181-"},{"$f":"IF(SISWA!E188=0,\"\",SISWA!E188)","v":""},null,null,null,null,null,{"$error":"#DIV/0!"},null,null,{"$error":"#DIV/0!"},{"$error":"#DIV/0!"}]
[182,{"$f":"IF(SISWA!B189=0,\"\",SISWA!B189)","v":""},{"$f":"IF(SISWA!C189=0,\"\",SISWA!C189)","v":""},{"$f":"IF(SISWA!D189=0,\"\",SISWA!D189)","v":"182-"},{"$f":"IF(SISWA!E189=0,\"\",SISWA!E189)","v":""},null,null,null,null,null,{"$error":"#DIV/0!"},null,null,{"$error":"#DIV/0!"},{"$error":"#DIV/0!"}]
[183,{"$f":"IF(SISWA!B190=0,\"\",SISWA!B190)","v":""},{"$f":"IF(SISWA!C190=0,\"\",SISWA!C190)","v":""},{"$f":"IF(SISWA!D190=0,\"\",SISWA!D190)","v":"183-"},{"$f":"IF(SISWA!E190=0,\"\",SISWA!E190)","v":""},null,null,null,null,null,{"$error":"#DIV/0!"},null,null,{"$error":"#DIV/0!"},{"$error":"#DIV/0!"}]
[184,{"$f":"IF(SISWA!B191=0,\"\",SISWA!B191)","v":""},{"$f":"IF(SISWA!C191=0,\"\",SISWA!C191)","v":""},{"$f":"IF(SISWA!D191=0,\"\",SISWA!D191)","v":"184-"},{"$f":"IF(SISWA!E191=0,\"\",SISWA!E191)","v":""},null,null,null,null,null,{"$error":"#DIV/0!"},null,null,{"$error":"#DIV/0!"},{"$error":"#DIV/0!"}]
[185,{"$f":"IF(SISWA!B192=0,\"\",SISWA!B192)","v":""},{"$f":"IF(SISWA!C192=0,\"\",SISWA!C192)","v":""},{"$f":"IF(SISWA!D192=0,\"\",SISWA!D192)","v":"185-"},{"$f":"IF(SISWA!E192=0,\"\",SISWA!E192)","v":""},null,null,null,null,null,{"$error":"#DIV/0!"},null,null,{"$error":"#DIV/0!"},{"$error":"#DIV/0!"}]
[186,{"$f":"IF(SISWA!B193=0,\"\",SISWA!B193)","v":""},{"$f":"IF(SISWA!C193=0,\"\",SISWA!C193)","v":""},{"$f":"IF(SISWA!D193=0,\"\",SISWA!D193)","v":"186-"},{"$f":"IF(SISWA!E193=0,\"\",SISWA!E193)","v":""},null,null,null,null,null,{"$error":"#DIV/0!"},null,null,{"$error":"#DIV/0!"},{"$error":"#DIV/0!"}]
[187,{"$f":"IF(SISWA!B194=0,\"\",SISWA!B194)","v":""},{"$f":"IF(SISWA!C194=0,\"\",SISWA!C194)","v":""},{"$f":"IF(SISWA!D194=0,\"\",SISWA!D194)","v":"187-"},{"$f":"IF(SISWA!E194=0,\"\",SISWA!E194)","v":""},null,null,null,null,null,{"$error":"#DIV/0!"},null,null,{"$error":"#DIV/0!"},{"$error":"#DIV/0!"}]
[188,{"$f":"IF(SISWA!B195=0,\"\",SISWA!B195)","v":""},{"$f":"IF(SISWA!C195=0,\"\",SISWA!C195)","v":""},{"$f":"IF(SISWA!D195=0,\"\",SISWA!D195)","v":"188-"},{"$f":"IF(SISWA!E195=0,\"\",SISWA!E195)","v":""},null,null,null,null,null,{"$error":"#DIV/0!"},null,null,{"$error":"#DIV/0!"},{"$error":"#DIV/0!"}]
[189,{"$f":"IF(SISWA!B196=0,\"\",SISWA!B196)","v":""},{"$f":"IF(SISWA!C196=0,\"\",SISWA!C196)","v":""},{"$f":"IF(SISWA!D196=0,\"\",SISWA!D196)","v":"189-"},{"$f":"IF(SISWA!E196=0,\"\",SISWA!E196)","v":""},null,null,null,null,null,{"$error":"#DIV/0!"},null,null,{"$error":"#DIV/0!"},{"$error":"#DIV/0!"}]
[190,{"$f":"IF(SISWA!B197=0,\"\",SISWA!B197)","v":""},{"$f":"IF(SISWA!C197=0,\"\",SISWA!C197)","v":""},{"$f":"IF(SISWA!D197=0,\"\",SISWA!D197)","v":"190-"},{"$f":"IF(SISWA!E197=0,\"\",SISWA!E197)","v":""},null,null,null,null,null,{"$error":"#DIV/0!"},null,null,{"$error":"#DIV/0!"},{"$error":"#DIV/0!"}]
[191,{"$f":"IF(SISWA!B198=0,\"\",SISWA!B198)","v":""},{"$f":"IF(SISWA!C198=0,\"\",SISWA!C198)","v":""},{"$f":"IF(SISWA!D198=0,\"\",SISWA!D198)","v":"191-"},{"$f":"IF(SISWA!E198=0,\"\",SISWA!E198)","v":""},null,null,null,null,null,{"$error":"#DIV/0!"},null,null,{"$error":"#DIV/0!"},{"$error":"#DIV/0!"}]
[192,{"$f":"IF(SISWA!B199=0,\"\",SISWA!B199)","v":""},{"$f":"IF(SISWA!C199=0,\"\",SISWA!C199)","v":""},{"$f":"IF(SISWA!D199=0,\"\",SISWA!D199)","v":"192-"},{"$f":"IF(SISWA!E199=0,\"\",SISWA!E199)","v":""},null,null,null,null,null,{"$error":"#DIV/0!"},null,null,{"$error":"#DIV/0!"},{"$error":"#DIV/0!"}]
[193,{"$f":"IF(SISWA!B200=0,\"\",SISWA!B200)","v":""},{"$f":"IF(SISWA!C200=0,\"\",SISWA!C200)","v":""},{"$f":"IF(SISWA!D200=0,\"\",SISWA!D200)","v":"193-"},{"$f":"IF(SISWA!E200=0,\"\",SISWA!E200)","v":""},null,null,null,null,null,{"$error":"#DIV/0!"},null,null,{"$error":"#DIV/0!"},{"$error":"#DIV/0!"}]
[194,{"$f":"IF(SISWA!B201=0,\"\",SISWA!B201)","v":""},{"$f":"IF(SISWA!C201=0,\"\",SISWA!C201)","v":""},{"$f":"IF(SISWA!D201=0,\"\",SISWA!D201)","v":"194-"},{"$f":"IF(SISWA!E201=0,\"\",SISWA!E201)","v":""},null,null,null,null,null,{"$f":"AVERAGE(F201:J201)","v":{"$error":"#DIV/0!"}},null,null,{"$f":"AVERAGE(L201:M201)","v":{"$error":"#DIV/0!"}},{"$f":"AVERAGE(L201:M201)","v":{"$error":"#DIV/0!"}}]
[195,{"$f":"IF(SISWA!B202=0,\"\",SISWA!B202)","v":""},{"$f":"IF(SISWA!C202=0,\"\",SISWA!C202)","v":""},{"$f":"IF(SISWA!D202=0,\"\",SISWA!D202)","v":"195-"},{"$f":"IF(SISWA!E202=0,\"\",SISWA!E202)","v":""},null,null,null,null,null,{"$error":"#DIV/0!"},null,null,{"$error":"#DIV/0!"},{"$error":"#DIV/0!"}]
[196,{"$f":"IF(SISWA!B203=0,\"\",SISWA!B203)","v":""},{"$f":"IF(SISWA!C203=0,\"\",SISWA!C203)","v":""},{"$f":"IF(SISWA!D203=0,\"\",SISWA!D203)","v":"196-"},{"$f":"IF(SISWA!E203=0,\"\",SISWA!E203)","v":""},null,null,null,null,null,{"$error":"#DIV/0!"},null,null,{"$error":"#DIV/0!"},{"$error":"#DIV/0!"}]
[197,{"$f":"IF(SISWA!B204=0,\"\",SISWA!B204)","v":""},{"$f":"IF(SISWA!C204=0,\"\",SISWA!C204)","v":""},{"$f":"IF(SISWA!D204=0,\"\",SISWA!D204)","v":"197-"},{"$f":"IF(SISWA!E204=0,\"\",SISWA!E204)","v":""},null,null,null,null,null,{"$error":"#DIV/0!"},null,null,{"$error":"#DIV/0!"},{"$error":"#DIV/0!"}]
[198,{"$f":"IF(SISWA!B205=0,\"\",SISWA!B205)","v":""},{"$f":"IF(SISWA!C205=0,\"\",SISWA!C205)","v":""},{"$f":"IF(SISWA!D205=0,\"\",SISWA!D205)","v":"198-"},{"$f":"IF(SISWA!E205=0,\"\",SISWA!E205)","v":""},null,null,null,null,null,{"$error":"#DIV/0!"},null,null,{"$error":"#DIV/0!"},{"$error":"#DIV/0!"}]
[199,{"$f":"IF(SISWA!B206=0,\"\",SISWA!B206)","v":""},{"$f":"IF(SISWA!C206=0,\"\",SISWA!C206)","v":""},{"$f":"IF(SISWA!D206=0,\"\",SISWA!D206)","v":"199-"},{"$f":"IF(SISWA!E206=0,\"\",SISWA!E206)","v":""},null,null,null,null,null,{"$error":"#DIV/0!"},null,null,{"$error":"#DIV/0!"},{"$error":"#DIV/0!"}]
[200,{"$f":"IF(SISWA!B207=0,\"\",SISWA!B207)","v":""},{"$f":"IF(SISWA!C207=0,\"\",SISWA!C207)","v":""},{"$f":"IF(SISWA!D207=0,\"\",SISWA!D207)","v":"200-"},{"$f":"IF(SISWA!E207=0,\"\",SISWA!E207)","v":""},null,null,null,null,null,{"$error":"#DIV/0!"},null,null,{"$error":"#DIV/0!"},{"$error":"#DIV/0!"}]

{"sheet":"MTK","index":10,"n_rows":207,"n_cols":15,"rows_kept":207,"cut":false,"hidden":false,"merged":[[4,5,4,12],[0,0,0,9],[1,0,1,9],[2,0,2,9],[4,0,6,0],[4,1,6,1],[4,2,6,2],[4,3,6,3],[4,4,6,4],[5,5,5,9],[5,11,5,12]]}
["DAFTAR NILAI AKHIR SEKOLAH"]
[{"$f":"AA!A2","v":"MADRASAH IBTIDAIYAH NURUL ISLAM LABRUK KIDUL"}]
[{"$f":"AA!A3","v":"TAHUN PELAJARAN 2018/2019"}]
[]
["NO","No Induk","NISN","Nomor Peserta","Nama Peserta","MATEMATIKA"]
[null,null,null,null,null,"Nilai Semester",null,null,null,null,"Rata- 2","NILAI US"]
[null,null,null,null,null,7,8,9,10,11,"Rapor","TULIS","PRAKTIK"]
[1,{"$f":"IF(SISWA!B8=0,\"\",SISWA!B8)","v":4270},{"$f":"IF(SISWA!C8=0,\"\",SISWA!C8)","v":"0067566336"},{"$f":"IF(SISWA!D8=0,\"\",SISWA!D8)","v":"1-18-05-80-162-001-9"},{"$f":"IF(SISWA!E8=0,\"\",SISWA!E8)","v":"ADITYA MAULA FANDY TAULANI"},80,78,81,83,96,{"$f":"AVERAGE(F8:J8)","v":83.6},77.33,null,{"$f":"IF(L8>95,\"GANTI\",\"\")","v":""},{"$f":"AVERAGE(F8:J8,L8)","v":82.554999999999993}]
[2,{"$f":"IF(SISWA!B9=0,\"\",SISWA!B9)","v":4300},{"$f":"IF(SISWA!C9=0,\"\",SISWA!C9)","v":"0066364963"},{"$f":"IF(SISWA!D9=0,\"\",SISWA!D9)","v":"1-18-05-80-162-002-8"},{"$f":"IF(SISWA!E9=0,\"\",SISWA!E9)","v":"AHMAD FERDIAN ALAMSYAH"},65,63,69,71,84,{"$f":"AVERAGE(F9:J9)","v":70.400000000000006},30.64,null,{"$f":"IF(L9>95,\"GANTI\",\"\")","v":""},{"$f":"AVERAGE(F9:J9,L9)","v":63.773333333333333}]
[3,{"$f":"IF(SISWA!B10=0,\"\",SISWA!B10)","v":4271},{"$f":"IF(SISWA!C10=0,\"\",SISWA!C10)","v":"0062805893"},{"$f":"IF(SISWA!D10=0,\"\",SISWA!D10)","v":"1-18-05-80-162-003-7"},{"$f":"IF(SISWA!E10=0,\"\",SISWA!E10)","v":"AHMAD RAMADHANI FADLULLOH"},74,69,76,73,89,76.2,21.31,null,"",67.051666666666662]
[4,{"$f":"IF(SISWA!B11=0,\"\",SISWA!B11)","v":4398},{"$f":"IF(SISWA!C11=0,\"\",SISWA!C11)","v":"0062399399"},{"$f":"IF(SISWA!D11=0,\"\",SISWA!D11)","v":"1-18-05-80-162-004-6"},{"$f":"IF(SISWA!E11=0,\"\",SISWA!E11)","v":"ANANDA AMILIA"},67,64,71,70,81,70.599999999999994,37.64,null,"",65.106666666666669]
[5,{"$f":"IF(SISWA!B12=0,\"\",SISWA!B12)","v":4272},{"$f":"IF(SISWA!C12=0,\"\",SISWA!C12)","v":"0071551428"},{"$f":"IF(SISWA!D12=0,\"\",SISWA!D12)","v":"1-18-05-80-162-005-5"},{"$f":"IF(SISWA!E12=0,\"\",SISWA!E12)","v":"ANDINI MAULID DWI LESTARI"},71,70,73,76,81,74.2,39.979999999999997,null,"",68.49666666666667]
[6,{"$f":"IF(SISWA!B13=0,\"\",SISWA!B13)","v":4301},{"$f":"IF(SISWA!C13=0,\"\",SISWA!C13)","v":"0061907599"},{"$f":"IF(SISWA!D13=0,\"\",SISWA!D13)","v":"1-18-05-80-162-006-4"},{"$f":"IF(SISWA!E13=0,\"\",SISWA!E13)","v":"ANDRIK YUSRI"},62,59,70,71,78,68,25.98,null,"",60.99666666666667]
[7,{"$f":"IF(SISWA!B14=0,\"\",SISWA!B14)","v":4273},{"$f":"IF(SISWA!C14=0,\"\",SISWA!C14)","v":"0067280519"},{"$f":"IF(SISWA!D14=0,\"\",SISWA!D14)","v":"1-18-05-80-162-007-3"},{"$f":"IF(SISWA!E14=0,\"\",SISWA!E14)","v":"DEWI SAKINAH ISWARA"},78,72,77,73,91,78.2,58.64,null,"",74.94]
[8,{"$f":"IF(SISWA!B15=0,\"\",SISWA!B15)","v":4307},{"$f":"IF(SISWA!C15=0,\"\",SISWA!C15)","v":"0066012198"},{"$f":"IF(SISWA!D15=0,\"\",SISWA!D15)","v":"1-18-05-80-162-008-2"},{"$f":"IF(SISWA!E15=0,\"\",SISWA!E15)","v":"CHAKIM"},64,59,72,69,80,68.8,32.979999999999997,null,"",62.830000000000005]
[9,{"$f":"IF(SISWA!B16=0,\"\",SISWA!B16)","v":4275},{"$f":"IF(SISWA!C16=0,\"\",SISWA!C16)","v":"0078199679"},{"$f":"IF(SISWA!D16=0,\"\",SISWA!D16)","v":"1-18-05-80-162-009-9"},{"$f":"IF(SISWA!E16=0,\"\",SISWA!E16)","v":"HANIK APRILIA SARI"},77,75,75,73,82,76.400000000000006,67.33,null,"",74.888333333333335]
[10,{"$f":"IF(SISWA!B17=0,\"\",SISWA!B17)","v":"4238"},{"$f":"IF(SISWA!C17=0,\"\",SISWA!C17)","v":"0051503260"},{"$f":"IF(SISWA!D17=0,\"\",SISWA!D17)","v":"1-18-05-80-162-010-8"},{"$f":"IF(SISWA!E17=0,\"\",SISWA!E17)","v":"DESI NATALIA SAPUTRI"},62,57,71,67,79,67.2,21.31,null,"",59.551666666666669]
[11,{"$f":"IF(SISWA!B18=0,\"\",SISWA!B18)","v":4391},{"$f":"IF(SISWA!C18=0,\"\",SISWA!C18)","v":"0079418518"},{"$f":"IF(SISWA!D18=0,\"\",SISWA!D18)","v":"1-18-05-80-162-011-7"},{"$f":"IF(SISWA!E18=0,\"\",SISWA!E18)","v":"HIDAYATUL KHUMAINIA"},65,64,73,75,81,71.599999999999994,37.32,null,"",65.88666666666667]
[12,{"$f":"IF(SISWA!B19=0,\"\",SISWA!B19)","v":4274},{"$f":"IF(SISWA!C19=0,\"\",SISWA!C19)","v":"0077670297"},{"$f":"IF(SISWA!D19=0,\"\",SISWA!D19)","v":"1-18-05-80-162-012-6"},{"$f":"IF(SISWA!E19=0,\"\",SISWA!E19)","v":"DWITA FITA WULANDARI"},68,66,73,73,81,72.2,21.31,null,"",63.718333333333334]
[13,{"$f":"IF(SISWA!B20=0,\"\",SISWA!B20)","v":4276},{"$f":"IF(SISWA!C20=0,\"\",SISWA!C20)","v":"0067236848"},{"$f":"IF(SISWA!D20=0,\"\",SISWA!D20)","v":"1-18-05-80-162-013-5"},{"$f":"IF(SISWA!E20=0,\"\",SISWA!E20)","v":"IZZA ILMIA AZZAHRA"},77,73,77,74,85,77.2,30.32,null,"",69.38666666666667]
[14,{"$f":"IF(SISWA!B21=0,\"\",SISWA!B21)","v":4303},{"$f":"IF(SISWA!C21=0,\"\",SISWA!C21)","v":"0064031376"},{"$f":"IF(SISWA!D21=0,\"\",SISWA!D21)","v":"1-18-05-80-162-014-4"},{"$f":"IF(SISWA!E21=0,\"\",SISWA!E21)","v":"FARIDATUS SAHDIAH"},66,60,72,75,82,71,30.64,null,"",64.273333333333326]
[15,{"$f":"IF(SISWA!B22=0,\"\",SISWA!B22)","v":4278},{"$f":"IF(SISWA!C22=0,\"\",SISWA!C22)","v":"0079672823"},{"$f":"IF(SISWA!D22=0,\"\",SISWA!D22)","v":"1-18-05-80-162-015-3"},{"$f":"IF(SISWA!E22=0,\"\",SISWA!E22)","v":"KHARISYA AZZAHRO"},84,82,75,75,89,81,73,null,"",79.666666666666671]
[16,{"$f":"IF(SISWA!B23=0,\"\",SISWA!B23)","v":4277},{"$f":"IF(SISWA!C23=0,\"\",SISWA!C23)","v":"0077101453"},{"$f":"IF(SISWA!D23=0,\"\",SISWA!D23)","v":"1-18-05-80-162-016-2"},{"$f":"IF(SISWA!E23=0,\"\",SISWA!E23)","v":"KARINA FEBBY CAHYA AMILIA"},76,72,74,70,81,74.599999999999994,28.31,null,"",66.885000000000005]
[17,{"$f":"IF(SISWA!B24=0,\"\",SISWA!B24)","v":4601},{"$f":"IF(SISWA!C24=0,\"\",SISWA!C24)","v":"0069718082"},{"$f":"IF(SISWA!D24=0,\"\",SISWA!D24)","v":"1-18-05-80-162-017-9"},{"$f":"IF(SISWA!E24=0,\"\",SISWA!E24)","v":"MOCHAMAD RIFKY ROSAN"},71,69,74,80,79,74.599999999999994,32.65,null,"",67.608333333333334]
[18,{"$f":"IF(SISWA!B25=0,\"\",SISWA!B25)","v":"4241"},{"$f":"IF(SISWA!C25=0,\"\",SISWA!C25)","v":"0057006145"},{"$f":"IF(SISWA!D25=0,\"\",SISWA!D25)","v":"1-18-05-80-162-018-8"},{"$f":"IF(SISWA!E25=0,\"\",SISWA!E25)","v":"KHUSNI CAHYONO"},65,61,69,66,79,68,25.98,null,"",60.99666666666667]
[19,{"$f":"IF(SISWA!B26=0,\"\",SISWA!B26)","v":4280},{"$f":"IF(SISWA!C26=0,\"\",SISWA!C26)","v":"0062061356"},{"$f":"IF(SISWA!D26=0,\"\",SISWA!D26)","v":"1-18-05-80-162-019-7"},{"$f":"IF(SISWA!E26=0,\"\",SISWA!E26)","v":"MUCHAMMAD ALIEF FERDIANSYAH"},78,74,74,77,94,79.400000000000006,69.98,null,"",77.83]
[20,{"$f":"IF(SISWA!B27=0,\"\",SISWA!B27)","v":4306},{"$f":"IF(SISWA!C27=0,\"\",SISWA!C27)","v":"0069095925"},{"$f":"IF(SISWA!D27=0,\"\",SISWA!D27)","v":"1-18-05-80-162-020-6"},{"$f":"IF(SISWA!E27=0,\"\",SISWA!E27)","v":"LENNY AGUSTIN NINGTYAS"},62,58,72,70,79,68.2,30.64,null,"",61.94]
[21,{"$f":"IF(SISWA!B28=0,\"\",SISWA!B28)","v":4281},{"$f":"IF(SISWA!C28=0,\"\",SISWA!C28)","v":"0069153972"},{"$f":"IF(SISWA!D28=0,\"\",SISWA!D28)","v":"1-18-05-80-162-021-5"},{"$f":"IF(SISWA!E28=0,\"\",SISWA!E28)","v":"MUHAMMAD AGUS ANDRIANTO"},74,67,74,71,89,75,27,null,"",67]
[22,{"$f":"IF(SISWA!B29=0,\"\",SISWA!B29)","v":4308},{"$f":"IF(SISWA!C29=0,\"\",SISWA!C29)","v":"0063078335"},{"$f":"IF(SISWA!D29=0,\"\",SISWA!D29)","v":"1-18-05-80-162-022-4"},{"$f":"IF(SISWA!E29=0,\"\",SISWA!E29)","v":"MAURIS HIDAYATUR ROCHMAN"},71,70,72,74,83,74,37.64,null,"",67.94]
[23,{"$f":"IF(SISWA!B30=0,\"\",SISWA!B30)","v":4314},{"$f":"IF(SISWA!C30=0,\"\",SISWA!C30)","v":"0072178353"},{"$f":"IF(SISWA!D30=0,\"\",SISWA!D30)","v":"1-18-05-80-162-023-3"},{"$f":"IF(SISWA!E30=0,\"\",SISWA!E30)","v":"MUHAMMAD BISMAR TAUFIQUROHMAN"},71,71,75,75,81,74.599999999999994,65.319999999999993,null,"",73.053333333333327]
[24,{"$f":"IF(SISWA!B31=0,\"\",SISWA!B31)","v":4309},{"$f":"IF(SISWA!C31=0,\"\",SISWA!C31)","v":"0072198448"},{"$f":"IF(SISWA!D31=0,\"\",SISWA!D31)","v":"1-18-05-80-162-024-2"},{"$f":"IF(SISWA!E31=0,\"\",SISWA!E31)","v":"MAYA BUNGA ANJANI"},63,60,73,70,82,69.599999999999994,21.31,null,"",61.551666666666669]
[25,{"$f":"IF(SISWA!B32=0,\"\",SISWA!B32)","v":4320},{"$f":"IF(SISWA!C32=0,\"\",SISWA!C32)","v":"0064566227"},{"$f":"IF(SISWA!D32=0,\"\",SISWA!D32)","v":"1-18-05-80-162-025-9"},{"$f":"IF(SISWA!E32=0,\"\",SISWA!E32)","v":"MUHAMMAD SAHLAN SHODIQ"},73,75,75,76,82,76.2,32.979999999999997,null,"",68.99666666666667]
[26,{"$f":"IF(SISWA!B33=0,\"\",SISWA!B33)","v":4279},{"$f":"IF(SISWA!C33=0,\"\",SISWA!C33)","v":"0066637092"},{"$f":"IF(SISWA!D33=0,\"\",SISWA!D33)","v":"1-18-05-80-162-026-8"},{"$f":"IF(SISWA!E33=0,\"\",SISWA!E33)","v":"MITA SEPTIANI ISLAMIA"},64,59,71,70,81,69,25.98,null,"",61.830000000000005]
[27,{"$f":"IF(SISWA!B34=0,\"\",SISWA!B34)","v":4321},{"$f":"IF(SISWA!C34=0,\"\",SISWA!C34)","v":"0061244045"},{"$f":"IF(SISWA!D34=0,\"\",SISWA!D34)","v":"1-18-05-80-162-027-7"},{"$f":"IF(SISWA!E34=0,\"\",SISWA!E34)","v":"MUHAMMAD SEPTYAN EKA PRATAMA"},74,71,73,76,78,74.400000000000006,37.32,null,"",68.22]
[28,{"$f":"IF(SISWA!B35=0,\"\",SISWA!B35)","v":"4247"},{"$f":"IF(SISWA!C35=0,\"\",SISWA!C35)","v":"0053546157"},{"$f":"IF(SISWA!D35=0,\"\",SISWA!D35)","v":"1-18-05-80-162-028-6"},{"$f":"IF(SISWA!E35=0,\"\",SISWA!E35)","v":"MOCHAMAD ARIEL FRANS TITO"},63,57,72,74,79,69,36.33,null,"",63.555]
[29,{"$f":"IF(SISWA!B36=0,\"\",SISWA!B36)","v":4285},{"$f":"IF(SISWA!C36=0,\"\",SISWA!C36)","v":"0067871553"},{"$f":"IF(SISWA!D36=0,\"\",SISWA!D36)","v":"1-18-05-80-162-029-5"},{"$f":"IF(SISWA!E36=0,\"\",SISWA!E36)","v":"MUHAMMAD VERYANSYAH"},76,72,72,83,82,77,74,null,"",76.5]
[30,{"$f":"IF(SISWA!B37=0,\"\",SISWA!B37)","v":4310},{"$f":"IF(SISWA!C37=0,\"\",SISWA!C37)","v":"0066383678"},{"$f":"IF(SISWA!D37=0,\"\",SISWA!D37)","v":"1-18-05-80-162-030-4"},{"$f":"IF(SISWA!E37=0,\"\",SISWA!E37)","v":"MOCHAMMAD BIMA RISFANDA"},63,61,71,71,79,69,23.64,null,"",61.44]
[31,{"$f":"IF(SISWA!B38=0,\"\",SISWA!B38)","v":4286},{"$f":"IF(SISWA!C38=0,\"\",SISWA!C38)","v":"0064443822"},{"$f":"IF(SISWA!D38=0,\"\",SISWA!D38)","v":"1-18-05-80-162-031-3"},{"$f":"IF(SISWA!E38=0,\"\",SISWA!E38)","v":"MUHAMMAD ZIDNY NA'IM"},82,83,73,79,83,80,71.989999999999995,null,"",78.665000000000006]
[32,{"$f":"IF(SISWA!B39=0,\"\",SISWA!B39)","v":4282},{"$f":"IF(SISWA!C39=0,\"\",SISWA!C39)","v":"0068336765"},{"$f":"IF(SISWA!D39=0,\"\",SISWA!D39)","v":"1-18-05-80-162-032-2"},{"$f":"IF(SISWA!E39=0,\"\",SISWA!E39)","v":"MUHAMMAD AGUS FERDIANSYAH"},74,69,71,78,87,75.8,25.98,null,"",67.49666666666667]
[33,{"$f":"IF(SISWA!B40=0,\"\",SISWA!B40)","v":4287},{"$f":"IF(SISWA!C40=0,\"\",SISWA!C40)","v":"0064528717"},{"$f":"IF(SISWA!D40=0,\"\",SISWA!D40)","v":"1-18-05-80-162-033-9"},{"$f":"IF(SISWA!E40=0,\"\",SISWA!E40)","v":"MUHAMMAD FARDAN ABDILLAH"},72,null,72,70,null,71.333333333333329,34.99,null,"",62.247500000000002]
[34,{"$f":"IF(SISWA!B41=0,\"\",SISWA!B41)","v":4315},{"$f":"IF(SISWA!C41=0,\"\",SISWA!C41)","v":"0067870495"},{"$f":"IF(SISWA!D41=0,\"\",SISWA!D41)","v":"1-18-05-80-162-034-8"},{"$f":"IF(SISWA!E41=0,\"\",SISWA!E41)","v":"NABILA ARISKA PUTRI"},78,77,73,69,88,77,34,null,"",69.833333333333329]
[35,{"$f":"IF(SISWA!B42=0,\"\",SISWA!B42)","v":4288},{"$f":"IF(SISWA!C42=0,\"\",SISWA!C42)","v":"0068641191"},{"$f":"IF(SISWA!D42=0,\"\",SISWA!D42)","v":"1-18-05-80-162-035-7"},{"$f":"IF(SISWA!E42=0,\"\",SISWA!E42)","v":"MUHAMMAD FERDINAN JAYYIDAH RIFQI"},76,76,74,75,87,77.599999999999994,63.31,null,"",75.218333333333334]
[36,{"$f":"IF(SISWA!B43=0,\"\",SISWA!B43)","v":4283},{"$f":"IF(SISWA!C43=0,\"\",SISWA!C43)","v":"0077212388"},{"$f":"IF(SISWA!D43=0,\"\",SISWA!D43)","v":"1-18-05-80-162-036-6"},{"$f":"IF(SISWA!E43=0,\"\",SISWA!E43)","v":"NAFISA INDRIANI"},79,77,78,77,88,79.8,60.65,null,"",76.608333333333334]
[37,{"$f":"IF(SISWA!B44=0,\"\",SISWA!B44)","v":"4257"},{"$f":"IF(SISWA!C44=0,\"\",SISWA!C44)","v":"0069944706"},{"$f":"IF(SISWA!D44=0,\"\",SISWA!D44)","v":"1-18-05-80-162-037-5"},{"$f":"IF(SISWA!E44=0,\"\",SISWA!E44)","v":"MUHAMMAD FIRMANSYAH"},68,60,74,76,81,71.8,27.99,null,"",64.498333333333335]
[38,{"$f":"IF(SISWA!B45=0,\"\",SISWA!B45)","v":4317},{"$f":"IF(SISWA!C45=0,\"\",SISWA!C45)","v":"0068498059"},{"$f":"IF(SISWA!D45=0,\"\",SISWA!D45)","v":"1-18-05-80-162-038-4"},{"$f":"IF(SISWA!E45=0,\"\",SISWA!E45)","v":"NAJWA FARISYA BAROROH"},71,75,74,82,90,78.400000000000006,16.649999999999999,null,"",68.108333333333334]
[39,{"$f":"IF(SISWA!B46=0,\"\",SISWA!B46)","v":4289},{"$f":"IF(SISWA!C46=0,\"\",SISWA!C46)","v":"0065225517"},{"$f":"IF(SISWA!D46=0,\"\",SISWA!D46)","v":"1-18-05-80-162-039-3"},{"$f":"IF(SISWA!E46=0,\"\",SISWA!E46)","v":"NUR FITRIYAH"},74,70,76,70,78,73.599999999999994,25.65,null,"",65.608333333333334]
[40,{"$f":"IF(SISWA!B47=0,\"\",SISWA!B47)","v":4318},{"$f":"IF(SISWA!C47=0,\"\",SISWA!C47)","v":"0061441364"},{"$f":"IF(SISWA!D47=0,\"\",SISWA!D47)","v":"1-18-05-80-162-040-2"},{"$f":"IF(SISWA!E47=0,\"\",SISWA!E47)","v":"MUHAMMAD HILDAN DWI SAPUTRA"},64,59,70,70,81,68.8,23.64,null,"",61.273333333333333]
[41,{"$f":"IF(SISWA!B48=0,\"\",SISWA!B48)","v":4392},{"$f":"IF(SISWA!C48=0,\"\",SISWA!C48)","v":"0075794532"},{"$f":"IF(SISWA!D48=0,\"\",SISWA!D48)","v":"1-18-05-80-162-041-9"},{"$f":"IF(SISWA!E48=0,\"\",SISWA!E48)","v":"PUTRI NAFI'ATUS SOLIKHAH"},72,67,73,70,87,73.8,32.65,null,"",66.941666666666663]
[42,{"$f":"IF(SISWA!B49=0,\"\",SISWA!B49)","v":4284},{"$f":"IF(SISWA!C49=0,\"\",SISWA!C49)","v":"0069578000"},{"$f":"IF(SISWA!D49=0,\"\",SISWA!D49)","v":"1-18-05-80-162-042-8"},{"$f":"IF(SISWA!E49=0,\"\",SISWA!E49)","v":"MUHAMMAD RAYA KAFAF JAUHARI"},78,74,72,71,83,75.599999999999994,32.979999999999997,null,"",68.49666666666667]
[43,{"$f":"IF(SISWA!B50=0,\"\",SISWA!B50)","v":4290},{"$f":"IF(SISWA!C50=0,\"\",SISWA!C50)","v":"0063558216"},{"$f":"IF(SISWA!D50=0,\"\",SISWA!D50)","v":"1-18-05-80-162-043-7"},{"$f":"IF(SISWA!E50=0,\"\",SISWA!E50)","v":"QORIATUN SHOLIHAH"},77,69,72,71,84,74.599999999999994,32.65,null,"",67.608333333333334]
[44,{"$f":"IF(SISWA!B51=0,\"\",SISWA!B51)","v":4319},{"$f":"IF(SISWA!C51=0,\"\",SISWA!C51)","v":"0065329770"},{"$f":"IF(SISWA!D51=0,\"\",SISWA!D51)","v":"1-18-05-80-162-044-6"},{"$f":"IF(SISWA!E51=0,\"\",SISWA!E51)","v":"MUHAMMAD RUDI TANTOWIK"},68,64,71,78,95,75.2,30.64,null,"",67.773333333333326]
[45,{"$f":"IF(SISWA!B52=0,\"\",SISWA!B52)","v":4291},{"$f":"IF(SISWA!C52=0,\"\",SISWA!C52)","v":"0067071679"},{"$f":"IF(SISWA!D52=0,\"\",SISWA!D52)","v":"1-18-05-80-162-045-5"},{"$f":"IF(SISWA!E52=0,\"\",SISWA!E52)","v":"RACHMAD HIDAYAT"},74,71,73,77,81,75.2,25.98,null,"",66.99666666666667]
[46,{"$f":"IF(SISWA!B53=0,\"\",SISWA!B53)","v":4322},{"$f":"IF(SISWA!C53=0,\"\",SISWA!C53)","v":"0051101989"},{"$f":"IF(SISWA!D53=0,\"\",SISWA!D53)","v":"1-18-05-80-162-046-4"},{"$f":"IF(SISWA!E53=0,\"\",SISWA!E53)","v":"MUHAMMAD ZULDIENUR HABIBIE"},63,59,70,70,79,68.2,23.32,null,"",60.72]
[47,{"$f":"IF(SISWA!B54=0,\"\",SISWA!B54)","v":4292},{"$f":"IF(SISWA!C54=0,\"\",SISWA!C54)","v":"0072001696"},{"$f":"IF(SISWA!D54=0,\"\",SISWA!D54)","v":"1-18-05-80-162-047-3"},{"$f":"IF(SISWA!E54=0,\"\",SISWA!E54)","v":"RHEA RAYSHANADA NUGRAHA"},77,79,72,77,84,77.8,39.65,null,"",71.441666666666663]
[48,{"$f":"IF(SISWA!B55=0,\"\",SISWA!B55)","v":4323},{"$f":"IF(SISWA!C55=0,\"\",SISWA!C55)","v":"0078949167"},{"$f":"IF(SISWA!D55=0,\"\",SISWA!D55)","v":"1-18-05-80-162-048-2"},{"$f":"IF(SISWA!E55=0,\"\",SISWA!E55)","v":"MUKHAMAD KHOIRUL AMIN"},64,62,72,73,79,70,32.65,null,"",63.774999999999999]
[49,{"$f":"IF(SISWA!B56=0,\"\",SISWA!B56)","v":4293},{"$f":"IF(SISWA!C56=0,\"\",SISWA!C56)","v":"0064217705"},{"$f":"IF(SISWA!D56=0,\"\",SISWA!D56)","v":"1-18-05-80-162-049-9"},{"$f":"IF(SISWA!E56=0,\"\",SISWA!E56)","v":"RIYANTI APRILIA"},78,68,72,70,89,75.400000000000006,34,null,"",68.5]
[50,{"$f":"IF(SISWA!B57=0,\"\",SISWA!B57)","v":"4256"},{"$f":"IF(SISWA!C57=0,\"\",SISWA!C57)","v":"0065699742"},{"$f":"IF(SISWA!D57=0,\"\",SISWA!D57)","v":"1-18-05-80-162-050-8"},{"$f":"IF(SISWA!E57=0,\"\",SISWA!E57)","v":"MUKHAMMAD YAASIIN HASAN KHASBULLOH"},70,70,74,74,86,74.8,25.98,null,"",66.663333333333341]
[51,{"$f":"IF(SISWA!B58=0,\"\",SISWA!B58)","v":4295},{"$f":"IF(SISWA!C58=0,\"\",SISWA!C58)","v":"0061359184"},{"$f":"IF(SISWA!D58=0,\"\",SISWA!D58)","v":"1-18-05-80-162-051-7"},{"$f":"IF(SISWA!E58=0,\"\",SISWA!E58)","v":"SHONIA AULIA AS'AD"},82,78,77,84,95,83.2,69.66,null,"",80.943333333333328]
[52,{"$f":"IF(SISWA!B59=0,\"\",SISWA!B59)","v":4294},{"$f":"IF(SISWA!C59=0,\"\",SISWA!C59)","v":"0064723905"},{"$f":"IF(SISWA!D59=0,\"\",SISWA!D59)","v":"1-18-05-80-162-052-6"},{"$f":"IF(SISWA!E59=0,\"\",SISWA!E59)","v":"RIZKA AYU WULANDARI"},73,66,73,70,79,72.2,32.65,null,"",65.608333333333334]
[53,{"$f":"IF(SISWA!B60=0,\"\",SISWA!B60)","v":4298},{"$f":"IF(SISWA!C60=0,\"\",SISWA!C60)","v":"0065530554"},{"$f":"IF(SISWA!D60=0,\"\",SISWA!D60)","v":"1-18-05-80-162-053-5"},{"$f":"IF(SISWA!E60=0,\"\",SISWA!E60)","v":"VERLINA DWI MAULANI"},78,71,74,74,81,75.599999999999994,23.64,null,"",66.94]
[54,{"$f":"IF(SISWA!B61=0,\"\",SISWA!B61)","v":4297},{"$f":"IF(SISWA!C61=0,\"\",SISWA!C61)","v":"0063846732"},{"$f":"IF(SISWA!D61=0,\"\",SISWA!D61)","v":"1-18-05-80-162-054-4"},{"$f":"IF(SISWA!E61=0,\"\",SISWA!E61)","v":"USWATUN KHASANAH"},63,60,76,72,84,71,25.98,null,"",63.49666666666667]
[55,{"$f":"IF(SISWA!B62=0,\"\",SISWA!B62)","v":4324},{"$f":"IF(SISWA!C62=0,\"\",SISWA!C62)","v":"0078966795"},{"$f":"IF(SISWA!D62=0,\"\",SISWA!D62)","v":"1-18-05-80-162-055-3"},{"$f":"IF(SISWA!E62=0,\"\",SISWA!E62)","v":"VIKA KUSUMA WATI"},73,71,74,70,86,74.8,33.32,null,"",67.88666666666667]
[56,{"$f":"IF(SISWA!B63=0,\"\",SISWA!B63)","v":4326},{"$f":"IF(SISWA!C63=0,\"\",SISWA!C63)","v":"0064124533"},{"$f":"IF(SISWA!D63=0,\"\",SISWA!D63)","v":"1-18-05-80-162-056-2"},{"$f":"IF(SISWA!E63=0,\"\",SISWA!E63)","v":"YOHAN EGA GILANG PERMANA"},64,null,71,70,79,71,27.99,null,"",62.398000000000003]
[57,{"$f":"IF(SISWA!B64=0,\"\",SISWA!B64)","v":""},{"$f":"IF(SISWA!C64=0,\"\",SISWA!C64)","v":""},{"$f":"IF(SISWA!D64=0,\"\",SISWA!D64)","v":"1-18-05-80-162-057-9"},{"$f":"IF(SISWA!E64=0,\"\",SISWA!E64)","v":""},null,null,null,null,null,{"$f":"AVERAGE(F64:J64)","v":{"$error":"#DIV/0!"}}]
[58,{"$f":"IF(SISWA!B65=0,\"\",SISWA!B65)","v":""},{"$f":"IF(SISWA!C65=0,\"\",SISWA!C65)","v":""},{"$f":"IF(SISWA!D65=0,\"\",SISWA!D65)","v":"1-18-05-80-162-058-8"},{"$f":"IF(SISWA!E65=0,\"\",SISWA!E65)","v":""},null,null,null,null,null,{"$error":"#DIV/0!"}]
[59,{"$f":"IF(SISWA!B66=0,\"\",SISWA!B66)","v":""},{"$f":"IF(SISWA!C66=0,\"\",SISWA!C66)","v":""},{"$f":"IF(SISWA!D66=0,\"\",SISWA!D66)","v":"1-18-05-80-162-059-7"},{"$f":"IF(SISWA!E66=0,\"\",SISWA!E66)","v":""},null,null,null,null,null,{"$error":"#DIV/0!"}]
[60,{"$f":"IF(SISWA!B67=0,\"\",SISWA!B67)","v":""},{"$f":"IF(SISWA!C67=0,\"\",SISWA!C67)","v":""},{"$f":"IF(SISWA!D67=0,\"\",SISWA!D67)","v":"1-18-05-80-162-060-6"},{"$f":"IF(SISWA!E67=0,\"\",SISWA!E67)","v":""},null,null,null,null,null,{"$error":"#DIV/0!"}]
[61,{"$f":"IF(SISWA!B68=0,\"\",SISWA!B68)","v":""},{"$f":"IF(SISWA!C68=0,\"\",SISWA!C68)","v":""},{"$f":"IF(SISWA!D68=0,\"\",SISWA!D68)","v":"1-18-05-80-162-061-5"},{"$f":"IF(SISWA!E68=0,\"\",SISWA!E68)","v":""},null,null,null,null,null,{"$f":"AVERAGE(F68:J68)","v":{"$error":"#DIV/0!"}}]
[62,{"$f":"IF(SISWA!B69=0,\"\",SISWA!B69)","v":""},{"$f":"IF(SISWA!C69=0,\"\",SISWA!C69)","v":""},{"$f":"IF(SISWA!D69=0,\"\",SISWA!D69)","v":"062-4"},{"$f":"IF(SISWA!E69=0,\"\",SISWA!E69)","v":""},null,null,null,null,null,{"$error":"#DIV/0!"}]
[63,{"$f":"IF(SISWA!B70=0,\"\",SISWA!B70)","v":""},{"$f":"IF(SISWA!C70=0,\"\",SISWA!C70)","v":""},{"$f":"IF(SISWA!D70=0,\"\",SISWA!D70)","v":"063-3"},{"$f":"IF(SISWA!E70=0,\"\",SISWA!E70)","v":""},null,null,null,null,null,{"$error":"#DIV/0!"}]
[64,{"$f":"IF(SISWA!B71=0,\"\",SISWA!B71)","v":""},{"$f":"IF(SISWA!C71=0,\"\",SISWA!C71)","v":""},{"$f":"IF(SISWA!D71=0,\"\",SISWA!D71)","v":"064-2"},{"$f":"IF(SISWA!E71=0,\"\",SISWA!E71)","v":""},null,null,null,null,null,{"$error":"#DIV/0!"}]
[65,{"$f":"IF(SISWA!B72=0,\"\",SISWA!B72)","v":""},{"$f":"IF(SISWA!C72=0,\"\",SISWA!C72)","v":""},{"$f":"IF(SISWA!D72=0,\"\",SISWA!D72)","v":"065-"},{"$f":"IF(SISWA!E72=0,\"\",SISWA!E72)","v":""},null,null,null,null,null,{"$error":"#DIV/0!"}]
[66,{"$f":"IF(SISWA!B73=0,\"\",SISWA!B73)","v":""},{"$f":"IF(SISWA!C73=0,\"\",SISWA!C73)","v":""},{"$f":"IF(SISWA!D73=0,\"\",SISWA!D73)","v":"066-"},{"$f":"IF(SISWA!E73=0,\"\",SISWA!E73)","v":""},null,null,null,null,null,{"$error":"#DIV/0!"}]
[67,{"$f":"IF(SISWA!B74=0,\"\",SISWA!B74)","v":""},{"$f":"IF(SISWA!C74=0,\"\",SISWA!C74)","v":""},{"$f":"IF(SISWA!D74=0,\"\",SISWA!D74)","v":"067-"},{"$f":"IF(SISWA!E74=0,\"\",SISWA!E74)","v":""},null,null,null,null,null,{"$error":"#DIV/0!"}]
[68,{"$f":"IF(SISWA!B75=0,\"\",SISWA!B75)","v":""},{"$f":"IF(SISWA!C75=0,\"\",SISWA!C75)","v":""},{"$f":"IF(SISWA!D75=0,\"\",SISWA!D75)","v":"068-"},{"$f":"IF(SISWA!E75=0,\"\",SISWA!E75)","v":""},null,null,null,null,null,{"$error":"#DIV/0!"}]
[69,{"$f":"IF(SISWA!B76=0,\"\",SISWA!B76)","v":""},{"$f":"IF(SISWA!C76=0,\"\",SISWA!C76)","v":""},{"$f":"IF(SISWA!D76=0,\"\",SISWA!D76)","v":"069-"},{"$f":"IF(SISWA!E76=0,\"\",SISWA!E76)","v":""},null,null,null,null,null,{"$error":"#DIV/0!"}]
[70,{"$f":"IF(SISWA!B77=0,\"\",SISWA!B77)","v":""},{"$f":"IF(SISWA!C77=0,\"\",SISWA!C77)","v":""},{"$f":"IF(SISWA!D77=0,\"\",SISWA!D77)","v":"070-"},{"$f":"IF(SISWA!E77=0,\"\",SISWA!E77)","v":""},null,null,null,null,null,{"$error":"#DIV/0!"}]
[71,{"$f":"IF(SISWA!B78=0,\"\",SISWA!B78)","v":""},{"$f":"IF(SISWA!C78=0,\"\",SISWA!C78)","v":""},{"$f":"IF(SISWA!D78=0,\"\",SISWA!D78)","v":"071-"},{"$f":"IF(SISWA!E78=0,\"\",SISWA!E78)","v":""},null,null,null,null,null,{"$error":"#DIV/0!"}]
[72,{"$f":"IF(SISWA!B79=0,\"\",SISWA!B79)","v":""},{"$f":"IF(SISWA!C79=0,\"\",SISWA!C79)","v":""},{"$f":"IF(SISWA!D79=0,\"\",SISWA!D79)","v":"072-"},{"$f":"IF(SISWA!E79=0,\"\",SISWA!E79)","v":""},null,null,null,null,null,{"$error":"#DIV/0!"}]
[73,{"$f":"IF(SISWA!B80=0,\"\",SISWA!B80)","v":""},{"$f":"IF(SISWA!C80=0,\"\",SISWA!C80)","v":""},{"$f":"IF(SISWA!D80=0,\"\",SISWA!D80)","v":"073-"},{"$f":"IF(SISWA!E80=0,\"\",SISWA!E80)","v":""},null,null,null,null,null,{"$error":"#DIV/0!"}]
[74,{"$f":"IF(SISWA!B81=0,\"\",SISWA!B81)","v":""},{"$f":"IF(SISWA!C81=0,\"\",SISWA!C81)","v":""},{"$f":"IF(SISWA!D81=0,\"\",SISWA!D81)","v":"074-"},{"$f":"IF(SISWA!E81=0,\"\",SISWA!E81)","v":""},null,null,null,null,null,{"$error":"#DIV/0!"}]
[75,{"$f":"IF(SISWA!B82=0,\"\",SISWA!B82)","v":""},{"$f":"IF(SISWA!C82=0,\"\",SISWA!C82)","v":""},{"$f":"IF(SISWA!D82=0,\"\",SISWA!D82)","v":"075-"},{"$f":"IF(SISWA!E82=0,\"\",SISWA!E82)","v":""},null,null,null,null,null,{"$error":"#DIV/0!"}]
[76,{"$f":"IF(SISWA!B83=0,\"\",SISWA!B83)","v":""},{"$f":"IF(SISWA!C83=0,\"\",SISWA!C83)","v":""},{"$f":"IF(SISWA!D83=0,\"\",SISWA!D83)","v":"076-"},{"$f":"IF(SISWA!E83=0,\"\",SISWA!E83)","v":""},null,null,null,null,null,{"$error":"#DIV/0!"}]
[77,{"$f":"IF(SISWA!B84=0,\"\",SISWA!B84)","v":""},{"$f":"IF(SISWA!C84=0,\"\",SISWA!C84)","v":""},{"$f":"IF(SISWA!D84=0,\"\",SISWA!D84)","v":"077-"},{"$f":"IF(SISWA!E84=0,\"\",SISWA!E84)","v":""},null,null,null,null,null,{"$error":"#DIV/0!"}]
[78,{"$f":"IF(SISWA!B85=0,\"\",SISWA!B85)","v":""},{"$f":"IF(SISWA!C85=0,\"\",SISWA!C85)","v":""},{"$f":"IF(SISWA!D85=0,\"\",SISWA!D85)","v":"078-"},{"$f":"IF(SISWA!E85=0,\"\",SISWA!E85)","v":""},null,null,null,null,null,{"$error":"#DIV/0!"}]
[79,{"$f":"IF(SISWA!B86=0,\"\",SISWA!B86)","v":""},{"$f":"IF(SISWA!C86=0,\"\",SISWA!C86)","v":""},{"$f":"IF(SISWA!D86=0,\"\",SISWA!D86)","v":"079-"},{"$f":"IF(SISWA!E86=0,\"\",SISWA!E86)","v":""},null,null,null,null,null,{"$error":"#DIV/0!"}]
[80,{"$f":"IF(SISWA!B87=0,\"\",SISWA!B87)","v":""},{"$f":"IF(SISWA!C87=0,\"\",SISWA!C87)","v":""},{"$f":"IF(SISWA!D87=0,\"\",SISWA!D87)","v":"080-"},{"$f":"IF(SISWA!E87=0,\"\",SISWA!E87)","v":""},null,null,null,null,null,{"$error":"#DIV/0!"}]
[81,{"$f":"IF(SISWA!B88=0,\"\",SISWA!B88)","v":""},{"$f":"IF(SISWA!C88=0,\"\",SISWA!C88)","v":""},{"$f":"IF(SISWA!D88=0,\"\",SISWA!D88)","v":"081-"},{"$f":"IF(SISWA!E88=0,\"\",SISWA!E88)","v":""},null,null,null,null,null,{"$error":"#DIV/0!"}]
[82,{"$f":"IF(SISWA!B89=0,\"\",SISWA!B89)","v":""},{"$f":"IF(SISWA!C89=0,\"\",SISWA!C89)","v":""},{"$f":"IF(SISWA!D89=0,\"\",SISWA!D89)","v":"082-"},{"$f":"IF(SISWA!E89=0,\"\",SISWA!E89)","v":""},null,null,null,null,null,{"$error":"#DIV/0!"}]
[83,{"$f":"IF(SISWA!B90=0,\"\",SISWA!B90)","v":""},{"$f":"IF(SISWA!C90=0,\"\",SISWA!C90)","v":""},{"$f":"IF(SISWA!D90=0,\"\",SISWA!D90)","v":"083-"},{"$f":"IF(SISWA!E90=0,\"\",SISWA!E90)","v":""},null,null,null,null,null,{"$error":"#DIV/0!"}]
[84,{"$f":"IF(SISWA!B91=0,\"\",SISWA!B91)","v":""},{"$f":"IF(SISWA!C91=0,\"\",SISWA!C91)","v":""},{"$f":"IF(SISWA!D91=0,\"\",SISWA!D91)","v":"084-"},{"$f":"IF(SISWA!E91=0,\"\",SISWA!E91)","v":""},null,null,null,null,null,{"$error":"#DIV/0!"}]
[85,{"$f":"IF(SISWA!B92=0,\"\",SISWA!B92)","v":""},{"$f":"IF(SISWA!C92=0,\"\",SISWA!C92)","v":""},{"$f":"IF(SISWA!D92=0,\"\",SISWA!D92)","v":"085-"},{"$f":"IF(SISWA!E92=0,\"\",SISWA!E92)","v":""},null,null,null,null,null,{"$error":"#DIV/0!"}]
[86,{"$f":"IF(SISWA!B93=0,\"\",SISWA!B93)","v":""},{"$f":"IF(SISWA!C93=0,\"\",SISWA!C93)","v":""},{"$f":"IF(SISWA!D93=0,\"\",SISWA!D93)","v":"086-"},{"$f":"IF(SISWA!E93=0,\"\",SISWA!E93)","v":""},null,null,null,null,null,{"$error":"#DIV/0!"}]
[87,{"$f":"IF(SISWA!B94=0,\"\",SISWA!B94)","v":""},{"$f":"IF(SISWA!C94=0,\"\",SISWA!C94)","v":""},{"$f":"IF(SISWA!D94=0,\"\",SISWA!D94)","v":"087-"},{"$f":"IF(SISWA!E94=0,\"\",SISWA!E94)","v":""},null,null,null,null,null,{"$error":"#DIV/0!"}]
[88,{"$f":"IF(SISWA!B95=0,\"\",SISWA!B95)","v":""},{"$f":"IF(SISWA!C95=0,\"\",SISWA!C95)","v":""},{"$f":"IF(SISWA!D95=0,\"\",SISWA!D95)","v":"088-"},{"$f":"IF(SISWA!E95=0,\"\",SISWA!E95)","v":""},null,null,null,null,null,{"$error":"#DIV/0!"}]
[89,{"$f":"IF(SISWA!B96=0,\"\",SISWA!B96)","v":""},{"$f":"IF(SISWA!C96=0,\"\",SISWA!C96)","v":""},{"$f":"IF(SISWA!D96=0,\"\",SISWA!D96)","v":"089-"},{"$f":"IF(SISWA!E96=0,\"\",SISWA!E96)","v":""},null,null,null,null,null,{"$error":"#DIV/0!"}]
[90,{"$f":"IF(SISWA!B97=0,\"\",SISWA!B97)","v":""},{"$f":"IF(SISWA!C97=0,\"\",SISWA!C97)","v":""},{"$f":"IF(SISWA!D97=0,\"\",SISWA!D97)","v":"090-"},{"$f":"IF(SISWA!E97=0,\"\",SISWA!E97)","v":""},null,null,null,null,null,{"$error":"#DIV/0!"}]
[91,{"$f":"IF(SISWA!B98=0,\"\",SISWA!B98)","v":""},{"$f":"IF(SISWA!C98=0,\"\",SISWA!C98)","v":""},{"$f":"IF(SISWA!D98=0,\"\",SISWA!D98)","v":"091-"},{"$f":"IF(SISWA!E98=0,\"\",SISWA!E98)","v":""},null,null,null,null,null,{"$error":"#DIV/0!"}]
[92,{"$f":"IF(SISWA!B99=0,\"\",SISWA!B99)","v":""},{"$f":"IF(SISWA!C99=0,\"\",SISWA!C99)","v":""},{"$f":"IF(SISWA!D99=0,\"\",SISWA!D99)","v":"092-"},{"$f":"IF(SISWA!E99=0,\"\",SISWA!E99)","v":""},null,null,null,null,null,{"$error":"#DIV/0!"}]
[93,{"$f":"IF(SISWA!B100=0,\"\",SISWA!B100)","v":""},{"$f":"IF(SISWA!C100=0,\"\",SISWA!C100)","v":""},{"$f":"IF(SISWA!D100=0,\"\",SISWA!D100)","v":"093-"},{"$f":"IF(SISWA!E100=0,\"\",SISWA!E100)","v":""},null,null,null,null,null,{"$error":"#DIV/0!"}]
[94,{"$f":"IF(SISWA!B101=0,\"\",SISWA!B101)","v":""},{"$f":"IF(SISWA!C101=0,\"\",SISWA!C101)","v":""},{"$f":"IF(SISWA!D101=0,\"\",SISWA!D101)","v":"094-"},{"$f":"IF(SISWA!E101=0,\"\",SISWA!E101)","v":""},null,null,null,null,null,{"$error":"#DIV/0!"}]
[95,{"$f":"IF(SISWA!B102=0,\"\",SISWA!B102)","v":""},{"$f":"IF(SISWA!C102=0,\"\",SISWA!C102)","v":""},{"$f":"IF(SISWA!D102=0,\"\",SISWA!D102)","v":"095-"},{"$f":"IF(SISWA!E102=0,\"\",SISWA!E102)","v":""},null,null,null,null,null,{"$error":"#DIV/0!"}]
[96,{"$f":"IF(SISWA!B103=0,\"\",SISWA!B103)","v":""},{"$f":"IF(SISWA!C103=0,\"\",SISWA!C103)","v":""},{"$f":"IF(SISWA!D103=0,\"\",SISWA!D103)","v":"096-"},{"$f":"IF(SISWA!E103=0,\"\",SISWA!E103)","v":""},null,null,null,null,null,{"$error":"#DIV/0!"}]
[97,{"$f":"IF(SISWA!B104=0,\"\",SISWA!B104)","v":""},{"$f":"IF(SISWA!C104=0,\"\",SISWA!C104)","v":""},{"$f":"IF(SISWA!D104=0,\"\",SISWA!D104)","v":"097-"},{"$f":"IF(SISWA!E104=0,\"\",SISWA!E104)","v":""},null,null,null,null,null,{"$error":"#DIV/0!"}]
[98,{"$f":"IF(SISWA!B105=0,\"\",SISWA!B105)","v":""},{"$f":"IF(SISWA!C105=0,\"\",SISWA!C105)","v":""},{"$f":"IF(SISWA!D105=0,\"\",SISWA!D105)","v":"098-"},{"$f":"IF(SISWA!E105=0,\"\",SISWA!E105)","v":""},null,null,null,null,null,{"$error":"#DIV/0!"}]
[99,{"$f":"IF(SISWA!B106=0,\"\",SISWA!B106)","v":""},{"$f":"IF(SISWA!C106=0,\"\",SISWA!C106)","v":""},{"$f":"IF(SISWA!D106=0,\"\",SISWA!D106)","v":"099-"},{"$f":"IF(SISWA!E106=0,\"\",SISWA!E106)","v":""},null,null,null,null,null,{"$error":"#DIV/0!"}]
[100,{"$f":"IF(SISWA!B107=0,\"\",SISWA!B107)","v":""},{"$f":"IF(SISWA!C107=0,\"\",SISWA!C107)","v":""},{"$f":"IF(SISWA!D107=0,\"\",SISWA!D107)","v":"100-"},{"$f":"IF(SISWA!E107=0,\"\",SISWA!E107)","v":""},null,null,null,null,null,{"$error":"#DIV/0!"}]
[101,{"$f":"IF(SISWA!B108=0,\"\",SISWA!B108)","v":""},{"$f":"IF(SISWA!C108=0,\"\",SISWA!C108)","v":""},{"$f":"IF(SISWA!D108=0,\"\",SISWA!D108)","v":"101-"},{"$f":"IF(SISWA!E108=0,\"\",SISWA!E108)","v":""},null,null,null,null,null,{"$error":"#DIV/0!"}]
[102,{"$f":"IF(SISWA!B109=0,\"\",SISWA!B109)","v":""},{"$f":"IF(SISWA!C109=0,\"\",SISWA!C109)","v":""},{"$f":"IF(SISWA!D109=0,\"\",SISWA!D109)","v":"102-"},{"$f":"IF(SISWA!E109=0,\"\",SISWA!E109)","v":""},null,null,null,null,null,{"$error":"#DIV/0!"}]
[103,{"$f":"IF(SISWA!B110=0,\"\",SISWA!B110)","v":""},{"$f":"IF(SISWA!C110=0,\"\",SISWA!C110)","v":""},{"$f":"IF(SISWA!D110=0,\"\",SISWA!D110)","v":"103-"},{"$f":"IF(SISWA!E110=0,\"\",SISWA!E110)","v":""},null,null,null,null,null,{"$error":"#DIV/0!"}]
[104,{"$f":"IF(SISWA!B111=0,\"\",SISWA!B111)","v":""},{"$f":"IF(SISWA!C111=0,\"\",SISWA!C111)","v":""},{"$f":"IF(SISWA!D111=0,\"\",SISWA!D111)","v":"104-"},{"$f":"IF(SISWA!E111=0,\"\",SISWA!E111)","v":""},null,null,null,null,null,{"$error":"#DIV/0!"}]
[105,{"$f":"IF(SISWA!B112=0,\"\",SISWA!B112)","v":""},{"$f":"IF(SISWA!C112=0,\"\",SISWA!C112)","v":""},{"$f":"IF(SISWA!D112=0,\"\",SISWA!D112)","v":"105-"},{"$f":"IF(SISWA!E112=0,\"\",SISWA!E112)","v":""},null,null,null,null,null,{"$error":"#DIV/0!"}]
[106,{"$f":"IF(SISWA!B113=0,\"\",SISWA!B113)","v":""},{"$f":"IF(SISWA!C113=0,\"\",SISWA!C113)","v":""},{"$f":"IF(SISWA!D113=0,\"\",SISWA!D113)","v":"106-"},{"$f":"IF(SISWA!E113=0,\"\",SISWA!E113)","v":""},null,null,null,null,null,{"$error":"#DIV/0!"}]
[107,{"$f":"IF(SISWA!B114=0,\"\",SISWA!B114)","v":""},{"$f":"IF(SISWA!C114=0,\"\",SISWA!C114)","v":""},{"$f":"IF(SISWA!D114=0,\"\",SISWA!D114)","v":"107-"},{"$f":"IF(SISWA!E114=0,\"\",SISWA!E114)","v":""},null,null,null,null,null,{"$error":"#DIV/0!"}]
[108,{"$f":"IF(SISWA!B115=0,\"\",SISWA!B115)","v":""},{"$f":"IF(SISWA!C115=0,\"\",SISWA!C115)","v":""},{"$f":"IF(SISWA!D115=0,\"\",SISWA!D115)","v":"108-"},{"$f":"IF(SISWA!E115=0,\"\",SISWA!E115)","v":""},null,null,null,null,null,{"$error":"#DIV/0!"}]
[109,{"$f":"IF(SISWA!B116=0,\"\",SISWA!B116)","v":""},{"$f":"IF(SISWA!C116=0,\"\",SISWA!C116)","v":""},{"$f":"IF(SISWA!D116=0,\"\",SISWA!D116)","v":"109-"},{"$f":"IF(SISWA!E116=0,\"\",SISWA!E116)","v":""},null,null,null,null,null,{"$error":"#DIV/0!"}]
[110,{"$f":"IF(SISWA!B117=0,\"\",SISWA!B117)","v":""},{"$f":"IF(SISWA!C117=0,\"\",SISWA!C117)","v":""},{"$f":"IF(SISWA!D117=0,\"\",SISWA!D117)","v":"110-"},{"$f":"IF(SISWA!E117=0,\"\",SISWA!E117)","v":""},null,null,null,null,null,{"$error":"#DIV/0!"}]
[111,{"$f":"IF(SISWA!B118=0,\"\",SISWA!B118)","v":""},{"$f":"IF(SISWA!C118=0,\"\",SISWA!C118)","v":""},{"$f":"IF(SISWA!D118=0,\"\",SISWA!D118)","v":"111-"},{"$f":"IF(SISWA!E118=0,\"\",SISWA!E118)","v":""},null,null,null,null,null,{"$error":"#DIV/0!"}]
[112,{"$f":"IF(SISWA!B119=0,\"\",SISWA!B119)","v":""},{"$f":"IF(SISWA!C119=0,\"\",SISWA!C119)","v":""},{"$f":"IF(SISWA!D119=0,\"\",SISWA!D119)","v":"112-"},{"$f":"IF(SISWA!E119=0,\"\",SISWA!E119)","v":""},null,null,null,null,null,{"$error":"#DIV/0!"}]
[113,{"$f":"IF(SISWA!B120=0,\"\",SISWA!B120)","v":""},{"$f":"IF(SISWA!C120=0,\"\",SISWA!C120)","v":""},{"$f":"IF(SISWA!D120=0,\"\",SISWA!D120)","v":"113-"},{"$f":"IF(SISWA!E120=0,\"\",SISWA!E120)","v":""},null,null,null,null,null,{"$error":"#DIV/0!"}]
[114,{"$f":"IF(SISWA!B121=0,\"\",SISWA!B121)","v":""},{"$f":"IF(SISWA!C121=0,\"\",SISWA!C121)","v":""},{"$f":"IF(SISWA!D121=0,\"\",SISWA!D121)","v":"114-"},{"$f":"IF(SISWA!E121=0,\"\",SISWA!E121)","v":""},null,null,null,null,null,{"$error":"#DIV/0!"}]
[115,{"$f":"IF(SISWA!B122=0,\"\",SISWA!B122)","v":""},{"$f":"IF(SISWA!C122=0,\"\",SISWA!C122)","v":""},{"$f":"IF(SISWA!D122=0,\"\",SISWA!D122)","v":"115-"},{"$f":"IF(SISWA!E122=0,\"\",SISWA!E122)","v":""},null,null,null,null,null,{"$error":"#DIV/0!"}]
[116,{"$f":"IF(SISWA!B123=0,\"\",SISWA!B123)","v":""},{"$f":"IF(SISWA!C123=0,\"\",SISWA!C123)","v":""},{"$f":"IF(SISWA!D123=0,\"\",SISWA!D123)","v":"116-"},{"$f":"IF(SISWA!E123=0,\"\",SISWA!E123)","v":""},null,null,null,null,null,{"$error":"#DIV/0!"}]
[117,{"$f":"IF(SISWA!B124=0,\"\",SISWA!B124)","v":""},{"$f":"IF(SISWA!C124=0,\"\",SISWA!C124)","v":""},{"$f":"IF(SISWA!D124=0,\"\",SISWA!D124)","v":"117-"},{"$f":"IF(SISWA!E124=0,\"\",SISWA!E124)","v":""},null,null,null,null,null,{"$error":"#DIV/0!"}]
[118,{"$f":"IF(SISWA!B125=0,\"\",SISWA!B125)","v":""},{"$f":"IF(SISWA!C125=0,\"\",SISWA!C125)","v":""},{"$f":"IF(SISWA!D125=0,\"\",SISWA!D125)","v":"118-"},{"$f":"IF(SISWA!E125=0,\"\",SISWA!E125)","v":""},null,null,null,null,null,{"$error":"#DIV/0!"}]
[119,{"$f":"IF(SISWA!B126=0,\"\",SISWA!B126)","v":""},{"$f":"IF(SISWA!C126=0,\"\",SISWA!C126)","v":""},{"$f":"IF(SISWA!D126=0,\"\",SISWA!D126)","v":"119-"},{"$f":"IF(SISWA!E126=0,\"\",SISWA!E126)","v":""},null,null,null,null,null,{"$error":"#DIV/0!"}]
[120,{"$f":"IF(SISWA!B127=0,\"\",SISWA!B127)","v":""},{"$f":"IF(SISWA!C127=0,\"\",SISWA!C127)","v":""},{"$f":"IF(SISWA!D127=0,\"\",SISWA!D127)","v":"120-"},{"$f":"IF(SISWA!E127=0,\"\",SISWA!E127)","v":""},null,null,null,null,null,{"$error":"#DIV/0!"}]
[121,{"$f":"IF(SISWA!B128=0,\"\",SISWA!B128)","v":""},{"$f":"IF(SISWA!C128=0,\"\",SISWA!C128)","v":""},{"$f":"IF(SISWA!D128=0,\"\",SISWA!D128)","v":"121-"},{"$f":"IF(SISWA!E128=0,\"\",SISWA!E128)","v":""},null,null,null,null,null,{"$error":"#DIV/0!"}]
[122,{"$f":"IF(SISWA!B129=0,\"\",SISWA!B129)","v":""},{"$f":"IF(SISWA!C129=0,\"\",SISWA!C129)","v":""},{"$f":"IF(SISWA!D129=0,\"\",SISWA!D129)","v":"122-"},{"$f":"IF(SISWA!E129=0,\"\",SISWA!E129)","v":""},null,null,null,null,null,{"$error":"#DIV/0!"}]
[123,{"$f":"IF(SISWA!B130=0,\"\",SISWA!B130)","v":""},{"$f":"IF(SISWA!C130=0,\"\",SISWA!C130)","v":""},{"$f":"IF(SISWA!D130=0,\"\",SISWA!D130)","v":"123-"},{"$f":"IF(SISWA!E130=0,\"\",SISWA!E130)","v":""},null,null,null,null,null,{"$error":"#DIV/0!"}]
[124,{"$f":"IF(SISWA!B131=0,\"\",SISWA!B131)","v":""},{"$f":"IF(SISWA!C131=0,\"\",SISWA!C131)","v":""},{"$f":"IF(SISWA!D131=0,\"\",SISWA!D131)","v":"124-"},{"$f":"IF(SISWA!E131=0,\"\",SISWA!E131)","v":""},null,null,null,null,null,{"$error":"#DIV/0!"}]
[125,{"$f":"IF(SISWA!B132=0,\"\",SISWA!B132)","v":""},{"$f":"IF(SISWA!C132=0,\"\",SISWA!C132)","v":""},{"$f":"IF(SISWA!D132=0,\"\",SISWA!D132)","v":"125-"},{"$f":"IF(SISWA!E132=0,\"\",SISWA!E132)","v":""},null,null,null,null,null,{"$f":"AVERAGE(F132:J132)","v":{"$error":"#DIV/0!"}}]
[126,{"$f":"IF(SISWA!B133=0,\"\",SISWA!B133)","v":""},{"$f":"IF(SISWA!C133=0,\"\",SISWA!C133)","v":""},{"$f":"IF(SISWA!D133=0,\"\",SISWA!D133)","v":"126-"},{"$f":"IF(SISWA!E133=0,\"\",SISWA!E133)","v":""},null,null,null,null,null,{"$error":"#DIV/0!"}]
[127,{"$f":"IF(SISWA!B134=0,\"\",SISWA!B134)","v":""},{"$f":"IF(SISWA!C134=0,\"\",SISWA!C134)","v":""},{"$f":"IF(SISWA!D134=0,\"\",SISWA!D134)","v":"127-"},{"$f":"IF(SISWA!E134=0,\"\",SISWA!E134)","v":""},null,null,null,null,null,{"$error":"#DIV/0!"}]
[128,{"$f":"IF(SISWA!B135=0,\"\",SISWA!B135)","v":""},{"$f":"IF(SISWA!C135=0,\"\",SISWA!C135)","v":""},{"$f":"IF(SISWA!D135=0,\"\",SISWA!D135)","v":"128-"},{"$f":"IF(SISWA!E135=0,\"\",SISWA!E135)","v":""},null,null,null,null,null,{"$error":"#DIV/0!"}]
[129,{"$f":"IF(SISWA!B136=0,\"\",SISWA!B136)","v":""},{"$f":"IF(SISWA!C136=0,\"\",SISWA!C136)","v":""},{"$f":"IF(SISWA!D136=0,\"\",SISWA!D136)","v":"129-"},{"$f":"IF(SISWA!E136=0,\"\",SISWA!E136)","v":""},null,null,null,null,null,{"$error":"#DIV/0!"}]
[130,{"$f":"IF(SISWA!B137=0,\"\",SISWA!B137)","v":""},{"$f":"IF(SISWA!C137=0,\"\",SISWA!C137)","v":""},{"$f":"IF(SISWA!D137=0,\"\",SISWA!D137)","v":"130-"},{"$f":"IF(SISWA!E137=0,\"\",SISWA!E137)","v":""},null,null,null,null,null,{"$error":"#DIV/0!"}]
[131,{"$f":"IF(SISWA!B138=0,\"\",SISWA!B138)","v":""},{"$f":"IF(SISWA!C138=0,\"\",SISWA!C138)","v":""},{"$f":"IF(SISWA!D138=0,\"\",SISWA!D138)","v":"131-"},{"$f":"IF(SISWA!E138=0,\"\",SISWA!E138)","v":""},null,null,null,null,null,{"$error":"#DIV/0!"}]
[132,{"$f":"IF(SISWA!B139=0,\"\",SISWA!B139)","v":""},{"$f":"IF(SISWA!C139=0,\"\",SISWA!C139)","v":""},{"$f":"IF(SISWA!D139=0,\"\",SISWA!D139)","v":"132-"},{"$f":"IF(SISWA!E139=0,\"\",SISWA!E139)","v":""},null,null,null,null,null,{"$error":"#DIV/0!"}]
[133,{"$f":"IF(SISWA!B140=0,\"\",SISWA!B140)","v":""},{"$f":"IF(SISWA!C140=0,\"\",SISWA!C140)","v":""},{"$f":"IF(SISWA!D140=0,\"\",SISWA!D140)","v":"133-"},{"$f":"IF(SISWA!E140=0,\"\",SISWA!E140)","v":""},null,null,null,null,null,{"$error":"#DIV/0!"}]
[134,{"$f":"IF(SISWA!B141=0,\"\",SISWA!B141)","v":""},{"$f":"IF(SISWA!C141=0,\"\",SISWA!C141)","v":""},{"$f":"IF(SISWA!D141=0,\"\",SISWA!D141)","v":"134-"},{"$f":"IF(SISWA!E141=0,\"\",SISWA!E141)","v":""},null,null,null,null,null,{"$error":"#DIV/0!"}]
[135,{"$f":"IF(SISWA!B142=0,\"\",SISWA!B142)","v":""},{"$f":"IF(SISWA!C142=0,\"\",SISWA!C142)","v":""},{"$f":"IF(SISWA!D142=0,\"\",SISWA!D142)","v":"135-"},{"$f":"IF(SISWA!E142=0,\"\",SISWA!E142)","v":""},null,null,null,null,null,{"$error":"#DIV/0!"}]
[136,{"$f":"IF(SISWA!B143=0,\"\",SISWA!B143)","v":""},{"$f":"IF(SISWA!C143=0,\"\",SISWA!C143)","v":""},{"$f":"IF(SISWA!D143=0,\"\",SISWA!D143)","v":"136-"},{"$f":"IF(SISWA!E143=0,\"\",SISWA!E143)","v":""},null,null,null,null,null,{"$error":"#DIV/0!"}]
[137,{"$f":"IF(SISWA!B144=0,\"\",SISWA!B144)","v":""},{"$f":"IF(SISWA!C144=0,\"\",SISWA!C144)","v":""},{"$f":"IF(SISWA!D144=0,\"\",SISWA!D144)","v":"137-"},{"$f":"IF(SISWA!E144=0,\"\",SISWA!E144)","v":""},null,null,null,null,null,{"$error":"#DIV/0!"}]
[138,{"$f":"IF(SISWA!B145=0,\"\",SISWA!B145)","v":""},{"$f":"IF(SISWA!C145=0,\"\",SISWA!C145)","v":""},{"$f":"IF(SISWA!D145=0,\"\",SISWA!D145)","v":"138-"},{"$f":"IF(SISWA!E145=0,\"\",SISWA!E145)","v":""},null,null,null,null,null,{"$error":"#DIV/0!"}]
[139,{"$f":"IF(SISWA!B146=0,\"\",SISWA!B146)","v":""},{"$f":"IF(SISWA!C146=0,\"\",SISWA!C146)","v":""},{"$f":"IF(SISWA!D146=0,\"\",SISWA!D146)","v":"139-"},{"$f":"IF(SISWA!E146=0,\"\",SISWA!E146)","v":""},null,null,null,null,null,{"$error":"#DIV/0!"}]
[140,{"$f":"IF(SISWA!B147=0,\"\",SISWA!B147)","v":""},{"$f":"IF(SISWA!C147=0,\"\",SISWA!C147)","v":""},{"$f":"IF(SISWA!D147=0,\"\",SISWA!D147)","v":"140-"},{"$f":"IF(SISWA!E147=0,\"\",SISWA!E147)","v":""},null,null,null,null,null,{"$error":"#DIV/0!"}]
[141,{"$f":"IF(SISWA!B148=0,\"\",SISWA!B148)","v":""},{"$f":"IF(SISWA!C148=0,\"\",SISWA!C148)","v":""},{"$f":"IF(SISWA!D148=0,\"\",SISWA!D148)","v":"141-"},{"$f":"IF(SISWA!E148=0,\"\",SISWA!E148)","v":""},null,null,null,null,null,{"$error":"#DIV/0!"}]
[142,{"$f":"IF(SISWA!B149=0,\"\",SISWA!B149)","v":""},{"$f":"IF(SISWA!C149=0,\"\",SISWA!C149)","v":""},{"$f":"IF(SISWA!D149=0,\"\",SISWA!D149)","v":"142-"},{"$f":"IF(SISWA!E149=0,\"\",SISWA!E149)","v":""},null,null,null,null,null,{"$error":"#DIV/0!"}]
[143,{"$f":"IF(SISWA!B150=0,\"\",SISWA!B150)","v":""},{"$f":"IF(SISWA!C150=0,\"\",SISWA!C150)","v":""},{"$f":"IF(SISWA!D150=0,\"\",SISWA!D150)","v":"143-"},{"$f":"IF(SISWA!E150=0,\"\",SISWA!E150)","v":""},null,null,null,null,null,{"$error":"#DIV/0!"}]
[144,{"$f":"IF(SISWA!B151=0,\"\",SISWA!B151)","v":""},{"$f":"IF(SISWA!C151=0,\"\",SISWA!C151)","v":""},{"$f":"IF(SISWA!D151=0,\"\",SISWA!D151)","v":"144-"},{"$f":"IF(SISWA!E151=0,\"\",SISWA!E151)","v":""},null,null,null,null,null,{"$error":"#DIV/0!"}]
[145,{"$f":"IF(SISWA!B152=0,\"\",SISWA!B152)","v":""},{"$f":"IF(SISWA!C152=0,\"\",SISWA!C152)","v":""},{"$f":"IF(SISWA!D152=0,\"\",SISWA!D152)","v":"145-"},{"$f":"IF(SISWA!E152=0,\"\",SISWA!E152)","v":""},null,null,null,null,null,{"$error":"#DIV/0!"}]
[146,{"$f":"IF(SISWA!B153=0,\"\",SISWA!B153)","v":""},{"$f":"IF(SISWA!C153=0,\"\",SISWA!C153)","v":""},{"$f":"IF(SISWA!D153=0,\"\",SISWA!D153)","v":"146-"},{"$f":"IF(SISWA!E153=0,\"\",SISWA!E153)","v":""},null,null,null,null,null,{"$error":"#DIV/0!"}]
[147,{"$f":"IF(SISWA!B154=0,\"\",SISWA!B154)","v":""},{"$f":"IF(SISWA!C154=0,\"\",SISWA!C154)","v":""},{"$f":"IF(SISWA!D154=0,\"\",SISWA!D154)","v":"147-"},{"$f":"IF(SISWA!E154=0,\"\",SISWA!E154)","v":""},null,null,null,null,null,{"$error":"#DIV/0!"}]
[148,{"$f":"IF(SISWA!B155=0,\"\",SISWA!B155)","v":""},{"$f":"IF(SISWA!C155=0,\"\",SISWA!C155)","v":""},{"$f":"IF(SISWA!D155=0,\"\",SISWA!D155)","v":"148-"},{"$f":"IF(SISWA!E155=0,\"\",SISWA!E155)","v":""},null,null,null,null,null,{"$error":"#DIV/0!"}]
[149,{"$f":"IF(SISWA!B156=0,\"\",SISWA!B156)","v":""},{"$f":"IF(SISWA!C156=0,\"\",SISWA!C156)","v":""},{"$f":"IF(SISWA!D156=0,\"\",SISWA!D156)","v":"149-"},{"$f":"IF(SISWA!E156=0,\"\",SISWA!E156)","v":""},null,null,null,null,null,{"$error":"#DIV/0!"}]
[150,{"$f":"IF(SISWA!B157=0,\"\",SISWA!B157)","v":""},{"$f":"IF(SISWA!C157=0,\"\",SISWA!C157)","v":""},{"$f":"IF(SISWA!D157=0,\"\",SISWA!D157)","v":"150-"},{"$f":"IF(SISWA!E157=0,\"\",SISWA!E157)","v":""},null,null,null,null,null,{"$error":"#DIV/0!"}]
[151,{"$f":"IF(SISWA!B158=0,\"\",SISWA!B158)","v":""},{"$f":"IF(SISWA!C158=0,\"\",SISWA!C158)","v":""},{"$f":"IF(SISWA!D158=0,\"\",SISWA!D158)","v":"151-"},{"$f":"IF(SISWA!E158=0,\"\",SISWA!E158)","v":""},null,null,null,null,null,{"$error":"#DIV/0!"}]
[152,{"$f":"IF(SISWA!B159=0,\"\",SISWA!B159)","v":""},{"$f":"IF(SISWA!C159=0,\"\",SISWA!C159)","v":""},{"$f":"IF(SISWA!D159=0,\"\",SISWA!D159)","v":"152-"},{"$f":"IF(SISWA!E159=0,\"\",SISWA!E159)","v":""},null,null,null,null,null,{"$error":"#DIV/0!"}]
[153,{"$f":"IF(SISWA!B160=0,\"\",SISWA!B160)","v":""},{"$f":"IF(SISWA!C160=0,\"\",SISWA!C160)","v":""},{"$f":"IF(SISWA!D160=0,\"\",SISWA!D160)","v":"153-"},{"$f":"IF(SISWA!E160=0,\"\",SISWA!E160)","v":""},null,null,null,null,null,{"$error":"#DIV/0!"}]
[154,{"$f":"IF(SISWA!B161=0,\"\",SISWA!B161)","v":""},{"$f":"IF(SISWA!C161=0,\"\",SISWA!C161)","v":""},{"$f":"IF(SISWA!D161=0,\"\",SISWA!D161)","v":"154-"},{"$f":"IF(SISWA!E161=0,\"\",SISWA!E161)","v":""},null,null,null,null,null,{"$error":"#DIV/0!"}]
[155,{"$f":"IF(SISWA!B162=0,\"\",SISWA!B162)","v":""},{"$f":"IF(SISWA!C162=0,\"\",SISWA!C162)","v":""},{"$f":"IF(SISWA!D162=0,\"\",SISWA!D162)","v":"155-"},{"$f":"IF(SISWA!E162=0,\"\",SISWA!E162)","v":""},null,null,null,null,null,{"$error":"#DIV/0!"}]
[156,{"$f":"IF(SISWA!B163=0,\"\",SISWA!B163)","v":""},{"$f":"IF(SISWA!C163=0,\"\",SISWA!C163)","v":""},{"$f":"IF(SISWA!D163=0,\"\",SISWA!D163)","v":"156-"},{"$f":"IF(SISWA!E163=0,\"\",SISWA!E163)","v":""},null,null,null,null,null,{"$error":"#DIV/0!"}]
[157,{"$f":"IF(SISWA!B164=0,\"\",SISWA!B164)","v":""},{"$f":"IF(SISWA!C164=0,\"\",SISWA!C164)","v":""},{"$f":"IF(SISWA!D164=0,\"\",SISWA!D164)","v":"157-"},{"$f":"IF(SISWA!E164=0,\"\",SISWA!E164)","v":""},null,null,null,null,null,{"$error":"#DIV/0!"}]
[158,{"$f":"IF(SISWA!B165=0,\"\",SISWA!B165)","v":""},{"$f":"IF(SISWA!C165=0,\"\",SISWA!C165)","v":""},{"$f":"IF(SISWA!D165=0,\"\",SISWA!D165)","v":"158-"},{"$f":"IF(SISWA!E165=0,\"\",SISWA!E165)","v":""},null,null,null,null,null,{"$error":"#DIV/0!"}]
[159,{"$f":"IF(SISWA!B166=0,\"\",SISWA!B166)","v":""},{"$f":"IF(SISWA!C166=0,\"\",SISWA!C166)","v":""},{"$f":"IF(SISWA!D166=0,\"\",SISWA!D166)","v":"159-"},{"$f":"IF(SISWA!E166=0,\"\",SISWA!E166)","v":""},null,null,null,null,null,{"$error":"#DIV/0!"}]
[160,{"$f":"IF(SISWA!B167=0,\"\",SISWA!B167)","v":""},{"$f":"IF(SISWA!C167=0,\"\",SISWA!C167)","v":""},{"$f":"IF(SISWA!D167=0,\"\",SISWA!D167)","v":"160-"},{"$f":"IF(SISWA!E167=0,\"\",SISWA!E167)","v":""},null,null,null,null,null,{"$error":"#DIV/0!"}]
[161,{"$f":"IF(SISWA!B168=0,\"\",SISWA!B168)","v":""},{"$f":"IF(SISWA!C168=0,\"\",SISWA!C168)","v":""},{"$f":"IF(SISWA!D168=0,\"\",SISWA!D168)","v":"161-"},{"$f":"IF(SISWA!E168=0,\"\",SISWA!E168)","v":""},null,null,null,null,null,{"$error":"#DIV/0!"}]
[162,{"$f":"IF(SISWA!B169=0,\"\",SISWA!B169)","v":""},{"$f":"IF(SISWA!C169=0,\"\",SISWA!C169)","v":""},{"$f":"IF(SISWA!D169=0,\"\",SISWA!D169)","v":"162-"},{"$f":"IF(SISWA!E169=0,\"\",SISWA!E169)","v":""},null,null,null,null,null,{"$error":"#DIV/0!"}]
[163,{"$f":"IF(SISWA!B170=0,\"\",SISWA!B170)","v":""},{"$f":"IF(SISWA!C170=0,\"\",SISWA!C170)","v":""},{"$f":"IF(SISWA!D170=0,\"\",SISWA!D170)","v":"163-"},{"$f":"IF(SISWA!E170=0,\"\",SISWA!E170)","v":""},null,null,null,null,null,{"$error":"#DIV/0!"}]
[164,{"$f":"IF(SISWA!B171=0,\"\",SISWA!B171)","v":""},{"$f":"IF(SISWA!C171=0,\"\",SISWA!C171)","v":""},{"$f":"IF(SISWA!D171=0,\"\",SISWA!D171)","v":"164-"},{"$f":"IF(SISWA!E171=0,\"\",SISWA!E171)","v":""},null,null,null,null,null,{"$error":"#DIV/0!"}]
[165,{"$f":"IF(SISWA!B172=0,\"\",SISWA!B172)","v":""},{"$f":"IF(SISWA!C172=0,\"\",SISWA!C172)","v":""},{"$f":"IF(SISWA!D172=0,\"\",SISWA!D172)","v":"165-"},{"$f":"IF(SISWA!E172=0,\"\",SISWA!E172)","v":""},null,null,null,null,null,{"$error":"#DIV/0!"}]
[166,{"$f":"IF(SISWA!B173=0,\"\",SISWA!B173)","v":""},{"$f":"IF(SISWA!C173=0,\"\",SISWA!C173)","v":""},{"$f":"IF(SISWA!D173=0,\"\",SISWA!D173)","v":"166-"},{"$f":"IF(SISWA!E173=0,\"\",SISWA!E173)","v":""},null,null,null,null,null,{"$error":"#DIV/0!"}]
[167,{"$f":"IF(SISWA!B174=0,\"\",SISWA!B174)","v":""},{"$f":"IF(SISWA!C174=0,\"\",SISWA!C174)","v":""},{"$f":"IF(SISWA!D174=0,\"\",SISWA!D174)","v":"167-"},{"$f":"IF(SISWA!E174=0,\"\",SISWA!E174)","v":""},null,null,null,null,null,{"$error":"#DIV/0!"}]
[168,{"$f":"IF(SISWA!B175=0,\"\",SISWA!B175)","v":""},{"$f":"IF(SISWA!C175=0,\"\",SISWA!C175)","v":""},{"$f":"IF(SISWA!D175=0,\"\",SISWA!D175)","v":"168-"},{"$f":"IF(SISWA!E175=0,\"\",SISWA!E175)","v":""},null,null,null,null,null,{"$error":"#DIV/0!"}]
[169,{"$f":"IF(SISWA!B176=0,\"\",SISWA!B176)","v":""},{"$f":"IF(SISWA!C176=0,\"\",SISWA!C176)","v":""},{"$f":"IF(SISWA!D176=0,\"\",SISWA!D176)","v":"169-"},{"$f":"IF(SISWA!E176=0,\"\",SISWA!E176)","v":""},null,null,null,null,null,{"$error":"#DIV/0!"}]
[170,{"$f":"IF(SISWA!B177=0,\"\",SISWA!B177)","v":""},{"$f":"IF(SISWA!C177=0,\"\",SISWA!C177)","v":""},{"$f":"IF(SISWA!D177=0,\"\",SISWA!D177)","v":"170-"},{"$f":"IF(SISWA!E177=0,\"\",SISWA!E177)","v":""},null,null,null,null,null,{"$error":"#DIV/0!"}]
[171,{"$f":"IF(SISWA!B178=0,\"\",SISWA!B178)","v":""},{"$f":"IF(SISWA!C178=0,\"\",SISWA!C178)","v":""},{"$f":"IF(SISWA!D178=0,\"\",SISWA!D178)","v":"171-"},{"$f":"IF(SISWA!E178=0,\"\",SISWA!E178)","v":""},null,null,null,null,null,{"$error":"#DIV/0!"}]
[172,{"$f":"IF(SISWA!B179=0,\"\",SISWA!B179)","v":""},{"$f":"IF(SISWA!C179=0,\"\",SISWA!C179)","v":""},{"$f":"IF(SISWA!D179=0,\"\",SISWA!D179)","v":"172-"},{"$f":"IF(SISWA!E179=0,\"\",SISWA!E179)","v":""},null,null,null,null,null,{"$error":"#DIV/0!"}]
[173,{"$f":"IF(SISWA!B180=0,\"\",SISWA!B180)","v":""},{"$f":"IF(SISWA!C180=0,\"\",SISWA!C180)","v":""},{"$f":"IF(SISWA!D180=0,\"\",SISWA!D180)","v":"173-"},{"$f":"IF(SISWA!E180=0,\"\",SISWA!E180)","v":""},null,null,null,null,null,{"$error":"#DIV/0!"}]
[174,{"$f":"IF(SISWA!B181=0,\"\",SISWA!B181)","v":""},{"$f":"IF(SISWA!C181=0,\"\",SISWA!C181)","v":""},{"$f":"IF(SISWA!D181=0,\"\",SISWA!D181)","v":"174-"},{"$f":"IF(SISWA!E181=0,\"\",SISWA!E181)","v":""},null,null,null,null,null,{"$error":"#DIV/0!"}]
[175,{"$f":"IF(SISWA!B182=0,\"\",SISWA!B182)","v":""},{"$f":"IF(SISWA!C182=0,\"\",SISWA!C182)","v":""},{"$f":"IF(SISWA!D182=0,\"\",SISWA!D182)","v":"175-"},{"$f":"IF(SISWA!E182=0,\"\",SISWA!E182)","v":""},null,null,null,null,null,{"$error":"#DIV/0!"}]
[176,{"$f":"IF(SISWA!B183=0,\"\",SISWA!B183)","v":""},{"$f":"IF(SISWA!C183=0,\"\",SISWA!C183)","v":""},{"$f":"IF(SISWA!D183=0,\"\",SISWA!D183)","v":"176-"},{"$f":"IF(SISWA!E183=0,\"\",SISWA!E183)","v":""},null,null,null,null,null,{"$error":"#DIV/0!"}]
[177,{"$f":"IF(SISWA!B184=0,\"\",SISWA!B184)","v":""},{"$f":"IF(SISWA!C184=0,\"\",SISWA!C184)","v":""},{"$f":"IF(SISWA!D184=0,\"\",SISWA!D184)","v":"177-"},{"$f":"IF(SISWA!E184=0,\"\",SISWA!E184)","v":""},null,null,null,null,null,{"$error":"#DIV/0!"}]
[178,{"$f":"IF(SISWA!B185=0,\"\",SISWA!B185)","v":""},{"$f":"IF(SISWA!C185=0,\"\",SISWA!C185)","v":""},{"$f":"IF(SISWA!D185=0,\"\",SISWA!D185)","v":"178-"},{"$f":"IF(SISWA!E185=0,\"\",SISWA!E185)","v":""},null,null,null,null,null,{"$error":"#DIV/0!"}]
[179,{"$f":"IF(SISWA!B186=0,\"\",SISWA!B186)","v":""},{"$f":"IF(SISWA!C186=0,\"\",SISWA!C186)","v":""},{"$f":"IF(SISWA!D186=0,\"\",SISWA!D186)","v":"179-"},{"$f":"IF(SISWA!E186=0,\"\",SISWA!E186)","v":""},null,null,null,null,null,{"$error":"#DIV/0!"}]
[180,{"$f":"IF(SISWA!B187=0,\"\",SISWA!B187)","v":""},{"$f":"IF(SISWA!C187=0,\"\",SISWA!C187)","v":""},{"$f":"IF(SISWA!D187=0,\"\",SISWA!D187)","v":"180-"},{"$f":"IF(SISWA!E187=0,\"\",SISWA!E187)","v":""},null,null,null,null,null,{"$error":"#DIV/0!"}]
[181,{"$f":"IF(SISWA!B188=0,\"\",SISWA!B188)","v":""},{"$f":"IF(SISWA!C188=0,\"\",SISWA!C188)","v":""},{"$f":"IF(SISWA!D188=0,\"\",SISWA!D188)","v":"181-"},{"$f":"IF(SISWA!E188=0,\"\",SISWA!E188)","v":""},null,null,null,null,null,{"$error":"#DIV/0!"}]
[182,{"$f":"IF(SISWA!B189=0,\"\",SISWA!B189)","v":""},{"$f":"IF(SISWA!C189=0,\"\",SISWA!C189)","v":""},{"$f":"IF(SISWA!D189=0,\"\",SISWA!D189)","v":"182-"},{"$f":"IF(SISWA!E189=0,\"\",SISWA!E189)","v":""},null,null,null,null,null,{"$error":"#DIV/0!"}]
[183,{"$f":"IF(SISWA!B190=0,\"\",SISWA!B190)","v":""},{"$f":"IF(SISWA!C190=0,\"\",SISWA!C190)","v":""},{"$f":"IF(SISWA!D190=0,\"\",SISWA!D190)","v":"183-"},{"$f":"IF(SISWA!E190=0,\"\",SISWA!E190)","v":""},null,null,null,null,null,{"$error":"#DIV/0!"}]
[184,{"$f":"IF(SISWA!B191=0,\"\",SISWA!B191)","v":""},{"$f":"IF(SISWA!C191=0,\"\",SISWA!C191)","v":""},{"$f":"IF(SISWA!D191=0,\"\",SISWA!D191)","v":"184-"},{"$f":"IF(SISWA!E191=0,\"\",SISWA!E191)","v":""},null,null,null,null,null,{"$error":"#DIV/0!"}]
[185,{"$f":"IF(SISWA!B192=0,\"\",SISWA!B192)","v":""},{"$f":"IF(SISWA!C192=0,\"\",SISWA!C192)","v":""},{"$f":"IF(SISWA!D192=0,\"\",SISWA!D192)","v":"185-"},{"$f":"IF(SISWA!E192=0,\"\",SISWA!E192)","v":""},null,null,null,null,null,{"$error":"#DIV/0!"}]
[186,{"$f":"IF(SISWA!B193=0,\"\",SISWA!B193)","v":""},{"$f":"IF(SISWA!C193=0,\"\",SISWA!C193)","v":""},{"$f":"IF(SISWA!D193=0,\"\",SISWA!D193)","v":"186-"},{"$f":"IF(SISWA!E193=0,\"\",SISWA!E193)","v":""},null,null,null,null,null,{"$error":"#DIV/0!"}]
[187,{"$f":"IF(SISWA!B194=0,\"\",SISWA!B194)","v":""},{"$f":"IF(SISWA!C194=0,\"\",SISWA!C194)","v":""},{"$f":"IF(SISWA!D194=0,\"\",SISWA!D194)","v":"187-"},{"$f":"IF(SISWA!E194=0,\"\",SISWA!E194)","v":""},null,null,null,null,null,{"$error":"#DIV/0!"}]
[188,{"$f":"IF(SISWA!B195=0,\"\",SISWA!B195)","v":""},{"$f":"IF(SISWA!C195=0,\"\",SISWA!C195)","v":""},{"$f":"IF(SISWA!D195=0,\"\",SISWA!D195)","v":"188-"},{"$f":"IF(SISWA!E195=0,\"\",SISWA!E195)","v":""},null,null,null,null,null,{"$error":"#DIV/0!"}]
[189,{"$f":"IF(SISWA!B196=0,\"\",SISWA!B196)","v":""},{"$f":"IF(SISWA!C196=0,\"\",SISWA!C196)","v":""},{"$f":"IF(SISWA!D196=0,\"\",SISWA!D196)","v":"189-"},{"$f":"IF(SISWA!E196=0,\"\",SISWA!E196)","v":""},null,null,null,null,null,{"$f":"AVERAGE(F196:J196)","v":{"$error":"#DIV/0!"}}]
[190,{"$f":"IF(SISWA!B197=0,\"\",SISWA!B197)","v":""},{"$f":"IF(SISWA!C197=0,\"\",SISWA!C197)","v":""},{"$f":"IF(SISWA!D197=0,\"\",SISWA!D197)","v":"190-"},{"$f":"IF(SISWA!E197=0,\"\",SISWA!E197)","v":""},null,null,null,null,null,{"$error":"#DIV/0!"}]
[191,{"$f":"IF(SISWA!B198=0,\"\",SISWA!B198)","v":""},{"$f":"IF(SISWA!C198=0,\"\",SISWA!C198)","v":""},{"$f":"IF(SISWA!D198=0,\"\",SISWA!D198)","v":"191-"},{"$f":"IF(SISWA!E198=0,\"\",SISWA!E198)","v":""},null,null,null,null,null,{"$error":"#DIV/0!"}]
[192,{"$f":"IF(SISWA!B199=0,\"\",SISWA!B199)","v":""},{"$f":"IF(SISWA!C199=0,\"\",SISWA!C199)","v":""},{"$f":"IF(SISWA!D199=0,\"\",SISWA!D199)","v":"192-"},{"$f":"IF(SISWA!E199=0,\"\",SISWA!E199)","v":""},null,null,null,null,null,{"$error":"#DIV/0!"}]
[193,{"$f":"IF(SISWA!B200=0,\"\",SISWA!B200)","v":""},{"$f":"IF(SISWA!C200=0,\"\",SISWA!C200)","v":""},{"$f":"IF(SISWA!D200=0,\"\",SISWA!D200)","v":"193-"},{"$f":"IF(SISWA!E200=0,\"\",SISWA!E200)","v":""},null,null,null,null,null,{"$error":"#DIV/0!"}]
[194,{"$f":"IF(SISWA!B201=0,\"\",SISWA!B201)","v":""},{"$f":"IF(SISWA!C201=0,\"\",SISWA!C201)","v":""},{"$f":"IF(SISWA!D201=0,\"\",SISWA!D201)","v":"194-"},{"$f":"IF(SISWA!E201=0,\"\",SISWA!E201)","v":""},null,null,null,null,null,{"$error":"#DIV/0!"}]
[195,{"$f":"IF(SISWA!B202=0,\"\",SISWA!B202)","v":""},{"$f":"IF(SISWA!C202=0,\"\",SISWA!C202)","v":""},{"$f":"IF(SISWA!D202=0,\"\",SISWA!D202)","v":"195-"},{"$f":"IF(SISWA!E202=0,\"\",SISWA!E202)","v":""},null,null,null,null,null,{"$error":"#DIV/0!"}]
[196,{"$f":"IF(SISWA!B203=0,\"\",SISWA!B203)","v":""},{"$f":"IF(SISWA!C203=0,\"\",SISWA!C203)","v":""},{"$f":"IF(SISWA!D203=0,\"\",SISWA!D203)","v":"196-"},{"$f":"IF(SISWA!E203=0,\"\",SISWA!E203)","v":""},null,null,null,null,null,{"$error":"#DIV/0!"}]
[197,{"$f":"IF(SISWA!B204=0,\"\",SISWA!B204)","v":""},{"$f":"IF(SISWA!C204=0,\"\",SISWA!C204)","v":""},{"$f":"IF(SISWA!D204=0,\"\",SISWA!D204)","v":"197-"},{"$f":"IF(SISWA!E204=0,\"\",SISWA!E204)","v":""},null,null,null,null,null,{"$error":"#DIV/0!"}]
[198,{"$f":"IF(SISWA!B205=0,\"\",SISWA!B205)","v":""},{"$f":"IF(SISWA!C205=0,\"\",SISWA!C205)","v":""},{"$f":"IF(SISWA!D205=0,\"\",SISWA!D205)","v":"198-"},{"$f":"IF(SISWA!E205=0,\"\",SISWA!E205)","v":""},null,null,null,null,null,{"$error":"#DIV/0!"}]
[199,{"$f":"IF(SISWA!B206=0,\"\",SISWA!B206)","v":""},{"$f":"IF(SISWA!C206=0,\"\",SISWA!C206)","v":""},{"$f":"IF(SISWA!D206=0,\"\",SISWA!D206)","v":"199-"},{"$f":"IF(SISWA!E206=0,\"\",SISWA!E206)","v":""},null,null,null,null,null,{"$error":"#DIV/0!"}]
[200,{"$f":"IF(SISWA!B207=0,\"\",SISWA!B207)","v":""},{"$f":"IF(SISWA!C207=0,\"\",SISWA!C207)","v":""},{"$f":"IF(SISWA!D207=0,\"\",SISWA!D207)","v":"200-"},{"$f":"IF(SISWA!E207=0,\"\",SISWA!E207)","v":""},null,null,null,null,null,{"$error":"#DIV/0!"}]

{"sheet":"IPA","index":11,"n_rows":207,"n_cols":16,"rows_kept":207,"cut":false,"hidden":false,"merged":[[4,5,4,12],[0,0,0,9],[1,0,1,9],[2,0,2,9],[4,0,6,0],[4,1,6,1],[4,2,6,2],[4,3,6,3],[4,4,6,4],[5,5,5,9],[5,11,5,12]]}
["DAFTAR NILAI AKHIR SEKOLAH"]
[{"$f":"AA!A2","v":"MADRASAH IBTIDAIYAH NURUL ISLAM LABRUK KIDUL"}]
[{"$f":"AA!A3","v":"TAHUN PELAJARAN 2018/2019"}]
[]
["NO","No Induk","NISN","Nomor Peserta","Nama Peserta","IPA"]
[null,null,null,null,null,"Nilai Semester",null,null,null,null,"Rata- 2","NILAI US"]
[null,null,null,null,null,7,8,9,10,11,"Rapor","TULIS","PRAKTIK"]
[1,{"$f":"IF(SISWA!B8=0,\"\",SISWA!B8)","v":4270},{"$f":"IF(SISWA!C8=0,\"\",SISWA!C8)","v":"0067566336"},{"$f":"IF(SISWA!D8=0,\"\",SISWA!D8)","v":"1-18-05-80-162-001-9"},{"$f":"IF(SISWA!E8=0,\"\",SISWA!E8)","v":"ADITYA MAULA FANDY TAULANI"},81,79,78,81,86,{"$f":"AVERAGE(F8:J8)","v":81},74,{"$f":"K8","v":81},{"$f":"AVERAGE(L8:M8)","v":77.5},{"$f":"AVERAGE(L8:M8)","v":77.5},{"$f":"AVERAGE(L8,F8:J8)","v":79.833333333333329}]
[2,{"$f":"IF(SISWA!B9=0,\"\",SISWA!B9)","v":4300},{"$f":"IF(SISWA!C9=0,\"\",SISWA!C9)","v":"0066364963"},{"$f":"IF(SISWA!D9=0,\"\",SISWA!D9)","v":"1-18-05-80-162-002-8"},{"$f":"IF(SISWA!E9=0,\"\",SISWA!E9)","v":"AHMAD FERDIAN ALAMSYAH"},70,63,74,73,78,{"$f":"AVERAGE(F9:J9)","v":71.599999999999994},36.01,{"$f":"K9","v":71.599999999999994},{"$f":"AVERAGE(L9:M9)","v":53.804999999999993},{"$f":"AVERAGE(L9:M9)","v":53.804999999999993},{"$f":"AVERAGE(L9,F9:J9)","v":65.668333333333337}]
[3,{"$f":"IF(SISWA!B10=0,\"\",SISWA!B10)","v":4271},{"$f":"IF(SISWA!C10=0,\"\",SISWA!C10)","v":"0062805893"},{"$f":"IF(SISWA!D10=0,\"\",SISWA!D10)","v":"1-18-05-80-162-003-7"},{"$f":"IF(SISWA!E10=0,\"\",SISWA!E10)","v":"AHMAD RAMADHANI FADLULLOH"},74,74,78,74,82,76.400000000000006,48.97,76.400000000000006,62.685000000000002,62.685000000000002,71.828333333333333]
[4,{"$f":"IF(SISWA!B11=0,\"\",SISWA!B11)","v":4398},{"$f":"IF(SISWA!C11=0,\"\",SISWA!C11)","v":"0062399399"},{"$f":"IF(SISWA!D11=0,\"\",SISWA!D11)","v":"1-18-05-80-162-004-6"},{"$f":"IF(SISWA!E11=0,\"\",SISWA!E11)","v":"ANANDA AMILIA"},71,70,75,74,82,74.400000000000006,52.02,74.400000000000006,63.210000000000008,63.210000000000008,70.67]
[5,{"$f":"IF(SISWA!B12=0,\"\",SISWA!B12)","v":4272},{"$f":"IF(SISWA!C12=0,\"\",SISWA!C12)","v":"0071551428"},{"$f":"IF(SISWA!D12=0,\"\",SISWA!D12)","v":"1-18-05-80-162-005-5"},{"$f":"IF(SISWA!E12=0,\"\",SISWA!E12)","v":"ANDINI MAULID DWI LESTARI"},78,72,76,76,82,76.8,50.98,76.8,63.89,63.89,72.49666666666667]
[6,{"$f":"IF(SISWA!B13=0,\"\",SISWA!B13)","v":4301},{"$f":"IF(SISWA!C13=0,\"\",SISWA!C13)","v":"0061907599"},{"$f":"IF(SISWA!D13=0,\"\",SISWA!D13)","v":"1-18-05-80-162-006-4"},{"$f":"IF(SISWA!E13=0,\"\",SISWA!E13)","v":"ANDRIK YUSRI"},67,67,74,71,78,71.400000000000006,45.03,71.400000000000006,58.215000000000003,58.215000000000003,67.004999999999995]
[7,{"$f":"IF(SISWA!B14=0,\"\",SISWA!B14)","v":4273},{"$f":"IF(SISWA!C14=0,\"\",SISWA!C14)","v":"0067280519"},{"$f":"IF(SISWA!D14=0,\"\",SISWA!D14)","v":"1-18-05-80-162-007-3"},{"$f":"IF(SISWA!E14=0,\"\",SISWA!E14)","v":"DEWI SAKINAH ISWARA"},79,74,80,76,82,78.2,66.040000000000006,78.2,72.12,72.12,76.173333333333332]
[8,{"$f":"IF(SISWA!B15=0,\"\",SISWA!B15)","v":4307},{"$f":"IF(SISWA!C15=0,\"\",SISWA!C15)","v":"0066012198"},{"$f":"IF(SISWA!D15=0,\"\",SISWA!D15)","v":"1-18-05-80-162-008-2"},{"$f":"IF(SISWA!E15=0,\"\",SISWA!E15)","v":"CHAKIM"},65,61,72,71,78,69.400000000000006,34.97,69.400000000000006,52.185000000000002,52.185000000000002,63.661666666666669]
[9,{"$f":"IF(SISWA!B16=0,\"\",SISWA!B16)","v":4275},{"$f":"IF(SISWA!C16=0,\"\",SISWA!C16)","v":"0078199679"},{"$f":"IF(SISWA!D16=0,\"\",SISWA!D16)","v":"1-18-05-80-162-009-9"},{"$f":"IF(SISWA!E16=0,\"\",SISWA!E16)","v":"HANIK APRILIA SARI"},78,73,77,77,85,78,63.02,78,70.510000000000005,70.510000000000005,75.50333333333333]
[10,{"$f":"IF(SISWA!B17=0,\"\",SISWA!B17)","v":"4238"},{"$f":"IF(SISWA!C17=0,\"\",SISWA!C17)","v":"0051503260"},{"$f":"IF(SISWA!D17=0,\"\",SISWA!D17)","v":"1-18-05-80-162-010-8"},{"$f":"IF(SISWA!E17=0,\"\",SISWA!E17)","v":"DESI NATALIA SAPUTRI"},65,61,74,70,78,69.599999999999994,39.979999999999997,69.599999999999994,54.789999999999992,54.789999999999992,64.663333333333341]
[11,{"$f":"IF(SISWA!B18=0,\"\",SISWA!B18)","v":4391},{"$f":"IF(SISWA!C18=0,\"\",SISWA!C18)","v":"0079418518"},{"$f":"IF(SISWA!D18=0,\"\",SISWA!D18)","v":"1-18-05-80-162-011-7"},{"$f":"IF(SISWA!E18=0,\"\",SISWA!E18)","v":"HIDAYATUL KHUMAINIA"},68,67,75,76,82,73.599999999999994,43.97,73.599999999999994,58.784999999999997,58.784999999999997,68.661666666666676]
[12,{"$f":"IF(SISWA!B19=0,\"\",SISWA!B19)","v":4274},{"$f":"IF(SISWA!C19=0,\"\",SISWA!C19)","v":"0077670297"},{"$f":"IF(SISWA!D19=0,\"\",SISWA!D19)","v":"1-18-05-80-162-012-6"},{"$f":"IF(SISWA!E19=0,\"\",SISWA!E19)","v":"DWITA FITA WULANDARI"},70,69,75,73,82,73.8,41.96,73.8,57.879999999999995,57.879999999999995,68.493333333333339]
[13,{"$f":"IF(SISWA!B20=0,\"\",SISWA!B20)","v":4276},{"$f":"IF(SISWA!C20=0,\"\",SISWA!C20)","v":"0067236848"},{"$f":"IF(SISWA!D20=0,\"\",SISWA!D20)","v":"1-18-05-80-162-013-5"},{"$f":"IF(SISWA!E20=0,\"\",SISWA!E20)","v":"IZZA ILMIA AZZAHRA"},78,78,77,73,87,78.599999999999994,63.02,78.599999999999994,70.81,70.81,76.00333333333333]
[14,{"$f":"IF(SISWA!B21=0,\"\",SISWA!B21)","v":4303},{"$f":"IF(SISWA!C21=0,\"\",SISWA!C21)","v":"0064031376"},{"$f":"IF(SISWA!D21=0,\"\",SISWA!D21)","v":"1-18-05-80-162-014-4"},{"$f":"IF(SISWA!E21=0,\"\",SISWA!E21)","v":"FARIDATUS SAHDIAH"},68,66,75,75,79,72.599999999999994,53.98,72.599999999999994,63.289999999999992,63.289999999999992,69.49666666666667]
[15,{"$f":"IF(SISWA!B22=0,\"\",SISWA!B22)","v":4278},{"$f":"IF(SISWA!C22=0,\"\",SISWA!C22)","v":"0079672823"},{"$f":"IF(SISWA!D22=0,\"\",SISWA!D22)","v":"1-18-05-80-162-015-3"},{"$f":"IF(SISWA!E22=0,\"\",SISWA!E22)","v":"KHARISYA AZZAHRO"},84,84,78,76,89,82.2,83.99,82.2,83.094999999999999,83.094999999999999,82.498333333333335]
[16,{"$f":"IF(SISWA!B23=0,\"\",SISWA!B23)","v":4277},{"$f":"IF(SISWA!C23=0,\"\",SISWA!C23)","v":"0077101453"},{"$f":"IF(SISWA!D23=0,\"\",SISWA!D23)","v":"1-18-05-80-162-016-2"},{"$f":"IF(SISWA!E23=0,\"\",SISWA!E23)","v":"KARINA FEBBY CAHYA AMILIA"},77,78,72,71,84,76.400000000000006,46,76.400000000000006,61.2,61.2,71.333333333333329]
[17,{"$f":"IF(SISWA!B24=0,\"\",SISWA!B24)","v":4601},{"$f":"IF(SISWA!C24=0,\"\",SISWA!C24)","v":"0069718082"},{"$f":"IF(SISWA!D24=0,\"\",SISWA!D24)","v":"1-18-05-80-162-017-9"},{"$f":"IF(SISWA!E24=0,\"\",SISWA!E24)","v":"MOCHAMAD RIFKY ROSAN"},75,74,75,80,82,77.2,55.99,77.2,66.594999999999999,66.594999999999999,73.665000000000006]
[18,{"$f":"IF(SISWA!B25=0,\"\",SISWA!B25)","v":"4241"},{"$f":"IF(SISWA!C25=0,\"\",SISWA!C25)","v":"0057006145"},{"$f":"IF(SISWA!D25=0,\"\",SISWA!D25)","v":"1-18-05-80-162-018-8"},{"$f":"IF(SISWA!E25=0,\"\",SISWA!E25)","v":"KHUSNI CAHYONO"},64,57,72,69,78,68,26,68,47,47,61]
[19,{"$f":"IF(SISWA!B26=0,\"\",SISWA!B26)","v":4280},{"$f":"IF(SISWA!C26=0,\"\",SISWA!C26)","v":"0062061356"},{"$f":"IF(SISWA!D26=0,\"\",SISWA!D26)","v":"1-18-05-80-162-019-7"},{"$f":"IF(SISWA!E26=0,\"\",SISWA!E26)","v":"MUCHAMMAD ALIEF FERDIANSYAH"},79,80,76,82,83,80,83.99,80,81.995000000000005,81.995000000000005,80.665000000000006]
[20,{"$f":"IF(SISWA!B27=0,\"\",SISWA!B27)","v":4306},{"$f":"IF(SISWA!C27=0,\"\",SISWA!C27)","v":"0069095925"},{"$f":"IF(SISWA!D27=0,\"\",SISWA!D27)","v":"1-18-05-80-162-020-6"},{"$f":"IF(SISWA!E27=0,\"\",SISWA!E27)","v":"LENNY AGUSTIN NINGTYAS"},64,60,72,70,79,69,30.98,69,49.99,49.99,62.663333333333334]
[21,{"$f":"IF(SISWA!B28=0,\"\",SISWA!B28)","v":4281},{"$f":"IF(SISWA!C28=0,\"\",SISWA!C28)","v":"0069153972"},{"$f":"IF(SISWA!D28=0,\"\",SISWA!D28)","v":"1-18-05-80-162-021-5"},{"$f":"IF(SISWA!E28=0,\"\",SISWA!E28)","v":"MUHAMMAD AGUS ANDRIANTO"},74,79,74,72,82,76.2,48,76.2,62.1,62.1,71.5]
[22,{"$f":"IF(SISWA!B29=0,\"\",SISWA!B29)","v":4308},{"$f":"IF(SISWA!C29=0,\"\",SISWA!C29)","v":"0063078335"},{"$f":"IF(SISWA!D29=0,\"\",SISWA!D29)","v":"1-18-05-80-162-022-4"},{"$f":"IF(SISWA!E29=0,\"\",SISWA!E29)","v":"MAURIS HIDAYATUR ROCHMAN"},73,73,74,74,86,76,65.989999999999995,76,70.995000000000005,70.995000000000005,74.331666666666663]
[23,{"$f":"IF(SISWA!B30=0,\"\",SISWA!B30)","v":4314},{"$f":"IF(SISWA!C30=0,\"\",SISWA!C30)","v":"0072178353"},{"$f":"IF(SISWA!D30=0,\"\",SISWA!D30)","v":"1-18-05-80-162-023-3"},{"$f":"IF(SISWA!E30=0,\"\",SISWA!E30)","v":"MUHAMMAD BISMAR TAUFIQUROHMAN"},72,74,74,76,82,75.599999999999994,51.02,75.599999999999994,63.31,63.31,71.50333333333333]
[24,{"$f":"IF(SISWA!B31=0,\"\",SISWA!B31)","v":4309},{"$f":"IF(SISWA!C31=0,\"\",SISWA!C31)","v":"0072198448"},{"$f":"IF(SISWA!D31=0,\"\",SISWA!D31)","v":"1-18-05-80-162-024-2"},{"$f":"IF(SISWA!E31=0,\"\",SISWA!E31)","v":"MAYA BUNGA ANJANI"},66,64,74,72,78,70.8,32.96,70.8,51.879999999999995,51.879999999999995,64.493333333333339]
[25,{"$f":"IF(SISWA!B32=0,\"\",SISWA!B32)","v":4320},{"$f":"IF(SISWA!C32=0,\"\",SISWA!C32)","v":"0064566227"},{"$f":"IF(SISWA!D32=0,\"\",SISWA!D32)","v":"1-18-05-80-162-025-9"},{"$f":"IF(SISWA!E32=0,\"\",SISWA!E32)","v":"MUHAMMAD SAHLAN SHODIQ"},78,76,80,78,83,79,74.02,79,76.509999999999991,76.509999999999991,78.17]
[26,{"$f":"IF(SISWA!B33=0,\"\",SISWA!B33)","v":4279},{"$f":"IF(SISWA!C33=0,\"\",SISWA!C33)","v":"0066637092"},{"$f":"IF(SISWA!D33=0,\"\",SISWA!D33)","v":"1-18-05-80-162-026-8"},{"$f":"IF(SISWA!E33=0,\"\",SISWA!E33)","v":"MITA SEPTIANI ISLAMIA"},66,60,71,70,78,69,37.99,69,53.495000000000005,53.495000000000005,63.831666666666671]
[27,{"$f":"IF(SISWA!B34=0,\"\",SISWA!B34)","v":4321},{"$f":"IF(SISWA!C34=0,\"\",SISWA!C34)","v":"0061244045"},{"$f":"IF(SISWA!D34=0,\"\",SISWA!D34)","v":"1-18-05-80-162-027-7"},{"$f":"IF(SISWA!E34=0,\"\",SISWA!E34)","v":"MUHAMMAD SEPTYAN EKA PRATAMA"},76,80,75,79,82,78.400000000000006,72.040000000000006,78.400000000000006,75.22,75.22,77.34]
[28,{"$f":"IF(SISWA!B35=0,\"\",SISWA!B35)","v":"4247"},{"$f":"IF(SISWA!C35=0,\"\",SISWA!C35)","v":"0053546157"},{"$f":"IF(SISWA!D35=0,\"\",SISWA!D35)","v":"1-18-05-80-162-028-6"},{"$f":"IF(SISWA!E35=0,\"\",SISWA!E35)","v":"MOCHAMAD ARIEL FRANS TITO"},64,63,74,75,78,70.8,40.020000000000003,70.8,55.41,55.41,65.67]
[29,{"$f":"IF(SISWA!B36=0,\"\",SISWA!B36)","v":4285},{"$f":"IF(SISWA!C36=0,\"\",SISWA!C36)","v":"0067871553"},{"$f":"IF(SISWA!D36=0,\"\",SISWA!D36)","v":"1-18-05-80-162-029-5"},{"$f":"IF(SISWA!E36=0,\"\",SISWA!E36)","v":"MUHAMMAD VERYANSYAH"},77,77,77,81,84,79.2,64.03,79.2,71.615000000000009,71.615000000000009,76.671666666666667]
[30,{"$f":"IF(SISWA!B37=0,\"\",SISWA!B37)","v":4310},{"$f":"IF(SISWA!C37=0,\"\",SISWA!C37)","v":"0066383678"},{"$f":"IF(SISWA!D37=0,\"\",SISWA!D37)","v":"1-18-05-80-162-030-4"},{"$f":"IF(SISWA!E37=0,\"\",SISWA!E37)","v":"MOCHAMMAD BIMA RISFANDA"},66,61,75,74,79,71,41.04,71,56.019999999999996,56.019999999999996,66.006666666666661]
[31,{"$f":"IF(SISWA!B38=0,\"\",SISWA!B38)","v":4286},{"$f":"IF(SISWA!C38=0,\"\",SISWA!C38)","v":"0064443822"},{"$f":"IF(SISWA!D38=0,\"\",SISWA!D38)","v":"1-18-05-80-162-031-3"},{"$f":"IF(SISWA!E38=0,\"\",SISWA!E38)","v":"MUHAMMAD ZIDNY NA'IM"},82,84,78,79,89,82.4,69.010000000000005,82.4,75.705000000000013,75.705000000000013,80.168333333333337]
[32,{"$f":"IF(SISWA!B39=0,\"\",SISWA!B39)","v":4282},{"$f":"IF(SISWA!C39=0,\"\",SISWA!C39)","v":"0068336765"},{"$f":"IF(SISWA!D39=0,\"\",SISWA!D39)","v":"1-18-05-80-162-032-2"},{"$f":"IF(SISWA!E39=0,\"\",SISWA!E39)","v":"MUHAMMAD AGUS FERDIANSYAH"},74,72,73,72,82,74.599999999999994,50.01,74.599999999999994,62.304999999999993,62.304999999999993,70.501666666666665]
[33,{"$f":"IF(SISWA!B40=0,\"\",SISWA!B40)","v":4287},{"$f":"IF(SISWA!C40=0,\"\",SISWA!C40)","v":"0064528717"},{"$f":"IF(SISWA!D40=0,\"\",SISWA!D40)","v":"1-18-05-80-162-033-9"},{"$f":"IF(SISWA!E40=0,\"\",SISWA!E40)","v":"MUHAMMAD FARDAN ABDILLAH"},74,null,72,68,null,71.333333333333329,46.99,71.333333333333329,59.161666666666662,59.161666666666662,65.247500000000002]
[34,{"$f":"IF(SISWA!B41=0,\"\",SISWA!B41)","v":4315},{"$f":"IF(SISWA!C41=0,\"\",SISWA!C41)","v":"0067870495"},{"$f":"IF(SISWA!D41=0,\"\",SISWA!D41)","v":"1-18-05-80-162-034-8"},{"$f":"IF(SISWA!E41=0,\"\",SISWA!E41)","v":"NABILA ARISKA PUTRI"},79,77,78,79,82,79,34,79,56.5,56.5,71.5]
[35,{"$f":"IF(SISWA!B42=0,\"\",SISWA!B42)","v":4288},{"$f":"IF(SISWA!C42=0,\"\",SISWA!C42)","v":"0068641191"},{"$f":"IF(SISWA!D42=0,\"\",SISWA!D42)","v":"1-18-05-80-162-035-7"},{"$f":"IF(SISWA!E42=0,\"\",SISWA!E42)","v":"MUHAMMAD FERDINAN JAYYIDAH RIFQI"},77,77,74,74,88,78,68.02,78,73.009999999999991,73.009999999999991,76.336666666666659]
[36,{"$f":"IF(SISWA!B43=0,\"\",SISWA!B43)","v":4283},{"$f":"IF(SISWA!C43=0,\"\",SISWA!C43)","v":"0077212388"},{"$f":"IF(SISWA!D43=0,\"\",SISWA!D43)","v":"1-18-05-80-162-036-6"},{"$f":"IF(SISWA!E43=0,\"\",SISWA!E43)","v":"NAFISA INDRIANI"},79,80,85,82,86,82.4,71.05,82.4,76.724999999999994,76.724999999999994,80.50833333333334]
[37,{"$f":"IF(SISWA!B44=0,\"\",SISWA!B44)","v":"4257"},{"$f":"IF(SISWA!C44=0,\"\",SISWA!C44)","v":"0069944706"},{"$f":"IF(SISWA!D44=0,\"\",SISWA!D44)","v":"1-18-05-80-162-037-5"},{"$f":"IF(SISWA!E44=0,\"\",SISWA!E44)","v":"MUHAMMAD FIRMANSYAH"},68,65,75,72,79,71.8,34,71.8,52.9,52.9,65.5]
[38,{"$f":"IF(SISWA!B45=0,\"\",SISWA!B45)","v":4317},{"$f":"IF(SISWA!C45=0,\"\",SISWA!C45)","v":"0068498059"},{"$f":"IF(SISWA!D45=0,\"\",SISWA!D45)","v":"1-18-05-80-162-038-4"},{"$f":"IF(SISWA!E45=0,\"\",SISWA!E45)","v":"NAJWA FARISYA BAROROH"},74,72,80,75,83,76.8,50.98,76.8,63.89,63.89,72.49666666666667]
[39,{"$f":"IF(SISWA!B46=0,\"\",SISWA!B46)","v":4289},{"$f":"IF(SISWA!C46=0,\"\",SISWA!C46)","v":"0065225517"},{"$f":"IF(SISWA!D46=0,\"\",SISWA!D46)","v":"1-18-05-80-162-039-3"},{"$f":"IF(SISWA!E46=0,\"\",SISWA!E46)","v":"NUR FITRIYAH"},74,75,77,74,82,76.400000000000006,47.98,76.400000000000006,62.19,62.19,71.663333333333341]
[40,{"$f":"IF(SISWA!B47=0,\"\",SISWA!B47)","v":4318},{"$f":"IF(SISWA!C47=0,\"\",SISWA!C47)","v":"0061441364"},{"$f":"IF(SISWA!D47=0,\"\",SISWA!D47)","v":"1-18-05-80-162-040-2"},{"$f":"IF(SISWA!E47=0,\"\",SISWA!E47)","v":"MUHAMMAD HILDAN DWI SAPUTRA"},69,63,71,69,78,70,43.99,70,56.995000000000005,56.995000000000005,65.665000000000006]
[41,{"$f":"IF(SISWA!B48=0,\"\",SISWA!B48)","v":4392},{"$f":"IF(SISWA!C48=0,\"\",SISWA!C48)","v":"0075794532"},{"$f":"IF(SISWA!D48=0,\"\",SISWA!D48)","v":"1-18-05-80-162-041-9"},{"$f":"IF(SISWA!E48=0,\"\",SISWA!E48)","v":"PUTRI NAFI'ATUS SOLIKHAH"},69,71,72,70,84,73.2,36.03,73.2,54.615000000000002,54.615000000000002,67.004999999999995]
[42,{"$f":"IF(SISWA!B49=0,\"\",SISWA!B49)","v":4284},{"$f":"IF(SISWA!C49=0,\"\",SISWA!C49)","v":"0069578000"},{"$f":"IF(SISWA!D49=0,\"\",SISWA!D49)","v":"1-18-05-80-162-042-8"},{"$f":"IF(SISWA!E49=0,\"\",SISWA!E49)","v":"MUHAMMAD RAYA KAFAF JAUHARI"},80,75,72,72,79,75.599999999999994,52.04,75.599999999999994,63.819999999999993,63.819999999999993,71.673333333333332]
[43,{"$f":"IF(SISWA!B50=0,\"\",SISWA!B50)","v":4290},{"$f":"IF(SISWA!C50=0,\"\",SISWA!C50)","v":"0063558216"},{"$f":"IF(SISWA!D50=0,\"\",SISWA!D50)","v":"1-18-05-80-162-043-7"},{"$f":"IF(SISWA!E50=0,\"\",SISWA!E50)","v":"QORIATUN SHOLIHAH"},76,78,78,76,82,78,37.99,78,57.995000000000005,57.995000000000005,71.331666666666663]
[44,{"$f":"IF(SISWA!B51=0,\"\",SISWA!B51)","v":4319},{"$f":"IF(SISWA!C51=0,\"\",SISWA!C51)","v":"0065329770"},{"$f":"IF(SISWA!D51=0,\"\",SISWA!D51)","v":"1-18-05-80-162-044-6"},{"$f":"IF(SISWA!E51=0,\"\",SISWA!E51)","v":"MUHAMMAD RUDI TANTOWIK"},65,63,74,72,78,70.400000000000006,51.97,70.400000000000006,61.185000000000002,61.185000000000002,67.328333333333333]
[45,{"$f":"IF(SISWA!B52=0,\"\",SISWA!B52)","v":4291},{"$f":"IF(SISWA!C52=0,\"\",SISWA!C52)","v":"0067071679"},{"$f":"IF(SISWA!D52=0,\"\",SISWA!D52)","v":"1-18-05-80-162-045-5"},{"$f":"IF(SISWA!E52=0,\"\",SISWA!E52)","v":"RACHMAD HIDAYAT"},73,74,76,77,82,76.400000000000006,30.95,76.400000000000006,53.675000000000004,53.675000000000004,68.825000000000003]
[46,{"$f":"IF(SISWA!B53=0,\"\",SISWA!B53)","v":4322},{"$f":"IF(SISWA!C53=0,\"\",SISWA!C53)","v":"0051101989"},{"$f":"IF(SISWA!D53=0,\"\",SISWA!D53)","v":"1-18-05-80-162-046-4"},{"$f":"IF(SISWA!E53=0,\"\",SISWA!E53)","v":"MUHAMMAD ZULDIENUR HABIBIE"},66,60,71,67,78,68.400000000000006,22.97,68.400000000000006,45.685000000000002,45.685000000000002,60.82833333333334]
[47,{"$f":"IF(SISWA!B54=0,\"\",SISWA!B54)","v":4292},{"$f":"IF(SISWA!C54=0,\"\",SISWA!C54)","v":"0072001696"},{"$f":"IF(SISWA!D54=0,\"\",SISWA!D54)","v":"1-18-05-80-162-047-3"},{"$f":"IF(SISWA!E54=0,\"\",SISWA!E54)","v":"RHEA RAYSHANADA NUGRAHA"},78,79,78,77,82,78.8,49.96,78.8,64.38,64.38,73.993333333333339]
[48,{"$f":"IF(SISWA!B55=0,\"\",SISWA!B55)","v":4323},{"$f":"IF(SISWA!C55=0,\"\",SISWA!C55)","v":"0078949167"},{"$f":"IF(SISWA!D55=0,\"\",SISWA!D55)","v":"1-18-05-80-162-048-2"},{"$f":"IF(SISWA!E55=0,\"\",SISWA!E55)","v":"MUKHAMAD KHOIRUL AMIN"},66,68,75,73,79,72.2,42.97,72.2,57.585000000000001,57.585000000000001,67.328333333333333]
[49,{"$f":"IF(SISWA!B56=0,\"\",SISWA!B56)","v":4293},{"$f":"IF(SISWA!C56=0,\"\",SISWA!C56)","v":"0064217705"},{"$f":"IF(SISWA!D56=0,\"\",SISWA!D56)","v":"1-18-05-80-162-049-9"},{"$f":"IF(SISWA!E56=0,\"\",SISWA!E56)","v":"RIYANTI APRILIA"},79,78,78,70,85,78,31.97,78,54.984999999999999,54.984999999999999,70.328333333333333]
[50,{"$f":"IF(SISWA!B57=0,\"\",SISWA!B57)","v":"4256"},{"$f":"IF(SISWA!C57=0,\"\",SISWA!C57)","v":"0065699742"},{"$f":"IF(SISWA!D57=0,\"\",SISWA!D57)","v":"1-18-05-80-162-050-8"},{"$f":"IF(SISWA!E57=0,\"\",SISWA!E57)","v":"MUKHAMMAD YAASIIN HASAN KHASBULLOH"},74,71,75,74,82,75.2,35.01,75.2,55.105000000000004,55.105000000000004,68.501666666666665]
[51,{"$f":"IF(SISWA!B58=0,\"\",SISWA!B58)","v":4295},{"$f":"IF(SISWA!C58=0,\"\",SISWA!C58)","v":"0061359184"},{"$f":"IF(SISWA!D58=0,\"\",SISWA!D58)","v":"1-18-05-80-162-051-7"},{"$f":"IF(SISWA!E58=0,\"\",SISWA!E58)","v":"SHONIA AULIA AS'AD"},81,85,81,85,91,84.6,77,84.6,80.8,80.8,83.333333333333329]
[52,{"$f":"IF(SISWA!B59=0,\"\",SISWA!B59)","v":4294},{"$f":"IF(SISWA!C59=0,\"\",SISWA!C59)","v":"0064723905"},{"$f":"IF(SISWA!D59=0,\"\",SISWA!D59)","v":"1-18-05-80-162-052-6"},{"$f":"IF(SISWA!E59=0,\"\",SISWA!E59)","v":"RIZKA AYU WULANDARI"},74,73,75,71,81,74.8,30.95,74.8,52.875,52.875,67.49166666666666]
[53,{"$f":"IF(SISWA!B60=0,\"\",SISWA!B60)","v":4298},{"$f":"IF(SISWA!C60=0,\"\",SISWA!C60)","v":"0065530554"},{"$f":"IF(SISWA!D60=0,\"\",SISWA!D60)","v":"1-18-05-80-162-053-5"},{"$f":"IF(SISWA!E60=0,\"\",SISWA!E60)","v":"VERLINA DWI MAULANI"},78,78,78,75,83,78.400000000000006,32.979999999999997,78.400000000000006,55.69,55.69,70.83]
[54,{"$f":"IF(SISWA!B61=0,\"\",SISWA!B61)","v":4297},{"$f":"IF(SISWA!C61=0,\"\",SISWA!C61)","v":"0063846732"},{"$f":"IF(SISWA!D61=0,\"\",SISWA!D61)","v":"1-18-05-80-162-054-4"},{"$f":"IF(SISWA!E61=0,\"\",SISWA!E61)","v":"USWATUN KHASANAH"},67,67,75,71,83,72.599999999999994,40.020000000000003,72.599999999999994,56.31,56.31,67.17]
[55,{"$f":"IF(SISWA!B62=0,\"\",SISWA!B62)","v":4324},{"$f":"IF(SISWA!C62=0,\"\",SISWA!C62)","v":"0078966795"},{"$f":"IF(SISWA!D62=0,\"\",SISWA!D62)","v":"1-18-05-80-162-055-3"},{"$f":"IF(SISWA!E62=0,\"\",SISWA!E62)","v":"VIKA KUSUMA WATI"},74,73,74,70,83,74.8,72.98,74.8,73.89,73.89,74.49666666666667]
[56,{"$f":"IF(SISWA!B63=0,\"\",SISWA!B63)","v":4326},{"$f":"IF(SISWA!C63=0,\"\",SISWA!C63)","v":"0064124533"},{"$f":"IF(SISWA!D63=0,\"\",SISWA!D63)","v":"1-18-05-80-162-056-2"},{"$f":"IF(SISWA!E63=0,\"\",SISWA!E63)","v":"YOHAN EGA GILANG PERMANA"},66,null,70,67,78,70.25,39,70.25,54.625,54.625,64]
[57,{"$f":"IF(SISWA!B64=0,\"\",SISWA!B64)","v":""},{"$f":"IF(SISWA!C64=0,\"\",SISWA!C64)","v":""},{"$f":"IF(SISWA!D64=0,\"\",SISWA!D64)","v":"1-18-05-80-162-057-9"},{"$f":"IF(SISWA!E64=0,\"\",SISWA!E64)","v":""},null,null,null,null,null,{"$f":"AVERAGE(F64:J64)","v":{"$error":"#DIV/0!"}},null,{"$f":"K64","v":{"$error":"#DIV/0!"}},{"$f":"AVERAGE(L64:M64)","v":{"$error":"#DIV/0!"}},{"$f":"AVERAGE(L64:M64)","v":{"$error":"#DIV/0!"}}]
[58,{"$f":"IF(SISWA!B65=0,\"\",SISWA!B65)","v":""},{"$f":"IF(SISWA!C65=0,\"\",SISWA!C65)","v":""},{"$f":"IF(SISWA!D65=0,\"\",SISWA!D65)","v":"1-18-05-80-162-058-8"},{"$f":"IF(SISWA!E65=0,\"\",SISWA!E65)","v":""},null,null,null,null,null,{"$error":"#DIV/0!"},null,null,{"$error":"#DIV/0!"},{"$error":"#DIV/0!"}]
[59,{"$f":"IF(SISWA!B66=0,\"\",SISWA!B66)","v":""},{"$f":"IF(SISWA!C66=0,\"\",SISWA!C66)","v":""},{"$f":"IF(SISWA!D66=0,\"\",SISWA!D66)","v":"1-18-05-80-162-059-7"},{"$f":"IF(SISWA!E66=0,\"\",SISWA!E66)","v":""},null,null,null,null,null,{"$error":"#DIV/0!"},null,null,{"$error":"#DIV/0!"},{"$error":"#DIV/0!"}]
[60,{"$f":"IF(SISWA!B67=0,\"\",SISWA!B67)","v":""},{"$f":"IF(SISWA!C67=0,\"\",SISWA!C67)","v":""},{"$f":"IF(SISWA!D67=0,\"\",SISWA!D67)","v":"1-18-05-80-162-060-6"},{"$f":"IF(SISWA!E67=0,\"\",SISWA!E67)","v":""},null,null,null,null,null,{"$error":"#DIV/0!"},null,null,{"$error":"#DIV/0!"},{"$error":"#DIV/0!"}]
[61,{"$f":"IF(SISWA!B68=0,\"\",SISWA!B68)","v":""},{"$f":"IF(SISWA!C68=0,\"\",SISWA!C68)","v":""},{"$f":"IF(SISWA!D68=0,\"\",SISWA!D68)","v":"1-18-05-80-162-061-5"},{"$f":"IF(SISWA!E68=0,\"\",SISWA!E68)","v":""},null,null,null,null,null,{"$f":"AVERAGE(F68:J68)","v":{"$error":"#DIV/0!"}},null,null,{"$error":"#DIV/0!"},{"$error":"#DIV/0!"}]
[62,{"$f":"IF(SISWA!B69=0,\"\",SISWA!B69)","v":""},{"$f":"IF(SISWA!C69=0,\"\",SISWA!C69)","v":""},{"$f":"IF(SISWA!D69=0,\"\",SISWA!D69)","v":"062-4"},{"$f":"IF(SISWA!E69=0,\"\",SISWA!E69)","v":""},null,null,null,null,null,{"$error":"#DIV/0!"},null,null,{"$error":"#DIV/0!"},{"$error":"#DIV/0!"}]
[63,{"$f":"IF(SISWA!B70=0,\"\",SISWA!B70)","v":""},{"$f":"IF(SISWA!C70=0,\"\",SISWA!C70)","v":""},{"$f":"IF(SISWA!D70=0,\"\",SISWA!D70)","v":"063-3"},{"$f":"IF(SISWA!E70=0,\"\",SISWA!E70)","v":""},null,null,null,null,null,{"$error":"#DIV/0!"},null,null,{"$error":"#DIV/0!"},{"$error":"#DIV/0!"}]
[64,{"$f":"IF(SISWA!B71=0,\"\",SISWA!B71)","v":""},{"$f":"IF(SISWA!C71=0,\"\",SISWA!C71)","v":""},{"$f":"IF(SISWA!D71=0,\"\",SISWA!D71)","v":"064-2"},{"$f":"IF(SISWA!E71=0,\"\",SISWA!E71)","v":""},null,null,null,null,null,{"$error":"#DIV/0!"},null,null,{"$error":"#DIV/0!"},{"$error":"#DIV/0!"}]
[65,{"$f":"IF(SISWA!B72=0,\"\",SISWA!B72)","v":""},{"$f":"IF(SISWA!C72=0,\"\",SISWA!C72)","v":""},{"$f":"IF(SISWA!D72=0,\"\",SISWA!D72)","v":"065-"},{"$f":"IF(SISWA!E72=0,\"\",SISWA!E72)","v":""},null,null,null,null,null,{"$error":"#DIV/0!"},null,null,{"$error":"#DIV/0!"},{"$error":"#DIV/0!"}]
[66,{"$f":"IF(SISWA!B73=0,\"\",SISWA!B73)","v":""},{"$f":"IF(SISWA!C73=0,\"\",SISWA!C73)","v":""},{"$f":"IF(SISWA!D73=0,\"\",SISWA!D73)","v":"066-"},{"$f":"IF(SISWA!E73=0,\"\",SISWA!E73)","v":""},null,null,null,null,null,{"$error":"#DIV/0!"},null,null,{"$error":"#DIV/0!"},{"$f":"AVERAGE(L73:M73)","v":{"$error":"#DIV/0!"}}]
[67,{"$f":"IF(SISWA!B74=0,\"\",SISWA!B74)","v":""},{"$f":"IF(SISWA!C74=0,\"\",SISWA!C74)","v":""},{"$f":"IF(SISWA!D74=0,\"\",SISWA!D74)","v":"067-"},{"$f":"IF(SISWA!E74=0,\"\",SISWA!E74)","v":""},null,null,null,null,null,{"$error":"#DIV/0!"},null,null,{"$error":"#DIV/0!"},{"$error":"#DIV/0!"}]
[68,{"$f":"IF(SISWA!B75=0,\"\",SISWA!B75)","v":""},{"$f":"IF(SISWA!C75=0,\"\",SISWA!C75)","v":""},{"$f":"IF(SISWA!D75=0,\"\",SISWA!D75)","v":"068-"},{"$f":"IF(SISWA!E75=0,\"\",SISWA!E75)","v":""},null,null,null,null,null,{"$error":"#DIV/0!"},null,null,{"$error":"#DIV/0!"},{"$error":"#DIV/0!"}]
[69,{"$f":"IF(SISWA!B76=0,\"\",SISWA!B76)","v":""},{"$f":"IF(SISWA!C76=0,\"\",SISWA!C76)","v":""},{"$f":"IF(SISWA!D76=0,\"\",SISWA!D76)","v":"069-"},{"$f":"IF(SISWA!E76=0,\"\",SISWA!E76)","v":""},null,null,null,null,null,{"$error":"#DIV/0!"},null,null,{"$error":"#DIV/0!"},{"$error":"#DIV/0!"}]
[70,{"$f":"IF(SISWA!B77=0,\"\",SISWA!B77)","v":""},{"$f":"IF(SISWA!C77=0,\"\",SISWA!C77)","v":""},{"$f":"IF(SISWA!D77=0,\"\",SISWA!D77)","v":"070-"},{"$f":"IF(SISWA!E77=0,\"\",SISWA!E77)","v":""},null,null,null,null,null,{"$error":"#DIV/0!"},null,null,{"$error":"#DIV/0!"},{"$error":"#DIV/0!"}]
[71,{"$f":"IF(SISWA!B78=0,\"\",SISWA!B78)","v":""},{"$f":"IF(SISWA!C78=0,\"\",SISWA!C78)","v":""},{"$f":"IF(SISWA!D78=0,\"\",SISWA!D78)","v":"071-"},{"$f":"IF(SISWA!E78=0,\"\",SISWA!E78)","v":""},null,null,null,null,null,{"$error":"#DIV/0!"},null,null,{"$error":"#DIV/0!"},{"$error":"#DIV/0!"}]
[72,{"$f":"IF(SISWA!B79=0,\"\",SISWA!B79)","v":""},{"$f":"IF(SISWA!C79=0,\"\",SISWA!C79)","v":""},{"$f":"IF(SISWA!D79=0,\"\",SISWA!D79)","v":"072-"},{"$f":"IF(SISWA!E79=0,\"\",SISWA!E79)","v":""},null,null,null,null,null,{"$error":"#DIV/0!"},null,null,{"$error":"#DIV/0!"},{"$error":"#DIV/0!"}]
[73,{"$f":"IF(SISWA!B80=0,\"\",SISWA!B80)","v":""},{"$f":"IF(SISWA!C80=0,\"\",SISWA!C80)","v":""},{"$f":"IF(SISWA!D80=0,\"\",SISWA!D80)","v":"073-"},{"$f":"IF(SISWA!E80=0,\"\",SISWA!E80)","v":""},null,null,null,null,null,{"$error":"#DIV/0!"},null,null,{"$error":"#DIV/0!"},{"$error":"#DIV/0!"}]
[74,{"$f":"IF(SISWA!B81=0,\"\",SISWA!B81)","v":""},{"$f":"IF(SISWA!C81=0,\"\",SISWA!C81)","v":""},{"$f":"IF(SISWA!D81=0,\"\",SISWA!D81)","v":"074-"},{"$f":"IF(SISWA!E81=0,\"\",SISWA!E81)","v":""},null,null,null,null,null,{"$error":"#DIV/0!"},null,null,{"$error":"#DIV/0!"},{"$error":"#DIV/0!"}]
[75,{"$f":"IF(SISWA!B82=0,\"\",SISWA!B82)","v":""},{"$f":"IF(SISWA!C82=0,\"\",SISWA!C82)","v":""},{"$f":"IF(SISWA!D82=0,\"\",SISWA!D82)","v":"075-"},{"$f":"IF(SISWA!E82=0,\"\",SISWA!E82)","v":""},null,null,null,null,null,{"$error":"#DIV/0!"},null,null,{"$error":"#DIV/0!"},{"$error":"#DIV/0!"}]
[76,{"$f":"IF(SISWA!B83=0,\"\",SISWA!B83)","v":""},{"$f":"IF(SISWA!C83=0,\"\",SISWA!C83)","v":""},{"$f":"IF(SISWA!D83=0,\"\",SISWA!D83)","v":"076-"},{"$f":"IF(SISWA!E83=0,\"\",SISWA!E83)","v":""},null,null,null,null,null,{"$error":"#DIV/0!"},null,null,{"$error":"#DIV/0!"},{"$error":"#DIV/0!"}]
[77,{"$f":"IF(SISWA!B84=0,\"\",SISWA!B84)","v":""},{"$f":"IF(SISWA!C84=0,\"\",SISWA!C84)","v":""},{"$f":"IF(SISWA!D84=0,\"\",SISWA!D84)","v":"077-"},{"$f":"IF(SISWA!E84=0,\"\",SISWA!E84)","v":""},null,null,null,null,null,{"$error":"#DIV/0!"},null,null,{"$error":"#DIV/0!"},{"$error":"#DIV/0!"}]
[78,{"$f":"IF(SISWA!B85=0,\"\",SISWA!B85)","v":""},{"$f":"IF(SISWA!C85=0,\"\",SISWA!C85)","v":""},{"$f":"IF(SISWA!D85=0,\"\",SISWA!D85)","v":"078-"},{"$f":"IF(SISWA!E85=0,\"\",SISWA!E85)","v":""},null,null,null,null,null,{"$error":"#DIV/0!"},null,null,{"$error":"#DIV/0!"},{"$error":"#DIV/0!"}]
[79,{"$f":"IF(SISWA!B86=0,\"\",SISWA!B86)","v":""},{"$f":"IF(SISWA!C86=0,\"\",SISWA!C86)","v":""},{"$f":"IF(SISWA!D86=0,\"\",SISWA!D86)","v":"079-"},{"$f":"IF(SISWA!E86=0,\"\",SISWA!E86)","v":""},null,null,null,null,null,{"$error":"#DIV/0!"},null,null,{"$error":"#DIV/0!"},{"$error":"#DIV/0!"}]
[80,{"$f":"IF(SISWA!B87=0,\"\",SISWA!B87)","v":""},{"$f":"IF(SISWA!C87=0,\"\",SISWA!C87)","v":""},{"$f":"IF(SISWA!D87=0,\"\",SISWA!D87)","v":"080-"},{"$f":"IF(SISWA!E87=0,\"\",SISWA!E87)","v":""},null,null,null,null,null,{"$error":"#DIV/0!"},null,null,{"$error":"#DIV/0!"},{"$error":"#DIV/0!"}]
[81,{"$f":"IF(SISWA!B88=0,\"\",SISWA!B88)","v":""},{"$f":"IF(SISWA!C88=0,\"\",SISWA!C88)","v":""},{"$f":"IF(SISWA!D88=0,\"\",SISWA!D88)","v":"081-"},{"$f":"IF(SISWA!E88=0,\"\",SISWA!E88)","v":""},null,null,null,null,null,{"$error":"#DIV/0!"},null,null,{"$error":"#DIV/0!"},{"$error":"#DIV/0!"}]
[82,{"$f":"IF(SISWA!B89=0,\"\",SISWA!B89)","v":""},{"$f":"IF(SISWA!C89=0,\"\",SISWA!C89)","v":""},{"$f":"IF(SISWA!D89=0,\"\",SISWA!D89)","v":"082-"},{"$f":"IF(SISWA!E89=0,\"\",SISWA!E89)","v":""},null,null,null,null,null,{"$error":"#DIV/0!"},null,null,{"$error":"#DIV/0!"},{"$error":"#DIV/0!"}]
[83,{"$f":"IF(SISWA!B90=0,\"\",SISWA!B90)","v":""},{"$f":"IF(SISWA!C90=0,\"\",SISWA!C90)","v":""},{"$f":"IF(SISWA!D90=0,\"\",SISWA!D90)","v":"083-"},{"$f":"IF(SISWA!E90=0,\"\",SISWA!E90)","v":""},null,null,null,null,null,{"$error":"#DIV/0!"},null,null,{"$error":"#DIV/0!"},{"$error":"#DIV/0!"}]
[84,{"$f":"IF(SISWA!B91=0,\"\",SISWA!B91)","v":""},{"$f":"IF(SISWA!C91=0,\"\",SISWA!C91)","v":""},{"$f":"IF(SISWA!D91=0,\"\",SISWA!D91)","v":"084-"},{"$f":"IF(SISWA!E91=0,\"\",SISWA!E91)","v":""},null,null,null,null,null,{"$error":"#DIV/0!"},null,null,{"$error":"#DIV/0!"},{"$error":"#DIV/0!"}]
[85,{"$f":"IF(SISWA!B92=0,\"\",SISWA!B92)","v":""},{"$f":"IF(SISWA!C92=0,\"\",SISWA!C92)","v":""},{"$f":"IF(SISWA!D92=0,\"\",SISWA!D92)","v":"085-"},{"$f":"IF(SISWA!E92=0,\"\",SISWA!E92)","v":""},null,null,null,null,null,{"$error":"#DIV/0!"},null,null,{"$error":"#DIV/0!"},{"$error":"#DIV/0!"}]
[86,{"$f":"IF(SISWA!B93=0,\"\",SISWA!B93)","v":""},{"$f":"IF(SISWA!C93=0,\"\",SISWA!C93)","v":""},{"$f":"IF(SISWA!D93=0,\"\",SISWA!D93)","v":"086-"},{"$f":"IF(SISWA!E93=0,\"\",SISWA!E93)","v":""},null,null,null,null,null,{"$error":"#DIV/0!"},null,null,{"$error":"#DIV/0!"},{"$error":"#DIV/0!"}]
[87,{"$f":"IF(SISWA!B94=0,\"\",SISWA!B94)","v":""},{"$f":"IF(SISWA!C94=0,\"\",SISWA!C94)","v":""},{"$f":"IF(SISWA!D94=0,\"\",SISWA!D94)","v":"087-"},{"$f":"IF(SISWA!E94=0,\"\",SISWA!E94)","v":""},null,null,null,null,null,{"$error":"#DIV/0!"},null,null,{"$error":"#DIV/0!"},{"$error":"#DIV/0!"}]
[88,{"$f":"IF(SISWA!B95=0,\"\",SISWA!B95)","v":""},{"$f":"IF(SISWA!C95=0,\"\",SISWA!C95)","v":""},{"$f":"IF(SISWA!D95=0,\"\",SISWA!D95)","v":"088-"},{"$f":"IF(SISWA!E95=0,\"\",SISWA!E95)","v":""},null,null,null,null,null,{"$error":"#DIV/0!"},null,null,{"$error":"#DIV/0!"},{"$error":"#DIV/0!"}]
[89,{"$f":"IF(SISWA!B96=0,\"\",SISWA!B96)","v":""},{"$f":"IF(SISWA!C96=0,\"\",SISWA!C96)","v":""},{"$f":"IF(SISWA!D96=0,\"\",SISWA!D96)","v":"089-"},{"$f":"IF(SISWA!E96=0,\"\",SISWA!E96)","v":""},null,null,null,null,null,{"$error":"#DIV/0!"},null,null,{"$error":"#DIV/0!"},{"$error":"#DIV/0!"}]
[90,{"$f":"IF(SISWA!B97=0,\"\",SISWA!B97)","v":""},{"$f":"IF(SISWA!C97=0,\"\",SISWA!C97)","v":""},{"$f":"IF(SISWA!D97=0,\"\",SISWA!D97)","v":"090-"},{"$f":"IF(SISWA!E97=0,\"\",SISWA!E97)","v":""},null,null,null,null,null,{"$error":"#DIV/0!"},null,null,{"$error":"#DIV/0!"},{"$error":"#DIV/0!"}]
[91,{"$f":"IF(SISWA!B98=0,\"\",SISWA!B98)","v":""},{"$f":"IF(SISWA!C98=0,\"\",SISWA!C98)","v":""},{"$f":"IF(SISWA!D98=0,\"\",SISWA!D98)","v":"091-"},{"$f":"IF(SISWA!E98=0,\"\",SISWA!E98)","v":""},null,null,null,null,null,{"$error":"#DIV/0!"},null,null,{"$error":"#DIV/0!"},{"$error":"#DIV/0!"}]
[92,{"$f":"IF(SISWA!B99=0,\"\",SISWA!B99)","v":""},{"$f":"IF(SISWA!C99=0,\"\",SISWA!C99)","v":""},{"$f":"IF(SISWA!D99=0,\"\",SISWA!D99)","v":"092-"},{"$f":"IF(SISWA!E99=0,\"\",SISWA!E99)","v":""},null,null,null,null,null,{"$error":"#DIV/0!"},null,null,{"$error":"#DIV/0!"},{"$error":"#DIV/0!"}]
[93,{"$f":"IF(SISWA!B100=0,\"\",SISWA!B100)","v":""},{"$f":"IF(SISWA!C100=0,\"\",SISWA!C100)","v":""},{"$f":"IF(SISWA!D100=0,\"\",SISWA!D100)","v":"093-"},{"$f":"IF(SISWA!E100=0,\"\",SISWA!E100)","v":""},null,null,null,null,null,{"$error":"#DIV/0!"},null,null,{"$error":"#DIV/0!"},{"$error":"#DIV/0!"}]
[94,{"$f":"IF(SISWA!B101=0,\"\",SISWA!B101)","v":""},{"$f":"IF(SISWA!C101=0,\"\",SISWA!C101)","v":""},{"$f":"IF(SISWA!D101=0,\"\",SISWA!D101)","v":"094-"},{"$f":"IF(SISWA!E101=0,\"\",SISWA!E101)","v":""},null,null,null,null,null,{"$error":"#DIV/0!"},null,null,{"$error":"#DIV/0!"},{"$error":"#DIV/0!"}]
[95,{"$f":"IF(SISWA!B102=0,\"\",SISWA!B102)","v":""},{"$f":"IF(SISWA!C102=0,\"\",SISWA!C102)","v":""},{"$f":"IF(SISWA!D102=0,\"\",SISWA!D102)","v":"095-"},{"$f":"IF(SISWA!E102=0,\"\",SISWA!E102)","v":""},null,null,null,null,null,{"$error":"#DIV/0!"},null,null,{"$error":"#DIV/0!"},{"$error":"#DIV/0!"}]
[96,{"$f":"IF(SISWA!B103=0,\"\",SISWA!B103)","v":""},{"$f":"IF(SISWA!C103=0,\"\",SISWA!C103)","v":""},{"$f":"IF(SISWA!D103=0,\"\",SISWA!D103)","v":"096-"},{"$f":"IF(SISWA!E103=0,\"\",SISWA!E103)","v":""},null,null,null,null,null,{"$error":"#DIV/0!"},null,null,{"$error":"#DIV/0!"},{"$error":"#DIV/0!"}]
[97,{"$f":"IF(SISWA!B104=0,\"\",SISWA!B104)","v":""},{"$f":"IF(SISWA!C104=0,\"\",SISWA!C104)","v":""},{"$f":"IF(SISWA!D104=0,\"\",SISWA!D104)","v":"097-"},{"$f":"IF(SISWA!E104=0,\"\",SISWA!E104)","v":""},null,null,null,null,null,{"$error":"#DIV/0!"},null,null,{"$error":"#DIV/0!"},{"$error":"#DIV/0!"}]
[98,{"$f":"IF(SISWA!B105=0,\"\",SISWA!B105)","v":""},{"$f":"IF(SISWA!C105=0,\"\",SISWA!C105)","v":""},{"$f":"IF(SISWA!D105=0,\"\",SISWA!D105)","v":"098-"},{"$f":"IF(SISWA!E105=0,\"\",SISWA!E105)","v":""},null,null,null,null,null,{"$error":"#DIV/0!"},null,null,{"$error":"#DIV/0!"},{"$error":"#DIV/0!"}]
[99,{"$f":"IF(SISWA!B106=0,\"\",SISWA!B106)","v":""},{"$f":"IF(SISWA!C106=0,\"\",SISWA!C106)","v":""},{"$f":"IF(SISWA!D106=0,\"\",SISWA!D106)","v":"099-"},{"$f":"IF(SISWA!E106=0,\"\",SISWA!E106)","v":""},null,null,null,null,null,{"$error":"#DIV/0!"},null,null,{"$error":"#DIV/0!"},{"$error":"#DIV/0!"}]
[100,{"$f":"IF(SISWA!B107=0,\"\",SISWA!B107)","v":""},{"$f":"IF(SISWA!C107=0,\"\",SISWA!C107)","v":""},{"$f":"IF(SISWA!D107=0,\"\",SISWA!D107)","v":"100-"},{"$f":"IF(SISWA!E107=0,\"\",SISWA!E107)","v":""},null,null,null,null,null,{"$error":"#DIV/0!"},null,null,{"$error":"#DIV/0!"},{"$error":"#DIV/0!"}]
[101,{"$f":"IF(SISWA!B108=0,\"\",SISWA!B108)","v":""},{"$f":"IF(SISWA!C108=0,\"\",SISWA!C108)","v":""},{"$f":"IF(SISWA!D108=0,\"\",SISWA!D108)","v":"101-"},{"$f":"IF(SISWA!E108=0,\"\",SISWA!E108)","v":""},null,null,null,null,null,{"$error":"#DIV/0!"},null,null,{"$error":"#DIV/0!"},{"$error":"#DIV/0!"}]
[102,{"$f":"IF(SISWA!B109=0,\"\",SISWA!B109)","v":""},{"$f":"IF(SISWA!C109=0,\"\",SISWA!C109)","v":""},{"$f":"IF(SISWA!D109=0,\"\",SISWA!D109)","v":"102-"},{"$f":"IF(SISWA!E109=0,\"\",SISWA!E109)","v":""},null,null,null,null,null,{"$error":"#DIV/0!"},null,null,{"$error":"#DIV/0!"},{"$error":"#DIV/0!"}]
[103,{"$f":"IF(SISWA!B110=0,\"\",SISWA!B110)","v":""},{"$f":"IF(SISWA!C110=0,\"\",SISWA!C110)","v":""},{"$f":"IF(SISWA!D110=0,\"\",SISWA!D110)","v":"103-"},{"$f":"IF(SISWA!E110=0,\"\",SISWA!E110)","v":""},null,null,null,null,null,{"$error":"#DIV/0!"},null,null,{"$error":"#DIV/0!"},{"$error":"#DIV/0!"}]
[104,{"$f":"IF(SISWA!B111=0,\"\",SISWA!B111)","v":""},{"$f":"IF(SISWA!C111=0,\"\",SISWA!C111)","v":""},{"$f":"IF(SISWA!D111=0,\"\",SISWA!D111)","v":"104-"},{"$f":"IF(SISWA!E111=0,\"\",SISWA!E111)","v":""},null,null,null,null,null,{"$error":"#DIV/0!"},null,null,{"$error":"#DIV/0!"},{"$error":"#DIV/0!"}]
[105,{"$f":"IF(SISWA!B112=0,\"\",SISWA!B112)","v":""},{"$f":"IF(SISWA!C112=0,\"\",SISWA!C112)","v":""},{"$f":"IF(SISWA!D112=0,\"\",SISWA!D112)","v":"105-"},{"$f":"IF(SISWA!E112=0,\"\",SISWA!E112)","v":""},null,null,null,null,null,{"$error":"#DIV/0!"},null,null,{"$error":"#DIV/0!"},{"$error":"#DIV/0!"}]
[106,{"$f":"IF(SISWA!B113=0,\"\",SISWA!B113)","v":""},{"$f":"IF(SISWA!C113=0,\"\",SISWA!C113)","v":""},{"$f":"IF(SISWA!D113=0,\"\",SISWA!D113)","v":"106-"},{"$f":"IF(SISWA!E113=0,\"\",SISWA!E113)","v":""},null,null,null,null,null,{"$error":"#DIV/0!"},null,null,{"$error":"#DIV/0!"},{"$error":"#DIV/0!"}]
[107,{"$f":"IF(SISWA!B114=0,\"\",SISWA!B114)","v":""},{"$f":"IF(SISWA!C114=0,\"\",SISWA!C114)","v":""},{"$f":"IF(SISWA!D114=0,\"\",SISWA!D114)","v":"107-"},{"$f":"IF(SISWA!E114=0,\"\",SISWA!E114)","v":""},null,null,null,null,null,{"$error":"#DIV/0!"},null,null,{"$error":"#DIV/0!"},{"$error":"#DIV/0!"}]
[108,{"$f":"IF(SISWA!B115=0,\"\",SISWA!B115)","v":""},{"$f":"IF(SISWA!C115=0,\"\",SISWA!C115)","v":""},{"$f":"IF(SISWA!D115=0,\"\",SISWA!D115)","v":"108-"},{"$f":"IF(SISWA!E115=0,\"\",SISWA!E115)","v":""},null,null,null,null,null,{"$error":"#DIV/0!"},null,null,{"$error":"#DIV/0!"},{"$error":"#DIV/0!"}]
[109,{"$f":"IF(SISWA!B116=0,\"\",SISWA!B116)","v":""},{"$f":"IF(SISWA!C116=0,\"\",SISWA!C116)","v":""},{"$f":"IF(SISWA!D116=0,\"\",SISWA!D116)","v":"109-"},{"$f":"IF(SISWA!E116=0,\"\",SISWA!E116)","v":""},null,null,null,null,null,{"$error":"#DIV/0!"},null,null,{"$error":"#DIV/0!"},{"$error":"#DIV/0!"}]
[110,{"$f":"IF(SISWA!B117=0,\"\",SISWA!B117)","v":""},{"$f":"IF(SISWA!C117=0,\"\",SISWA!C117)","v":""},{"$f":"IF(SISWA!D117=0,\"\",SISWA!D117)","v":"110-"},{"$f":"IF(SISWA!E117=0,\"\",SISWA!E117)","v":""},null,null,null,null,null,{"$error":"#DIV/0!"},null,null,{"$error":"#DIV/0!"},{"$error":"#DIV/0!"}]
[111,{"$f":"IF(SISWA!B118=0,\"\",SISWA!B118)","v":""},{"$f":"IF(SISWA!C118=0,\"\",SISWA!C118)","v":""},{"$f":"IF(SISWA!D118=0,\"\",SISWA!D118)","v":"111-"},{"$f":"IF(SISWA!E118=0,\"\",SISWA!E118)","v":""},null,null,null,null,null,{"$error":"#DIV/0!"},null,null,{"$error":"#DIV/0!"},{"$error":"#DIV/0!"}]
[112,{"$f":"IF(SISWA!B119=0,\"\",SISWA!B119)","v":""},{"$f":"IF(SISWA!C119=0,\"\",SISWA!C119)","v":""},{"$f":"IF(SISWA!D119=0,\"\",SISWA!D119)","v":"112-"},{"$f":"IF(SISWA!E119=0,\"\",SISWA!E119)","v":""},null,null,null,null,null,{"$error":"#DIV/0!"},null,null,{"$error":"#DIV/0!"},{"$error":"#DIV/0!"}]
[113,{"$f":"IF(SISWA!B120=0,\"\",SISWA!B120)","v":""},{"$f":"IF(SISWA!C120=0,\"\",SISWA!C120)","v":""},{"$f":"IF(SISWA!D120=0,\"\",SISWA!D120)","v":"113-"},{"$f":"IF(SISWA!E120=0,\"\",SISWA!E120)","v":""},null,null,null,null,null,{"$error":"#DIV/0!"},null,null,{"$error":"#DIV/0!"},{"$error":"#DIV/0!"}]
[114,{"$f":"IF(SISWA!B121=0,\"\",SISWA!B121)","v":""},{"$f":"IF(SISWA!C121=0,\"\",SISWA!C121)","v":""},{"$f":"IF(SISWA!D121=0,\"\",SISWA!D121)","v":"114-"},{"$f":"IF(SISWA!E121=0,\"\",SISWA!E121)","v":""},null,null,null,null,null,{"$error":"#DIV/0!"},null,null,{"$error":"#DIV/0!"},{"$error":"#DIV/0!"}]
[115,{"$f":"IF(SISWA!B122=0,\"\",SISWA!B122)","v":""},{"$f":"IF(SISWA!C122=0,\"\",SISWA!C122)","v":""},{"$f":"IF(SISWA!D122=0,\"\",SISWA!D122)","v":"115-"},{"$f":"IF(SISWA!E122=0,\"\",SISWA!E122)","v":""},null,null,null,null,null,{"$error":"#DIV/0!"},null,null,{"$f":"AVERAGE(L122:M122)","v":{"$error":"#DIV/0!"}},{"$error":"#DIV/0!"}]
[116,{"$f":"IF(SISWA!B123=0,\"\",SISWA!B123)","v":""},{"$f":"IF(SISWA!C123=0,\"\",SISWA!C123)","v":""},{"$f":"IF(SISWA!D123=0,\"\",SISWA!D123)","v":"116-"},{"$f":"IF(SISWA!E123=0,\"\",SISWA!E123)","v":""},null,null,null,null,null,{"$error":"#DIV/0!"},null,null,{"$error":"#DIV/0!"},{"$error":"#DIV/0!"}]
[117,{"$f":"IF(SISWA!B124=0,\"\",SISWA!B124)","v":""},{"$f":"IF(SISWA!C124=0,\"\",SISWA!C124)","v":""},{"$f":"IF(SISWA!D124=0,\"\",SISWA!D124)","v":"117-"},{"$f":"IF(SISWA!E124=0,\"\",SISWA!E124)","v":""},null,null,null,null,null,{"$error":"#DIV/0!"},null,null,{"$error":"#DIV/0!"},{"$error":"#DIV/0!"}]
[118,{"$f":"IF(SISWA!B125=0,\"\",SISWA!B125)","v":""},{"$f":"IF(SISWA!C125=0,\"\",SISWA!C125)","v":""},{"$f":"IF(SISWA!D125=0,\"\",SISWA!D125)","v":"118-"},{"$f":"IF(SISWA!E125=0,\"\",SISWA!E125)","v":""},null,null,null,null,null,{"$error":"#DIV/0!"},null,null,{"$error":"#DIV/0!"},{"$error":"#DIV/0!"}]
[119,{"$f":"IF(SISWA!B126=0,\"\",SISWA!B126)","v":""},{"$f":"IF(SISWA!C126=0,\"\",SISWA!C126)","v":""},{"$f":"IF(SISWA!D126=0,\"\",SISWA!D126)","v":"119-"},{"$f":"IF(SISWA!E126=0,\"\",SISWA!E126)","v":""},null,null,null,null,null,{"$error":"#DIV/0!"},null,null,{"$error":"#DIV/0!"},{"$error":"#DIV/0!"}]
[120,{"$f":"IF(SISWA!B127=0,\"\",SISWA!B127)","v":""},{"$f":"IF(SISWA!C127=0,\"\",SISWA!C127)","v":""},{"$f":"IF(SISWA!D127=0,\"\",SISWA!D127)","v":"120-"},{"$f":"IF(SISWA!E127=0,\"\",SISWA!E127)","v":""},null,null,null,null,null,{"$error":"#DIV/0!"},null,null,{"$error":"#DIV/0!"},{"$error":"#DIV/0!"}]
[121,{"$f":"IF(SISWA!B128=0,\"\",SISWA!B128)","v":""},{"$f":"IF(SISWA!C128=0,\"\",SISWA!C128)","v":""},{"$f":"IF(SISWA!D128=0,\"\",SISWA!D128)","v":"121-"},{"$f":"IF(SISWA!E128=0,\"\",SISWA!E128)","v":""},null,null,null,null,null,{"$error":"#DIV/0!"},null,null,{"$error":"#DIV/0!"},{"$error":"#DIV/0!"}]
[122,{"$f":"IF(SISWA!B129=0,\"\",SISWA!B129)","v":""},{"$f":"IF(SISWA!C129=0,\"\",SISWA!C129)","v":""},{"$f":"IF(SISWA!D129=0,\"\",SISWA!D129)","v":"122-"},{"$f":"IF(SISWA!E129=0,\"\",SISWA!E129)","v":""},null,null,null,null,null,{"$error":"#DIV/0!"},null,null,{"$error":"#DIV/0!"},{"$error":"#DIV/0!"}]
[123,{"$f":"IF(SISWA!B130=0,\"\",SISWA!B130)","v":""},{"$f":"IF(SISWA!C130=0,\"\",SISWA!C130)","v":""},{"$f":"IF(SISWA!D130=0,\"\",SISWA!D130)","v":"123-"},{"$f":"IF(SISWA!E130=0,\"\",SISWA!E130)","v":""},null,null,null,null,null,{"$error":"#DIV/0!"},null,null,{"$error":"#DIV/0!"},{"$error":"#DIV/0!"}]
[124,{"$f":"IF(SISWA!B131=0,\"\",SISWA!B131)","v":""},{"$f":"IF(SISWA!C131=0,\"\",SISWA!C131)","v":""},{"$f":"IF(SISWA!D131=0,\"\",SISWA!D131)","v":"124-"},{"$f":"IF(SISWA!E131=0,\"\",SISWA!E131)","v":""},null,null,null,null,null,{"$error":"#DIV/0!"},null,null,{"$error":"#DIV/0!"},{"$error":"#DIV/0!"}]
[125,{"$f":"IF(SISWA!B132=0,\"\",SISWA!B132)","v":""},{"$f":"IF(SISWA!C132=0,\"\",SISWA!C132)","v":""},{"$f":"IF(SISWA!D132=0,\"\",SISWA!D132)","v":"125-"},{"$f":"IF(SISWA!E132=0,\"\",SISWA!E132)","v":""},null,null,null,null,null,{"$f":"AVERAGE(F132:J132)","v":{"$error":"#DIV/0!"}},null,null,{"$error":"#DIV/0!"},{"$error":"#DIV/0!"}]
[126,{"$f":"IF(SISWA!B133=0,\"\",SISWA!B133)","v":""},{"$f":"IF(SISWA!C133=0,\"\",SISWA!C133)","v":""},{"$f":"IF(SISWA!D133=0,\"\",SISWA!D133)","v":"126-"},{"$f":"IF(SISWA!E133=0,\"\",SISWA!E133)","v":""},null,null,null,null,null,{"$error":"#DIV/0!"},null,null,{"$error":"#DIV/0!"},{"$error":"#DIV/0!"}]
[127,{"$f":"IF(SISWA!B134=0,\"\",SISWA!B134)","v":""},{"$f":"IF(SISWA!C134=0,\"\",SISWA!C134)","v":""},{"$f":"IF(SISWA!D134=0,\"\",SISWA!D134)","v":"127-"},{"$f":"IF(SISWA!E134=0,\"\",SISWA!E134)","v":""},null,null,null,null,null,{"$error":"#DIV/0!"},null,null,{"$error":"#DIV/0!"},{"$error":"#DIV/0!"}]
[128,{"$f":"IF(SISWA!B135=0,\"\",SISWA!B135)","v":""},{"$f":"IF(SISWA!C135=0,\"\",SISWA!C135)","v":""},{"$f":"IF(SISWA!D135=0,\"\",SISWA!D135)","v":"128-"},{"$f":"IF(SISWA!E135=0,\"\",SISWA!E135)","v":""},null,null,null,null,null,{"$error":"#DIV/0!"},null,null,{"$error":"#DIV/0!"},{"$error":"#DIV/0!"}]
[129,{"$f":"IF(SISWA!B136=0,\"\",SISWA!B136)","v":""},{"$f":"IF(SISWA!C136=0,\"\",SISWA!C136)","v":""},{"$f":"IF(SISWA!D136=0,\"\",SISWA!D136)","v":"129-"},{"$f":"IF(SISWA!E136=0,\"\",SISWA!E136)","v":""},null,null,null,null,null,{"$error":"#DIV/0!"},null,null,{"$error":"#DIV/0!"},{"$error":"#DIV/0!"}]
[130,{"$f":"IF(SISWA!B137=0,\"\",SISWA!B137)","v":""},{"$f":"IF(SISWA!C137=0,\"\",SISWA!C137)","v":""},{"$f":"IF(SISWA!D137=0,\"\",SISWA!D137)","v":"130-"},{"$f":"IF(SISWA!E137=0,\"\",SISWA!E137)","v":""},null,null,null,null,null,{"$error":"#DIV/0!"},null,null,{"$error":"#DIV/0!"},{"$f":"AVERAGE(L137:M137)","v":{"$error":"#DIV/0!"}}]
[131,{"$f":"IF(SISWA!B138=0,\"\",SISWA!B138)","v":""},{"$f":"IF(SISWA!C138=0,\"\",SISWA!C138)","v":""},{"$f":"IF(SISWA!D138=0,\"\",SISWA!D138)","v":"131-"},{"$f":"IF(SISWA!E138=0,\"\",SISWA!E138)","v":""},null,null,null,null,null,{"$error":"#DIV/0!"},null,null,{"$error":"#DIV/0!"},{"$error":"#DIV/0!"}]
[132,{"$f":"IF(SISWA!B139=0,\"\",SISWA!B139)","v":""},{"$f":"IF(SISWA!C139=0,\"\",SISWA!C139)","v":""},{"$f":"IF(SISWA!D139=0,\"\",SISWA!D139)","v":"132-"},{"$f":"IF(SISWA!E139=0,\"\",SISWA!E139)","v":""},null,null,null,null,null,{"$error":"#DIV/0!"},null,null,{"$error":"#DIV/0!"},{"$error":"#DIV/0!"}]
[133,{"$f":"IF(SISWA!B140=0,\"\",SISWA!B140)","v":""},{"$f":"IF(SISWA!C140=0,\"\",SISWA!C140)","v":""},{"$f":"IF(SISWA!D140=0,\"\",SISWA!D140)","v":"133-"},{"$f":"IF(SISWA!E140=0,\"\",SISWA!E140)","v":""},null,null,null,null,null,{"$error":"#DIV/0!"},null,null,{"$error":"#DIV/0!"},{"$error":"#DIV/0!"}]
[134,{"$f":"IF(SISWA!B141=0,\"\",SISWA!B141)","v":""},{"$f":"IF(SISWA!C141=0,\"\",SISWA!C141)","v":""},{"$f":"IF(SISWA!D141=0,\"\",SISWA!D141)","v":"134-"},{"$f":"IF(SISWA!E141=0,\"\",SISWA!E141)","v":""},null,null,null,null,null,{"$error":"#DIV/0!"},null,null,{"$error":"#DIV/0!"},{"$error":"#DIV/0!"}]
[135,{"$f":"IF(SISWA!B142=0,\"\",SISWA!B142)","v":""},{"$f":"IF(SISWA!C142=0,\"\",SISWA!C142)","v":""},{"$f":"IF(SISWA!D142=0,\"\",SISWA!D142)","v":"135-"},{"$f":"IF(SISWA!E142=0,\"\",SISWA!E142)","v":""},null,null,null,null,null,{"$error":"#DIV/0!"},null,null,{"$error":"#DIV/0!"},{"$error":"#DIV/0!"}]
[136,{"$f":"IF(SISWA!B143=0,\"\",SISWA!B143)","v":""},{"$f":"IF(SISWA!C143=0,\"\",SISWA!C143)","v":""},{"$f":"IF(SISWA!D143=0,\"\",SISWA!D143)","v":"136-"},{"$f":"IF(SISWA!E143=0,\"\",SISWA!E143)","v":""},null,null,null,null,null,{"$error":"#DIV/0!"},null,null,{"$error":"#DIV/0!"},{"$error":"#DIV/0!"}]
[137,{"$f":"IF(SISWA!B144=0,\"\",SISWA!B144)","v":""},{"$f":"IF(SISWA!C144=0,\"\",SISWA!C144)","v":""},{"$f":"IF(SISWA!D144=0,\"\",SISWA!D144)","v":"137-"},{"$f":"IF(SISWA!E144=0,\"\",SISWA!E144)","v":""},null,null,null,null,null,{"$error":"#DIV/0!"},null,null,{"$error":"#DIV/0!"},{"$error":"#DIV/0!"}]
[138,{"$f":"IF(SISWA!B145=0,\"\",SISWA!B145)","v":""},{"$f":"IF(SISWA!C145=0,\"\",SISWA!C145)","v":""},{"$f":"IF(SISWA!D145=0,\"\",SISWA!D145)","v":"138-"},{"$f":"IF(SISWA!E145=0,\"\",SISWA!E145)","v":""},null,null,null,null,null,{"$error":"#DIV/0!"},null,null,{"$error":"#DIV/0!"},{"$error":"#DIV/0!"}]
[139,{"$f":"IF(SISWA!B146=0,\"\",SISWA!B146)","v":""},{"$f":"IF(SISWA!C146=0,\"\",SISWA!C146)","v":""},{"$f":"IF(SISWA!D146=0,\"\",SISWA!D146)","v":"139-"},{"$f":"IF(SISWA!E146=0,\"\",SISWA!E146)","v":""},null,null,null,null,null,{"$error":"#DIV/0!"},null,null,{"$error":"#DIV/0!"},{"$error":"#DIV/0!"}]
[140,{"$f":"IF(SISWA!B147=0,\"\",SISWA!B147)","v":""},{"$f":"IF(SISWA!C147=0,\"\",SISWA!C147)","v":""},{"$f":"IF(SISWA!D147=0,\"\",SISWA!D147)","v":"140-"},{"$f":"IF(SISWA!E147=0,\"\",SISWA!E147)","v":""},null,null,null,null,null,{"$error":"#DIV/0!"},null,null,{"$error":"#DIV/0!"},{"$error":"#DIV/0!"}]
[141,{"$f":"IF(SISWA!B148=0,\"\",SISWA!B148)","v":""},{"$f":"IF(SISWA!C148=0,\"\",SISWA!C148)","v":""},{"$f":"IF(SISWA!D148=0,\"\",SISWA!D148)","v":"141-"},{"$f":"IF(SISWA!E148=0,\"\",SISWA!E148)","v":""},null,null,null,null,null,{"$error":"#DIV/0!"},null,null,{"$error":"#DIV/0!"},{"$error":"#DIV/0!"}]
[142,{"$f":"IF(SISWA!B149=0,\"\",SISWA!B149)","v":""},{"$f":"IF(SISWA!C149=0,\"\",SISWA!C149)","v":""},{"$f":"IF(SISWA!D149=0,\"\",SISWA!D149)","v":"142-"},{"$f":"IF(SISWA!E149=0,\"\",SISWA!E149)","v":""},null,null,null,null,null,{"$error":"#DIV/0!"},null,null,{"$error":"#DIV/0!"},{"$error":"#DIV/0!"}]
[143,{"$f":"IF(SISWA!B150=0,\"\",SISWA!B150)","v":""},{"$f":"IF(SISWA!C150=0,\"\",SISWA!C150)","v":""},{"$f":"IF(SISWA!D150=0,\"\",SISWA!D150)","v":"143-"},{"$f":"IF(SISWA!E150=0,\"\",SISWA!E150)","v":""},null,null,null,null,null,{"$error":"#DIV/0!"},null,null,{"$error":"#DIV/0!"},{"$error":"#DIV/0!"}]
[144,{"$f":"IF(SISWA!B151=0,\"\",SISWA!B151)","v":""},{"$f":"IF(SISWA!C151=0,\"\",SISWA!C151)","v":""},{"$f":"IF(SISWA!D151=0,\"\",SISWA!D151)","v":"144-"},{"$f":"IF(SISWA!E151=0,\"\",SISWA!E151)","v":""},null,null,null,null,null,{"$error":"#DIV/0!"},null,null,{"$error":"#DIV/0!"},{"$error":"#DIV/0!"}]
[145,{"$f":"IF(SISWA!B152=0,\"\",SISWA!B152)","v":""},{"$f":"IF(SISWA!C152=0,\"\",SISWA!C152)","v":""},{"$f":"IF(SISWA!D152=0,\"\",SISWA!D152)","v":"145-"},{"$f":"IF(SISWA!E152=0,\"\",SISWA!E152)","v":""},null,null,null,null,null,{"$error":"#DIV/0!"},null,null,{"$error":"#DIV/0!"},{"$error":"#DIV/0!"}]
[146,{"$f":"IF(SISWA!B153=0,\"\",SISWA!B153)","v":""},{"$f":"IF(SISWA!C153=0,\"\",SISWA!C153)","v":""},{"$f":"IF(SISWA!D153=0,\"\",SISWA!D153)","v":"146-"},{"$f":"IF(SISWA!E153=0,\"\",SISWA!E153)","v":""},null,null,null,null,null,{"$error":"#DIV/0!"},null,null,{"$error":"#DIV/0!"},{"$error":"#DIV/0!"}]
[147,{"$f":"IF(SISWA!B154=0,\"\",SISWA!B154)","v":""},{"$f":"IF(SISWA!C154=0,\"\",SISWA!C154)","v":""},{"$f":"IF(SISWA!D154=0,\"\",SISWA!D154)","v":"147-"},{"$f":"IF(SISWA!E154=0,\"\",SISWA!E154)","v":""},null,null,null,null,null,{"$error":"#DIV/0!"},null,null,{"$error":"#DIV/0!"},{"$error":"#DIV/0!"}]
[148,{"$f":"IF(SISWA!B155=0,\"\",SISWA!B155)","v":""},{"$f":"IF(SISWA!C155=0,\"\",SISWA!C155)","v":""},{"$f":"IF(SISWA!D155=0,\"\",SISWA!D155)","v":"148-"},{"$f":"IF(SISWA!E155=0,\"\",SISWA!E155)","v":""},null,null,null,null,null,{"$error":"#DIV/0!"},null,null,{"$error":"#DIV/0!"},{"$error":"#DIV/0!"}]
[149,{"$f":"IF(SISWA!B156=0,\"\",SISWA!B156)","v":""},{"$f":"IF(SISWA!C156=0,\"\",SISWA!C156)","v":""},{"$f":"IF(SISWA!D156=0,\"\",SISWA!D156)","v":"149-"},{"$f":"IF(SISWA!E156=0,\"\",SISWA!E156)","v":""},null,null,null,null,null,{"$error":"#DIV/0!"},null,null,{"$error":"#DIV/0!"},{"$error":"#DIV/0!"}]
[150,{"$f":"IF(SISWA!B157=0,\"\",SISWA!B157)","v":""},{"$f":"IF(SISWA!C157=0,\"\",SISWA!C157)","v":""},{"$f":"IF(SISWA!D157=0,\"\",SISWA!D157)","v":"150-"},{"$f":"IF(SISWA!E157=0,\"\",SISWA!E157)","v":""},null,null,null,null,null,{"$error":"#DIV/0!"},null,null,{"$error":"#DIV/0!"},{"$error":"#DIV/0!"}]
[151,{"$f":"IF(SISWA!B158=0,\"\",SISWA!B158)","v":""},{"$f":"IF(SISWA!C158=0,\"\",SISWA!C158)","v":""},{"$f":"IF(SISWA!D158=0,\"\",SISWA!D158)","v":"151-"},{"$f":"IF(SISWA!E158=0,\"\",SISWA!E158)","v":""},null,null,null,null,null,{"$error":"#DIV/0!"},null,null,{"$error":"#DIV/0!"},{"$error":"#DIV/0!"}]
[152,{"$f":"IF(SISWA!B159=0,\"\",SISWA!B159)","v":""},{"$f":"IF(SISWA!C159=0,\"\",SISWA!C159)","v":""},{"$f":"IF(SISWA!D159=0,\"\",SISWA!D159)","v":"152-"},{"$f":"IF(SISWA!E159=0,\"\",SISWA!E159)","v":""},null,null,null,null,null,{"$error":"#DIV/0!"},null,null,{"$error":"#DIV/0!"},{"$error":"#DIV/0!"}]
[153,{"$f":"IF(SISWA!B160=0,\"\",SISWA!B160)","v":""},{"$f":"IF(SISWA!C160=0,\"\",SISWA!C160)","v":""},{"$f":"IF(SISWA!D160=0,\"\",SISWA!D160)","v":"153-"},{"$f":"IF(SISWA!E160=0,\"\",SISWA!E160)","v":""},null,null,null,null,null,{"$error":"#DIV/0!"},null,null,{"$error":"#DIV/0!"},{"$error":"#DIV/0!"}]
[154,{"$f":"IF(SISWA!B161=0,\"\",SISWA!B161)","v":""},{"$f":"IF(SISWA!C161=0,\"\",SISWA!C161)","v":""},{"$f":"IF(SISWA!D161=0,\"\",SISWA!D161)","v":"154-"},{"$f":"IF(SISWA!E161=0,\"\",SISWA!E161)","v":""},null,null,null,null,null,{"$error":"#DIV/0!"},null,null,{"$error":"#DIV/0!"},{"$error":"#DIV/0!"}]
[155,{"$f":"IF(SISWA!B162=0,\"\",SISWA!B162)","v":""},{"$f":"IF(SISWA!C162=0,\"\",SISWA!C162)","v":""},{"$f":"IF(SISWA!D162=0,\"\",SISWA!D162)","v":"155-"},{"$f":"IF(SISWA!E162=0,\"\",SISWA!E162)","v":""},null,null,null,null,null,{"$error":"#DIV/0!"},null,null,{"$error":"#DIV/0!"},{"$error":"#DIV/0!"}]
[156,{"$f":"IF(SISWA!B163=0,\"\",SISWA!B163)","v":""},{"$f":"IF(SISWA!C163=0,\"\",SISWA!C163)","v":""},{"$f":"IF(SISWA!D163=0,\"\",SISWA!D163)","v":"156-"},{"$f":"IF(SISWA!E163=0,\"\",SISWA!E163)","v":""},null,null,null,null,null,{"$error":"#DIV/0!"},null,null,{"$error":"#DIV/0!"},{"$error":"#DIV/0!"}]
[157,{"$f":"IF(SISWA!B164=0,\"\",SISWA!B164)","v":""},{"$f":"IF(SISWA!C164=0,\"\",SISWA!C164)","v":""},{"$f":"IF(SISWA!D164=0,\"\",SISWA!D164)","v":"157-"},{"$f":"IF(SISWA!E164=0,\"\",SISWA!E164)","v":""},null,null,null,null,null,{"$error":"#DIV/0!"},null,null,{"$error":"#DIV/0!"},{"$error":"#DIV/0!"}]
[158,{"$f":"IF(SISWA!B165=0,\"\",SISWA!B165)","v":""},{"$f":"IF(SISWA!C165=0,\"\",SISWA!C165)","v":""},{"$f":"IF(SISWA!D165=0,\"\",SISWA!D165)","v":"158-"},{"$f":"IF(SISWA!E165=0,\"\",SISWA!E165)","v":""},null,null,null,null,null,{"$error":"#DIV/0!"},null,null,{"$error":"#DIV/0!"},{"$error":"#DIV/0!"}]
[159,{"$f":"IF(SISWA!B166=0,\"\",SISWA!B166)","v":""},{"$f":"IF(SISWA!C166=0,\"\",SISWA!C166)","v":""},{"$f":"IF(SISWA!D166=0,\"\",SISWA!D166)","v":"159-"},{"$f":"IF(SISWA!E166=0,\"\",SISWA!E166)","v":""},null,null,null,null,null,{"$error":"#DIV/0!"},null,null,{"$error":"#DIV/0!"},{"$error":"#DIV/0!"}]
[160,{"$f":"IF(SISWA!B167=0,\"\",SISWA!B167)","v":""},{"$f":"IF(SISWA!C167=0,\"\",SISWA!C167)","v":""},{"$f":"IF(SISWA!D167=0,\"\",SISWA!D167)","v":"160-"},{"$f":"IF(SISWA!E167=0,\"\",SISWA!E167)","v":""},null,null,null,null,null,{"$error":"#DIV/0!"},null,null,{"$error":"#DIV/0!"},{"$error":"#DIV/0!"}]
[161,{"$f":"IF(SISWA!B168=0,\"\",SISWA!B168)","v":""},{"$f":"IF(SISWA!C168=0,\"\",SISWA!C168)","v":""},{"$f":"IF(SISWA!D168=0,\"\",SISWA!D168)","v":"161-"},{"$f":"IF(SISWA!E168=0,\"\",SISWA!E168)","v":""},null,null,null,null,null,{"$error":"#DIV/0!"},null,null,{"$error":"#DIV/0!"},{"$error":"#DIV/0!"}]
[162,{"$f":"IF(SISWA!B169=0,\"\",SISWA!B169)","v":""},{"$f":"IF(SISWA!C169=0,\"\",SISWA!C169)","v":""},{"$f":"IF(SISWA!D169=0,\"\",SISWA!D169)","v":"162-"},{"$f":"IF(SISWA!E169=0,\"\",SISWA!E169)","v":""},null,null,null,null,null,{"$error":"#DIV/0!"},null,null,{"$error":"#DIV/0!"},{"$error":"#DIV/0!"}]
[163,{"$f":"IF(SISWA!B170=0,\"\",SISWA!B170)","v":""},{"$f":"IF(SISWA!C170=0,\"\",SISWA!C170)","v":""},{"$f":"IF(SISWA!D170=0,\"\",SISWA!D170)","v":"163-"},{"$f":"IF(SISWA!E170=0,\"\",SISWA!E170)","v":""},null,null,null,null,null,{"$error":"#DIV/0!"},null,null,{"$error":"#DIV/0!"},{"$error":"#DIV/0!"}]
[164,{"$f":"IF(SISWA!B171=0,\"\",SISWA!B171)","v":""},{"$f":"IF(SISWA!C171=0,\"\",SISWA!C171)","v":""},{"$f":"IF(SISWA!D171=0,\"\",SISWA!D171)","v":"164-"},{"$f":"IF(SISWA!E171=0,\"\",SISWA!E171)","v":""},null,null,null,null,null,{"$error":"#DIV/0!"},null,null,{"$error":"#DIV/0!"},{"$error":"#DIV/0!"}]
[165,{"$f":"IF(SISWA!B172=0,\"\",SISWA!B172)","v":""},{"$f":"IF(SISWA!C172=0,\"\",SISWA!C172)","v":""},{"$f":"IF(SISWA!D172=0,\"\",SISWA!D172)","v":"165-"},{"$f":"IF(SISWA!E172=0,\"\",SISWA!E172)","v":""},null,null,null,null,null,{"$error":"#DIV/0!"},null,null,{"$error":"#DIV/0!"},{"$error":"#DIV/0!"}]
[166,{"$f":"IF(SISWA!B173=0,\"\",SISWA!B173)","v":""},{"$f":"IF(SISWA!C173=0,\"\",SISWA!C173)","v":""},{"$f":"IF(SISWA!D173=0,\"\",SISWA!D173)","v":"166-"},{"$f":"IF(SISWA!E173=0,\"\",SISWA!E173)","v":""},null,null,null,null,null,{"$error":"#DIV/0!"},null,null,{"$error":"#DIV/0!"},{"$error":"#DIV/0!"}]
[167,{"$f":"IF(SISWA!B174=0,\"\",SISWA!B174)","v":""},{"$f":"IF(SISWA!C174=0,\"\",SISWA!C174)","v":""},{"$f":"IF(SISWA!D174=0,\"\",SISWA!D174)","v":"167-"},{"$f":"IF(SISWA!E174=0,\"\",SISWA!E174)","v":""},null,null,null,null,null,{"$error":"#DIV/0!"},null,null,{"$error":"#DIV/0!"},{"$error":"#DIV/0!"}]
[168,{"$f":"IF(SISWA!B175=0,\"\",SISWA!B175)","v":""},{"$f":"IF(SISWA!C175=0,\"\",SISWA!C175)","v":""},{"$f":"IF(SISWA!D175=0,\"\",SISWA!D175)","v":"168-"},{"$f":"IF(SISWA!E175=0,\"\",SISWA!E175)","v":""},null,null,null,null,null,{"$error":"#DIV/0!"},null,null,{"$error":"#DIV/0!"},{"$error":"#DIV/0!"}]
[169,{"$f":"IF(SISWA!B176=0,\"\",SISWA!B176)","v":""},{"$f":"IF(SISWA!C176=0,\"\",SISWA!C176)","v":""},{"$f":"IF(SISWA!D176=0,\"\",SISWA!D176)","v":"169-"},{"$f":"IF(SISWA!E176=0,\"\",SISWA!E176)","v":""},null,null,null,null,null,{"$error":"#DIV/0!"},null,null,{"$error":"#DIV/0!"},{"$error":"#DIV/0!"}]
[170,{"$f":"IF(SISWA!B177=0,\"\",SISWA!B177)","v":""},{"$f":"IF(SISWA!C177=0,\"\",SISWA!C177)","v":""},{"$f":"IF(SISWA!D177=0,\"\",SISWA!D177)","v":"170-"},{"$f":"IF(SISWA!E177=0,\"\",SISWA!E177)","v":""},null,null,null,null,null,{"$error":"#DIV/0!"},null,null,{"$error":"#DIV/0!"},{"$error":"#DIV/0!"}]
[171,{"$f":"IF(SISWA!B178=0,\"\",SISWA!B178)","v":""},{"$f":"IF(SISWA!C178=0,\"\",SISWA!C178)","v":""},{"$f":"IF(SISWA!D178=0,\"\",SISWA!D178)","v":"171-"},{"$f":"IF(SISWA!E178=0,\"\",SISWA!E178)","v":""},null,null,null,null,null,{"$error":"#DIV/0!"},null,null,{"$error":"#DIV/0!"},{"$error":"#DIV/0!"}]
[172,{"$f":"IF(SISWA!B179=0,\"\",SISWA!B179)","v":""},{"$f":"IF(SISWA!C179=0,\"\",SISWA!C179)","v":""},{"$f":"IF(SISWA!D179=0,\"\",SISWA!D179)","v":"172-"},{"$f":"IF(SISWA!E179=0,\"\",SISWA!E179)","v":""},null,null,null,null,null,{"$error":"#DIV/0!"},null,null,{"$error":"#DIV/0!"},{"$error":"#DIV/0!"}]
[173,{"$f":"IF(SISWA!B180=0,\"\",SISWA!B180)","v":""},{"$f":"IF(SISWA!C180=0,\"\",SISWA!C180)","v":""},{"$f":"IF(SISWA!D180=0,\"\",SISWA!D180)","v":"173-"},{"$f":"IF(SISWA!E180=0,\"\",SISWA!E180)","v":""},null,null,null,null,null,{"$error":"#DIV/0!"},null,null,{"$error":"#DIV/0!"},{"$error":"#DIV/0!"}]
[174,{"$f":"IF(SISWA!B181=0,\"\",SISWA!B181)","v":""},{"$f":"IF(SISWA!C181=0,\"\",SISWA!C181)","v":""},{"$f":"IF(SISWA!D181=0,\"\",SISWA!D181)","v":"174-"},{"$f":"IF(SISWA!E181=0,\"\",SISWA!E181)","v":""},null,null,null,null,null,{"$error":"#DIV/0!"},null,null,{"$error":"#DIV/0!"},{"$error":"#DIV/0!"}]
[175,{"$f":"IF(SISWA!B182=0,\"\",SISWA!B182)","v":""},{"$f":"IF(SISWA!C182=0,\"\",SISWA!C182)","v":""},{"$f":"IF(SISWA!D182=0,\"\",SISWA!D182)","v":"175-"},{"$f":"IF(SISWA!E182=0,\"\",SISWA!E182)","v":""},null,null,null,null,null,{"$error":"#DIV/0!"},null,null,{"$error":"#DIV/0!"},{"$error":"#DIV/0!"}]
[176,{"$f":"IF(SISWA!B183=0,\"\",SISWA!B183)","v":""},{"$f":"IF(SISWA!C183=0,\"\",SISWA!C183)","v":""},{"$f":"IF(SISWA!D183=0,\"\",SISWA!D183)","v":"176-"},{"$f":"IF(SISWA!E183=0,\"\",SISWA!E183)","v":""},null,null,null,null,null,{"$error":"#DIV/0!"},null,null,{"$error":"#DIV/0!"},{"$error":"#DIV/0!"}]
[177,{"$f":"IF(SISWA!B184=0,\"\",SISWA!B184)","v":""},{"$f":"IF(SISWA!C184=0,\"\",SISWA!C184)","v":""},{"$f":"IF(SISWA!D184=0,\"\",SISWA!D184)","v":"177-"},{"$f":"IF(SISWA!E184=0,\"\",SISWA!E184)","v":""},null,null,null,null,null,{"$error":"#DIV/0!"},null,null,{"$error":"#DIV/0!"},{"$error":"#DIV/0!"}]
[178,{"$f":"IF(SISWA!B185=0,\"\",SISWA!B185)","v":""},{"$f":"IF(SISWA!C185=0,\"\",SISWA!C185)","v":""},{"$f":"IF(SISWA!D185=0,\"\",SISWA!D185)","v":"178-"},{"$f":"IF(SISWA!E185=0,\"\",SISWA!E185)","v":""},null,null,null,null,null,{"$error":"#DIV/0!"},null,null,{"$error":"#DIV/0!"},{"$error":"#DIV/0!"}]
[179,{"$f":"IF(SISWA!B186=0,\"\",SISWA!B186)","v":""},{"$f":"IF(SISWA!C186=0,\"\",SISWA!C186)","v":""},{"$f":"IF(SISWA!D186=0,\"\",SISWA!D186)","v":"179-"},{"$f":"IF(SISWA!E186=0,\"\",SISWA!E186)","v":""},null,null,null,null,null,{"$error":"#DIV/0!"},null,null,{"$f":"AVERAGE(L186:M186)","v":{"$error":"#DIV/0!"}},{"$error":"#DIV/0!"}]
[180,{"$f":"IF(SISWA!B187=0,\"\",SISWA!B187)","v":""},{"$f":"IF(SISWA!C187=0,\"\",SISWA!C187)","v":""},{"$f":"IF(SISWA!D187=0,\"\",SISWA!D187)","v":"180-"},{"$f":"IF(SISWA!E187=0,\"\",SISWA!E187)","v":""},null,null,null,null,null,{"$error":"#DIV/0!"},null,null,{"$error":"#DIV/0!"},{"$error":"#DIV/0!"}]
[181,{"$f":"IF(SISWA!B188=0,\"\",SISWA!B188)","v":""},{"$f":"IF(SISWA!C188=0,\"\",SISWA!C188)","v":""},{"$f":"IF(SISWA!D188=0,\"\",SISWA!D188)","v":"181-"},{"$f":"IF(SISWA!E188=0,\"\",SISWA!E188)","v":""},null,null,null,null,null,{"$error":"#DIV/0!"},null,null,{"$error":"#DIV/0!"},{"$error":"#DIV/0!"}]
[182,{"$f":"IF(SISWA!B189=0,\"\",SISWA!B189)","v":""},{"$f":"IF(SISWA!C189=0,\"\",SISWA!C189)","v":""},{"$f":"IF(SISWA!D189=0,\"\",SISWA!D189)","v":"182-"},{"$f":"IF(SISWA!E189=0,\"\",SISWA!E189)","v":""},null,null,null,null,null,{"$error":"#DIV/0!"},null,null,{"$error":"#DIV/0!"},{"$error":"#DIV/0!"}]
[183,{"$f":"IF(SISWA!B190=0,\"\",SISWA!B190)","v":""},{"$f":"IF(SISWA!C190=0,\"\",SISWA!C190)","v":""},{"$f":"IF(SISWA!D190=0,\"\",SISWA!D190)","v":"183-"},{"$f":"IF(SISWA!E190=0,\"\",SISWA!E190)","v":""},null,null,null,null,null,{"$error":"#DIV/0!"},null,null,{"$error":"#DIV/0!"},{"$error":"#DIV/0!"}]
[184,{"$f":"IF(SISWA!B191=0,\"\",SISWA!B191)","v":""},{"$f":"IF(SISWA!C191=0,\"\",SISWA!C191)","v":""},{"$f":"IF(SISWA!D191=0,\"\",SISWA!D191)","v":"184-"},{"$f":"IF(SISWA!E191=0,\"\",SISWA!E191)","v":""},null,null,null,null,null,{"$error":"#DIV/0!"},null,null,{"$error":"#DIV/0!"},{"$error":"#DIV/0!"}]
[185,{"$f":"IF(SISWA!B192=0,\"\",SISWA!B192)","v":""},{"$f":"IF(SISWA!C192=0,\"\",SISWA!C192)","v":""},{"$f":"IF(SISWA!D192=0,\"\",SISWA!D192)","v":"185-"},{"$f":"IF(SISWA!E192=0,\"\",SISWA!E192)","v":""},null,null,null,null,null,{"$error":"#DIV/0!"},null,null,{"$error":"#DIV/0!"},{"$error":"#DIV/0!"}]
[186,{"$f":"IF(SISWA!B193=0,\"\",SISWA!B193)","v":""},{"$f":"IF(SISWA!C193=0,\"\",SISWA!C193)","v":""},{"$f":"IF(SISWA!D193=0,\"\",SISWA!D193)","v":"186-"},{"$f":"IF(SISWA!E193=0,\"\",SISWA!E193)","v":""},null,null,null,null,null,{"$error":"#DIV/0!"},null,null,{"$error":"#DIV/0!"},{"$error":"#DIV/0!"}]
[187,{"$f":"IF(SISWA!B194=0,\"\",SISWA!B194)","v":""},{"$f":"IF(SISWA!C194=0,\"\",SISWA!C194)","v":""},{"$f":"IF(SISWA!D194=0,\"\",SISWA!D194)","v":"187-"},{"$f":"IF(SISWA!E194=0,\"\",SISWA!E194)","v":""},null,null,null,null,null,{"$error":"#DIV/0!"},null,null,{"$error":"#DIV/0!"},{"$error":"#DIV/0!"}]
[188,{"$f":"IF(SISWA!B195=0,\"\",SISWA!B195)","v":""},{"$f":"IF(SISWA!C195=0,\"\",SISWA!C195)","v":""},{"$f":"IF(SISWA!D195=0,\"\",SISWA!D195)","v":"188-"},{"$f":"IF(SISWA!E195=0,\"\",SISWA!E195)","v":""},null,null,null,null,null,{"$error":"#DIV/0!"},null,null,{"$error":"#DIV/0!"},{"$error":"#DIV/0!"}]
[189,{"$f":"IF(SISWA!B196=0,\"\",SISWA!B196)","v":""},{"$f":"IF(SISWA!C196=0,\"\",SISWA!C196)","v":""},{"$f":"IF(SISWA!D196=0,\"\",SISWA!D196)","v":"189-"},{"$f":"IF(SISWA!E196=0,\"\",SISWA!E196)","v":""},null,null,null,null,null,{"$f":"AVERAGE(F196:J196)","v":{"$error":"#DIV/0!"}},null,null,{"$error":"#DIV/0!"},{"$error":"#DIV/0!"}]
[190,{"$f":"IF(SISWA!B197=0,\"\",SISWA!B197)","v":""},{"$f":"IF(SISWA!C197=0,\"\",SISWA!C197)","v":""},{"$f":"IF(SISWA!D197=0,\"\",SISWA!D197)","v":"190-"},{"$f":"IF(SISWA!E197=0,\"\",SISWA!E197)","v":""},null,null,null,null,null,{"$error":"#DIV/0!"},null,null,{"$error":"#DIV/0!"},{"$error":"#DIV/0!"}]
[191,{"$f":"IF(SISWA!B198=0,\"\",SISWA!B198)","v":""},{"$f":"IF(SISWA!C198=0,\"\",SISWA!C198)","v":""},{"$f":"IF(SISWA!D198=0,\"\",SISWA!D198)","v":"191-"},{"$f":"IF(SISWA!E198=0,\"\",SISWA!E198)","v":""},null,null,null,null,null,{"$error":"#DIV/0!"},null,null,{"$error":"#DIV/0!"},{"$error":"#DIV/0!"}]
[192,{"$f":"IF(SISWA!B199=0,\"\",SISWA!B199)","v":""},{"$f":"IF(SISWA!C199=0,\"\",SISWA!C199)","v":""},{"$f":"IF(SISWA!D199=0,\"\",SISWA!D199)","v":"192-"},{"$f":"IF(SISWA!E199=0,\"\",SISWA!E199)","v":""},null,null,null,null,null,{"$error":"#DIV/0!"},null,null,{"$error":"#DIV/0!"},{"$error":"#DIV/0!"}]
[193,{"$f":"IF(SISWA!B200=0,\"\",SISWA!B200)","v":""},{"$f":"IF(SISWA!C200=0,\"\",SISWA!C200)","v":""},{"$f":"IF(SISWA!D200=0,\"\",SISWA!D200)","v":"193-"},{"$f":"IF(SISWA!E200=0,\"\",SISWA!E200)","v":""},null,null,null,null,null,{"$error":"#DIV/0!"},null,null,{"$error":"#DIV/0!"},{"$error":"#DIV/0!"}]
[194,{"$f":"IF(SISWA!B201=0,\"\",SISWA!B201)","v":""},{"$f":"IF(SISWA!C201=0,\"\",SISWA!C201)","v":""},{"$f":"IF(SISWA!D201=0,\"\",SISWA!D201)","v":"194-"},{"$f":"IF(SISWA!E201=0,\"\",SISWA!E201)","v":""},null,null,null,null,null,{"$error":"#DIV/0!"},null,null,{"$error":"#DIV/0!"},{"$f":"AVERAGE(L201:M201)","v":{"$error":"#DIV/0!"}}]
[195,{"$f":"IF(SISWA!B202=0,\"\",SISWA!B202)","v":""},{"$f":"IF(SISWA!C202=0,\"\",SISWA!C202)","v":""},{"$f":"IF(SISWA!D202=0,\"\",SISWA!D202)","v":"195-"},{"$f":"IF(SISWA!E202=0,\"\",SISWA!E202)","v":""},null,null,null,null,null,{"$error":"#DIV/0!"},null,null,{"$error":"#DIV/0!"},{"$error":"#DIV/0!"}]
[196,{"$f":"IF(SISWA!B203=0,\"\",SISWA!B203)","v":""},{"$f":"IF(SISWA!C203=0,\"\",SISWA!C203)","v":""},{"$f":"IF(SISWA!D203=0,\"\",SISWA!D203)","v":"196-"},{"$f":"IF(SISWA!E203=0,\"\",SISWA!E203)","v":""},null,null,null,null,null,{"$error":"#DIV/0!"},null,null,{"$error":"#DIV/0!"},{"$error":"#DIV/0!"}]
[197,{"$f":"IF(SISWA!B204=0,\"\",SISWA!B204)","v":""},{"$f":"IF(SISWA!C204=0,\"\",SISWA!C204)","v":""},{"$f":"IF(SISWA!D204=0,\"\",SISWA!D204)","v":"197-"},{"$f":"IF(SISWA!E204=0,\"\",SISWA!E204)","v":""},null,null,null,null,null,{"$error":"#DIV/0!"},null,null,{"$error":"#DIV/0!"},{"$error":"#DIV/0!"}]
[198,{"$f":"IF(SISWA!B205=0,\"\",SISWA!B205)","v":""},{"$f":"IF(SISWA!C205=0,\"\",SISWA!C205)","v":""},{"$f":"IF(SISWA!D205=0,\"\",SISWA!D205)","v":"198-"},{"$f":"IF(SISWA!E205=0,\"\",SISWA!E205)","v":""},null,null,null,null,null,{"$error":"#DIV/0!"},null,null,{"$error":"#DIV/0!"},{"$error":"#DIV/0!"}]
[199,{"$f":"IF(SISWA!B206=0,\"\",SISWA!B206)","v":""},{"$f":"IF(SISWA!C206=0,\"\",SISWA!C206)","v":""},{"$f":"IF(SISWA!D206=0,\"\",SISWA!D206)","v":"199-"},{"$f":"IF(SISWA!E206=0,\"\",SISWA!E206)","v":""},null,null,null,null,null,{"$error":"#DIV/0!"},null,null,{"$error":"#DIV/0!"},{"$error":"#DIV/0!"}]
[200,{"$f":"IF(SISWA!B207=0,\"\",SISWA!B207)","v":""},{"$f":"IF(SISWA!C207=0,\"\",SISWA!C207)","v":""},{"$f":"IF(SISWA!D207=0,\"\",SISWA!D207)","v":"200-"},{"$f":"IF(SISWA!E207=0,\"\",SISWA!E207)","v":""},null,null,null,null,null,{"$error":"#DIV/0!"},null,null,{"$error":"#DIV/0!"},{"$error":"#DIV/0!"}]

{"sheet":"SBK","index":12,"n_rows":207,"n_cols":15,"rows_kept":207,"cut":false,"hidden":false,"merged":[[4,13,6,13],[4,5,4,12],[0,0,0,9],[1,0,1,9],[2,0,2,9],[4,0,6,0],[4,1,6,1],[4,2,6,2],[4,3,6,3],[4,4,6,4],[5,5,5,9],[5,11,5,12]]}
["DAFTAR NILAI AKHIR SEKOLAH"]
[{"$f":"AA!A2","v":"MADRASAH IBTIDAIYAH NURUL ISLAM LABRUK KIDUL"}]
[{"$f":"AA!A3","v":"TAHUN PELAJARAN 2018/2019"}]
[]
["NO","No Induk","NISN","Nomor Peserta","Nama Peserta","SENI BUDAYA DAN KETERAMPILAN",null,null,null,null,null,null,null,"rata-rata UAM & PRAKTEK"]
[null,null,null,null,null,"Nilai Semester",null,null,null,null,"Rata- 2","NILAI UAM"]
[null,null,null,null,null,7,8,9,10,11,"Rapor","TULIS","PRAKTIK"]
[1,{"$f":"IF(SISWA!B8=0,\"\",SISWA!B8)","v":4270},{"$f":"IF(SISWA!C8=0,\"\",SISWA!C8)","v":"0067566336"},{"$f":"IF(SISWA!D8=0,\"\",SISWA!D8)","v":"1-18-05-80-162-001-9"},{"$f":"IF(SISWA!E8=0,\"\",SISWA!E8)","v":"ADITYA MAULA FANDY TAULANI"},80,78,83,82,90,{"$f":"AVERAGE(F8:J8)","v":82.6},65,{"$f":"K8","v":82.6},{"$f":"AVERAGE(L8:M8)","v":73.8},{"$f":"AVERAGE(L8,F8:J8)","v":79.666666666666671}]
[2,{"$f":"IF(SISWA!B9=0,\"\",SISWA!B9)","v":4300},{"$f":"IF(SISWA!C9=0,\"\",SISWA!C9)","v":"0066364963"},{"$f":"IF(SISWA!D9=0,\"\",SISWA!D9)","v":"1-18-05-80-162-002-8"},{"$f":"IF(SISWA!E9=0,\"\",SISWA!E9)","v":"AHMAD FERDIAN ALAMSYAH"},72,67,74,72,83,{"$f":"AVERAGE(F9:J9)","v":73.599999999999994},65,{"$f":"K9","v":73.599999999999994},{"$f":"AVERAGE(L9:M9)","v":69.3},{"$f":"AVERAGE(L9,F9:J9)","v":72.166666666666671}]
[3,{"$f":"IF(SISWA!B10=0,\"\",SISWA!B10)","v":4271},{"$f":"IF(SISWA!C10=0,\"\",SISWA!C10)","v":"0062805893"},{"$f":"IF(SISWA!D10=0,\"\",SISWA!D10)","v":"1-18-05-80-162-003-7"},{"$f":"IF(SISWA!E10=0,\"\",SISWA!E10)","v":"AHMAD RAMADHANI FADLULLOH"},74,73,80,80,84,78.2,65,78.2,71.599999999999994,76]
[4,{"$f":"IF(SISWA!B11=0,\"\",SISWA!B11)","v":4398},{"$f":"IF(SISWA!C11=0,\"\",SISWA!C11)","v":"0062399399"},{"$f":"IF(SISWA!D11=0,\"\",SISWA!D11)","v":"1-18-05-80-162-004-6"},{"$f":"IF(SISWA!E11=0,\"\",SISWA!E11)","v":"ANANDA AMILIA"},76,69,78,76,85,76.8,65,76.8,70.900000000000006,74.833333333333329]
[5,{"$f":"IF(SISWA!B12=0,\"\",SISWA!B12)","v":4272},{"$f":"IF(SISWA!C12=0,\"\",SISWA!C12)","v":"0071551428"},{"$f":"IF(SISWA!D12=0,\"\",SISWA!D12)","v":"1-18-05-80-162-005-5"},{"$f":"IF(SISWA!E12=0,\"\",SISWA!E12)","v":"ANDINI MAULID DWI LESTARI"},76,71,76,75,81,75.8,65,75.8,70.400000000000006,74]
[6,{"$f":"IF(SISWA!B13=0,\"\",SISWA!B13)","v":4301},{"$f":"IF(SISWA!C13=0,\"\",SISWA!C13)","v":"0061907599"},{"$f":"IF(SISWA!D13=0,\"\",SISWA!D13)","v":"1-18-05-80-162-006-4"},{"$f":"IF(SISWA!E13=0,\"\",SISWA!E13)","v":"ANDRIK YUSRI"},70,66,74,70,83,72.599999999999994,65,72.599999999999994,68.8,71.333333333333329]
[7,{"$f":"IF(SISWA!B14=0,\"\",SISWA!B14)","v":4273},{"$f":"IF(SISWA!C14=0,\"\",SISWA!C14)","v":"0067280519"},{"$f":"IF(SISWA!D14=0,\"\",SISWA!D14)","v":"1-18-05-80-162-007-3"},{"$f":"IF(SISWA!E14=0,\"\",SISWA!E14)","v":"DEWI SAKINAH ISWARA"},78,78,82,82,86,81.2,65,81.2,73.099999999999994,78.5]
[8,{"$f":"IF(SISWA!B15=0,\"\",SISWA!B15)","v":4307},{"$f":"IF(SISWA!C15=0,\"\",SISWA!C15)","v":"0066012198"},{"$f":"IF(SISWA!D15=0,\"\",SISWA!D15)","v":"1-18-05-80-162-008-2"},{"$f":"IF(SISWA!E15=0,\"\",SISWA!E15)","v":"CHAKIM"},68,64,74,70,83,71.8,65,71.8,68.400000000000006,70.666666666666671]
[9,{"$f":"IF(SISWA!B16=0,\"\",SISWA!B16)","v":4275},{"$f":"IF(SISWA!C16=0,\"\",SISWA!C16)","v":"0078199679"},{"$f":"IF(SISWA!D16=0,\"\",SISWA!D16)","v":"1-18-05-80-162-009-9"},{"$f":"IF(SISWA!E16=0,\"\",SISWA!E16)","v":"HANIK APRILIA SARI"},78,77,79,78,84,79.2,65,79.2,72.099999999999994,76.833333333333329]
[10,{"$f":"IF(SISWA!B17=0,\"\",SISWA!B17)","v":"4238"},{"$f":"IF(SISWA!C17=0,\"\",SISWA!C17)","v":"0051503260"},{"$f":"IF(SISWA!D17=0,\"\",SISWA!D17)","v":"1-18-05-80-162-010-8"},{"$f":"IF(SISWA!E17=0,\"\",SISWA!E17)","v":"DESI NATALIA SAPUTRI"},73,64,75,70,83,73,65,73,69,71.666666666666671]
[11,{"$f":"IF(SISWA!B18=0,\"\",SISWA!B18)","v":4391},{"$f":"IF(SISWA!C18=0,\"\",SISWA!C18)","v":"0079418518"},{"$f":"IF(SISWA!D18=0,\"\",SISWA!D18)","v":"1-18-05-80-162-011-7"},{"$f":"IF(SISWA!E18=0,\"\",SISWA!E18)","v":"HIDAYATUL KHUMAINIA"},70,68,75,75,83,74.2,65,74.2,69.599999999999994,72.666666666666671]
[12,{"$f":"IF(SISWA!B19=0,\"\",SISWA!B19)","v":4274},{"$f":"IF(SISWA!C19=0,\"\",SISWA!C19)","v":"0077670297"},{"$f":"IF(SISWA!D19=0,\"\",SISWA!D19)","v":"1-18-05-80-162-012-6"},{"$f":"IF(SISWA!E19=0,\"\",SISWA!E19)","v":"DWITA FITA WULANDARI"},72,69,75,74,86,75.2,65,75.2,70.099999999999994,73.5]
[13,{"$f":"IF(SISWA!B20=0,\"\",SISWA!B20)","v":4276},{"$f":"IF(SISWA!C20=0,\"\",SISWA!C20)","v":"0067236848"},{"$f":"IF(SISWA!D20=0,\"\",SISWA!D20)","v":"1-18-05-80-162-013-5"},{"$f":"IF(SISWA!E20=0,\"\",SISWA!E20)","v":"IZZA ILMIA AZZAHRA"},78,80,82,82,87,81.8,65,81.8,73.400000000000006,79]
[14,{"$f":"IF(SISWA!B21=0,\"\",SISWA!B21)","v":4303},{"$f":"IF(SISWA!C21=0,\"\",SISWA!C21)","v":"0064031376"},{"$f":"IF(SISWA!D21=0,\"\",SISWA!D21)","v":"1-18-05-80-162-014-4"},{"$f":"IF(SISWA!E21=0,\"\",SISWA!E21)","v":"FARIDATUS SAHDIAH"},72,68,75,75,83,74.599999999999994,65,74.599999999999994,69.8,73]
[15,{"$f":"IF(SISWA!B22=0,\"\",SISWA!B22)","v":4278},{"$f":"IF(SISWA!C22=0,\"\",SISWA!C22)","v":"0079672823"},{"$f":"IF(SISWA!D22=0,\"\",SISWA!D22)","v":"1-18-05-80-162-015-3"},{"$f":"IF(SISWA!E22=0,\"\",SISWA!E22)","v":"KHARISYA AZZAHRO"},85,80,77,75,91,81.599999999999994,65,81.599999999999994,73.3,78.833333333333329]
[16,{"$f":"IF(SISWA!B23=0,\"\",SISWA!B23)","v":4277},{"$f":"IF(SISWA!C23=0,\"\",SISWA!C23)","v":"0077101453"},{"$f":"IF(SISWA!D23=0,\"\",SISWA!D23)","v":"1-18-05-80-162-016-2"},{"$f":"IF(SISWA!E23=0,\"\",SISWA!E23)","v":"KARINA FEBBY CAHYA AMILIA"},76,78,77,76,88,79,65,79,72,76.666666666666671]
[17,{"$f":"IF(SISWA!B24=0,\"\",SISWA!B24)","v":4601},{"$f":"IF(SISWA!C24=0,\"\",SISWA!C24)","v":"0069718082"},{"$f":"IF(SISWA!D24=0,\"\",SISWA!D24)","v":"1-18-05-80-162-017-9"},{"$f":"IF(SISWA!E24=0,\"\",SISWA!E24)","v":"MOCHAMAD RIFKY ROSAN"},79,77,76,75,83,78,65,78,71.5,75.833333333333329]
[18,{"$f":"IF(SISWA!B25=0,\"\",SISWA!B25)","v":"4241"},{"$f":"IF(SISWA!C25=0,\"\",SISWA!C25)","v":"0057006145"},{"$f":"IF(SISWA!D25=0,\"\",SISWA!D25)","v":"1-18-05-80-162-018-8"},{"$f":"IF(SISWA!E25=0,\"\",SISWA!E25)","v":"KHUSNI CAHYONO"},70,62,72,68,83,71,65,71,68,70]
[19,{"$f":"IF(SISWA!B26=0,\"\",SISWA!B26)","v":4280},{"$f":"IF(SISWA!C26=0,\"\",SISWA!C26)","v":"0062061356"},{"$f":"IF(SISWA!D26=0,\"\",SISWA!D26)","v":"1-18-05-80-162-019-7"},{"$f":"IF(SISWA!E26=0,\"\",SISWA!E26)","v":"MUCHAMMAD ALIEF FERDIANSYAH"},78,81,81,82,85,81.400000000000006,65,81.400000000000006,73.2,78.666666666666671]
[20,{"$f":"IF(SISWA!B27=0,\"\",SISWA!B27)","v":4306},{"$f":"IF(SISWA!C27=0,\"\",SISWA!C27)","v":"0069095925"},{"$f":"IF(SISWA!D27=0,\"\",SISWA!D27)","v":"1-18-05-80-162-020-6"},{"$f":"IF(SISWA!E27=0,\"\",SISWA!E27)","v":"LENNY AGUSTIN NINGTYAS"},71,65,73,70,83,72.400000000000006,65,72.400000000000006,68.7,71.166666666666671]
[21,{"$f":"IF(SISWA!B28=0,\"\",SISWA!B28)","v":4281},{"$f":"IF(SISWA!C28=0,\"\",SISWA!C28)","v":"0069153972"},{"$f":"IF(SISWA!D28=0,\"\",SISWA!D28)","v":"1-18-05-80-162-021-5"},{"$f":"IF(SISWA!E28=0,\"\",SISWA!E28)","v":"MUHAMMAD AGUS ANDRIANTO"},74,74,74,72,83,75.400000000000006,65,75.400000000000006,70.2,73.666666666666671]
[22,{"$f":"IF(SISWA!B29=0,\"\",SISWA!B29)","v":4308},{"$f":"IF(SISWA!C29=0,\"\",SISWA!C29)","v":"0063078335"},{"$f":"IF(SISWA!D29=0,\"\",SISWA!D29)","v":"1-18-05-80-162-022-4"},{"$f":"IF(SISWA!E29=0,\"\",SISWA!E29)","v":"MAURIS HIDAYATUR ROCHMAN"},72,74,77,78,88,77.8,65,77.8,71.400000000000006,75.666666666666671]
[23,{"$f":"IF(SISWA!B30=0,\"\",SISWA!B30)","v":4314},{"$f":"IF(SISWA!C30=0,\"\",SISWA!C30)","v":"0072178353"},{"$f":"IF(SISWA!D30=0,\"\",SISWA!D30)","v":"1-18-05-80-162-023-3"},{"$f":"IF(SISWA!E30=0,\"\",SISWA!E30)","v":"MUHAMMAD BISMAR TAUFIQUROHMAN"},73,73,83,79,84,78.400000000000006,65,78.400000000000006,71.7,76.166666666666671]
[24,{"$f":"IF(SISWA!B31=0,\"\",SISWA!B31)","v":4309},{"$f":"IF(SISWA!C31=0,\"\",SISWA!C31)","v":"0072198448"},{"$f":"IF(SISWA!D31=0,\"\",SISWA!D31)","v":"1-18-05-80-162-024-2"},{"$f":"IF(SISWA!E31=0,\"\",SISWA!E31)","v":"MAYA BUNGA ANJANI"},70,66,75,73,83,73.400000000000006,65,73.400000000000006,69.2,72]
[25,{"$f":"IF(SISWA!B32=0,\"\",SISWA!B32)","v":4320},{"$f":"IF(SISWA!C32=0,\"\",SISWA!C32)","v":"0064566227"},{"$f":"IF(SISWA!D32=0,\"\",SISWA!D32)","v":"1-18-05-80-162-025-9"},{"$f":"IF(SISWA!E32=0,\"\",SISWA!E32)","v":"MUHAMMAD SAHLAN SHODIQ"},76,78,81,79,84,79.599999999999994,65,79.599999999999994,72.3,77.166666666666671]
[26,{"$f":"IF(SISWA!B33=0,\"\",SISWA!B33)","v":4279},{"$f":"IF(SISWA!C33=0,\"\",SISWA!C33)","v":"0066637092"},{"$f":"IF(SISWA!D33=0,\"\",SISWA!D33)","v":"1-18-05-80-162-026-8"},{"$f":"IF(SISWA!E33=0,\"\",SISWA!E33)","v":"MITA SEPTIANI ISLAMIA"},71,65,75,76,83,74,65,74,69.5,72.5]
[27,{"$f":"IF(SISWA!B34=0,\"\",SISWA!B34)","v":4321},{"$f":"IF(SISWA!C34=0,\"\",SISWA!C34)","v":"0061244045"},{"$f":"IF(SISWA!D34=0,\"\",SISWA!D34)","v":"1-18-05-80-162-027-7"},{"$f":"IF(SISWA!E34=0,\"\",SISWA!E34)","v":"MUHAMMAD SEPTYAN EKA PRATAMA"},76,79,75,75,85,78,65,78,71.5,75.833333333333329]
[28,{"$f":"IF(SISWA!B35=0,\"\",SISWA!B35)","v":"4247"},{"$f":"IF(SISWA!C35=0,\"\",SISWA!C35)","v":"0053546157"},{"$f":"IF(SISWA!D35=0,\"\",SISWA!D35)","v":"1-18-05-80-162-028-6"},{"$f":"IF(SISWA!E35=0,\"\",SISWA!E35)","v":"MOCHAMAD ARIEL FRANS TITO"},69,63,74,72,83,72.2,65,72.2,68.599999999999994,71]
[29,{"$f":"IF(SISWA!B36=0,\"\",SISWA!B36)","v":4285},{"$f":"IF(SISWA!C36=0,\"\",SISWA!C36)","v":"0067871553"},{"$f":"IF(SISWA!D36=0,\"\",SISWA!D36)","v":"1-18-05-80-162-029-5"},{"$f":"IF(SISWA!E36=0,\"\",SISWA!E36)","v":"MUHAMMAD VERYANSYAH"},76,78,79,76,85,78.8,65,78.8,71.900000000000006,76.5]
[30,{"$f":"IF(SISWA!B37=0,\"\",SISWA!B37)","v":4310},{"$f":"IF(SISWA!C37=0,\"\",SISWA!C37)","v":"0066383678"},{"$f":"IF(SISWA!D37=0,\"\",SISWA!D37)","v":"1-18-05-80-162-030-4"},{"$f":"IF(SISWA!E37=0,\"\",SISWA!E37)","v":"MOCHAMMAD BIMA RISFANDA"},72,65,75,72,83,73.400000000000006,65,73.400000000000006,69.2,72]
[31,{"$f":"IF(SISWA!B38=0,\"\",SISWA!B38)","v":4286},{"$f":"IF(SISWA!C38=0,\"\",SISWA!C38)","v":"0064443822"},{"$f":"IF(SISWA!D38=0,\"\",SISWA!D38)","v":"1-18-05-80-162-031-3"},{"$f":"IF(SISWA!E38=0,\"\",SISWA!E38)","v":"MUHAMMAD ZIDNY NA'IM"},81,81,79,79,86,81.2,65,81.2,73.099999999999994,78.5]
[32,{"$f":"IF(SISWA!B39=0,\"\",SISWA!B39)","v":4282},{"$f":"IF(SISWA!C39=0,\"\",SISWA!C39)","v":"0068336765"},{"$f":"IF(SISWA!D39=0,\"\",SISWA!D39)","v":"1-18-05-80-162-032-2"},{"$f":"IF(SISWA!E39=0,\"\",SISWA!E39)","v":"MUHAMMAD AGUS FERDIANSYAH"},73,75,76,76,86,77.2,65,77.2,71.099999999999994,75.166666666666671]
[33,{"$f":"IF(SISWA!B40=0,\"\",SISWA!B40)","v":4287},{"$f":"IF(SISWA!C40=0,\"\",SISWA!C40)","v":"0064528717"},{"$f":"IF(SISWA!D40=0,\"\",SISWA!D40)","v":"1-18-05-80-162-033-9"},{"$f":"IF(SISWA!E40=0,\"\",SISWA!E40)","v":"MUHAMMAD FARDAN ABDILLAH"},75,null,76,76,null,75.666666666666671,65,75.666666666666671,70.333333333333343,73]
[34,{"$f":"IF(SISWA!B41=0,\"\",SISWA!B41)","v":4315},{"$f":"IF(SISWA!C41=0,\"\",SISWA!C41)","v":"0067870495"},{"$f":"IF(SISWA!D41=0,\"\",SISWA!D41)","v":"1-18-05-80-162-034-8"},{"$f":"IF(SISWA!E41=0,\"\",SISWA!E41)","v":"NABILA ARISKA PUTRI"},80,78,78,79,84,79.8,65,79.8,72.400000000000006,77.333333333333329]
[35,{"$f":"IF(SISWA!B42=0,\"\",SISWA!B42)","v":4288},{"$f":"IF(SISWA!C42=0,\"\",SISWA!C42)","v":"0068641191"},{"$f":"IF(SISWA!D42=0,\"\",SISWA!D42)","v":"1-18-05-80-162-035-7"},{"$f":"IF(SISWA!E42=0,\"\",SISWA!E42)","v":"MUHAMMAD FERDINAN JAYYIDAH RIFQI"},77,77,81,80,88,80.599999999999994,65,80.599999999999994,72.8,78]
[36,{"$f":"IF(SISWA!B43=0,\"\",SISWA!B43)","v":4283},{"$f":"IF(SISWA!C43=0,\"\",SISWA!C43)","v":"0077212388"},{"$f":"IF(SISWA!D43=0,\"\",SISWA!D43)","v":"1-18-05-80-162-036-6"},{"$f":"IF(SISWA!E43=0,\"\",SISWA!E43)","v":"NAFISA INDRIANI"},78,79,87,83,88,83,65,83,74,80]
[37,{"$f":"IF(SISWA!B44=0,\"\",SISWA!B44)","v":"4257"},{"$f":"IF(SISWA!C44=0,\"\",SISWA!C44)","v":"0069944706"},{"$f":"IF(SISWA!D44=0,\"\",SISWA!D44)","v":"1-18-05-80-162-037-5"},{"$f":"IF(SISWA!E44=0,\"\",SISWA!E44)","v":"MUHAMMAD FIRMANSYAH"},70,68,76,74,83,74.2,65,74.2,69.599999999999994,72.666666666666671]
[38,{"$f":"IF(SISWA!B45=0,\"\",SISWA!B45)","v":4317},{"$f":"IF(SISWA!C45=0,\"\",SISWA!C45)","v":"0068498059"},{"$f":"IF(SISWA!D45=0,\"\",SISWA!D45)","v":"1-18-05-80-162-038-4"},{"$f":"IF(SISWA!E45=0,\"\",SISWA!E45)","v":"NAJWA FARISYA BAROROH"},74,72,82,83,86,79.400000000000006,65,79.400000000000006,72.2,77]
[39,{"$f":"IF(SISWA!B46=0,\"\",SISWA!B46)","v":4289},{"$f":"IF(SISWA!C46=0,\"\",SISWA!C46)","v":"0065225517"},{"$f":"IF(SISWA!D46=0,\"\",SISWA!D46)","v":"1-18-05-80-162-039-3"},{"$f":"IF(SISWA!E46=0,\"\",SISWA!E46)","v":"NUR FITRIYAH"},74,75,77,77,83,77.2,65,77.2,71.099999999999994,75.166666666666671]
[40,{"$f":"IF(SISWA!B47=0,\"\",SISWA!B47)","v":4318},{"$f":"IF(SISWA!C47=0,\"\",SISWA!C47)","v":"0061441364"},{"$f":"IF(SISWA!D47=0,\"\",SISWA!D47)","v":"1-18-05-80-162-040-2"},{"$f":"IF(SISWA!E47=0,\"\",SISWA!E47)","v":"MUHAMMAD HILDAN DWI SAPUTRA"},73,67,75,76,84,75,65,75,70,73.333333333333329]
[41,{"$f":"IF(SISWA!B48=0,\"\",SISWA!B48)","v":4392},{"$f":"IF(SISWA!C48=0,\"\",SISWA!C48)","v":"0075794532"},{"$f":"IF(SISWA!D48=0,\"\",SISWA!D48)","v":"1-18-05-80-162-041-9"},{"$f":"IF(SISWA!E48=0,\"\",SISWA!E48)","v":"PUTRI NAFI'ATUS SOLIKHAH"},75,70,78,77,83,76.599999999999994,65,76.599999999999994,70.8,74.666666666666671]
[42,{"$f":"IF(SISWA!B49=0,\"\",SISWA!B49)","v":4284},{"$f":"IF(SISWA!C49=0,\"\",SISWA!C49)","v":"0069578000"},{"$f":"IF(SISWA!D49=0,\"\",SISWA!D49)","v":"1-18-05-80-162-042-8"},{"$f":"IF(SISWA!E49=0,\"\",SISWA!E49)","v":"MUHAMMAD RAYA KAFAF JAUHARI"},79,76,77,77,83,78.400000000000006,65,78.400000000000006,71.7,76.166666666666671]
[43,{"$f":"IF(SISWA!B50=0,\"\",SISWA!B50)","v":4290},{"$f":"IF(SISWA!C50=0,\"\",SISWA!C50)","v":"0063558216"},{"$f":"IF(SISWA!D50=0,\"\",SISWA!D50)","v":"1-18-05-80-162-043-7"},{"$f":"IF(SISWA!E50=0,\"\",SISWA!E50)","v":"QORIATUN SHOLIHAH"},76,77,79,74,83,77.8,65,77.8,71.400000000000006,75.666666666666671]
[44,{"$f":"IF(SISWA!B51=0,\"\",SISWA!B51)","v":4319},{"$f":"IF(SISWA!C51=0,\"\",SISWA!C51)","v":"0065329770"},{"$f":"IF(SISWA!D51=0,\"\",SISWA!D51)","v":"1-18-05-80-162-044-6"},{"$f":"IF(SISWA!E51=0,\"\",SISWA!E51)","v":"MUHAMMAD RUDI TANTOWIK"},69,63,75,70,83,72,84,72,78,74]
[45,{"$f":"IF(SISWA!B52=0,\"\",SISWA!B52)","v":4291},{"$f":"IF(SISWA!C52=0,\"\",SISWA!C52)","v":"0067071679"},{"$f":"IF(SISWA!D52=0,\"\",SISWA!D52)","v":"1-18-05-80-162-045-5"},{"$f":"IF(SISWA!E52=0,\"\",SISWA!E52)","v":"RACHMAD HIDAYAT"},73,75,79,75,83,77,65,77,71,75]
[46,{"$f":"IF(SISWA!B53=0,\"\",SISWA!B53)","v":4322},{"$f":"IF(SISWA!C53=0,\"\",SISWA!C53)","v":"0051101989"},{"$f":"IF(SISWA!D53=0,\"\",SISWA!D53)","v":"1-18-05-80-162-046-4"},{"$f":"IF(SISWA!E53=0,\"\",SISWA!E53)","v":"MUHAMMAD ZULDIENUR HABIBIE"},69,62,75,76,84,73.2,65,73.2,69.099999999999994,71.833333333333329]
[47,{"$f":"IF(SISWA!B54=0,\"\",SISWA!B54)","v":4292},{"$f":"IF(SISWA!C54=0,\"\",SISWA!C54)","v":"0072001696"},{"$f":"IF(SISWA!D54=0,\"\",SISWA!D54)","v":"1-18-05-80-162-047-3"},{"$f":"IF(SISWA!E54=0,\"\",SISWA!E54)","v":"RHEA RAYSHANADA NUGRAHA"},78,78,78,77,84,79,65,79,72,76.666666666666671]
[48,{"$f":"IF(SISWA!B55=0,\"\",SISWA!B55)","v":4323},{"$f":"IF(SISWA!C55=0,\"\",SISWA!C55)","v":"0078949167"},{"$f":"IF(SISWA!D55=0,\"\",SISWA!D55)","v":"1-18-05-80-162-048-2"},{"$f":"IF(SISWA!E55=0,\"\",SISWA!E55)","v":"MUKHAMAD KHOIRUL AMIN"},71,69,75,71,83,73.8,65,73.8,69.400000000000006,72.333333333333329]
[49,{"$f":"IF(SISWA!B56=0,\"\",SISWA!B56)","v":4293},{"$f":"IF(SISWA!C56=0,\"\",SISWA!C56)","v":"0064217705"},{"$f":"IF(SISWA!D56=0,\"\",SISWA!D56)","v":"1-18-05-80-162-049-9"},{"$f":"IF(SISWA!E56=0,\"\",SISWA!E56)","v":"RIYANTI APRILIA"},79,78,79,80,86,80.400000000000006,65,80.400000000000006,72.7,77.833333333333329]
[50,{"$f":"IF(SISWA!B57=0,\"\",SISWA!B57)","v":"4256"},{"$f":"IF(SISWA!C57=0,\"\",SISWA!C57)","v":"0065699742"},{"$f":"IF(SISWA!D57=0,\"\",SISWA!D57)","v":"1-18-05-80-162-050-8"},{"$f":"IF(SISWA!E57=0,\"\",SISWA!E57)","v":"MUKHAMMAD YAASIIN HASAN KHASBULLOH"},73,72,76,72,83,75.2,65,75.2,70.099999999999994,73.5]
[51,{"$f":"IF(SISWA!B58=0,\"\",SISWA!B58)","v":4295},{"$f":"IF(SISWA!C58=0,\"\",SISWA!C58)","v":"0061359184"},{"$f":"IF(SISWA!D58=0,\"\",SISWA!D58)","v":"1-18-05-80-162-051-7"},{"$f":"IF(SISWA!E58=0,\"\",SISWA!E58)","v":"SHONIA AULIA AS'AD"},81,83,80,82,93,83.8,65,83.8,74.400000000000006,80.666666666666671]
[52,{"$f":"IF(SISWA!B59=0,\"\",SISWA!B59)","v":4294},{"$f":"IF(SISWA!C59=0,\"\",SISWA!C59)","v":"0064723905"},{"$f":"IF(SISWA!D59=0,\"\",SISWA!D59)","v":"1-18-05-80-162-052-6"},{"$f":"IF(SISWA!E59=0,\"\",SISWA!E59)","v":"RIZKA AYU WULANDARI"},74,72,77,76,85,76.8,65,76.8,70.900000000000006,74.833333333333329]
[53,{"$f":"IF(SISWA!B60=0,\"\",SISWA!B60)","v":4298},{"$f":"IF(SISWA!C60=0,\"\",SISWA!C60)","v":"0065530554"},{"$f":"IF(SISWA!D60=0,\"\",SISWA!D60)","v":"1-18-05-80-162-053-5"},{"$f":"IF(SISWA!E60=0,\"\",SISWA!E60)","v":"VERLINA DWI MAULANI"},78,77,79,75,84,78.599999999999994,65,78.599999999999994,71.8,76.333333333333329]
[54,{"$f":"IF(SISWA!B61=0,\"\",SISWA!B61)","v":4297},{"$f":"IF(SISWA!C61=0,\"\",SISWA!C61)","v":"0063846732"},{"$f":"IF(SISWA!D61=0,\"\",SISWA!D61)","v":"1-18-05-80-162-054-4"},{"$f":"IF(SISWA!E61=0,\"\",SISWA!E61)","v":"USWATUN KHASANAH"},75,67,79,78,86,77,65,77,71,75]
[55,{"$f":"IF(SISWA!B62=0,\"\",SISWA!B62)","v":4324},{"$f":"IF(SISWA!C62=0,\"\",SISWA!C62)","v":"0078966795"},{"$f":"IF(SISWA!D62=0,\"\",SISWA!D62)","v":"1-18-05-80-162-055-3"},{"$f":"IF(SISWA!E62=0,\"\",SISWA!E62)","v":"VIKA KUSUMA WATI"},77,73,78,78,87,78.599999999999994,65,78.599999999999994,71.8,76.333333333333329]
[56,{"$f":"IF(SISWA!B63=0,\"\",SISWA!B63)","v":4326},{"$f":"IF(SISWA!C63=0,\"\",SISWA!C63)","v":"0064124533"},{"$f":"IF(SISWA!D63=0,\"\",SISWA!D63)","v":"1-18-05-80-162-056-2"},{"$f":"IF(SISWA!E63=0,\"\",SISWA!E63)","v":"YOHAN EGA GILANG PERMANA"},70,null,74,75,83,75.5,65,75.5,70.25,73.400000000000006]
[57,{"$f":"IF(SISWA!B64=0,\"\",SISWA!B64)","v":""},{"$f":"IF(SISWA!C64=0,\"\",SISWA!C64)","v":""},{"$f":"IF(SISWA!D64=0,\"\",SISWA!D64)","v":"1-18-05-80-162-057-9"},{"$f":"IF(SISWA!E64=0,\"\",SISWA!E64)","v":""},null,null,null,null,null,{"$f":"AVERAGE(F64:J64)","v":{"$error":"#DIV/0!"}},null,{"$f":"K64","v":{"$error":"#DIV/0!"}},{"$f":"AVERAGE(L64:M64)","v":{"$error":"#DIV/0!"}}]
[58,{"$f":"IF(SISWA!B65=0,\"\",SISWA!B65)","v":""},{"$f":"IF(SISWA!C65=0,\"\",SISWA!C65)","v":""},{"$f":"IF(SISWA!D65=0,\"\",SISWA!D65)","v":"1-18-05-80-162-058-8"},{"$f":"IF(SISWA!E65=0,\"\",SISWA!E65)","v":""},null,null,null,null,null,{"$error":"#DIV/0!"},null,null,{"$error":"#DIV/0!"}]
[59,{"$f":"IF(SISWA!B66=0,\"\",SISWA!B66)","v":""},{"$f":"IF(SISWA!C66=0,\"\",SISWA!C66)","v":""},{"$f":"IF(SISWA!D66=0,\"\",SISWA!D66)","v":"1-18-05-80-162-059-7"},{"$f":"IF(SISWA!E66=0,\"\",SISWA!E66)","v":""},null,null,null,null,null,{"$error":"#DIV/0!"},null,null,{"$error":"#DIV/0!"}]
[60,{"$f":"IF(SISWA!B67=0,\"\",SISWA!B67)","v":""},{"$f":"IF(SISWA!C67=0,\"\",SISWA!C67)","v":""},{"$f":"IF(SISWA!D67=0,\"\",SISWA!D67)","v":"1-18-05-80-162-060-6"},{"$f":"IF(SISWA!E67=0,\"\",SISWA!E67)","v":""},null,null,null,null,null,{"$error":"#DIV/0!"},null,null,{"$error":"#DIV/0!"}]
[61,{"$f":"IF(SISWA!B68=0,\"\",SISWA!B68)","v":""},{"$f":"IF(SISWA!C68=0,\"\",SISWA!C68)","v":""},{"$f":"IF(SISWA!D68=0,\"\",SISWA!D68)","v":"1-18-05-80-162-061-5"},{"$f":"IF(SISWA!E68=0,\"\",SISWA!E68)","v":""},null,null,null,null,null,{"$f":"AVERAGE(F68:J68)","v":{"$error":"#DIV/0!"}},null,null,{"$error":"#DIV/0!"}]
[62,{"$f":"IF(SISWA!B69=0,\"\",SISWA!B69)","v":""},{"$f":"IF(SISWA!C69=0,\"\",SISWA!C69)","v":""},{"$f":"IF(SISWA!D69=0,\"\",SISWA!D69)","v":"062-4"},{"$f":"IF(SISWA!E69=0,\"\",SISWA!E69)","v":""},null,null,null,null,null,{"$error":"#DIV/0!"},null,null,{"$error":"#DIV/0!"}]
[63,{"$f":"IF(SISWA!B70=0,\"\",SISWA!B70)","v":""},{"$f":"IF(SISWA!C70=0,\"\",SISWA!C70)","v":""},{"$f":"IF(SISWA!D70=0,\"\",SISWA!D70)","v":"063-3"},{"$f":"IF(SISWA!E70=0,\"\",SISWA!E70)","v":""},null,null,null,null,null,{"$error":"#DIV/0!"},null,null,{"$error":"#DIV/0!"}]
[64,{"$f":"IF(SISWA!B71=0,\"\",SISWA!B71)","v":""},{"$f":"IF(SISWA!C71=0,\"\",SISWA!C71)","v":""},{"$f":"IF(SISWA!D71=0,\"\",SISWA!D71)","v":"064-2"},{"$f":"IF(SISWA!E71=0,\"\",SISWA!E71)","v":""},null,null,null,null,null,{"$error":"#DIV/0!"},null,null,{"$error":"#DIV/0!"}]
[65,{"$f":"IF(SISWA!B72=0,\"\",SISWA!B72)","v":""},{"$f":"IF(SISWA!C72=0,\"\",SISWA!C72)","v":""},{"$f":"IF(SISWA!D72=0,\"\",SISWA!D72)","v":"065-"},{"$f":"IF(SISWA!E72=0,\"\",SISWA!E72)","v":""},null,null,null,null,null,{"$error":"#DIV/0!"},null,null,{"$error":"#DIV/0!"}]
[66,{"$f":"IF(SISWA!B73=0,\"\",SISWA!B73)","v":""},{"$f":"IF(SISWA!C73=0,\"\",SISWA!C73)","v":""},{"$f":"IF(SISWA!D73=0,\"\",SISWA!D73)","v":"066-"},{"$f":"IF(SISWA!E73=0,\"\",SISWA!E73)","v":""},null,null,null,null,null,{"$error":"#DIV/0!"},null,null,{"$f":"AVERAGE(L73:M73)","v":{"$error":"#DIV/0!"}}]
[67,{"$f":"IF(SISWA!B74=0,\"\",SISWA!B74)","v":""},{"$f":"IF(SISWA!C74=0,\"\",SISWA!C74)","v":""},{"$f":"IF(SISWA!D74=0,\"\",SISWA!D74)","v":"067-"},{"$f":"IF(SISWA!E74=0,\"\",SISWA!E74)","v":""},null,null,null,null,null,{"$error":"#DIV/0!"},null,null,{"$error":"#DIV/0!"}]
[68,{"$f":"IF(SISWA!B75=0,\"\",SISWA!B75)","v":""},{"$f":"IF(SISWA!C75=0,\"\",SISWA!C75)","v":""},{"$f":"IF(SISWA!D75=0,\"\",SISWA!D75)","v":"068-"},{"$f":"IF(SISWA!E75=0,\"\",SISWA!E75)","v":""},null,null,null,null,null,{"$error":"#DIV/0!"},null,null,{"$error":"#DIV/0!"}]
[69,{"$f":"IF(SISWA!B76=0,\"\",SISWA!B76)","v":""},{"$f":"IF(SISWA!C76=0,\"\",SISWA!C76)","v":""},{"$f":"IF(SISWA!D76=0,\"\",SISWA!D76)","v":"069-"},{"$f":"IF(SISWA!E76=0,\"\",SISWA!E76)","v":""},null,null,null,null,null,{"$error":"#DIV/0!"},null,null,{"$error":"#DIV/0!"}]
[70,{"$f":"IF(SISWA!B77=0,\"\",SISWA!B77)","v":""},{"$f":"IF(SISWA!C77=0,\"\",SISWA!C77)","v":""},{"$f":"IF(SISWA!D77=0,\"\",SISWA!D77)","v":"070-"},{"$f":"IF(SISWA!E77=0,\"\",SISWA!E77)","v":""},null,null,null,null,null,{"$error":"#DIV/0!"},null,null,{"$error":"#DIV/0!"}]
[71,{"$f":"IF(SISWA!B78=0,\"\",SISWA!B78)","v":""},{"$f":"IF(SISWA!C78=0,\"\",SISWA!C78)","v":""},{"$f":"IF(SISWA!D78=0,\"\",SISWA!D78)","v":"071-"},{"$f":"IF(SISWA!E78=0,\"\",SISWA!E78)","v":""},null,null,null,null,null,{"$error":"#DIV/0!"},null,null,{"$error":"#DIV/0!"}]
[72,{"$f":"IF(SISWA!B79=0,\"\",SISWA!B79)","v":""},{"$f":"IF(SISWA!C79=0,\"\",SISWA!C79)","v":""},{"$f":"IF(SISWA!D79=0,\"\",SISWA!D79)","v":"072-"},{"$f":"IF(SISWA!E79=0,\"\",SISWA!E79)","v":""},null,null,null,null,null,{"$error":"#DIV/0!"},null,null,{"$error":"#DIV/0!"}]
[73,{"$f":"IF(SISWA!B80=0,\"\",SISWA!B80)","v":""},{"$f":"IF(SISWA!C80=0,\"\",SISWA!C80)","v":""},{"$f":"IF(SISWA!D80=0,\"\",SISWA!D80)","v":"073-"},{"$f":"IF(SISWA!E80=0,\"\",SISWA!E80)","v":""},null,null,null,null,null,{"$error":"#DIV/0!"},null,null,{"$error":"#DIV/0!"}]
[74,{"$f":"IF(SISWA!B81=0,\"\",SISWA!B81)","v":""},{"$f":"IF(SISWA!C81=0,\"\",SISWA!C81)","v":""},{"$f":"IF(SISWA!D81=0,\"\",SISWA!D81)","v":"074-"},{"$f":"IF(SISWA!E81=0,\"\",SISWA!E81)","v":""},null,null,null,null,null,{"$error":"#DIV/0!"},null,null,{"$error":"#DIV/0!"}]
[75,{"$f":"IF(SISWA!B82=0,\"\",SISWA!B82)","v":""},{"$f":"IF(SISWA!C82=0,\"\",SISWA!C82)","v":""},{"$f":"IF(SISWA!D82=0,\"\",SISWA!D82)","v":"075-"},{"$f":"IF(SISWA!E82=0,\"\",SISWA!E82)","v":""},null,null,null,null,null,{"$error":"#DIV/0!"},null,null,{"$error":"#DIV/0!"}]
[76,{"$f":"IF(SISWA!B83=0,\"\",SISWA!B83)","v":""},{"$f":"IF(SISWA!C83=0,\"\",SISWA!C83)","v":""},{"$f":"IF(SISWA!D83=0,\"\",SISWA!D83)","v":"076-"},{"$f":"IF(SISWA!E83=0,\"\",SISWA!E83)","v":""},null,null,null,null,null,{"$error":"#DIV/0!"},null,null,{"$error":"#DIV/0!"}]
[77,{"$f":"IF(SISWA!B84=0,\"\",SISWA!B84)","v":""},{"$f":"IF(SISWA!C84=0,\"\",SISWA!C84)","v":""},{"$f":"IF(SISWA!D84=0,\"\",SISWA!D84)","v":"077-"},{"$f":"IF(SISWA!E84=0,\"\",SISWA!E84)","v":""},null,null,null,null,null,{"$error":"#DIV/0!"},null,null,{"$error":"#DIV/0!"}]
[78,{"$f":"IF(SISWA!B85=0,\"\",SISWA!B85)","v":""},{"$f":"IF(SISWA!C85=0,\"\",SISWA!C85)","v":""},{"$f":"IF(SISWA!D85=0,\"\",SISWA!D85)","v":"078-"},{"$f":"IF(SISWA!E85=0,\"\",SISWA!E85)","v":""},null,null,null,null,null,{"$error":"#DIV/0!"},null,null,{"$error":"#DIV/0!"}]
[79,{"$f":"IF(SISWA!B86=0,\"\",SISWA!B86)","v":""},{"$f":"IF(SISWA!C86=0,\"\",SISWA!C86)","v":""},{"$f":"IF(SISWA!D86=0,\"\",SISWA!D86)","v":"079-"},{"$f":"IF(SISWA!E86=0,\"\",SISWA!E86)","v":""},null,null,null,null,null,{"$error":"#DIV/0!"},null,null,{"$error":"#DIV/0!"}]
[80,{"$f":"IF(SISWA!B87=0,\"\",SISWA!B87)","v":""},{"$f":"IF(SISWA!C87=0,\"\",SISWA!C87)","v":""},{"$f":"IF(SISWA!D87=0,\"\",SISWA!D87)","v":"080-"},{"$f":"IF(SISWA!E87=0,\"\",SISWA!E87)","v":""},null,null,null,null,null,{"$error":"#DIV/0!"},null,null,{"$error":"#DIV/0!"}]
[81,{"$f":"IF(SISWA!B88=0,\"\",SISWA!B88)","v":""},{"$f":"IF(SISWA!C88=0,\"\",SISWA!C88)","v":""},{"$f":"IF(SISWA!D88=0,\"\",SISWA!D88)","v":"081-"},{"$f":"IF(SISWA!E88=0,\"\",SISWA!E88)","v":""},null,null,null,null,null,{"$error":"#DIV/0!"},null,null,{"$error":"#DIV/0!"}]
[82,{"$f":"IF(SISWA!B89=0,\"\",SISWA!B89)","v":""},{"$f":"IF(SISWA!C89=0,\"\",SISWA!C89)","v":""},{"$f":"IF(SISWA!D89=0,\"\",SISWA!D89)","v":"082-"},{"$f":"IF(SISWA!E89=0,\"\",SISWA!E89)","v":""},null,null,null,null,null,{"$error":"#DIV/0!"},null,null,{"$error":"#DIV/0!"}]
[83,{"$f":"IF(SISWA!B90=0,\"\",SISWA!B90)","v":""},{"$f":"IF(SISWA!C90=0,\"\",SISWA!C90)","v":""},{"$f":"IF(SISWA!D90=0,\"\",SISWA!D90)","v":"083-"},{"$f":"IF(SISWA!E90=0,\"\",SISWA!E90)","v":""},null,null,null,null,null,{"$error":"#DIV/0!"},null,null,{"$error":"#DIV/0!"}]
[84,{"$f":"IF(SISWA!B91=0,\"\",SISWA!B91)","v":""},{"$f":"IF(SISWA!C91=0,\"\",SISWA!C91)","v":""},{"$f":"IF(SISWA!D91=0,\"\",SISWA!D91)","v":"084-"},{"$f":"IF(SISWA!E91=0,\"\",SISWA!E91)","v":""},null,null,null,null,null,{"$error":"#DIV/0!"},null,null,{"$error":"#DIV/0!"}]
[85,{"$f":"IF(SISWA!B92=0,\"\",SISWA!B92)","v":""},{"$f":"IF(SISWA!C92=0,\"\",SISWA!C92)","v":""},{"$f":"IF(SISWA!D92=0,\"\",SISWA!D92)","v":"085-"},{"$f":"IF(SISWA!E92=0,\"\",SISWA!E92)","v":""},null,null,null,null,null,{"$error":"#DIV/0!"},null,null,{"$error":"#DIV/0!"}]
[86,{"$f":"IF(SISWA!B93=0,\"\",SISWA!B93)","v":""},{"$f":"IF(SISWA!C93=0,\"\",SISWA!C93)","v":""},{"$f":"IF(SISWA!D93=0,\"\",SISWA!D93)","v":"086-"},{"$f":"IF(SISWA!E93=0,\"\",SISWA!E93)","v":""},null,null,null,null,null,{"$error":"#DIV/0!"},null,null,{"$error":"#DIV/0!"}]
[87,{"$f":"IF(SISWA!B94=0,\"\",SISWA!B94)","v":""},{"$f":"IF(SISWA!C94=0,\"\",SISWA!C94)","v":""},{"$f":"IF(SISWA!D94=0,\"\",SISWA!D94)","v":"087-"},{"$f":"IF(SISWA!E94=0,\"\",SISWA!E94)","v":""},null,null,null,null,null,{"$error":"#DIV/0!"},null,null,{"$error":"#DIV/0!"}]
[88,{"$f":"IF(SISWA!B95=0,\"\",SISWA!B95)","v":""},{"$f":"IF(SISWA!C95=0,\"\",SISWA!C95)","v":""},{"$f":"IF(SISWA!D95=0,\"\",SISWA!D95)","v":"088-"},{"$f":"IF(SISWA!E95=0,\"\",SISWA!E95)","v":""},null,null,null,null,null,{"$error":"#DIV/0!"},null,null,{"$error":"#DIV/0!"}]
[89,{"$f":"IF(SISWA!B96=0,\"\",SISWA!B96)","v":""},{"$f":"IF(SISWA!C96=0,\"\",SISWA!C96)","v":""},{"$f":"IF(SISWA!D96=0,\"\",SISWA!D96)","v":"089-"},{"$f":"IF(SISWA!E96=0,\"\",SISWA!E96)","v":""},null,null,null,null,null,{"$error":"#DIV/0!"},null,null,{"$error":"#DIV/0!"}]
[90,{"$f":"IF(SISWA!B97=0,\"\",SISWA!B97)","v":""},{"$f":"IF(SISWA!C97=0,\"\",SISWA!C97)","v":""},{"$f":"IF(SISWA!D97=0,\"\",SISWA!D97)","v":"090-"},{"$f":"IF(SISWA!E97=0,\"\",SISWA!E97)","v":""},null,null,null,null,null,{"$error":"#DIV/0!"},null,null,{"$error":"#DIV/0!"}]
[91,{"$f":"IF(SISWA!B98=0,\"\",SISWA!B98)","v":""},{"$f":"IF(SISWA!C98=0,\"\",SISWA!C98)","v":""},{"$f":"IF(SISWA!D98=0,\"\",SISWA!D98)","v":"091-"},{"$f":"IF(SISWA!E98=0,\"\",SISWA!E98)","v":""},null,null,null,null,null,{"$error":"#DIV/0!"},null,null,{"$error":"#DIV/0!"}]
[92,{"$f":"IF(SISWA!B99=0,\"\",SISWA!B99)","v":""},{"$f":"IF(SISWA!C99=0,\"\",SISWA!C99)","v":""},{"$f":"IF(SISWA!D99=0,\"\",SISWA!D99)","v":"092-"},{"$f":"IF(SISWA!E99=0,\"\",SISWA!E99)","v":""},null,null,null,null,null,{"$error":"#DIV/0!"},null,null,{"$error":"#DIV/0!"}]
[93,{"$f":"IF(SISWA!B100=0,\"\",SISWA!B100)","v":""},{"$f":"IF(SISWA!C100=0,\"\",SISWA!C100)","v":""},{"$f":"IF(SISWA!D100=0,\"\",SISWA!D100)","v":"093-"},{"$f":"IF(SISWA!E100=0,\"\",SISWA!E100)","v":""},null,null,null,null,null,{"$error":"#DIV/0!"},null,null,{"$error":"#DIV/0!"}]
[94,{"$f":"IF(SISWA!B101=0,\"\",SISWA!B101)","v":""},{"$f":"IF(SISWA!C101=0,\"\",SISWA!C101)","v":""},{"$f":"IF(SISWA!D101=0,\"\",SISWA!D101)","v":"094-"},{"$f":"IF(SISWA!E101=0,\"\",SISWA!E101)","v":""},null,null,null,null,null,{"$error":"#DIV/0!"},null,null,{"$error":"#DIV/0!"}]
[95,{"$f":"IF(SISWA!B102=0,\"\",SISWA!B102)","v":""},{"$f":"IF(SISWA!C102=0,\"\",SISWA!C102)","v":""},{"$f":"IF(SISWA!D102=0,\"\",SISWA!D102)","v":"095-"},{"$f":"IF(SISWA!E102=0,\"\",SISWA!E102)","v":""},null,null,null,null,null,{"$error":"#DIV/0!"},null,null,{"$error":"#DIV/0!"}]
[96,{"$f":"IF(SISWA!B103=0,\"\",SISWA!B103)","v":""},{"$f":"IF(SISWA!C103=0,\"\",SISWA!C103)","v":""},{"$f":"IF(SISWA!D103=0,\"\",SISWA!D103)","v":"096-"},{"$f":"IF(SISWA!E103=0,\"\",SISWA!E103)","v":""},null,null,null,null,null,{"$error":"#DIV/0!"},null,null,{"$error":"#DIV/0!"}]
[97,{"$f":"IF(SISWA!B104=0,\"\",SISWA!B104)","v":""},{"$f":"IF(SISWA!C104=0,\"\",SISWA!C104)","v":""},{"$f":"IF(SISWA!D104=0,\"\",SISWA!D104)","v":"097-"},{"$f":"IF(SISWA!E104=0,\"\",SISWA!E104)","v":""},null,null,null,null,null,{"$error":"#DIV/0!"},null,null,{"$error":"#DIV/0!"}]
[98,{"$f":"IF(SISWA!B105=0,\"\",SISWA!B105)","v":""},{"$f":"IF(SISWA!C105=0,\"\",SISWA!C105)","v":""},{"$f":"IF(SISWA!D105=0,\"\",SISWA!D105)","v":"098-"},{"$f":"IF(SISWA!E105=0,\"\",SISWA!E105)","v":""},null,null,null,null,null,{"$error":"#DIV/0!"},null,null,{"$error":"#DIV/0!"}]
[99,{"$f":"IF(SISWA!B106=0,\"\",SISWA!B106)","v":""},{"$f":"IF(SISWA!C106=0,\"\",SISWA!C106)","v":""},{"$f":"IF(SISWA!D106=0,\"\",SISWA!D106)","v":"099-"},{"$f":"IF(SISWA!E106=0,\"\",SISWA!E106)","v":""},null,null,null,null,null,{"$error":"#DIV/0!"},null,null,{"$error":"#DIV/0!"}]
[100,{"$f":"IF(SISWA!B107=0,\"\",SISWA!B107)","v":""},{"$f":"IF(SISWA!C107=0,\"\",SISWA!C107)","v":""},{"$f":"IF(SISWA!D107=0,\"\",SISWA!D107)","v":"100-"},{"$f":"IF(SISWA!E107=0,\"\",SISWA!E107)","v":""},null,null,null,null,null,{"$error":"#DIV/0!"},null,null,{"$error":"#DIV/0!"}]
[101,{"$f":"IF(SISWA!B108=0,\"\",SISWA!B108)","v":""},{"$f":"IF(SISWA!C108=0,\"\",SISWA!C108)","v":""},{"$f":"IF(SISWA!D108=0,\"\",SISWA!D108)","v":"101-"},{"$f":"IF(SISWA!E108=0,\"\",SISWA!E108)","v":""},null,null,null,null,null,{"$error":"#DIV/0!"},null,null,{"$error":"#DIV/0!"}]
[102,{"$f":"IF(SISWA!B109=0,\"\",SISWA!B109)","v":""},{"$f":"IF(SISWA!C109=0,\"\",SISWA!C109)","v":""},{"$f":"IF(SISWA!D109=0,\"\",SISWA!D109)","v":"102-"},{"$f":"IF(SISWA!E109=0,\"\",SISWA!E109)","v":""},null,null,null,null,null,{"$error":"#DIV/0!"},null,null,{"$error":"#DIV/0!"}]
[103,{"$f":"IF(SISWA!B110=0,\"\",SISWA!B110)","v":""},{"$f":"IF(SISWA!C110=0,\"\",SISWA!C110)","v":""},{"$f":"IF(SISWA!D110=0,\"\",SISWA!D110)","v":"103-"},{"$f":"IF(SISWA!E110=0,\"\",SISWA!E110)","v":""},null,null,null,null,null,{"$error":"#DIV/0!"},null,null,{"$error":"#DIV/0!"}]
[104,{"$f":"IF(SISWA!B111=0,\"\",SISWA!B111)","v":""},{"$f":"IF(SISWA!C111=0,\"\",SISWA!C111)","v":""},{"$f":"IF(SISWA!D111=0,\"\",SISWA!D111)","v":"104-"},{"$f":"IF(SISWA!E111=0,\"\",SISWA!E111)","v":""},null,null,null,null,null,{"$error":"#DIV/0!"},null,null,{"$error":"#DIV/0!"}]
[105,{"$f":"IF(SISWA!B112=0,\"\",SISWA!B112)","v":""},{"$f":"IF(SISWA!C112=0,\"\",SISWA!C112)","v":""},{"$f":"IF(SISWA!D112=0,\"\",SISWA!D112)","v":"105-"},{"$f":"IF(SISWA!E112=0,\"\",SISWA!E112)","v":""},null,null,null,null,null,{"$error":"#DIV/0!"},null,null,{"$error":"#DIV/0!"}]
[106,{"$f":"IF(SISWA!B113=0,\"\",SISWA!B113)","v":""},{"$f":"IF(SISWA!C113=0,\"\",SISWA!C113)","v":""},{"$f":"IF(SISWA!D113=0,\"\",SISWA!D113)","v":"106-"},{"$f":"IF(SISWA!E113=0,\"\",SISWA!E113)","v":""},null,null,null,null,null,{"$error":"#DIV/0!"},null,null,{"$error":"#DIV/0!"}]
[107,{"$f":"IF(SISWA!B114=0,\"\",SISWA!B114)","v":""},{"$f":"IF(SISWA!C114=0,\"\",SISWA!C114)","v":""},{"$f":"IF(SISWA!D114=0,\"\",SISWA!D114)","v":"107-"},{"$f":"IF(SISWA!E114=0,\"\",SISWA!E114)","v":""},null,null,null,null,null,{"$error":"#DIV/0!"},null,null,{"$error":"#DIV/0!"}]
[108,{"$f":"IF(SISWA!B115=0,\"\",SISWA!B115)","v":""},{"$f":"IF(SISWA!C115=0,\"\",SISWA!C115)","v":""},{"$f":"IF(SISWA!D115=0,\"\",SISWA!D115)","v":"108-"},{"$f":"IF(SISWA!E115=0,\"\",SISWA!E115)","v":""},null,null,null,null,null,{"$error":"#DIV/0!"},null,null,{"$error":"#DIV/0!"}]
[109,{"$f":"IF(SISWA!B116=0,\"\",SISWA!B116)","v":""},{"$f":"IF(SISWA!C116=0,\"\",SISWA!C116)","v":""},{"$f":"IF(SISWA!D116=0,\"\",SISWA!D116)","v":"109-"},{"$f":"IF(SISWA!E116=0,\"\",SISWA!E116)","v":""},null,null,null,null,null,{"$error":"#DIV/0!"},null,null,{"$error":"#DIV/0!"}]
[110,{"$f":"IF(SISWA!B117=0,\"\",SISWA!B117)","v":""},{"$f":"IF(SISWA!C117=0,\"\",SISWA!C117)","v":""},{"$f":"IF(SISWA!D117=0,\"\",SISWA!D117)","v":"110-"},{"$f":"IF(SISWA!E117=0,\"\",SISWA!E117)","v":""},null,null,null,null,null,{"$error":"#DIV/0!"},null,null,{"$error":"#DIV/0!"}]
[111,{"$f":"IF(SISWA!B118=0,\"\",SISWA!B118)","v":""},{"$f":"IF(SISWA!C118=0,\"\",SISWA!C118)","v":""},{"$f":"IF(SISWA!D118=0,\"\",SISWA!D118)","v":"111-"},{"$f":"IF(SISWA!E118=0,\"\",SISWA!E118)","v":""},null,null,null,null,null,{"$error":"#DIV/0!"},null,null,{"$error":"#DIV/0!"}]
[112,{"$f":"IF(SISWA!B119=0,\"\",SISWA!B119)","v":""},{"$f":"IF(SISWA!C119=0,\"\",SISWA!C119)","v":""},{"$f":"IF(SISWA!D119=0,\"\",SISWA!D119)","v":"112-"},{"$f":"IF(SISWA!E119=0,\"\",SISWA!E119)","v":""},null,null,null,null,null,{"$error":"#DIV/0!"},null,null,{"$error":"#DIV/0!"}]
[113,{"$f":"IF(SISWA!B120=0,\"\",SISWA!B120)","v":""},{"$f":"IF(SISWA!C120=0,\"\",SISWA!C120)","v":""},{"$f":"IF(SISWA!D120=0,\"\",SISWA!D120)","v":"113-"},{"$f":"IF(SISWA!E120=0,\"\",SISWA!E120)","v":""},null,null,null,null,null,{"$error":"#DIV/0!"},null,null,{"$error":"#DIV/0!"}]
[114,{"$f":"IF(SISWA!B121=0,\"\",SISWA!B121)","v":""},{"$f":"IF(SISWA!C121=0,\"\",SISWA!C121)","v":""},{"$f":"IF(SISWA!D121=0,\"\",SISWA!D121)","v":"114-"},{"$f":"IF(SISWA!E121=0,\"\",SISWA!E121)","v":""},null,null,null,null,null,{"$error":"#DIV/0!"},null,null,{"$error":"#DIV/0!"}]
[115,{"$f":"IF(SISWA!B122=0,\"\",SISWA!B122)","v":""},{"$f":"IF(SISWA!C122=0,\"\",SISWA!C122)","v":""},{"$f":"IF(SISWA!D122=0,\"\",SISWA!D122)","v":"115-"},{"$f":"IF(SISWA!E122=0,\"\",SISWA!E122)","v":""},null,null,null,null,null,{"$error":"#DIV/0!"},null,null,{"$error":"#DIV/0!"}]
[116,{"$f":"IF(SISWA!B123=0,\"\",SISWA!B123)","v":""},{"$f":"IF(SISWA!C123=0,\"\",SISWA!C123)","v":""},{"$f":"IF(SISWA!D123=0,\"\",SISWA!D123)","v":"116-"},{"$f":"IF(SISWA!E123=0,\"\",SISWA!E123)","v":""},null,null,null,null,null,{"$error":"#DIV/0!"},null,null,{"$error":"#DIV/0!"}]
[117,{"$f":"IF(SISWA!B124=0,\"\",SISWA!B124)","v":""},{"$f":"IF(SISWA!C124=0,\"\",SISWA!C124)","v":""},{"$f":"IF(SISWA!D124=0,\"\",SISWA!D124)","v":"117-"},{"$f":"IF(SISWA!E124=0,\"\",SISWA!E124)","v":""},null,null,null,null,null,{"$error":"#DIV/0!"},null,null,{"$error":"#DIV/0!"}]
[118,{"$f":"IF(SISWA!B125=0,\"\",SISWA!B125)","v":""},{"$f":"IF(SISWA!C125=0,\"\",SISWA!C125)","v":""},{"$f":"IF(SISWA!D125=0,\"\",SISWA!D125)","v":"118-"},{"$f":"IF(SISWA!E125=0,\"\",SISWA!E125)","v":""},null,null,null,null,null,{"$error":"#DIV/0!"},null,null,{"$error":"#DIV/0!"}]
[119,{"$f":"IF(SISWA!B126=0,\"\",SISWA!B126)","v":""},{"$f":"IF(SISWA!C126=0,\"\",SISWA!C126)","v":""},{"$f":"IF(SISWA!D126=0,\"\",SISWA!D126)","v":"119-"},{"$f":"IF(SISWA!E126=0,\"\",SISWA!E126)","v":""},null,null,null,null,null,{"$error":"#DIV/0!"},null,null,{"$error":"#DIV/0!"}]
[120,{"$f":"IF(SISWA!B127=0,\"\",SISWA!B127)","v":""},{"$f":"IF(SISWA!C127=0,\"\",SISWA!C127)","v":""},{"$f":"IF(SISWA!D127=0,\"\",SISWA!D127)","v":"120-"},{"$f":"IF(SISWA!E127=0,\"\",SISWA!E127)","v":""},null,null,null,null,null,{"$error":"#DIV/0!"},null,null,{"$error":"#DIV/0!"}]
[121,{"$f":"IF(SISWA!B128=0,\"\",SISWA!B128)","v":""},{"$f":"IF(SISWA!C128=0,\"\",SISWA!C128)","v":""},{"$f":"IF(SISWA!D128=0,\"\",SISWA!D128)","v":"121-"},{"$f":"IF(SISWA!E128=0,\"\",SISWA!E128)","v":""},null,null,null,null,null,{"$error":"#DIV/0!"},null,null,{"$error":"#DIV/0!"}]
[122,{"$f":"IF(SISWA!B129=0,\"\",SISWA!B129)","v":""},{"$f":"IF(SISWA!C129=0,\"\",SISWA!C129)","v":""},{"$f":"IF(SISWA!D129=0,\"\",SISWA!D129)","v":"122-"},{"$f":"IF(SISWA!E129=0,\"\",SISWA!E129)","v":""},null,null,null,null,null,{"$error":"#DIV/0!"},null,null,{"$error":"#DIV/0!"}]
[123,{"$f":"IF(SISWA!B130=0,\"\",SISWA!B130)","v":""},{"$f":"IF(SISWA!C130=0,\"\",SISWA!C130)","v":""},{"$f":"IF(SISWA!D130=0,\"\",SISWA!D130)","v":"123-"},{"$f":"IF(SISWA!E130=0,\"\",SISWA!E130)","v":""},null,null,null,null,null,{"$error":"#DIV/0!"},null,null,{"$error":"#DIV/0!"}]
[124,{"$f":"IF(SISWA!B131=0,\"\",SISWA!B131)","v":""},{"$f":"IF(SISWA!C131=0,\"\",SISWA!C131)","v":""},{"$f":"IF(SISWA!D131=0,\"\",SISWA!D131)","v":"124-"},{"$f":"IF(SISWA!E131=0,\"\",SISWA!E131)","v":""},null,null,null,null,null,{"$error":"#DIV/0!"},null,null,{"$error":"#DIV/0!"}]
[125,{"$f":"IF(SISWA!B132=0,\"\",SISWA!B132)","v":""},{"$f":"IF(SISWA!C132=0,\"\",SISWA!C132)","v":""},{"$f":"IF(SISWA!D132=0,\"\",SISWA!D132)","v":"125-"},{"$f":"IF(SISWA!E132=0,\"\",SISWA!E132)","v":""},null,null,null,null,null,{"$f":"AVERAGE(F132:J132)","v":{"$error":"#DIV/0!"}},null,null,{"$error":"#DIV/0!"}]
[126,{"$f":"IF(SISWA!B133=0,\"\",SISWA!B133)","v":""},{"$f":"IF(SISWA!C133=0,\"\",SISWA!C133)","v":""},{"$f":"IF(SISWA!D133=0,\"\",SISWA!D133)","v":"126-"},{"$f":"IF(SISWA!E133=0,\"\",SISWA!E133)","v":""},null,null,null,null,null,{"$error":"#DIV/0!"},null,null,{"$error":"#DIV/0!"}]
[127,{"$f":"IF(SISWA!B134=0,\"\",SISWA!B134)","v":""},{"$f":"IF(SISWA!C134=0,\"\",SISWA!C134)","v":""},{"$f":"IF(SISWA!D134=0,\"\",SISWA!D134)","v":"127-"},{"$f":"IF(SISWA!E134=0,\"\",SISWA!E134)","v":""},null,null,null,null,null,{"$error":"#DIV/0!"},null,null,{"$error":"#DIV/0!"}]
[128,{"$f":"IF(SISWA!B135=0,\"\",SISWA!B135)","v":""},{"$f":"IF(SISWA!C135=0,\"\",SISWA!C135)","v":""},{"$f":"IF(SISWA!D135=0,\"\",SISWA!D135)","v":"128-"},{"$f":"IF(SISWA!E135=0,\"\",SISWA!E135)","v":""},null,null,null,null,null,{"$error":"#DIV/0!"},null,null,{"$error":"#DIV/0!"}]
[129,{"$f":"IF(SISWA!B136=0,\"\",SISWA!B136)","v":""},{"$f":"IF(SISWA!C136=0,\"\",SISWA!C136)","v":""},{"$f":"IF(SISWA!D136=0,\"\",SISWA!D136)","v":"129-"},{"$f":"IF(SISWA!E136=0,\"\",SISWA!E136)","v":""},null,null,null,null,null,{"$error":"#DIV/0!"},null,null,{"$error":"#DIV/0!"}]
[130,{"$f":"IF(SISWA!B137=0,\"\",SISWA!B137)","v":""},{"$f":"IF(SISWA!C137=0,\"\",SISWA!C137)","v":""},{"$f":"IF(SISWA!D137=0,\"\",SISWA!D137)","v":"130-"},{"$f":"IF(SISWA!E137=0,\"\",SISWA!E137)","v":""},null,null,null,null,null,{"$error":"#DIV/0!"},null,null,{"$f":"AVERAGE(L137:M137)","v":{"$error":"#DIV/0!"}}]
[131,{"$f":"IF(SISWA!B138=0,\"\",SISWA!B138)","v":""},{"$f":"IF(SISWA!C138=0,\"\",SISWA!C138)","v":""},{"$f":"IF(SISWA!D138=0,\"\",SISWA!D138)","v":"131-"},{"$f":"IF(SISWA!E138=0,\"\",SISWA!E138)","v":""},null,null,null,null,null,{"$error":"#DIV/0!"},null,null,{"$error":"#DIV/0!"}]
[132,{"$f":"IF(SISWA!B139=0,\"\",SISWA!B139)","v":""},{"$f":"IF(SISWA!C139=0,\"\",SISWA!C139)","v":""},{"$f":"IF(SISWA!D139=0,\"\",SISWA!D139)","v":"132-"},{"$f":"IF(SISWA!E139=0,\"\",SISWA!E139)","v":""},null,null,null,null,null,{"$error":"#DIV/0!"},null,null,{"$error":"#DIV/0!"}]
[133,{"$f":"IF(SISWA!B140=0,\"\",SISWA!B140)","v":""},{"$f":"IF(SISWA!C140=0,\"\",SISWA!C140)","v":""},{"$f":"IF(SISWA!D140=0,\"\",SISWA!D140)","v":"133-"},{"$f":"IF(SISWA!E140=0,\"\",SISWA!E140)","v":""},null,null,null,null,null,{"$error":"#DIV/0!"},null,null,{"$error":"#DIV/0!"}]
[134,{"$f":"IF(SISWA!B141=0,\"\",SISWA!B141)","v":""},{"$f":"IF(SISWA!C141=0,\"\",SISWA!C141)","v":""},{"$f":"IF(SISWA!D141=0,\"\",SISWA!D141)","v":"134-"},{"$f":"IF(SISWA!E141=0,\"\",SISWA!E141)","v":""},null,null,null,null,null,{"$error":"#DIV/0!"},null,null,{"$error":"#DIV/0!"}]
[135,{"$f":"IF(SISWA!B142=0,\"\",SISWA!B142)","v":""},{"$f":"IF(SISWA!C142=0,\"\",SISWA!C142)","v":""},{"$f":"IF(SISWA!D142=0,\"\",SISWA!D142)","v":"135-"},{"$f":"IF(SISWA!E142=0,\"\",SISWA!E142)","v":""},null,null,null,null,null,{"$error":"#DIV/0!"},null,null,{"$error":"#DIV/0!"}]
[136,{"$f":"IF(SISWA!B143=0,\"\",SISWA!B143)","v":""},{"$f":"IF(SISWA!C143=0,\"\",SISWA!C143)","v":""},{"$f":"IF(SISWA!D143=0,\"\",SISWA!D143)","v":"136-"},{"$f":"IF(SISWA!E143=0,\"\",SISWA!E143)","v":""},null,null,null,null,null,{"$error":"#DIV/0!"},null,null,{"$error":"#DIV/0!"}]
[137,{"$f":"IF(SISWA!B144=0,\"\",SISWA!B144)","v":""},{"$f":"IF(SISWA!C144=0,\"\",SISWA!C144)","v":""},{"$f":"IF(SISWA!D144=0,\"\",SISWA!D144)","v":"137-"},{"$f":"IF(SISWA!E144=0,\"\",SISWA!E144)","v":""},null,null,null,null,null,{"$error":"#DIV/0!"},null,null,{"$error":"#DIV/0!"}]
[138,{"$f":"IF(SISWA!B145=0,\"\",SISWA!B145)","v":""},{"$f":"IF(SISWA!C145=0,\"\",SISWA!C145)","v":""},{"$f":"IF(SISWA!D145=0,\"\",SISWA!D145)","v":"138-"},{"$f":"IF(SISWA!E145=0,\"\",SISWA!E145)","v":""},null,null,null,null,null,{"$error":"#DIV/0!"},null,null,{"$error":"#DIV/0!"}]
[139,{"$f":"IF(SISWA!B146=0,\"\",SISWA!B146)","v":""},{"$f":"IF(SISWA!C146=0,\"\",SISWA!C146)","v":""},{"$f":"IF(SISWA!D146=0,\"\",SISWA!D146)","v":"139-"},{"$f":"IF(SISWA!E146=0,\"\",SISWA!E146)","v":""},null,null,null,null,null,{"$error":"#DIV/0!"},null,null,{"$error":"#DIV/0!"}]
[140,{"$f":"IF(SISWA!B147=0,\"\",SISWA!B147)","v":""},{"$f":"IF(SISWA!C147=0,\"\",SISWA!C147)","v":""},{"$f":"IF(SISWA!D147=0,\"\",SISWA!D147)","v":"140-"},{"$f":"IF(SISWA!E147=0,\"\",SISWA!E147)","v":""},null,null,null,null,null,{"$error":"#DIV/0!"},null,null,{"$error":"#DIV/0!"}]
[141,{"$f":"IF(SISWA!B148=0,\"\",SISWA!B148)","v":""},{"$f":"IF(SISWA!C148=0,\"\",SISWA!C148)","v":""},{"$f":"IF(SISWA!D148=0,\"\",SISWA!D148)","v":"141-"},{"$f":"IF(SISWA!E148=0,\"\",SISWA!E148)","v":""},null,null,null,null,null,{"$error":"#DIV/0!"},null,null,{"$error":"#DIV/0!"}]
[142,{"$f":"IF(SISWA!B149=0,\"\",SISWA!B149)","v":""},{"$f":"IF(SISWA!C149=0,\"\",SISWA!C149)","v":""},{"$f":"IF(SISWA!D149=0,\"\",SISWA!D149)","v":"142-"},{"$f":"IF(SISWA!E149=0,\"\",SISWA!E149)","v":""},null,null,null,null,null,{"$error":"#DIV/0!"},null,null,{"$error":"#DIV/0!"}]
[143,{"$f":"IF(SISWA!B150=0,\"\",SISWA!B150)","v":""},{"$f":"IF(SISWA!C150=0,\"\",SISWA!C150)","v":""},{"$f":"IF(SISWA!D150=0,\"\",SISWA!D150)","v":"143-"},{"$f":"IF(SISWA!E150=0,\"\",SISWA!E150)","v":""},null,null,null,null,null,{"$error":"#DIV/0!"},null,null,{"$error":"#DIV/0!"}]
[144,{"$f":"IF(SISWA!B151=0,\"\",SISWA!B151)","v":""},{"$f":"IF(SISWA!C151=0,\"\",SISWA!C151)","v":""},{"$f":"IF(SISWA!D151=0,\"\",SISWA!D151)","v":"144-"},{"$f":"IF(SISWA!E151=0,\"\",SISWA!E151)","v":""},null,null,null,null,null,{"$error":"#DIV/0!"},null,null,{"$error":"#DIV/0!"}]
[145,{"$f":"IF(SISWA!B152=0,\"\",SISWA!B152)","v":""},{"$f":"IF(SISWA!C152=0,\"\",SISWA!C152)","v":""},{"$f":"IF(SISWA!D152=0,\"\",SISWA!D152)","v":"145-"},{"$f":"IF(SISWA!E152=0,\"\",SISWA!E152)","v":""},null,null,null,null,null,{"$error":"#DIV/0!"},null,null,{"$error":"#DIV/0!"}]
[146,{"$f":"IF(SISWA!B153=0,\"\",SISWA!B153)","v":""},{"$f":"IF(SISWA!C153=0,\"\",SISWA!C153)","v":""},{"$f":"IF(SISWA!D153=0,\"\",SISWA!D153)","v":"146-"},{"$f":"IF(SISWA!E153=0,\"\",SISWA!E153)","v":""},null,null,null,null,null,{"$error":"#DIV/0!"},null,null,{"$error":"#DIV/0!"}]
[147,{"$f":"IF(SISWA!B154=0,\"\",SISWA!B154)","v":""},{"$f":"IF(SISWA!C154=0,\"\",SISWA!C154)","v":""},{"$f":"IF(SISWA!D154=0,\"\",SISWA!D154)","v":"147-"},{"$f":"IF(SISWA!E154=0,\"\",SISWA!E154)","v":""},null,null,null,null,null,{"$error":"#DIV/0!"},null,null,{"$error":"#DIV/0!"}]
[148,{"$f":"IF(SISWA!B155=0,\"\",SISWA!B155)","v":""},{"$f":"IF(SISWA!C155=0,\"\",SISWA!C155)","v":""},{"$f":"IF(SISWA!D155=0,\"\",SISWA!D155)","v":"148-"},{"$f":"IF(SISWA!E155=0,\"\",SISWA!E155)","v":""},null,null,null,null,null,{"$error":"#DIV/0!"},null,null,{"$error":"#DIV/0!"}]
[149,{"$f":"IF(SISWA!B156=0,\"\",SISWA!B156)","v":""},{"$f":"IF(SISWA!C156=0,\"\",SISWA!C156)","v":""},{"$f":"IF(SISWA!D156=0,\"\",SISWA!D156)","v":"149-"},{"$f":"IF(SISWA!E156=0,\"\",SISWA!E156)","v":""},null,null,null,null,null,{"$error":"#DIV/0!"},null,null,{"$error":"#DIV/0!"}]
[150,{"$f":"IF(SISWA!B157=0,\"\",SISWA!B157)","v":""},{"$f":"IF(SISWA!C157=0,\"\",SISWA!C157)","v":""},{"$f":"IF(SISWA!D157=0,\"\",SISWA!D157)","v":"150-"},{"$f":"IF(SISWA!E157=0,\"\",SISWA!E157)","v":""},null,null,null,null,null,{"$error":"#DIV/0!"},null,null,{"$error":"#DIV/0!"}]
[151,{"$f":"IF(SISWA!B158=0,\"\",SISWA!B158)","v":""},{"$f":"IF(SISWA!C158=0,\"\",SISWA!C158)","v":""},{"$f":"IF(SISWA!D158=0,\"\",SISWA!D158)","v":"151-"},{"$f":"IF(SISWA!E158=0,\"\",SISWA!E158)","v":""},null,null,null,null,null,{"$error":"#DIV/0!"},null,null,{"$error":"#DIV/0!"}]
[152,{"$f":"IF(SISWA!B159=0,\"\",SISWA!B159)","v":""},{"$f":"IF(SISWA!C159=0,\"\",SISWA!C159)","v":""},{"$f":"IF(SISWA!D159=0,\"\",SISWA!D159)","v":"152-"},{"$f":"IF(SISWA!E159=0,\"\",SISWA!E159)","v":""},null,null,null,null,null,{"$error":"#DIV/0!"},null,null,{"$error":"#DIV/0!"}]
[153,{"$f":"IF(SISWA!B160=0,\"\",SISWA!B160)","v":""},{"$f":"IF(SISWA!C160=0,\"\",SISWA!C160)","v":""},{"$f":"IF(SISWA!D160=0,\"\",SISWA!D160)","v":"153-"},{"$f":"IF(SISWA!E160=0,\"\",SISWA!E160)","v":""},null,null,null,null,null,{"$error":"#DIV/0!"},null,null,{"$error":"#DIV/0!"}]
[154,{"$f":"IF(SISWA!B161=0,\"\",SISWA!B161)","v":""},{"$f":"IF(SISWA!C161=0,\"\",SISWA!C161)","v":""},{"$f":"IF(SISWA!D161=0,\"\",SISWA!D161)","v":"154-"},{"$f":"IF(SISWA!E161=0,\"\",SISWA!E161)","v":""},null,null,null,null,null,{"$error":"#DIV/0!"},null,null,{"$error":"#DIV/0!"}]
[155,{"$f":"IF(SISWA!B162=0,\"\",SISWA!B162)","v":""},{"$f":"IF(SISWA!C162=0,\"\",SISWA!C162)","v":""},{"$f":"IF(SISWA!D162=0,\"\",SISWA!D162)","v":"155-"},{"$f":"IF(SISWA!E162=0,\"\",SISWA!E162)","v":""},null,null,null,null,null,{"$error":"#DIV/0!"},null,null,{"$error":"#DIV/0!"}]
[156,{"$f":"IF(SISWA!B163=0,\"\",SISWA!B163)","v":""},{"$f":"IF(SISWA!C163=0,\"\",SISWA!C163)","v":""},{"$f":"IF(SISWA!D163=0,\"\",SISWA!D163)","v":"156-"},{"$f":"IF(SISWA!E163=0,\"\",SISWA!E163)","v":""},null,null,null,null,null,{"$error":"#DIV/0!"},null,null,{"$error":"#DIV/0!"}]
[157,{"$f":"IF(SISWA!B164=0,\"\",SISWA!B164)","v":""},{"$f":"IF(SISWA!C164=0,\"\",SISWA!C164)","v":""},{"$f":"IF(SISWA!D164=0,\"\",SISWA!D164)","v":"157-"},{"$f":"IF(SISWA!E164=0,\"\",SISWA!E164)","v":""},null,null,null,null,null,{"$error":"#DIV/0!"},null,null,{"$error":"#DIV/0!"}]
[158,{"$f":"IF(SISWA!B165=0,\"\",SISWA!B165)","v":""},{"$f":"IF(SISWA!C165=0,\"\",SISWA!C165)","v":""},{"$f":"IF(SISWA!D165=0,\"\",SISWA!D165)","v":"158-"},{"$f":"IF(SISWA!E165=0,\"\",SISWA!E165)","v":""},null,null,null,null,null,{"$error":"#DIV/0!"},null,null,{"$error":"#DIV/0!"}]
[159,{"$f":"IF(SISWA!B166=0,\"\",SISWA!B166)","v":""},{"$f":"IF(SISWA!C166=0,\"\",SISWA!C166)","v":""},{"$f":"IF(SISWA!D166=0,\"\",SISWA!D166)","v":"159-"},{"$f":"IF(SISWA!E166=0,\"\",SISWA!E166)","v":""},null,null,null,null,null,{"$error":"#DIV/0!"},null,null,{"$error":"#DIV/0!"}]
[160,{"$f":"IF(SISWA!B167=0,\"\",SISWA!B167)","v":""},{"$f":"IF(SISWA!C167=0,\"\",SISWA!C167)","v":""},{"$f":"IF(SISWA!D167=0,\"\",SISWA!D167)","v":"160-"},{"$f":"IF(SISWA!E167=0,\"\",SISWA!E167)","v":""},null,null,null,null,null,{"$error":"#DIV/0!"},null,null,{"$error":"#DIV/0!"}]
[161,{"$f":"IF(SISWA!B168=0,\"\",SISWA!B168)","v":""},{"$f":"IF(SISWA!C168=0,\"\",SISWA!C168)","v":""},{"$f":"IF(SISWA!D168=0,\"\",SISWA!D168)","v":"161-"},{"$f":"IF(SISWA!E168=0,\"\",SISWA!E168)","v":""},null,null,null,null,null,{"$error":"#DIV/0!"},null,null,{"$error":"#DIV/0!"}]
[162,{"$f":"IF(SISWA!B169=0,\"\",SISWA!B169)","v":""},{"$f":"IF(SISWA!C169=0,\"\",SISWA!C169)","v":""},{"$f":"IF(SISWA!D169=0,\"\",SISWA!D169)","v":"162-"},{"$f":"IF(SISWA!E169=0,\"\",SISWA!E169)","v":""},null,null,null,null,null,{"$error":"#DIV/0!"},null,null,{"$error":"#DIV/0!"}]
[163,{"$f":"IF(SISWA!B170=0,\"\",SISWA!B170)","v":""},{"$f":"IF(SISWA!C170=0,\"\",SISWA!C170)","v":""},{"$f":"IF(SISWA!D170=0,\"\",SISWA!D170)","v":"163-"},{"$f":"IF(SISWA!E170=0,\"\",SISWA!E170)","v":""},null,null,null,null,null,{"$error":"#DIV/0!"},null,null,{"$error":"#DIV/0!"}]
[164,{"$f":"IF(SISWA!B171=0,\"\",SISWA!B171)","v":""},{"$f":"IF(SISWA!C171=0,\"\",SISWA!C171)","v":""},{"$f":"IF(SISWA!D171=0,\"\",SISWA!D171)","v":"164-"},{"$f":"IF(SISWA!E171=0,\"\",SISWA!E171)","v":""},null,null,null,null,null,{"$error":"#DIV/0!"},null,null,{"$error":"#DIV/0!"}]
[165,{"$f":"IF(SISWA!B172=0,\"\",SISWA!B172)","v":""},{"$f":"IF(SISWA!C172=0,\"\",SISWA!C172)","v":""},{"$f":"IF(SISWA!D172=0,\"\",SISWA!D172)","v":"165-"},{"$f":"IF(SISWA!E172=0,\"\",SISWA!E172)","v":""},null,null,null,null,null,{"$error":"#DIV/0!"},null,null,{"$error":"#DIV/0!"}]
[166,{"$f":"IF(SISWA!B173=0,\"\",SISWA!B173)","v":""},{"$f":"IF(SISWA!C173=0,\"\",SISWA!C173)","v":""},{"$f":"IF(SISWA!D173=0,\"\",SISWA!D173)","v":"166-"},{"$f":"IF(SISWA!E173=0,\"\",SISWA!E173)","v":""},null,null,null,null,null,{"$error":"#DIV/0!"},null,null,{"$error":"#DIV/0!"}]
[167,{"$f":"IF(SISWA!B174=0,\"\",SISWA!B174)","v":""},{"$f":"IF(SISWA!C174=0,\"\",SISWA!C174)","v":""},{"$f":"IF(SISWA!D174=0,\"\",SISWA!D174)","v":"167-"},{"$f":"IF(SISWA!E174=0,\"\",SISWA!E174)","v":""},null,null,null,null,null,{"$error":"#DIV/0!"},null,null,{"$error":"#DIV/0!"}]
[168,{"$f":"IF(SISWA!B175=0,\"\",SISWA!B175)","v":""},{"$f":"IF(SISWA!C175=0,\"\",SISWA!C175)","v":""},{"$f":"IF(SISWA!D175=0,\"\",SISWA!D175)","v":"168-"},{"$f":"IF(SISWA!E175=0,\"\",SISWA!E175)","v":""},null,null,null,null,null,{"$error":"#DIV/0!"},null,null,{"$error":"#DIV/0!"}]
[169,{"$f":"IF(SISWA!B176=0,\"\",SISWA!B176)","v":""},{"$f":"IF(SISWA!C176=0,\"\",SISWA!C176)","v":""},{"$f":"IF(SISWA!D176=0,\"\",SISWA!D176)","v":"169-"},{"$f":"IF(SISWA!E176=0,\"\",SISWA!E176)","v":""},null,null,null,null,null,{"$error":"#DIV/0!"},null,null,{"$error":"#DIV/0!"}]
[170,{"$f":"IF(SISWA!B177=0,\"\",SISWA!B177)","v":""},{"$f":"IF(SISWA!C177=0,\"\",SISWA!C177)","v":""},{"$f":"IF(SISWA!D177=0,\"\",SISWA!D177)","v":"170-"},{"$f":"IF(SISWA!E177=0,\"\",SISWA!E177)","v":""},null,null,null,null,null,{"$error":"#DIV/0!"},null,null,{"$error":"#DIV/0!"}]
[171,{"$f":"IF(SISWA!B178=0,\"\",SISWA!B178)","v":""},{"$f":"IF(SISWA!C178=0,\"\",SISWA!C178)","v":""},{"$f":"IF(SISWA!D178=0,\"\",SISWA!D178)","v":"171-"},{"$f":"IF(SISWA!E178=0,\"\",SISWA!E178)","v":""},null,null,null,null,null,{"$error":"#DIV/0!"},null,null,{"$error":"#DIV/0!"}]
[172,{"$f":"IF(SISWA!B179=0,\"\",SISWA!B179)","v":""},{"$f":"IF(SISWA!C179=0,\"\",SISWA!C179)","v":""},{"$f":"IF(SISWA!D179=0,\"\",SISWA!D179)","v":"172-"},{"$f":"IF(SISWA!E179=0,\"\",SISWA!E179)","v":""},null,null,null,null,null,{"$error":"#DIV/0!"},null,null,{"$error":"#DIV/0!"}]
[173,{"$f":"IF(SISWA!B180=0,\"\",SISWA!B180)","v":""},{"$f":"IF(SISWA!C180=0,\"\",SISWA!C180)","v":""},{"$f":"IF(SISWA!D180=0,\"\",SISWA!D180)","v":"173-"},{"$f":"IF(SISWA!E180=0,\"\",SISWA!E180)","v":""},null,null,null,null,null,{"$error":"#DIV/0!"},null,null,{"$error":"#DIV/0!"}]
[174,{"$f":"IF(SISWA!B181=0,\"\",SISWA!B181)","v":""},{"$f":"IF(SISWA!C181=0,\"\",SISWA!C181)","v":""},{"$f":"IF(SISWA!D181=0,\"\",SISWA!D181)","v":"174-"},{"$f":"IF(SISWA!E181=0,\"\",SISWA!E181)","v":""},null,null,null,null,null,{"$error":"#DIV/0!"},null,null,{"$error":"#DIV/0!"}]
[175,{"$f":"IF(SISWA!B182=0,\"\",SISWA!B182)","v":""},{"$f":"IF(SISWA!C182=0,\"\",SISWA!C182)","v":""},{"$f":"IF(SISWA!D182=0,\"\",SISWA!D182)","v":"175-"},{"$f":"IF(SISWA!E182=0,\"\",SISWA!E182)","v":""},null,null,null,null,null,{"$error":"#DIV/0!"},null,null,{"$error":"#DIV/0!"}]
[176,{"$f":"IF(SISWA!B183=0,\"\",SISWA!B183)","v":""},{"$f":"IF(SISWA!C183=0,\"\",SISWA!C183)","v":""},{"$f":"IF(SISWA!D183=0,\"\",SISWA!D183)","v":"176-"},{"$f":"IF(SISWA!E183=0,\"\",SISWA!E183)","v":""},null,null,null,null,null,{"$error":"#DIV/0!"},null,null,{"$error":"#DIV/0!"}]
[177,{"$f":"IF(SISWA!B184=0,\"\",SISWA!B184)","v":""},{"$f":"IF(SISWA!C184=0,\"\",SISWA!C184)","v":""},{"$f":"IF(SISWA!D184=0,\"\",SISWA!D184)","v":"177-"},{"$f":"IF(SISWA!E184=0,\"\",SISWA!E184)","v":""},null,null,null,null,null,{"$error":"#DIV/0!"},null,null,{"$error":"#DIV/0!"}]
[178,{"$f":"IF(SISWA!B185=0,\"\",SISWA!B185)","v":""},{"$f":"IF(SISWA!C185=0,\"\",SISWA!C185)","v":""},{"$f":"IF(SISWA!D185=0,\"\",SISWA!D185)","v":"178-"},{"$f":"IF(SISWA!E185=0,\"\",SISWA!E185)","v":""},null,null,null,null,null,{"$error":"#DIV/0!"},null,null,{"$error":"#DIV/0!"}]
[179,{"$f":"IF(SISWA!B186=0,\"\",SISWA!B186)","v":""},{"$f":"IF(SISWA!C186=0,\"\",SISWA!C186)","v":""},{"$f":"IF(SISWA!D186=0,\"\",SISWA!D186)","v":"179-"},{"$f":"IF(SISWA!E186=0,\"\",SISWA!E186)","v":""},null,null,null,null,null,{"$error":"#DIV/0!"},null,null,{"$error":"#DIV/0!"}]
[180,{"$f":"IF(SISWA!B187=0,\"\",SISWA!B187)","v":""},{"$f":"IF(SISWA!C187=0,\"\",SISWA!C187)","v":""},{"$f":"IF(SISWA!D187=0,\"\",SISWA!D187)","v":"180-"},{"$f":"IF(SISWA!E187=0,\"\",SISWA!E187)","v":""},null,null,null,null,null,{"$error":"#DIV/0!"},null,null,{"$error":"#DIV/0!"}]
[181,{"$f":"IF(SISWA!B188=0,\"\",SISWA!B188)","v":""},{"$f":"IF(SISWA!C188=0,\"\",SISWA!C188)","v":""},{"$f":"IF(SISWA!D188=0,\"\",SISWA!D188)","v":"181-"},{"$f":"IF(SISWA!E188=0,\"\",SISWA!E188)","v":""},null,null,null,null,null,{"$error":"#DIV/0!"},null,null,{"$error":"#DIV/0!"}]
[182,{"$f":"IF(SISWA!B189=0,\"\",SISWA!B189)","v":""},{"$f":"IF(SISWA!C189=0,\"\",SISWA!C189)","v":""},{"$f":"IF(SISWA!D189=0,\"\",SISWA!D189)","v":"182-"},{"$f":"IF(SISWA!E189=0,\"\",SISWA!E189)","v":""},null,null,null,null,null,{"$error":"#DIV/0!"},null,null,{"$error":"#DIV/0!"}]
[183,{"$f":"IF(SISWA!B190=0,\"\",SISWA!B190)","v":""},{"$f":"IF(SISWA!C190=0,\"\",SISWA!C190)","v":""},{"$f":"IF(SISWA!D190=0,\"\",SISWA!D190)","v":"183-"},{"$f":"IF(SISWA!E190=0,\"\",SISWA!E190)","v":""},null,null,null,null,null,{"$error":"#DIV/0!"},null,null,{"$error":"#DIV/0!"}]
[184,{"$f":"IF(SISWA!B191=0,\"\",SISWA!B191)","v":""},{"$f":"IF(SISWA!C191=0,\"\",SISWA!C191)","v":""},{"$f":"IF(SISWA!D191=0,\"\",SISWA!D191)","v":"184-"},{"$f":"IF(SISWA!E191=0,\"\",SISWA!E191)","v":""},null,null,null,null,null,{"$error":"#DIV/0!"},null,null,{"$error":"#DIV/0!"}]
[185,{"$f":"IF(SISWA!B192=0,\"\",SISWA!B192)","v":""},{"$f":"IF(SISWA!C192=0,\"\",SISWA!C192)","v":""},{"$f":"IF(SISWA!D192=0,\"\",SISWA!D192)","v":"185-"},{"$f":"IF(SISWA!E192=0,\"\",SISWA!E192)","v":""},null,null,null,null,null,{"$error":"#DIV/0!"},null,null,{"$error":"#DIV/0!"}]
[186,{"$f":"IF(SISWA!B193=0,\"\",SISWA!B193)","v":""},{"$f":"IF(SISWA!C193=0,\"\",SISWA!C193)","v":""},{"$f":"IF(SISWA!D193=0,\"\",SISWA!D193)","v":"186-"},{"$f":"IF(SISWA!E193=0,\"\",SISWA!E193)","v":""},null,null,null,null,null,{"$error":"#DIV/0!"},null,null,{"$error":"#DIV/0!"}]
[187,{"$f":"IF(SISWA!B194=0,\"\",SISWA!B194)","v":""},{"$f":"IF(SISWA!C194=0,\"\",SISWA!C194)","v":""},{"$f":"IF(SISWA!D194=0,\"\",SISWA!D194)","v":"187-"},{"$f":"IF(SISWA!E194=0,\"\",SISWA!E194)","v":""},null,null,null,null,null,{"$error":"#DIV/0!"},null,null,{"$error":"#DIV/0!"}]
[188,{"$f":"IF(SISWA!B195=0,\"\",SISWA!B195)","v":""},{"$f":"IF(SISWA!C195=0,\"\",SISWA!C195)","v":""},{"$f":"IF(SISWA!D195=0,\"\",SISWA!D195)","v":"188-"},{"$f":"IF(SISWA!E195=0,\"\",SISWA!E195)","v":""},null,null,null,null,null,{"$error":"#DIV/0!"},null,null,{"$error":"#DIV/0!"}]
[189,{"$f":"IF(SISWA!B196=0,\"\",SISWA!B196)","v":""},{"$f":"IF(SISWA!C196=0,\"\",SISWA!C196)","v":""},{"$f":"IF(SISWA!D196=0,\"\",SISWA!D196)","v":"189-"},{"$f":"IF(SISWA!E196=0,\"\",SISWA!E196)","v":""},null,null,null,null,null,{"$f":"AVERAGE(F196:J196)","v":{"$error":"#DIV/0!"}},null,null,{"$error":"#DIV/0!"}]
[190,{"$f":"IF(SISWA!B197=0,\"\",SISWA!B197)","v":""},{"$f":"IF(SISWA!C197=0,\"\",SISWA!C197)","v":""},{"$f":"IF(SISWA!D197=0,\"\",SISWA!D197)","v":"190-"},{"$f":"IF(SISWA!E197=0,\"\",SISWA!E197)","v":""},null,null,null,null,null,{"$error":"#DIV/0!"},null,null,{"$error":"#DIV/0!"}]
[191,{"$f":"IF(SISWA!B198=0,\"\",SISWA!B198)","v":""},{"$f":"IF(SISWA!C198=0,\"\",SISWA!C198)","v":""},{"$f":"IF(SISWA!D198=0,\"\",SISWA!D198)","v":"191-"},{"$f":"IF(SISWA!E198=0,\"\",SISWA!E198)","v":""},null,null,null,null,null,{"$error":"#DIV/0!"},null,null,{"$error":"#DIV/0!"}]
[192,{"$f":"IF(SISWA!B199=0,\"\",SISWA!B199)","v":""},{"$f":"IF(SISWA!C199=0,\"\",SISWA!C199)","v":""},{"$f":"IF(SISWA!D199=0,\"\",SISWA!D199)","v":"192-"},{"$f":"IF(SISWA!E199=0,\"\",SISWA!E199)","v":""},null,null,null,null,null,{"$error":"#DIV/0!"},null,null,{"$error":"#DIV/0!"}]
[193,{"$f":"IF(SISWA!B200=0,\"\",SISWA!B200)","v":""},{"$f":"IF(SISWA!C200=0,\"\",SISWA!C200)","v":""},{"$f":"IF(SISWA!D200=0,\"\",SISWA!D200)","v":"193-"},{"$f":"IF(SISWA!E200=0,\"\",SISWA!E200)","v":""},null,null,null,null,null,{"$error":"#DIV/0!"},null,null,{"$error":"#DIV/0!"}]
[194,{"$f":"IF(SISWA!B201=0,\"\",SISWA!B201)","v":""},{"$f":"IF(SISWA!C201=0,\"\",SISWA!C201)","v":""},{"$f":"IF(SISWA!D201=0,\"\",SISWA!D201)","v":"194-"},{"$f":"IF(SISWA!E201=0,\"\",SISWA!E201)","v":""},null,null,null,null,null,{"$error":"#DIV/0!"},null,null,{"$f":"AVERAGE(L201:M201)","v":{"$error":"#DIV/0!"}}]
[195,{"$f":"IF(SISWA!B202=0,\"\",SISWA!B202)","v":""},{"$f":"IF(SISWA!C202=0,\"\",SISWA!C202)","v":""},{"$f":"IF(SISWA!D202=0,\"\",SISWA!D202)","v":"195-"},{"$f":"IF(SISWA!E202=0,\"\",SISWA!E202)","v":""},null,null,null,null,null,{"$error":"#DIV/0!"},null,null,{"$error":"#DIV/0!"}]
[196,{"$f":"IF(SISWA!B203=0,\"\",SISWA!B203)","v":""},{"$f":"IF(SISWA!C203=0,\"\",SISWA!C203)","v":""},{"$f":"IF(SISWA!D203=0,\"\",SISWA!D203)","v":"196-"},{"$f":"IF(SISWA!E203=0,\"\",SISWA!E203)","v":""},null,null,null,null,null,{"$error":"#DIV/0!"},null,null,{"$error":"#DIV/0!"}]
[197,{"$f":"IF(SISWA!B204=0,\"\",SISWA!B204)","v":""},{"$f":"IF(SISWA!C204=0,\"\",SISWA!C204)","v":""},{"$f":"IF(SISWA!D204=0,\"\",SISWA!D204)","v":"197-"},{"$f":"IF(SISWA!E204=0,\"\",SISWA!E204)","v":""},null,null,null,null,null,{"$error":"#DIV/0!"},null,null,{"$error":"#DIV/0!"}]
[198,{"$f":"IF(SISWA!B205=0,\"\",SISWA!B205)","v":""},{"$f":"IF(SISWA!C205=0,\"\",SISWA!C205)","v":""},{"$f":"IF(SISWA!D205=0,\"\",SISWA!D205)","v":"198-"},{"$f":"IF(SISWA!E205=0,\"\",SISWA!E205)","v":""},null,null,null,null,null,{"$error":"#DIV/0!"},null,null,{"$error":"#DIV/0!"}]
[199,{"$f":"IF(SISWA!B206=0,\"\",SISWA!B206)","v":""},{"$f":"IF(SISWA!C206=0,\"\",SISWA!C206)","v":""},{"$f":"IF(SISWA!D206=0,\"\",SISWA!D206)","v":"199-"},{"$f":"IF(SISWA!E206=0,\"\",SISWA!E206)","v":""},null,null,null,null,null,{"$error":"#DIV/0!"},null,null,{"$error":"#DIV/0!"}]
[200,{"$f":"IF(SISWA!B207=0,\"\",SISWA!B207)","v":""},{"$f":"IF(SISWA!C207=0,\"\",SISWA!C207)","v":""},{"$f":"IF(SISWA!D207=0,\"\",SISWA!D207)","v":"200-"},{"$f":"IF(SISWA!E207=0,\"\",SISWA!E207)","v":""},null,null,null,null,null,{"$error":"#DIV/0!"},null,null,{"$error":"#DIV/0!"}]

{"sheet":"PJK","index":13,"n_rows":207,"n_cols":15,"rows_kept":207,"cut":false,"hidden":false,"merged":[[4,13,6,13],[4,5,4,12],[0,0,0,9],[1,0,1,9],[2,0,2,9],[4,0,6,0],[4,1,6,1],[4,2,6,2],[4,3,6,3],[4,4,6,4],[5,5,5,9],[5,11,5,12]]}
["DAFTAR NILAI AKHIR SEKOLAH"]
[{"$f":"AA!A2","v":"MADRASAH IBTIDAIYAH NURUL ISLAM LABRUK KIDUL"}]
[{"$f":"AA!A3","v":"TAHUN PELAJARAN 2018/2019"}]
[]
["NO","No Induk","NISN","Nomor Peserta","Nama Peserta","PENJASORKES",null,null,null,null,null,null,null,"rata-rata UAM & PRAKTEK"]
[null,null,null,null,null,"Nilai Semester",null,null,null,null,"Rata- 2","NILAI UAM"]
[null,null,null,null,null,7,8,9,10,11,"Rapor","TULIS","PRAKTIK"]
[1,{"$f":"IF(SISWA!B8=0,\"\",SISWA!B8)","v":4270},{"$f":"IF(SISWA!C8=0,\"\",SISWA!C8)","v":"0067566336"},{"$f":"IF(SISWA!D8=0,\"\",SISWA!D8)","v":"1-18-05-80-162-001-9"},{"$f":"IF(SISWA!E8=0,\"\",SISWA!E8)","v":"ADITYA MAULA FANDY TAULANI"},82,81,83,82,85,{"$f":"AVERAGE(F8:J8)","v":82.6},65,{"$f":"K8","v":82.6},{"$f":"AVERAGE(L8:M8)","v":73.8},{"$f":"AVERAGE(L8,F8:J8)","v":79.666666666666671}]
[2,{"$f":"IF(SISWA!B9=0,\"\",SISWA!B9)","v":4300},{"$f":"IF(SISWA!C9=0,\"\",SISWA!C9)","v":"0066364963"},{"$f":"IF(SISWA!D9=0,\"\",SISWA!D9)","v":"1-18-05-80-162-002-8"},{"$f":"IF(SISWA!E9=0,\"\",SISWA!E9)","v":"AHMAD FERDIAN ALAMSYAH"},73,77,81,80,82,{"$f":"AVERAGE(F9:J9)","v":78.599999999999994},65,{"$f":"K9","v":78.599999999999994},{"$f":"AVERAGE(L9:M9)","v":71.8},{"$f":"AVERAGE(L9,F9:J9)","v":76.333333333333329}]
[3,{"$f":"IF(SISWA!B10=0,\"\",SISWA!B10)","v":4271},{"$f":"IF(SISWA!C10=0,\"\",SISWA!C10)","v":"0062805893"},{"$f":"IF(SISWA!D10=0,\"\",SISWA!D10)","v":"1-18-05-80-162-003-7"},{"$f":"IF(SISWA!E10=0,\"\",SISWA!E10)","v":"AHMAD RAMADHANI FADLULLOH"},79,80,81,81,83,80.8,65,80.8,72.900000000000006,78.166666666666671]
[4,{"$f":"IF(SISWA!B11=0,\"\",SISWA!B11)","v":4398},{"$f":"IF(SISWA!C11=0,\"\",SISWA!C11)","v":"0062399399"},{"$f":"IF(SISWA!D11=0,\"\",SISWA!D11)","v":"1-18-05-80-162-004-6"},{"$f":"IF(SISWA!E11=0,\"\",SISWA!E11)","v":"ANANDA AMILIA"},76,77,80,80,88,80.2,65,80.2,72.599999999999994,77.666666666666671]
[5,{"$f":"IF(SISWA!B12=0,\"\",SISWA!B12)","v":4272},{"$f":"IF(SISWA!C12=0,\"\",SISWA!C12)","v":"0071551428"},{"$f":"IF(SISWA!D12=0,\"\",SISWA!D12)","v":"1-18-05-80-162-005-5"},{"$f":"IF(SISWA!E12=0,\"\",SISWA!E12)","v":"ANDINI MAULID DWI LESTARI"},76,78,83,80,85,80.400000000000006,72,80.400000000000006,76.2,79]
[6,{"$f":"IF(SISWA!B13=0,\"\",SISWA!B13)","v":4301},{"$f":"IF(SISWA!C13=0,\"\",SISWA!C13)","v":"0061907599"},{"$f":"IF(SISWA!D13=0,\"\",SISWA!D13)","v":"1-18-05-80-162-006-4"},{"$f":"IF(SISWA!E13=0,\"\",SISWA!E13)","v":"ANDRIK YUSRI"},74,78,84,84,84,80.8,70,80.8,75.400000000000006,79]
[7,{"$f":"IF(SISWA!B14=0,\"\",SISWA!B14)","v":4273},{"$f":"IF(SISWA!C14=0,\"\",SISWA!C14)","v":"0067280519"},{"$f":"IF(SISWA!D14=0,\"\",SISWA!D14)","v":"1-18-05-80-162-007-3"},{"$f":"IF(SISWA!E14=0,\"\",SISWA!E14)","v":"DEWI SAKINAH ISWARA"},79,81,80,82,83,81,74,81,77.5,79.833333333333329]
[8,{"$f":"IF(SISWA!B15=0,\"\",SISWA!B15)","v":4307},{"$f":"IF(SISWA!C15=0,\"\",SISWA!C15)","v":"0066012198"},{"$f":"IF(SISWA!D15=0,\"\",SISWA!D15)","v":"1-18-05-80-162-008-2"},{"$f":"IF(SISWA!E15=0,\"\",SISWA!E15)","v":"CHAKIM"},71,76,81,79,83,78,65,78,71.5,75.833333333333329]
[9,{"$f":"IF(SISWA!B16=0,\"\",SISWA!B16)","v":4275},{"$f":"IF(SISWA!C16=0,\"\",SISWA!C16)","v":"0078199679"},{"$f":"IF(SISWA!D16=0,\"\",SISWA!D16)","v":"1-18-05-80-162-009-9"},{"$f":"IF(SISWA!E16=0,\"\",SISWA!E16)","v":"HANIK APRILIA SARI"},81,81,80,80,81,80.599999999999994,65,80.599999999999994,72.8,78]
[10,{"$f":"IF(SISWA!B17=0,\"\",SISWA!B17)","v":"4238"},{"$f":"IF(SISWA!C17=0,\"\",SISWA!C17)","v":"0051503260"},{"$f":"IF(SISWA!D17=0,\"\",SISWA!D17)","v":"1-18-05-80-162-010-8"},{"$f":"IF(SISWA!E17=0,\"\",SISWA!E17)","v":"DESI NATALIA SAPUTRI"},71,76,80,80,84,78.2,68,78.2,73.099999999999994,76.5]
[11,{"$f":"IF(SISWA!B18=0,\"\",SISWA!B18)","v":4391},{"$f":"IF(SISWA!C18=0,\"\",SISWA!C18)","v":"0079418518"},{"$f":"IF(SISWA!D18=0,\"\",SISWA!D18)","v":"1-18-05-80-162-011-7"},{"$f":"IF(SISWA!E18=0,\"\",SISWA!E18)","v":"HIDAYATUL KHUMAINIA"},71,76,80,79,81,77.400000000000006,65,77.400000000000006,71.2,75.333333333333329]
[12,{"$f":"IF(SISWA!B19=0,\"\",SISWA!B19)","v":4274},{"$f":"IF(SISWA!C19=0,\"\",SISWA!C19)","v":"0077670297"},{"$f":"IF(SISWA!D19=0,\"\",SISWA!D19)","v":"1-18-05-80-162-012-6"},{"$f":"IF(SISWA!E19=0,\"\",SISWA!E19)","v":"DWITA FITA WULANDARI"},74,77,80,79,84,78.8,74,78.8,76.400000000000006,78]
[13,{"$f":"IF(SISWA!B20=0,\"\",SISWA!B20)","v":4276},{"$f":"IF(SISWA!C20=0,\"\",SISWA!C20)","v":"0067236848"},{"$f":"IF(SISWA!D20=0,\"\",SISWA!D20)","v":"1-18-05-80-162-013-5"},{"$f":"IF(SISWA!E20=0,\"\",SISWA!E20)","v":"IZZA ILMIA AZZAHRA"},82,80,80,80,84,81.2,65,81.2,73.099999999999994,78.5]
[14,{"$f":"IF(SISWA!B21=0,\"\",SISWA!B21)","v":4303},{"$f":"IF(SISWA!C21=0,\"\",SISWA!C21)","v":"0064031376"},{"$f":"IF(SISWA!D21=0,\"\",SISWA!D21)","v":"1-18-05-80-162-014-4"},{"$f":"IF(SISWA!E21=0,\"\",SISWA!E21)","v":"FARIDATUS SAHDIAH"},73,76,80,79,87,79,65,79,72,76.666666666666671]
[15,{"$f":"IF(SISWA!B22=0,\"\",SISWA!B22)","v":4278},{"$f":"IF(SISWA!C22=0,\"\",SISWA!C22)","v":"0079672823"},{"$f":"IF(SISWA!D22=0,\"\",SISWA!D22)","v":"1-18-05-80-162-015-3"},{"$f":"IF(SISWA!E22=0,\"\",SISWA!E22)","v":"KHARISYA AZZAHRO"},88,83,86,86,90,86.6,65,86.6,75.8,83]
[16,{"$f":"IF(SISWA!B23=0,\"\",SISWA!B23)","v":4277},{"$f":"IF(SISWA!C23=0,\"\",SISWA!C23)","v":"0077101453"},{"$f":"IF(SISWA!D23=0,\"\",SISWA!D23)","v":"1-18-05-80-162-016-2"},{"$f":"IF(SISWA!E23=0,\"\",SISWA!E23)","v":"KARINA FEBBY CAHYA AMILIA"},82,81,80,80,86,81.8,65,81.8,73.400000000000006,79]
[17,{"$f":"IF(SISWA!B24=0,\"\",SISWA!B24)","v":4601},{"$f":"IF(SISWA!C24=0,\"\",SISWA!C24)","v":"0069718082"},{"$f":"IF(SISWA!D24=0,\"\",SISWA!D24)","v":"1-18-05-80-162-017-9"},{"$f":"IF(SISWA!E24=0,\"\",SISWA!E24)","v":"MOCHAMAD RIFKY ROSAN"},81,83,80,83,86,82.6,65,82.6,73.8,79.666666666666671]
[18,{"$f":"IF(SISWA!B25=0,\"\",SISWA!B25)","v":"4241"},{"$f":"IF(SISWA!C25=0,\"\",SISWA!C25)","v":"0057006145"},{"$f":"IF(SISWA!D25=0,\"\",SISWA!D25)","v":"1-18-05-80-162-018-8"},{"$f":"IF(SISWA!E25=0,\"\",SISWA!E25)","v":"KHUSNI CAHYONO"},72,76,80,79,81,77.599999999999994,65,77.599999999999994,71.3,75.5]
[19,{"$f":"IF(SISWA!B26=0,\"\",SISWA!B26)","v":4280},{"$f":"IF(SISWA!C26=0,\"\",SISWA!C26)","v":"0062061356"},{"$f":"IF(SISWA!D26=0,\"\",SISWA!D26)","v":"1-18-05-80-162-019-7"},{"$f":"IF(SISWA!E26=0,\"\",SISWA!E26)","v":"MUCHAMMAD ALIEF FERDIANSYAH"},81,82,83,82,86,82.8,65,82.8,73.900000000000006,79.833333333333329]
[20,{"$f":"IF(SISWA!B27=0,\"\",SISWA!B27)","v":4306},{"$f":"IF(SISWA!C27=0,\"\",SISWA!C27)","v":"0069095925"},{"$f":"IF(SISWA!D27=0,\"\",SISWA!D27)","v":"1-18-05-80-162-020-6"},{"$f":"IF(SISWA!E27=0,\"\",SISWA!E27)","v":"LENNY AGUSTIN NINGTYAS"},69,77,80,79,83,77.599999999999994,77,77.599999999999994,77.3,77.5]
[21,{"$f":"IF(SISWA!B28=0,\"\",SISWA!B28)","v":4281},{"$f":"IF(SISWA!C28=0,\"\",SISWA!C28)","v":"0069153972"},{"$f":"IF(SISWA!D28=0,\"\",SISWA!D28)","v":"1-18-05-80-162-021-5"},{"$f":"IF(SISWA!E28=0,\"\",SISWA!E28)","v":"MUHAMMAD AGUS ANDRIANTO"},80,81,83,85,83,82.4,65,82.4,73.7,79.5]
[22,{"$f":"IF(SISWA!B29=0,\"\",SISWA!B29)","v":4308},{"$f":"IF(SISWA!C29=0,\"\",SISWA!C29)","v":"0063078335"},{"$f":"IF(SISWA!D29=0,\"\",SISWA!D29)","v":"1-18-05-80-162-022-4"},{"$f":"IF(SISWA!E29=0,\"\",SISWA!E29)","v":"MAURIS HIDAYATUR ROCHMAN"},80,80,80,81,83,80.8,65,80.8,72.900000000000006,78.166666666666671]
[23,{"$f":"IF(SISWA!B30=0,\"\",SISWA!B30)","v":4314},{"$f":"IF(SISWA!C30=0,\"\",SISWA!C30)","v":"0072178353"},{"$f":"IF(SISWA!D30=0,\"\",SISWA!D30)","v":"1-18-05-80-162-023-3"},{"$f":"IF(SISWA!E30=0,\"\",SISWA!E30)","v":"MUHAMMAD BISMAR TAUFIQUROHMAN"},75,77,80,81,82,79,65,79,72,76.666666666666671]
[24,{"$f":"IF(SISWA!B31=0,\"\",SISWA!B31)","v":4309},{"$f":"IF(SISWA!C31=0,\"\",SISWA!C31)","v":"0072198448"},{"$f":"IF(SISWA!D31=0,\"\",SISWA!D31)","v":"1-18-05-80-162-024-2"},{"$f":"IF(SISWA!E31=0,\"\",SISWA!E31)","v":"MAYA BUNGA ANJANI"},72,77,80,80,84,78.599999999999994,65,78.599999999999994,71.8,76.333333333333329]
[25,{"$f":"IF(SISWA!B32=0,\"\",SISWA!B32)","v":4320},{"$f":"IF(SISWA!C32=0,\"\",SISWA!C32)","v":"0064566227"},{"$f":"IF(SISWA!D32=0,\"\",SISWA!D32)","v":"1-18-05-80-162-025-9"},{"$f":"IF(SISWA!E32=0,\"\",SISWA!E32)","v":"MUHAMMAD SAHLAN SHODIQ"},78,77,82,81,84,80.400000000000006,76,80.400000000000006,78.2,79.666666666666671]
[26,{"$f":"IF(SISWA!B33=0,\"\",SISWA!B33)","v":4279},{"$f":"IF(SISWA!C33=0,\"\",SISWA!C33)","v":"0066637092"},{"$f":"IF(SISWA!D33=0,\"\",SISWA!D33)","v":"1-18-05-80-162-026-8"},{"$f":"IF(SISWA!E33=0,\"\",SISWA!E33)","v":"MITA SEPTIANI ISLAMIA"},72,77,80,80,86,79,65,79,72,76.666666666666671]
[27,{"$f":"IF(SISWA!B34=0,\"\",SISWA!B34)","v":4321},{"$f":"IF(SISWA!C34=0,\"\",SISWA!C34)","v":"0061244045"},{"$f":"IF(SISWA!D34=0,\"\",SISWA!D34)","v":"1-18-05-80-162-027-7"},{"$f":"IF(SISWA!E34=0,\"\",SISWA!E34)","v":"MUHAMMAD SEPTYAN EKA PRATAMA"},82,82,80,85,83,82.4,72,82.4,77.2,80.666666666666671]
[28,{"$f":"IF(SISWA!B35=0,\"\",SISWA!B35)","v":"4247"},{"$f":"IF(SISWA!C35=0,\"\",SISWA!C35)","v":"0053546157"},{"$f":"IF(SISWA!D35=0,\"\",SISWA!D35)","v":"1-18-05-80-162-028-6"},{"$f":"IF(SISWA!E35=0,\"\",SISWA!E35)","v":"MOCHAMAD ARIEL FRANS TITO"},72,77,80,80,82,78.2,65,78.2,71.599999999999994,76]
[29,{"$f":"IF(SISWA!B36=0,\"\",SISWA!B36)","v":4285},{"$f":"IF(SISWA!C36=0,\"\",SISWA!C36)","v":"0067871553"},{"$f":"IF(SISWA!D36=0,\"\",SISWA!D36)","v":"1-18-05-80-162-029-5"},{"$f":"IF(SISWA!E36=0,\"\",SISWA!E36)","v":"MUHAMMAD VERYANSYAH"},80,80,83,84,85,82.4,65,82.4,73.7,79.5]
[30,{"$f":"IF(SISWA!B37=0,\"\",SISWA!B37)","v":4310},{"$f":"IF(SISWA!C37=0,\"\",SISWA!C37)","v":"0066383678"},{"$f":"IF(SISWA!D37=0,\"\",SISWA!D37)","v":"1-18-05-80-162-030-4"},{"$f":"IF(SISWA!E37=0,\"\",SISWA!E37)","v":"MOCHAMMAD BIMA RISFANDA"},70,77,86,85,86,80.8,65,80.8,72.900000000000006,78.166666666666671]
[31,{"$f":"IF(SISWA!B38=0,\"\",SISWA!B38)","v":4286},{"$f":"IF(SISWA!C38=0,\"\",SISWA!C38)","v":"0064443822"},{"$f":"IF(SISWA!D38=0,\"\",SISWA!D38)","v":"1-18-05-80-162-031-3"},{"$f":"IF(SISWA!E38=0,\"\",SISWA!E38)","v":"MUHAMMAD ZIDNY NA'IM"},84,83,84,85,87,84.6,65,84.6,74.8,81.333333333333329]
[32,{"$f":"IF(SISWA!B39=0,\"\",SISWA!B39)","v":4282},{"$f":"IF(SISWA!C39=0,\"\",SISWA!C39)","v":"0068336765"},{"$f":"IF(SISWA!D39=0,\"\",SISWA!D39)","v":"1-18-05-80-162-032-2"},{"$f":"IF(SISWA!E39=0,\"\",SISWA!E39)","v":"MUHAMMAD AGUS FERDIANSYAH"},80,80,82,82,84,81.599999999999994,68,81.599999999999994,74.8,79.333333333333329]
[33,{"$f":"IF(SISWA!B40=0,\"\",SISWA!B40)","v":4287},{"$f":"IF(SISWA!C40=0,\"\",SISWA!C40)","v":"0064528717"},{"$f":"IF(SISWA!D40=0,\"\",SISWA!D40)","v":"1-18-05-80-162-033-9"},{"$f":"IF(SISWA!E40=0,\"\",SISWA!E40)","v":"MUHAMMAD FARDAN ABDILLAH"},83,null,83,81,null,82.333333333333329,65,82.333333333333329,73.666666666666657,78]
[34,{"$f":"IF(SISWA!B41=0,\"\",SISWA!B41)","v":4315},{"$f":"IF(SISWA!C41=0,\"\",SISWA!C41)","v":"0067870495"},{"$f":"IF(SISWA!D41=0,\"\",SISWA!D41)","v":"1-18-05-80-162-034-8"},{"$f":"IF(SISWA!E41=0,\"\",SISWA!E41)","v":"NABILA ARISKA PUTRI"},82,80,80,82,82,81.2,65,81.2,73.099999999999994,78.5]
[35,{"$f":"IF(SISWA!B42=0,\"\",SISWA!B42)","v":4288},{"$f":"IF(SISWA!C42=0,\"\",SISWA!C42)","v":"0068641191"},{"$f":"IF(SISWA!D42=0,\"\",SISWA!D42)","v":"1-18-05-80-162-035-7"},{"$f":"IF(SISWA!E42=0,\"\",SISWA!E42)","v":"MUHAMMAD FERDINAN JAYYIDAH RIFQI"},80,80,80,80,84,80.8,65,80.8,72.900000000000006,78.166666666666671]
[36,{"$f":"IF(SISWA!B43=0,\"\",SISWA!B43)","v":4283},{"$f":"IF(SISWA!C43=0,\"\",SISWA!C43)","v":"0077212388"},{"$f":"IF(SISWA!D43=0,\"\",SISWA!D43)","v":"1-18-05-80-162-036-6"},{"$f":"IF(SISWA!E43=0,\"\",SISWA!E43)","v":"NAFISA INDRIANI"},82,82,82,80,85,82.2,76,82.2,79.099999999999994,81.166666666666671]
[37,{"$f":"IF(SISWA!B44=0,\"\",SISWA!B44)","v":"4257"},{"$f":"IF(SISWA!C44=0,\"\",SISWA!C44)","v":"0069944706"},{"$f":"IF(SISWA!D44=0,\"\",SISWA!D44)","v":"1-18-05-80-162-037-5"},{"$f":"IF(SISWA!E44=0,\"\",SISWA!E44)","v":"MUHAMMAD FIRMANSYAH"},73,76,83,82,82,79.2,65,79.2,72.099999999999994,76.833333333333329]
[38,{"$f":"IF(SISWA!B45=0,\"\",SISWA!B45)","v":4317},{"$f":"IF(SISWA!C45=0,\"\",SISWA!C45)","v":"0068498059"},{"$f":"IF(SISWA!D45=0,\"\",SISWA!D45)","v":"1-18-05-80-162-038-4"},{"$f":"IF(SISWA!E45=0,\"\",SISWA!E45)","v":"NAJWA FARISYA BAROROH"},78,77,80,80,83,79.599999999999994,65,79.599999999999994,72.3,77.166666666666671]
[39,{"$f":"IF(SISWA!B46=0,\"\",SISWA!B46)","v":4289},{"$f":"IF(SISWA!C46=0,\"\",SISWA!C46)","v":"0065225517"},{"$f":"IF(SISWA!D46=0,\"\",SISWA!D46)","v":"1-18-05-80-162-039-3"},{"$f":"IF(SISWA!E46=0,\"\",SISWA!E46)","v":"NUR FITRIYAH"},79,80,80,80,84,80.599999999999994,65,80.599999999999994,72.8,78]
[40,{"$f":"IF(SISWA!B47=0,\"\",SISWA!B47)","v":4318},{"$f":"IF(SISWA!C47=0,\"\",SISWA!C47)","v":"0061441364"},{"$f":"IF(SISWA!D47=0,\"\",SISWA!D47)","v":"1-18-05-80-162-040-2"},{"$f":"IF(SISWA!E47=0,\"\",SISWA!E47)","v":"MUHAMMAD HILDAN DWI SAPUTRA"},73,7,80,80,83,64.599999999999994,65,64.599999999999994,64.8,64.666666666666671]
[41,{"$f":"IF(SISWA!B48=0,\"\",SISWA!B48)","v":4392},{"$f":"IF(SISWA!C48=0,\"\",SISWA!C48)","v":"0075794532"},{"$f":"IF(SISWA!D48=0,\"\",SISWA!D48)","v":"1-18-05-80-162-041-9"},{"$f":"IF(SISWA!E48=0,\"\",SISWA!E48)","v":"PUTRI NAFI'ATUS SOLIKHAH"},73,77,80,80,84,78.8,65,78.8,71.900000000000006,76.5]
[42,{"$f":"IF(SISWA!B49=0,\"\",SISWA!B49)","v":4284},{"$f":"IF(SISWA!C49=0,\"\",SISWA!C49)","v":"0069578000"},{"$f":"IF(SISWA!D49=0,\"\",SISWA!D49)","v":"1-18-05-80-162-042-8"},{"$f":"IF(SISWA!E49=0,\"\",SISWA!E49)","v":"MUHAMMAD RAYA KAFAF JAUHARI"},80,80,81,80,86,81.400000000000006,65,81.400000000000006,73.2,78.666666666666671]
[43,{"$f":"IF(SISWA!B50=0,\"\",SISWA!B50)","v":4290},{"$f":"IF(SISWA!C50=0,\"\",SISWA!C50)","v":"0063558216"},{"$f":"IF(SISWA!D50=0,\"\",SISWA!D50)","v":"1-18-05-80-162-043-7"},{"$f":"IF(SISWA!E50=0,\"\",SISWA!E50)","v":"QORIATUN SHOLIHAH"},81,81,80,81,82,81,65,81,73,78.333333333333329]
[44,{"$f":"IF(SISWA!B51=0,\"\",SISWA!B51)","v":4319},{"$f":"IF(SISWA!C51=0,\"\",SISWA!C51)","v":"0065329770"},{"$f":"IF(SISWA!D51=0,\"\",SISWA!D51)","v":"1-18-05-80-162-044-6"},{"$f":"IF(SISWA!E51=0,\"\",SISWA!E51)","v":"MUHAMMAD RUDI TANTOWIK"},72,76,80,81,86,79,86,79,82.5,80.166666666666671]
[45,{"$f":"IF(SISWA!B52=0,\"\",SISWA!B52)","v":4291},{"$f":"IF(SISWA!C52=0,\"\",SISWA!C52)","v":"0067071679"},{"$f":"IF(SISWA!D52=0,\"\",SISWA!D52)","v":"1-18-05-80-162-045-5"},{"$f":"IF(SISWA!E52=0,\"\",SISWA!E52)","v":"RACHMAD HIDAYAT"},79,80,84,84,84,82.2,65,82.2,73.599999999999994,79.333333333333329]
[46,{"$f":"IF(SISWA!B53=0,\"\",SISWA!B53)","v":4322},{"$f":"IF(SISWA!C53=0,\"\",SISWA!C53)","v":"0051101989"},{"$f":"IF(SISWA!D53=0,\"\",SISWA!D53)","v":"1-18-05-80-162-046-4"},{"$f":"IF(SISWA!E53=0,\"\",SISWA!E53)","v":"MUHAMMAD ZULDIENUR HABIBIE"},69,76,79,80,83,77.400000000000006,65,77.400000000000006,71.2,75.333333333333329]
[47,{"$f":"IF(SISWA!B54=0,\"\",SISWA!B54)","v":4292},{"$f":"IF(SISWA!C54=0,\"\",SISWA!C54)","v":"0072001696"},{"$f":"IF(SISWA!D54=0,\"\",SISWA!D54)","v":"1-18-05-80-162-047-3"},{"$f":"IF(SISWA!E54=0,\"\",SISWA!E54)","v":"RHEA RAYSHANADA NUGRAHA"},83,81,83,82,86,83,65,83,74,80]
[48,{"$f":"IF(SISWA!B55=0,\"\",SISWA!B55)","v":4323},{"$f":"IF(SISWA!C55=0,\"\",SISWA!C55)","v":"0078949167"},{"$f":"IF(SISWA!D55=0,\"\",SISWA!D55)","v":"1-18-05-80-162-048-2"},{"$f":"IF(SISWA!E55=0,\"\",SISWA!E55)","v":"MUKHAMAD KHOIRUL AMIN"},72,76,80,79,83,78,65,78,71.5,75.833333333333329]
[49,{"$f":"IF(SISWA!B56=0,\"\",SISWA!B56)","v":4293},{"$f":"IF(SISWA!C56=0,\"\",SISWA!C56)","v":"0064217705"},{"$f":"IF(SISWA!D56=0,\"\",SISWA!D56)","v":"1-18-05-80-162-049-9"},{"$f":"IF(SISWA!E56=0,\"\",SISWA!E56)","v":"RIYANTI APRILIA"},82,81,80,80,81,80.8,65,80.8,72.900000000000006,78.166666666666671]
[50,{"$f":"IF(SISWA!B57=0,\"\",SISWA!B57)","v":"4256"},{"$f":"IF(SISWA!C57=0,\"\",SISWA!C57)","v":"0065699742"},{"$f":"IF(SISWA!D57=0,\"\",SISWA!D57)","v":"1-18-05-80-162-050-8"},{"$f":"IF(SISWA!E57=0,\"\",SISWA!E57)","v":"MUKHAMMAD YAASIIN HASAN KHASBULLOH"},74,77,80,81,82,78.8,65,78.8,71.900000000000006,76.5]
[51,{"$f":"IF(SISWA!B58=0,\"\",SISWA!B58)","v":4295},{"$f":"IF(SISWA!C58=0,\"\",SISWA!C58)","v":"0061359184"},{"$f":"IF(SISWA!D58=0,\"\",SISWA!D58)","v":"1-18-05-80-162-051-7"},{"$f":"IF(SISWA!E58=0,\"\",SISWA!E58)","v":"SHONIA AULIA AS'AD"},82,82,80,79,84,81.400000000000006,65,81.400000000000006,73.2,78.666666666666671]
[52,{"$f":"IF(SISWA!B59=0,\"\",SISWA!B59)","v":4294},{"$f":"IF(SISWA!C59=0,\"\",SISWA!C59)","v":"0064723905"},{"$f":"IF(SISWA!D59=0,\"\",SISWA!D59)","v":"1-18-05-80-162-052-6"},{"$f":"IF(SISWA!E59=0,\"\",SISWA!E59)","v":"RIZKA AYU WULANDARI"},79,81,80,80,83,80.599999999999994,65,80.599999999999994,72.8,78]
[53,{"$f":"IF(SISWA!B60=0,\"\",SISWA!B60)","v":4298},{"$f":"IF(SISWA!C60=0,\"\",SISWA!C60)","v":"0065530554"},{"$f":"IF(SISWA!D60=0,\"\",SISWA!D60)","v":"1-18-05-80-162-053-5"},{"$f":"IF(SISWA!E60=0,\"\",SISWA!E60)","v":"VERLINA DWI MAULANI"},81,82,80,83,86,82.4,65,82.4,73.7,79.5]
[54,{"$f":"IF(SISWA!B61=0,\"\",SISWA!B61)","v":4297},{"$f":"IF(SISWA!C61=0,\"\",SISWA!C61)","v":"0063846732"},{"$f":"IF(SISWA!D61=0,\"\",SISWA!D61)","v":"1-18-05-80-162-054-4"},{"$f":"IF(SISWA!E61=0,\"\",SISWA!E61)","v":"USWATUN KHASANAH"},75,77,82,80,85,79.8,65,79.8,72.400000000000006,77.333333333333329]
[55,{"$f":"IF(SISWA!B62=0,\"\",SISWA!B62)","v":4324},{"$f":"IF(SISWA!C62=0,\"\",SISWA!C62)","v":"0078966795"},{"$f":"IF(SISWA!D62=0,\"\",SISWA!D62)","v":"1-18-05-80-162-055-3"},{"$f":"IF(SISWA!E62=0,\"\",SISWA!E62)","v":"VIKA KUSUMA WATI"},76,77,82,82,84,80.2,65,80.2,72.599999999999994,77.666666666666671]
[56,{"$f":"IF(SISWA!B63=0,\"\",SISWA!B63)","v":4326},{"$f":"IF(SISWA!C63=0,\"\",SISWA!C63)","v":"0064124533"},{"$f":"IF(SISWA!D63=0,\"\",SISWA!D63)","v":"1-18-05-80-162-056-2"},{"$f":"IF(SISWA!E63=0,\"\",SISWA!E63)","v":"YOHAN EGA GILANG PERMANA"},72,null,80,81,83,79,65,79,72,76.2]
[57,{"$f":"IF(SISWA!B64=0,\"\",SISWA!B64)","v":""},{"$f":"IF(SISWA!C64=0,\"\",SISWA!C64)","v":""},{"$f":"IF(SISWA!D64=0,\"\",SISWA!D64)","v":"1-18-05-80-162-057-9"},{"$f":"IF(SISWA!E64=0,\"\",SISWA!E64)","v":""},null,null,null,null,null,{"$f":"AVERAGE(F64:J64)","v":{"$error":"#DIV/0!"}},null,{"$f":"K64","v":{"$error":"#DIV/0!"}},{"$f":"AVERAGE(L64:M64)","v":{"$error":"#DIV/0!"}}]
[58,{"$f":"IF(SISWA!B65=0,\"\",SISWA!B65)","v":""},{"$f":"IF(SISWA!C65=0,\"\",SISWA!C65)","v":""},{"$f":"IF(SISWA!D65=0,\"\",SISWA!D65)","v":"1-18-05-80-162-058-8"},{"$f":"IF(SISWA!E65=0,\"\",SISWA!E65)","v":""},null,null,null,null,null,{"$error":"#DIV/0!"},null,null,{"$error":"#DIV/0!"}]
[59,{"$f":"IF(SISWA!B66=0,\"\",SISWA!B66)","v":""},{"$f":"IF(SISWA!C66=0,\"\",SISWA!C66)","v":""},{"$f":"IF(SISWA!D66=0,\"\",SISWA!D66)","v":"1-18-05-80-162-059-7"},{"$f":"IF(SISWA!E66=0,\"\",SISWA!E66)","v":""},null,null,null,null,null,{"$error":"#DIV/0!"},null,null,{"$error":"#DIV/0!"}]
[60,{"$f":"IF(SISWA!B67=0,\"\",SISWA!B67)","v":""},{"$f":"IF(SISWA!C67=0,\"\",SISWA!C67)","v":""},{"$f":"IF(SISWA!D67=0,\"\",SISWA!D67)","v":"1-18-05-80-162-060-6"},{"$f":"IF(SISWA!E67=0,\"\",SISWA!E67)","v":""},null,null,null,null,null,{"$error":"#DIV/0!"},null,null,{"$error":"#DIV/0!"}]
[61,{"$f":"IF(SISWA!B68=0,\"\",SISWA!B68)","v":""},{"$f":"IF(SISWA!C68=0,\"\",SISWA!C68)","v":""},{"$f":"IF(SISWA!D68=0,\"\",SISWA!D68)","v":"1-18-05-80-162-061-5"},{"$f":"IF(SISWA!E68=0,\"\",SISWA!E68)","v":""},null,null,null,null,null,{"$f":"AVERAGE(F68:J68)","v":{"$error":"#DIV/0!"}},null,null,{"$error":"#DIV/0!"}]
[62,{"$f":"IF(SISWA!B69=0,\"\",SISWA!B69)","v":""},{"$f":"IF(SISWA!C69=0,\"\",SISWA!C69)","v":""},{"$f":"IF(SISWA!D69=0,\"\",SISWA!D69)","v":"062-4"},{"$f":"IF(SISWA!E69=0,\"\",SISWA!E69)","v":""},null,null,null,null,null,{"$error":"#DIV/0!"},null,null,{"$error":"#DIV/0!"}]
[63,{"$f":"IF(SISWA!B70=0,\"\",SISWA!B70)","v":""},{"$f":"IF(SISWA!C70=0,\"\",SISWA!C70)","v":""},{"$f":"IF(SISWA!D70=0,\"\",SISWA!D70)","v":"063-3"},{"$f":"IF(SISWA!E70=0,\"\",SISWA!E70)","v":""},null,null,null,null,null,{"$error":"#DIV/0!"},null,null,{"$error":"#DIV/0!"}]
[64,{"$f":"IF(SISWA!B71=0,\"\",SISWA!B71)","v":""},{"$f":"IF(SISWA!C71=0,\"\",SISWA!C71)","v":""},{"$f":"IF(SISWA!D71=0,\"\",SISWA!D71)","v":"064-2"},{"$f":"IF(SISWA!E71=0,\"\",SISWA!E71)","v":""},null,null,null,null,null,{"$error":"#DIV/0!"},null,null,{"$error":"#DIV/0!"}]
[65,{"$f":"IF(SISWA!B72=0,\"\",SISWA!B72)","v":""},{"$f":"IF(SISWA!C72=0,\"\",SISWA!C72)","v":""},{"$f":"IF(SISWA!D72=0,\"\",SISWA!D72)","v":"065-"},{"$f":"IF(SISWA!E72=0,\"\",SISWA!E72)","v":""},null,null,null,null,null,{"$error":"#DIV/0!"},null,null,{"$error":"#DIV/0!"}]
[66,{"$f":"IF(SISWA!B73=0,\"\",SISWA!B73)","v":""},{"$f":"IF(SISWA!C73=0,\"\",SISWA!C73)","v":""},{"$f":"IF(SISWA!D73=0,\"\",SISWA!D73)","v":"066-"},{"$f":"IF(SISWA!E73=0,\"\",SISWA!E73)","v":""},null,null,null,null,null,{"$error":"#DIV/0!"},null,null,{"$f":"AVERAGE(L73:M73)","v":{"$error":"#DIV/0!"}}]
[67,{"$f":"IF(SISWA!B74=0,\"\",SISWA!B74)","v":""},{"$f":"IF(SISWA!C74=0,\"\",SISWA!C74)","v":""},{"$f":"IF(SISWA!D74=0,\"\",SISWA!D74)","v":"067-"},{"$f":"IF(SISWA!E74=0,\"\",SISWA!E74)","v":""},null,null,null,null,null,{"$error":"#DIV/0!"},null,null,{"$error":"#DIV/0!"}]
[68,{"$f":"IF(SISWA!B75=0,\"\",SISWA!B75)","v":""},{"$f":"IF(SISWA!C75=0,\"\",SISWA!C75)","v":""},{"$f":"IF(SISWA!D75=0,\"\",SISWA!D75)","v":"068-"},{"$f":"IF(SISWA!E75=0,\"\",SISWA!E75)","v":""},null,null,null,null,null,{"$error":"#DIV/0!"},null,null,{"$error":"#DIV/0!"}]
[69,{"$f":"IF(SISWA!B76=0,\"\",SISWA!B76)","v":""},{"$f":"IF(SISWA!C76=0,\"\",SISWA!C76)","v":""},{"$f":"IF(SISWA!D76=0,\"\",SISWA!D76)","v":"069-"},{"$f":"IF(SISWA!E76=0,\"\",SISWA!E76)","v":""},null,null,null,null,null,{"$error":"#DIV/0!"},null,null,{"$error":"#DIV/0!"}]
[70,{"$f":"IF(SISWA!B77=0,\"\",SISWA!B77)","v":""},{"$f":"IF(SISWA!C77=0,\"\",SISWA!C77)","v":""},{"$f":"IF(SISWA!D77=0,\"\",SISWA!D77)","v":"070-"},{"$f":"IF(SISWA!E77=0,\"\",SISWA!E77)","v":""},null,null,null,null,null,{"$error":"#DIV/0!"},null,null,{"$error":"#DIV/0!"}]
[71,{"$f":"IF(SISWA!B78=0,\"\",SISWA!B78)","v":""},{"$f":"IF(SISWA!C78=0,\"\",SISWA!C78)","v":""},{"$f":"IF(SISWA!D78=0,\"\",SISWA!D78)","v":"071-"},{"$f":"IF(SISWA!E78=0,\"\",SISWA!E78)","v":""},null,null,null,null,null,{"$error":"#DIV/0!"},null,null,{"$error":"#DIV/0!"}]
[72,{"$f":"IF(SISWA!B79=0,\"\",SISWA!B79)","v":""},{"$f":"IF(SISWA!C79=0,\"\",SISWA!C79)","v":""},{"$f":"IF(SISWA!D79=0,\"\",SISWA!D79)","v":"072-"},{"$f":"IF(SISWA!E79=0,\"\",SISWA!E79)","v":""},null,null,null,null,null,{"$error":"#DIV/0!"},null,null,{"$error":"#DIV/0!"}]
[73,{"$f":"IF(SISWA!B80=0,\"\",SISWA!B80)","v":""},{"$f":"IF(SISWA!C80=0,\"\",SISWA!C80)","v":""},{"$f":"IF(SISWA!D80=0,\"\",SISWA!D80)","v":"073-"},{"$f":"IF(SISWA!E80=0,\"\",SISWA!E80)","v":""},null,null,null,null,null,{"$error":"#DIV/0!"},null,null,{"$error":"#DIV/0!"}]
[74,{"$f":"IF(SISWA!B81=0,\"\",SISWA!B81)","v":""},{"$f":"IF(SISWA!C81=0,\"\",SISWA!C81)","v":""},{"$f":"IF(SISWA!D81=0,\"\",SISWA!D81)","v":"074-"},{"$f":"IF(SISWA!E81=0,\"\",SISWA!E81)","v":""},null,null,null,null,null,{"$error":"#DIV/0!"},null,null,{"$error":"#DIV/0!"}]
[75,{"$f":"IF(SISWA!B82=0,\"\",SISWA!B82)","v":""},{"$f":"IF(SISWA!C82=0,\"\",SISWA!C82)","v":""},{"$f":"IF(SISWA!D82=0,\"\",SISWA!D82)","v":"075-"},{"$f":"IF(SISWA!E82=0,\"\",SISWA!E82)","v":""},null,null,null,null,null,{"$error":"#DIV/0!"},null,null,{"$error":"#DIV/0!"}]
[76,{"$f":"IF(SISWA!B83=0,\"\",SISWA!B83)","v":""},{"$f":"IF(SISWA!C83=0,\"\",SISWA!C83)","v":""},{"$f":"IF(SISWA!D83=0,\"\",SISWA!D83)","v":"076-"},{"$f":"IF(SISWA!E83=0,\"\",SISWA!E83)","v":""},null,null,null,null,null,{"$error":"#DIV/0!"},null,null,{"$error":"#DIV/0!"}]
[77,{"$f":"IF(SISWA!B84=0,\"\",SISWA!B84)","v":""},{"$f":"IF(SISWA!C84=0,\"\",SISWA!C84)","v":""},{"$f":"IF(SISWA!D84=0,\"\",SISWA!D84)","v":"077-"},{"$f":"IF(SISWA!E84=0,\"\",SISWA!E84)","v":""},null,null,null,null,null,{"$error":"#DIV/0!"},null,null,{"$error":"#DIV/0!"}]
[78,{"$f":"IF(SISWA!B85=0,\"\",SISWA!B85)","v":""},{"$f":"IF(SISWA!C85=0,\"\",SISWA!C85)","v":""},{"$f":"IF(SISWA!D85=0,\"\",SISWA!D85)","v":"078-"},{"$f":"IF(SISWA!E85=0,\"\",SISWA!E85)","v":""},null,null,null,null,null,{"$error":"#DIV/0!"},null,null,{"$error":"#DIV/0!"}]
[79,{"$f":"IF(SISWA!B86=0,\"\",SISWA!B86)","v":""},{"$f":"IF(SISWA!C86=0,\"\",SISWA!C86)","v":""},{"$f":"IF(SISWA!D86=0,\"\",SISWA!D86)","v":"079-"},{"$f":"IF(SISWA!E86=0,\"\",SISWA!E86)","v":""},null,null,null,null,null,{"$error":"#DIV/0!"},null,null,{"$error":"#DIV/0!"}]
[80,{"$f":"IF(SISWA!B87=0,\"\",SISWA!B87)","v":""},{"$f":"IF(SISWA!C87=0,\"\",SISWA!C87)","v":""},{"$f":"IF(SISWA!D87=0,\"\",SISWA!D87)","v":"080-"},{"$f":"IF(SISWA!E87=0,\"\",SISWA!E87)","v":""},null,null,null,null,null,{"$error":"#DIV/0!"},null,null,{"$error":"#DIV/0!"}]
[81,{"$f":"IF(SISWA!B88=0,\"\",SISWA!B88)","v":""},{"$f":"IF(SISWA!C88=0,\"\",SISWA!C88)","v":""},{"$f":"IF(SISWA!D88=0,\"\",SISWA!D88)","v":"081-"},{"$f":"IF(SISWA!E88=0,\"\",SISWA!E88)","v":""},null,null,null,null,null,{"$error":"#DIV/0!"},null,null,{"$error":"#DIV/0!"}]
[82,{"$f":"IF(SISWA!B89=0,\"\",SISWA!B89)","v":""},{"$f":"IF(SISWA!C89=0,\"\",SISWA!C89)","v":""},{"$f":"IF(SISWA!D89=0,\"\",SISWA!D89)","v":"082-"},{"$f":"IF(SISWA!E89=0,\"\",SISWA!E89)","v":""},null,null,null,null,null,{"$error":"#DIV/0!"},null,null,{"$error":"#DIV/0!"}]
[83,{"$f":"IF(SISWA!B90=0,\"\",SISWA!B90)","v":""},{"$f":"IF(SISWA!C90=0,\"\",SISWA!C90)","v":""},{"$f":"IF(SISWA!D90=0,\"\",SISWA!D90)","v":"083-"},{"$f":"IF(SISWA!E90=0,\"\",SISWA!E90)","v":""},null,null,null,null,null,{"$error":"#DIV/0!"},null,null,{"$error":"#DIV/0!"}]
[84,{"$f":"IF(SISWA!B91=0,\"\",SISWA!B91)","v":""},{"$f":"IF(SISWA!C91=0,\"\",SISWA!C91)","v":""},{"$f":"IF(SISWA!D91=0,\"\",SISWA!D91)","v":"084-"},{"$f":"IF(SISWA!E91=0,\"\",SISWA!E91)","v":""},null,null,null,null,null,{"$error":"#DIV/0!"},null,null,{"$error":"#DIV/0!"}]
[85,{"$f":"IF(SISWA!B92=0,\"\",SISWA!B92)","v":""},{"$f":"IF(SISWA!C92=0,\"\",SISWA!C92)","v":""},{"$f":"IF(SISWA!D92=0,\"\",SISWA!D92)","v":"085-"},{"$f":"IF(SISWA!E92=0,\"\",SISWA!E92)","v":""},null,null,null,null,null,{"$error":"#DIV/0!"},null,null,{"$error":"#DIV/0!"}]
[86,{"$f":"IF(SISWA!B93=0,\"\",SISWA!B93)","v":""},{"$f":"IF(SISWA!C93=0,\"\",SISWA!C93)","v":""},{"$f":"IF(SISWA!D93=0,\"\",SISWA!D93)","v":"086-"},{"$f":"IF(SISWA!E93=0,\"\",SISWA!E93)","v":""},null,null,null,null,null,{"$error":"#DIV/0!"},null,null,{"$error":"#DIV/0!"}]
[87,{"$f":"IF(SISWA!B94=0,\"\",SISWA!B94)","v":""},{"$f":"IF(SISWA!C94=0,\"\",SISWA!C94)","v":""},{"$f":"IF(SISWA!D94=0,\"\",SISWA!D94)","v":"087-"},{"$f":"IF(SISWA!E94=0,\"\",SISWA!E94)","v":""},null,null,null,null,null,{"$error":"#DIV/0!"},null,null,{"$error":"#DIV/0!"}]
[88,{"$f":"IF(SISWA!B95=0,\"\",SISWA!B95)","v":""},{"$f":"IF(SISWA!C95=0,\"\",SISWA!C95)","v":""},{"$f":"IF(SISWA!D95=0,\"\",SISWA!D95)","v":"088-"},{"$f":"IF(SISWA!E95=0,\"\",SISWA!E95)","v":""},null,null,null,null,null,{"$error":"#DIV/0!"},null,null,{"$error":"#DIV/0!"}]
[89,{"$f":"IF(SISWA!B96=0,\"\",SISWA!B96)","v":""},{"$f":"IF(SISWA!C96=0,\"\",SISWA!C96)","v":""},{"$f":"IF(SISWA!D96=0,\"\",SISWA!D96)","v":"089-"},{"$f":"IF(SISWA!E96=0,\"\",SISWA!E96)","v":""},null,null,null,null,null,{"$error":"#DIV/0!"},null,null,{"$error":"#DIV/0!"}]
[90,{"$f":"IF(SISWA!B97=0,\"\",SISWA!B97)","v":""},{"$f":"IF(SISWA!C97=0,\"\",SISWA!C97)","v":""},{"$f":"IF(SISWA!D97=0,\"\",SISWA!D97)","v":"090-"},{"$f":"IF(SISWA!E97=0,\"\",SISWA!E97)","v":""},null,null,null,null,null,{"$error":"#DIV/0!"},null,null,{"$error":"#DIV/0!"}]
[91,{"$f":"IF(SISWA!B98=0,\"\",SISWA!B98)","v":""},{"$f":"IF(SISWA!C98=0,\"\",SISWA!C98)","v":""},{"$f":"IF(SISWA!D98=0,\"\",SISWA!D98)","v":"091-"},{"$f":"IF(SISWA!E98=0,\"\",SISWA!E98)","v":""},null,null,null,null,null,{"$error":"#DIV/0!"},null,null,{"$error":"#DIV/0!"}]
[92,{"$f":"IF(SISWA!B99=0,\"\",SISWA!B99)","v":""},{"$f":"IF(SISWA!C99=0,\"\",SISWA!C99)","v":""},{"$f":"IF(SISWA!D99=0,\"\",SISWA!D99)","v":"092-"},{"$f":"IF(SISWA!E99=0,\"\",SISWA!E99)","v":""},null,null,null,null,null,{"$error":"#DIV/0!"},null,null,{"$error":"#DIV/0!"}]
[93,{"$f":"IF(SISWA!B100=0,\"\",SISWA!B100)","v":""},{"$f":"IF(SISWA!C100=0,\"\",SISWA!C100)","v":""},{"$f":"IF(SISWA!D100=0,\"\",SISWA!D100)","v":"093-"},{"$f":"IF(SISWA!E100=0,\"\",SISWA!E100)","v":""},null,null,null,null,null,{"$error":"#DIV/0!"},null,null,{"$error":"#DIV/0!"}]
[94,{"$f":"IF(SISWA!B101=0,\"\",SISWA!B101)","v":""},{"$f":"IF(SISWA!C101=0,\"\",SISWA!C101)","v":""},{"$f":"IF(SISWA!D101=0,\"\",SISWA!D101)","v":"094-"},{"$f":"IF(SISWA!E101=0,\"\",SISWA!E101)","v":""},null,null,null,null,null,{"$error":"#DIV/0!"},null,null,{"$error":"#DIV/0!"}]
[95,{"$f":"IF(SISWA!B102=0,\"\",SISWA!B102)","v":""},{"$f":"IF(SISWA!C102=0,\"\",SISWA!C102)","v":""},{"$f":"IF(SISWA!D102=0,\"\",SISWA!D102)","v":"095-"},{"$f":"IF(SISWA!E102=0,\"\",SISWA!E102)","v":""},null,null,null,null,null,{"$error":"#DIV/0!"},null,null,{"$error":"#DIV/0!"}]
[96,{"$f":"IF(SISWA!B103=0,\"\",SISWA!B103)","v":""},{"$f":"IF(SISWA!C103=0,\"\",SISWA!C103)","v":""},{"$f":"IF(SISWA!D103=0,\"\",SISWA!D103)","v":"096-"},{"$f":"IF(SISWA!E103=0,\"\",SISWA!E103)","v":""},null,null,null,null,null,{"$error":"#DIV/0!"},null,null,{"$error":"#DIV/0!"}]
[97,{"$f":"IF(SISWA!B104=0,\"\",SISWA!B104)","v":""},{"$f":"IF(SISWA!C104=0,\"\",SISWA!C104)","v":""},{"$f":"IF(SISWA!D104=0,\"\",SISWA!D104)","v":"097-"},{"$f":"IF(SISWA!E104=0,\"\",SISWA!E104)","v":""},null,null,null,null,null,{"$error":"#DIV/0!"},null,null,{"$error":"#DIV/0!"}]
[98,{"$f":"IF(SISWA!B105=0,\"\",SISWA!B105)","v":""},{"$f":"IF(SISWA!C105=0,\"\",SISWA!C105)","v":""},{"$f":"IF(SISWA!D105=0,\"\",SISWA!D105)","v":"098-"},{"$f":"IF(SISWA!E105=0,\"\",SISWA!E105)","v":""},null,null,null,null,null,{"$error":"#DIV/0!"},null,null,{"$error":"#DIV/0!"}]
[99,{"$f":"IF(SISWA!B106=0,\"\",SISWA!B106)","v":""},{"$f":"IF(SISWA!C106=0,\"\",SISWA!C106)","v":""},{"$f":"IF(SISWA!D106=0,\"\",SISWA!D106)","v":"099-"},{"$f":"IF(SISWA!E106=0,\"\",SISWA!E106)","v":""},null,null,null,null,null,{"$error":"#DIV/0!"},null,null,{"$error":"#DIV/0!"}]
[100,{"$f":"IF(SISWA!B107=0,\"\",SISWA!B107)","v":""},{"$f":"IF(SISWA!C107=0,\"\",SISWA!C107)","v":""},{"$f":"IF(SISWA!D107=0,\"\",SISWA!D107)","v":"100-"},{"$f":"IF(SISWA!E107=0,\"\",SISWA!E107)","v":""},null,null,null,null,null,{"$error":"#DIV/0!"},null,null,{"$error":"#DIV/0!"}]
[101,{"$f":"IF(SISWA!B108=0,\"\",SISWA!B108)","v":""},{"$f":"IF(SISWA!C108=0,\"\",SISWA!C108)","v":""},{"$f":"IF(SISWA!D108=0,\"\",SISWA!D108)","v":"101-"},{"$f":"IF(SISWA!E108=0,\"\",SISWA!E108)","v":""},null,null,null,null,null,{"$error":"#DIV/0!"},null,null,{"$error":"#DIV/0!"}]
[102,{"$f":"IF(SISWA!B109=0,\"\",SISWA!B109)","v":""},{"$f":"IF(SISWA!C109=0,\"\",SISWA!C109)","v":""},{"$f":"IF(SISWA!D109=0,\"\",SISWA!D109)","v":"102-"},{"$f":"IF(SISWA!E109=0,\"\",SISWA!E109)","v":""},null,null,null,null,null,{"$error":"#DIV/0!"},null,null,{"$error":"#DIV/0!"}]
[103,{"$f":"IF(SISWA!B110=0,\"\",SISWA!B110)","v":""},{"$f":"IF(SISWA!C110=0,\"\",SISWA!C110)","v":""},{"$f":"IF(SISWA!D110=0,\"\",SISWA!D110)","v":"103-"},{"$f":"IF(SISWA!E110=0,\"\",SISWA!E110)","v":""},null,null,null,null,null,{"$error":"#DIV/0!"},null,null,{"$error":"#DIV/0!"}]
[104,{"$f":"IF(SISWA!B111=0,\"\",SISWA!B111)","v":""},{"$f":"IF(SISWA!C111=0,\"\",SISWA!C111)","v":""},{"$f":"IF(SISWA!D111=0,\"\",SISWA!D111)","v":"104-"},{"$f":"IF(SISWA!E111=0,\"\",SISWA!E111)","v":""},null,null,null,null,null,{"$error":"#DIV/0!"},null,null,{"$error":"#DIV/0!"}]
[105,{"$f":"IF(SISWA!B112=0,\"\",SISWA!B112)","v":""},{"$f":"IF(SISWA!C112=0,\"\",SISWA!C112)","v":""},{"$f":"IF(SISWA!D112=0,\"\",SISWA!D112)","v":"105-"},{"$f":"IF(SISWA!E112=0,\"\",SISWA!E112)","v":""},null,null,null,null,null,{"$error":"#DIV/0!"},null,null,{"$error":"#DIV/0!"}]
[106,{"$f":"IF(SISWA!B113=0,\"\",SISWA!B113)","v":""},{"$f":"IF(SISWA!C113=0,\"\",SISWA!C113)","v":""},{"$f":"IF(SISWA!D113=0,\"\",SISWA!D113)","v":"106-"},{"$f":"IF(SISWA!E113=0,\"\",SISWA!E113)","v":""},null,null,null,null,null,{"$error":"#DIV/0!"},null,null,{"$error":"#DIV/0!"}]
[107,{"$f":"IF(SISWA!B114=0,\"\",SISWA!B114)","v":""},{"$f":"IF(SISWA!C114=0,\"\",SISWA!C114)","v":""},{"$f":"IF(SISWA!D114=0,\"\",SISWA!D114)","v":"107-"},{"$f":"IF(SISWA!E114=0,\"\",SISWA!E114)","v":""},null,null,null,null,null,{"$error":"#DIV/0!"},null,null,{"$error":"#DIV/0!"}]
[108,{"$f":"IF(SISWA!B115=0,\"\",SISWA!B115)","v":""},{"$f":"IF(SISWA!C115=0,\"\",SISWA!C115)","v":""},{"$f":"IF(SISWA!D115=0,\"\",SISWA!D115)","v":"108-"},{"$f":"IF(SISWA!E115=0,\"\",SISWA!E115)","v":""},null,null,null,null,null,{"$error":"#DIV/0!"},null,null,{"$error":"#DIV/0!"}]
[109,{"$f":"IF(SISWA!B116=0,\"\",SISWA!B116)","v":""},{"$f":"IF(SISWA!C116=0,\"\",SISWA!C116)","v":""},{"$f":"IF(SISWA!D116=0,\"\",SISWA!D116)","v":"109-"},{"$f":"IF(SISWA!E116=0,\"\",SISWA!E116)","v":""},null,null,null,null,null,{"$error":"#DIV/0!"},null,null,{"$error":"#DIV/0!"}]
[110,{"$f":"IF(SISWA!B117=0,\"\",SISWA!B117)","v":""},{"$f":"IF(SISWA!C117=0,\"\",SISWA!C117)","v":""},{"$f":"IF(SISWA!D117=0,\"\",SISWA!D117)","v":"110-"},{"$f":"IF(SISWA!E117=0,\"\",SISWA!E117)","v":""},null,null,null,null,null,{"$error":"#DIV/0!"},null,null,{"$error":"#DIV/0!"}]
[111,{"$f":"IF(SISWA!B118=0,\"\",SISWA!B118)","v":""},{"$f":"IF(SISWA!C118=0,\"\",SISWA!C118)","v":""},{"$f":"IF(SISWA!D118=0,\"\",SISWA!D118)","v":"111-"},{"$f":"IF(SISWA!E118=0,\"\",SISWA!E118)","v":""},null,null,null,null,null,{"$error":"#DIV/0!"},null,null,{"$error":"#DIV/0!"}]
[112,{"$f":"IF(SISWA!B119=0,\"\",SISWA!B119)","v":""},{"$f":"IF(SISWA!C119=0,\"\",SISWA!C119)","v":""},{"$f":"IF(SISWA!D119=0,\"\",SISWA!D119)","v":"112-"},{"$f":"IF(SISWA!E119=0,\"\",SISWA!E119)","v":""},null,null,null,null,null,{"$error":"#DIV/0!"},null,null,{"$error":"#DIV/0!"}]
[113,{"$f":"IF(SISWA!B120=0,\"\",SISWA!B120)","v":""},{"$f":"IF(SISWA!C120=0,\"\",SISWA!C120)","v":""},{"$f":"IF(SISWA!D120=0,\"\",SISWA!D120)","v":"113-"},{"$f":"IF(SISWA!E120=0,\"\",SISWA!E120)","v":""},null,null,null,null,null,{"$error":"#DIV/0!"},null,null,{"$error":"#DIV/0!"}]
[114,{"$f":"IF(SISWA!B121=0,\"\",SISWA!B121)","v":""},{"$f":"IF(SISWA!C121=0,\"\",SISWA!C121)","v":""},{"$f":"IF(SISWA!D121=0,\"\",SISWA!D121)","v":"114-"},{"$f":"IF(SISWA!E121=0,\"\",SISWA!E121)","v":""},null,null,null,null,null,{"$error":"#DIV/0!"},null,null,{"$error":"#DIV/0!"}]
[115,{"$f":"IF(SISWA!B122=0,\"\",SISWA!B122)","v":""},{"$f":"IF(SISWA!C122=0,\"\",SISWA!C122)","v":""},{"$f":"IF(SISWA!D122=0,\"\",SISWA!D122)","v":"115-"},{"$f":"IF(SISWA!E122=0,\"\",SISWA!E122)","v":""},null,null,null,null,null,{"$error":"#DIV/0!"},null,null,{"$error":"#DIV/0!"}]
[116,{"$f":"IF(SISWA!B123=0,\"\",SISWA!B123)","v":""},{"$f":"IF(SISWA!C123=0,\"\",SISWA!C123)","v":""},{"$f":"IF(SISWA!D123=0,\"\",SISWA!D123)","v":"116-"},{"$f":"IF(SISWA!E123=0,\"\",SISWA!E123)","v":""},null,null,null,null,null,{"$error":"#DIV/0!"},null,null,{"$error":"#DIV/0!"}]
[117,{"$f":"IF(SISWA!B124=0,\"\",SISWA!B124)","v":""},{"$f":"IF(SISWA!C124=0,\"\",SISWA!C124)","v":""},{"$f":"IF(SISWA!D124=0,\"\",SISWA!D124)","v":"117-"},{"$f":"IF(SISWA!E124=0,\"\",SISWA!E124)","v":""},null,null,null,null,null,{"$error":"#DIV/0!"},null,null,{"$error":"#DIV/0!"}]
[118,{"$f":"IF(SISWA!B125=0,\"\",SISWA!B125)","v":""},{"$f":"IF(SISWA!C125=0,\"\",SISWA!C125)","v":""},{"$f":"IF(SISWA!D125=0,\"\",SISWA!D125)","v":"118-"},{"$f":"IF(SISWA!E125=0,\"\",SISWA!E125)","v":""},null,null,null,null,null,{"$error":"#DIV/0!"},null,null,{"$error":"#DIV/0!"}]
[119,{"$f":"IF(SISWA!B126=0,\"\",SISWA!B126)","v":""},{"$f":"IF(SISWA!C126=0,\"\",SISWA!C126)","v":""},{"$f":"IF(SISWA!D126=0,\"\",SISWA!D126)","v":"119-"},{"$f":"IF(SISWA!E126=0,\"\",SISWA!E126)","v":""},null,null,null,null,null,{"$error":"#DIV/0!"},null,null,{"$error":"#DIV/0!"}]
[120,{"$f":"IF(SISWA!B127=0,\"\",SISWA!B127)","v":""},{"$f":"IF(SISWA!C127=0,\"\",SISWA!C127)","v":""},{"$f":"IF(SISWA!D127=0,\"\",SISWA!D127)","v":"120-"},{"$f":"IF(SISWA!E127=0,\"\",SISWA!E127)","v":""},null,null,null,null,null,{"$error":"#DIV/0!"},null,null,{"$error":"#DIV/0!"}]
[121,{"$f":"IF(SISWA!B128=0,\"\",SISWA!B128)","v":""},{"$f":"IF(SISWA!C128=0,\"\",SISWA!C128)","v":""},{"$f":"IF(SISWA!D128=0,\"\",SISWA!D128)","v":"121-"},{"$f":"IF(SISWA!E128=0,\"\",SISWA!E128)","v":""},null,null,null,null,null,{"$error":"#DIV/0!"},null,null,{"$error":"#DIV/0!"}]
[122,{"$f":"IF(SISWA!B129=0,\"\",SISWA!B129)","v":""},{"$f":"IF(SISWA!C129=0,\"\",SISWA!C129)","v":""},{"$f":"IF(SISWA!D129=0,\"\",SISWA!D129)","v":"122-"},{"$f":"IF(SISWA!E129=0,\"\",SISWA!E129)","v":""},null,null,null,null,null,{"$error":"#DIV/0!"},null,null,{"$error":"#DIV/0!"}]
[123,{"$f":"IF(SISWA!B130=0,\"\",SISWA!B130)","v":""},{"$f":"IF(SISWA!C130=0,\"\",SISWA!C130)","v":""},{"$f":"IF(SISWA!D130=0,\"\",SISWA!D130)","v":"123-"},{"$f":"IF(SISWA!E130=0,\"\",SISWA!E130)","v":""},null,null,null,null,null,{"$error":"#DIV/0!"},null,null,{"$error":"#DIV/0!"}]
[124,{"$f":"IF(SISWA!B131=0,\"\",SISWA!B131)","v":""},{"$f":"IF(SISWA!C131=0,\"\",SISWA!C131)","v":""},{"$f":"IF(SISWA!D131=0,\"\",SISWA!D131)","v":"124-"},{"$f":"IF(SISWA!E131=0,\"\",SISWA!E131)","v":""},null,null,null,null,null,{"$error":"#DIV/0!"},null,null,{"$error":"#DIV/0!"}]
[125,{"$f":"IF(SISWA!B132=0,\"\",SISWA!B132)","v":""},{"$f":"IF(SISWA!C132=0,\"\",SISWA!C132)","v":""},{"$f":"IF(SISWA!D132=0,\"\",SISWA!D132)","v":"125-"},{"$f":"IF(SISWA!E132=0,\"\",SISWA!E132)","v":""},null,null,null,null,null,{"$f":"AVERAGE(F132:J132)","v":{"$error":"#DIV/0!"}},null,null,{"$error":"#DIV/0!"}]
[126,{"$f":"IF(SISWA!B133=0,\"\",SISWA!B133)","v":""},{"$f":"IF(SISWA!C133=0,\"\",SISWA!C133)","v":""},{"$f":"IF(SISWA!D133=0,\"\",SISWA!D133)","v":"126-"},{"$f":"IF(SISWA!E133=0,\"\",SISWA!E133)","v":""},null,null,null,null,null,{"$error":"#DIV/0!"},null,null,{"$error":"#DIV/0!"}]
[127,{"$f":"IF(SISWA!B134=0,\"\",SISWA!B134)","v":""},{"$f":"IF(SISWA!C134=0,\"\",SISWA!C134)","v":""},{"$f":"IF(SISWA!D134=0,\"\",SISWA!D134)","v":"127-"},{"$f":"IF(SISWA!E134=0,\"\",SISWA!E134)","v":""},null,null,null,null,null,{"$error":"#DIV/0!"},null,null,{"$error":"#DIV/0!"}]
[128,{"$f":"IF(SISWA!B135=0,\"\",SISWA!B135)","v":""},{"$f":"IF(SISWA!C135=0,\"\",SISWA!C135)","v":""},{"$f":"IF(SISWA!D135=0,\"\",SISWA!D135)","v":"128-"},{"$f":"IF(SISWA!E135=0,\"\",SISWA!E135)","v":""},null,null,null,null,null,{"$error":"#DIV/0!"},null,null,{"$error":"#DIV/0!"}]
[129,{"$f":"IF(SISWA!B136=0,\"\",SISWA!B136)","v":""},{"$f":"IF(SISWA!C136=0,\"\",SISWA!C136)","v":""},{"$f":"IF(SISWA!D136=0,\"\",SISWA!D136)","v":"129-"},{"$f":"IF(SISWA!E136=0,\"\",SISWA!E136)","v":""},null,null,null,null,null,{"$error":"#DIV/0!"},null,null,{"$error":"#DIV/0!"}]
[130,{"$f":"IF(SISWA!B137=0,\"\",SISWA!B137)","v":""},{"$f":"IF(SISWA!C137=0,\"\",SISWA!C137)","v":""},{"$f":"IF(SISWA!D137=0,\"\",SISWA!D137)","v":"130-"},{"$f":"IF(SISWA!E137=0,\"\",SISWA!E137)","v":""},null,null,null,null,null,{"$error":"#DIV/0!"},null,null,{"$f":"AVERAGE(L137:M137)","v":{"$error":"#DIV/0!"}}]
[131,{"$f":"IF(SISWA!B138=0,\"\",SISWA!B138)","v":""},{"$f":"IF(SISWA!C138=0,\"\",SISWA!C138)","v":""},{"$f":"IF(SISWA!D138=0,\"\",SISWA!D138)","v":"131-"},{"$f":"IF(SISWA!E138=0,\"\",SISWA!E138)","v":""},null,null,null,null,null,{"$error":"#DIV/0!"},null,null,{"$error":"#DIV/0!"}]
[132,{"$f":"IF(SISWA!B139=0,\"\",SISWA!B139)","v":""},{"$f":"IF(SISWA!C139=0,\"\",SISWA!C139)","v":""},{"$f":"IF(SISWA!D139=0,\"\",SISWA!D139)","v":"132-"},{"$f":"IF(SISWA!E139=0,\"\",SISWA!E139)","v":""},null,null,null,null,null,{"$error":"#DIV/0!"},null,null,{"$error":"#DIV/0!"}]
[133,{"$f":"IF(SISWA!B140=0,\"\",SISWA!B140)","v":""},{"$f":"IF(SISWA!C140=0,\"\",SISWA!C140)","v":""},{"$f":"IF(SISWA!D140=0,\"\",SISWA!D140)","v":"133-"},{"$f":"IF(SISWA!E140=0,\"\",SISWA!E140)","v":""},null,null,null,null,null,{"$error":"#DIV/0!"},null,null,{"$error":"#DIV/0!"}]
[134,{"$f":"IF(SISWA!B141=0,\"\",SISWA!B141)","v":""},{"$f":"IF(SISWA!C141=0,\"\",SISWA!C141)","v":""},{"$f":"IF(SISWA!D141=0,\"\",SISWA!D141)","v":"134-"},{"$f":"IF(SISWA!E141=0,\"\",SISWA!E141)","v":""},null,null,null,null,null,{"$error":"#DIV/0!"},null,null,{"$error":"#DIV/0!"}]
[135,{"$f":"IF(SISWA!B142=0,\"\",SISWA!B142)","v":""},{"$f":"IF(SISWA!C142=0,\"\",SISWA!C142)","v":""},{"$f":"IF(SISWA!D142=0,\"\",SISWA!D142)","v":"135-"},{"$f":"IF(SISWA!E142=0,\"\",SISWA!E142)","v":""},null,null,null,null,null,{"$error":"#DIV/0!"},null,null,{"$error":"#DIV/0!"}]
[136,{"$f":"IF(SISWA!B143=0,\"\",SISWA!B143)","v":""},{"$f":"IF(SISWA!C143=0,\"\",SISWA!C143)","v":""},{"$f":"IF(SISWA!D143=0,\"\",SISWA!D143)","v":"136-"},{"$f":"IF(SISWA!E143=0,\"\",SISWA!E143)","v":""},null,null,null,null,null,{"$error":"#DIV/0!"},null,null,{"$error":"#DIV/0!"}]
[137,{"$f":"IF(SISWA!B144=0,\"\",SISWA!B144)","v":""},{"$f":"IF(SISWA!C144=0,\"\",SISWA!C144)","v":""},{"$f":"IF(SISWA!D144=0,\"\",SISWA!D144)","v":"137-"},{"$f":"IF(SISWA!E144=0,\"\",SISWA!E144)","v":""},null,null,null,null,null,{"$error":"#DIV/0!"},null,null,{"$error":"#DIV/0!"}]
[138,{"$f":"IF(SISWA!B145=0,\"\",SISWA!B145)","v":""},{"$f":"IF(SISWA!C145=0,\"\",SISWA!C145)","v":""},{"$f":"IF(SISWA!D145=0,\"\",SISWA!D145)","v":"138-"},{"$f":"IF(SISWA!E145=0,\"\",SISWA!E145)","v":""},null,null,null,null,null,{"$error":"#DIV/0!"},null,null,{"$error":"#DIV/0!"}]
[139,{"$f":"IF(SISWA!B146=0,\"\",SISWA!B146)","v":""},{"$f":"IF(SISWA!C146=0,\"\",SISWA!C146)","v":""},{"$f":"IF(SISWA!D146=0,\"\",SISWA!D146)","v":"139-"},{"$f":"IF(SISWA!E146=0,\"\",SISWA!E146)","v":""},null,null,null,null,null,{"$error":"#DIV/0!"},null,null,{"$error":"#DIV/0!"}]
[140,{"$f":"IF(SISWA!B147=0,\"\",SISWA!B147)","v":""},{"$f":"IF(SISWA!C147=0,\"\",SISWA!C147)","v":""},{"$f":"IF(SISWA!D147=0,\"\",SISWA!D147)","v":"140-"},{"$f":"IF(SISWA!E147=0,\"\",SISWA!E147)","v":""},null,null,null,null,null,{"$error":"#DIV/0!"},null,null,{"$error":"#DIV/0!"}]
[141,{"$f":"IF(SISWA!B148=0,\"\",SISWA!B148)","v":""},{"$f":"IF(SISWA!C148=0,\"\",SISWA!C148)","v":""},{"$f":"IF(SISWA!D148=0,\"\",SISWA!D148)","v":"141-"},{"$f":"IF(SISWA!E148=0,\"\",SISWA!E148)","v":""},null,null,null,null,null,{"$error":"#DIV/0!"},null,null,{"$error":"#DIV/0!"}]
[142,{"$f":"IF(SISWA!B149=0,\"\",SISWA!B149)","v":""},{"$f":"IF(SISWA!C149=0,\"\",SISWA!C149)","v":""},{"$f":"IF(SISWA!D149=0,\"\",SISWA!D149)","v":"142-"},{"$f":"IF(SISWA!E149=0,\"\",SISWA!E149)","v":""},null,null,null,null,null,{"$error":"#DIV/0!"},null,null,{"$error":"#DIV/0!"}]
[143,{"$f":"IF(SISWA!B150=0,\"\",SISWA!B150)","v":""},{"$f":"IF(SISWA!C150=0,\"\",SISWA!C150)","v":""},{"$f":"IF(SISWA!D150=0,\"\",SISWA!D150)","v":"143-"},{"$f":"IF(SISWA!E150=0,\"\",SISWA!E150)","v":""},null,null,null,null,null,{"$error":"#DIV/0!"},null,null,{"$error":"#DIV/0!"}]
[144,{"$f":"IF(SISWA!B151=0,\"\",SISWA!B151)","v":""},{"$f":"IF(SISWA!C151=0,\"\",SISWA!C151)","v":""},{"$f":"IF(SISWA!D151=0,\"\",SISWA!D151)","v":"144-"},{"$f":"IF(SISWA!E151=0,\"\",SISWA!E151)","v":""},null,null,null,null,null,{"$error":"#DIV/0!"},null,null,{"$error":"#DIV/0!"}]
[145,{"$f":"IF(SISWA!B152=0,\"\",SISWA!B152)","v":""},{"$f":"IF(SISWA!C152=0,\"\",SISWA!C152)","v":""},{"$f":"IF(SISWA!D152=0,\"\",SISWA!D152)","v":"145-"},{"$f":"IF(SISWA!E152=0,\"\",SISWA!E152)","v":""},null,null,null,null,null,{"$error":"#DIV/0!"},null,null,{"$error":"#DIV/0!"}]
[146,{"$f":"IF(SISWA!B153=0,\"\",SISWA!B153)","v":""},{"$f":"IF(SISWA!C153=0,\"\",SISWA!C153)","v":""},{"$f":"IF(SISWA!D153=0,\"\",SISWA!D153)","v":"146-"},{"$f":"IF(SISWA!E153=0,\"\",SISWA!E153)","v":""},null,null,null,null,null,{"$error":"#DIV/0!"},null,null,{"$error":"#DIV/0!"}]
[147,{"$f":"IF(SISWA!B154=0,\"\",SISWA!B154)","v":""},{"$f":"IF(SISWA!C154=0,\"\",SISWA!C154)","v":""},{"$f":"IF(SISWA!D154=0,\"\",SISWA!D154)","v":"147-"},{"$f":"IF(SISWA!E154=0,\"\",SISWA!E154)","v":""},null,null,null,null,null,{"$error":"#DIV/0!"},null,null,{"$error":"#DIV/0!"}]
[148,{"$f":"IF(SISWA!B155=0,\"\",SISWA!B155)","v":""},{"$f":"IF(SISWA!C155=0,\"\",SISWA!C155)","v":""},{"$f":"IF(SISWA!D155=0,\"\",SISWA!D155)","v":"148-"},{"$f":"IF(SISWA!E155=0,\"\",SISWA!E155)","v":""},null,null,null,null,null,{"$error":"#DIV/0!"},null,null,{"$error":"#DIV/0!"}]
[149,{"$f":"IF(SISWA!B156=0,\"\",SISWA!B156)","v":""},{"$f":"IF(SISWA!C156=0,\"\",SISWA!C156)","v":""},{"$f":"IF(SISWA!D156=0,\"\",SISWA!D156)","v":"149-"},{"$f":"IF(SISWA!E156=0,\"\",SISWA!E156)","v":""},null,null,null,null,null,{"$error":"#DIV/0!"},null,null,{"$error":"#DIV/0!"}]
[150,{"$f":"IF(SISWA!B157=0,\"\",SISWA!B157)","v":""},{"$f":"IF(SISWA!C157=0,\"\",SISWA!C157)","v":""},{"$f":"IF(SISWA!D157=0,\"\",SISWA!D157)","v":"150-"},{"$f":"IF(SISWA!E157=0,\"\",SISWA!E157)","v":""},null,null,null,null,null,{"$error":"#DIV/0!"},null,null,{"$error":"#DIV/0!"}]
[151,{"$f":"IF(SISWA!B158=0,\"\",SISWA!B158)","v":""},{"$f":"IF(SISWA!C158=0,\"\",SISWA!C158)","v":""},{"$f":"IF(SISWA!D158=0,\"\",SISWA!D158)","v":"151-"},{"$f":"IF(SISWA!E158=0,\"\",SISWA!E158)","v":""},null,null,null,null,null,{"$error":"#DIV/0!"},null,null,{"$error":"#DIV/0!"}]
[152,{"$f":"IF(SISWA!B159=0,\"\",SISWA!B159)","v":""},{"$f":"IF(SISWA!C159=0,\"\",SISWA!C159)","v":""},{"$f":"IF(SISWA!D159=0,\"\",SISWA!D159)","v":"152-"},{"$f":"IF(SISWA!E159=0,\"\",SISWA!E159)","v":""},null,null,null,null,null,{"$error":"#DIV/0!"},null,null,{"$error":"#DIV/0!"}]
[153,{"$f":"IF(SISWA!B160=0,\"\",SISWA!B160)","v":""},{"$f":"IF(SISWA!C160=0,\"\",SISWA!C160)","v":""},{"$f":"IF(SISWA!D160=0,\"\",SISWA!D160)","v":"153-"},{"$f":"IF(SISWA!E160=0,\"\",SISWA!E160)","v":""},null,null,null,null,null,{"$error":"#DIV/0!"},null,null,{"$error":"#DIV/0!"}]
[154,{"$f":"IF(SISWA!B161=0,\"\",SISWA!B161)","v":""},{"$f":"IF(SISWA!C161=0,\"\",SISWA!C161)","v":""},{"$f":"IF(SISWA!D161=0,\"\",SISWA!D161)","v":"154-"},{"$f":"IF(SISWA!E161=0,\"\",SISWA!E161)","v":""},null,null,null,null,null,{"$error":"#DIV/0!"},null,null,{"$error":"#DIV/0!"}]
[155,{"$f":"IF(SISWA!B162=0,\"\",SISWA!B162)","v":""},{"$f":"IF(SISWA!C162=0,\"\",SISWA!C162)","v":""},{"$f":"IF(SISWA!D162=0,\"\",SISWA!D162)","v":"155-"},{"$f":"IF(SISWA!E162=0,\"\",SISWA!E162)","v":""},null,null,null,null,null,{"$error":"#DIV/0!"},null,null,{"$error":"#DIV/0!"}]
[156,{"$f":"IF(SISWA!B163=0,\"\",SISWA!B163)","v":""},{"$f":"IF(SISWA!C163=0,\"\",SISWA!C163)","v":""},{"$f":"IF(SISWA!D163=0,\"\",SISWA!D163)","v":"156-"},{"$f":"IF(SISWA!E163=0,\"\",SISWA!E163)","v":""},null,null,null,null,null,{"$error":"#DIV/0!"},null,null,{"$error":"#DIV/0!"}]
[157,{"$f":"IF(SISWA!B164=0,\"\",SISWA!B164)","v":""},{"$f":"IF(SISWA!C164=0,\"\",SISWA!C164)","v":""},{"$f":"IF(SISWA!D164=0,\"\",SISWA!D164)","v":"157-"},{"$f":"IF(SISWA!E164=0,\"\",SISWA!E164)","v":""},null,null,null,null,null,{"$error":"#DIV/0!"},null,null,{"$error":"#DIV/0!"}]
[158,{"$f":"IF(SISWA!B165=0,\"\",SISWA!B165)","v":""},{"$f":"IF(SISWA!C165=0,\"\",SISWA!C165)","v":""},{"$f":"IF(SISWA!D165=0,\"\",SISWA!D165)","v":"158-"},{"$f":"IF(SISWA!E165=0,\"\",SISWA!E165)","v":""},null,null,null,null,null,{"$error":"#DIV/0!"},null,null,{"$error":"#DIV/0!"}]
[159,{"$f":"IF(SISWA!B166=0,\"\",SISWA!B166)","v":""},{"$f":"IF(SISWA!C166=0,\"\",SISWA!C166)","v":""},{"$f":"IF(SISWA!D166=0,\"\",SISWA!D166)","v":"159-"},{"$f":"IF(SISWA!E166=0,\"\",SISWA!E166)","v":""},null,null,null,null,null,{"$error":"#DIV/0!"},null,null,{"$error":"#DIV/0!"}]
[160,{"$f":"IF(SISWA!B167=0,\"\",SISWA!B167)","v":""},{"$f":"IF(SISWA!C167=0,\"\",SISWA!C167)","v":""},{"$f":"IF(SISWA!D167=0,\"\",SISWA!D167)","v":"160-"},{"$f":"IF(SISWA!E167=0,\"\",SISWA!E167)","v":""},null,null,null,null,null,{"$error":"#DIV/0!"},null,null,{"$error":"#DIV/0!"}]
[161,{"$f":"IF(SISWA!B168=0,\"\",SISWA!B168)","v":""},{"$f":"IF(SISWA!C168=0,\"\",SISWA!C168)","v":""},{"$f":"IF(SISWA!D168=0,\"\",SISWA!D168)","v":"161-"},{"$f":"IF(SISWA!E168=0,\"\",SISWA!E168)","v":""},null,null,null,null,null,{"$error":"#DIV/0!"},null,null,{"$error":"#DIV/0!"}]
[162,{"$f":"IF(SISWA!B169=0,\"\",SISWA!B169)","v":""},{"$f":"IF(SISWA!C169=0,\"\",SISWA!C169)","v":""},{"$f":"IF(SISWA!D169=0,\"\",SISWA!D169)","v":"162-"},{"$f":"IF(SISWA!E169=0,\"\",SISWA!E169)","v":""},null,null,null,null,null,{"$error":"#DIV/0!"},null,null,{"$error":"#DIV/0!"}]
[163,{"$f":"IF(SISWA!B170=0,\"\",SISWA!B170)","v":""},{"$f":"IF(SISWA!C170=0,\"\",SISWA!C170)","v":""},{"$f":"IF(SISWA!D170=0,\"\",SISWA!D170)","v":"163-"},{"$f":"IF(SISWA!E170=0,\"\",SISWA!E170)","v":""},null,null,null,null,null,{"$error":"#DIV/0!"},null,null,{"$error":"#DIV/0!"}]
[164,{"$f":"IF(SISWA!B171=0,\"\",SISWA!B171)","v":""},{"$f":"IF(SISWA!C171=0,\"\",SISWA!C171)","v":""},{"$f":"IF(SISWA!D171=0,\"\",SISWA!D171)","v":"164-"},{"$f":"IF(SISWA!E171=0,\"\",SISWA!E171)","v":""},null,null,null,null,null,{"$error":"#DIV/0!"},null,null,{"$error":"#DIV/0!"}]
[165,{"$f":"IF(SISWA!B172=0,\"\",SISWA!B172)","v":""},{"$f":"IF(SISWA!C172=0,\"\",SISWA!C172)","v":""},{"$f":"IF(SISWA!D172=0,\"\",SISWA!D172)","v":"165-"},{"$f":"IF(SISWA!E172=0,\"\",SISWA!E172)","v":""},null,null,null,null,null,{"$error":"#DIV/0!"},null,null,{"$error":"#DIV/0!"}]
[166,{"$f":"IF(SISWA!B173=0,\"\",SISWA!B173)","v":""},{"$f":"IF(SISWA!C173=0,\"\",SISWA!C173)","v":""},{"$f":"IF(SISWA!D173=0,\"\",SISWA!D173)","v":"166-"},{"$f":"IF(SISWA!E173=0,\"\",SISWA!E173)","v":""},null,null,null,null,null,{"$error":"#DIV/0!"},null,null,{"$error":"#DIV/0!"}]
[167,{"$f":"IF(SISWA!B174=0,\"\",SISWA!B174)","v":""},{"$f":"IF(SISWA!C174=0,\"\",SISWA!C174)","v":""},{"$f":"IF(SISWA!D174=0,\"\",SISWA!D174)","v":"167-"},{"$f":"IF(SISWA!E174=0,\"\",SISWA!E174)","v":""},null,null,null,null,null,{"$error":"#DIV/0!"},null,null,{"$error":"#DIV/0!"}]
[168,{"$f":"IF(SISWA!B175=0,\"\",SISWA!B175)","v":""},{"$f":"IF(SISWA!C175=0,\"\",SISWA!C175)","v":""},{"$f":"IF(SISWA!D175=0,\"\",SISWA!D175)","v":"168-"},{"$f":"IF(SISWA!E175=0,\"\",SISWA!E175)","v":""},null,null,null,null,null,{"$error":"#DIV/0!"},null,null,{"$error":"#DIV/0!"}]
[169,{"$f":"IF(SISWA!B176=0,\"\",SISWA!B176)","v":""},{"$f":"IF(SISWA!C176=0,\"\",SISWA!C176)","v":""},{"$f":"IF(SISWA!D176=0,\"\",SISWA!D176)","v":"169-"},{"$f":"IF(SISWA!E176=0,\"\",SISWA!E176)","v":""},null,null,null,null,null,{"$error":"#DIV/0!"},null,null,{"$error":"#DIV/0!"}]
[170,{"$f":"IF(SISWA!B177=0,\"\",SISWA!B177)","v":""},{"$f":"IF(SISWA!C177=0,\"\",SISWA!C177)","v":""},{"$f":"IF(SISWA!D177=0,\"\",SISWA!D177)","v":"170-"},{"$f":"IF(SISWA!E177=0,\"\",SISWA!E177)","v":""},null,null,null,null,null,{"$error":"#DIV/0!"},null,null,{"$error":"#DIV/0!"}]
[171,{"$f":"IF(SISWA!B178=0,\"\",SISWA!B178)","v":""},{"$f":"IF(SISWA!C178=0,\"\",SISWA!C178)","v":""},{"$f":"IF(SISWA!D178=0,\"\",SISWA!D178)","v":"171-"},{"$f":"IF(SISWA!E178=0,\"\",SISWA!E178)","v":""},null,null,null,null,null,{"$error":"#DIV/0!"},null,null,{"$error":"#DIV/0!"}]
[172,{"$f":"IF(SISWA!B179=0,\"\",SISWA!B179)","v":""},{"$f":"IF(SISWA!C179=0,\"\",SISWA!C179)","v":""},{"$f":"IF(SISWA!D179=0,\"\",SISWA!D179)","v":"172-"},{"$f":"IF(SISWA!E179=0,\"\",SISWA!E179)","v":""},null,null,null,null,null,{"$error":"#DIV/0!"},null,null,{"$error":"#DIV/0!"}]
[173,{"$f":"IF(SISWA!B180=0,\"\",SISWA!B180)","v":""},{"$f":"IF(SISWA!C180=0,\"\",SISWA!C180)","v":""},{"$f":"IF(SISWA!D180=0,\"\",SISWA!D180)","v":"173-"},{"$f":"IF(SISWA!E180=0,\"\",SISWA!E180)","v":""},null,null,null,null,null,{"$error":"#DIV/0!"},null,null,{"$error":"#DIV/0!"}]
[174,{"$f":"IF(SISWA!B181=0,\"\",SISWA!B181)","v":""},{"$f":"IF(SISWA!C181=0,\"\",SISWA!C181)","v":""},{"$f":"IF(SISWA!D181=0,\"\",SISWA!D181)","v":"174-"},{"$f":"IF(SISWA!E181=0,\"\",SISWA!E181)","v":""},null,null,null,null,null,{"$error":"#DIV/0!"},null,null,{"$error":"#DIV/0!"}]
[175,{"$f":"IF(SISWA!B182=0,\"\",SISWA!B182)","v":""},{"$f":"IF(SISWA!C182=0,\"\",SISWA!C182)","v":""},{"$f":"IF(SISWA!D182=0,\"\",SISWA!D182)","v":"175-"},{"$f":"IF(SISWA!E182=0,\"\",SISWA!E182)","v":""},null,null,null,null,null,{"$error":"#DIV/0!"},null,null,{"$error":"#DIV/0!"}]
[176,{"$f":"IF(SISWA!B183=0,\"\",SISWA!B183)","v":""},{"$f":"IF(SISWA!C183=0,\"\",SISWA!C183)","v":""},{"$f":"IF(SISWA!D183=0,\"\",SISWA!D183)","v":"176-"},{"$f":"IF(SISWA!E183=0,\"\",SISWA!E183)","v":""},null,null,null,null,null,{"$error":"#DIV/0!"},null,null,{"$error":"#DIV/0!"}]
[177,{"$f":"IF(SISWA!B184=0,\"\",SISWA!B184)","v":""},{"$f":"IF(SISWA!C184=0,\"\",SISWA!C184)","v":""},{"$f":"IF(SISWA!D184=0,\"\",SISWA!D184)","v":"177-"},{"$f":"IF(SISWA!E184=0,\"\",SISWA!E184)","v":""},null,null,null,null,null,{"$error":"#DIV/0!"},null,null,{"$error":"#DIV/0!"}]
[178,{"$f":"IF(SISWA!B185=0,\"\",SISWA!B185)","v":""},{"$f":"IF(SISWA!C185=0,\"\",SISWA!C185)","v":""},{"$f":"IF(SISWA!D185=0,\"\",SISWA!D185)","v":"178-"},{"$f":"IF(SISWA!E185=0,\"\",SISWA!E185)","v":""},null,null,null,null,null,{"$error":"#DIV/0!"},null,null,{"$error":"#DIV/0!"}]
[179,{"$f":"IF(SISWA!B186=0,\"\",SISWA!B186)","v":""},{"$f":"IF(SISWA!C186=0,\"\",SISWA!C186)","v":""},{"$f":"IF(SISWA!D186=0,\"\",SISWA!D186)","v":"179-"},{"$f":"IF(SISWA!E186=0,\"\",SISWA!E186)","v":""},null,null,null,null,null,{"$error":"#DIV/0!"},null,null,{"$error":"#DIV/0!"}]
[180,{"$f":"IF(SISWA!B187=0,\"\",SISWA!B187)","v":""},{"$f":"IF(SISWA!C187=0,\"\",SISWA!C187)","v":""},{"$f":"IF(SISWA!D187=0,\"\",SISWA!D187)","v":"180-"},{"$f":"IF(SISWA!E187=0,\"\",SISWA!E187)","v":""},null,null,null,null,null,{"$error":"#DIV/0!"},null,null,{"$error":"#DIV/0!"}]
[181,{"$f":"IF(SISWA!B188=0,\"\",SISWA!B188)","v":""},{"$f":"IF(SISWA!C188=0,\"\",SISWA!C188)","v":""},{"$f":"IF(SISWA!D188=0,\"\",SISWA!D188)","v":"181-"},{"$f":"IF(SISWA!E188=0,\"\",SISWA!E188)","v":""},null,null,null,null,null,{"$error":"#DIV/0!"},null,null,{"$error":"#DIV/0!"}]
[182,{"$f":"IF(SISWA!B189=0,\"\",SISWA!B189)","v":""},{"$f":"IF(SISWA!C189=0,\"\",SISWA!C189)","v":""},{"$f":"IF(SISWA!D189=0,\"\",SISWA!D189)","v":"182-"},{"$f":"IF(SISWA!E189=0,\"\",SISWA!E189)","v":""},null,null,null,null,null,{"$error":"#DIV/0!"},null,null,{"$error":"#DIV/0!"}]
[183,{"$f":"IF(SISWA!B190=0,\"\",SISWA!B190)","v":""},{"$f":"IF(SISWA!C190=0,\"\",SISWA!C190)","v":""},{"$f":"IF(SISWA!D190=0,\"\",SISWA!D190)","v":"183-"},{"$f":"IF(SISWA!E190=0,\"\",SISWA!E190)","v":""},null,null,null,null,null,{"$error":"#DIV/0!"},null,null,{"$error":"#DIV/0!"}]
[184,{"$f":"IF(SISWA!B191=0,\"\",SISWA!B191)","v":""},{"$f":"IF(SISWA!C191=0,\"\",SISWA!C191)","v":""},{"$f":"IF(SISWA!D191=0,\"\",SISWA!D191)","v":"184-"},{"$f":"IF(SISWA!E191=0,\"\",SISWA!E191)","v":""},null,null,null,null,null,{"$error":"#DIV/0!"},null,null,{"$error":"#DIV/0!"}]
[185,{"$f":"IF(SISWA!B192=0,\"\",SISWA!B192)","v":""},{"$f":"IF(SISWA!C192=0,\"\",SISWA!C192)","v":""},{"$f":"IF(SISWA!D192=0,\"\",SISWA!D192)","v":"185-"},{"$f":"IF(SISWA!E192=0,\"\",SISWA!E192)","v":""},null,null,null,null,null,{"$error":"#DIV/0!"},null,null,{"$error":"#DIV/0!"}]
[186,{"$f":"IF(SISWA!B193=0,\"\",SISWA!B193)","v":""},{"$f":"IF(SISWA!C193=0,\"\",SISWA!C193)","v":""},{"$f":"IF(SISWA!D193=0,\"\",SISWA!D193)","v":"186-"},{"$f":"IF(SISWA!E193=0,\"\",SISWA!E193)","v":""},null,null,null,null,null,{"$error":"#DIV/0!"},null,null,{"$error":"#DIV/0!"}]
[187,{"$f":"IF(SISWA!B194=0,\"\",SISWA!B194)","v":""},{"$f":"IF(SISWA!C194=0,\"\",SISWA!C194)","v":""},{"$f":"IF(SISWA!D194=0,\"\",SISWA!D194)","v":"187-"},{"$f":"IF(SISWA!E194=0,\"\",SISWA!E194)","v":""},null,null,null,null,null,{"$error":"#DIV/0!"},null,null,{"$error":"#DIV/0!"}]
[188,{"$f":"IF(SISWA!B195=0,\"\",SISWA!B195)","v":""},{"$f":"IF(SISWA!C195=0,\"\",SISWA!C195)","v":""},{"$f":"IF(SISWA!D195=0,\"\",SISWA!D195)","v":"188-"},{"$f":"IF(SISWA!E195=0,\"\",SISWA!E195)","v":""},null,null,null,null,null,{"$error":"#DIV/0!"},null,null,{"$error":"#DIV/0!"}]
[189,{"$f":"IF(SISWA!B196=0,\"\",SISWA!B196)","v":""},{"$f":"IF(SISWA!C196=0,\"\",SISWA!C196)","v":""},{"$f":"IF(SISWA!D196=0,\"\",SISWA!D196)","v":"189-"},{"$f":"IF(SISWA!E196=0,\"\",SISWA!E196)","v":""},null,null,null,null,null,{"$f":"AVERAGE(F196:J196)","v":{"$error":"#DIV/0!"}},null,null,{"$error":"#DIV/0!"}]
[190,{"$f":"IF(SISWA!B197=0,\"\",SISWA!B197)","v":""},{"$f":"IF(SISWA!C197=0,\"\",SISWA!C197)","v":""},{"$f":"IF(SISWA!D197=0,\"\",SISWA!D197)","v":"190-"},{"$f":"IF(SISWA!E197=0,\"\",SISWA!E197)","v":""},null,null,null,null,null,{"$error":"#DIV/0!"},null,null,{"$error":"#DIV/0!"}]
[191,{"$f":"IF(SISWA!B198=0,\"\",SISWA!B198)","v":""},{"$f":"IF(SISWA!C198=0,\"\",SISWA!C198)","v":""},{"$f":"IF(SISWA!D198=0,\"\",SISWA!D198)","v":"191-"},{"$f":"IF(SISWA!E198=0,\"\",SISWA!E198)","v":""},null,null,null,null,null,{"$error":"#DIV/0!"},null,null,{"$error":"#DIV/0!"}]
[192,{"$f":"IF(SISWA!B199=0,\"\",SISWA!B199)","v":""},{"$f":"IF(SISWA!C199=0,\"\",SISWA!C199)","v":""},{"$f":"IF(SISWA!D199=0,\"\",SISWA!D199)","v":"192-"},{"$f":"IF(SISWA!E199=0,\"\",SISWA!E199)","v":""},null,null,null,null,null,{"$error":"#DIV/0!"},null,null,{"$error":"#DIV/0!"}]
[193,{"$f":"IF(SISWA!B200=0,\"\",SISWA!B200)","v":""},{"$f":"IF(SISWA!C200=0,\"\",SISWA!C200)","v":""},{"$f":"IF(SISWA!D200=0,\"\",SISWA!D200)","v":"193-"},{"$f":"IF(SISWA!E200=0,\"\",SISWA!E200)","v":""},null,null,null,null,null,{"$error":"#DIV/0!"},null,null,{"$error":"#DIV/0!"}]
[194,{"$f":"IF(SISWA!B201=0,\"\",SISWA!B201)","v":""},{"$f":"IF(SISWA!C201=0,\"\",SISWA!C201)","v":""},{"$f":"IF(SISWA!D201=0,\"\",SISWA!D201)","v":"194-"},{"$f":"IF(SISWA!E201=0,\"\",SISWA!E201)","v":""},null,null,null,null,null,{"$error":"#DIV/0!"},null,null,{"$f":"AVERAGE(L201:M201)","v":{"$error":"#DIV/0!"}}]
[195,{"$f":"IF(SISWA!B202=0,\"\",SISWA!B202)","v":""},{"$f":"IF(SISWA!C202=0,\"\",SISWA!C202)","v":""},{"$f":"IF(SISWA!D202=0,\"\",SISWA!D202)","v":"195-"},{"$f":"IF(SISWA!E202=0,\"\",SISWA!E202)","v":""},null,null,null,null,null,{"$error":"#DIV/0!"},null,null,{"$error":"#DIV/0!"}]
[196,{"$f":"IF(SISWA!B203=0,\"\",SISWA!B203)","v":""},{"$f":"IF(SISWA!C203=0,\"\",SISWA!C203)","v":""},{"$f":"IF(SISWA!D203=0,\"\",SISWA!D203)","v":"196-"},{"$f":"IF(SISWA!E203=0,\"\",SISWA!E203)","v":""},null,null,null,null,null,{"$error":"#DIV/0!"},null,null,{"$error":"#DIV/0!"}]
[197,{"$f":"IF(SISWA!B204=0,\"\",SISWA!B204)","v":""},{"$f":"IF(SISWA!C204=0,\"\",SISWA!C204)","v":""},{"$f":"IF(SISWA!D204=0,\"\",SISWA!D204)","v":"197-"},{"$f":"IF(SISWA!E204=0,\"\",SISWA!E204)","v":""},null,null,null,null,null,{"$error":"#DIV/0!"},null,null,{"$error":"#DIV/0!"}]
[198,{"$f":"IF(SISWA!B205=0,\"\",SISWA!B205)","v":""},{"$f":"IF(SISWA!C205=0,\"\",SISWA!C205)","v":""},{"$f":"IF(SISWA!D205=0,\"\",SISWA!D205)","v":"198-"},{"$f":"IF(SISWA!E205=0,\"\",SISWA!E205)","v":""},null,null,null,null,null,{"$error":"#DIV/0!"},null,null,{"$error":"#DIV/0!"}]
[199,{"$f":"IF(SISWA!B206=0,\"\",SISWA!B206)","v":""},{"$f":"IF(SISWA!C206=0,\"\",SISWA!C206)","v":""},{"$f":"IF(SISWA!D206=0,\"\",SISWA!D206)","v":"199-"},{"$f":"IF(SISWA!E206=0,\"\",SISWA!E206)","v":""},null,null,null,null,null,{"$error":"#DIV/0!"},null,null,{"$error":"#DIV/0!"}]
[200,{"$f":"IF(SISWA!B207=0,\"\",SISWA!B207)","v":""},{"$f":"IF(SISWA!C207=0,\"\",SISWA!C207)","v":""},{"$f":"IF(SISWA!D207=0,\"\",SISWA!D207)","v":"200-"},{"$f":"IF(SISWA!E207=0,\"\",SISWA!E207)","v":""},null,null,null,null,null,{"$error":"#DIV/0!"},null,null,{"$error":"#DIV/0!"}]

{"sheet":"BD","index":14,"n_rows":207,"n_cols":18,"rows_kept":207,"cut":false,"hidden":false,"merged":[[4,13,6,13],[4,5,4,12],[0,0,0,9],[1,0,1,9],[2,0,2,9],[4,0,6,0],[4,1,6,1],[4,2,6,2],[4,3,6,3],[4,4,6,4],[5,5,5,9],[5,11,5,12]]}
["DAFTAR NILAI AKHIR SEKOLAH"]
[{"$f":"AA!A2","v":"MADRASAH IBTIDAIYAH NURUL ISLAM LABRUK KIDUL"}]
[{"$f":"AA!A3","v":"TAHUN PELAJARAN 2018/2019"}]
[]
["NO","No Induk","NISN","Nomor Peserta","Nama Peserta","BAHASA DAERAH/MULOK 1",null,null,null,null,null,null,null,"rata-rata UAM & PRAKTEK"]
[null,null,null,null,null,"Nilai Semester",null,null,null,null,"Rata- 2","NILAI UAM"]
[null,null,null,null,null,7,8,9,10,11,"Rapor","TULIS","PRAKTIK"]
[1,{"$f":"IF(SISWA!B8=0,\"\",SISWA!B8)","v":4270},{"$f":"IF(SISWA!C8=0,\"\",SISWA!C8)","v":"0067566336"},{"$f":"IF(SISWA!D8=0,\"\",SISWA!D8)","v":"1-18-05-80-162-001-9"},{"$f":"IF(SISWA!E8=0,\"\",SISWA!E8)","v":"ADITYA MAULA FANDY TAULANI"},76,76,77,74,89,{"$f":"AVERAGE(F8:J8)","v":78.400000000000006},65,{"$f":"K8","v":78.400000000000006},{"$f":"AVERAGE(K8:L8)","v":71.7},{"$f":"AVERAGE(L8,F8:J8)","v":76.166666666666671},null,null,{"$f":"TEXT(K8,0)&MID(K8,3,3)","v":"78,4"}]
[2,{"$f":"IF(SISWA!B9=0,\"\",SISWA!B9)","v":4300},{"$f":"IF(SISWA!C9=0,\"\",SISWA!C9)","v":"0066364963"},{"$f":"IF(SISWA!D9=0,\"\",SISWA!D9)","v":"1-18-05-80-162-002-8"},{"$f":"IF(SISWA!E9=0,\"\",SISWA!E9)","v":"AHMAD FERDIAN ALAMSYAH"},71,68,74,62,81,{"$f":"AVERAGE(F9:J9)","v":71.2},65,{"$f":"K9","v":71.2},{"$f":"AVERAGE(K9:L9)","v":68.099999999999994},{"$f":"AVERAGE(L9,F9:J9)","v":70.166666666666671},null,null,{"$f":"TEXT(K9,0)&MID(K9,3,3)+0.01","v":"710,21"}]
[3,{"$f":"IF(SISWA!B10=0,\"\",SISWA!B10)","v":4271},{"$f":"IF(SISWA!C10=0,\"\",SISWA!C10)","v":"0062805893"},{"$f":"IF(SISWA!D10=0,\"\",SISWA!D10)","v":"1-18-05-80-162-003-7"},{"$f":"IF(SISWA!E10=0,\"\",SISWA!E10)","v":"AHMAD RAMADHANI FADLULLOH"},73,70,70,73,90,75.2,65,75.2,70.099999999999994,73.5,null,null,{"$f":"TEXT(K10,0)&MID(K10,3,3)","v":"75,2"}]
[4,{"$f":"IF(SISWA!B11=0,\"\",SISWA!B11)","v":4398},{"$f":"IF(SISWA!C11=0,\"\",SISWA!C11)","v":"0062399399"},{"$f":"IF(SISWA!D11=0,\"\",SISWA!D11)","v":"1-18-05-80-162-004-6"},{"$f":"IF(SISWA!E11=0,\"\",SISWA!E11)","v":"ANANDA AMILIA"},71,67,71,74,84,73.400000000000006,65,73.400000000000006,69.2,72,null,null,{"$f":"TEXT(K11,0)&MID(K11,3,3)","v":"73,4"}]
[5,{"$f":"IF(SISWA!B12=0,\"\",SISWA!B12)","v":4272},{"$f":"IF(SISWA!C12=0,\"\",SISWA!C12)","v":"0071551428"},{"$f":"IF(SISWA!D12=0,\"\",SISWA!D12)","v":"1-18-05-80-162-005-5"},{"$f":"IF(SISWA!E12=0,\"\",SISWA!E12)","v":"ANDINI MAULID DWI LESTARI"},73,71,76,75,84,75.8,65,75.8,70.400000000000006,74,null,null,"76,8"]
[6,{"$f":"IF(SISWA!B13=0,\"\",SISWA!B13)","v":4301},{"$f":"IF(SISWA!C13=0,\"\",SISWA!C13)","v":"0061907599"},{"$f":"IF(SISWA!D13=0,\"\",SISWA!D13)","v":"1-18-05-80-162-006-4"},{"$f":"IF(SISWA!E13=0,\"\",SISWA!E13)","v":"ANDRIK YUSRI"},70,67,76,65,75,70.599999999999994,65,70.599999999999994,67.8,69.666666666666671,null,null,"71,6"]
[7,{"$f":"IF(SISWA!B14=0,\"\",SISWA!B14)","v":4273},{"$f":"IF(SISWA!C14=0,\"\",SISWA!C14)","v":"0067280519"},{"$f":"IF(SISWA!D14=0,\"\",SISWA!D14)","v":"1-18-05-80-162-007-3"},{"$f":"IF(SISWA!E14=0,\"\",SISWA!E14)","v":"DEWI SAKINAH ISWARA"},77,73,73,74,91,77.599999999999994,65,77.599999999999994,71.3,75.5,null,null,"78,6"]
[8,{"$f":"IF(SISWA!B15=0,\"\",SISWA!B15)","v":4307},{"$f":"IF(SISWA!C15=0,\"\",SISWA!C15)","v":"0066012198"},{"$f":"IF(SISWA!D15=0,\"\",SISWA!D15)","v":"1-18-05-80-162-008-2"},{"$f":"IF(SISWA!E15=0,\"\",SISWA!E15)","v":"CHAKIM"},70,66,74,63,75,69.599999999999994,65,69.599999999999994,67.3,68.833333333333329,null,null,"70,6"]
[9,{"$f":"IF(SISWA!B16=0,\"\",SISWA!B16)","v":4275},{"$f":"IF(SISWA!C16=0,\"\",SISWA!C16)","v":"0078199679"},{"$f":"IF(SISWA!D16=0,\"\",SISWA!D16)","v":"1-18-05-80-162-009-9"},{"$f":"IF(SISWA!E16=0,\"\",SISWA!E16)","v":"HANIK APRILIA SARI"},78,75,71,74,88,77.2,65,77.2,71.099999999999994,75.166666666666671,null,null,"77,2"]
[10,{"$f":"IF(SISWA!B17=0,\"\",SISWA!B17)","v":"4238"},{"$f":"IF(SISWA!C17=0,\"\",SISWA!C17)","v":"0051503260"},{"$f":"IF(SISWA!D17=0,\"\",SISWA!D17)","v":"1-18-05-80-162-010-8"},{"$f":"IF(SISWA!E17=0,\"\",SISWA!E17)","v":"DESI NATALIA SAPUTRI"},70,65,75,68,79,71.400000000000006,65,71.400000000000006,68.2,70.333333333333329,null,null,"71,4"]
[11,{"$f":"IF(SISWA!B18=0,\"\",SISWA!B18)","v":4391},{"$f":"IF(SISWA!C18=0,\"\",SISWA!C18)","v":"0079418518"},{"$f":"IF(SISWA!D18=0,\"\",SISWA!D18)","v":"1-18-05-80-162-011-7"},{"$f":"IF(SISWA!E18=0,\"\",SISWA!E18)","v":"HIDAYATUL KHUMAINIA"},70,66,75,67,87,73,65,73,69,71.666666666666671,null,null,"73"]
[12,{"$f":"IF(SISWA!B19=0,\"\",SISWA!B19)","v":4274},{"$f":"IF(SISWA!C19=0,\"\",SISWA!C19)","v":"0077670297"},{"$f":"IF(SISWA!D19=0,\"\",SISWA!D19)","v":"1-18-05-80-162-012-6"},{"$f":"IF(SISWA!E19=0,\"\",SISWA!E19)","v":"DWITA FITA WULANDARI"},71,64,76,69,79,71.8,65,71.8,68.400000000000006,70.666666666666671,null,null,"72,8"]
[13,{"$f":"IF(SISWA!B20=0,\"\",SISWA!B20)","v":4276},{"$f":"IF(SISWA!C20=0,\"\",SISWA!C20)","v":"0067236848"},{"$f":"IF(SISWA!D20=0,\"\",SISWA!D20)","v":"1-18-05-80-162-013-5"},{"$f":"IF(SISWA!E20=0,\"\",SISWA!E20)","v":"IZZA ILMIA AZZAHRA"},78,79,73,75,91,79.2,65,79.2,72.099999999999994,76.833333333333329,null,null,"79,2"]
[14,{"$f":"IF(SISWA!B21=0,\"\",SISWA!B21)","v":4303},{"$f":"IF(SISWA!C21=0,\"\",SISWA!C21)","v":"0064031376"},{"$f":"IF(SISWA!D21=0,\"\",SISWA!D21)","v":"1-18-05-80-162-014-4"},{"$f":"IF(SISWA!E21=0,\"\",SISWA!E21)","v":"FARIDATUS SAHDIAH"},71,66,74,59,79,69.8,65,69.8,67.400000000000006,69,null,null,"70,8"]
[15,{"$f":"IF(SISWA!B22=0,\"\",SISWA!B22)","v":4278},{"$f":"IF(SISWA!C22=0,\"\",SISWA!C22)","v":"0079672823"},{"$f":"IF(SISWA!D22=0,\"\",SISWA!D22)","v":"1-18-05-80-162-015-3"},{"$f":"IF(SISWA!E22=0,\"\",SISWA!E22)","v":"KHARISYA AZZAHRO"},83,81,78,77,90,81.8,65,81.8,73.400000000000006,79,null,null,"82,8"]
[16,{"$f":"IF(SISWA!B23=0,\"\",SISWA!B23)","v":4277},{"$f":"IF(SISWA!C23=0,\"\",SISWA!C23)","v":"0077101453"},{"$f":"IF(SISWA!D23=0,\"\",SISWA!D23)","v":"1-18-05-80-162-016-2"},{"$f":"IF(SISWA!E23=0,\"\",SISWA!E23)","v":"KARINA FEBBY CAHYA AMILIA"},75,76,72,74,79,75.2,65,75.2,70.099999999999994,73.5,null,null,"75,2"]
[17,{"$f":"IF(SISWA!B24=0,\"\",SISWA!B24)","v":4601},{"$f":"IF(SISWA!C24=0,\"\",SISWA!C24)","v":"0069718082"},{"$f":"IF(SISWA!D24=0,\"\",SISWA!D24)","v":"1-18-05-80-162-017-9"},{"$f":"IF(SISWA!E24=0,\"\",SISWA!E24)","v":"MOCHAMAD RIFKY ROSAN"},71,65,72,71,84,72.599999999999994,65,72.599999999999994,68.8,71.333333333333329,null,null,"73,6"]
[18,{"$f":"IF(SISWA!B25=0,\"\",SISWA!B25)","v":"4241"},{"$f":"IF(SISWA!C25=0,\"\",SISWA!C25)","v":"0057006145"},{"$f":"IF(SISWA!D25=0,\"\",SISWA!D25)","v":"1-18-05-80-162-018-8"},{"$f":"IF(SISWA!E25=0,\"\",SISWA!E25)","v":"KHUSNI CAHYONO"},70,61,74,64,79,69.599999999999994,65,69.599999999999994,67.3,68.833333333333329,null,null,"70,6"]
[19,{"$f":"IF(SISWA!B26=0,\"\",SISWA!B26)","v":4280},{"$f":"IF(SISWA!C26=0,\"\",SISWA!C26)","v":"0062061356"},{"$f":"IF(SISWA!D26=0,\"\",SISWA!D26)","v":"1-18-05-80-162-019-7"},{"$f":"IF(SISWA!E26=0,\"\",SISWA!E26)","v":"MUCHAMMAD ALIEF FERDIANSYAH"},79,81,74,73,93,80,72,80,76,78.666666666666671,null,null,"80"]
[20,{"$f":"IF(SISWA!B27=0,\"\",SISWA!B27)","v":4306},{"$f":"IF(SISWA!C27=0,\"\",SISWA!C27)","v":"0069095925"},{"$f":"IF(SISWA!D27=0,\"\",SISWA!D27)","v":"1-18-05-80-162-020-6"},{"$f":"IF(SISWA!E27=0,\"\",SISWA!E27)","v":"LENNY AGUSTIN NINGTYAS"},70,62,75,60,79,69.2,65,69.2,67.099999999999994,68.5,null,null,"69,2"]
[21,{"$f":"IF(SISWA!B28=0,\"\",SISWA!B28)","v":4281},{"$f":"IF(SISWA!C28=0,\"\",SISWA!C28)","v":"0069153972"},{"$f":"IF(SISWA!D28=0,\"\",SISWA!D28)","v":"1-18-05-80-162-021-5"},{"$f":"IF(SISWA!E28=0,\"\",SISWA!E28)","v":"MUHAMMAD AGUS ANDRIANTO"},75,72,76,69,89,76.2,65,76.2,70.599999999999994,74.333333333333329,null,null,"76,2"]
[22,{"$f":"IF(SISWA!B29=0,\"\",SISWA!B29)","v":4308},{"$f":"IF(SISWA!C29=0,\"\",SISWA!C29)","v":"0063078335"},{"$f":"IF(SISWA!D29=0,\"\",SISWA!D29)","v":"1-18-05-80-162-022-4"},{"$f":"IF(SISWA!E29=0,\"\",SISWA!E29)","v":"MAURIS HIDAYATUR ROCHMAN"},75,75,71,73,79,74.599999999999994,65,74.599999999999994,69.8,73,null,null,"75,6"]
[23,{"$f":"IF(SISWA!B30=0,\"\",SISWA!B30)","v":4314},{"$f":"IF(SISWA!C30=0,\"\",SISWA!C30)","v":"0072178353"},{"$f":"IF(SISWA!D30=0,\"\",SISWA!D30)","v":"1-18-05-80-162-023-3"},{"$f":"IF(SISWA!E30=0,\"\",SISWA!E30)","v":"MUHAMMAD BISMAR TAUFIQUROHMAN"},72,71,74,74,88,75.8,65,75.8,70.400000000000006,74,null,null,"76,8"]
[24,{"$f":"IF(SISWA!B31=0,\"\",SISWA!B31)","v":4309},{"$f":"IF(SISWA!C31=0,\"\",SISWA!C31)","v":"0072198448"},{"$f":"IF(SISWA!D31=0,\"\",SISWA!D31)","v":"1-18-05-80-162-024-2"},{"$f":"IF(SISWA!E31=0,\"\",SISWA!E31)","v":"MAYA BUNGA ANJANI"},70,62,76,63,79,70,65,70,67.5,69.166666666666671,null,null,"70"]
[25,{"$f":"IF(SISWA!B32=0,\"\",SISWA!B32)","v":4320},{"$f":"IF(SISWA!C32=0,\"\",SISWA!C32)","v":"0064566227"},{"$f":"IF(SISWA!D32=0,\"\",SISWA!D32)","v":"1-18-05-80-162-025-9"},{"$f":"IF(SISWA!E32=0,\"\",SISWA!E32)","v":"MUHAMMAD SAHLAN SHODIQ"},76,74,74,74,89,77.400000000000006,65,77.400000000000006,71.2,75.333333333333329,null,null,"77,4"]
[26,{"$f":"IF(SISWA!B33=0,\"\",SISWA!B33)","v":4279},{"$f":"IF(SISWA!C33=0,\"\",SISWA!C33)","v":"0066637092"},{"$f":"IF(SISWA!D33=0,\"\",SISWA!D33)","v":"1-18-05-80-162-026-8"},{"$f":"IF(SISWA!E33=0,\"\",SISWA!E33)","v":"MITA SEPTIANI ISLAMIA"},70,65,72,73,79,71.8,65,71.8,68.400000000000006,70.666666666666671,null,null,"72,8"]
[27,{"$f":"IF(SISWA!B34=0,\"\",SISWA!B34)","v":4321},{"$f":"IF(SISWA!C34=0,\"\",SISWA!C34)","v":"0061244045"},{"$f":"IF(SISWA!D34=0,\"\",SISWA!D34)","v":"1-18-05-80-162-027-7"},{"$f":"IF(SISWA!E34=0,\"\",SISWA!E34)","v":"MUHAMMAD SEPTYAN EKA PRATAMA"},76,72,76,66,85,75,65,75,70,73.333333333333329,null,null,"75"]
[28,{"$f":"IF(SISWA!B35=0,\"\",SISWA!B35)","v":"4247"},{"$f":"IF(SISWA!C35=0,\"\",SISWA!C35)","v":"0053546157"},{"$f":"IF(SISWA!D35=0,\"\",SISWA!D35)","v":"1-18-05-80-162-028-6"},{"$f":"IF(SISWA!E35=0,\"\",SISWA!E35)","v":"MOCHAMAD ARIEL FRANS TITO"},69,66,75,61,79,70,65,70,67.5,69.166666666666671,null,null,"70"]
[29,{"$f":"IF(SISWA!B36=0,\"\",SISWA!B36)","v":4285},{"$f":"IF(SISWA!C36=0,\"\",SISWA!C36)","v":"0067871553"},{"$f":"IF(SISWA!D36=0,\"\",SISWA!D36)","v":"1-18-05-80-162-029-5"},{"$f":"IF(SISWA!E36=0,\"\",SISWA!E36)","v":"MUHAMMAD VERYANSYAH"},77,76,72,67,89,76.2,65,76.2,70.599999999999994,74.333333333333329,null,null,"76,2"]
[30,{"$f":"IF(SISWA!B37=0,\"\",SISWA!B37)","v":4310},{"$f":"IF(SISWA!C37=0,\"\",SISWA!C37)","v":"0066383678"},{"$f":"IF(SISWA!D37=0,\"\",SISWA!D37)","v":"1-18-05-80-162-030-4"},{"$f":"IF(SISWA!E37=0,\"\",SISWA!E37)","v":"MOCHAMMAD BIMA RISFANDA"},70,67,71,74,79,72.2,65,72.2,68.599999999999994,71,null,null,"72,2"]
[31,{"$f":"IF(SISWA!B38=0,\"\",SISWA!B38)","v":4286},{"$f":"IF(SISWA!C38=0,\"\",SISWA!C38)","v":"0064443822"},{"$f":"IF(SISWA!D38=0,\"\",SISWA!D38)","v":"1-18-05-80-162-031-3"},{"$f":"IF(SISWA!E38=0,\"\",SISWA!E38)","v":"MUHAMMAD ZIDNY NA'IM"},80,81,73,74,91,79.8,65,79.8,72.400000000000006,77.333333333333329,null,null,"80,8"]
[32,{"$f":"IF(SISWA!B39=0,\"\",SISWA!B39)","v":4282},{"$f":"IF(SISWA!C39=0,\"\",SISWA!C39)","v":"0068336765"},{"$f":"IF(SISWA!D39=0,\"\",SISWA!D39)","v":"1-18-05-80-162-032-2"},{"$f":"IF(SISWA!E39=0,\"\",SISWA!E39)","v":"MUHAMMAD AGUS FERDIANSYAH"},75,73,70,82,79,75.8,65,75.8,70.400000000000006,74,null,null,"76,8"]
[33,{"$f":"IF(SISWA!B40=0,\"\",SISWA!B40)","v":4287},{"$f":"IF(SISWA!C40=0,\"\",SISWA!C40)","v":"0064528717"},{"$f":"IF(SISWA!D40=0,\"\",SISWA!D40)","v":"1-18-05-80-162-033-9"},{"$f":"IF(SISWA!E40=0,\"\",SISWA!E40)","v":"MUHAMMAD FARDAN ABDILLAH"},75,null,71,81,null,75.666666666666671,65,75.666666666666671,70.333333333333343,73,null,null,"76,66"]
[34,{"$f":"IF(SISWA!B41=0,\"\",SISWA!B41)","v":4315},{"$f":"IF(SISWA!C41=0,\"\",SISWA!C41)","v":"0067870495"},{"$f":"IF(SISWA!D41=0,\"\",SISWA!D41)","v":"1-18-05-80-162-034-8"},{"$f":"IF(SISWA!E41=0,\"\",SISWA!E41)","v":"NABILA ARISKA PUTRI"},80,77,73,69,87,77.2,65,77.2,71.099999999999994,75.166666666666671,null,null,"77,2"]
[35,{"$f":"IF(SISWA!B42=0,\"\",SISWA!B42)","v":4288},{"$f":"IF(SISWA!C42=0,\"\",SISWA!C42)","v":"0068641191"},{"$f":"IF(SISWA!D42=0,\"\",SISWA!D42)","v":"1-18-05-80-162-035-7"},{"$f":"IF(SISWA!E42=0,\"\",SISWA!E42)","v":"MUHAMMAD FERDINAN JAYYIDAH RIFQI"},78,78,70,80,79,77,65,77,71,75,null,null,"77"]
[36,{"$f":"IF(SISWA!B43=0,\"\",SISWA!B43)","v":4283},{"$f":"IF(SISWA!C43=0,\"\",SISWA!C43)","v":"0077212388"},{"$f":"IF(SISWA!D43=0,\"\",SISWA!D43)","v":"1-18-05-80-162-036-6"},{"$f":"IF(SISWA!E43=0,\"\",SISWA!E43)","v":"NAFISA INDRIANI"},80,83,73,75,92,80.599999999999994,65,80.599999999999994,72.8,78,null,null,"81,6"]
[37,{"$f":"IF(SISWA!B44=0,\"\",SISWA!B44)","v":"4257"},{"$f":"IF(SISWA!C44=0,\"\",SISWA!C44)","v":"0069944706"},{"$f":"IF(SISWA!D44=0,\"\",SISWA!D44)","v":"1-18-05-80-162-037-5"},{"$f":"IF(SISWA!E44=0,\"\",SISWA!E44)","v":"MUHAMMAD FIRMANSYAH"},71,66,73,64,79,70.599999999999994,65,70.599999999999994,67.8,69.666666666666671,null,null,"71,6"]
[38,{"$f":"IF(SISWA!B45=0,\"\",SISWA!B45)","v":4317},{"$f":"IF(SISWA!C45=0,\"\",SISWA!C45)","v":"0068498059"},{"$f":"IF(SISWA!D45=0,\"\",SISWA!D45)","v":"1-18-05-80-162-038-4"},{"$f":"IF(SISWA!E45=0,\"\",SISWA!E45)","v":"NAJWA FARISYA BAROROH"},73,72,71,74,88,75.599999999999994,65,75.599999999999994,70.3,73.833333333333329,null,null,"76,6"]
[39,{"$f":"IF(SISWA!B46=0,\"\",SISWA!B46)","v":4289},{"$f":"IF(SISWA!C46=0,\"\",SISWA!C46)","v":"0065225517"},{"$f":"IF(SISWA!D46=0,\"\",SISWA!D46)","v":"1-18-05-80-162-039-3"},{"$f":"IF(SISWA!E46=0,\"\",SISWA!E46)","v":"NUR FITRIYAH"},76,71,72,74,84,75.400000000000006,65,75.400000000000006,70.2,73.666666666666671,null,null,"75,4"]
[40,{"$f":"IF(SISWA!B47=0,\"\",SISWA!B47)","v":4318},{"$f":"IF(SISWA!C47=0,\"\",SISWA!C47)","v":"0061441364"},{"$f":"IF(SISWA!D47=0,\"\",SISWA!D47)","v":"1-18-05-80-162-040-2"},{"$f":"IF(SISWA!E47=0,\"\",SISWA!E47)","v":"MUHAMMAD HILDAN DWI SAPUTRA"},70,70,69,80,79,73.599999999999994,65,73.599999999999994,69.3,72.166666666666671,null,null,"74,6"]
[41,{"$f":"IF(SISWA!B48=0,\"\",SISWA!B48)","v":4392},{"$f":"IF(SISWA!C48=0,\"\",SISWA!C48)","v":"0075794532"},{"$f":"IF(SISWA!D48=0,\"\",SISWA!D48)","v":"1-18-05-80-162-041-9"},{"$f":"IF(SISWA!E48=0,\"\",SISWA!E48)","v":"PUTRI NAFI'ATUS SOLIKHAH"},71,70,72,75,89,75.400000000000006,65,75.400000000000006,70.2,73.666666666666671,null,null,"75,4"]
[42,{"$f":"IF(SISWA!B49=0,\"\",SISWA!B49)","v":4284},{"$f":"IF(SISWA!C49=0,\"\",SISWA!C49)","v":"0069578000"},{"$f":"IF(SISWA!D49=0,\"\",SISWA!D49)","v":"1-18-05-80-162-042-8"},{"$f":"IF(SISWA!E49=0,\"\",SISWA!E49)","v":"MUHAMMAD RAYA KAFAF JAUHARI"},77,76,70,80,79,76.400000000000006,65,76.400000000000006,70.7,74.5,null,null,"76,4"]
[43,{"$f":"IF(SISWA!B50=0,\"\",SISWA!B50)","v":4290},{"$f":"IF(SISWA!C50=0,\"\",SISWA!C50)","v":"0063558216"},{"$f":"IF(SISWA!D50=0,\"\",SISWA!D50)","v":"1-18-05-80-162-043-7"},{"$f":"IF(SISWA!E50=0,\"\",SISWA!E50)","v":"QORIATUN SHOLIHAH"},79,76,73,66,88,76.400000000000006,65,76.400000000000006,70.7,74.5,null,null,"76,4"]
[44,{"$f":"IF(SISWA!B51=0,\"\",SISWA!B51)","v":4319},{"$f":"IF(SISWA!C51=0,\"\",SISWA!C51)","v":"0065329770"},{"$f":"IF(SISWA!D51=0,\"\",SISWA!D51)","v":"1-18-05-80-162-044-6"},{"$f":"IF(SISWA!E51=0,\"\",SISWA!E51)","v":"MUHAMMAD RUDI TANTOWIK"},69,65,73,67,70,68.8,65,68.8,66.900000000000006,68.166666666666671,null,null,"69,8"]
[45,{"$f":"IF(SISWA!B52=0,\"\",SISWA!B52)","v":4291},{"$f":"IF(SISWA!C52=0,\"\",SISWA!C52)","v":"0067071679"},{"$f":"IF(SISWA!D52=0,\"\",SISWA!D52)","v":"1-18-05-80-162-045-5"},{"$f":"IF(SISWA!E52=0,\"\",SISWA!E52)","v":"RACHMAD HIDAYAT"},76,71,72,74,87,76,65,76,70.5,74.166666666666671,null,null,"76"]
[46,{"$f":"IF(SISWA!B53=0,\"\",SISWA!B53)","v":4322},{"$f":"IF(SISWA!C53=0,\"\",SISWA!C53)","v":"0051101989"},{"$f":"IF(SISWA!D53=0,\"\",SISWA!D53)","v":"1-18-05-80-162-046-4"},{"$f":"IF(SISWA!E53=0,\"\",SISWA!E53)","v":"MUHAMMAD ZULDIENUR HABIBIE"},69,62,69,71,79,70,65,70,67.5,69.166666666666671,null,null,"70"]
[47,{"$f":"IF(SISWA!B54=0,\"\",SISWA!B54)","v":4292},{"$f":"IF(SISWA!C54=0,\"\",SISWA!C54)","v":"0072001696"},{"$f":"IF(SISWA!D54=0,\"\",SISWA!D54)","v":"1-18-05-80-162-047-3"},{"$f":"IF(SISWA!E54=0,\"\",SISWA!E54)","v":"RHEA RAYSHANADA NUGRAHA"},76,74,73,73,89,77,65,77,71,75,null,null,"77"]
[48,{"$f":"IF(SISWA!B55=0,\"\",SISWA!B55)","v":4323},{"$f":"IF(SISWA!C55=0,\"\",SISWA!C55)","v":"0078949167"},{"$f":"IF(SISWA!D55=0,\"\",SISWA!D55)","v":"1-18-05-80-162-048-2"},{"$f":"IF(SISWA!E55=0,\"\",SISWA!E55)","v":"MUKHAMAD KHOIRUL AMIN"},69,63,71,70,78,70.2,65,70.2,67.599999999999994,69.333333333333329,null,null,"70,2"]
[49,{"$f":"IF(SISWA!B56=0,\"\",SISWA!B56)","v":4293},{"$f":"IF(SISWA!C56=0,\"\",SISWA!C56)","v":"0064217705"},{"$f":"IF(SISWA!D56=0,\"\",SISWA!D56)","v":"1-18-05-80-162-049-9"},{"$f":"IF(SISWA!E56=0,\"\",SISWA!E56)","v":"RIYANTI APRILIA"},80,75,73,74,88,78,65,78,71.5,75.833333333333329,null,null,"78"]
[50,{"$f":"IF(SISWA!B57=0,\"\",SISWA!B57)","v":"4256"},{"$f":"IF(SISWA!C57=0,\"\",SISWA!C57)","v":"0065699742"},{"$f":"IF(SISWA!D57=0,\"\",SISWA!D57)","v":"1-18-05-80-162-050-8"},{"$f":"IF(SISWA!E57=0,\"\",SISWA!E57)","v":"MUKHAMMAD YAASIIN HASAN KHASBULLOH"},72,65,74,67,79,71.400000000000006,65,71.400000000000006,68.2,70.333333333333329,null,null,"71,4"]
[51,{"$f":"IF(SISWA!B58=0,\"\",SISWA!B58)","v":4295},{"$f":"IF(SISWA!C58=0,\"\",SISWA!C58)","v":"0061359184"},{"$f":"IF(SISWA!D58=0,\"\",SISWA!D58)","v":"1-18-05-80-162-051-7"},{"$f":"IF(SISWA!E58=0,\"\",SISWA!E58)","v":"SHONIA AULIA AS'AD"},81,85,77,76,94,82.6,65,82.6,73.8,79.666666666666671,null,null,"83,6"]
[52,{"$f":"IF(SISWA!B59=0,\"\",SISWA!B59)","v":4294},{"$f":"IF(SISWA!C59=0,\"\",SISWA!C59)","v":"0064723905"},{"$f":"IF(SISWA!D59=0,\"\",SISWA!D59)","v":"1-18-05-80-162-052-6"},{"$f":"IF(SISWA!E59=0,\"\",SISWA!E59)","v":"RIZKA AYU WULANDARI"},76,70,73,72,79,74,65,74,69.5,72.5,null,null,"74"]
[53,{"$f":"IF(SISWA!B60=0,\"\",SISWA!B60)","v":4298},{"$f":"IF(SISWA!C60=0,\"\",SISWA!C60)","v":"0065530554"},{"$f":"IF(SISWA!D60=0,\"\",SISWA!D60)","v":"1-18-05-80-162-053-5"},{"$f":"IF(SISWA!E60=0,\"\",SISWA!E60)","v":"VERLINA DWI MAULANI"},79,77,73,62,86,75.400000000000006,65,75.400000000000006,70.2,73.666666666666671,null,null,"75,4"]
[54,{"$f":"IF(SISWA!B61=0,\"\",SISWA!B61)","v":4297},{"$f":"IF(SISWA!C61=0,\"\",SISWA!C61)","v":"0063846732"},{"$f":"IF(SISWA!D61=0,\"\",SISWA!D61)","v":"1-18-05-80-162-054-4"},{"$f":"IF(SISWA!E61=0,\"\",SISWA!E61)","v":"USWATUN KHASANAH"},71,68,74,74,79,73.2,65,73.2,69.099999999999994,71.833333333333329,null,null,"73,2"]
[55,{"$f":"IF(SISWA!B62=0,\"\",SISWA!B62)","v":4324},{"$f":"IF(SISWA!C62=0,\"\",SISWA!C62)","v":"0078966795"},{"$f":"IF(SISWA!D62=0,\"\",SISWA!D62)","v":"1-18-05-80-162-055-3"},{"$f":"IF(SISWA!E62=0,\"\",SISWA!E62)","v":"VIKA KUSUMA WATI"},74,73,73,74,88,76.400000000000006,65,76.400000000000006,70.7,74.5,null,null,"76,4"]
[56,{"$f":"IF(SISWA!B63=0,\"\",SISWA!B63)","v":4326},{"$f":"IF(SISWA!C63=0,\"\",SISWA!C63)","v":"0064124533"},{"$f":"IF(SISWA!D63=0,\"\",SISWA!D63)","v":"1-18-05-80-162-056-2"},{"$f":"IF(SISWA!E63=0,\"\",SISWA!E63)","v":"YOHAN EGA GILANG PERMANA"},70,null,70,75,79,73.5,65,73.5,69.25,71.8,null,null,"74,5"]
[57,{"$f":"IF(SISWA!B64=0,\"\",SISWA!B64)","v":""},{"$f":"IF(SISWA!C64=0,\"\",SISWA!C64)","v":""},{"$f":"IF(SISWA!D64=0,\"\",SISWA!D64)","v":"1-18-05-80-162-057-9"},{"$f":"IF(SISWA!E64=0,\"\",SISWA!E64)","v":""},null,null,null,null,null,{"$f":"AVERAGE(F64:J64)","v":{"$error":"#DIV/0!"}},null,{"$f":"K64","v":{"$error":"#DIV/0!"}},{"$f":"AVERAGE(K64:L64)","v":{"$error":"#DIV/0!"}},null,null,null,{"$error":"#DIV/0!"}]
[58,{"$f":"IF(SISWA!B65=0,\"\",SISWA!B65)","v":""},{"$f":"IF(SISWA!C65=0,\"\",SISWA!C65)","v":""},{"$f":"IF(SISWA!D65=0,\"\",SISWA!D65)","v":"1-18-05-80-162-058-8"},{"$f":"IF(SISWA!E65=0,\"\",SISWA!E65)","v":""},null,null,null,null,null,{"$error":"#DIV/0!"},null,null,{"$error":"#DIV/0!"},null,null,null,{"$error":"#DIV/0!"}]
[59,{"$f":"IF(SISWA!B66=0,\"\",SISWA!B66)","v":""},{"$f":"IF(SISWA!C66=0,\"\",SISWA!C66)","v":""},{"$f":"IF(SISWA!D66=0,\"\",SISWA!D66)","v":"1-18-05-80-162-059-7"},{"$f":"IF(SISWA!E66=0,\"\",SISWA!E66)","v":""},null,null,null,null,null,{"$error":"#DIV/0!"},null,null,{"$error":"#DIV/0!"},null,null,null,{"$error":"#DIV/0!"}]
[60,{"$f":"IF(SISWA!B67=0,\"\",SISWA!B67)","v":""},{"$f":"IF(SISWA!C67=0,\"\",SISWA!C67)","v":""},{"$f":"IF(SISWA!D67=0,\"\",SISWA!D67)","v":"1-18-05-80-162-060-6"},{"$f":"IF(SISWA!E67=0,\"\",SISWA!E67)","v":""},null,null,null,null,null,{"$error":"#DIV/0!"},null,null,{"$error":"#DIV/0!"},null,null,null,{"$error":"#DIV/0!"}]
[61,{"$f":"IF(SISWA!B68=0,\"\",SISWA!B68)","v":""},{"$f":"IF(SISWA!C68=0,\"\",SISWA!C68)","v":""},{"$f":"IF(SISWA!D68=0,\"\",SISWA!D68)","v":"1-18-05-80-162-061-5"},{"$f":"IF(SISWA!E68=0,\"\",SISWA!E68)","v":""},null,null,null,null,null,{"$error":"#DIV/0!"},null,null,{"$error":"#DIV/0!"},null,null,null,{"$error":"#DIV/0!"}]
[62,{"$f":"IF(SISWA!B69=0,\"\",SISWA!B69)","v":""},{"$f":"IF(SISWA!C69=0,\"\",SISWA!C69)","v":""},{"$f":"IF(SISWA!D69=0,\"\",SISWA!D69)","v":"062-4"},{"$f":"IF(SISWA!E69=0,\"\",SISWA!E69)","v":""},null,null,null,null,null,{"$error":"#DIV/0!"},null,null,{"$error":"#DIV/0!"},null,null,null,{"$error":"#DIV/0!"}]
[63,{"$f":"IF(SISWA!B70=0,\"\",SISWA!B70)","v":""},{"$f":"IF(SISWA!C70=0,\"\",SISWA!C70)","v":""},{"$f":"IF(SISWA!D70=0,\"\",SISWA!D70)","v":"063-3"},{"$f":"IF(SISWA!E70=0,\"\",SISWA!E70)","v":""},null,null,null,null,null,{"$error":"#DIV/0!"},null,null,{"$error":"#DIV/0!"},null,null,null,{"$error":"#DIV/0!"}]
[64,{"$f":"IF(SISWA!B71=0,\"\",SISWA!B71)","v":""},{"$f":"IF(SISWA!C71=0,\"\",SISWA!C71)","v":""},{"$f":"IF(SISWA!D71=0,\"\",SISWA!D71)","v":"064-2"},{"$f":"IF(SISWA!E71=0,\"\",SISWA!E71)","v":""},null,null,null,null,null,{"$error":"#DIV/0!"},null,null,{"$error":"#DIV/0!"},null,null,null,{"$error":"#DIV/0!"}]
[65,{"$f":"IF(SISWA!B72=0,\"\",SISWA!B72)","v":""},{"$f":"IF(SISWA!C72=0,\"\",SISWA!C72)","v":""},{"$f":"IF(SISWA!D72=0,\"\",SISWA!D72)","v":"065-"},{"$f":"IF(SISWA!E72=0,\"\",SISWA!E72)","v":""},null,null,null,null,null,{"$error":"#DIV/0!"},null,null,{"$error":"#DIV/0!"},null,null,null,{"$error":"#DIV/0!"}]
[66,{"$f":"IF(SISWA!B73=0,\"\",SISWA!B73)","v":""},{"$f":"IF(SISWA!C73=0,\"\",SISWA!C73)","v":""},{"$f":"IF(SISWA!D73=0,\"\",SISWA!D73)","v":"066-"},{"$f":"IF(SISWA!E73=0,\"\",SISWA!E73)","v":""},null,null,null,null,null,{"$f":"AVERAGE(F73:J73)","v":{"$error":"#DIV/0!"}},null,null,{"$f":"AVERAGE(K73:L73)","v":{"$error":"#DIV/0!"}},null,null,null,{"$error":"#DIV/0!"}]
[67,{"$f":"IF(SISWA!B74=0,\"\",SISWA!B74)","v":""},{"$f":"IF(SISWA!C74=0,\"\",SISWA!C74)","v":""},{"$f":"IF(SISWA!D74=0,\"\",SISWA!D74)","v":"067-"},{"$f":"IF(SISWA!E74=0,\"\",SISWA!E74)","v":""},null,null,null,null,null,{"$error":"#DIV/0!"},null,null,{"$error":"#DIV/0!"},null,null,null,{"$f":"TEXT(K74,0)&MID(K74,3,3)","v":{"$error":"#DIV/0!"}}]
[68,{"$f":"IF(SISWA!B75=0,\"\",SISWA!B75)","v":""},{"$f":"IF(SISWA!C75=0,\"\",SISWA!C75)","v":""},{"$f":"IF(SISWA!D75=0,\"\",SISWA!D75)","v":"068-"},{"$f":"IF(SISWA!E75=0,\"\",SISWA!E75)","v":""},null,null,null,null,null,{"$error":"#DIV/0!"},null,null,{"$error":"#DIV/0!"},null,null,null,{"$error":"#DIV/0!"}]
[69,{"$f":"IF(SISWA!B76=0,\"\",SISWA!B76)","v":""},{"$f":"IF(SISWA!C76=0,\"\",SISWA!C76)","v":""},{"$f":"IF(SISWA!D76=0,\"\",SISWA!D76)","v":"069-"},{"$f":"IF(SISWA!E76=0,\"\",SISWA!E76)","v":""},null,null,null,null,null,{"$error":"#DIV/0!"},null,null,{"$error":"#DIV/0!"},null,null,null,{"$error":"#DIV/0!"}]
[70,{"$f":"IF(SISWA!B77=0,\"\",SISWA!B77)","v":""},{"$f":"IF(SISWA!C77=0,\"\",SISWA!C77)","v":""},{"$f":"IF(SISWA!D77=0,\"\",SISWA!D77)","v":"070-"},{"$f":"IF(SISWA!E77=0,\"\",SISWA!E77)","v":""},null,null,null,null,null,{"$error":"#DIV/0!"},null,null,{"$error":"#DIV/0!"},null,null,null,{"$error":"#DIV/0!"}]
[71,{"$f":"IF(SISWA!B78=0,\"\",SISWA!B78)","v":""},{"$f":"IF(SISWA!C78=0,\"\",SISWA!C78)","v":""},{"$f":"IF(SISWA!D78=0,\"\",SISWA!D78)","v":"071-"},{"$f":"IF(SISWA!E78=0,\"\",SISWA!E78)","v":""},null,null,null,null,null,{"$error":"#DIV/0!"},null,null,{"$error":"#DIV/0!"},null,null,null,{"$error":"#DIV/0!"}]
[72,{"$f":"IF(SISWA!B79=0,\"\",SISWA!B79)","v":""},{"$f":"IF(SISWA!C79=0,\"\",SISWA!C79)","v":""},{"$f":"IF(SISWA!D79=0,\"\",SISWA!D79)","v":"072-"},{"$f":"IF(SISWA!E79=0,\"\",SISWA!E79)","v":""},null,null,null,null,null,{"$error":"#DIV/0!"},null,null,{"$error":"#DIV/0!"},null,null,null,{"$error":"#DIV/0!"}]
[73,{"$f":"IF(SISWA!B80=0,\"\",SISWA!B80)","v":""},{"$f":"IF(SISWA!C80=0,\"\",SISWA!C80)","v":""},{"$f":"IF(SISWA!D80=0,\"\",SISWA!D80)","v":"073-"},{"$f":"IF(SISWA!E80=0,\"\",SISWA!E80)","v":""},null,null,null,null,null,{"$error":"#DIV/0!"},null,null,{"$error":"#DIV/0!"},null,null,null,{"$error":"#DIV/0!"}]
[74,{"$f":"IF(SISWA!B81=0,\"\",SISWA!B81)","v":""},{"$f":"IF(SISWA!C81=0,\"\",SISWA!C81)","v":""},{"$f":"IF(SISWA!D81=0,\"\",SISWA!D81)","v":"074-"},{"$f":"IF(SISWA!E81=0,\"\",SISWA!E81)","v":""},null,null,null,null,null,{"$error":"#DIV/0!"},null,null,{"$error":"#DIV/0!"},null,null,null,{"$error":"#DIV/0!"}]
[75,{"$f":"IF(SISWA!B82=0,\"\",SISWA!B82)","v":""},{"$f":"IF(SISWA!C82=0,\"\",SISWA!C82)","v":""},{"$f":"IF(SISWA!D82=0,\"\",SISWA!D82)","v":"075-"},{"$f":"IF(SISWA!E82=0,\"\",SISWA!E82)","v":""},null,null,null,null,null,{"$error":"#DIV/0!"},null,null,{"$error":"#DIV/0!"},null,null,null,{"$error":"#DIV/0!"}]
[76,{"$f":"IF(SISWA!B83=0,\"\",SISWA!B83)","v":""},{"$f":"IF(SISWA!C83=0,\"\",SISWA!C83)","v":""},{"$f":"IF(SISWA!D83=0,\"\",SISWA!D83)","v":"076-"},{"$f":"IF(SISWA!E83=0,\"\",SISWA!E83)","v":""},null,null,null,null,null,{"$error":"#DIV/0!"},null,null,{"$error":"#DIV/0!"},null,null,null,{"$error":"#DIV/0!"}]
[77,{"$f":"IF(SISWA!B84=0,\"\",SISWA!B84)","v":""},{"$f":"IF(SISWA!C84=0,\"\",SISWA!C84)","v":""},{"$f":"IF(SISWA!D84=0,\"\",SISWA!D84)","v":"077-"},{"$f":"IF(SISWA!E84=0,\"\",SISWA!E84)","v":""},null,null,null,null,null,{"$error":"#DIV/0!"},null,null,{"$error":"#DIV/0!"},null,null,null,{"$error":"#DIV/0!"}]
[78,{"$f":"IF(SISWA!B85=0,\"\",SISWA!B85)","v":""},{"$f":"IF(SISWA!C85=0,\"\",SISWA!C85)","v":""},{"$f":"IF(SISWA!D85=0,\"\",SISWA!D85)","v":"078-"},{"$f":"IF(SISWA!E85=0,\"\",SISWA!E85)","v":""},null,null,null,null,null,{"$error":"#DIV/0!"},null,null,{"$error":"#DIV/0!"},null,null,null,{"$error":"#DIV/0!"}]
[79,{"$f":"IF(SISWA!B86=0,\"\",SISWA!B86)","v":""},{"$f":"IF(SISWA!C86=0,\"\",SISWA!C86)","v":""},{"$f":"IF(SISWA!D86=0,\"\",SISWA!D86)","v":"079-"},{"$f":"IF(SISWA!E86=0,\"\",SISWA!E86)","v":""},null,null,null,null,null,{"$error":"#DIV/0!"},null,null,{"$error":"#DIV/0!"},null,null,null,{"$error":"#DIV/0!"}]
[80,{"$f":"IF(SISWA!B87=0,\"\",SISWA!B87)","v":""},{"$f":"IF(SISWA!C87=0,\"\",SISWA!C87)","v":""},{"$f":"IF(SISWA!D87=0,\"\",SISWA!D87)","v":"080-"},{"$f":"IF(SISWA!E87=0,\"\",SISWA!E87)","v":""},null,null,null,null,null,{"$error":"#DIV/0!"},null,null,{"$error":"#DIV/0!"},null,null,null,{"$error":"#DIV/0!"}]
[81,{"$f":"IF(SISWA!B88=0,\"\",SISWA!B88)","v":""},{"$f":"IF(SISWA!C88=0,\"\",SISWA!C88)","v":""},{"$f":"IF(SISWA!D88=0,\"\",SISWA!D88)","v":"081-"},{"$f":"IF(SISWA!E88=0,\"\",SISWA!E88)","v":""},null,null,null,null,null,{"$error":"#DIV/0!"},null,null,{"$error":"#DIV/0!"},null,null,null,{"$error":"#DIV/0!"}]
[82,{"$f":"IF(SISWA!B89=0,\"\",SISWA!B89)","v":""},{"$f":"IF(SISWA!C89=0,\"\",SISWA!C89)","v":""},{"$f":"IF(SISWA!D89=0,\"\",SISWA!D89)","v":"082-"},{"$f":"IF(SISWA!E89=0,\"\",SISWA!E89)","v":""},null,null,null,null,null,{"$error":"#DIV/0!"},null,null,{"$error":"#DIV/0!"},null,null,null,{"$error":"#DIV/0!"}]
[83,{"$f":"IF(SISWA!B90=0,\"\",SISWA!B90)","v":""},{"$f":"IF(SISWA!C90=0,\"\",SISWA!C90)","v":""},{"$f":"IF(SISWA!D90=0,\"\",SISWA!D90)","v":"083-"},{"$f":"IF(SISWA!E90=0,\"\",SISWA!E90)","v":""},null,null,null,null,null,{"$error":"#DIV/0!"},null,null,{"$error":"#DIV/0!"},null,null,null,{"$error":"#DIV/0!"}]
[84,{"$f":"IF(SISWA!B91=0,\"\",SISWA!B91)","v":""},{"$f":"IF(SISWA!C91=0,\"\",SISWA!C91)","v":""},{"$f":"IF(SISWA!D91=0,\"\",SISWA!D91)","v":"084-"},{"$f":"IF(SISWA!E91=0,\"\",SISWA!E91)","v":""},null,null,null,null,null,{"$error":"#DIV/0!"},null,null,{"$error":"#DIV/0!"},null,null,null,{"$error":"#DIV/0!"}]
[85,{"$f":"IF(SISWA!B92=0,\"\",SISWA!B92)","v":""},{"$f":"IF(SISWA!C92=0,\"\",SISWA!C92)","v":""},{"$f":"IF(SISWA!D92=0,\"\",SISWA!D92)","v":"085-"},{"$f":"IF(SISWA!E92=0,\"\",SISWA!E92)","v":""},null,null,null,null,null,{"$error":"#DIV/0!"},null,null,{"$error":"#DIV/0!"},null,null,null,{"$error":"#DIV/0!"}]
[86,{"$f":"IF(SISWA!B93=0,\"\",SISWA!B93)","v":""},{"$f":"IF(SISWA!C93=0,\"\",SISWA!C93)","v":""},{"$f":"IF(SISWA!D93=0,\"\",SISWA!D93)","v":"086-"},{"$f":"IF(SISWA!E93=0,\"\",SISWA!E93)","v":""},null,null,null,null,null,{"$error":"#DIV/0!"},null,null,{"$error":"#DIV/0!"},null,null,null,{"$error":"#DIV/0!"}]
[87,{"$f":"IF(SISWA!B94=0,\"\",SISWA!B94)","v":""},{"$f":"IF(SISWA!C94=0,\"\",SISWA!C94)","v":""},{"$f":"IF(SISWA!D94=0,\"\",SISWA!D94)","v":"087-"},{"$f":"IF(SISWA!E94=0,\"\",SISWA!E94)","v":""},null,null,null,null,null,{"$error":"#DIV/0!"},null,null,{"$error":"#DIV/0!"},null,null,null,{"$error":"#DIV/0!"}]
[88,{"$f":"IF(SISWA!B95=0,\"\",SISWA!B95)","v":""},{"$f":"IF(SISWA!C95=0,\"\",SISWA!C95)","v":""},{"$f":"IF(SISWA!D95=0,\"\",SISWA!D95)","v":"088-"},{"$f":"IF(SISWA!E95=0,\"\",SISWA!E95)","v":""},null,null,null,null,null,{"$error":"#DIV/0!"},null,null,{"$error":"#DIV/0!"},null,null,null,{"$error":"#DIV/0!"}]
[89,{"$f":"IF(SISWA!B96=0,\"\",SISWA!B96)","v":""},{"$f":"IF(SISWA!C96=0,\"\",SISWA!C96)","v":""},{"$f":"IF(SISWA!D96=0,\"\",SISWA!D96)","v":"089-"},{"$f":"IF(SISWA!E96=0,\"\",SISWA!E96)","v":""},null,null,null,null,null,{"$error":"#DIV/0!"},null,null,{"$error":"#DIV/0!"},null,null,null,{"$error":"#DIV/0!"}]
[90,{"$f":"IF(SISWA!B97=0,\"\",SISWA!B97)","v":""},{"$f":"IF(SISWA!C97=0,\"\",SISWA!C97)","v":""},{"$f":"IF(SISWA!D97=0,\"\",SISWA!D97)","v":"090-"},{"$f":"IF(SISWA!E97=0,\"\",SISWA!E97)","v":""},null,null,null,null,null,{"$error":"#DIV/0!"},null,null,{"$error":"#DIV/0!"},null,null,null,{"$error":"#DIV/0!"}]
[91,{"$f":"IF(SISWA!B98=0,\"\",SISWA!B98)","v":""},{"$f":"IF(SISWA!C98=0,\"\",SISWA!C98)","v":""},{"$f":"IF(SISWA!D98=0,\"\",SISWA!D98)","v":"091-"},{"$f":"IF(SISWA!E98=0,\"\",SISWA!E98)","v":""},null,null,null,null,null,{"$error":"#DIV/0!"},null,null,{"$error":"#DIV/0!"},null,null,null,{"$error":"#DIV/0!"}]
[92,{"$f":"IF(SISWA!B99=0,\"\",SISWA!B99)","v":""},{"$f":"IF(SISWA!C99=0,\"\",SISWA!C99)","v":""},{"$f":"IF(SISWA!D99=0,\"\",SISWA!D99)","v":"092-"},{"$f":"IF(SISWA!E99=0,\"\",SISWA!E99)","v":""},null,null,null,null,null,{"$error":"#DIV/0!"},null,null,{"$error":"#DIV/0!"},null,null,null,{"$error":"#DIV/0!"}]
[93,{"$f":"IF(SISWA!B100=0,\"\",SISWA!B100)","v":""},{"$f":"IF(SISWA!C100=0,\"\",SISWA!C100)","v":""},{"$f":"IF(SISWA!D100=0,\"\",SISWA!D100)","v":"093-"},{"$f":"IF(SISWA!E100=0,\"\",SISWA!E100)","v":""},null,null,null,null,null,{"$error":"#DIV/0!"},null,null,{"$error":"#DIV/0!"},null,null,null,{"$error":"#DIV/0!"}]
[94,{"$f":"IF(SISWA!B101=0,\"\",SISWA!B101)","v":""},{"$f":"IF(SISWA!C101=0,\"\",SISWA!C101)","v":""},{"$f":"IF(SISWA!D101=0,\"\",SISWA!D101)","v":"094-"},{"$f":"IF(SISWA!E101=0,\"\",SISWA!E101)","v":""},null,null,null,null,null,{"$error":"#DIV/0!"},null,null,{"$error":"#DIV/0!"},null,null,null,{"$error":"#DIV/0!"}]
[95,{"$f":"IF(SISWA!B102=0,\"\",SISWA!B102)","v":""},{"$f":"IF(SISWA!C102=0,\"\",SISWA!C102)","v":""},{"$f":"IF(SISWA!D102=0,\"\",SISWA!D102)","v":"095-"},{"$f":"IF(SISWA!E102=0,\"\",SISWA!E102)","v":""},null,null,null,null,null,{"$error":"#DIV/0!"},null,null,{"$error":"#DIV/0!"},null,null,null,{"$error":"#DIV/0!"}]
[96,{"$f":"IF(SISWA!B103=0,\"\",SISWA!B103)","v":""},{"$f":"IF(SISWA!C103=0,\"\",SISWA!C103)","v":""},{"$f":"IF(SISWA!D103=0,\"\",SISWA!D103)","v":"096-"},{"$f":"IF(SISWA!E103=0,\"\",SISWA!E103)","v":""},null,null,null,null,null,{"$error":"#DIV/0!"},null,null,{"$error":"#DIV/0!"},null,null,null,{"$error":"#DIV/0!"}]
[97,{"$f":"IF(SISWA!B104=0,\"\",SISWA!B104)","v":""},{"$f":"IF(SISWA!C104=0,\"\",SISWA!C104)","v":""},{"$f":"IF(SISWA!D104=0,\"\",SISWA!D104)","v":"097-"},{"$f":"IF(SISWA!E104=0,\"\",SISWA!E104)","v":""},null,null,null,null,null,{"$error":"#DIV/0!"},null,null,{"$error":"#DIV/0!"},null,null,null,{"$error":"#DIV/0!"}]
[98,{"$f":"IF(SISWA!B105=0,\"\",SISWA!B105)","v":""},{"$f":"IF(SISWA!C105=0,\"\",SISWA!C105)","v":""},{"$f":"IF(SISWA!D105=0,\"\",SISWA!D105)","v":"098-"},{"$f":"IF(SISWA!E105=0,\"\",SISWA!E105)","v":""},null,null,null,null,null,{"$error":"#DIV/0!"},null,null,{"$error":"#DIV/0!"},null,null,null,{"$error":"#DIV/0!"}]
[99,{"$f":"IF(SISWA!B106=0,\"\",SISWA!B106)","v":""},{"$f":"IF(SISWA!C106=0,\"\",SISWA!C106)","v":""},{"$f":"IF(SISWA!D106=0,\"\",SISWA!D106)","v":"099-"},{"$f":"IF(SISWA!E106=0,\"\",SISWA!E106)","v":""},null,null,null,null,null,{"$error":"#DIV/0!"},null,null,{"$error":"#DIV/0!"},null,null,null,{"$error":"#DIV/0!"}]
[100,{"$f":"IF(SISWA!B107=0,\"\",SISWA!B107)","v":""},{"$f":"IF(SISWA!C107=0,\"\",SISWA!C107)","v":""},{"$f":"IF(SISWA!D107=0,\"\",SISWA!D107)","v":"100-"},{"$f":"IF(SISWA!E107=0,\"\",SISWA!E107)","v":""},null,null,null,null,null,{"$error":"#DIV/0!"},null,null,{"$error":"#DIV/0!"},null,null,null,{"$error":"#DIV/0!"}]
[101,{"$f":"IF(SISWA!B108=0,\"\",SISWA!B108)","v":""},{"$f":"IF(SISWA!C108=0,\"\",SISWA!C108)","v":""},{"$f":"IF(SISWA!D108=0,\"\",SISWA!D108)","v":"101-"},{"$f":"IF(SISWA!E108=0,\"\",SISWA!E108)","v":""},null,null,null,null,null,{"$error":"#DIV/0!"},null,null,{"$error":"#DIV/0!"},null,null,null,{"$error":"#DIV/0!"}]
[102,{"$f":"IF(SISWA!B109=0,\"\",SISWA!B109)","v":""},{"$f":"IF(SISWA!C109=0,\"\",SISWA!C109)","v":""},{"$f":"IF(SISWA!D109=0,\"\",SISWA!D109)","v":"102-"},{"$f":"IF(SISWA!E109=0,\"\",SISWA!E109)","v":""},null,null,null,null,null,{"$error":"#DIV/0!"},null,null,{"$error":"#DIV/0!"},null,null,null,{"$error":"#DIV/0!"}]
[103,{"$f":"IF(SISWA!B110=0,\"\",SISWA!B110)","v":""},{"$f":"IF(SISWA!C110=0,\"\",SISWA!C110)","v":""},{"$f":"IF(SISWA!D110=0,\"\",SISWA!D110)","v":"103-"},{"$f":"IF(SISWA!E110=0,\"\",SISWA!E110)","v":""},null,null,null,null,null,{"$error":"#DIV/0!"},null,null,{"$error":"#DIV/0!"},null,null,null,{"$error":"#DIV/0!"}]
[104,{"$f":"IF(SISWA!B111=0,\"\",SISWA!B111)","v":""},{"$f":"IF(SISWA!C111=0,\"\",SISWA!C111)","v":""},{"$f":"IF(SISWA!D111=0,\"\",SISWA!D111)","v":"104-"},{"$f":"IF(SISWA!E111=0,\"\",SISWA!E111)","v":""},null,null,null,null,null,{"$error":"#DIV/0!"},null,null,{"$error":"#DIV/0!"},null,null,null,{"$error":"#DIV/0!"}]
[105,{"$f":"IF(SISWA!B112=0,\"\",SISWA!B112)","v":""},{"$f":"IF(SISWA!C112=0,\"\",SISWA!C112)","v":""},{"$f":"IF(SISWA!D112=0,\"\",SISWA!D112)","v":"105-"},{"$f":"IF(SISWA!E112=0,\"\",SISWA!E112)","v":""},null,null,null,null,null,{"$error":"#DIV/0!"},null,null,{"$error":"#DIV/0!"},null,null,null,{"$error":"#DIV/0!"}]
[106,{"$f":"IF(SISWA!B113=0,\"\",SISWA!B113)","v":""},{"$f":"IF(SISWA!C113=0,\"\",SISWA!C113)","v":""},{"$f":"IF(SISWA!D113=0,\"\",SISWA!D113)","v":"106-"},{"$f":"IF(SISWA!E113=0,\"\",SISWA!E113)","v":""},null,null,null,null,null,{"$error":"#DIV/0!"},null,null,{"$error":"#DIV/0!"},null,null,null,{"$error":"#DIV/0!"}]
[107,{"$f":"IF(SISWA!B114=0,\"\",SISWA!B114)","v":""},{"$f":"IF(SISWA!C114=0,\"\",SISWA!C114)","v":""},{"$f":"IF(SISWA!D114=0,\"\",SISWA!D114)","v":"107-"},{"$f":"IF(SISWA!E114=0,\"\",SISWA!E114)","v":""},null,null,null,null,null,{"$error":"#DIV/0!"},null,null,{"$error":"#DIV/0!"},null,null,null,{"$error":"#DIV/0!"}]
[108,{"$f":"IF(SISWA!B115=0,\"\",SISWA!B115)","v":""},{"$f":"IF(SISWA!C115=0,\"\",SISWA!C115)","v":""},{"$f":"IF(SISWA!D115=0,\"\",SISWA!D115)","v":"108-"},{"$f":"IF(SISWA!E115=0,\"\",SISWA!E115)","v":""},null,null,null,null,null,{"$error":"#DIV/0!"},null,null,{"$error":"#DIV/0!"},null,null,null,{"$error":"#DIV/0!"}]
[109,{"$f":"IF(SISWA!B116=0,\"\",SISWA!B116)","v":""},{"$f":"IF(SISWA!C116=0,\"\",SISWA!C116)","v":""},{"$f":"IF(SISWA!D116=0,\"\",SISWA!D116)","v":"109-"},{"$f":"IF(SISWA!E116=0,\"\",SISWA!E116)","v":""},null,null,null,null,null,{"$error":"#DIV/0!"},null,null,{"$error":"#DIV/0!"},null,null,null,{"$error":"#DIV/0!"}]
[110,{"$f":"IF(SISWA!B117=0,\"\",SISWA!B117)","v":""},{"$f":"IF(SISWA!C117=0,\"\",SISWA!C117)","v":""},{"$f":"IF(SISWA!D117=0,\"\",SISWA!D117)","v":"110-"},{"$f":"IF(SISWA!E117=0,\"\",SISWA!E117)","v":""},null,null,null,null,null,{"$error":"#DIV/0!"},null,null,{"$error":"#DIV/0!"},null,null,null,{"$error":"#DIV/0!"}]
[111,{"$f":"IF(SISWA!B118=0,\"\",SISWA!B118)","v":""},{"$f":"IF(SISWA!C118=0,\"\",SISWA!C118)","v":""},{"$f":"IF(SISWA!D118=0,\"\",SISWA!D118)","v":"111-"},{"$f":"IF(SISWA!E118=0,\"\",SISWA!E118)","v":""},null,null,null,null,null,{"$error":"#DIV/0!"},null,null,{"$error":"#DIV/0!"},null,null,null,{"$error":"#DIV/0!"}]
[112,{"$f":"IF(SISWA!B119=0,\"\",SISWA!B119)","v":""},{"$f":"IF(SISWA!C119=0,\"\",SISWA!C119)","v":""},{"$f":"IF(SISWA!D119=0,\"\",SISWA!D119)","v":"112-"},{"$f":"IF(SISWA!E119=0,\"\",SISWA!E119)","v":""},null,null,null,null,null,{"$error":"#DIV/0!"},null,null,{"$error":"#DIV/0!"},null,null,null,{"$error":"#DIV/0!"}]
[113,{"$f":"IF(SISWA!B120=0,\"\",SISWA!B120)","v":""},{"$f":"IF(SISWA!C120=0,\"\",SISWA!C120)","v":""},{"$f":"IF(SISWA!D120=0,\"\",SISWA!D120)","v":"113-"},{"$f":"IF(SISWA!E120=0,\"\",SISWA!E120)","v":""},null,null,null,null,null,{"$error":"#DIV/0!"},null,null,{"$error":"#DIV/0!"},null,null,null,{"$error":"#DIV/0!"}]
[114,{"$f":"IF(SISWA!B121=0,\"\",SISWA!B121)","v":""},{"$f":"IF(SISWA!C121=0,\"\",SISWA!C121)","v":""},{"$f":"IF(SISWA!D121=0,\"\",SISWA!D121)","v":"114-"},{"$f":"IF(SISWA!E121=0,\"\",SISWA!E121)","v":""},null,null,null,null,null,{"$error":"#DIV/0!"},null,null,{"$error":"#DIV/0!"},null,null,null,{"$error":"#DIV/0!"}]
[115,{"$f":"IF(SISWA!B122=0,\"\",SISWA!B122)","v":""},{"$f":"IF(SISWA!C122=0,\"\",SISWA!C122)","v":""},{"$f":"IF(SISWA!D122=0,\"\",SISWA!D122)","v":"115-"},{"$f":"IF(SISWA!E122=0,\"\",SISWA!E122)","v":""},null,null,null,null,null,{"$error":"#DIV/0!"},null,null,{"$error":"#DIV/0!"},null,null,null,{"$error":"#DIV/0!"}]
[116,{"$f":"IF(SISWA!B123=0,\"\",SISWA!B123)","v":""},{"$f":"IF(SISWA!C123=0,\"\",SISWA!C123)","v":""},{"$f":"IF(SISWA!D123=0,\"\",SISWA!D123)","v":"116-"},{"$f":"IF(SISWA!E123=0,\"\",SISWA!E123)","v":""},null,null,null,null,null,{"$error":"#DIV/0!"},null,null,{"$error":"#DIV/0!"},null,null,null,{"$error":"#DIV/0!"}]
[117,{"$f":"IF(SISWA!B124=0,\"\",SISWA!B124)","v":""},{"$f":"IF(SISWA!C124=0,\"\",SISWA!C124)","v":""},{"$f":"IF(SISWA!D124=0,\"\",SISWA!D124)","v":"117-"},{"$f":"IF(SISWA!E124=0,\"\",SISWA!E124)","v":""},null,null,null,null,null,{"$error":"#DIV/0!"},null,null,{"$error":"#DIV/0!"},null,null,null,{"$error":"#DIV/0!"}]
[118,{"$f":"IF(SISWA!B125=0,\"\",SISWA!B125)","v":""},{"$f":"IF(SISWA!C125=0,\"\",SISWA!C125)","v":""},{"$f":"IF(SISWA!D125=0,\"\",SISWA!D125)","v":"118-"},{"$f":"IF(SISWA!E125=0,\"\",SISWA!E125)","v":""},null,null,null,null,null,{"$error":"#DIV/0!"},null,null,{"$error":"#DIV/0!"},null,null,null,{"$error":"#DIV/0!"}]
[119,{"$f":"IF(SISWA!B126=0,\"\",SISWA!B126)","v":""},{"$f":"IF(SISWA!C126=0,\"\",SISWA!C126)","v":""},{"$f":"IF(SISWA!D126=0,\"\",SISWA!D126)","v":"119-"},{"$f":"IF(SISWA!E126=0,\"\",SISWA!E126)","v":""},null,null,null,null,null,{"$error":"#DIV/0!"},null,null,{"$error":"#DIV/0!"},null,null,null,{"$error":"#DIV/0!"}]
[120,{"$f":"IF(SISWA!B127=0,\"\",SISWA!B127)","v":""},{"$f":"IF(SISWA!C127=0,\"\",SISWA!C127)","v":""},{"$f":"IF(SISWA!D127=0,\"\",SISWA!D127)","v":"120-"},{"$f":"IF(SISWA!E127=0,\"\",SISWA!E127)","v":""},null,null,null,null,null,{"$error":"#DIV/0!"},null,null,{"$error":"#DIV/0!"},null,null,null,{"$error":"#DIV/0!"}]
[121,{"$f":"IF(SISWA!B128=0,\"\",SISWA!B128)","v":""},{"$f":"IF(SISWA!C128=0,\"\",SISWA!C128)","v":""},{"$f":"IF(SISWA!D128=0,\"\",SISWA!D128)","v":"121-"},{"$f":"IF(SISWA!E128=0,\"\",SISWA!E128)","v":""},null,null,null,null,null,{"$error":"#DIV/0!"},null,null,{"$error":"#DIV/0!"},null,null,null,{"$error":"#DIV/0!"}]
[122,{"$f":"IF(SISWA!B129=0,\"\",SISWA!B129)","v":""},{"$f":"IF(SISWA!C129=0,\"\",SISWA!C129)","v":""},{"$f":"IF(SISWA!D129=0,\"\",SISWA!D129)","v":"122-"},{"$f":"IF(SISWA!E129=0,\"\",SISWA!E129)","v":""},null,null,null,null,null,{"$error":"#DIV/0!"},null,null,{"$error":"#DIV/0!"},null,null,null,{"$error":"#DIV/0!"}]
[123,{"$f":"IF(SISWA!B130=0,\"\",SISWA!B130)","v":""},{"$f":"IF(SISWA!C130=0,\"\",SISWA!C130)","v":""},{"$f":"IF(SISWA!D130=0,\"\",SISWA!D130)","v":"123-"},{"$f":"IF(SISWA!E130=0,\"\",SISWA!E130)","v":""},null,null,null,null,null,{"$error":"#DIV/0!"},null,null,{"$error":"#DIV/0!"},null,null,null,{"$error":"#DIV/0!"}]
[124,{"$f":"IF(SISWA!B131=0,\"\",SISWA!B131)","v":""},{"$f":"IF(SISWA!C131=0,\"\",SISWA!C131)","v":""},{"$f":"IF(SISWA!D131=0,\"\",SISWA!D131)","v":"124-"},{"$f":"IF(SISWA!E131=0,\"\",SISWA!E131)","v":""},null,null,null,null,null,{"$error":"#DIV/0!"},null,null,{"$error":"#DIV/0!"},null,null,null,{"$error":"#DIV/0!"}]
[125,{"$f":"IF(SISWA!B132=0,\"\",SISWA!B132)","v":""},{"$f":"IF(SISWA!C132=0,\"\",SISWA!C132)","v":""},{"$f":"IF(SISWA!D132=0,\"\",SISWA!D132)","v":"125-"},{"$f":"IF(SISWA!E132=0,\"\",SISWA!E132)","v":""},null,null,null,null,null,{"$error":"#DIV/0!"},null,null,{"$error":"#DIV/0!"},null,null,null,{"$error":"#DIV/0!"}]
[126,{"$f":"IF(SISWA!B133=0,\"\",SISWA!B133)","v":""},{"$f":"IF(SISWA!C133=0,\"\",SISWA!C133)","v":""},{"$f":"IF(SISWA!D133=0,\"\",SISWA!D133)","v":"126-"},{"$f":"IF(SISWA!E133=0,\"\",SISWA!E133)","v":""},null,null,null,null,null,{"$error":"#DIV/0!"},null,null,{"$error":"#DIV/0!"},null,null,null,{"$error":"#DIV/0!"}]
[127,{"$f":"IF(SISWA!B134=0,\"\",SISWA!B134)","v":""},{"$f":"IF(SISWA!C134=0,\"\",SISWA!C134)","v":""},{"$f":"IF(SISWA!D134=0,\"\",SISWA!D134)","v":"127-"},{"$f":"IF(SISWA!E134=0,\"\",SISWA!E134)","v":""},null,null,null,null,null,{"$error":"#DIV/0!"},null,null,{"$error":"#DIV/0!"},null,null,null,{"$error":"#DIV/0!"}]
[128,{"$f":"IF(SISWA!B135=0,\"\",SISWA!B135)","v":""},{"$f":"IF(SISWA!C135=0,\"\",SISWA!C135)","v":""},{"$f":"IF(SISWA!D135=0,\"\",SISWA!D135)","v":"128-"},{"$f":"IF(SISWA!E135=0,\"\",SISWA!E135)","v":""},null,null,null,null,null,{"$error":"#DIV/0!"},null,null,{"$error":"#DIV/0!"},null,null,null,{"$error":"#DIV/0!"}]
[129,{"$f":"IF(SISWA!B136=0,\"\",SISWA!B136)","v":""},{"$f":"IF(SISWA!C136=0,\"\",SISWA!C136)","v":""},{"$f":"IF(SISWA!D136=0,\"\",SISWA!D136)","v":"129-"},{"$f":"IF(SISWA!E136=0,\"\",SISWA!E136)","v":""},null,null,null,null,null,{"$error":"#DIV/0!"},null,null,{"$error":"#DIV/0!"},null,null,null,{"$error":"#DIV/0!"}]
[130,{"$f":"IF(SISWA!B137=0,\"\",SISWA!B137)","v":""},{"$f":"IF(SISWA!C137=0,\"\",SISWA!C137)","v":""},{"$f":"IF(SISWA!D137=0,\"\",SISWA!D137)","v":"130-"},{"$f":"IF(SISWA!E137=0,\"\",SISWA!E137)","v":""},null,null,null,null,null,{"$f":"AVERAGE(F137:J137)","v":{"$error":"#DIV/0!"}},null,null,{"$f":"AVERAGE(K137:L137)","v":{"$error":"#DIV/0!"}},null,null,null,{"$error":"#DIV/0!"}]
[131,{"$f":"IF(SISWA!B138=0,\"\",SISWA!B138)","v":""},{"$f":"IF(SISWA!C138=0,\"\",SISWA!C138)","v":""},{"$f":"IF(SISWA!D138=0,\"\",SISWA!D138)","v":"131-"},{"$f":"IF(SISWA!E138=0,\"\",SISWA!E138)","v":""},null,null,null,null,null,{"$error":"#DIV/0!"},null,null,{"$error":"#DIV/0!"},null,null,null,{"$f":"TEXT(K138,0)&MID(K138,3,3)","v":{"$error":"#DIV/0!"}}]
[132,{"$f":"IF(SISWA!B139=0,\"\",SISWA!B139)","v":""},{"$f":"IF(SISWA!C139=0,\"\",SISWA!C139)","v":""},{"$f":"IF(SISWA!D139=0,\"\",SISWA!D139)","v":"132-"},{"$f":"IF(SISWA!E139=0,\"\",SISWA!E139)","v":""},null,null,null,null,null,{"$error":"#DIV/0!"},null,null,{"$error":"#DIV/0!"},null,null,null,{"$error":"#DIV/0!"}]
[133,{"$f":"IF(SISWA!B140=0,\"\",SISWA!B140)","v":""},{"$f":"IF(SISWA!C140=0,\"\",SISWA!C140)","v":""},{"$f":"IF(SISWA!D140=0,\"\",SISWA!D140)","v":"133-"},{"$f":"IF(SISWA!E140=0,\"\",SISWA!E140)","v":""},null,null,null,null,null,{"$error":"#DIV/0!"},null,null,{"$error":"#DIV/0!"},null,null,null,{"$error":"#DIV/0!"}]
[134,{"$f":"IF(SISWA!B141=0,\"\",SISWA!B141)","v":""},{"$f":"IF(SISWA!C141=0,\"\",SISWA!C141)","v":""},{"$f":"IF(SISWA!D141=0,\"\",SISWA!D141)","v":"134-"},{"$f":"IF(SISWA!E141=0,\"\",SISWA!E141)","v":""},null,null,null,null,null,{"$error":"#DIV/0!"},null,null,{"$error":"#DIV/0!"},null,null,null,{"$error":"#DIV/0!"}]
[135,{"$f":"IF(SISWA!B142=0,\"\",SISWA!B142)","v":""},{"$f":"IF(SISWA!C142=0,\"\",SISWA!C142)","v":""},{"$f":"IF(SISWA!D142=0,\"\",SISWA!D142)","v":"135-"},{"$f":"IF(SISWA!E142=0,\"\",SISWA!E142)","v":""},null,null,null,null,null,{"$error":"#DIV/0!"},null,null,{"$error":"#DIV/0!"},null,null,null,{"$error":"#DIV/0!"}]
[136,{"$f":"IF(SISWA!B143=0,\"\",SISWA!B143)","v":""},{"$f":"IF(SISWA!C143=0,\"\",SISWA!C143)","v":""},{"$f":"IF(SISWA!D143=0,\"\",SISWA!D143)","v":"136-"},{"$f":"IF(SISWA!E143=0,\"\",SISWA!E143)","v":""},null,null,null,null,null,{"$error":"#DIV/0!"},null,null,{"$error":"#DIV/0!"},null,null,null,{"$error":"#DIV/0!"}]
[137,{"$f":"IF(SISWA!B144=0,\"\",SISWA!B144)","v":""},{"$f":"IF(SISWA!C144=0,\"\",SISWA!C144)","v":""},{"$f":"IF(SISWA!D144=0,\"\",SISWA!D144)","v":"137-"},{"$f":"IF(SISWA!E144=0,\"\",SISWA!E144)","v":""},null,null,null,null,null,{"$error":"#DIV/0!"},null,null,{"$error":"#DIV/0!"},null,null,null,{"$error":"#DIV/0!"}]
[138,{"$f":"IF(SISWA!B145=0,\"\",SISWA!B145)","v":""},{"$f":"IF(SISWA!C145=0,\"\",SISWA!C145)","v":""},{"$f":"IF(SISWA!D145=0,\"\",SISWA!D145)","v":"138-"},{"$f":"IF(SISWA!E145=0,\"\",SISWA!E145)","v":""},null,null,null,null,null,{"$error":"#DIV/0!"},null,null,{"$error":"#DIV/0!"},null,null,null,{"$error":"#DIV/0!"}]
[139,{"$f":"IF(SISWA!B146=0,\"\",SISWA!B146)","v":""},{"$f":"IF(SISWA!C146=0,\"\",SISWA!C146)","v":""},{"$f":"IF(SISWA!D146=0,\"\",SISWA!D146)","v":"139-"},{"$f":"IF(SISWA!E146=0,\"\",SISWA!E146)","v":""},null,null,null,null,null,{"$error":"#DIV/0!"},null,null,{"$error":"#DIV/0!"},null,null,null,{"$error":"#DIV/0!"}]
[140,{"$f":"IF(SISWA!B147=0,\"\",SISWA!B147)","v":""},{"$f":"IF(SISWA!C147=0,\"\",SISWA!C147)","v":""},{"$f":"IF(SISWA!D147=0,\"\",SISWA!D147)","v":"140-"},{"$f":"IF(SISWA!E147=0,\"\",SISWA!E147)","v":""},null,null,null,null,null,{"$error":"#DIV/0!"},null,null,{"$error":"#DIV/0!"},null,null,null,{"$error":"#DIV/0!"}]
[141,{"$f":"IF(SISWA!B148=0,\"\",SISWA!B148)","v":""},{"$f":"IF(SISWA!C148=0,\"\",SISWA!C148)","v":""},{"$f":"IF(SISWA!D148=0,\"\",SISWA!D148)","v":"141-"},{"$f":"IF(SISWA!E148=0,\"\",SISWA!E148)","v":""},null,null,null,null,null,{"$error":"#DIV/0!"},null,null,{"$error":"#DIV/0!"},null,null,null,{"$error":"#DIV/0!"}]
[142,{"$f":"IF(SISWA!B149=0,\"\",SISWA!B149)","v":""},{"$f":"IF(SISWA!C149=0,\"\",SISWA!C149)","v":""},{"$f":"IF(SISWA!D149=0,\"\",SISWA!D149)","v":"142-"},{"$f":"IF(SISWA!E149=0,\"\",SISWA!E149)","v":""},null,null,null,null,null,{"$error":"#DIV/0!"},null,null,{"$error":"#DIV/0!"},null,null,null,{"$error":"#DIV/0!"}]
[143,{"$f":"IF(SISWA!B150=0,\"\",SISWA!B150)","v":""},{"$f":"IF(SISWA!C150=0,\"\",SISWA!C150)","v":""},{"$f":"IF(SISWA!D150=0,\"\",SISWA!D150)","v":"143-"},{"$f":"IF(SISWA!E150=0,\"\",SISWA!E150)","v":""},null,null,null,null,null,{"$error":"#DIV/0!"},null,null,{"$error":"#DIV/0!"},null,null,null,{"$error":"#DIV/0!"}]
[144,{"$f":"IF(SISWA!B151=0,\"\",SISWA!B151)","v":""},{"$f":"IF(SISWA!C151=0,\"\",SISWA!C151)","v":""},{"$f":"IF(SISWA!D151=0,\"\",SISWA!D151)","v":"144-"},{"$f":"IF(SISWA!E151=0,\"\",SISWA!E151)","v":""},null,null,null,null,null,{"$error":"#DIV/0!"},null,null,{"$error":"#DIV/0!"},null,null,null,{"$error":"#DIV/0!"}]
[145,{"$f":"IF(SISWA!B152=0,\"\",SISWA!B152)","v":""},{"$f":"IF(SISWA!C152=0,\"\",SISWA!C152)","v":""},{"$f":"IF(SISWA!D152=0,\"\",SISWA!D152)","v":"145-"},{"$f":"IF(SISWA!E152=0,\"\",SISWA!E152)","v":""},null,null,null,null,null,{"$error":"#DIV/0!"},null,null,{"$error":"#DIV/0!"},null,null,null,{"$error":"#DIV/0!"}]
[146,{"$f":"IF(SISWA!B153=0,\"\",SISWA!B153)","v":""},{"$f":"IF(SISWA!C153=0,\"\",SISWA!C153)","v":""},{"$f":"IF(SISWA!D153=0,\"\",SISWA!D153)","v":"146-"},{"$f":"IF(SISWA!E153=0,\"\",SISWA!E153)","v":""},null,null,null,null,null,{"$error":"#DIV/0!"},null,null,{"$error":"#DIV/0!"},null,null,null,{"$error":"#DIV/0!"}]
[147,{"$f":"IF(SISWA!B154=0,\"\",SISWA!B154)","v":""},{"$f":"IF(SISWA!C154=0,\"\",SISWA!C154)","v":""},{"$f":"IF(SISWA!D154=0,\"\",SISWA!D154)","v":"147-"},{"$f":"IF(SISWA!E154=0,\"\",SISWA!E154)","v":""},null,null,null,null,null,{"$error":"#DIV/0!"},null,null,{"$error":"#DIV/0!"},null,null,null,{"$error":"#DIV/0!"}]
[148,{"$f":"IF(SISWA!B155=0,\"\",SISWA!B155)","v":""},{"$f":"IF(SISWA!C155=0,\"\",SISWA!C155)","v":""},{"$f":"IF(SISWA!D155=0,\"\",SISWA!D155)","v":"148-"},{"$f":"IF(SISWA!E155=0,\"\",SISWA!E155)","v":""},null,null,null,null,null,{"$error":"#DIV/0!"},null,null,{"$error":"#DIV/0!"},null,null,null,{"$error":"#DIV/0!"}]
[149,{"$f":"IF(SISWA!B156=0,\"\",SISWA!B156)","v":""},{"$f":"IF(SISWA!C156=0,\"\",SISWA!C156)","v":""},{"$f":"IF(SISWA!D156=0,\"\",SISWA!D156)","v":"149-"},{"$f":"IF(SISWA!E156=0,\"\",SISWA!E156)","v":""},null,null,null,null,null,{"$error":"#DIV/0!"},null,null,{"$error":"#DIV/0!"},null,null,null,{"$error":"#DIV/0!"}]
[150,{"$f":"IF(SISWA!B157=0,\"\",SISWA!B157)","v":""},{"$f":"IF(SISWA!C157=0,\"\",SISWA!C157)","v":""},{"$f":"IF(SISWA!D157=0,\"\",SISWA!D157)","v":"150-"},{"$f":"IF(SISWA!E157=0,\"\",SISWA!E157)","v":""},null,null,null,null,null,{"$error":"#DIV/0!"},null,null,{"$error":"#DIV/0!"},null,null,null,{"$error":"#DIV/0!"}]
[151,{"$f":"IF(SISWA!B158=0,\"\",SISWA!B158)","v":""},{"$f":"IF(SISWA!C158=0,\"\",SISWA!C158)","v":""},{"$f":"IF(SISWA!D158=0,\"\",SISWA!D158)","v":"151-"},{"$f":"IF(SISWA!E158=0,\"\",SISWA!E158)","v":""},null,null,null,null,null,{"$error":"#DIV/0!"},null,null,{"$error":"#DIV/0!"},null,null,null,{"$error":"#DIV/0!"}]
[152,{"$f":"IF(SISWA!B159=0,\"\",SISWA!B159)","v":""},{"$f":"IF(SISWA!C159=0,\"\",SISWA!C159)","v":""},{"$f":"IF(SISWA!D159=0,\"\",SISWA!D159)","v":"152-"},{"$f":"IF(SISWA!E159=0,\"\",SISWA!E159)","v":""},null,null,null,null,null,{"$error":"#DIV/0!"},null,null,{"$error":"#DIV/0!"},null,null,null,{"$error":"#DIV/0!"}]
[153,{"$f":"IF(SISWA!B160=0,\"\",SISWA!B160)","v":""},{"$f":"IF(SISWA!C160=0,\"\",SISWA!C160)","v":""},{"$f":"IF(SISWA!D160=0,\"\",SISWA!D160)","v":"153-"},{"$f":"IF(SISWA!E160=0,\"\",SISWA!E160)","v":""},null,null,null,null,null,{"$error":"#DIV/0!"},null,null,{"$error":"#DIV/0!"},null,null,null,{"$error":"#DIV/0!"}]
[154,{"$f":"IF(SISWA!B161=0,\"\",SISWA!B161)","v":""},{"$f":"IF(SISWA!C161=0,\"\",SISWA!C161)","v":""},{"$f":"IF(SISWA!D161=0,\"\",SISWA!D161)","v":"154-"},{"$f":"IF(SISWA!E161=0,\"\",SISWA!E161)","v":""},null,null,null,null,null,{"$error":"#DIV/0!"},null,null,{"$error":"#DIV/0!"},null,null,null,{"$error":"#DIV/0!"}]
[155,{"$f":"IF(SISWA!B162=0,\"\",SISWA!B162)","v":""},{"$f":"IF(SISWA!C162=0,\"\",SISWA!C162)","v":""},{"$f":"IF(SISWA!D162=0,\"\",SISWA!D162)","v":"155-"},{"$f":"IF(SISWA!E162=0,\"\",SISWA!E162)","v":""},null,null,null,null,null,{"$error":"#DIV/0!"},null,null,{"$error":"#DIV/0!"},null,null,null,{"$error":"#DIV/0!"}]
[156,{"$f":"IF(SISWA!B163=0,\"\",SISWA!B163)","v":""},{"$f":"IF(SISWA!C163=0,\"\",SISWA!C163)","v":""},{"$f":"IF(SISWA!D163=0,\"\",SISWA!D163)","v":"156-"},{"$f":"IF(SISWA!E163=0,\"\",SISWA!E163)","v":""},null,null,null,null,null,{"$error":"#DIV/0!"},null,null,{"$error":"#DIV/0!"},null,null,null,{"$error":"#DIV/0!"}]
[157,{"$f":"IF(SISWA!B164=0,\"\",SISWA!B164)","v":""},{"$f":"IF(SISWA!C164=0,\"\",SISWA!C164)","v":""},{"$f":"IF(SISWA!D164=0,\"\",SISWA!D164)","v":"157-"},{"$f":"IF(SISWA!E164=0,\"\",SISWA!E164)","v":""},null,null,null,null,null,{"$error":"#DIV/0!"},null,null,{"$error":"#DIV/0!"}]
[158,{"$f":"IF(SISWA!B165=0,\"\",SISWA!B165)","v":""},{"$f":"IF(SISWA!C165=0,\"\",SISWA!C165)","v":""},{"$f":"IF(SISWA!D165=0,\"\",SISWA!D165)","v":"158-"},{"$f":"IF(SISWA!E165=0,\"\",SISWA!E165)","v":""},null,null,null,null,null,{"$error":"#DIV/0!"},null,null,{"$error":"#DIV/0!"}]
[159,{"$f":"IF(SISWA!B166=0,\"\",SISWA!B166)","v":""},{"$f":"IF(SISWA!C166=0,\"\",SISWA!C166)","v":""},{"$f":"IF(SISWA!D166=0,\"\",SISWA!D166)","v":"159-"},{"$f":"IF(SISWA!E166=0,\"\",SISWA!E166)","v":""},null,null,null,null,null,{"$error":"#DIV/0!"},null,null,{"$error":"#DIV/0!"}]
[160,{"$f":"IF(SISWA!B167=0,\"\",SISWA!B167)","v":""},{"$f":"IF(SISWA!C167=0,\"\",SISWA!C167)","v":""},{"$f":"IF(SISWA!D167=0,\"\",SISWA!D167)","v":"160-"},{"$f":"IF(SISWA!E167=0,\"\",SISWA!E167)","v":""},null,null,null,null,null,{"$error":"#DIV/0!"},null,null,{"$error":"#DIV/0!"}]
[161,{"$f":"IF(SISWA!B168=0,\"\",SISWA!B168)","v":""},{"$f":"IF(SISWA!C168=0,\"\",SISWA!C168)","v":""},{"$f":"IF(SISWA!D168=0,\"\",SISWA!D168)","v":"161-"},{"$f":"IF(SISWA!E168=0,\"\",SISWA!E168)","v":""},null,null,null,null,null,{"$error":"#DIV/0!"},null,null,{"$error":"#DIV/0!"}]
[162,{"$f":"IF(SISWA!B169=0,\"\",SISWA!B169)","v":""},{"$f":"IF(SISWA!C169=0,\"\",SISWA!C169)","v":""},{"$f":"IF(SISWA!D169=0,\"\",SISWA!D169)","v":"162-"},{"$f":"IF(SISWA!E169=0,\"\",SISWA!E169)","v":""},null,null,null,null,null,{"$error":"#DIV/0!"},null,null,{"$error":"#DIV/0!"}]
[163,{"$f":"IF(SISWA!B170=0,\"\",SISWA!B170)","v":""},{"$f":"IF(SISWA!C170=0,\"\",SISWA!C170)","v":""},{"$f":"IF(SISWA!D170=0,\"\",SISWA!D170)","v":"163-"},{"$f":"IF(SISWA!E170=0,\"\",SISWA!E170)","v":""},null,null,null,null,null,{"$error":"#DIV/0!"},null,null,{"$error":"#DIV/0!"}]
[164,{"$f":"IF(SISWA!B171=0,\"\",SISWA!B171)","v":""},{"$f":"IF(SISWA!C171=0,\"\",SISWA!C171)","v":""},{"$f":"IF(SISWA!D171=0,\"\",SISWA!D171)","v":"164-"},{"$f":"IF(SISWA!E171=0,\"\",SISWA!E171)","v":""},null,null,null,null,null,{"$error":"#DIV/0!"},null,null,{"$error":"#DIV/0!"}]
[165,{"$f":"IF(SISWA!B172=0,\"\",SISWA!B172)","v":""},{"$f":"IF(SISWA!C172=0,\"\",SISWA!C172)","v":""},{"$f":"IF(SISWA!D172=0,\"\",SISWA!D172)","v":"165-"},{"$f":"IF(SISWA!E172=0,\"\",SISWA!E172)","v":""},null,null,null,null,null,{"$error":"#DIV/0!"},null,null,{"$error":"#DIV/0!"}]
[166,{"$f":"IF(SISWA!B173=0,\"\",SISWA!B173)","v":""},{"$f":"IF(SISWA!C173=0,\"\",SISWA!C173)","v":""},{"$f":"IF(SISWA!D173=0,\"\",SISWA!D173)","v":"166-"},{"$f":"IF(SISWA!E173=0,\"\",SISWA!E173)","v":""},null,null,null,null,null,{"$error":"#DIV/0!"},null,null,{"$error":"#DIV/0!"}]
[167,{"$f":"IF(SISWA!B174=0,\"\",SISWA!B174)","v":""},{"$f":"IF(SISWA!C174=0,\"\",SISWA!C174)","v":""},{"$f":"IF(SISWA!D174=0,\"\",SISWA!D174)","v":"167-"},{"$f":"IF(SISWA!E174=0,\"\",SISWA!E174)","v":""},null,null,null,null,null,{"$error":"#DIV/0!"},null,null,{"$error":"#DIV/0!"}]
[168,{"$f":"IF(SISWA!B175=0,\"\",SISWA!B175)","v":""},{"$f":"IF(SISWA!C175=0,\"\",SISWA!C175)","v":""},{"$f":"IF(SISWA!D175=0,\"\",SISWA!D175)","v":"168-"},{"$f":"IF(SISWA!E175=0,\"\",SISWA!E175)","v":""},null,null,null,null,null,{"$error":"#DIV/0!"},null,null,{"$error":"#DIV/0!"}]
[169,{"$f":"IF(SISWA!B176=0,\"\",SISWA!B176)","v":""},{"$f":"IF(SISWA!C176=0,\"\",SISWA!C176)","v":""},{"$f":"IF(SISWA!D176=0,\"\",SISWA!D176)","v":"169-"},{"$f":"IF(SISWA!E176=0,\"\",SISWA!E176)","v":""},null,null,null,null,null,{"$error":"#DIV/0!"},null,null,{"$error":"#DIV/0!"}]
[170,{"$f":"IF(SISWA!B177=0,\"\",SISWA!B177)","v":""},{"$f":"IF(SISWA!C177=0,\"\",SISWA!C177)","v":""},{"$f":"IF(SISWA!D177=0,\"\",SISWA!D177)","v":"170-"},{"$f":"IF(SISWA!E177=0,\"\",SISWA!E177)","v":""},null,null,null,null,null,{"$error":"#DIV/0!"},null,null,{"$error":"#DIV/0!"}]
[171,{"$f":"IF(SISWA!B178=0,\"\",SISWA!B178)","v":""},{"$f":"IF(SISWA!C178=0,\"\",SISWA!C178)","v":""},{"$f":"IF(SISWA!D178=0,\"\",SISWA!D178)","v":"171-"},{"$f":"IF(SISWA!E178=0,\"\",SISWA!E178)","v":""},null,null,null,null,null,{"$error":"#DIV/0!"},null,null,{"$error":"#DIV/0!"}]
[172,{"$f":"IF(SISWA!B179=0,\"\",SISWA!B179)","v":""},{"$f":"IF(SISWA!C179=0,\"\",SISWA!C179)","v":""},{"$f":"IF(SISWA!D179=0,\"\",SISWA!D179)","v":"172-"},{"$f":"IF(SISWA!E179=0,\"\",SISWA!E179)","v":""},null,null,null,null,null,{"$error":"#DIV/0!"},null,null,{"$error":"#DIV/0!"}]
[173,{"$f":"IF(SISWA!B180=0,\"\",SISWA!B180)","v":""},{"$f":"IF(SISWA!C180=0,\"\",SISWA!C180)","v":""},{"$f":"IF(SISWA!D180=0,\"\",SISWA!D180)","v":"173-"},{"$f":"IF(SISWA!E180=0,\"\",SISWA!E180)","v":""},null,null,null,null,null,{"$error":"#DIV/0!"},null,null,{"$error":"#DIV/0!"}]
[174,{"$f":"IF(SISWA!B181=0,\"\",SISWA!B181)","v":""},{"$f":"IF(SISWA!C181=0,\"\",SISWA!C181)","v":""},{"$f":"IF(SISWA!D181=0,\"\",SISWA!D181)","v":"174-"},{"$f":"IF(SISWA!E181=0,\"\",SISWA!E181)","v":""},null,null,null,null,null,{"$error":"#DIV/0!"},null,null,{"$error":"#DIV/0!"}]
[175,{"$f":"IF(SISWA!B182=0,\"\",SISWA!B182)","v":""},{"$f":"IF(SISWA!C182=0,\"\",SISWA!C182)","v":""},{"$f":"IF(SISWA!D182=0,\"\",SISWA!D182)","v":"175-"},{"$f":"IF(SISWA!E182=0,\"\",SISWA!E182)","v":""},null,null,null,null,null,{"$error":"#DIV/0!"},null,null,{"$error":"#DIV/0!"}]
[176,{"$f":"IF(SISWA!B183=0,\"\",SISWA!B183)","v":""},{"$f":"IF(SISWA!C183=0,\"\",SISWA!C183)","v":""},{"$f":"IF(SISWA!D183=0,\"\",SISWA!D183)","v":"176-"},{"$f":"IF(SISWA!E183=0,\"\",SISWA!E183)","v":""},null,null,null,null,null,{"$error":"#DIV/0!"},null,null,{"$error":"#DIV/0!"}]
[177,{"$f":"IF(SISWA!B184=0,\"\",SISWA!B184)","v":""},{"$f":"IF(SISWA!C184=0,\"\",SISWA!C184)","v":""},{"$f":"IF(SISWA!D184=0,\"\",SISWA!D184)","v":"177-"},{"$f":"IF(SISWA!E184=0,\"\",SISWA!E184)","v":""},null,null,null,null,null,{"$error":"#DIV/0!"},null,null,{"$error":"#DIV/0!"}]
[178,{"$f":"IF(SISWA!B185=0,\"\",SISWA!B185)","v":""},{"$f":"IF(SISWA!C185=0,\"\",SISWA!C185)","v":""},{"$f":"IF(SISWA!D185=0,\"\",SISWA!D185)","v":"178-"},{"$f":"IF(SISWA!E185=0,\"\",SISWA!E185)","v":""},null,null,null,null,null,{"$error":"#DIV/0!"},null,null,{"$error":"#DIV/0!"}]
[179,{"$f":"IF(SISWA!B186=0,\"\",SISWA!B186)","v":""},{"$f":"IF(SISWA!C186=0,\"\",SISWA!C186)","v":""},{"$f":"IF(SISWA!D186=0,\"\",SISWA!D186)","v":"179-"},{"$f":"IF(SISWA!E186=0,\"\",SISWA!E186)","v":""},null,null,null,null,null,{"$error":"#DIV/0!"},null,null,{"$error":"#DIV/0!"}]
[180,{"$f":"IF(SISWA!B187=0,\"\",SISWA!B187)","v":""},{"$f":"IF(SISWA!C187=0,\"\",SISWA!C187)","v":""},{"$f":"IF(SISWA!D187=0,\"\",SISWA!D187)","v":"180-"},{"$f":"IF(SISWA!E187=0,\"\",SISWA!E187)","v":""},null,null,null,null,null,{"$error":"#DIV/0!"},null,null,{"$error":"#DIV/0!"}]
[181,{"$f":"IF(SISWA!B188=0,\"\",SISWA!B188)","v":""},{"$f":"IF(SISWA!C188=0,\"\",SISWA!C188)","v":""},{"$f":"IF(SISWA!D188=0,\"\",SISWA!D188)","v":"181-"},{"$f":"IF(SISWA!E188=0,\"\",SISWA!E188)","v":""},null,null,null,null,null,{"$error":"#DIV/0!"},null,null,{"$error":"#DIV/0!"}]
[182,{"$f":"IF(SISWA!B189=0,\"\",SISWA!B189)","v":""},{"$f":"IF(SISWA!C189=0,\"\",SISWA!C189)","v":""},{"$f":"IF(SISWA!D189=0,\"\",SISWA!D189)","v":"182-"},{"$f":"IF(SISWA!E189=0,\"\",SISWA!E189)","v":""},null,null,null,null,null,{"$error":"#DIV/0!"},null,null,{"$error":"#DIV/0!"}]
[183,{"$f":"IF(SISWA!B190=0,\"\",SISWA!B190)","v":""},{"$f":"IF(SISWA!C190=0,\"\",SISWA!C190)","v":""},{"$f":"IF(SISWA!D190=0,\"\",SISWA!D190)","v":"183-"},{"$f":"IF(SISWA!E190=0,\"\",SISWA!E190)","v":""},null,null,null,null,null,{"$error":"#DIV/0!"},null,null,{"$error":"#DIV/0!"}]
[184,{"$f":"IF(SISWA!B191=0,\"\",SISWA!B191)","v":""},{"$f":"IF(SISWA!C191=0,\"\",SISWA!C191)","v":""},{"$f":"IF(SISWA!D191=0,\"\",SISWA!D191)","v":"184-"},{"$f":"IF(SISWA!E191=0,\"\",SISWA!E191)","v":""},null,null,null,null,null,{"$error":"#DIV/0!"},null,null,{"$error":"#DIV/0!"}]
[185,{"$f":"IF(SISWA!B192=0,\"\",SISWA!B192)","v":""},{"$f":"IF(SISWA!C192=0,\"\",SISWA!C192)","v":""},{"$f":"IF(SISWA!D192=0,\"\",SISWA!D192)","v":"185-"},{"$f":"IF(SISWA!E192=0,\"\",SISWA!E192)","v":""},null,null,null,null,null,{"$error":"#DIV/0!"},null,null,{"$error":"#DIV/0!"}]
[186,{"$f":"IF(SISWA!B193=0,\"\",SISWA!B193)","v":""},{"$f":"IF(SISWA!C193=0,\"\",SISWA!C193)","v":""},{"$f":"IF(SISWA!D193=0,\"\",SISWA!D193)","v":"186-"},{"$f":"IF(SISWA!E193=0,\"\",SISWA!E193)","v":""},null,null,null,null,null,{"$error":"#DIV/0!"},null,null,{"$error":"#DIV/0!"}]
[187,{"$f":"IF(SISWA!B194=0,\"\",SISWA!B194)","v":""},{"$f":"IF(SISWA!C194=0,\"\",SISWA!C194)","v":""},{"$f":"IF(SISWA!D194=0,\"\",SISWA!D194)","v":"187-"},{"$f":"IF(SISWA!E194=0,\"\",SISWA!E194)","v":""},null,null,null,null,null,{"$error":"#DIV/0!"},null,null,{"$error":"#DIV/0!"}]
[188,{"$f":"IF(SISWA!B195=0,\"\",SISWA!B195)","v":""},{"$f":"IF(SISWA!C195=0,\"\",SISWA!C195)","v":""},{"$f":"IF(SISWA!D195=0,\"\",SISWA!D195)","v":"188-"},{"$f":"IF(SISWA!E195=0,\"\",SISWA!E195)","v":""},null,null,null,null,null,{"$error":"#DIV/0!"},null,null,{"$error":"#DIV/0!"}]
[189,{"$f":"IF(SISWA!B196=0,\"\",SISWA!B196)","v":""},{"$f":"IF(SISWA!C196=0,\"\",SISWA!C196)","v":""},{"$f":"IF(SISWA!D196=0,\"\",SISWA!D196)","v":"189-"},{"$f":"IF(SISWA!E196=0,\"\",SISWA!E196)","v":""},null,null,null,null,null,{"$error":"#DIV/0!"},null,null,{"$error":"#DIV/0!"}]
[190,{"$f":"IF(SISWA!B197=0,\"\",SISWA!B197)","v":""},{"$f":"IF(SISWA!C197=0,\"\",SISWA!C197)","v":""},{"$f":"IF(SISWA!D197=0,\"\",SISWA!D197)","v":"190-"},{"$f":"IF(SISWA!E197=0,\"\",SISWA!E197)","v":""},null,null,null,null,null,{"$error":"#DIV/0!"},null,null,{"$error":"#DIV/0!"}]
[191,{"$f":"IF(SISWA!B198=0,\"\",SISWA!B198)","v":""},{"$f":"IF(SISWA!C198=0,\"\",SISWA!C198)","v":""},{"$f":"IF(SISWA!D198=0,\"\",SISWA!D198)","v":"191-"},{"$f":"IF(SISWA!E198=0,\"\",SISWA!E198)","v":""},null,null,null,null,null,{"$error":"#DIV/0!"},null,null,{"$error":"#DIV/0!"}]
[192,{"$f":"IF(SISWA!B199=0,\"\",SISWA!B199)","v":""},{"$f":"IF(SISWA!C199=0,\"\",SISWA!C199)","v":""},{"$f":"IF(SISWA!D199=0,\"\",SISWA!D199)","v":"192-"},{"$f":"IF(SISWA!E199=0,\"\",SISWA!E199)","v":""},null,null,null,null,null,{"$error":"#DIV/0!"},null,null,{"$error":"#DIV/0!"}]
[193,{"$f":"IF(SISWA!B200=0,\"\",SISWA!B200)","v":""},{"$f":"IF(SISWA!C200=0,\"\",SISWA!C200)","v":""},{"$f":"IF(SISWA!D200=0,\"\",SISWA!D200)","v":"193-"},{"$f":"IF(SISWA!E200=0,\"\",SISWA!E200)","v":""},null,null,null,null,null,{"$error":"#DIV/0!"},null,null,{"$error":"#DIV/0!"}]
[194,{"$f":"IF(SISWA!B201=0,\"\",SISWA!B201)","v":""},{"$f":"IF(SISWA!C201=0,\"\",SISWA!C201)","v":""},{"$f":"IF(SISWA!D201=0,\"\",SISWA!D201)","v":"194-"},{"$f":"IF(SISWA!E201=0,\"\",SISWA!E201)","v":""},null,null,null,null,null,{"$f":"AVERAGE(F201:J201)","v":{"$error":"#DIV/0!"}},null,null,{"$f":"AVERAGE(K201:L201)","v":{"$error":"#DIV/0!"}}]
[195,{"$f":"IF(SISWA!B202=0,\"\",SISWA!B202)","v":""},{"$f":"IF(SISWA!C202=0,\"\",SISWA!C202)","v":""},{"$f":"IF(SISWA!D202=0,\"\",SISWA!D202)","v":"195-"},{"$f":"IF(SISWA!E202=0,\"\",SISWA!E202)","v":""},null,null,null,null,null,{"$error":"#DIV/0!"},null,null,{"$error":"#DIV/0!"}]
[196,{"$f":"IF(SISWA!B203=0,\"\",SISWA!B203)","v":""},{"$f":"IF(SISWA!C203=0,\"\",SISWA!C203)","v":""},{"$f":"IF(SISWA!D203=0,\"\",SISWA!D203)","v":"196-"},{"$f":"IF(SISWA!E203=0,\"\",SISWA!E203)","v":""},null,null,null,null,null,{"$error":"#DIV/0!"},null,null,{"$error":"#DIV/0!"}]
[197,{"$f":"IF(SISWA!B204=0,\"\",SISWA!B204)","v":""},{"$f":"IF(SISWA!C204=0,\"\",SISWA!C204)","v":""},{"$f":"IF(SISWA!D204=0,\"\",SISWA!D204)","v":"197-"},{"$f":"IF(SISWA!E204=0,\"\",SISWA!E204)","v":""},null,null,null,null,null,{"$error":"#DIV/0!"},null,null,{"$error":"#DIV/0!"}]
[198,{"$f":"IF(SISWA!B205=0,\"\",SISWA!B205)","v":""},{"$f":"IF(SISWA!C205=0,\"\",SISWA!C205)","v":""},{"$f":"IF(SISWA!D205=0,\"\",SISWA!D205)","v":"198-"},{"$f":"IF(SISWA!E205=0,\"\",SISWA!E205)","v":""},null,null,null,null,null,{"$error":"#DIV/0!"},null,null,{"$error":"#DIV/0!"}]
[199,{"$f":"IF(SISWA!B206=0,\"\",SISWA!B206)","v":""},{"$f":"IF(SISWA!C206=0,\"\",SISWA!C206)","v":""},{"$f":"IF(SISWA!D206=0,\"\",SISWA!D206)","v":"199-"},{"$f":"IF(SISWA!E206=0,\"\",SISWA!E206)","v":""},null,null,null,null,null,{"$error":"#DIV/0!"},null,null,{"$error":"#DIV/0!"}]
[200,{"$f":"IF(SISWA!B207=0,\"\",SISWA!B207)","v":""},{"$f":"IF(SISWA!C207=0,\"\",SISWA!C207)","v":""},{"$f":"IF(SISWA!D207=0,\"\",SISWA!D207)","v":"200-"},{"$f":"IF(SISWA!E207=0,\"\",SISWA!E207)","v":""},null,null,null,null,null,{"$error":"#DIV/0!"},null,null,{"$error":"#DIV/0!"}]

{"sheet":"BIG","index":15,"n_rows":207,"n_cols":16,"rows_kept":207,"cut":false,"hidden":false,"merged":[[4,14,6,14],[4,5,4,12],[0,0,0,9],[1,0,1,9],[2,0,2,9],[4,0,6,0],[4,1,6,1],[4,2,6,2],[4,3,6,3],[4,4,6,4],[5,5,5,9],[5,11,5,12]]}
["DAFTAR NILAI AKHIR SEKOLAH"]
[{"$f":"AA!A2","v":"MADRASAH IBTIDAIYAH NURUL ISLAM LABRUK KIDUL"}]
[{"$f":"AA!A3","v":"TAHUN PELAJARAN 2018/2019"}]
[]
["NO","No Induk","NISN","Nomor Peserta","Nama Peserta","BAHASA INGGRIS/MULOK 2",null,null,null,null,null,null,null,null,"rata-rata UAM & PRAKTEK"]
[null,null,null,null,null,"Nilai Semester",null,null,null,null,"Rata- 2","NILAI UAM"]
[null,null,null,null,null,7,8,9,10,11,"Rapor","TULIS","PRAKTIK"]
[1,{"$f":"IF(SISWA!B8=0,\"\",SISWA!B8)","v":4270},{"$f":"IF(SISWA!C8=0,\"\",SISWA!C8)","v":"0067566336"},{"$f":"IF(SISWA!D8=0,\"\",SISWA!D8)","v":"1-18-05-80-162-001-9"},{"$f":"IF(SISWA!E8=0,\"\",SISWA!E8)","v":"ADITYA MAULA FANDY TAULANI"},77,74,83,85,80,{"$f":"AVERAGE(F8:J8)","v":79.8},65,{"$f":"K8","v":79.8},{"$f":"AVERAGE(L8:M8)","v":72.400000000000006},{"$f":"AVERAGE(L8:M8)","v":72.400000000000006},{"$f":"AVERAGE(L8,F8:J8)","v":77.333333333333329}]
[2,{"$f":"IF(SISWA!B9=0,\"\",SISWA!B9)","v":4300},{"$f":"IF(SISWA!C9=0,\"\",SISWA!C9)","v":"0066364963"},{"$f":"IF(SISWA!D9=0,\"\",SISWA!D9)","v":"1-18-05-80-162-002-8"},{"$f":"IF(SISWA!E9=0,\"\",SISWA!E9)","v":"AHMAD FERDIAN ALAMSYAH"},69,67,65,65,71,{"$f":"AVERAGE(F9:J9)","v":67.400000000000006},65,{"$f":"K9","v":67.400000000000006},{"$f":"AVERAGE(L9:M9)","v":66.2},{"$f":"AVERAGE(L9:M9)","v":66.2},{"$f":"AVERAGE(L9,F9:J9)","v":67}]
[3,{"$f":"IF(SISWA!B10=0,\"\",SISWA!B10)","v":4271},{"$f":"IF(SISWA!C10=0,\"\",SISWA!C10)","v":"0062805893"},{"$f":"IF(SISWA!D10=0,\"\",SISWA!D10)","v":"1-18-05-80-162-003-7"},{"$f":"IF(SISWA!E10=0,\"\",SISWA!E10)","v":"AHMAD RAMADHANI FADLULLOH"},73,63,82,88,80,77.2,70,77.2,73.599999999999994,73.599999999999994,76]
[4,{"$f":"IF(SISWA!B11=0,\"\",SISWA!B11)","v":4398},{"$f":"IF(SISWA!C11=0,\"\",SISWA!C11)","v":"0062399399"},{"$f":"IF(SISWA!D11=0,\"\",SISWA!D11)","v":"1-18-05-80-162-004-6"},{"$f":"IF(SISWA!E11=0,\"\",SISWA!E11)","v":"ANANDA AMILIA"},69,67,77,74,75,72.400000000000006,65,72.400000000000006,68.7,68.7,71.166666666666671]
[5,{"$f":"IF(SISWA!B12=0,\"\",SISWA!B12)","v":4272},{"$f":"IF(SISWA!C12=0,\"\",SISWA!C12)","v":"0071551428"},{"$f":"IF(SISWA!D12=0,\"\",SISWA!D12)","v":"1-18-05-80-162-005-5"},{"$f":"IF(SISWA!E12=0,\"\",SISWA!E12)","v":"ANDINI MAULID DWI LESTARI"},69,65,75,74,78,72.2,65,72.2,68.599999999999994,68.599999999999994,71]
[6,{"$f":"IF(SISWA!B13=0,\"\",SISWA!B13)","v":4301},{"$f":"IF(SISWA!C13=0,\"\",SISWA!C13)","v":"0061907599"},{"$f":"IF(SISWA!D13=0,\"\",SISWA!D13)","v":"1-18-05-80-162-006-4"},{"$f":"IF(SISWA!E13=0,\"\",SISWA!E13)","v":"ANDRIK YUSRI"},66,65,73,73,73,70,65,70,67.5,67.5,69.166666666666671]
[7,{"$f":"IF(SISWA!B14=0,\"\",SISWA!B14)","v":4273},{"$f":"IF(SISWA!C14=0,\"\",SISWA!C14)","v":"0067280519"},{"$f":"IF(SISWA!D14=0,\"\",SISWA!D14)","v":"1-18-05-80-162-007-3"},{"$f":"IF(SISWA!E14=0,\"\",SISWA!E14)","v":"DEWI SAKINAH ISWARA"},74,70,80,83,78,77,65,77,71,71,75]
[8,{"$f":"IF(SISWA!B15=0,\"\",SISWA!B15)","v":4307},{"$f":"IF(SISWA!C15=0,\"\",SISWA!C15)","v":"0066012198"},{"$f":"IF(SISWA!D15=0,\"\",SISWA!D15)","v":"1-18-05-80-162-008-2"},{"$f":"IF(SISWA!E15=0,\"\",SISWA!E15)","v":"CHAKIM"},66,66,66,68,75,68.2,70,68.2,69.099999999999994,69.099999999999994,68.5]
[9,{"$f":"IF(SISWA!B16=0,\"\",SISWA!B16)","v":4275},{"$f":"IF(SISWA!C16=0,\"\",SISWA!C16)","v":"0078199679"},{"$f":"IF(SISWA!D16=0,\"\",SISWA!D16)","v":"1-18-05-80-162-009-9"},{"$f":"IF(SISWA!E16=0,\"\",SISWA!E16)","v":"HANIK APRILIA SARI"},76,63,79,73,77,73.599999999999994,65,73.599999999999994,69.3,69.3,72.166666666666671]
[10,{"$f":"IF(SISWA!B17=0,\"\",SISWA!B17)","v":"4238"},{"$f":"IF(SISWA!C17=0,\"\",SISWA!C17)","v":"0051503260"},{"$f":"IF(SISWA!D17=0,\"\",SISWA!D17)","v":"1-18-05-80-162-010-8"},{"$f":"IF(SISWA!E17=0,\"\",SISWA!E17)","v":"DESI NATALIA SAPUTRI"},66,62,69,71,72,68,77,68,72.5,72.5,69.5]
[11,{"$f":"IF(SISWA!B18=0,\"\",SISWA!B18)","v":4391},{"$f":"IF(SISWA!C18=0,\"\",SISWA!C18)","v":"0079418518"},{"$f":"IF(SISWA!D18=0,\"\",SISWA!D18)","v":"1-18-05-80-162-011-7"},{"$f":"IF(SISWA!E18=0,\"\",SISWA!E18)","v":"HIDAYATUL KHUMAINIA"},67,63,76,80,76,72.400000000000006,65,72.400000000000006,68.7,68.7,71.166666666666671]
[12,{"$f":"IF(SISWA!B19=0,\"\",SISWA!B19)","v":4274},{"$f":"IF(SISWA!C19=0,\"\",SISWA!C19)","v":"0077670297"},{"$f":"IF(SISWA!D19=0,\"\",SISWA!D19)","v":"1-18-05-80-162-012-6"},{"$f":"IF(SISWA!E19=0,\"\",SISWA!E19)","v":"DWITA FITA WULANDARI"},69,65,71,72,75,70.400000000000006,84,70.400000000000006,77.2,77.2,72.666666666666671]
[13,{"$f":"IF(SISWA!B20=0,\"\",SISWA!B20)","v":4276},{"$f":"IF(SISWA!C20=0,\"\",SISWA!C20)","v":"0067236848"},{"$f":"IF(SISWA!D20=0,\"\",SISWA!D20)","v":"1-18-05-80-162-013-5"},{"$f":"IF(SISWA!E20=0,\"\",SISWA!E20)","v":"IZZA ILMIA AZZAHRA"},75,73,82,73,76,75.8,65,75.8,70.400000000000006,70.400000000000006,74]
[14,{"$f":"IF(SISWA!B21=0,\"\",SISWA!B21)","v":4303},{"$f":"IF(SISWA!C21=0,\"\",SISWA!C21)","v":"0064031376"},{"$f":"IF(SISWA!D21=0,\"\",SISWA!D21)","v":"1-18-05-80-162-014-4"},{"$f":"IF(SISWA!E21=0,\"\",SISWA!E21)","v":"FARIDATUS SAHDIAH"},68,70,71,75,74,71.599999999999994,76,71.599999999999994,73.8,73.8,72.333333333333329]
[15,{"$f":"IF(SISWA!B22=0,\"\",SISWA!B22)","v":4278},{"$f":"IF(SISWA!C22=0,\"\",SISWA!C22)","v":"0079672823"},{"$f":"IF(SISWA!D22=0,\"\",SISWA!D22)","v":"1-18-05-80-162-015-3"},{"$f":"IF(SISWA!E22=0,\"\",SISWA!E22)","v":"KHARISYA AZZAHRO"},83,75,73,77,81,77.8,65,77.8,71.400000000000006,71.400000000000006,75.666666666666671]
[16,{"$f":"IF(SISWA!B23=0,\"\",SISWA!B23)","v":4277},{"$f":"IF(SISWA!C23=0,\"\",SISWA!C23)","v":"0077101453"},{"$f":"IF(SISWA!D23=0,\"\",SISWA!D23)","v":"1-18-05-80-162-016-2"},{"$f":"IF(SISWA!E23=0,\"\",SISWA!E23)","v":"KARINA FEBBY CAHYA AMILIA"},73,69,73,68,77,72,65,72,68.5,68.5,70.833333333333329]
[17,{"$f":"IF(SISWA!B24=0,\"\",SISWA!B24)","v":4601},{"$f":"IF(SISWA!C24=0,\"\",SISWA!C24)","v":"0069718082"},{"$f":"IF(SISWA!D24=0,\"\",SISWA!D24)","v":"1-18-05-80-162-017-9"},{"$f":"IF(SISWA!E24=0,\"\",SISWA!E24)","v":"MOCHAMAD RIFKY ROSAN"},71,77,73,71,78,74,65,74,69.5,69.5,72.5]
[18,{"$f":"IF(SISWA!B25=0,\"\",SISWA!B25)","v":"4241"},{"$f":"IF(SISWA!C25=0,\"\",SISWA!C25)","v":"0057006145"},{"$f":"IF(SISWA!D25=0,\"\",SISWA!D25)","v":"1-18-05-80-162-018-8"},{"$f":"IF(SISWA!E25=0,\"\",SISWA!E25)","v":"KHUSNI CAHYONO"},66,60,62,65,70,64.599999999999994,76,64.599999999999994,70.3,70.3,66.5]
[19,{"$f":"IF(SISWA!B26=0,\"\",SISWA!B26)","v":4280},{"$f":"IF(SISWA!C26=0,\"\",SISWA!C26)","v":"0062061356"},{"$f":"IF(SISWA!D26=0,\"\",SISWA!D26)","v":"1-18-05-80-162-019-7"},{"$f":"IF(SISWA!E26=0,\"\",SISWA!E26)","v":"MUCHAMMAD ALIEF FERDIANSYAH"},76,63,82,81,78,76,86,76,81,81,77.666666666666671]
[20,{"$f":"IF(SISWA!B27=0,\"\",SISWA!B27)","v":4306},{"$f":"IF(SISWA!C27=0,\"\",SISWA!C27)","v":"0069095925"},{"$f":"IF(SISWA!D27=0,\"\",SISWA!D27)","v":"1-18-05-80-162-020-6"},{"$f":"IF(SISWA!E27=0,\"\",SISWA!E27)","v":"LENNY AGUSTIN NINGTYAS"},66,62,60,65,70,64.599999999999994,65,64.599999999999994,64.8,64.8,64.666666666666671]
[21,{"$f":"IF(SISWA!B28=0,\"\",SISWA!B28)","v":4281},{"$f":"IF(SISWA!C28=0,\"\",SISWA!C28)","v":"0069153972"},{"$f":"IF(SISWA!D28=0,\"\",SISWA!D28)","v":"1-18-05-80-162-021-5"},{"$f":"IF(SISWA!E28=0,\"\",SISWA!E28)","v":"MUHAMMAD AGUS ANDRIANTO"},74,64,79,82,87,77.2,65,77.2,71.099999999999994,71.099999999999994,75.166666666666671]
[22,{"$f":"IF(SISWA!B29=0,\"\",SISWA!B29)","v":4308},{"$f":"IF(SISWA!C29=0,\"\",SISWA!C29)","v":"0063078335"},{"$f":"IF(SISWA!D29=0,\"\",SISWA!D29)","v":"1-18-05-80-162-022-4"},{"$f":"IF(SISWA!E29=0,\"\",SISWA!E29)","v":"MAURIS HIDAYATUR ROCHMAN"},73,59,84,80,84,76,68,76,72,72,74.666666666666671]
[23,{"$f":"IF(SISWA!B30=0,\"\",SISWA!B30)","v":4314},{"$f":"IF(SISWA!C30=0,\"\",SISWA!C30)","v":"0072178353"},{"$f":"IF(SISWA!D30=0,\"\",SISWA!D30)","v":"1-18-05-80-162-023-3"},{"$f":"IF(SISWA!E30=0,\"\",SISWA!E30)","v":"MUHAMMAD BISMAR TAUFIQUROHMAN"},73,74,81,85,80,78.599999999999994,65,78.599999999999994,71.8,71.8,76.333333333333329]
[24,{"$f":"IF(SISWA!B31=0,\"\",SISWA!B31)","v":4309},{"$f":"IF(SISWA!C31=0,\"\",SISWA!C31)","v":"0072198448"},{"$f":"IF(SISWA!D31=0,\"\",SISWA!D31)","v":"1-18-05-80-162-024-2"},{"$f":"IF(SISWA!E31=0,\"\",SISWA!E31)","v":"MAYA BUNGA ANJANI"},67,62,62,67,70,65.599999999999994,65,65.599999999999994,65.3,65.3,65.5]
[25,{"$f":"IF(SISWA!B32=0,\"\",SISWA!B32)","v":4320},{"$f":"IF(SISWA!C32=0,\"\",SISWA!C32)","v":"0064566227"},{"$f":"IF(SISWA!D32=0,\"\",SISWA!D32)","v":"1-18-05-80-162-025-9"},{"$f":"IF(SISWA!E32=0,\"\",SISWA!E32)","v":"MUHAMMAD SAHLAN SHODIQ"},74,73,81,77,78,76.599999999999994,65,76.599999999999994,70.8,70.8,74.666666666666671]
[26,{"$f":"IF(SISWA!B33=0,\"\",SISWA!B33)","v":4279},{"$f":"IF(SISWA!C33=0,\"\",SISWA!C33)","v":"0066637092"},{"$f":"IF(SISWA!D33=0,\"\",SISWA!D33)","v":"1-18-05-80-162-026-8"},{"$f":"IF(SISWA!E33=0,\"\",SISWA!E33)","v":"MITA SEPTIANI ISLAMIA"},66,63,73,68,71,68.2,86,68.2,77.099999999999994,77.099999999999994,71.166666666666671]
[27,{"$f":"IF(SISWA!B34=0,\"\",SISWA!B34)","v":4321},{"$f":"IF(SISWA!C34=0,\"\",SISWA!C34)","v":"0061244045"},{"$f":"IF(SISWA!D34=0,\"\",SISWA!D34)","v":"1-18-05-80-162-027-7"},{"$f":"IF(SISWA!E34=0,\"\",SISWA!E34)","v":"MUHAMMAD SEPTYAN EKA PRATAMA"},75,67,80,85,84,78.2,80,78.2,79.099999999999994,79.099999999999994,78.5]
[28,{"$f":"IF(SISWA!B35=0,\"\",SISWA!B35)","v":"4247"},{"$f":"IF(SISWA!C35=0,\"\",SISWA!C35)","v":"0053546157"},{"$f":"IF(SISWA!D35=0,\"\",SISWA!D35)","v":"1-18-05-80-162-028-6"},{"$f":"IF(SISWA!E35=0,\"\",SISWA!E35)","v":"MOCHAMAD ARIEL FRANS TITO"},66,64,65,65,71,66.2,65,66.2,65.599999999999994,65.599999999999994,66]
[29,{"$f":"IF(SISWA!B36=0,\"\",SISWA!B36)","v":4285},{"$f":"IF(SISWA!C36=0,\"\",SISWA!C36)","v":"0067871553"},{"$f":"IF(SISWA!D36=0,\"\",SISWA!D36)","v":"1-18-05-80-162-029-5"},{"$f":"IF(SISWA!E36=0,\"\",SISWA!E36)","v":"MUHAMMAD VERYANSYAH"},75,68,71,78,72,72.8,65,72.8,68.900000000000006,68.900000000000006,71.5]
[30,{"$f":"IF(SISWA!B37=0,\"\",SISWA!B37)","v":4310},{"$f":"IF(SISWA!C37=0,\"\",SISWA!C37)","v":"0066383678"},{"$f":"IF(SISWA!D37=0,\"\",SISWA!D37)","v":"1-18-05-80-162-030-4"},{"$f":"IF(SISWA!E37=0,\"\",SISWA!E37)","v":"MOCHAMMAD BIMA RISFANDA"},67,65,71,65,70,67.599999999999994,65,67.599999999999994,66.3,66.3,67.166666666666671]
[31,{"$f":"IF(SISWA!B38=0,\"\",SISWA!B38)","v":4286},{"$f":"IF(SISWA!C38=0,\"\",SISWA!C38)","v":"0064443822"},{"$f":"IF(SISWA!D38=0,\"\",SISWA!D38)","v":"1-18-05-80-162-031-3"},{"$f":"IF(SISWA!E38=0,\"\",SISWA!E38)","v":"MUHAMMAD ZIDNY NA'IM"},79,66,73,82,70,74,90,74,82,82,76.666666666666671]
[32,{"$f":"IF(SISWA!B39=0,\"\",SISWA!B39)","v":4282},{"$f":"IF(SISWA!C39=0,\"\",SISWA!C39)","v":"0068336765"},{"$f":"IF(SISWA!D39=0,\"\",SISWA!D39)","v":"1-18-05-80-162-032-2"},{"$f":"IF(SISWA!E39=0,\"\",SISWA!E39)","v":"MUHAMMAD AGUS FERDIANSYAH"},73,62,79,79,79,74.400000000000006,65,74.400000000000006,69.7,69.7,72.833333333333329]
[33,{"$f":"IF(SISWA!B40=0,\"\",SISWA!B40)","v":4287},{"$f":"IF(SISWA!C40=0,\"\",SISWA!C40)","v":"0064528717"},{"$f":"IF(SISWA!D40=0,\"\",SISWA!D40)","v":"1-18-05-80-162-033-9"},{"$f":"IF(SISWA!E40=0,\"\",SISWA!E40)","v":"MUHAMMAD FARDAN ABDILLAH"},73,null,73,68,null,71.333333333333329,65,71.333333333333329,68.166666666666657,68.166666666666657,69.75]
[34,{"$f":"IF(SISWA!B41=0,\"\",SISWA!B41)","v":4315},{"$f":"IF(SISWA!C41=0,\"\",SISWA!C41)","v":"0067870495"},{"$f":"IF(SISWA!D41=0,\"\",SISWA!D41)","v":"1-18-05-80-162-034-8"},{"$f":"IF(SISWA!E41=0,\"\",SISWA!E41)","v":"NABILA ARISKA PUTRI"},76,65,73,81,70,73,65,73,69,69,71.666666666666671]
[35,{"$f":"IF(SISWA!B42=0,\"\",SISWA!B42)","v":4288},{"$f":"IF(SISWA!C42=0,\"\",SISWA!C42)","v":"0068641191"},{"$f":"IF(SISWA!D42=0,\"\",SISWA!D42)","v":"1-18-05-80-162-035-7"},{"$f":"IF(SISWA!E42=0,\"\",SISWA!E42)","v":"MUHAMMAD FERDINAN JAYYIDAH RIFQI"},74,74,83,76,87,78.8,65,78.8,71.900000000000006,71.900000000000006,76.5]
[36,{"$f":"IF(SISWA!B43=0,\"\",SISWA!B43)","v":4283},{"$f":"IF(SISWA!C43=0,\"\",SISWA!C43)","v":"0077212388"},{"$f":"IF(SISWA!D43=0,\"\",SISWA!D43)","v":"1-18-05-80-162-036-6"},{"$f":"IF(SISWA!E43=0,\"\",SISWA!E43)","v":"NAFISA INDRIANI"},77,74,86,81,77,79,70,79,74.5,74.5,77.5]
[37,{"$f":"IF(SISWA!B44=0,\"\",SISWA!B44)","v":"4257"},{"$f":"IF(SISWA!C44=0,\"\",SISWA!C44)","v":"0069944706"},{"$f":"IF(SISWA!D44=0,\"\",SISWA!D44)","v":"1-18-05-80-162-037-5"},{"$f":"IF(SISWA!E44=0,\"\",SISWA!E44)","v":"MUHAMMAD FIRMANSYAH"},67,56,73,72,75,68.599999999999994,65,68.599999999999994,66.8,66.8,68]
[38,{"$f":"IF(SISWA!B45=0,\"\",SISWA!B45)","v":4317},{"$f":"IF(SISWA!C45=0,\"\",SISWA!C45)","v":"0068498059"},{"$f":"IF(SISWA!D45=0,\"\",SISWA!D45)","v":"1-18-05-80-162-038-4"},{"$f":"IF(SISWA!E45=0,\"\",SISWA!E45)","v":"NAJWA FARISYA BAROROH"},72,71,86,77,81,77.400000000000006,65,77.400000000000006,71.2,71.2,75.333333333333329]
[39,{"$f":"IF(SISWA!B46=0,\"\",SISWA!B46)","v":4289},{"$f":"IF(SISWA!C46=0,\"\",SISWA!C46)","v":"0065225517"},{"$f":"IF(SISWA!D46=0,\"\",SISWA!D46)","v":"1-18-05-80-162-039-3"},{"$f":"IF(SISWA!E46=0,\"\",SISWA!E46)","v":"NUR FITRIYAH"},73,63,83,82,80,76.2,65,76.2,70.599999999999994,70.599999999999994,74.333333333333329]
[40,{"$f":"IF(SISWA!B47=0,\"\",SISWA!B47)","v":4318},{"$f":"IF(SISWA!C47=0,\"\",SISWA!C47)","v":"0061441364"},{"$f":"IF(SISWA!D47=0,\"\",SISWA!D47)","v":"1-18-05-80-162-040-2"},{"$f":"IF(SISWA!E47=0,\"\",SISWA!E47)","v":"MUHAMMAD HILDAN DWI SAPUTRA"},67,65,72,68,75,69.400000000000006,65,69.400000000000006,67.2,67.2,68.666666666666671]
[41,{"$f":"IF(SISWA!B48=0,\"\",SISWA!B48)","v":4392},{"$f":"IF(SISWA!C48=0,\"\",SISWA!C48)","v":"0075794532"},{"$f":"IF(SISWA!D48=0,\"\",SISWA!D48)","v":"1-18-05-80-162-041-9"},{"$f":"IF(SISWA!E48=0,\"\",SISWA!E48)","v":"PUTRI NAFI'ATUS SOLIKHAH"},71,65,80,78,72,73.2,65,73.2,69.099999999999994,69.099999999999994,71.833333333333329]
[42,{"$f":"IF(SISWA!B49=0,\"\",SISWA!B49)","v":4284},{"$f":"IF(SISWA!C49=0,\"\",SISWA!C49)","v":"0069578000"},{"$f":"IF(SISWA!D49=0,\"\",SISWA!D49)","v":"1-18-05-80-162-042-8"},{"$f":"IF(SISWA!E49=0,\"\",SISWA!E49)","v":"MUHAMMAD RAYA KAFAF JAUHARI"},77,66,80,70,82,75,65,75,70,70,73.333333333333329]
[43,{"$f":"IF(SISWA!B50=0,\"\",SISWA!B50)","v":4290},{"$f":"IF(SISWA!C50=0,\"\",SISWA!C50)","v":"0063558216"},{"$f":"IF(SISWA!D50=0,\"\",SISWA!D50)","v":"1-18-05-80-162-043-7"},{"$f":"IF(SISWA!E50=0,\"\",SISWA!E50)","v":"QORIATUN SHOLIHAH"},74,66,73,72,73,71.599999999999994,65,71.599999999999994,68.3,68.3,70.5]
[44,{"$f":"IF(SISWA!B51=0,\"\",SISWA!B51)","v":4319},{"$f":"IF(SISWA!C51=0,\"\",SISWA!C51)","v":"0065329770"},{"$f":"IF(SISWA!D51=0,\"\",SISWA!D51)","v":"1-18-05-80-162-044-6"},{"$f":"IF(SISWA!E51=0,\"\",SISWA!E51)","v":"MUHAMMAD RUDI TANTOWIK"},66,65,73,84,70,71.599999999999994,84,71.599999999999994,77.8,77.8,73.666666666666671]
[45,{"$f":"IF(SISWA!B52=0,\"\",SISWA!B52)","v":4291},{"$f":"IF(SISWA!C52=0,\"\",SISWA!C52)","v":"0067071679"},{"$f":"IF(SISWA!D52=0,\"\",SISWA!D52)","v":"1-18-05-80-162-045-5"},{"$f":"IF(SISWA!E52=0,\"\",SISWA!E52)","v":"RACHMAD HIDAYAT"},73,57,72,66,70,67.599999999999994,80,67.599999999999994,73.8,73.8,69.666666666666671]
[46,{"$f":"IF(SISWA!B53=0,\"\",SISWA!B53)","v":4322},{"$f":"IF(SISWA!C53=0,\"\",SISWA!C53)","v":"0051101989"},{"$f":"IF(SISWA!D53=0,\"\",SISWA!D53)","v":"1-18-05-80-162-046-4"},{"$f":"IF(SISWA!E53=0,\"\",SISWA!E53)","v":"MUHAMMAD ZULDIENUR HABIBIE"},66,62,69,68,70,67,84,67,75.5,75.5,69.833333333333329]
[47,{"$f":"IF(SISWA!B54=0,\"\",SISWA!B54)","v":4292},{"$f":"IF(SISWA!C54=0,\"\",SISWA!C54)","v":"0072001696"},{"$f":"IF(SISWA!D54=0,\"\",SISWA!D54)","v":"1-18-05-80-162-047-3"},{"$f":"IF(SISWA!E54=0,\"\",SISWA!E54)","v":"RHEA RAYSHANADA NUGRAHA"},75,72,72,80,80,75.8,65,75.8,70.400000000000006,70.400000000000006,74]
[48,{"$f":"IF(SISWA!B55=0,\"\",SISWA!B55)","v":4323},{"$f":"IF(SISWA!C55=0,\"\",SISWA!C55)","v":"0078949167"},{"$f":"IF(SISWA!D55=0,\"\",SISWA!D55)","v":"1-18-05-80-162-048-2"},{"$f":"IF(SISWA!E55=0,\"\",SISWA!E55)","v":"MUKHAMAD KHOIRUL AMIN"},67,69,72,74,74,71.2,77,71.2,74.099999999999994,74.099999999999994,72.166666666666671]
[49,{"$f":"IF(SISWA!B56=0,\"\",SISWA!B56)","v":4293},{"$f":"IF(SISWA!C56=0,\"\",SISWA!C56)","v":"0064217705"},{"$f":"IF(SISWA!D56=0,\"\",SISWA!D56)","v":"1-18-05-80-162-049-9"},{"$f":"IF(SISWA!E56=0,\"\",SISWA!E56)","v":"RIYANTI APRILIA"},76,68,82,84,77,77.400000000000006,65,77.400000000000006,71.2,71.2,75.333333333333329]
[50,{"$f":"IF(SISWA!B57=0,\"\",SISWA!B57)","v":"4256"},{"$f":"IF(SISWA!C57=0,\"\",SISWA!C57)","v":"0065699742"},{"$f":"IF(SISWA!D57=0,\"\",SISWA!D57)","v":"1-18-05-80-162-050-8"},{"$f":"IF(SISWA!E57=0,\"\",SISWA!E57)","v":"MUKHAMMAD YAASIIN HASAN KHASBULLOH"},70,76,74,73,74,73.400000000000006,79,73.400000000000006,76.2,76.2,74.333333333333329]
[51,{"$f":"IF(SISWA!B58=0,\"\",SISWA!B58)","v":4295},{"$f":"IF(SISWA!C58=0,\"\",SISWA!C58)","v":"0061359184"},{"$f":"IF(SISWA!D58=0,\"\",SISWA!D58)","v":"1-18-05-80-162-051-7"},{"$f":"IF(SISWA!E58=0,\"\",SISWA!E58)","v":"SHONIA AULIA AS'AD"},82,75,77,73,79,77.2,72,77.2,74.599999999999994,74.599999999999994,76.333333333333329]
[52,{"$f":"IF(SISWA!B59=0,\"\",SISWA!B59)","v":4294},{"$f":"IF(SISWA!C59=0,\"\",SISWA!C59)","v":"0064723905"},{"$f":"IF(SISWA!D59=0,\"\",SISWA!D59)","v":"1-18-05-80-162-052-6"},{"$f":"IF(SISWA!E59=0,\"\",SISWA!E59)","v":"RIZKA AYU WULANDARI"},73,57,80,68,77,71,74,71,72.5,72.5,71.5]
[53,{"$f":"IF(SISWA!B60=0,\"\",SISWA!B60)","v":4298},{"$f":"IF(SISWA!C60=0,\"\",SISWA!C60)","v":"0065530554"},{"$f":"IF(SISWA!D60=0,\"\",SISWA!D60)","v":"1-18-05-80-162-053-5"},{"$f":"IF(SISWA!E60=0,\"\",SISWA!E60)","v":"VERLINA DWI MAULANI"},76,63,73,70,73,71,70,71,70.5,70.5,70.833333333333329]
[54,{"$f":"IF(SISWA!B61=0,\"\",SISWA!B61)","v":4297},{"$f":"IF(SISWA!C61=0,\"\",SISWA!C61)","v":"0063846732"},{"$f":"IF(SISWA!D61=0,\"\",SISWA!D61)","v":"1-18-05-80-162-054-4"},{"$f":"IF(SISWA!E61=0,\"\",SISWA!E61)","v":"USWATUN KHASANAH"},68,64,78,73,76,71.8,70,71.8,70.900000000000006,70.900000000000006,71.5]
[55,{"$f":"IF(SISWA!B62=0,\"\",SISWA!B62)","v":4324},{"$f":"IF(SISWA!C62=0,\"\",SISWA!C62)","v":"0078966795"},{"$f":"IF(SISWA!D62=0,\"\",SISWA!D62)","v":"1-18-05-80-162-055-3"},{"$f":"IF(SISWA!E62=0,\"\",SISWA!E62)","v":"VIKA KUSUMA WATI"},72,71,79,81,75,75.599999999999994,70,75.599999999999994,72.8,72.8,74.666666666666671]
[56,{"$f":"IF(SISWA!B63=0,\"\",SISWA!B63)","v":4326},{"$f":"IF(SISWA!C63=0,\"\",SISWA!C63)","v":"0064124533"},{"$f":"IF(SISWA!D63=0,\"\",SISWA!D63)","v":"1-18-05-80-162-056-2"},{"$f":"IF(SISWA!E63=0,\"\",SISWA!E63)","v":"YOHAN EGA GILANG PERMANA"},67,null,69,68,71,68.75,70,68.75,69.375,69.375,69]
[57,{"$f":"IF(SISWA!B64=0,\"\",SISWA!B64)","v":""},{"$f":"IF(SISWA!C64=0,\"\",SISWA!C64)","v":""},{"$f":"IF(SISWA!D64=0,\"\",SISWA!D64)","v":"1-18-05-80-162-057-9"},{"$f":"IF(SISWA!E64=0,\"\",SISWA!E64)","v":""},null,null,null,null,null,{"$f":"AVERAGE(F64:J64)","v":{"$error":"#DIV/0!"}},null,{"$f":"K64","v":{"$error":"#DIV/0!"}},{"$f":"AVERAGE(L64:M64)","v":{"$error":"#DIV/0!"}},{"$f":"AVERAGE(L64:M64)","v":{"$error":"#DIV/0!"}}]
[58,{"$f":"IF(SISWA!B65=0,\"\",SISWA!B65)","v":""},{"$f":"IF(SISWA!C65=0,\"\",SISWA!C65)","v":""},{"$f":"IF(SISWA!D65=0,\"\",SISWA!D65)","v":"1-18-05-80-162-058-8"},{"$f":"IF(SISWA!E65=0,\"\",SISWA!E65)","v":""},null,null,null,null,null,{"$error":"#DIV/0!"},null,null,{"$error":"#DIV/0!"},{"$error":"#DIV/0!"}]
[59,{"$f":"IF(SISWA!B66=0,\"\",SISWA!B66)","v":""},{"$f":"IF(SISWA!C66=0,\"\",SISWA!C66)","v":""},{"$f":"IF(SISWA!D66=0,\"\",SISWA!D66)","v":"1-18-05-80-162-059-7"},{"$f":"IF(SISWA!E66=0,\"\",SISWA!E66)","v":""},null,null,null,null,null,{"$error":"#DIV/0!"},null,null,{"$error":"#DIV/0!"},{"$error":"#DIV/0!"}]
[60,{"$f":"IF(SISWA!B67=0,\"\",SISWA!B67)","v":""},{"$f":"IF(SISWA!C67=0,\"\",SISWA!C67)","v":""},{"$f":"IF(SISWA!D67=0,\"\",SISWA!D67)","v":"1-18-05-80-162-060-6"},{"$f":"IF(SISWA!E67=0,\"\",SISWA!E67)","v":""},null,null,null,null,null,{"$error":"#DIV/0!"},null,null,{"$error":"#DIV/0!"},{"$error":"#DIV/0!"}]
[61,{"$f":"IF(SISWA!B68=0,\"\",SISWA!B68)","v":""},{"$f":"IF(SISWA!C68=0,\"\",SISWA!C68)","v":""},{"$f":"IF(SISWA!D68=0,\"\",SISWA!D68)","v":"1-18-05-80-162-061-5"},{"$f":"IF(SISWA!E68=0,\"\",SISWA!E68)","v":""},null,null,null,null,null,{"$f":"AVERAGE(F68:J68)","v":{"$error":"#DIV/0!"}},null,null,{"$error":"#DIV/0!"},{"$error":"#DIV/0!"}]
[62,{"$f":"IF(SISWA!B69=0,\"\",SISWA!B69)","v":""},{"$f":"IF(SISWA!C69=0,\"\",SISWA!C69)","v":""},{"$f":"IF(SISWA!D69=0,\"\",SISWA!D69)","v":"062-4"},{"$f":"IF(SISWA!E69=0,\"\",SISWA!E69)","v":""},null,null,null,null,null,{"$error":"#DIV/0!"},null,null,{"$error":"#DIV/0!"},{"$error":"#DIV/0!"}]
[63,{"$f":"IF(SISWA!B70=0,\"\",SISWA!B70)","v":""},{"$f":"IF(SISWA!C70=0,\"\",SISWA!C70)","v":""},{"$f":"IF(SISWA!D70=0,\"\",SISWA!D70)","v":"063-3"},{"$f":"IF(SISWA!E70=0,\"\",SISWA!E70)","v":""},null,null,null,null,null,{"$error":"#DIV/0!"},null,null,{"$error":"#DIV/0!"},{"$error":"#DIV/0!"}]
[64,{"$f":"IF(SISWA!B71=0,\"\",SISWA!B71)","v":""},{"$f":"IF(SISWA!C71=0,\"\",SISWA!C71)","v":""},{"$f":"IF(SISWA!D71=0,\"\",SISWA!D71)","v":"064-2"},{"$f":"IF(SISWA!E71=0,\"\",SISWA!E71)","v":""},null,null,null,null,null,{"$error":"#DIV/0!"},null,null,{"$error":"#DIV/0!"},{"$error":"#DIV/0!"}]
[65,{"$f":"IF(SISWA!B72=0,\"\",SISWA!B72)","v":""},{"$f":"IF(SISWA!C72=0,\"\",SISWA!C72)","v":""},{"$f":"IF(SISWA!D72=0,\"\",SISWA!D72)","v":"065-"},{"$f":"IF(SISWA!E72=0,\"\",SISWA!E72)","v":""},null,null,null,null,null,{"$error":"#DIV/0!"},null,null,{"$error":"#DIV/0!"},{"$error":"#DIV/0!"}]
[66,{"$f":"IF(SISWA!B73=0,\"\",SISWA!B73)","v":""},{"$f":"IF(SISWA!C73=0,\"\",SISWA!C73)","v":""},{"$f":"IF(SISWA!D73=0,\"\",SISWA!D73)","v":"066-"},{"$f":"IF(SISWA!E73=0,\"\",SISWA!E73)","v":""},null,null,null,null,null,{"$error":"#DIV/0!"},null,null,{"$error":"#DIV/0!"},{"$f":"AVERAGE(L73:M73)","v":{"$error":"#DIV/0!"}}]
[67,{"$f":"IF(SISWA!B74=0,\"\",SISWA!B74)","v":""},{"$f":"IF(SISWA!C74=0,\"\",SISWA!C74)","v":""},{"$f":"IF(SISWA!D74=0,\"\",SISWA!D74)","v":"067-"},{"$f":"IF(SISWA!E74=0,\"\",SISWA!E74)","v":""},null,null,null,null,null,{"$error":"#DIV/0!"},null,null,{"$error":"#DIV/0!"},{"$error":"#DIV/0!"}]
[68,{"$f":"IF(SISWA!B75=0,\"\",SISWA!B75)","v":""},{"$f":"IF(SISWA!C75=0,\"\",SISWA!C75)","v":""},{"$f":"IF(SISWA!D75=0,\"\",SISWA!D75)","v":"068-"},{"$f":"IF(SISWA!E75=0,\"\",SISWA!E75)","v":""},null,null,null,null,null,{"$error":"#DIV/0!"},null,null,{"$error":"#DIV/0!"},{"$error":"#DIV/0!"}]
[69,{"$f":"IF(SISWA!B76=0,\"\",SISWA!B76)","v":""},{"$f":"IF(SISWA!C76=0,\"\",SISWA!C76)","v":""},{"$f":"IF(SISWA!D76=0,\"\",SISWA!D76)","v":"069-"},{"$f":"IF(SISWA!E76=0,\"\",SISWA!E76)","v":""},null,null,null,null,null,{"$error":"#DIV/0!"},null,null,{"$error":"#DIV/0!"},{"$error":"#DIV/0!"}]
[70,{"$f":"IF(SISWA!B77=0,\"\",SISWA!B77)","v":""},{"$f":"IF(SISWA!C77=0,\"\",SISWA!C77)","v":""},{"$f":"IF(SISWA!D77=0,\"\",SISWA!D77)","v":"070-"},{"$f":"IF(SISWA!E77=0,\"\",SISWA!E77)","v":""},null,null,null,null,null,{"$error":"#DIV/0!"},null,null,{"$error":"#DIV/0!"},{"$error":"#DIV/0!"}]
[71,{"$f":"IF(SISWA!B78=0,\"\",SISWA!B78)","v":""},{"$f":"IF(SISWA!C78=0,\"\",SISWA!C78)","v":""},{"$f":"IF(SISWA!D78=0,\"\",SISWA!D78)","v":"071-"},{"$f":"IF(SISWA!E78=0,\"\",SISWA!E78)","v":""},null,null,null,null,null,{"$error":"#DIV/0!"},null,null,{"$error":"#DIV/0!"},{"$error":"#DIV/0!"}]
[72,{"$f":"IF(SISWA!B79=0,\"\",SISWA!B79)","v":""},{"$f":"IF(SISWA!C79=0,\"\",SISWA!C79)","v":""},{"$f":"IF(SISWA!D79=0,\"\",SISWA!D79)","v":"072-"},{"$f":"IF(SISWA!E79=0,\"\",SISWA!E79)","v":""},null,null,null,null,null,{"$error":"#DIV/0!"},null,null,{"$error":"#DIV/0!"},{"$error":"#DIV/0!"}]
[73,{"$f":"IF(SISWA!B80=0,\"\",SISWA!B80)","v":""},{"$f":"IF(SISWA!C80=0,\"\",SISWA!C80)","v":""},{"$f":"IF(SISWA!D80=0,\"\",SISWA!D80)","v":"073-"},{"$f":"IF(SISWA!E80=0,\"\",SISWA!E80)","v":""},null,null,null,null,null,{"$error":"#DIV/0!"},null,null,{"$error":"#DIV/0!"},{"$error":"#DIV/0!"}]
[74,{"$f":"IF(SISWA!B81=0,\"\",SISWA!B81)","v":""},{"$f":"IF(SISWA!C81=0,\"\",SISWA!C81)","v":""},{"$f":"IF(SISWA!D81=0,\"\",SISWA!D81)","v":"074-"},{"$f":"IF(SISWA!E81=0,\"\",SISWA!E81)","v":""},null,null,null,null,null,{"$error":"#DIV/0!"},null,null,{"$error":"#DIV/0!"},{"$error":"#DIV/0!"}]
[75,{"$f":"IF(SISWA!B82=0,\"\",SISWA!B82)","v":""},{"$f":"IF(SISWA!C82=0,\"\",SISWA!C82)","v":""},{"$f":"IF(SISWA!D82=0,\"\",SISWA!D82)","v":"075-"},{"$f":"IF(SISWA!E82=0,\"\",SISWA!E82)","v":""},null,null,null,null,null,{"$error":"#DIV/0!"},null,null,{"$error":"#DIV/0!"},{"$error":"#DIV/0!"}]
[76,{"$f":"IF(SISWA!B83=0,\"\",SISWA!B83)","v":""},{"$f":"IF(SISWA!C83=0,\"\",SISWA!C83)","v":""},{"$f":"IF(SISWA!D83=0,\"\",SISWA!D83)","v":"076-"},{"$f":"IF(SISWA!E83=0,\"\",SISWA!E83)","v":""},null,null,null,null,null,{"$error":"#DIV/0!"},null,null,{"$error":"#DIV/0!"},{"$error":"#DIV/0!"}]
[77,{"$f":"IF(SISWA!B84=0,\"\",SISWA!B84)","v":""},{"$f":"IF(SISWA!C84=0,\"\",SISWA!C84)","v":""},{"$f":"IF(SISWA!D84=0,\"\",SISWA!D84)","v":"077-"},{"$f":"IF(SISWA!E84=0,\"\",SISWA!E84)","v":""},null,null,null,null,null,{"$error":"#DIV/0!"},null,null,{"$error":"#DIV/0!"},{"$error":"#DIV/0!"}]
[78,{"$f":"IF(SISWA!B85=0,\"\",SISWA!B85)","v":""},{"$f":"IF(SISWA!C85=0,\"\",SISWA!C85)","v":""},{"$f":"IF(SISWA!D85=0,\"\",SISWA!D85)","v":"078-"},{"$f":"IF(SISWA!E85=0,\"\",SISWA!E85)","v":""},null,null,null,null,null,{"$error":"#DIV/0!"},null,null,{"$error":"#DIV/0!"},{"$error":"#DIV/0!"}]
[79,{"$f":"IF(SISWA!B86=0,\"\",SISWA!B86)","v":""},{"$f":"IF(SISWA!C86=0,\"\",SISWA!C86)","v":""},{"$f":"IF(SISWA!D86=0,\"\",SISWA!D86)","v":"079-"},{"$f":"IF(SISWA!E86=0,\"\",SISWA!E86)","v":""},null,null,null,null,null,{"$error":"#DIV/0!"},null,null,{"$error":"#DIV/0!"},{"$error":"#DIV/0!"}]
[80,{"$f":"IF(SISWA!B87=0,\"\",SISWA!B87)","v":""},{"$f":"IF(SISWA!C87=0,\"\",SISWA!C87)","v":""},{"$f":"IF(SISWA!D87=0,\"\",SISWA!D87)","v":"080-"},{"$f":"IF(SISWA!E87=0,\"\",SISWA!E87)","v":""},null,null,null,null,null,{"$error":"#DIV/0!"},null,null,{"$error":"#DIV/0!"},{"$error":"#DIV/0!"}]
[81,{"$f":"IF(SISWA!B88=0,\"\",SISWA!B88)","v":""},{"$f":"IF(SISWA!C88=0,\"\",SISWA!C88)","v":""},{"$f":"IF(SISWA!D88=0,\"\",SISWA!D88)","v":"081-"},{"$f":"IF(SISWA!E88=0,\"\",SISWA!E88)","v":""},null,null,null,null,null,{"$error":"#DIV/0!"},null,null,{"$error":"#DIV/0!"},{"$error":"#DIV/0!"}]
[82,{"$f":"IF(SISWA!B89=0,\"\",SISWA!B89)","v":""},{"$f":"IF(SISWA!C89=0,\"\",SISWA!C89)","v":""},{"$f":"IF(SISWA!D89=0,\"\",SISWA!D89)","v":"082-"},{"$f":"IF(SISWA!E89=0,\"\",SISWA!E89)","v":""},null,null,null,null,null,{"$error":"#DIV/0!"},null,null,{"$error":"#DIV/0!"},{"$error":"#DIV/0!"}]
[83,{"$f":"IF(SISWA!B90=0,\"\",SISWA!B90)","v":""},{"$f":"IF(SISWA!C90=0,\"\",SISWA!C90)","v":""},{"$f":"IF(SISWA!D90=0,\"\",SISWA!D90)","v":"083-"},{"$f":"IF(SISWA!E90=0,\"\",SISWA!E90)","v":""},null,null,null,null,null,{"$error":"#DIV/0!"},null,null,{"$error":"#DIV/0!"},{"$error":"#DIV/0!"}]
[84,{"$f":"IF(SISWA!B91=0,\"\",SISWA!B91)","v":""},{"$f":"IF(SISWA!C91=0,\"\",SISWA!C91)","v":""},{"$f":"IF(SISWA!D91=0,\"\",SISWA!D91)","v":"084-"},{"$f":"IF(SISWA!E91=0,\"\",SISWA!E91)","v":""},null,null,null,null,null,{"$error":"#DIV/0!"},null,null,{"$error":"#DIV/0!"},{"$error":"#DIV/0!"}]
[85,{"$f":"IF(SISWA!B92=0,\"\",SISWA!B92)","v":""},{"$f":"IF(SISWA!C92=0,\"\",SISWA!C92)","v":""},{"$f":"IF(SISWA!D92=0,\"\",SISWA!D92)","v":"085-"},{"$f":"IF(SISWA!E92=0,\"\",SISWA!E92)","v":""},null,null,null,null,null,{"$error":"#DIV/0!"},null,null,{"$error":"#DIV/0!"},{"$error":"#DIV/0!"}]
[86,{"$f":"IF(SISWA!B93=0,\"\",SISWA!B93)","v":""},{"$f":"IF(SISWA!C93=0,\"\",SISWA!C93)","v":""},{"$f":"IF(SISWA!D93=0,\"\",SISWA!D93)","v":"086-"},{"$f":"IF(SISWA!E93=0,\"\",SISWA!E93)","v":""},null,null,null,null,null,{"$error":"#DIV/0!"},null,null,{"$error":"#DIV/0!"},{"$error":"#DIV/0!"}]
[87,{"$f":"IF(SISWA!B94=0,\"\",SISWA!B94)","v":""},{"$f":"IF(SISWA!C94=0,\"\",SISWA!C94)","v":""},{"$f":"IF(SISWA!D94=0,\"\",SISWA!D94)","v":"087-"},{"$f":"IF(SISWA!E94=0,\"\",SISWA!E94)","v":""},null,null,null,null,null,{"$error":"#DIV/0!"},null,null,{"$error":"#DIV/0!"},{"$error":"#DIV/0!"}]
[88,{"$f":"IF(SISWA!B95=0,\"\",SISWA!B95)","v":""},{"$f":"IF(SISWA!C95=0,\"\",SISWA!C95)","v":""},{"$f":"IF(SISWA!D95=0,\"\",SISWA!D95)","v":"088-"},{"$f":"IF(SISWA!E95=0,\"\",SISWA!E95)","v":""},null,null,null,null,null,{"$error":"#DIV/0!"},null,null,{"$error":"#DIV/0!"},{"$error":"#DIV/0!"}]
[89,{"$f":"IF(SISWA!B96=0,\"\",SISWA!B96)","v":""},{"$f":"IF(SISWA!C96=0,\"\",SISWA!C96)","v":""},{"$f":"IF(SISWA!D96=0,\"\",SISWA!D96)","v":"089-"},{"$f":"IF(SISWA!E96=0,\"\",SISWA!E96)","v":""},null,null,null,null,null,{"$error":"#DIV/0!"},null,null,{"$error":"#DIV/0!"},{"$error":"#DIV/0!"}]
[90,{"$f":"IF(SISWA!B97=0,\"\",SISWA!B97)","v":""},{"$f":"IF(SISWA!C97=0,\"\",SISWA!C97)","v":""},{"$f":"IF(SISWA!D97=0,\"\",SISWA!D97)","v":"090-"},{"$f":"IF(SISWA!E97=0,\"\",SISWA!E97)","v":""},null,null,null,null,null,{"$error":"#DIV/0!"},null,null,{"$error":"#DIV/0!"},{"$error":"#DIV/0!"}]
[91,{"$f":"IF(SISWA!B98=0,\"\",SISWA!B98)","v":""},{"$f":"IF(SISWA!C98=0,\"\",SISWA!C98)","v":""},{"$f":"IF(SISWA!D98=0,\"\",SISWA!D98)","v":"091-"},{"$f":"IF(SISWA!E98=0,\"\",SISWA!E98)","v":""},null,null,null,null,null,{"$error":"#DIV/0!"},null,null,{"$error":"#DIV/0!"},{"$error":"#DIV/0!"}]
[92,{"$f":"IF(SISWA!B99=0,\"\",SISWA!B99)","v":""},{"$f":"IF(SISWA!C99=0,\"\",SISWA!C99)","v":""},{"$f":"IF(SISWA!D99=0,\"\",SISWA!D99)","v":"092-"},{"$f":"IF(SISWA!E99=0,\"\",SISWA!E99)","v":""},null,null,null,null,null,{"$error":"#DIV/0!"},null,null,{"$error":"#DIV/0!"},{"$error":"#DIV/0!"}]
[93,{"$f":"IF(SISWA!B100=0,\"\",SISWA!B100)","v":""},{"$f":"IF(SISWA!C100=0,\"\",SISWA!C100)","v":""},{"$f":"IF(SISWA!D100=0,\"\",SISWA!D100)","v":"093-"},{"$f":"IF(SISWA!E100=0,\"\",SISWA!E100)","v":""},null,null,null,null,null,{"$error":"#DIV/0!"},null,null,{"$error":"#DIV/0!"},{"$error":"#DIV/0!"}]
[94,{"$f":"IF(SISWA!B101=0,\"\",SISWA!B101)","v":""},{"$f":"IF(SISWA!C101=0,\"\",SISWA!C101)","v":""},{"$f":"IF(SISWA!D101=0,\"\",SISWA!D101)","v":"094-"},{"$f":"IF(SISWA!E101=0,\"\",SISWA!E101)","v":""},null,null,null,null,null,{"$error":"#DIV/0!"},null,null,{"$error":"#DIV/0!"},{"$error":"#DIV/0!"}]
[95,{"$f":"IF(SISWA!B102=0,\"\",SISWA!B102)","v":""},{"$f":"IF(SISWA!C102=0,\"\",SISWA!C102)","v":""},{"$f":"IF(SISWA!D102=0,\"\",SISWA!D102)","v":"095-"},{"$f":"IF(SISWA!E102=0,\"\",SISWA!E102)","v":""},null,null,null,null,null,{"$error":"#DIV/0!"},null,null,{"$error":"#DIV/0!"},{"$error":"#DIV/0!"}]
[96,{"$f":"IF(SISWA!B103=0,\"\",SISWA!B103)","v":""},{"$f":"IF(SISWA!C103=0,\"\",SISWA!C103)","v":""},{"$f":"IF(SISWA!D103=0,\"\",SISWA!D103)","v":"096-"},{"$f":"IF(SISWA!E103=0,\"\",SISWA!E103)","v":""},null,null,null,null,null,{"$error":"#DIV/0!"},null,null,{"$error":"#DIV/0!"},{"$error":"#DIV/0!"}]
[97,{"$f":"IF(SISWA!B104=0,\"\",SISWA!B104)","v":""},{"$f":"IF(SISWA!C104=0,\"\",SISWA!C104)","v":""},{"$f":"IF(SISWA!D104=0,\"\",SISWA!D104)","v":"097-"},{"$f":"IF(SISWA!E104=0,\"\",SISWA!E104)","v":""},null,null,null,null,null,{"$error":"#DIV/0!"},null,null,{"$error":"#DIV/0!"},{"$error":"#DIV/0!"}]
[98,{"$f":"IF(SISWA!B105=0,\"\",SISWA!B105)","v":""},{"$f":"IF(SISWA!C105=0,\"\",SISWA!C105)","v":""},{"$f":"IF(SISWA!D105=0,\"\",SISWA!D105)","v":"098-"},{"$f":"IF(SISWA!E105=0,\"\",SISWA!E105)","v":""},null,null,null,null,null,{"$error":"#DIV/0!"},null,null,{"$error":"#DIV/0!"},{"$error":"#DIV/0!"}]
[99,{"$f":"IF(SISWA!B106=0,\"\",SISWA!B106)","v":""},{"$f":"IF(SISWA!C106=0,\"\",SISWA!C106)","v":""},{"$f":"IF(SISWA!D106=0,\"\",SISWA!D106)","v":"099-"},{"$f":"IF(SISWA!E106=0,\"\",SISWA!E106)","v":""},null,null,null,null,null,{"$error":"#DIV/0!"},null,null,{"$error":"#DIV/0!"},{"$error":"#DIV/0!"}]
[100,{"$f":"IF(SISWA!B107=0,\"\",SISWA!B107)","v":""},{"$f":"IF(SISWA!C107=0,\"\",SISWA!C107)","v":""},{"$f":"IF(SISWA!D107=0,\"\",SISWA!D107)","v":"100-"},{"$f":"IF(SISWA!E107=0,\"\",SISWA!E107)","v":""},null,null,null,null,null,{"$error":"#DIV/0!"},null,null,{"$error":"#DIV/0!"},{"$error":"#DIV/0!"}]
[101,{"$f":"IF(SISWA!B108=0,\"\",SISWA!B108)","v":""},{"$f":"IF(SISWA!C108=0,\"\",SISWA!C108)","v":""},{"$f":"IF(SISWA!D108=0,\"\",SISWA!D108)","v":"101-"},{"$f":"IF(SISWA!E108=0,\"\",SISWA!E108)","v":""},null,null,null,null,null,{"$error":"#DIV/0!"},null,null,{"$error":"#DIV/0!"},{"$error":"#DIV/0!"}]
[102,{"$f":"IF(SISWA!B109=0,\"\",SISWA!B109)","v":""},{"$f":"IF(SISWA!C109=0,\"\",SISWA!C109)","v":""},{"$f":"IF(SISWA!D109=0,\"\",SISWA!D109)","v":"102-"},{"$f":"IF(SISWA!E109=0,\"\",SISWA!E109)","v":""},null,null,null,null,null,{"$error":"#DIV/0!"},null,null,{"$error":"#DIV/0!"},{"$error":"#DIV/0!"}]
[103,{"$f":"IF(SISWA!B110=0,\"\",SISWA!B110)","v":""},{"$f":"IF(SISWA!C110=0,\"\",SISWA!C110)","v":""},{"$f":"IF(SISWA!D110=0,\"\",SISWA!D110)","v":"103-"},{"$f":"IF(SISWA!E110=0,\"\",SISWA!E110)","v":""},null,null,null,null,null,{"$error":"#DIV/0!"},null,null,{"$error":"#DIV/0!"},{"$error":"#DIV/0!"}]
[104,{"$f":"IF(SISWA!B111=0,\"\",SISWA!B111)","v":""},{"$f":"IF(SISWA!C111=0,\"\",SISWA!C111)","v":""},{"$f":"IF(SISWA!D111=0,\"\",SISWA!D111)","v":"104-"},{"$f":"IF(SISWA!E111=0,\"\",SISWA!E111)","v":""},null,null,null,null,null,{"$error":"#DIV/0!"},null,null,{"$error":"#DIV/0!"},{"$error":"#DIV/0!"}]
[105,{"$f":"IF(SISWA!B112=0,\"\",SISWA!B112)","v":""},{"$f":"IF(SISWA!C112=0,\"\",SISWA!C112)","v":""},{"$f":"IF(SISWA!D112=0,\"\",SISWA!D112)","v":"105-"},{"$f":"IF(SISWA!E112=0,\"\",SISWA!E112)","v":""},null,null,null,null,null,{"$error":"#DIV/0!"},null,null,{"$error":"#DIV/0!"},{"$error":"#DIV/0!"}]
[106,{"$f":"IF(SISWA!B113=0,\"\",SISWA!B113)","v":""},{"$f":"IF(SISWA!C113=0,\"\",SISWA!C113)","v":""},{"$f":"IF(SISWA!D113=0,\"\",SISWA!D113)","v":"106-"},{"$f":"IF(SISWA!E113=0,\"\",SISWA!E113)","v":""},null,null,null,null,null,{"$error":"#DIV/0!"},null,null,{"$error":"#DIV/0!"},{"$error":"#DIV/0!"}]
[107,{"$f":"IF(SISWA!B114=0,\"\",SISWA!B114)","v":""},{"$f":"IF(SISWA!C114=0,\"\",SISWA!C114)","v":""},{"$f":"IF(SISWA!D114=0,\"\",SISWA!D114)","v":"107-"},{"$f":"IF(SISWA!E114=0,\"\",SISWA!E114)","v":""},null,null,null,null,null,{"$error":"#DIV/0!"},null,null,{"$error":"#DIV/0!"},{"$error":"#DIV/0!"}]
[108,{"$f":"IF(SISWA!B115=0,\"\",SISWA!B115)","v":""},{"$f":"IF(SISWA!C115=0,\"\",SISWA!C115)","v":""},{"$f":"IF(SISWA!D115=0,\"\",SISWA!D115)","v":"108-"},{"$f":"IF(SISWA!E115=0,\"\",SISWA!E115)","v":""},null,null,null,null,null,{"$error":"#DIV/0!"},null,null,{"$error":"#DIV/0!"},{"$error":"#DIV/0!"}]
[109,{"$f":"IF(SISWA!B116=0,\"\",SISWA!B116)","v":""},{"$f":"IF(SISWA!C116=0,\"\",SISWA!C116)","v":""},{"$f":"IF(SISWA!D116=0,\"\",SISWA!D116)","v":"109-"},{"$f":"IF(SISWA!E116=0,\"\",SISWA!E116)","v":""},null,null,null,null,null,{"$error":"#DIV/0!"},null,null,{"$error":"#DIV/0!"},{"$error":"#DIV/0!"}]
[110,{"$f":"IF(SISWA!B117=0,\"\",SISWA!B117)","v":""},{"$f":"IF(SISWA!C117=0,\"\",SISWA!C117)","v":""},{"$f":"IF(SISWA!D117=0,\"\",SISWA!D117)","v":"110-"},{"$f":"IF(SISWA!E117=0,\"\",SISWA!E117)","v":""},null,null,null,null,null,{"$error":"#DIV/0!"},null,null,{"$error":"#DIV/0!"},{"$error":"#DIV/0!"}]
[111,{"$f":"IF(SISWA!B118=0,\"\",SISWA!B118)","v":""},{"$f":"IF(SISWA!C118=0,\"\",SISWA!C118)","v":""},{"$f":"IF(SISWA!D118=0,\"\",SISWA!D118)","v":"111-"},{"$f":"IF(SISWA!E118=0,\"\",SISWA!E118)","v":""},null,null,null,null,null,{"$error":"#DIV/0!"},null,null,{"$error":"#DIV/0!"},{"$error":"#DIV/0!"}]
[112,{"$f":"IF(SISWA!B119=0,\"\",SISWA!B119)","v":""},{"$f":"IF(SISWA!C119=0,\"\",SISWA!C119)","v":""},{"$f":"IF(SISWA!D119=0,\"\",SISWA!D119)","v":"112-"},{"$f":"IF(SISWA!E119=0,\"\",SISWA!E119)","v":""},null,null,null,null,null,{"$error":"#DIV/0!"},null,null,{"$error":"#DIV/0!"},{"$error":"#DIV/0!"}]
[113,{"$f":"IF(SISWA!B120=0,\"\",SISWA!B120)","v":""},{"$f":"IF(SISWA!C120=0,\"\",SISWA!C120)","v":""},{"$f":"IF(SISWA!D120=0,\"\",SISWA!D120)","v":"113-"},{"$f":"IF(SISWA!E120=0,\"\",SISWA!E120)","v":""},null,null,null,null,null,{"$error":"#DIV/0!"},null,null,{"$error":"#DIV/0!"},{"$error":"#DIV/0!"}]
[114,{"$f":"IF(SISWA!B121=0,\"\",SISWA!B121)","v":""},{"$f":"IF(SISWA!C121=0,\"\",SISWA!C121)","v":""},{"$f":"IF(SISWA!D121=0,\"\",SISWA!D121)","v":"114-"},{"$f":"IF(SISWA!E121=0,\"\",SISWA!E121)","v":""},null,null,null,null,null,{"$error":"#DIV/0!"},null,null,{"$error":"#DIV/0!"},{"$error":"#DIV/0!"}]
[115,{"$f":"IF(SISWA!B122=0,\"\",SISWA!B122)","v":""},{"$f":"IF(SISWA!C122=0,\"\",SISWA!C122)","v":""},{"$f":"IF(SISWA!D122=0,\"\",SISWA!D122)","v":"115-"},{"$f":"IF(SISWA!E122=0,\"\",SISWA!E122)","v":""},null,null,null,null,null,{"$error":"#DIV/0!"},null,null,{"$f":"AVERAGE(L122:M122)","v":{"$error":"#DIV/0!"}},{"$error":"#DIV/0!"}]
[116,{"$f":"IF(SISWA!B123=0,\"\",SISWA!B123)","v":""},{"$f":"IF(SISWA!C123=0,\"\",SISWA!C123)","v":""},{"$f":"IF(SISWA!D123=0,\"\",SISWA!D123)","v":"116-"},{"$f":"IF(SISWA!E123=0,\"\",SISWA!E123)","v":""},null,null,null,null,null,{"$error":"#DIV/0!"},null,null,{"$error":"#DIV/0!"},{"$error":"#DIV/0!"}]
[117,{"$f":"IF(SISWA!B124=0,\"\",SISWA!B124)","v":""},{"$f":"IF(SISWA!C124=0,\"\",SISWA!C124)","v":""},{"$f":"IF(SISWA!D124=0,\"\",SISWA!D124)","v":"117-"},{"$f":"IF(SISWA!E124=0,\"\",SISWA!E124)","v":""},null,null,null,null,null,{"$error":"#DIV/0!"},null,null,{"$error":"#DIV/0!"},{"$error":"#DIV/0!"}]
[118,{"$f":"IF(SISWA!B125=0,\"\",SISWA!B125)","v":""},{"$f":"IF(SISWA!C125=0,\"\",SISWA!C125)","v":""},{"$f":"IF(SISWA!D125=0,\"\",SISWA!D125)","v":"118-"},{"$f":"IF(SISWA!E125=0,\"\",SISWA!E125)","v":""},null,null,null,null,null,{"$error":"#DIV/0!"},null,null,{"$error":"#DIV/0!"},{"$error":"#DIV/0!"}]
[119,{"$f":"IF(SISWA!B126=0,\"\",SISWA!B126)","v":""},{"$f":"IF(SISWA!C126=0,\"\",SISWA!C126)","v":""},{"$f":"IF(SISWA!D126=0,\"\",SISWA!D126)","v":"119-"},{"$f":"IF(SISWA!E126=0,\"\",SISWA!E126)","v":""},null,null,null,null,null,{"$error":"#DIV/0!"},null,null,{"$error":"#DIV/0!"},{"$error":"#DIV/0!"}]
[120,{"$f":"IF(SISWA!B127=0,\"\",SISWA!B127)","v":""},{"$f":"IF(SISWA!C127=0,\"\",SISWA!C127)","v":""},{"$f":"IF(SISWA!D127=0,\"\",SISWA!D127)","v":"120-"},{"$f":"IF(SISWA!E127=0,\"\",SISWA!E127)","v":""},null,null,null,null,null,{"$error":"#DIV/0!"},null,null,{"$error":"#DIV/0!"},{"$error":"#DIV/0!"}]
[121,{"$f":"IF(SISWA!B128=0,\"\",SISWA!B128)","v":""},{"$f":"IF(SISWA!C128=0,\"\",SISWA!C128)","v":""},{"$f":"IF(SISWA!D128=0,\"\",SISWA!D128)","v":"121-"},{"$f":"IF(SISWA!E128=0,\"\",SISWA!E128)","v":""},null,null,null,null,null,{"$error":"#DIV/0!"},null,null,{"$error":"#DIV/0!"},{"$error":"#DIV/0!"}]
[122,{"$f":"IF(SISWA!B129=0,\"\",SISWA!B129)","v":""},{"$f":"IF(SISWA!C129=0,\"\",SISWA!C129)","v":""},{"$f":"IF(SISWA!D129=0,\"\",SISWA!D129)","v":"122-"},{"$f":"IF(SISWA!E129=0,\"\",SISWA!E129)","v":""},null,null,null,null,null,{"$error":"#DIV/0!"},null,null,{"$error":"#DIV/0!"},{"$error":"#DIV/0!"}]
[123,{"$f":"IF(SISWA!B130=0,\"\",SISWA!B130)","v":""},{"$f":"IF(SISWA!C130=0,\"\",SISWA!C130)","v":""},{"$f":"IF(SISWA!D130=0,\"\",SISWA!D130)","v":"123-"},{"$f":"IF(SISWA!E130=0,\"\",SISWA!E130)","v":""},null,null,null,null,null,{"$error":"#DIV/0!"},null,null,{"$error":"#DIV/0!"},{"$error":"#DIV/0!"}]
[124,{"$f":"IF(SISWA!B131=0,\"\",SISWA!B131)","v":""},{"$f":"IF(SISWA!C131=0,\"\",SISWA!C131)","v":""},{"$f":"IF(SISWA!D131=0,\"\",SISWA!D131)","v":"124-"},{"$f":"IF(SISWA!E131=0,\"\",SISWA!E131)","v":""},null,null,null,null,null,{"$error":"#DIV/0!"},null,null,{"$error":"#DIV/0!"},{"$error":"#DIV/0!"}]
[125,{"$f":"IF(SISWA!B132=0,\"\",SISWA!B132)","v":""},{"$f":"IF(SISWA!C132=0,\"\",SISWA!C132)","v":""},{"$f":"IF(SISWA!D132=0,\"\",SISWA!D132)","v":"125-"},{"$f":"IF(SISWA!E132=0,\"\",SISWA!E132)","v":""},null,null,null,null,null,{"$f":"AVERAGE(F132:J132)","v":{"$error":"#DIV/0!"}},null,null,{"$error":"#DIV/0!"},{"$error":"#DIV/0!"}]
[126,{"$f":"IF(SISWA!B133=0,\"\",SISWA!B133)","v":""},{"$f":"IF(SISWA!C133=0,\"\",SISWA!C133)","v":""},{"$f":"IF(SISWA!D133=0,\"\",SISWA!D133)","v":"126-"},{"$f":"IF(SISWA!E133=0,\"\",SISWA!E133)","v":""},null,null,null,null,null,{"$error":"#DIV/0!"},null,null,{"$error":"#DIV/0!"},{"$error":"#DIV/0!"}]
[127,{"$f":"IF(SISWA!B134=0,\"\",SISWA!B134)","v":""},{"$f":"IF(SISWA!C134=0,\"\",SISWA!C134)","v":""},{"$f":"IF(SISWA!D134=0,\"\",SISWA!D134)","v":"127-"},{"$f":"IF(SISWA!E134=0,\"\",SISWA!E134)","v":""},null,null,null,null,null,{"$error":"#DIV/0!"},null,null,{"$error":"#DIV/0!"},{"$error":"#DIV/0!"}]
[128,{"$f":"IF(SISWA!B135=0,\"\",SISWA!B135)","v":""},{"$f":"IF(SISWA!C135=0,\"\",SISWA!C135)","v":""},{"$f":"IF(SISWA!D135=0,\"\",SISWA!D135)","v":"128-"},{"$f":"IF(SISWA!E135=0,\"\",SISWA!E135)","v":""},null,null,null,null,null,{"$error":"#DIV/0!"},null,null,{"$error":"#DIV/0!"},{"$error":"#DIV/0!"}]
[129,{"$f":"IF(SISWA!B136=0,\"\",SISWA!B136)","v":""},{"$f":"IF(SISWA!C136=0,\"\",SISWA!C136)","v":""},{"$f":"IF(SISWA!D136=0,\"\",SISWA!D136)","v":"129-"},{"$f":"IF(SISWA!E136=0,\"\",SISWA!E136)","v":""},null,null,null,null,null,{"$error":"#DIV/0!"},null,null,{"$error":"#DIV/0!"},{"$error":"#DIV/0!"}]
[130,{"$f":"IF(SISWA!B137=0,\"\",SISWA!B137)","v":""},{"$f":"IF(SISWA!C137=0,\"\",SISWA!C137)","v":""},{"$f":"IF(SISWA!D137=0,\"\",SISWA!D137)","v":"130-"},{"$f":"IF(SISWA!E137=0,\"\",SISWA!E137)","v":""},null,null,null,null,null,{"$error":"#DIV/0!"},null,null,{"$error":"#DIV/0!"},{"$f":"AVERAGE(L137:M137)","v":{"$error":"#DIV/0!"}}]
[131,{"$f":"IF(SISWA!B138=0,\"\",SISWA!B138)","v":""},{"$f":"IF(SISWA!C138=0,\"\",SISWA!C138)","v":""},{"$f":"IF(SISWA!D138=0,\"\",SISWA!D138)","v":"131-"},{"$f":"IF(SISWA!E138=0,\"\",SISWA!E138)","v":""},null,null,null,null,null,{"$error":"#DIV/0!"},null,null,{"$error":"#DIV/0!"},{"$error":"#DIV/0!"}]
[132,{"$f":"IF(SISWA!B139=0,\"\",SISWA!B139)","v":""},{"$f":"IF(SISWA!C139=0,\"\",SISWA!C139)","v":""},{"$f":"IF(SISWA!D139=0,\"\",SISWA!D139)","v":"132-"},{"$f":"IF(SISWA!E139=0,\"\",SISWA!E139)","v":""},null,null,null,null,null,{"$error":"#DIV/0!"},null,null,{"$error":"#DIV/0!"},{"$error":"#DIV/0!"}]
[133,{"$f":"IF(SISWA!B140=0,\"\",SISWA!B140)","v":""},{"$f":"IF(SISWA!C140=0,\"\",SISWA!C140)","v":""},{"$f":"IF(SISWA!D140=0,\"\",SISWA!D140)","v":"133-"},{"$f":"IF(SISWA!E140=0,\"\",SISWA!E140)","v":""},null,null,null,null,null,{"$error":"#DIV/0!"},null,null,{"$error":"#DIV/0!"},{"$error":"#DIV/0!"}]
[134,{"$f":"IF(SISWA!B141=0,\"\",SISWA!B141)","v":""},{"$f":"IF(SISWA!C141=0,\"\",SISWA!C141)","v":""},{"$f":"IF(SISWA!D141=0,\"\",SISWA!D141)","v":"134-"},{"$f":"IF(SISWA!E141=0,\"\",SISWA!E141)","v":""},null,null,null,null,null,{"$error":"#DIV/0!"},null,null,{"$error":"#DIV/0!"},{"$error":"#DIV/0!"}]
[135,{"$f":"IF(SISWA!B142=0,\"\",SISWA!B142)","v":""},{"$f":"IF(SISWA!C142=0,\"\",SISWA!C142)","v":""},{"$f":"IF(SISWA!D142=0,\"\",SISWA!D142)","v":"135-"},{"$f":"IF(SISWA!E142=0,\"\",SISWA!E142)","v":""},null,null,null,null,null,{"$error":"#DIV/0!"},null,null,{"$error":"#DIV/0!"},{"$error":"#DIV/0!"}]
[136,{"$f":"IF(SISWA!B143=0,\"\",SISWA!B143)","v":""},{"$f":"IF(SISWA!C143=0,\"\",SISWA!C143)","v":""},{"$f":"IF(SISWA!D143=0,\"\",SISWA!D143)","v":"136-"},{"$f":"IF(SISWA!E143=0,\"\",SISWA!E143)","v":""},null,null,null,null,null,{"$error":"#DIV/0!"},null,null,{"$error":"#DIV/0!"},{"$error":"#DIV/0!"}]
[137,{"$f":"IF(SISWA!B144=0,\"\",SISWA!B144)","v":""},{"$f":"IF(SISWA!C144=0,\"\",SISWA!C144)","v":""},{"$f":"IF(SISWA!D144=0,\"\",SISWA!D144)","v":"137-"},{"$f":"IF(SISWA!E144=0,\"\",SISWA!E144)","v":""},null,null,null,null,null,{"$error":"#DIV/0!"},null,null,{"$error":"#DIV/0!"},{"$error":"#DIV/0!"}]
[138,{"$f":"IF(SISWA!B145=0,\"\",SISWA!B145)","v":""},{"$f":"IF(SISWA!C145=0,\"\",SISWA!C145)","v":""},{"$f":"IF(SISWA!D145=0,\"\",SISWA!D145)","v":"138-"},{"$f":"IF(SISWA!E145=0,\"\",SISWA!E145)","v":""},null,null,null,null,null,{"$error":"#DIV/0!"},null,null,{"$error":"#DIV/0!"},{"$error":"#DIV/0!"}]
[139,{"$f":"IF(SISWA!B146=0,\"\",SISWA!B146)","v":""},{"$f":"IF(SISWA!C146=0,\"\",SISWA!C146)","v":""},{"$f":"IF(SISWA!D146=0,\"\",SISWA!D146)","v":"139-"},{"$f":"IF(SISWA!E146=0,\"\",SISWA!E146)","v":""},null,null,null,null,null,{"$error":"#DIV/0!"},null,null,{"$error":"#DIV/0!"},{"$error":"#DIV/0!"}]
[140,{"$f":"IF(SISWA!B147=0,\"\",SISWA!B147)","v":""},{"$f":"IF(SISWA!C147=0,\"\",SISWA!C147)","v":""},{"$f":"IF(SISWA!D147=0,\"\",SISWA!D147)","v":"140-"},{"$f":"IF(SISWA!E147=0,\"\",SISWA!E147)","v":""},null,null,null,null,null,{"$error":"#DIV/0!"},null,null,{"$error":"#DIV/0!"},{"$error":"#DIV/0!"}]
[141,{"$f":"IF(SISWA!B148=0,\"\",SISWA!B148)","v":""},{"$f":"IF(SISWA!C148=0,\"\",SISWA!C148)","v":""},{"$f":"IF(SISWA!D148=0,\"\",SISWA!D148)","v":"141-"},{"$f":"IF(SISWA!E148=0,\"\",SISWA!E148)","v":""},null,null,null,null,null,{"$error":"#DIV/0!"},null,null,{"$error":"#DIV/0!"},{"$error":"#DIV/0!"}]
[142,{"$f":"IF(SISWA!B149=0,\"\",SISWA!B149)","v":""},{"$f":"IF(SISWA!C149=0,\"\",SISWA!C149)","v":""},{"$f":"IF(SISWA!D149=0,\"\",SISWA!D149)","v":"142-"},{"$f":"IF(SISWA!E149=0,\"\",SISWA!E149)","v":""},null,null,null,null,null,{"$error":"#DIV/0!"},null,null,{"$error":"#DIV/0!"},{"$error":"#DIV/0!"}]
[143,{"$f":"IF(SISWA!B150=0,\"\",SISWA!B150)","v":""},{"$f":"IF(SISWA!C150=0,\"\",SISWA!C150)","v":""},{"$f":"IF(SISWA!D150=0,\"\",SISWA!D150)","v":"143-"},{"$f":"IF(SISWA!E150=0,\"\",SISWA!E150)","v":""},null,null,null,null,null,{"$error":"#DIV/0!"},null,null,{"$error":"#DIV/0!"},{"$error":"#DIV/0!"}]
[144,{"$f":"IF(SISWA!B151=0,\"\",SISWA!B151)","v":""},{"$f":"IF(SISWA!C151=0,\"\",SISWA!C151)","v":""},{"$f":"IF(SISWA!D151=0,\"\",SISWA!D151)","v":"144-"},{"$f":"IF(SISWA!E151=0,\"\",SISWA!E151)","v":""},null,null,null,null,null,{"$error":"#DIV/0!"},null,null,{"$error":"#DIV/0!"},{"$error":"#DIV/0!"}]
[145,{"$f":"IF(SISWA!B152=0,\"\",SISWA!B152)","v":""},{"$f":"IF(SISWA!C152=0,\"\",SISWA!C152)","v":""},{"$f":"IF(SISWA!D152=0,\"\",SISWA!D152)","v":"145-"},{"$f":"IF(SISWA!E152=0,\"\",SISWA!E152)","v":""},null,null,null,null,null,{"$error":"#DIV/0!"},null,null,{"$error":"#DIV/0!"},{"$error":"#DIV/0!"}]
[146,{"$f":"IF(SISWA!B153=0,\"\",SISWA!B153)","v":""},{"$f":"IF(SISWA!C153=0,\"\",SISWA!C153)","v":""},{"$f":"IF(SISWA!D153=0,\"\",SISWA!D153)","v":"146-"},{"$f":"IF(SISWA!E153=0,\"\",SISWA!E153)","v":""},null,null,null,null,null,{"$error":"#DIV/0!"},null,null,{"$error":"#DIV/0!"},{"$error":"#DIV/0!"}]
[147,{"$f":"IF(SISWA!B154=0,\"\",SISWA!B154)","v":""},{"$f":"IF(SISWA!C154=0,\"\",SISWA!C154)","v":""},{"$f":"IF(SISWA!D154=0,\"\",SISWA!D154)","v":"147-"},{"$f":"IF(SISWA!E154=0,\"\",SISWA!E154)","v":""},null,null,null,null,null,{"$error":"#DIV/0!"},null,null,{"$error":"#DIV/0!"},{"$error":"#DIV/0!"}]
[148,{"$f":"IF(SISWA!B155=0,\"\",SISWA!B155)","v":""},{"$f":"IF(SISWA!C155=0,\"\",SISWA!C155)","v":""},{"$f":"IF(SISWA!D155=0,\"\",SISWA!D155)","v":"148-"},{"$f":"IF(SISWA!E155=0,\"\",SISWA!E155)","v":""},null,null,null,null,null,{"$error":"#DIV/0!"},null,null,{"$error":"#DIV/0!"},{"$error":"#DIV/0!"}]
[149,{"$f":"IF(SISWA!B156=0,\"\",SISWA!B156)","v":""},{"$f":"IF(SISWA!C156=0,\"\",SISWA!C156)","v":""},{"$f":"IF(SISWA!D156=0,\"\",SISWA!D156)","v":"149-"},{"$f":"IF(SISWA!E156=0,\"\",SISWA!E156)","v":""},null,null,null,null,null,{"$error":"#DIV/0!"},null,null,{"$error":"#DIV/0!"},{"$error":"#DIV/0!"}]
[150,{"$f":"IF(SISWA!B157=0,\"\",SISWA!B157)","v":""},{"$f":"IF(SISWA!C157=0,\"\",SISWA!C157)","v":""},{"$f":"IF(SISWA!D157=0,\"\",SISWA!D157)","v":"150-"},{"$f":"IF(SISWA!E157=0,\"\",SISWA!E157)","v":""},null,null,null,null,null,{"$error":"#DIV/0!"},null,null,{"$error":"#DIV/0!"},{"$error":"#DIV/0!"}]
[151,{"$f":"IF(SISWA!B158=0,\"\",SISWA!B158)","v":""},{"$f":"IF(SISWA!C158=0,\"\",SISWA!C158)","v":""},{"$f":"IF(SISWA!D158=0,\"\",SISWA!D158)","v":"151-"},{"$f":"IF(SISWA!E158=0,\"\",SISWA!E158)","v":""},null,null,null,null,null,{"$error":"#DIV/0!"},null,null,{"$error":"#DIV/0!"},{"$error":"#DIV/0!"}]
[152,{"$f":"IF(SISWA!B159=0,\"\",SISWA!B159)","v":""},{"$f":"IF(SISWA!C159=0,\"\",SISWA!C159)","v":""},{"$f":"IF(SISWA!D159=0,\"\",SISWA!D159)","v":"152-"},{"$f":"IF(SISWA!E159=0,\"\",SISWA!E159)","v":""},null,null,null,null,null,{"$error":"#DIV/0!"},null,null,{"$error":"#DIV/0!"},{"$error":"#DIV/0!"}]
[153,{"$f":"IF(SISWA!B160=0,\"\",SISWA!B160)","v":""},{"$f":"IF(SISWA!C160=0,\"\",SISWA!C160)","v":""},{"$f":"IF(SISWA!D160=0,\"\",SISWA!D160)","v":"153-"},{"$f":"IF(SISWA!E160=0,\"\",SISWA!E160)","v":""},null,null,null,null,null,{"$error":"#DIV/0!"},null,null,{"$error":"#DIV/0!"},{"$error":"#DIV/0!"}]
[154,{"$f":"IF(SISWA!B161=0,\"\",SISWA!B161)","v":""},{"$f":"IF(SISWA!C161=0,\"\",SISWA!C161)","v":""},{"$f":"IF(SISWA!D161=0,\"\",SISWA!D161)","v":"154-"},{"$f":"IF(SISWA!E161=0,\"\",SISWA!E161)","v":""},null,null,null,null,null,{"$error":"#DIV/0!"},null,null,{"$error":"#DIV/0!"},{"$error":"#DIV/0!"}]
[155,{"$f":"IF(SISWA!B162=0,\"\",SISWA!B162)","v":""},{"$f":"IF(SISWA!C162=0,\"\",SISWA!C162)","v":""},{"$f":"IF(SISWA!D162=0,\"\",SISWA!D162)","v":"155-"},{"$f":"IF(SISWA!E162=0,\"\",SISWA!E162)","v":""},null,null,null,null,null,{"$error":"#DIV/0!"},null,null,{"$error":"#DIV/0!"},{"$error":"#DIV/0!"}]
[156,{"$f":"IF(SISWA!B163=0,\"\",SISWA!B163)","v":""},{"$f":"IF(SISWA!C163=0,\"\",SISWA!C163)","v":""},{"$f":"IF(SISWA!D163=0,\"\",SISWA!D163)","v":"156-"},{"$f":"IF(SISWA!E163=0,\"\",SISWA!E163)","v":""},null,null,null,null,null,{"$error":"#DIV/0!"},null,null,{"$error":"#DIV/0!"},{"$error":"#DIV/0!"}]
[157,{"$f":"IF(SISWA!B164=0,\"\",SISWA!B164)","v":""},{"$f":"IF(SISWA!C164=0,\"\",SISWA!C164)","v":""},{"$f":"IF(SISWA!D164=0,\"\",SISWA!D164)","v":"157-"},{"$f":"IF(SISWA!E164=0,\"\",SISWA!E164)","v":""},null,null,null,null,null,{"$error":"#DIV/0!"},null,null,{"$error":"#DIV/0!"},{"$error":"#DIV/0!"}]
[158,{"$f":"IF(SISWA!B165=0,\"\",SISWA!B165)","v":""},{"$f":"IF(SISWA!C165=0,\"\",SISWA!C165)","v":""},{"$f":"IF(SISWA!D165=0,\"\",SISWA!D165)","v":"158-"},{"$f":"IF(SISWA!E165=0,\"\",SISWA!E165)","v":""},null,null,null,null,null,{"$error":"#DIV/0!"},null,null,{"$error":"#DIV/0!"},{"$error":"#DIV/0!"}]
[159,{"$f":"IF(SISWA!B166=0,\"\",SISWA!B166)","v":""},{"$f":"IF(SISWA!C166=0,\"\",SISWA!C166)","v":""},{"$f":"IF(SISWA!D166=0,\"\",SISWA!D166)","v":"159-"},{"$f":"IF(SISWA!E166=0,\"\",SISWA!E166)","v":""},null,null,null,null,null,{"$error":"#DIV/0!"},null,null,{"$error":"#DIV/0!"},{"$error":"#DIV/0!"}]
[160,{"$f":"IF(SISWA!B167=0,\"\",SISWA!B167)","v":""},{"$f":"IF(SISWA!C167=0,\"\",SISWA!C167)","v":""},{"$f":"IF(SISWA!D167=0,\"\",SISWA!D167)","v":"160-"},{"$f":"IF(SISWA!E167=0,\"\",SISWA!E167)","v":""},null,null,null,null,null,{"$error":"#DIV/0!"},null,null,{"$error":"#DIV/0!"},{"$error":"#DIV/0!"}]
[161,{"$f":"IF(SISWA!B168=0,\"\",SISWA!B168)","v":""},{"$f":"IF(SISWA!C168=0,\"\",SISWA!C168)","v":""},{"$f":"IF(SISWA!D168=0,\"\",SISWA!D168)","v":"161-"},{"$f":"IF(SISWA!E168=0,\"\",SISWA!E168)","v":""},null,null,null,null,null,{"$error":"#DIV/0!"},null,null,{"$error":"#DIV/0!"},{"$error":"#DIV/0!"}]
[162,{"$f":"IF(SISWA!B169=0,\"\",SISWA!B169)","v":""},{"$f":"IF(SISWA!C169=0,\"\",SISWA!C169)","v":""},{"$f":"IF(SISWA!D169=0,\"\",SISWA!D169)","v":"162-"},{"$f":"IF(SISWA!E169=0,\"\",SISWA!E169)","v":""},null,null,null,null,null,{"$error":"#DIV/0!"},null,null,{"$error":"#DIV/0!"},{"$error":"#DIV/0!"}]
[163,{"$f":"IF(SISWA!B170=0,\"\",SISWA!B170)","v":""},{"$f":"IF(SISWA!C170=0,\"\",SISWA!C170)","v":""},{"$f":"IF(SISWA!D170=0,\"\",SISWA!D170)","v":"163-"},{"$f":"IF(SISWA!E170=0,\"\",SISWA!E170)","v":""},null,null,null,null,null,{"$error":"#DIV/0!"},null,null,{"$error":"#DIV/0!"},{"$error":"#DIV/0!"}]
[164,{"$f":"IF(SISWA!B171=0,\"\",SISWA!B171)","v":""},{"$f":"IF(SISWA!C171=0,\"\",SISWA!C171)","v":""},{"$f":"IF(SISWA!D171=0,\"\",SISWA!D171)","v":"164-"},{"$f":"IF(SISWA!E171=0,\"\",SISWA!E171)","v":""},null,null,null,null,null,{"$error":"#DIV/0!"},null,null,{"$error":"#DIV/0!"},{"$error":"#DIV/0!"}]
[165,{"$f":"IF(SISWA!B172=0,\"\",SISWA!B172)","v":""},{"$f":"IF(SISWA!C172=0,\"\",SISWA!C172)","v":""},{"$f":"IF(SISWA!D172=0,\"\",SISWA!D172)","v":"165-"},{"$f":"IF(SISWA!E172=0,\"\",SISWA!E172)","v":""},null,null,null,null,null,{"$error":"#DIV/0!"},null,null,{"$error":"#DIV/0!"},{"$error":"#DIV/0!"}]
[166,{"$f":"IF(SISWA!B173=0,\"\",SISWA!B173)","v":""},{"$f":"IF(SISWA!C173=0,\"\",SISWA!C173)","v":""},{"$f":"IF(SISWA!D173=0,\"\",SISWA!D173)","v":"166-"},{"$f":"IF(SISWA!E173=0,\"\",SISWA!E173)","v":""},null,null,null,null,null,{"$error":"#DIV/0!"},null,null,{"$error":"#DIV/0!"},{"$error":"#DIV/0!"}]
[167,{"$f":"IF(SISWA!B174=0,\"\",SISWA!B174)","v":""},{"$f":"IF(SISWA!C174=0,\"\",SISWA!C174)","v":""},{"$f":"IF(SISWA!D174=0,\"\",SISWA!D174)","v":"167-"},{"$f":"IF(SISWA!E174=0,\"\",SISWA!E174)","v":""},null,null,null,null,null,{"$error":"#DIV/0!"},null,null,{"$error":"#DIV/0!"},{"$error":"#DIV/0!"}]
[168,{"$f":"IF(SISWA!B175=0,\"\",SISWA!B175)","v":""},{"$f":"IF(SISWA!C175=0,\"\",SISWA!C175)","v":""},{"$f":"IF(SISWA!D175=0,\"\",SISWA!D175)","v":"168-"},{"$f":"IF(SISWA!E175=0,\"\",SISWA!E175)","v":""},null,null,null,null,null,{"$error":"#DIV/0!"},null,null,{"$error":"#DIV/0!"},{"$error":"#DIV/0!"}]
[169,{"$f":"IF(SISWA!B176=0,\"\",SISWA!B176)","v":""},{"$f":"IF(SISWA!C176=0,\"\",SISWA!C176)","v":""},{"$f":"IF(SISWA!D176=0,\"\",SISWA!D176)","v":"169-"},{"$f":"IF(SISWA!E176=0,\"\",SISWA!E176)","v":""},null,null,null,null,null,{"$error":"#DIV/0!"},null,null,{"$error":"#DIV/0!"},{"$error":"#DIV/0!"}]
[170,{"$f":"IF(SISWA!B177=0,\"\",SISWA!B177)","v":""},{"$f":"IF(SISWA!C177=0,\"\",SISWA!C177)","v":""},{"$f":"IF(SISWA!D177=0,\"\",SISWA!D177)","v":"170-"},{"$f":"IF(SISWA!E177=0,\"\",SISWA!E177)","v":""},null,null,null,null,null,{"$error":"#DIV/0!"},null,null,{"$error":"#DIV/0!"},{"$error":"#DIV/0!"}]
[171,{"$f":"IF(SISWA!B178=0,\"\",SISWA!B178)","v":""},{"$f":"IF(SISWA!C178=0,\"\",SISWA!C178)","v":""},{"$f":"IF(SISWA!D178=0,\"\",SISWA!D178)","v":"171-"},{"$f":"IF(SISWA!E178=0,\"\",SISWA!E178)","v":""},null,null,null,null,null,{"$error":"#DIV/0!"},null,null,{"$error":"#DIV/0!"},{"$error":"#DIV/0!"}]
[172,{"$f":"IF(SISWA!B179=0,\"\",SISWA!B179)","v":""},{"$f":"IF(SISWA!C179=0,\"\",SISWA!C179)","v":""},{"$f":"IF(SISWA!D179=0,\"\",SISWA!D179)","v":"172-"},{"$f":"IF(SISWA!E179=0,\"\",SISWA!E179)","v":""},null,null,null,null,null,{"$error":"#DIV/0!"},null,null,{"$error":"#DIV/0!"},{"$error":"#DIV/0!"}]
[173,{"$f":"IF(SISWA!B180=0,\"\",SISWA!B180)","v":""},{"$f":"IF(SISWA!C180=0,\"\",SISWA!C180)","v":""},{"$f":"IF(SISWA!D180=0,\"\",SISWA!D180)","v":"173-"},{"$f":"IF(SISWA!E180=0,\"\",SISWA!E180)","v":""},null,null,null,null,null,{"$error":"#DIV/0!"},null,null,{"$error":"#DIV/0!"},{"$error":"#DIV/0!"}]
[174,{"$f":"IF(SISWA!B181=0,\"\",SISWA!B181)","v":""},{"$f":"IF(SISWA!C181=0,\"\",SISWA!C181)","v":""},{"$f":"IF(SISWA!D181=0,\"\",SISWA!D181)","v":"174-"},{"$f":"IF(SISWA!E181=0,\"\",SISWA!E181)","v":""},null,null,null,null,null,{"$error":"#DIV/0!"},null,null,{"$error":"#DIV/0!"},{"$error":"#DIV/0!"}]
[175,{"$f":"IF(SISWA!B182=0,\"\",SISWA!B182)","v":""},{"$f":"IF(SISWA!C182=0,\"\",SISWA!C182)","v":""},{"$f":"IF(SISWA!D182=0,\"\",SISWA!D182)","v":"175-"},{"$f":"IF(SISWA!E182=0,\"\",SISWA!E182)","v":""},null,null,null,null,null,{"$error":"#DIV/0!"},null,null,{"$error":"#DIV/0!"},{"$error":"#DIV/0!"}]
[176,{"$f":"IF(SISWA!B183=0,\"\",SISWA!B183)","v":""},{"$f":"IF(SISWA!C183=0,\"\",SISWA!C183)","v":""},{"$f":"IF(SISWA!D183=0,\"\",SISWA!D183)","v":"176-"},{"$f":"IF(SISWA!E183=0,\"\",SISWA!E183)","v":""},null,null,null,null,null,{"$error":"#DIV/0!"},null,null,{"$error":"#DIV/0!"},{"$error":"#DIV/0!"}]
[177,{"$f":"IF(SISWA!B184=0,\"\",SISWA!B184)","v":""},{"$f":"IF(SISWA!C184=0,\"\",SISWA!C184)","v":""},{"$f":"IF(SISWA!D184=0,\"\",SISWA!D184)","v":"177-"},{"$f":"IF(SISWA!E184=0,\"\",SISWA!E184)","v":""},null,null,null,null,null,{"$error":"#DIV/0!"},null,null,{"$error":"#DIV/0!"},{"$error":"#DIV/0!"}]
[178,{"$f":"IF(SISWA!B185=0,\"\",SISWA!B185)","v":""},{"$f":"IF(SISWA!C185=0,\"\",SISWA!C185)","v":""},{"$f":"IF(SISWA!D185=0,\"\",SISWA!D185)","v":"178-"},{"$f":"IF(SISWA!E185=0,\"\",SISWA!E185)","v":""},null,null,null,null,null,{"$error":"#DIV/0!"},null,null,{"$error":"#DIV/0!"},{"$error":"#DIV/0!"}]
[179,{"$f":"IF(SISWA!B186=0,\"\",SISWA!B186)","v":""},{"$f":"IF(SISWA!C186=0,\"\",SISWA!C186)","v":""},{"$f":"IF(SISWA!D186=0,\"\",SISWA!D186)","v":"179-"},{"$f":"IF(SISWA!E186=0,\"\",SISWA!E186)","v":""},null,null,null,null,null,{"$error":"#DIV/0!"},null,null,{"$f":"AVERAGE(L186:M186)","v":{"$error":"#DIV/0!"}},{"$error":"#DIV/0!"}]
[180,{"$f":"IF(SISWA!B187=0,\"\",SISWA!B187)","v":""},{"$f":"IF(SISWA!C187=0,\"\",SISWA!C187)","v":""},{"$f":"IF(SISWA!D187=0,\"\",SISWA!D187)","v":"180-"},{"$f":"IF(SISWA!E187=0,\"\",SISWA!E187)","v":""},null,null,null,null,null,{"$error":"#DIV/0!"},null,null,{"$error":"#DIV/0!"},{"$error":"#DIV/0!"}]
[181,{"$f":"IF(SISWA!B188=0,\"\",SISWA!B188)","v":""},{"$f":"IF(SISWA!C188=0,\"\",SISWA!C188)","v":""},{"$f":"IF(SISWA!D188=0,\"\",SISWA!D188)","v":"181-"},{"$f":"IF(SISWA!E188=0,\"\",SISWA!E188)","v":""},null,null,null,null,null,{"$error":"#DIV/0!"},null,null,{"$error":"#DIV/0!"},{"$error":"#DIV/0!"}]
[182,{"$f":"IF(SISWA!B189=0,\"\",SISWA!B189)","v":""},{"$f":"IF(SISWA!C189=0,\"\",SISWA!C189)","v":""},{"$f":"IF(SISWA!D189=0,\"\",SISWA!D189)","v":"182-"},{"$f":"IF(SISWA!E189=0,\"\",SISWA!E189)","v":""},null,null,null,null,null,{"$error":"#DIV/0!"},null,null,{"$error":"#DIV/0!"},{"$error":"#DIV/0!"}]
[183,{"$f":"IF(SISWA!B190=0,\"\",SISWA!B190)","v":""},{"$f":"IF(SISWA!C190=0,\"\",SISWA!C190)","v":""},{"$f":"IF(SISWA!D190=0,\"\",SISWA!D190)","v":"183-"},{"$f":"IF(SISWA!E190=0,\"\",SISWA!E190)","v":""},null,null,null,null,null,{"$error":"#DIV/0!"},null,null,{"$error":"#DIV/0!"},{"$error":"#DIV/0!"}]
[184,{"$f":"IF(SISWA!B191=0,\"\",SISWA!B191)","v":""},{"$f":"IF(SISWA!C191=0,\"\",SISWA!C191)","v":""},{"$f":"IF(SISWA!D191=0,\"\",SISWA!D191)","v":"184-"},{"$f":"IF(SISWA!E191=0,\"\",SISWA!E191)","v":""},null,null,null,null,null,{"$error":"#DIV/0!"},null,null,{"$error":"#DIV/0!"},{"$error":"#DIV/0!"}]
[185,{"$f":"IF(SISWA!B192=0,\"\",SISWA!B192)","v":""},{"$f":"IF(SISWA!C192=0,\"\",SISWA!C192)","v":""},{"$f":"IF(SISWA!D192=0,\"\",SISWA!D192)","v":"185-"},{"$f":"IF(SISWA!E192=0,\"\",SISWA!E192)","v":""},null,null,null,null,null,{"$error":"#DIV/0!"},null,null,{"$error":"#DIV/0!"},{"$error":"#DIV/0!"}]
[186,{"$f":"IF(SISWA!B193=0,\"\",SISWA!B193)","v":""},{"$f":"IF(SISWA!C193=0,\"\",SISWA!C193)","v":""},{"$f":"IF(SISWA!D193=0,\"\",SISWA!D193)","v":"186-"},{"$f":"IF(SISWA!E193=0,\"\",SISWA!E193)","v":""},null,null,null,null,null,{"$error":"#DIV/0!"},null,null,{"$error":"#DIV/0!"},{"$error":"#DIV/0!"}]
[187,{"$f":"IF(SISWA!B194=0,\"\",SISWA!B194)","v":""},{"$f":"IF(SISWA!C194=0,\"\",SISWA!C194)","v":""},{"$f":"IF(SISWA!D194=0,\"\",SISWA!D194)","v":"187-"},{"$f":"IF(SISWA!E194=0,\"\",SISWA!E194)","v":""},null,null,null,null,null,{"$error":"#DIV/0!"},null,null,{"$error":"#DIV/0!"},{"$error":"#DIV/0!"}]
[188,{"$f":"IF(SISWA!B195=0,\"\",SISWA!B195)","v":""},{"$f":"IF(SISWA!C195=0,\"\",SISWA!C195)","v":""},{"$f":"IF(SISWA!D195=0,\"\",SISWA!D195)","v":"188-"},{"$f":"IF(SISWA!E195=0,\"\",SISWA!E195)","v":""},null,null,null,null,null,{"$error":"#DIV/0!"},null,null,{"$error":"#DIV/0!"},{"$error":"#DIV/0!"}]
[189,{"$f":"IF(SISWA!B196=0,\"\",SISWA!B196)","v":""},{"$f":"IF(SISWA!C196=0,\"\",SISWA!C196)","v":""},{"$f":"IF(SISWA!D196=0,\"\",SISWA!D196)","v":"189-"},{"$f":"IF(SISWA!E196=0,\"\",SISWA!E196)","v":""},null,null,null,null,null,{"$f":"AVERAGE(F196:J196)","v":{"$error":"#DIV/0!"}},null,null,{"$error":"#DIV/0!"},{"$error":"#DIV/0!"}]
[190,{"$f":"IF(SISWA!B197=0,\"\",SISWA!B197)","v":""},{"$f":"IF(SISWA!C197=0,\"\",SISWA!C197)","v":""},{"$f":"IF(SISWA!D197=0,\"\",SISWA!D197)","v":"190-"},{"$f":"IF(SISWA!E197=0,\"\",SISWA!E197)","v":""},null,null,null,null,null,{"$error":"#DIV/0!"},null,null,{"$error":"#DIV/0!"},{"$error":"#DIV/0!"}]
[191,{"$f":"IF(SISWA!B198=0,\"\",SISWA!B198)","v":""},{"$f":"IF(SISWA!C198=0,\"\",SISWA!C198)","v":""},{"$f":"IF(SISWA!D198=0,\"\",SISWA!D198)","v":"191-"},{"$f":"IF(SISWA!E198=0,\"\",SISWA!E198)","v":""},null,null,null,null,null,{"$error":"#DIV/0!"},null,null,{"$error":"#DIV/0!"},{"$error":"#DIV/0!"}]
[192,{"$f":"IF(SISWA!B199=0,\"\",SISWA!B199)","v":""},{"$f":"IF(SISWA!C199=0,\"\",SISWA!C199)","v":""},{"$f":"IF(SISWA!D199=0,\"\",SISWA!D199)","v":"192-"},{"$f":"IF(SISWA!E199=0,\"\",SISWA!E199)","v":""},null,null,null,null,null,{"$error":"#DIV/0!"},null,null,{"$error":"#DIV/0!"},{"$error":"#DIV/0!"}]
[193,{"$f":"IF(SISWA!B200=0,\"\",SISWA!B200)","v":""},{"$f":"IF(SISWA!C200=0,\"\",SISWA!C200)","v":""},{"$f":"IF(SISWA!D200=0,\"\",SISWA!D200)","v":"193-"},{"$f":"IF(SISWA!E200=0,\"\",SISWA!E200)","v":""},null,null,null,null,null,{"$error":"#DIV/0!"},null,null,{"$error":"#DIV/0!"},{"$error":"#DIV/0!"}]
[194,{"$f":"IF(SISWA!B201=0,\"\",SISWA!B201)","v":""},{"$f":"IF(SISWA!C201=0,\"\",SISWA!C201)","v":""},{"$f":"IF(SISWA!D201=0,\"\",SISWA!D201)","v":"194-"},{"$f":"IF(SISWA!E201=0,\"\",SISWA!E201)","v":""},null,null,null,null,null,{"$error":"#DIV/0!"},null,null,{"$error":"#DIV/0!"},{"$f":"AVERAGE(L201:M201)","v":{"$error":"#DIV/0!"}}]
[195,{"$f":"IF(SISWA!B202=0,\"\",SISWA!B202)","v":""},{"$f":"IF(SISWA!C202=0,\"\",SISWA!C202)","v":""},{"$f":"IF(SISWA!D202=0,\"\",SISWA!D202)","v":"195-"},{"$f":"IF(SISWA!E202=0,\"\",SISWA!E202)","v":""},null,null,null,null,null,{"$error":"#DIV/0!"},null,null,{"$error":"#DIV/0!"},{"$error":"#DIV/0!"}]
[196,{"$f":"IF(SISWA!B203=0,\"\",SISWA!B203)","v":""},{"$f":"IF(SISWA!C203=0,\"\",SISWA!C203)","v":""},{"$f":"IF(SISWA!D203=0,\"\",SISWA!D203)","v":"196-"},{"$f":"IF(SISWA!E203=0,\"\",SISWA!E203)","v":""},null,null,null,null,null,{"$error":"#DIV/0!"},null,null,{"$error":"#DIV/0!"},{"$error":"#DIV/0!"}]
[197,{"$f":"IF(SISWA!B204=0,\"\",SISWA!B204)","v":""},{"$f":"IF(SISWA!C204=0,\"\",SISWA!C204)","v":""},{"$f":"IF(SISWA!D204=0,\"\",SISWA!D204)","v":"197-"},{"$f":"IF(SISWA!E204=0,\"\",SISWA!E204)","v":""},null,null,null,null,null,{"$error":"#DIV/0!"},null,null,{"$error":"#DIV/0!"},{"$error":"#DIV/0!"}]
[198,{"$f":"IF(SISWA!B205=0,\"\",SISWA!B205)","v":""},{"$f":"IF(SISWA!C205=0,\"\",SISWA!C205)","v":""},{"$f":"IF(SISWA!D205=0,\"\",SISWA!D205)","v":"198-"},{"$f":"IF(SISWA!E205=0,\"\",SISWA!E205)","v":""},null,null,null,null,null,{"$error":"#DIV/0!"},null,null,{"$error":"#DIV/0!"},{"$error":"#DIV/0!"}]
[199,{"$f":"IF(SISWA!B206=0,\"\",SISWA!B206)","v":""},{"$f":"IF(SISWA!C206=0,\"\",SISWA!C206)","v":""},{"$f":"IF(SISWA!D206=0,\"\",SISWA!D206)","v":"199-"},{"$f":"IF(SISWA!E206=0,\"\",SISWA!E206)","v":""},null,null,null,null,null,{"$error":"#DIV/0!"},null,null,{"$error":"#DIV/0!"},{"$error":"#DIV/0!"}]
[200,{"$f":"IF(SISWA!B207=0,\"\",SISWA!B207)","v":""},{"$f":"IF(SISWA!C207=0,\"\",SISWA!C207)","v":""},{"$f":"IF(SISWA!D207=0,\"\",SISWA!D207)","v":"200-"},{"$f":"IF(SISWA!E207=0,\"\",SISWA!E207)","v":""},null,null,null,null,null,{"$error":"#DIV/0!"},null,null,{"$error":"#DIV/0!"},{"$error":"#DIV/0!"}]

{"sheet":"DAKOLUN","index":16,"n_rows":208,"n_cols":88,"rows_kept":208,"cut":false,"hidden":false,"merged":[[5,87,7,87],[5,28,6,30],[5,59,6,61],[5,62,7,62],[6,46,6,48],[6,49,6,51],[5,34,6,36],[5,37,6,39],[5,40,6,42],[5,43,6,45],[5,46,5,48],[5,49,5,51],[5,52,7,52],[5,53,6,55],[5,56,6,58],[5,85,7,85],[5,5,7,5],[5,0,7,0],[5,1,7,1],[5,2,7,2],[5,3,7,3],[5,4,7,4],[5,6,7,6],[5,7,6,9],[5,22,6,24],[5,25,6,27],[5,31,6,33],[5,10,6,12],[5,13,6,15],[5,16,6,18],[5,19,6,21],[1,76,2,84],[5,63,7,63],[5,65,6,67],[5,68,6,70],[5,71,6,73],[1,65,2,73],[5,76,6,78],[5,79,6,81],[5,82,6,84],[5,64,7,64]]}
[null,null,null,"DAFTAR NILAI UJIAN "]
[null,null,null,{"$f":"DEPAN!Y6&\" \"&DEPAN!AA6","v":"Madrasah Ibtidaiyah Nurul Islam Labruk Kidul"},null,null,null,null,null,null,null,null,null,null,null,null,null,null,null,null,null,null,null,null,null,null,null,null,null,null,null,null,null,null,null,null,null,null,null,null,null,null,null,null,null,null,null,null,null,null,null,null,null,null,null,null,null,null,null,null,null,null,null,null,null,"NILAI SEKOLAH",null,null,null,null,null,null,null,null,null,null,"NILAI AKHIR"]
[null,null,null,{"$f":"PROPER(DEPAN!Y16)","v":"Tahun Pelajaran 2018/2019"}]
[null,null,null,"NILAI SEKOLAH = 60% NILAI RAPOT + 40% NILAI UJIAN SEKOLAH"]
[1,2,3,4,5,6,7,8,9,10,11,12,13,14,15,16,17,18,19,20,21,22,23,24,25,26,27,28,29,30,31,32,33,34,35,36,37,38,39,40,41,42,43,44,45,46,47,48,49,50,51,52,53,54,55,56,57,58,59,60,61,62,63,64,65,66,67,68,69,70,71,72,73,74,75,76,77,78,79,80,81,82,83,84,85,86,87,88]
["NO","No \nInduk","NISN","Nomor Peserta","Nama Peserta","Tempat\nTanggal Lahir","Nama\nOrang Tua","PAI",null,null,"AA",null,null,"AH",null,null,"FIQH",null,null,"SKI",null,null,"PKN",null,null,"   B.   INDONESIA",null,null,"BA",null,null,"MATEMATIKA",null,null,"IPA",null,null,"IPS",null,null,"SBK",null,null,"PENJAS",null,null,"MULOK 1",null,null,"MULOK 2",null,null,"RATA-RATA NS","B. INDONESIA",null,null,"MATEMATIKA",null,null,"IPA",null,null,"Rata-rata UN","JUMLAH (dibagi nilai raport)","JUMLAH (tanpa nilai raport)","   B.   INDONESIA",null,null,"MATEMATIKA",null,null,"IPA",null,null,null,null,"B. INDONESIA",null,null,"MATEMATIKA",null,null,"IPA",null,null,"Rata-rata UN",null,"No. Surat SKHU"]
[null,null,null,null,null,null,null,null,null,null,null,null,null,null,null,null,null,null,null,null,null,null,null,null,null,null,null,null,null,null,null,null,null,null,null,null,null,null,null,null,null,null,null,null,null,null,"B. DAERAH",null,null,"B. INGGRIS"]
[null,null,null,null,null,null,null,"NRR","NUS","NS","NRR","NUS","NS","NRR","NUS","NS","NRR","NUS","NS","NRR","NUS","NS","NRR","NUS","NS","NRR","NUS","NS","NRR","NUS","NS","NRR","NUS","NS","NRR","NUS","NS","NRR","NUS","NS","NRR","NUS","NS","NRR","NUS","NS","NRR","NUS","NS","NRR","NUS","NS",null,"NS","NUN","NA","NS","NUN","NA","NS","NUN","NA",null,null,null,"NRR","NUS","NS","NRR","NUS","NS","NRR","NUS","NS",null,null,"NS","NUN","NA","NS","NUN","NA","NS","NUN","NA"]
[{"$f":"SISWA!A8","v":1},{"$f":"IF(SISWA!B8=0,\"\",SISWA!B8)","v":4270},{"$f":"IF(SISWA!C8=0,\"\",SISWA!C8)","v":"0067566336"},{"$f":"IF(SISWA!D8=0,\"\",SISWA!D8)","v":"1-18-05-80-162-001-9"},{"$f":"IF(SISWA!E8=0,\"\",SISWA!E8)","v":"ADITYA MAULA FANDY TAULANI"},{"$f":"IF(SISWA!P8=0,\"\",SISWA!P8)","v":"LUMAJANG, 13 Juni 2006"},{"$f":"IF(SISWA!H8=0,\"\",SISWA!H8)","v":"MUHAMMAD KHAMDANI SYAIFULLAH"},{"$f":"#REF!","v":{"$error":"#REF!"}},{"$f":"#REF!","v":{"$error":"#REF!"}},{"$f":"(H9*60%)+(I9*40%)","v":{"$error":"#REF!"}},{"$f":"AA!K8","v":85.6},{"$f":"AA!N8","v":75.3},{"$f":"(K9*60%)+(L9*40%)","v":81.47999999999999},{"$f":"AH!K8","v":86},{"$f":"AH!N8","v":75.5},{"$f":"(N9*60%)+(O9*40%)","v":81.800000000000011},{"$f":"FQ!K8","v":85.2},{"$f":"FQ!N8","v":75.099999999999994},{"$f":"(Q9*60%)+(R9*40%)","v":81.16},{"$f":"SKI!K8","v":84.2},{"$f":"SKI!N8","v":74.599999999999994},{"$f":"(T9*60%)+(U9*40%)","v":80.36},{"$f":"PKn!K8","v":87.4},{"$f":"PKn!N8","v":65},{"$f":"(W9*60%)+(X9*40%)","v":78.44},{"$f":"BID!K8","v":84.2},{"$f":"BID!N8","v":83.795000000000002},{"$f":"(Z9*60%)+(AA9*40%)","v":84.038000000000011},{"$f":"BA!K8","v":80.2},{"$f":"BA!N8","v":72.599999999999994},{"$f":"(AC9*60%)+(AD9*40%)","v":77.16},{"$f":"MTK!K8","v":83.6},{"$f":"MTK!L8","v":77.33},{"$f":"(AF9*60%)+(AG9*40%)","v":81.091999999999999},{"$f":"IPA!K8","v":81},{"$f":"IPA!N8","v":77.5},{"$f":"(AI9*60%)+(AJ9*40%)","v":79.599999999999994},{"$f":"IPS!K8","v":83.4},{"$f":"IPS!L8","v":65},{"$f":"(AL9*60%)+(AM9*40%)","v":76.039999999999992},{"$f":"SBK!K8","v":82.6},{"$f":"SBK!N8","v":73.8},{"$f":"(AO9*60%)+(AP9*40%)","v":79.08},{"$f":"PJK!K8","v":82.6},{"$f":"PJK!N8","v":73.8},{"$f":"(AR9*60%)+(AS9*40%)","v":79.08},{"$f":"BD!K8","v":78.400000000000006},{"$f":"BD!N8","v":71.7},{"$f":"(AU9*60%)+(AV9*40%)","v":75.72},{"$f":"BIG!K8","v":79.8},{"$f":"BIG!N8","v":72.400000000000006},{"$f":"(AX9*60%)+(AY9*40%)","v":76.84},{"$f":"AVERAGE(M9,P9,S9,V9,Y9,AB9,AE9,AH9,AK9,AN9,AQ9,AT9,AW9,AZ9)","v":79.420714285714283},{"$f":"AB9","v":84.038000000000011},{"$f":"BID!L8","v":83.39},{"$f":"(BB9*60%)+(BC9*40%)","v":83.778800000000004},{"$f":"AH9","v":81.091999999999999},{"$f":"MTK!L8","v":77.33},{"$f":"(BE9*60%)+(BF9*40%)","v":79.587199999999996},{"$f":"AK9","v":79.599999999999994},{"$f":"IPA!L8","v":74},{"$f":"(BH9*60%)+(BI9*40%)","v":77.36},{"$f":"AVERAGE(BC9,BF9,BI9)","v":78.239999999999995},{"$f":"SUM(BD9,BG9,BJ9)","v":240.726},{"$f":"SUM(BC9,BF9,BI9)","v":234.72},{"$f":"Z9","v":84.2},{"$f":"AA9","v":83.795000000000002},{"$f":"AB9","v":84.038000000000011},{"$f":"AF9","v":83.6},77.33,81.091999999999999,81,77.5,79.599999999999994,null,null,{"$f":"BB9","v":84.038000000000011},83.39,83.778800000000004,81.091999999999999,77.33,79.587199999999996,79.599999999999994,74,77.36,null,null,{"$f":"SISWA!S7","v":"051/MINI.L-Kid/30.02.02/S.1-2/VI/2019"}]
[{"$f":"SISWA!A9","v":2},{"$f":"IF(SISWA!B9=0,\"\",SISWA!B9)","v":4300},{"$f":"IF(SISWA!C9=0,\"\",SISWA!C9)","v":"0066364963"},{"$f":"IF(SISWA!D9=0,\"\",SISWA!D9)","v":"1-18-05-80-162-002-8"},{"$f":"IF(SISWA!E9=0,\"\",SISWA!E9)","v":"AHMAD FERDIAN ALAMSYAH"},{"$f":"IF(SISWA!P9=0,\"\",SISWA!P9)","v":"LUMAJANG, 19 Agustus 2006"},{"$f":"IF(SISWA!H9=0,\"\",SISWA!H9)","v":"SUAMAT"},{"$f":"#REF!","v":{"$error":"#REF!"}},{"$f":"#REF!","v":{"$error":"#REF!"}},{"$f":"(H10*60%)+(I10*40%)","v":{"$error":"#REF!"}},{"$f":"AA!K9","v":73.2},{"$f":"AA!N9","v":72.099999999999994},{"$f":"(K10*60%)+(L10*40%)","v":72.760000000000005},{"$f":"AH!K9","v":74.2},{"$f":"AH!N9","v":69.599999999999994},{"$f":"(N10*60%)+(O10*40%)","v":72.36},{"$f":"FQ!K9","v":75},{"$f":"FQ!N9","v":70},{"$f":"(Q10*60%)+(R10*40%)","v":73},{"$f":"SKI!K9","v":75.2},{"$f":"SKI!N9","v":72.754999999999995},{"$f":"(T10*60%)+(U10*40%)","v":74.221999999999994},{"$f":"PKn!K9","v":72.8},{"$f":"PKn!N9","v":68},{"$f":"(W10*60%)+(X10*40%)","v":70.88},{"$f":"BID!K9","v":71.400000000000006},{"$f":"BID!N9","v":52.234999999999999},{"$f":"(Z10*60%)+(AA10*40%)","v":63.734000000000009},{"$f":"BA!K9","v":71.8},{"$f":"BA!N9","v":68.400000000000006},{"$f":"(AC10*60%)+(AD10*40%)","v":70.44},{"$f":"MTK!K9","v":70.400000000000006},{"$f":"MTK!L9","v":30.64},{"$f":"(AF10*60%)+(AG10*40%)","v":54.496000000000002},{"$f":"IPA!K9","v":71.599999999999994},{"$f":"IPA!N9","v":53.804999999999993},{"$f":"(AI10*60%)+(AJ10*40%)","v":64.481999999999999},{"$f":"IPS!K9","v":73.8},{"$f":"IPS!L9","v":65},{"$f":"(AL10*60%)+(AM10*40%)","v":70.28},{"$f":"SBK!K9","v":73.599999999999994},{"$f":"SBK!N9","v":69.3},{"$f":"(AO10*60%)+(AP10*40%)","v":71.88},{"$f":"PJK!K9","v":78.599999999999994},{"$f":"PJK!N9","v":71.8},{"$f":"(AR10*60%)+(AS10*40%)","v":75.88},{"$f":"BD!K9","v":71.2},{"$f":"BD!N9","v":68.099999999999994},{"$f":"(AU10*60%)+(AV10*40%)","v":69.959999999999994},{"$f":"BIG!K9","v":67.400000000000006},{"$f":"BIG!N9","v":66.2},{"$f":"(AX10*60%)+(AY10*40%)","v":66.920000000000016},{"$f":"AVERAGE(M10,P10,S10,V10,Y10,AB10,AE10,AH10,AK10,AN10,AQ10,AT10,AW10,AZ10)","v":69.378142857142862},{"$f":"AB10","v":63.734000000000009},{"$f":"BID!L9","v":33.07},51.468400000000003,54.496000000000002,{"$f":"MTK!L9","v":30.64},44.953600000000002,64.481999999999999,{"$f":"IPA!L9","v":36.01},53.093199999999996,{"$f":"AVERAGE(BC10,BF10,BI10)","v":33.24},{"$f":"SUM(BD10,BG10,BJ10)","v":149.51519999999999},{"$f":"SUM(BC10,BF10,BI10)","v":99.72},{"$f":"Z10","v":71.400000000000006},{"$f":"AA10","v":52.234999999999999},{"$f":"AB10","v":63.734000000000009},{"$f":"AF10","v":70.400000000000006},{"$f":"AG10","v":30.64},{"$f":"AH10","v":54.496000000000002},{"$f":"AI10","v":71.599999999999994},{"$f":"AJ10","v":53.804999999999993},{"$f":"AK10","v":64.481999999999999},null,null,{"$f":"BB10","v":63.734000000000009},{"$f":"BC10","v":33.07},{"$f":"BD10","v":51.468400000000003},{"$f":"BE10","v":54.496000000000002},{"$f":"BF10","v":30.64},{"$f":"BG10","v":44.953600000000002},{"$f":"BH10","v":64.481999999999999},{"$f":"BI10","v":36.01},{"$f":"BJ10","v":53.093199999999996},null,null,{"$f":"SISWA!S8","v":"052/MINI.L-Kid/30.02.02/S.1-2/VI/2019"}]
[{"$f":"SISWA!A10","v":3},{"$f":"IF(SISWA!B10=0,\"\",SISWA!B10)","v":4271},{"$f":"IF(SISWA!C10=0,\"\",SISWA!C10)","v":"0062805893"},{"$f":"IF(SISWA!D10=0,\"\",SISWA!D10)","v":"1-18-05-80-162-003-7"},{"$f":"IF(SISWA!E10=0,\"\",SISWA!E10)","v":"AHMAD RAMADHANI FADLULLOH"},{"$f":"IF(SISWA!P10=0,\"\",SISWA!P10)","v":"LUMAJANG, 18 Oktober 2006"},{"$f":"IF(SISWA!H10=0,\"\",SISWA!H10)","v":"MUHAMMAD SHODIKUL MUNIR"},{"$f":"#REF!","v":{"$error":"#REF!"}},{"$f":"#REF!","v":{"$error":"#REF!"}},{"$error":"#REF!"},{"$f":"AA!K10","v":79.8},{"$f":"AA!N10","v":73.900000000000006},77.44,{"$f":"AH!K10","v":80.2},{"$f":"AH!N10","v":72.599999999999994},77.16,{"$f":"FQ!K10","v":78.599999999999994},{"$f":"FQ!N10","v":71.8},75.88,{"$f":"SKI!K10","v":77.400000000000006},{"$f":"SKI!N10","v":71.754999999999995},75.141999999999996,{"$f":"PKn!K10","v":78.8},{"$f":"PKn!N10","v":68},74.47999999999999,{"$f":"BID!K10","v":75.8},{"$f":"BID!N10","v":66.884999999999991},72.233999999999995,{"$f":"BA!K10","v":75.8},{"$f":"BA!N10","v":70.400000000000006},73.64,{"$f":"MTK!K10","v":76.2},{"$f":"MTK!L10","v":21.31},54.244,{"$f":"IPA!K10","v":76.400000000000006},{"$f":"IPA!N10","v":62.685000000000002},70.914000000000001,{"$f":"IPS!K10","v":78.599999999999994},{"$f":"IPS!L10","v":65},73.16,{"$f":"SBK!K10","v":78.2},{"$f":"SBK!N10","v":71.599999999999994},75.56,{"$f":"PJK!K10","v":80.8},{"$f":"PJK!N10","v":72.900000000000006},77.64,{"$f":"BD!K10","v":75.2},{"$f":"BD!N10","v":70.099999999999994},73.16,{"$f":"BIG!K10","v":77.2},{"$f":"BIG!N10","v":73.599999999999994},75.759999999999991,73.315285714285707,72.233999999999995,{"$f":"BID!L10","v":57.97},66.528400000000005,54.244,{"$f":"MTK!L10","v":21.31},41.070399999999999,70.914000000000001,{"$f":"IPA!L10","v":48.97},62.136400000000002,42.75,169.73520000000002,128.25,75.8,66.884999999999991,72.233999999999995,76.2,21.31,54.244,76.400000000000006,62.685000000000002,70.914000000000001,null,null,72.233999999999995,57.97,66.528400000000005,54.244,21.31,41.070399999999999,70.914000000000001,48.97,62.136400000000002,null,null,{"$f":"SISWA!S9","v":"053/MINI.L-Kid/30.02.02/S.1-2/VI/2019"}]
[{"$f":"SISWA!A11","v":4},{"$f":"IF(SISWA!B11=0,\"\",SISWA!B11)","v":4398},{"$f":"IF(SISWA!C11=0,\"\",SISWA!C11)","v":"0062399399"},{"$f":"IF(SISWA!D11=0,\"\",SISWA!D11)","v":"1-18-05-80-162-004-6"},{"$f":"IF(SISWA!E11=0,\"\",SISWA!E11)","v":"ANANDA AMILIA"},{"$f":"IF(SISWA!P11=0,\"\",SISWA!P11)","v":"LUMAJANG, 10 Februari 2006"},{"$f":"IF(SISWA!H11=0,\"\",SISWA!H11)","v":"AKHMADI"},{"$f":"#REF!","v":{"$error":"#REF!"}},{"$f":"#REF!","v":{"$error":"#REF!"}},{"$error":"#REF!"},{"$f":"AA!K11","v":76.400000000000006},{"$f":"AA!N11","v":75.2},75.92,{"$f":"AH!K11","v":77},{"$f":"AH!N11","v":74.45},75.97999999999999,{"$f":"FQ!K11","v":77.2},{"$f":"FQ!N11","v":76.95},77.099999999999994,{"$f":"SKI!K11","v":77.599999999999994},{"$f":"SKI!N11","v":75.199999999999989},76.639999999999986,{"$f":"PKn!K11","v":79.599999999999994},{"$f":"PKn!N11","v":65},73.759999999999991,{"$f":"BID!K11","v":75.599999999999994},{"$f":"BID!N11","v":64.38},71.111999999999995,{"$f":"BA!K11","v":76.599999999999994},{"$f":"BA!N11","v":70.8},74.28,{"$f":"MTK!K11","v":70.599999999999994},{"$f":"MTK!L11","v":37.64},57.415999999999997,{"$f":"IPA!K11","v":74.400000000000006},{"$f":"IPA!N11","v":63.210000000000008},69.924000000000007,{"$f":"IPS!K11","v":76.2},{"$f":"IPS!L11","v":65},71.72,{"$f":"SBK!K11","v":76.8},{"$f":"SBK!N11","v":70.900000000000006},74.44,{"$f":"PJK!K11","v":80.2},{"$f":"PJK!N11","v":72.599999999999994},77.16,{"$f":"BD!K11","v":73.400000000000006},{"$f":"BD!N11","v":69.2},71.72,{"$f":"BIG!K11","v":72.400000000000006},{"$f":"BIG!N11","v":68.7},70.920000000000016,72.720857142857128,71.111999999999995,{"$f":"BID!L11","v":53.16},63.93119999999999,57.415999999999997,{"$f":"MTK!L11","v":37.64},49.505600000000001,69.924000000000007,{"$f":"IPA!L11","v":52.02},62.7624,47.606666666666662,176.19919999999999,142.82,75.599999999999994,64.38,71.111999999999995,70.599999999999994,37.64,57.415999999999997,74.400000000000006,63.210000000000008,69.924000000000007,null,null,71.111999999999995,53.16,63.93119999999999,57.415999999999997,37.64,49.505600000000001,69.924000000000007,52.02,62.7624,null,null,{"$f":"SISWA!S10","v":"054/MINI.L-Kid/30.02.02/S.1-2/VI/2019"}]
[{"$f":"SISWA!A12","v":5},{"$f":"IF(SISWA!B12=0,\"\",SISWA!B12)","v":4272},{"$f":"IF(SISWA!C12=0,\"\",SISWA!C12)","v":"0071551428"},{"$f":"IF(SISWA!D12=0,\"\",SISWA!D12)","v":"1-18-05-80-162-005-5"},{"$f":"IF(SISWA!E12=0,\"\",SISWA!E12)","v":"ANDINI MAULID DWI LESTARI"},{"$f":"IF(SISWA!P12=0,\"\",SISWA!P12)","v":"LUMAJANG, 30 Maret 2007"},{"$f":"IF(SISWA!H12=0,\"\",SISWA!H12)","v":"EDI HARTONO"},{"$f":"#REF!","v":{"$error":"#REF!"}},{"$f":"#REF!","v":{"$error":"#REF!"}},{"$error":"#REF!"},{"$f":"AA!K12","v":77.400000000000006},{"$f":"AA!N12","v":74.2},76.12,{"$f":"AH!K12","v":77.599999999999994},{"$f":"AH!N12","v":71.3},75.08,{"$f":"FQ!K12","v":79.8},{"$f":"FQ!N12","v":72.400000000000006},76.84,{"$f":"SKI!K12","v":77.8},{"$f":"SKI!N12","v":73.344999999999999},76.018000000000001,{"$f":"PKn!K12","v":77.400000000000006},{"$f":"PKn!N12","v":65},72.44,{"$f":"BID!K12","v":76.8},{"$f":"BID!N12","v":79.064999999999998},77.706000000000003,{"$f":"BA!K12","v":73.400000000000006},{"$f":"BA!N12","v":69.2},71.72,{"$f":"MTK!K12","v":74.2},{"$f":"MTK!L12","v":39.979999999999997},60.512,{"$f":"IPA!K12","v":76.8},{"$f":"IPA!N12","v":63.89},71.635999999999996,{"$f":"IPS!K12","v":76.400000000000006},{"$f":"IPS!L12","v":72},74.64,{"$f":"SBK!K12","v":75.8},{"$f":"SBK!N12","v":70.400000000000006},73.64,{"$f":"PJK!K12","v":80.400000000000006},{"$f":"PJK!N12","v":76.2},78.72,{"$f":"BD!K12","v":75.8},{"$f":"BD!N12","v":70.400000000000006},73.64,{"$f":"BIG!K12","v":72.2},{"$f":"BIG!N12","v":68.599999999999994},70.759999999999991,73.533714285714268,77.706000000000003,{"$f":"BID!L12","v":81.33},79.155600000000007,60.512,{"$f":"MTK!L12","v":39.979999999999997},52.299199999999999,71.635999999999996,{"$f":"IPA!L12","v":50.98},63.373599999999996,57.43,194.82839999999999,172.29,76.8,79.064999999999998,77.706000000000003,74.2,39.979999999999997,60.512,76.8,63.89,71.635999999999996,null,null,77.706000000000003,81.33,79.155600000000007,60.512,39.979999999999997,52.299199999999999,71.635999999999996,50.98,63.373599999999996,null,null,{"$f":"SISWA!S11","v":"055/MINI.L-Kid/30.02.02/S.1-2/VI/2019"}]
[{"$f":"SISWA!A13","v":6},{"$f":"IF(SISWA!B13=0,\"\",SISWA!B13)","v":4301},{"$f":"IF(SISWA!C13=0,\"\",SISWA!C13)","v":"0061907599"},{"$f":"IF(SISWA!D13=0,\"\",SISWA!D13)","v":"1-18-05-80-162-006-4"},{"$f":"IF(SISWA!E13=0,\"\",SISWA!E13)","v":"ANDRIK YUSRI"},{"$f":"IF(SISWA!P13=0,\"\",SISWA!P13)","v":"LUMAJANG, 15 Mei 2006"},{"$f":"IF(SISWA!H13=0,\"\",SISWA!H13)","v":"SUYONO"},{"$f":"#REF!","v":{"$error":"#REF!"}},{"$f":"#REF!","v":{"$error":"#REF!"}},{"$error":"#REF!"},{"$f":"AA!K13","v":70.8},{"$f":"AA!N13","v":67.900000000000006},69.64,{"$f":"AH!K13","v":71},{"$f":"AH!N13","v":68},69.800000000000011,{"$f":"FQ!K13","v":71},{"$f":"FQ!N13","v":68},69.800000000000011,{"$f":"SKI!K13","v":72.8},{"$f":"SKI!N13","v":70.245000000000005},71.778000000000006,{"$f":"PKn!K13","v":70.599999999999994},{"$f":"PKn!N13","v":65},68.359999999999985,{"$f":"BID!K13","v":71.2},{"$f":"BID!N13","v":63.704999999999998},68.201999999999998,{"$f":"BA!K13","v":71},{"$f":"BA!N13","v":68},69.800000000000011,{"$f":"MTK!K13","v":68},{"$f":"MTK!L13","v":25.98},51.192,{"$f":"IPA!K13","v":71.400000000000006},{"$f":"IPA!N13","v":58.215000000000003},66.126000000000005,{"$f":"IPS!K13","v":70.400000000000006},{"$f":"IPS!L13","v":65},68.240000000000009,{"$f":"SBK!K13","v":72.599999999999994},{"$f":"SBK!N13","v":68.8},71.08,{"$f":"PJK!K13","v":80.8},{"$f":"PJK!N13","v":75.400000000000006},78.64,{"$f":"BD!K13","v":70.599999999999994},{"$f":"BD!N13","v":67.8},69.47999999999999,{"$f":"BIG!K13","v":70},{"$f":"BIG!N13","v":67.5},69,68.652714285714282,68.201999999999998,{"$f":"BID!L13","v":56.21},63.405200000000001,51.192,{"$f":"MTK!L13","v":25.98},41.107199999999999,66.126000000000005,{"$f":"IPA!L13","v":45.03},57.687600000000003,42.406666666666666,162.19999999999999,127.22,71.2,63.704999999999998,68.201999999999998,68,25.98,51.192,71.400000000000006,58.215000000000003,66.126000000000005,null,null,68.201999999999998,56.21,63.405200000000001,51.192,25.98,41.107199999999999,66.126000000000005,45.03,57.687600000000003,null,null,{"$f":"SISWA!S12","v":"056/MINI.L-Kid/30.02.02/S.1-2/VI/2019"}]
[{"$f":"SISWA!A14","v":7},{"$f":"IF(SISWA!B14=0,\"\",SISWA!B14)","v":4273},{"$f":"IF(SISWA!C14=0,\"\",SISWA!C14)","v":"0067280519"},{"$f":"IF(SISWA!D14=0,\"\",SISWA!D14)","v":"1-18-05-80-162-007-3"},{"$f":"IF(SISWA!E14=0,\"\",SISWA!E14)","v":"DEWI SAKINAH ISWARA"},{"$f":"IF(SISWA!P14=0,\"\",SISWA!P14)","v":"LUMAJANG, 31 Agustus 2006"},{"$f":"IF(SISWA!H14=0,\"\",SISWA!H14)","v":"SUPRIYANTO"},{"$f":"#REF!","v":{"$error":"#REF!"}},{"$f":"#REF!","v":{"$error":"#REF!"}},{"$error":"#REF!"},{"$f":"AA!K14","v":82.2},{"$f":"AA!N14","v":86.6},83.960000000000008,{"$f":"AH!K14","v":85},{"$f":"AH!N14","v":79.05},82.62,{"$f":"FQ!K14","v":86.6},{"$f":"FQ!N14","v":89.949999999999989},87.94,{"$f":"SKI!K14","v":82.6},{"$f":"SKI!N14","v":81.144999999999996},82.018000000000001,{"$f":"PKn!K14","v":84.2},{"$f":"PKn!N14","v":65},76.52000000000001,{"$f":"BID!K14","v":80.8},{"$f":"BID!N14","v":85.33},82.611999999999995,{"$f":"BA!K14","v":80.2},{"$f":"BA!N14","v":72.599999999999994},77.16,{"$f":"MTK!K14","v":78.2},{"$f":"MTK!L14","v":58.64},70.376000000000005,{"$f":"IPA!K14","v":78.2},{"$f":"IPA!N14","v":72.12},75.768000000000001,{"$f":"IPS!K14","v":79},{"$f":"IPS!L14","v":65},73.400000000000006,{"$f":"SBK!K14","v":81.2},{"$f":"SBK!N14","v":73.099999999999994},77.959999999999994,{"$f":"PJK!K14","v":81},{"$f":"PJK!N14","v":77.5},79.599999999999994,{"$f":"BD!K14","v":77.599999999999994},{"$f":"BD!N14","v":71.3},75.08,{"$f":"BIG!K14","v":77},{"$f":"BIG!N14","v":71},74.599999999999994,78.543857142857135,82.611999999999995,{"$f":"BID!L14","v":89.86},85.511200000000002,70.376000000000005,{"$f":"MTK!L14","v":58.64},65.681600000000003,75.768000000000001,{"$f":"IPA!L14","v":66.040000000000006},71.876800000000003,71.513333333333335,223.06960000000001,214.54000000000002,80.8,85.33,82.611999999999995,78.2,58.64,70.376000000000005,78.2,72.12,75.768000000000001,null,null,82.611999999999995,89.86,85.511200000000002,70.376000000000005,58.64,65.681600000000003,75.768000000000001,66.040000000000006,71.876800000000003,null,null,{"$f":"SISWA!S13","v":"057/MINI.L-Kid/30.02.02/S.1-2/VI/2019"}]
[{"$f":"SISWA!A15","v":8},{"$f":"IF(SISWA!B15=0,\"\",SISWA!B15)","v":4307},{"$f":"IF(SISWA!C15=0,\"\",SISWA!C15)","v":"0066012198"},{"$f":"IF(SISWA!D15=0,\"\",SISWA!D15)","v":"1-18-05-80-162-008-2"},{"$f":"IF(SISWA!E15=0,\"\",SISWA!E15)","v":"CHAKIM"},{"$f":"IF(SISWA!P15=0,\"\",SISWA!P15)","v":"LUMAJANG, 05 Mei 2006"},{"$f":"IF(SISWA!H15=0,\"\",SISWA!H15)","v":"RIFAI"},{"$f":"#REF!","v":{"$error":"#REF!"}},{"$f":"#REF!","v":{"$error":"#REF!"}},{"$error":"#REF!"},{"$f":"AA!K15","v":68.599999999999994},{"$f":"AA!N15","v":66.8},67.88,{"$f":"AH!K15","v":69.400000000000006},{"$f":"AH!N15","v":68.25},68.94,{"$f":"FQ!K15","v":71},{"$f":"FQ!N15","v":69.849999999999994},70.539999999999992,{"$f":"SKI!K15","v":71.2},{"$f":"SKI!N15","v":68.099999999999994},69.959999999999994,{"$f":"PKn!K15","v":71.2},{"$f":"PKn!N15","v":65},68.72,{"$f":"BID!K15","v":69.8},{"$f":"BID!N15","v":50.06},61.903999999999996,{"$f":"BA!K15","v":69},{"$f":"BA!N15","v":67},68.2,{"$f":"MTK!K15","v":68.8},{"$f":"MTK!L15","v":32.979999999999997},54.471999999999994,{"$f":"IPA!K15","v":69.400000000000006},{"$f":"IPA!N15","v":52.185000000000002},62.514000000000003,{"$f":"IPS!K15","v":70.400000000000006},{"$f":"IPS!L15","v":65},68.240000000000009,{"$f":"SBK!K15","v":71.8},{"$f":"SBK!N15","v":68.400000000000006},70.44,{"$f":"PJK!K15","v":78},{"$f":"PJK!N15","v":71.5},75.400000000000006,{"$f":"BD!K15","v":69.599999999999994},{"$f":"BD!N15","v":67.3},68.680000000000007,{"$f":"BIG!K15","v":68.2},{"$f":"BIG!N15","v":69.099999999999994},68.56,67.460714285714275,61.903999999999996,{"$f":"BID!L15","v":30.32},49.270399999999995,54.471999999999994,{"$f":"MTK!L15","v":32.979999999999997},45.875199999999992,62.514000000000003,{"$f":"IPA!L15","v":34.97},51.496400000000001,32.756666666666668,146.642,98.27,69.8,50.06,61.903999999999996,68.8,32.979999999999997,54.471999999999994,69.400000000000006,52.185000000000002,62.514000000000003,null,null,61.903999999999996,30.32,49.270399999999995,54.471999999999994,32.979999999999997,45.875199999999992,62.514000000000003,34.97,51.496400000000001,null,null,{"$f":"SISWA!S14","v":"058/MINI.L-Kid/30.02.02/S.1-2/VI/2019"}]
[{"$f":"SISWA!A16","v":9},{"$f":"IF(SISWA!B16=0,\"\",SISWA!B16)","v":4275},{"$f":"IF(SISWA!C16=0,\"\",SISWA!C16)","v":"0078199679"},{"$f":"IF(SISWA!D16=0,\"\",SISWA!D16)","v":"1-18-05-80-162-009-9"},{"$f":"IF(SISWA!E16=0,\"\",SISWA!E16)","v":"HANIK APRILIA SARI"},{"$f":"IF(SISWA!P16=0,\"\",SISWA!P16)","v":"LUMAJANG, 23 April 2007"},{"$f":"IF(SISWA!H16=0,\"\",SISWA!H16)","v":"IMAM HANAFI"},{"$f":"#REF!","v":{"$error":"#REF!"}},{"$f":"#REF!","v":{"$error":"#REF!"}},{"$error":"#REF!"},{"$f":"AA!K16","v":79.2},{"$f":"AA!N16","v":76.599999999999994},78.16,{"$f":"AH!K16","v":81.599999999999994},{"$f":"AH!N16","v":74.349999999999994},78.699999999999989,{"$f":"FQ!K16","v":83.2},{"$f":"FQ!N16","v":74.099999999999994},79.56,{"$f":"SKI!K16","v":81.2},{"$f":"SKI!N16","v":73.099999999999994},77.959999999999994,{"$f":"PKn!K16","v":81.2},{"$f":"PKn!N16","v":65},74.72,{"$f":"BID!K16","v":80.2},{"$f":"BID!N16","v":70.710000000000008},76.403999999999996,{"$f":"BA!K16","v":77.599999999999994},{"$f":"BA!N16","v":71.3},75.08,{"$f":"MTK!K16","v":76.400000000000006},{"$f":"MTK!L16","v":67.33},72.772000000000006,{"$f":"IPA!K16","v":78},{"$f":"IPA!N16","v":70.510000000000005},75.004000000000005,{"$f":"IPS!K16","v":78.8},{"$f":"IPS!L16","v":65},73.28,{"$f":"SBK!K16","v":79.2},{"$f":"SBK!N16","v":72.099999999999994},76.36,{"$f":"PJK!K16","v":80.599999999999994},{"$f":"PJK!N16","v":72.8},77.47999999999999,{"$f":"BD!K16","v":77.2},{"$f":"BD!N16","v":71.099999999999994},74.759999999999991,{"$f":"BIG!K16","v":73.599999999999994},{"$f":"BIG!N16","v":69.3},71.88,75.86571428571429,76.403999999999996,{"$f":"BID!L16","v":61.22},70.330399999999997,72.772000000000006,{"$f":"MTK!L16","v":67.33},70.595200000000006,75.004000000000005,{"$f":"IPA!L16","v":63.02},70.210400000000007,63.856666666666676,211.13600000000002,191.57000000000002,80.2,70.710000000000008,76.403999999999996,76.400000000000006,67.33,72.772000000000006,78,70.510000000000005,75.004000000000005,null,null,76.403999999999996,61.22,70.330399999999997,72.772000000000006,67.33,70.595200000000006,75.004000000000005,63.02,70.210400000000007,null,null,{"$f":"SISWA!S15","v":"059/MINI.L-Kid/30.02.02/S.1-2/VI/2019"}]
[{"$f":"SISWA!A17","v":10},{"$f":"IF(SISWA!B17=0,\"\",SISWA!B17)","v":"4238"},{"$f":"IF(SISWA!C17=0,\"\",SISWA!C17)","v":"0051503260"},{"$f":"IF(SISWA!D17=0,\"\",SISWA!D17)","v":"1-18-05-80-162-010-8"},{"$f":"IF(SISWA!E17=0,\"\",SISWA!E17)","v":"DESI NATALIA SAPUTRI"},{"$f":"IF(SISWA!P17=0,\"\",SISWA!P17)","v":"LUMAJANG, 24 Desember 2005"},{"$f":"IF(SISWA!H17=0,\"\",SISWA!H17)","v":"EKO HARIANTO"},{"$f":"#REF!","v":{"$error":"#REF!"}},{"$f":"#REF!","v":{"$error":"#REF!"}},{"$error":"#REF!"},{"$f":"AA!K17","v":69.400000000000006},{"$f":"AA!N17","v":67.2},68.52000000000001,{"$f":"AH!K17","v":69.8},{"$f":"AH!N17","v":67.400000000000006},68.84,{"$f":"FQ!K17","v":70.8},{"$f":"FQ!N17","v":67.900000000000006},69.64,{"$f":"SKI!K17","v":72.599999999999994},{"$f":"SKI!N17","v":68.8},71.08,{"$f":"PKn!K17","v":71},{"$f":"PKn!N17","v":74},72.2,{"$f":"BID!K17","v":69.8},{"$f":"BID!N17","v":51.849999999999994},62.61999999999999,{"$f":"BA!K17","v":69.599999999999994},{"$f":"BA!N17","v":67.3},68.680000000000007,{"$f":"MTK!K17","v":67.2},{"$f":"MTK!L17","v":21.31},48.844000000000001,{"$f":"IPA!K17","v":69.599999999999994},{"$f":"IPA!N17","v":54.789999999999992},63.675999999999995,{"$f":"IPS!K17","v":70.8},{"$f":"IPS!L17","v":76},72.88,{"$f":"SBK!K17","v":73},{"$f":"SBK!N17","v":69},71.400000000000006,{"$f":"PJK!K17","v":78.2},{"$f":"PJK!N17","v":73.099999999999994},76.16,{"$f":"BD!K17","v":71.400000000000006},{"$f":"BD!N17","v":68.2},70.12,{"$f":"BIG!K17","v":68},{"$f":"BIG!N17","v":72.5},69.8,68.175714285714278,62.61999999999999,{"$f":"BID!L17","v":33.9},51.131999999999998,48.844000000000001,{"$f":"MTK!L17","v":21.31},37.830399999999997,63.675999999999995,{"$f":"IPA!L17","v":39.979999999999997},54.197599999999994,31.73,143.16,95.19,69.8,51.849999999999994,62.61999999999999,67.2,21.31,48.844000000000001,69.599999999999994,54.789999999999992,63.675999999999995,null,null,62.61999999999999,33.9,51.131999999999998,48.844000000000001,21.31,37.830399999999997,63.675999999999995,39.979999999999997,54.197599999999994,null,null,{"$f":"SISWA!S16","v":"060/MINI.L-Kid/30.02.02/S.1-2/VI/2019"}]
[{"$f":"SISWA!A18","v":11},{"$f":"IF(SISWA!B18=0,\"\",SISWA!B18)","v":4391},{"$f":"IF(SISWA!C18=0,\"\",SISWA!C18)","v":"0079418518"},{"$f":"IF(SISWA!D18=0,\"\",SISWA!D18)","v":"1-18-05-80-162-011-7"},{"$f":"IF(SISWA!E18=0,\"\",SISWA!E18)","v":"HIDAYATUL KHUMAINIA"},{"$f":"IF(SISWA!P18=0,\"\",SISWA!P18)","v":"LUMAJANG, 04 Oktober 2007"},{"$f":"IF(SISWA!H18=0,\"\",SISWA!H18)","v":"YOYOK HARIYANTO"},{"$f":"#REF!","v":{"$error":"#REF!"}},{"$f":"#REF!","v":{"$error":"#REF!"}},{"$error":"#REF!"},{"$f":"AA!K18","v":75.599999999999994},{"$f":"AA!N18","v":79.3},77.079999999999984,{"$f":"AH!K18","v":75},{"$f":"AH!N18","v":72.95},74.180000000000007,{"$f":"FQ!K18","v":76},{"$f":"FQ!N18","v":76.349999999999994},76.14,{"$f":"SKI!K18","v":78.8},{"$f":"SKI!N18","v":74.295000000000002},76.99799999999999,{"$f":"PKn!K18","v":75.8},{"$f":"PKn!N18","v":65},71.47999999999999,{"$f":"BID!K18","v":74},{"$f":"BID!N18","v":68.105000000000004},71.641999999999996,{"$f":"BA!K18","v":76.599999999999994},{"$f":"BA!N18","v":70.8},74.28,{"$f":"MTK!K18","v":71.599999999999994},{"$f":"MTK!L18","v":37.32},57.887999999999991,{"$f":"IPA!K18","v":73.599999999999994},{"$f":"IPA!N18","v":58.784999999999997},67.673999999999992,{"$f":"IPS!K18","v":73.8},{"$f":"IPS!L18","v":65},70.28,{"$f":"SBK!K18","v":74.2},{"$f":"SBK!N18","v":69.599999999999994},72.36,{"$f":"PJK!K18","v":77.400000000000006},{"$f":"PJK!N18","v":71.2},74.920000000000016,{"$f":"BD!K18","v":73},{"$f":"BD!N18","v":69},71.400000000000006,{"$f":"BIG!K18","v":72.400000000000006},{"$f":"BIG!N18","v":68.7},70.920000000000016,71.945857142857136,71.641999999999996,{"$f":"BID!L18","v":62.21},67.869200000000006,57.887999999999991,{"$f":"MTK!L18","v":37.32},49.660799999999995,67.673999999999992,{"$f":"IPA!L18","v":43.97},58.192399999999992,47.833333333333336,175.72239999999999,143.5,74,68.105000000000004,71.641999999999996,71.599999999999994,37.32,57.887999999999991,73.599999999999994,58.784999999999997,67.673999999999992,null,null,71.641999999999996,62.21,67.869200000000006,57.887999999999991,37.32,49.660799999999995,67.673999999999992,43.97,58.192399999999992,null,null,{"$f":"SISWA!S17","v":"061/MINI.L-Kid/30.02.02/S.1-2/VI/2019"}]
[{"$f":"SISWA!A19","v":12},{"$f":"IF(SISWA!B19=0,\"\",SISWA!B19)","v":4274},{"$f":"IF(SISWA!C19=0,\"\",SISWA!C19)","v":"0077670297"},{"$f":"IF(SISWA!D19=0,\"\",SISWA!D19)","v":"1-18-05-80-162-012-6"},{"$f":"IF(SISWA!E19=0,\"\",SISWA!E19)","v":"DWITA FITA WULANDARI"},{"$f":"IF(SISWA!P19=0,\"\",SISWA!P19)","v":"LUMAJANG, 25 Februari 2007"},{"$f":"IF(SISWA!H19=0,\"\",SISWA!H19)","v":"MOCHAMAD SUDI"},{"$f":"#REF!","v":{"$error":"#REF!"}},{"$f":"#REF!","v":{"$error":"#REF!"}},{"$error":"#REF!"},{"$f":"AA!K19","v":74.2},{"$f":"AA!N19","v":69.599999999999994},72.36,{"$f":"AH!K19","v":75.8},{"$f":"AH!N19","v":70.400000000000006},73.64,{"$f":"FQ!K19","v":76.8},{"$f":"FQ!N19","v":70.900000000000006},74.44,{"$f":"SKI!K19","v":76},{"$f":"SKI!N19","v":70.5},73.800000000000011,{"$f":"PKn!K19","v":75.8},{"$f":"PKn!N19","v":82},78.28,{"$f":"BID!K19","v":74.599999999999994},{"$f":"BID!N19","v":60.51},68.963999999999999,{"$f":"BA!K19","v":73.2},{"$f":"BA!N19","v":69.099999999999994},71.56,{"$f":"MTK!K19","v":72.2},{"$f":"MTK!L19","v":21.31},51.844000000000001,{"$f":"IPA!K19","v":73.8},{"$f":"IPA!N19","v":57.879999999999995},67.431999999999988,{"$f":"IPS!K19","v":74.2},{"$f":"IPS!L19","v":82},77.320000000000007,{"$f":"SBK!K19","v":75.2},{"$f":"SBK!N19","v":70.099999999999994},73.16,{"$f":"PJK!K19","v":78.8},{"$f":"PJK!N19","v":76.400000000000006},77.84,{"$f":"BD!K19","v":71.8},{"$f":"BD!N19","v":68.400000000000006},70.44,{"$f":"BIG!K19","v":70.400000000000006},{"$f":"BIG!N19","v":77.2},73.12,71.728571428571442,68.963999999999999,{"$f":"BID!L19","v":46.42},59.946399999999997,51.844000000000001,{"$f":"MTK!L19","v":21.31},39.630400000000002,67.431999999999988,{"$f":"IPA!L19","v":41.96},57.243199999999987,36.563333333333333,156.82,109.69,74.599999999999994,60.51,68.963999999999999,72.2,21.31,51.844000000000001,73.8,57.879999999999995,67.431999999999988,null,null,68.963999999999999,46.42,59.946399999999997,51.844000000000001,21.31,39.630400000000002,67.431999999999988,41.96,57.243199999999987,null,null,{"$f":"SISWA!S18","v":"062/MINI.L-Kid/30.02.02/S.1-2/VI/2019"}]
[{"$f":"SISWA!A20","v":13},{"$f":"IF(SISWA!B20=0,\"\",SISWA!B20)","v":4276},{"$f":"IF(SISWA!C20=0,\"\",SISWA!C20)","v":"0067236848"},{"$f":"IF(SISWA!D20=0,\"\",SISWA!D20)","v":"1-18-05-80-162-013-5"},{"$f":"IF(SISWA!E20=0,\"\",SISWA!E20)","v":"IZZA ILMIA AZZAHRA"},{"$f":"IF(SISWA!P20=0,\"\",SISWA!P20)","v":"LUMAJANG, 15 Desember 2006"},{"$f":"IF(SISWA!H20=0,\"\",SISWA!H20)","v":"MISKADIONO"},{"$f":"#REF!","v":{"$error":"#REF!"}},{"$f":"#REF!","v":{"$error":"#REF!"}},{"$error":"#REF!"},{"$f":"AA!K20","v":81.2},{"$f":"AA!N20","v":73.099999999999994},77.959999999999994,{"$f":"AH!K20","v":83.2},{"$f":"AH!N20","v":74.099999999999994},79.56,{"$f":"FQ!K20","v":86.6},{"$f":"FQ!N20","v":75.8},82.28,{"$f":"SKI!K20","v":80.599999999999994},{"$f":"SKI!N20","v":72.8},77.47999999999999,{"$f":"PKn!K20","v":81.599999999999994},{"$f":"PKn!N20","v":65},74.959999999999994,{"$f":"BID!K20","v":80.2},{"$f":"BID!N20","v":85.03},82.132000000000005,{"$f":"BA!K20","v":77.599999999999994},{"$f":"BA!N20","v":71.3},75.08,{"$f":"MTK!K20","v":77.2},{"$f":"MTK!L20","v":30.32},58.448,{"$f":"IPA!K20","v":78.599999999999994},{"$f":"IPA!N20","v":70.81},75.483999999999995,{"$f":"IPS!K20","v":78.8},{"$f":"IPS!L20","v":65},73.28,{"$f":"SBK!K20","v":81.8},{"$f":"SBK!N20","v":73.400000000000006},78.44,{"$f":"PJK!K20","v":81.2},{"$f":"PJK!N20","v":73.099999999999994},77.959999999999994,{"$f":"BD!K20","v":79.2},{"$f":"BD!N20","v":72.099999999999994},76.36,{"$f":"BIG!K20","v":75.8},{"$f":"BIG!N20","v":70.400000000000006},73.64,75.933142857142869,82.132000000000005,{"$f":"BID!L20","v":89.86},85.223200000000006,58.448,{"$f":"MTK!L20","v":30.32},47.196799999999996,75.483999999999995,{"$f":"IPA!L20","v":63.02},70.498400000000004,61.06666666666667,202.91840000000002,183.20000000000002,80.2,85.03,82.132000000000005,77.2,30.32,58.448,78.599999999999994,70.81,75.483999999999995,null,null,82.132000000000005,89.86,85.223200000000006,58.448,30.32,47.196799999999996,75.483999999999995,63.02,70.498400000000004,null,null,{"$f":"SISWA!S19","v":"063/MINI.L-Kid/30.02.02/S.1-2/VI/2019"}]
[{"$f":"SISWA!A21","v":14},{"$f":"IF(SISWA!B21=0,\"\",SISWA!B21)","v":4303},{"$f":"IF(SISWA!C21=0,\"\",SISWA!C21)","v":"0064031376"},{"$f":"IF(SISWA!D21=0,\"\",SISWA!D21)","v":"1-18-05-80-162-014-4"},{"$f":"IF(SISWA!E21=0,\"\",SISWA!E21)","v":"FARIDATUS SAHDIAH"},{"$f":"IF(SISWA!P21=0,\"\",SISWA!P21)","v":"LUMAJANG, 29 Juni 2006"},{"$f":"IF(SISWA!H21=0,\"\",SISWA!H21)","v":"URIFAN RAIS"},{"$f":"#REF!","v":{"$error":"#REF!"}},{"$f":"#REF!","v":{"$error":"#REF!"}},{"$error":"#REF!"},{"$f":"AA!K21","v":75.400000000000006},{"$f":"AA!N21","v":79.2},76.92,{"$f":"AH!K21","v":76.2},{"$f":"AH!N21","v":71.245000000000005},74.218000000000004,{"$f":"FQ!K21","v":76.8},{"$f":"FQ!N21","v":70.900000000000006},74.44,{"$f":"SKI!K21","v":75.8},{"$f":"SKI!N21","v":73.954999999999998},75.061999999999998,{"$f":"PKn!K21","v":74.599999999999994},{"$f":"PKn!N21","v":65},70.759999999999991,{"$f":"BID!K21","v":72},{"$f":"BID!N21","v":64.599999999999994},69.039999999999992,{"$f":"BA!K21","v":73.400000000000006},{"$f":"BA!N21","v":69.2},71.72,{"$f":"MTK!K21","v":71},{"$f":"MTK!L21","v":30.64},54.856000000000002,{"$f":"IPA!K21","v":72.599999999999994},{"$f":"IPA!N21","v":63.289999999999992},68.875999999999991,{"$f":"IPS!K21","v":72.599999999999994},{"$f":"IPS!L21","v":65},69.56,{"$f":"SBK!K21","v":74.599999999999994},{"$f":"SBK!N21","v":69.8},72.680000000000007,{"$f":"PJK!K21","v":79},{"$f":"PJK!N21","v":72},76.2,{"$f":"BD!K21","v":69.8},{"$f":"BD!N21","v":67.400000000000006},68.84,{"$f":"BIG!K21","v":71.599999999999994},{"$f":"BIG!N21","v":73.8},72.47999999999999,71.118000000000009,69.039999999999992,{"$f":"BID!L21","v":57.2},64.304000000000002,54.856000000000002,{"$f":"MTK!L21","v":30.64},45.169600000000003,68.875999999999991,{"$f":"IPA!L21","v":53.98},62.917599999999993,47.273333333333333,172.3912,141.82,72,64.599999999999994,69.039999999999992,71,30.64,54.856000000000002,72.599999999999994,63.289999999999992,68.875999999999991,null,null,69.039999999999992,57.2,64.304000000000002,54.856000000000002,30.64,45.169600000000003,68.875999999999991,53.98,62.917599999999993,null,null,{"$f":"SISWA!S20","v":"064/MINI.L-Kid/30.02.02/S.1-2/VI/2019"}]
[{"$f":"SISWA!A22","v":15},{"$f":"IF(SISWA!B22=0,\"\",SISWA!B22)","v":4278},{"$f":"IF(SISWA!C22=0,\"\",SISWA!C22)","v":"0079672823"},{"$f":"IF(SISWA!D22=0,\"\",SISWA!D22)","v":"1-18-05-80-162-015-3"},{"$f":"IF(SISWA!E22=0,\"\",SISWA!E22)","v":"KHARISYA AZZAHRO"},{"$f":"IF(SISWA!P22=0,\"\",SISWA!P22)","v":"LUMAJANG, 21 Januari 2007"},{"$f":"IF(SISWA!H22=0,\"\",SISWA!H22)","v":"NUR SALIM"},{"$f":"#REF!","v":{"$error":"#REF!"}},{"$f":"#REF!","v":{"$error":"#REF!"}},{"$error":"#REF!"},{"$f":"AA!K22","v":86.8},{"$f":"AA!N22","v":77.400000000000006},83.04,{"$f":"AH!K22","v":87},{"$f":"AH!N22","v":76},82.6,{"$f":"FQ!K22","v":86.6},{"$f":"FQ!N22","v":75.8},82.28,{"$f":"SKI!K22","v":85},{"$f":"SKI!N22","v":75},81,{"$f":"PKn!K22","v":83.2},{"$f":"PKn!N22","v":65},75.92,{"$f":"BID!K22","v":81.599999999999994},{"$f":"BID!N22","v":86.375},83.509999999999991,{"$f":"BA!K22","v":80.400000000000006},{"$f":"BA!N22","v":72.7},77.320000000000007,{"$f":"MTK!K22","v":81},{"$f":"MTK!L22","v":73},77.800000000000011,{"$f":"IPA!K22","v":82.2},{"$f":"IPA!N22","v":83.094999999999999},82.557999999999993,{"$f":"IPS!K22","v":82.4},{"$f":"IPS!L22","v":65},75.44,{"$f":"SBK!K22","v":81.599999999999994},{"$f":"SBK!N22","v":73.3},78.28,{"$f":"PJK!K22","v":86.6},{"$f":"PJK!N22","v":75.8},82.28,{"$f":"BD!K22","v":81.8},{"$f":"BD!N22","v":73.400000000000006},78.44,{"$f":"BIG!K22","v":77.8},{"$f":"BIG!N22","v":71.400000000000006},75.240000000000009,79.693428571428583,83.509999999999991,{"$f":"BID!L22","v":91.15},86.566000000000003,77.800000000000011,{"$f":"MTK!L22","v":73},75.88000000000001,82.557999999999993,{"$f":"IPA!L22","v":83.99},83.130799999999994,82.713333333333324,245.57680000000002,248.14,81.599999999999994,86.375,83.509999999999991,81,73,77.800000000000011,82.2,83.094999999999999,82.557999999999993,null,null,83.509999999999991,91.15,86.566000000000003,77.800000000000011,73,75.88000000000001,82.557999999999993,83.99,83.130799999999994,null,null,{"$f":"SISWA!S21","v":"065/MINI.L-Kid/30.02.02/S.1-2/VI/2019"}]
[{"$f":"SISWA!A23","v":16},{"$f":"IF(SISWA!B23=0,\"\",SISWA!B23)","v":4277},{"$f":"IF(SISWA!C23=0,\"\",SISWA!C23)","v":"0077101453"},{"$f":"IF(SISWA!D23=0,\"\",SISWA!D23)","v":"1-18-05-80-162-016-2"},{"$f":"IF(SISWA!E23=0,\"\",SISWA!E23)","v":"KARINA FEBBY CAHYA AMILIA"},{"$f":"IF(SISWA!P23=0,\"\",SISWA!P23)","v":"LUMAJANG, 01 Februari 2007"},{"$f":"IF(SISWA!H23=0,\"\",SISWA!H23)","v":"SENO"},{"$f":"#REF!","v":{"$error":"#REF!"}},{"$f":"#REF!","v":{"$error":"#REF!"}},{"$error":"#REF!"},{"$f":"AA!K23","v":80.8},{"$f":"AA!N23","v":74.400000000000006},78.240000000000009,{"$f":"AH!K23","v":80.400000000000006},{"$f":"AH!N23","v":72.7},77.320000000000007,{"$f":"FQ!K23","v":81},{"$f":"FQ!N23","v":73},77.800000000000011,{"$f":"SKI!K23","v":78.400000000000006},{"$f":"SKI!N23","v":72.594999999999999},76.078000000000003,{"$f":"PKn!K23","v":81.2},{"$f":"PKn!N23","v":65},74.72,{"$f":"BID!K23","v":77.400000000000006},{"$f":"BID!N23","v":64.03},72.052000000000007,{"$f":"BA!K23","v":76.599999999999994},{"$f":"BA!N23","v":70.8},74.28,{"$f":"MTK!K23","v":74.599999999999994},{"$f":"MTK!L23","v":28.31},56.083999999999996,{"$f":"IPA!K23","v":76.400000000000006},{"$f":"IPA!N23","v":61.2},70.320000000000007,{"$f":"IPS!K23","v":77},{"$f":"IPS!L23","v":65},72.199999999999989,{"$f":"SBK!K23","v":79},{"$f":"SBK!N23","v":72},76.2,{"$f":"PJK!K23","v":81.8},{"$f":"PJK!N23","v":73.400000000000006},78.44,{"$f":"BD!K23","v":75.2},{"$f":"BD!N23","v":70.099999999999994},73.16,{"$f":"BIG!K23","v":72},{"$f":"BIG!N23","v":68.5},70.599999999999994,73.392428571428582,72.052000000000007,{"$f":"BID!L23","v":50.66},63.495199999999997,56.083999999999996,{"$f":"MTK!L23","v":28.31},44.974399999999996,70.320000000000007,{"$f":"IPA!L23","v":46},60.591999999999999,41.656666666666666,169.0616,124.97,77.400000000000006,64.03,72.052000000000007,74.599999999999994,28.31,56.083999999999996,76.400000000000006,61.2,70.320000000000007,null,null,72.052000000000007,50.66,63.495199999999997,56.083999999999996,28.31,44.974399999999996,70.320000000000007,46,60.591999999999999,null,null,{"$f":"SISWA!S22","v":"066/MINI.L-Kid/30.02.02/S.1-2/VI/2019"}]
[{"$f":"SISWA!A24","v":17},{"$f":"IF(SISWA!B24=0,\"\",SISWA!B24)","v":4601},{"$f":"IF(SISWA!C24=0,\"\",SISWA!C24)","v":"0069718082"},{"$f":"IF(SISWA!D24=0,\"\",SISWA!D24)","v":"1-18-05-80-162-017-9"},{"$f":"IF(SISWA!E24=0,\"\",SISWA!E24)","v":"MOCHAMAD RIFKY ROSAN"},{"$f":"IF(SISWA!P24=0,\"\",SISWA!P24)","v":"LUMAJANG, 17 Juni 2006"},{"$f":"IF(SISWA!H24=0,\"\",SISWA!H24)","v":"AHMAD ROFIK"},{"$f":"#REF!","v":{"$error":"#REF!"}},{"$f":"#REF!","v":{"$error":"#REF!"}},{"$error":"#REF!"},{"$f":"AA!K24","v":79.2},{"$f":"AA!N24","v":80},79.52000000000001,{"$f":"AH!K24","v":77},{"$f":"AH!N24","v":71},74.599999999999994,{"$f":"FQ!K24","v":78.400000000000006},{"$f":"FQ!N24","v":71.7},75.72,{"$f":"SKI!K24","v":78.8},{"$f":"SKI!N24","v":71.900000000000006},76.039999999999992,{"$f":"PKn!K24","v":77.599999999999994},{"$f":"PKn!N24","v":65},72.56,{"$f":"BID!K24","v":77.2},{"$f":"BID!N24","v":68.08},73.551999999999992,{"$f":"BA!K24","v":73},{"$f":"BA!N24","v":69},71.400000000000006,{"$f":"MTK!K24","v":74.599999999999994},{"$f":"MTK!L24","v":32.65},57.82,{"$f":"IPA!K24","v":77.2},{"$f":"IPA!N24","v":66.594999999999999},72.957999999999998,{"$f":"IPS!K24","v":77.400000000000006},{"$f":"IPS!L24","v":65},72.44,{"$f":"SBK!K24","v":78},{"$f":"SBK!N24","v":71.5},75.400000000000006,{"$f":"PJK!K24","v":82.6},{"$f":"PJK!N24","v":73.8},79.08,{"$f":"BD!K24","v":72.599999999999994},{"$f":"BD!N24","v":68.8},71.08,{"$f":"BIG!K24","v":74},{"$f":"BIG!N24","v":69.5},72.2,73.169285714285706,73.551999999999992,{"$f":"BID!L24","v":58.96},67.715199999999996,57.82,{"$f":"MTK!L24","v":32.65},47.752000000000002,72.957999999999998,{"$f":"IPA!L24","v":55.99},66.1708,49.199999999999996,181.63799999999998,147.6,77.2,68.08,73.551999999999992,74.599999999999994,32.65,57.82,77.2,66.594999999999999,72.957999999999998,null,null,73.551999999999992,58.96,67.715199999999996,57.82,32.65,47.752000000000002,72.957999999999998,55.99,66.1708,null,null,{"$f":"SISWA!S23","v":"067/MINI.L-Kid/30.02.02/S.1-2/VI/2019"}]
[{"$f":"SISWA!A25","v":18},{"$f":"IF(SISWA!B25=0,\"\",SISWA!B25)","v":"4241"},{"$f":"IF(SISWA!C25=0,\"\",SISWA!C25)","v":"0057006145"},{"$f":"IF(SISWA!D25=0,\"\",SISWA!D25)","v":"1-18-05-80-162-018-8"},{"$f":"IF(SISWA!E25=0,\"\",SISWA!E25)","v":"KHUSNI CAHYONO"},{"$f":"IF(SISWA!P25=0,\"\",SISWA!P25)","v":"LUMAJANG, 14 Juli 2005"},{"$f":"IF(SISWA!H25=0,\"\",SISWA!H25)","v":"NUR SUBUR"},{"$f":"#REF!","v":{"$error":"#REF!"}},{"$f":"#REF!","v":{"$error":"#REF!"}},{"$error":"#REF!"},{"$f":"AA!K25","v":68.2},{"$f":"AA!N25","v":78.599999999999994},72.36,{"$f":"AH!K25","v":66.2},{"$f":"AH!N25","v":72.650000000000006},68.78,{"$f":"FQ!K25","v":68},{"$f":"FQ!N25","v":66.5},67.400000000000006,{"$f":"SKI!K25","v":70.8},{"$f":"SKI!N25","v":70.35499999999999},70.621999999999986,{"$f":"PKn!K25","v":70.2},{"$f":"PKn!N25","v":65},68.12,{"$f":"BID!K25","v":67.8},{"$f":"BID!N25","v":55.97},63.067999999999998,{"$f":"BA!K25","v":69.2},{"$f":"BA!N25","v":67.099999999999994},68.36,{"$f":"MTK!K25","v":68},{"$f":"MTK!L25","v":25.98},51.192,{"$f":"IPA!K25","v":68},{"$f":"IPA!N25","v":47},59.599999999999994,{"$f":"IPS!K25","v":70.599999999999994},{"$f":"IPS!L25","v":65},68.359999999999985,{"$f":"SBK!K25","v":71},{"$f":"SBK!N25","v":68},69.800000000000011,{"$f":"PJK!K25","v":77.599999999999994},{"$f":"PJK!N25","v":71.3},75.08,{"$f":"BD!K25","v":69.599999999999994},{"$f":"BD!N25","v":67.3},68.680000000000007,{"$f":"BIG!K25","v":64.599999999999994},{"$f":"BIG!N25","v":70.3},66.88,67.021571428571434,63.067999999999998,{"$f":"BID!L25","v":44.14},55.496799999999993,51.192,{"$f":"MTK!L25","v":25.98},41.107199999999999,59.599999999999994,{"$f":"IPA!L25","v":26},46.16,32.04,142.76399999999998,96.12,67.8,55.97,63.067999999999998,68,25.98,51.192,68,47,59.599999999999994,null,null,63.067999999999998,44.14,55.496799999999993,51.192,25.98,41.107199999999999,59.599999999999994,26,46.16,null,null,{"$f":"SISWA!S24","v":"068/MINI.L-Kid/30.02.02/S.1-2/VI/2019"}]
[{"$f":"SISWA!A26","v":19},{"$f":"IF(SISWA!B26=0,\"\",SISWA!B26)","v":4280},{"$f":"IF(SISWA!C26=0,\"\",SISWA!C26)","v":"0062061356"},{"$f":"IF(SISWA!D26=0,\"\",SISWA!D26)","v":"1-18-05-80-162-019-7"},{"$f":"IF(SISWA!E26=0,\"\",SISWA!E26)","v":"MUCHAMMAD ALIEF FERDIANSYAH"},{"$f":"IF(SISWA!P26=0,\"\",SISWA!P26)","v":"LUMAJANG, 22 Juni 2006"},{"$f":"IF(SISWA!H26=0,\"\",SISWA!H26)","v":"ALI USMAN"},{"$f":"#REF!","v":{"$error":"#REF!"}},{"$f":"#REF!","v":{"$error":"#REF!"}},{"$error":"#REF!"},{"$f":"AA!K26","v":80.2},{"$f":"AA!N26","v":72.599999999999994},77.16,{"$f":"AH!K26","v":85.2},{"$f":"AH!N26","v":75.099999999999994},81.16,{"$f":"FQ!K26","v":85.2},{"$f":"FQ!N26","v":75.099999999999994},81.16,{"$f":"SKI!K26","v":80},{"$f":"SKI!N26","v":72.5},77,{"$f":"PKn!K26","v":81.400000000000006},{"$f":"PKn!N26","v":72},77.64,{"$f":"BID!K26","v":81.8},{"$f":"BID!N26","v":88.47},84.467999999999989,{"$f":"BA!K26","v":78},{"$f":"BA!N26","v":71.5},75.400000000000006,{"$f":"MTK!K26","v":79.400000000000006},{"$f":"MTK!L26","v":69.98},75.632000000000005,{"$f":"IPA!K26","v":80},{"$f":"IPA!N26","v":81.995000000000005},80.798000000000002,{"$f":"IPS!K26","v":80.599999999999994},{"$f":"IPS!L26","v":74},77.959999999999994,{"$f":"SBK!K26","v":81.400000000000006},{"$f":"SBK!N26","v":73.2},78.12,{"$f":"PJK!K26","v":82.8},{"$f":"PJK!N26","v":73.900000000000006},79.240000000000009,{"$f":"BD!K26","v":80},{"$f":"BD!N26","v":76},78.400000000000006,{"$f":"BIG!K26","v":76},{"$f":"BIG!N26","v":81},78,78.724142857142851,84.467999999999989,{"$f":"BID!L26","v":95.14},88.736799999999988,75.632000000000005,{"$f":"MTK!L26","v":69.98},73.371200000000016,80.798000000000002,{"$f":"IPA!L26","v":83.99},82.074799999999996,83.036666666666676,244.18279999999999,249.11,81.8,88.47,84.467999999999989,79.400000000000006,69.98,75.632000000000005,80,81.995000000000005,80.798000000000002,null,null,84.467999999999989,95.14,88.736799999999988,75.632000000000005,69.98,73.371200000000016,80.798000000000002,83.99,82.074799999999996,null,null,{"$f":"SISWA!S25","v":"069/MINI.L-Kid/30.02.02/S.1-2/VI/2019"}]
[{"$f":"SISWA!A27","v":20},{"$f":"IF(SISWA!B27=0,\"\",SISWA!B27)","v":4306},{"$f":"IF(SISWA!C27=0,\"\",SISWA!C27)","v":"0069095925"},{"$f":"IF(SISWA!D27=0,\"\",SISWA!D27)","v":"1-18-05-80-162-020-6"},{"$f":"IF(SISWA!E27=0,\"\",SISWA!E27)","v":"LENNY AGUSTIN NINGTYAS"},{"$f":"IF(SISWA!P27=0,\"\",SISWA!P27)","v":"LUMAJANG, 17 Agustus 2006"},{"$f":"IF(SISWA!H27=0,\"\",SISWA!H27)","v":"SARONI"},{"$f":"#REF!","v":{"$error":"#REF!"}},{"$f":"#REF!","v":{"$error":"#REF!"}},{"$error":"#REF!"},{"$f":"AA!K27","v":68.400000000000006},{"$f":"AA!N27","v":72.7},70.12,{"$f":"AH!K27","v":69.400000000000006},{"$f":"AH!N27","v":67.2},68.52000000000001,{"$f":"FQ!K27","v":69.8},{"$f":"FQ!N27","v":67.400000000000006},68.84,{"$f":"SKI!K27","v":71.400000000000006},{"$f":"SKI!N27","v":69.295000000000002},70.558000000000007,{"$f":"PKn!K27","v":71.400000000000006},{"$f":"PKn!N27","v":65},68.84,{"$f":"BID!K27","v":69.2},{"$f":"BID!N27","v":53.38},62.872000000000007,{"$f":"BA!K27","v":70.2},{"$f":"BA!N27","v":67.599999999999994},69.16,{"$f":"MTK!K27","v":68.2},{"$f":"MTK!L27","v":30.64},53.176000000000002,{"$f":"IPA!K27","v":69},{"$f":"IPA!N27","v":49.99},61.396000000000001,{"$f":"IPS!K27","v":69.599999999999994},{"$f":"IPS!L27","v":65},67.759999999999991,{"$f":"SBK!K27","v":72.400000000000006},{"$f":"SBK!N27","v":68.7},70.920000000000016,{"$f":"PJK!K27","v":77.599999999999994},{"$f":"PJK!N27","v":77.3},77.47999999999999,{"$f":"BD!K27","v":69.2},{"$f":"BD!N27","v":67.099999999999994},68.36,{"$f":"BIG!K27","v":64.599999999999994},{"$f":"BIG!N27","v":64.8},64.680000000000007,67.334428571428575,62.872000000000007,{"$f":"BID!L27","v":37.56},52.747200000000007,53.176000000000002,{"$f":"MTK!L27","v":30.64},44.1616,61.396000000000001,{"$f":"IPA!L27","v":30.98},49.229600000000005,33.06,146.13840000000002,99.18,69.2,53.38,62.872000000000007,68.2,30.64,53.176000000000002,69,49.99,61.396000000000001,null,null,62.872000000000007,37.56,52.747200000000007,53.176000000000002,30.64,44.1616,61.396000000000001,30.98,49.229600000000005,null,null,{"$f":"SISWA!S26","v":"070/MINI.L-Kid/30.02.02/S.1-2/VI/2019"}]
[{"$f":"SISWA!A28","v":21},{"$f":"IF(SISWA!B28=0,\"\",SISWA!B28)","v":4281},{"$f":"IF(SISWA!C28=0,\"\",SISWA!C28)","v":"0069153972"},{"$f":"IF(SISWA!D28=0,\"\",SISWA!D28)","v":"1-18-05-80-162-021-5"},{"$f":"IF(SISWA!E28=0,\"\",SISWA!E28)","v":"MUHAMMAD AGUS ANDRIANTO"},{"$f":"IF(SISWA!P28=0,\"\",SISWA!P28)","v":"LUMAJANG, 11 Agustus 2006"},{"$f":"IF(SISWA!H28=0,\"\",SISWA!H28)","v":"TOTOK YULIANTO"},{"$f":"#REF!","v":{"$error":"#REF!"}},{"$f":"#REF!","v":{"$error":"#REF!"}},{"$error":"#REF!"},{"$f":"AA!K28","v":76.8},{"$f":"AA!N28","v":70.900000000000006},74.44,{"$f":"AH!K28","v":78.599999999999994},{"$f":"AH!N28","v":71.8},75.88,{"$f":"FQ!K28","v":77.2},{"$f":"FQ!N28","v":71.099999999999994},74.759999999999991,{"$f":"SKI!K28","v":77},{"$f":"SKI!N28","v":71},74.599999999999994,{"$f":"PKn!K28","v":75.400000000000006},{"$f":"PKn!N28","v":65},71.240000000000009,{"$f":"BID!K28","v":75.599999999999994},{"$f":"BID!N28","v":66.784999999999997},72.073999999999984,{"$f":"BA!K28","v":73.2},{"$f":"BA!N28","v":69.099999999999994},71.56,{"$f":"MTK!K28","v":75},{"$f":"MTK!L28","v":27},55.8,{"$f":"IPA!K28","v":76.2},{"$f":"IPA!N28","v":62.1},70.56,{"$f":"IPS!K28","v":77.2},{"$f":"IPS!L28","v":65},72.319999999999993,{"$f":"SBK!K28","v":75.400000000000006},{"$f":"SBK!N28","v":70.2},73.320000000000007,{"$f":"PJK!K28","v":82.4},{"$f":"PJK!N28","v":73.7},78.920000000000016,{"$f":"BD!K28","v":76.2},{"$f":"BD!N28","v":70.599999999999994},73.959999999999994,{"$f":"BIG!K28","v":77.2},{"$f":"BIG!N28","v":71.099999999999994},74.759999999999991,72.44242857142855,72.073999999999984,{"$f":"BID!L28","v":57.97},66.432400000000001,55.8,{"$f":"MTK!L28","v":27},44.28,70.56,{"$f":"IPA!L28","v":48},61.536000000000001,44.323333333333331,172.2484,132.97,75.599999999999994,66.784999999999997,72.073999999999984,75,27,55.8,76.2,62.1,70.56,null,null,72.073999999999984,57.97,66.432400000000001,55.8,27,44.28,70.56,48,61.536000000000001,null,null,{"$f":"SISWA!S27","v":"071/MINI.L-Kid/30.02.02/S.1-2/VI/2019"}]
[{"$f":"SISWA!A29","v":22},{"$f":"IF(SISWA!B29=0,\"\",SISWA!B29)","v":4308},{"$f":"IF(SISWA!C29=0,\"\",SISWA!C29)","v":"0063078335"},{"$f":"IF(SISWA!D29=0,\"\",SISWA!D29)","v":"1-18-05-80-162-022-4"},{"$f":"IF(SISWA!E29=0,\"\",SISWA!E29)","v":"MAURIS HIDAYATUR ROCHMAN"},{"$f":"IF(SISWA!P29=0,\"\",SISWA!P29)","v":"LUMAJANG, 11 Desember 2006"},{"$f":"IF(SISWA!H29=0,\"\",SISWA!H29)","v":"MOKHAMAD SOLIKHIN"},{"$f":"#REF!","v":{"$error":"#REF!"}},{"$f":"#REF!","v":{"$error":"#REF!"}},{"$error":"#REF!"},{"$f":"AA!K29","v":78.2},{"$f":"AA!N29","v":79.099999999999994},78.56,{"$f":"AH!K29","v":79.8},{"$f":"AH!N29","v":74.05},77.5,{"$f":"FQ!K29","v":77.400000000000006},{"$f":"FQ!N29","v":73.7},75.920000000000016,{"$f":"SKI!K29","v":77},{"$f":"SKI!N29","v":71.849999999999994},74.94,{"$f":"PKn!K29","v":77.2},{"$f":"PKn!N29","v":65},72.319999999999993,{"$f":"BID!K29","v":75.599999999999994},{"$f":"BID!N29","v":62.384999999999998},70.313999999999993,{"$f":"BA!K29","v":75.2},{"$f":"BA!N29","v":70.099999999999994},73.16,{"$f":"MTK!K29","v":74},{"$f":"MTK!L29","v":37.64},59.456000000000003,{"$f":"IPA!K29","v":76},{"$f":"IPA!N29","v":70.995000000000005},73.998000000000005,{"$f":"IPS!K29","v":76.2},{"$f":"IPS!L29","v":65},71.72,{"$f":"SBK!K29","v":77.8},{"$f":"SBK!N29","v":71.400000000000006},75.240000000000009,{"$f":"PJK!K29","v":80.8},{"$f":"PJK!N29","v":72.900000000000006},77.64,{"$f":"BD!K29","v":74.599999999999994},{"$f":"BD!N29","v":69.8},72.680000000000007,{"$f":"BIG!K29","v":76},{"$f":"BIG!N29","v":72},74.400000000000006,73.417714285714297,70.313999999999993,{"$f":"BID!L29","v":49.17},61.856399999999994,59.456000000000003,{"$f":"MTK!L29","v":37.64},50.729600000000005,73.998000000000005,{"$f":"IPA!L29","v":65.989999999999995},70.794800000000009,50.933333333333337,183.38080000000002,152.80000000000001,75.599999999999994,62.384999999999998,70.313999999999993,74,37.64,59.456000000000003,76,70.995000000000005,73.998000000000005,null,null,70.313999999999993,49.17,61.856399999999994,59.456000000000003,37.64,50.729600000000005,73.998000000000005,65.989999999999995,70.794800000000009,null,null,{"$f":"SISWA!S28","v":"072/MINI.L-Kid/30.02.02/S.1-2/VI/2019"}]
[{"$f":"SISWA!A30","v":23},{"$f":"IF(SISWA!B30=0,\"\",SISWA!B30)","v":4314},{"$f":"IF(SISWA!C30=0,\"\",SISWA!C30)","v":"0072178353"},{"$f":"IF(SISWA!D30=0,\"\",SISWA!D30)","v":"1-18-05-80-162-023-3"},{"$f":"IF(SISWA!E30=0,\"\",SISWA!E30)","v":"MUHAMMAD BISMAR TAUFIQUROHMAN"},{"$f":"IF(SISWA!P30=0,\"\",SISWA!P30)","v":"LUMAJANG, 20 Februari 2007"},{"$f":"IF(SISWA!H30=0,\"\",SISWA!H30)","v":"BUSTANUL ABEN"},{"$f":"#REF!","v":{"$error":"#REF!"}},{"$f":"#REF!","v":{"$error":"#REF!"}},{"$error":"#REF!"},{"$f":"AA!K30","v":81},{"$f":"AA!N30","v":73},77.800000000000011,{"$f":"AH!K30","v":82.8},{"$f":"AH!N30","v":73.900000000000006},79.240000000000009,{"$f":"FQ!K30","v":80.400000000000006},{"$f":"FQ!N30","v":72.7},77.320000000000007,{"$f":"SKI!K30","v":80},{"$f":"SKI!N30","v":75.094999999999999},78.037999999999997,{"$f":"PKn!K30","v":79.599999999999994},{"$f":"PKn!N30","v":65},73.759999999999991,{"$f":"BID!K30","v":78.400000000000006},{"$f":"BID!N30","v":81.885000000000005},79.794000000000011,{"$f":"BA!K30","v":79.2},{"$f":"BA!N30","v":72.099999999999994},76.36,{"$f":"MTK!K30","v":74.599999999999994},{"$f":"MTK!L30","v":65.319999999999993},70.888000000000005,{"$f":"IPA!K30","v":75.599999999999994},{"$f":"IPA!N30","v":63.31},70.683999999999997,{"$f":"IPS!K30","v":76.8},{"$f":"IPS!L30","v":65},72.08,{"$f":"SBK!K30","v":78.400000000000006},{"$f":"SBK!N30","v":71.7},75.72,{"$f":"PJK!K30","v":79},{"$f":"PJK!N30","v":72},76.2,{"$f":"BD!K30","v":75.8},{"$f":"BD!N30","v":70.400000000000006},73.64,{"$f":"BIG!K30","v":78.599999999999994},{"$f":"BIG!N30","v":71.8},75.88,75.528857142857149,79.794000000000011,{"$f":"BID!L30","v":85.37},82.024400000000014,70.888000000000005,{"$f":"MTK!L30","v":65.319999999999993},68.660799999999995,70.683999999999997,{"$f":"IPA!L30","v":51.02},62.818399999999997,67.236666666666665,213.50360000000001,201.71,78.400000000000006,81.885000000000005,79.794000000000011,74.599999999999994,65.319999999999993,70.888000000000005,75.599999999999994,63.31,70.683999999999997,null,null,79.794000000000011,85.37,82.024400000000014,70.888000000000005,65.319999999999993,68.660799999999995,70.683999999999997,51.02,62.818399999999997,null,null,{"$f":"SISWA!S29","v":"073/MINI.L-Kid/30.02.02/S.1-2/VI/2019"}]
[{"$f":"SISWA!A31","v":24},{"$f":"IF(SISWA!B31=0,\"\",SISWA!B31)","v":4309},{"$f":"IF(SISWA!C31=0,\"\",SISWA!C31)","v":"0072198448"},{"$f":"IF(SISWA!D31=0,\"\",SISWA!D31)","v":"1-18-05-80-162-024-2"},{"$f":"IF(SISWA!E31=0,\"\",SISWA!E31)","v":"MAYA BUNGA ANJANI"},{"$f":"IF(SISWA!P31=0,\"\",SISWA!P31)","v":"LUMAJANG, 04 Mei 2007"},{"$f":"IF(SISWA!H31=0,\"\",SISWA!H31)","v":"NGATERI"},{"$f":"#REF!","v":{"$error":"#REF!"}},{"$f":"#REF!","v":{"$error":"#REF!"}},{"$error":"#REF!"},{"$f":"AA!K31","v":71},{"$f":"AA!N31","v":84.5},76.400000000000006,{"$f":"AH!K31","v":71.400000000000006},{"$f":"AH!N31","v":69.355000000000004},70.582000000000008,{"$f":"FQ!K31","v":69},{"$f":"FQ!N31","v":67},68.2,{"$f":"SKI!K31","v":72.8},{"$f":"SKI!N31","v":70.844999999999999},72.018000000000001,{"$f":"PKn!K31","v":71.2},{"$f":"PKn!N31","v":65},68.72,{"$f":"BID!K31","v":70.400000000000006},{"$f":"BID!N31","v":52.260000000000005},63.144000000000005,{"$f":"BA!K31","v":70.8},{"$f":"BA!N31","v":67.900000000000006},69.64,{"$f":"MTK!K31","v":69.599999999999994},{"$f":"MTK!L31","v":21.31},50.283999999999999,{"$f":"IPA!K31","v":70.8},{"$f":"IPA!N31","v":51.879999999999995},63.231999999999999,{"$f":"IPS!K31","v":71},{"$f":"IPS!L31","v":65},68.599999999999994,{"$f":"SBK!K31","v":73.400000000000006},{"$f":"SBK!N31","v":69.2},71.72,{"$f":"PJK!K31","v":78.599999999999994},{"$f":"PJK!N31","v":71.8},75.88,{"$f":"BD!K31","v":70},{"$f":"BD!N31","v":67.5},69,{"$f":"BIG!K31","v":65.599999999999994},{"$f":"BIG!N31","v":65.3},65.47999999999999,68.064285714285717,63.144000000000005,{"$f":"BID!L31","v":34.119999999999997},51.534400000000005,50.283999999999999,{"$f":"MTK!L31","v":21.31},38.694399999999995,63.231999999999999,{"$f":"IPA!L31","v":32.96},51.123199999999997,29.463333333333328,141.352,88.389999999999986,70.400000000000006,52.260000000000005,63.144000000000005,69.599999999999994,21.31,50.283999999999999,70.8,51.879999999999995,63.231999999999999,null,null,63.144000000000005,34.119999999999997,51.534400000000005,50.283999999999999,21.31,38.694399999999995,63.231999999999999,32.96,51.123199999999997,null,null,{"$f":"SISWA!S30","v":"074/MINI.L-Kid/30.02.02/S.1-2/VI/2019"}]
[{"$f":"SISWA!A32","v":25},{"$f":"IF(SISWA!B32=0,\"\",SISWA!B32)","v":4320},{"$f":"IF(SISWA!C32=0,\"\",SISWA!C32)","v":"0064566227"},{"$f":"IF(SISWA!D32=0,\"\",SISWA!D32)","v":"1-18-05-80-162-025-9"},{"$f":"IF(SISWA!E32=0,\"\",SISWA!E32)","v":"MUHAMMAD SAHLAN SHODIQ"},{"$f":"IF(SISWA!P32=0,\"\",SISWA!P32)","v":"LUMAJANG, 26 April 2006"},{"$f":"IF(SISWA!H32=0,\"\",SISWA!H32)","v":"ABDULLOH SHIDIQ"},{"$f":"#REF!","v":{"$error":"#REF!"}},{"$f":"#REF!","v":{"$error":"#REF!"}},{"$error":"#REF!"},{"$f":"AA!K32","v":81.8},{"$f":"AA!N32","v":80},81.08,{"$f":"AH!K32","v":84.2},{"$f":"AH!N32","v":74.599999999999994},80.36,{"$f":"FQ!K32","v":86.6},{"$f":"FQ!N32","v":75.8},82.28,{"$f":"SKI!K32","v":81.8},{"$f":"SKI!N32","v":73.400000000000006},78.44,{"$f":"PKn!K32","v":83},{"$f":"PKn!N32","v":65},75.8,{"$f":"BID!K32","v":82.4},{"$f":"BID!N32","v":73.185000000000002},78.713999999999999,{"$f":"BA!K32","v":81.2},{"$f":"BA!N32","v":73.099999999999994},77.959999999999994,{"$f":"MTK!K32","v":76.2},{"$f":"MTK!L32","v":32.979999999999997},58.911999999999999,{"$f":"IPA!K32","v":79},{"$f":"IPA!N32","v":76.509999999999991},78.003999999999991,{"$f":"IPS!K32","v":77.8},{"$f":"IPS!L32","v":65},72.680000000000007,{"$f":"SBK!K32","v":79.599999999999994},{"$f":"SBK!N32","v":72.3},76.680000000000007,{"$f":"PJK!K32","v":80.400000000000006},{"$f":"PJK!N32","v":78.2},79.52000000000001,{"$f":"BD!K32","v":77.400000000000006},{"$f":"BD!N32","v":71.2},74.920000000000016,{"$f":"BIG!K32","v":76.599999999999994},{"$f":"BIG!N32","v":70.8},74.28,76.402142857142863,78.713999999999999,{"$f":"BID!L32","v":63.97},72.816400000000002,58.911999999999999,{"$f":"MTK!L32","v":32.979999999999997},48.539200000000001,78.003999999999991,{"$f":"IPA!L32","v":74.02},76.410399999999996,56.989999999999988,197.76600000000002,170.96999999999997,82.4,73.185000000000002,78.713999999999999,76.2,32.979999999999997,58.911999999999999,79,76.509999999999991,78.003999999999991,null,null,78.713999999999999,63.97,72.816400000000002,58.911999999999999,32.979999999999997,48.539200000000001,78.003999999999991,74.02,76.410399999999996,null,null,{"$f":"SISWA!S31","v":"075/MINI.L-Kid/30.02.02/S.1-2/VI/2019"}]
[{"$f":"SISWA!A33","v":26},{"$f":"IF(SISWA!B33=0,\"\",SISWA!B33)","v":4279},{"$f":"IF(SISWA!C33=0,\"\",SISWA!C33)","v":"0066637092"},{"$f":"IF(SISWA!D33=0,\"\",SISWA!D33)","v":"1-18-05-80-162-026-8"},{"$f":"IF(SISWA!E33=0,\"\",SISWA!E33)","v":"MITA SEPTIANI ISLAMIA"},{"$f":"IF(SISWA!P33=0,\"\",SISWA!P33)","v":"LUMAJANG, 16 September 2006"},{"$f":"IF(SISWA!H33=0,\"\",SISWA!H33)","v":"SUBEKHAN"},{"$f":"#REF!","v":{"$error":"#REF!"}},{"$f":"#REF!","v":{"$error":"#REF!"}},{"$error":"#REF!"},{"$f":"AA!K33","v":72.8},{"$f":"AA!N33","v":79.400000000000006},75.44,{"$f":"AH!K33","v":73.599999999999994},{"$f":"AH!N33","v":69.3},71.88,{"$f":"FQ!K33","v":72.599999999999994},{"$f":"FQ!N33","v":86.3},78.08,{"$f":"SKI!K33","v":75.2},{"$f":"SKI!N33","v":81},77.52,{"$f":"PKn!K33","v":72.599999999999994},{"$f":"PKn!N33","v":65},69.56,{"$f":"BID!K33","v":69.599999999999994},{"$f":"BID!N33","v":59.51},65.563999999999993,{"$f":"BA!K33","v":73.400000000000006},{"$f":"BA!N33","v":69.2},71.72,{"$f":"MTK!K33","v":69},{"$f":"MTK!L33","v":25.98},51.792000000000002,{"$f":"IPA!K33","v":69},{"$f":"IPA!N33","v":53.495000000000005},62.798000000000002,{"$f":"IPS!K33","v":69},{"$f":"IPS!L33","v":65},67.400000000000006,{"$f":"SBK!K33","v":74},{"$f":"SBK!N33","v":69.5},72.2,{"$f":"PJK!K33","v":79},{"$f":"PJK!N33","v":72},76.2,{"$f":"BD!K33","v":71.8},{"$f":"BD!N33","v":68.400000000000006},70.44,{"$f":"BIG!K33","v":68.2},{"$f":"BIG!N33","v":77.099999999999994},71.760000000000005,70.168142857142854,65.563999999999993,{"$f":"BID!L33","v":49.42},59.106399999999994,51.792000000000002,{"$f":"MTK!L33","v":25.98},41.467199999999998,62.798000000000002,{"$f":"IPA!L33","v":37.99},52.874800000000008,37.796666666666674,153.44839999999999,113.39000000000001,69.599999999999994,59.51,65.563999999999993,69,25.98,51.792000000000002,69,53.495000000000005,62.798000000000002,null,null,65.563999999999993,49.42,59.106399999999994,51.792000000000002,25.98,41.467199999999998,62.798000000000002,37.99,52.874800000000008,null,null,{"$f":"SISWA!S32","v":"076/MINI.L-Kid/30.02.02/S.1-2/VI/2019"}]
[{"$f":"SISWA!A34","v":27},{"$f":"IF(SISWA!B34=0,\"\",SISWA!B34)","v":4321},{"$f":"IF(SISWA!C34=0,\"\",SISWA!C34)","v":"0061244045"},{"$f":"IF(SISWA!D34=0,\"\",SISWA!D34)","v":"1-18-05-80-162-027-7"},{"$f":"IF(SISWA!E34=0,\"\",SISWA!E34)","v":"MUHAMMAD SEPTYAN EKA PRATAMA"},{"$f":"IF(SISWA!P34=0,\"\",SISWA!P34)","v":"LUMAJANG, 14 September 2006"},{"$f":"IF(SISWA!H34=0,\"\",SISWA!H34)","v":"ADI SUPARTO"},{"$f":"#REF!","v":{"$error":"#REF!"}},{"$f":"#REF!","v":{"$error":"#REF!"}},{"$error":"#REF!"},{"$f":"AA!K34","v":79.8},{"$f":"AA!N34","v":72.400000000000006},76.84,{"$f":"AH!K34","v":78.8},{"$f":"AH!N34","v":71.900000000000006},76.039999999999992,{"$f":"FQ!K34","v":78.400000000000006},{"$f":"FQ!N34","v":71.7},75.72,{"$f":"SKI!K34","v":77.400000000000006},{"$f":"SKI!N34","v":71.2},74.920000000000016,{"$f":"PKn!K34","v":78},{"$f":"PKn!N34","v":68},74,{"$f":"BID!K34","v":76.599999999999994},{"$f":"BID!N34","v":71.919999999999987},74.727999999999994,{"$f":"BA!K34","v":75.599999999999994},{"$f":"BA!N34","v":70.3},73.47999999999999,{"$f":"MTK!K34","v":74.400000000000006},{"$f":"MTK!L34","v":37.32},59.567999999999998,{"$f":"IPA!K34","v":78.400000000000006},{"$f":"IPA!N34","v":75.22},77.128,{"$f":"IPS!K34","v":77.8},{"$f":"IPS!L34","v":77},77.48,{"$f":"SBK!K34","v":78},{"$f":"SBK!N34","v":71.5},75.400000000000006,{"$f":"PJK!K34","v":82.4},{"$f":"PJK!N34","v":77.2},80.320000000000007,{"$f":"BD!K34","v":75},{"$f":"BD!N34","v":70},73,{"$f":"BIG!K34","v":78.2},{"$f":"BIG!N34","v":79.099999999999994},78.56,74.798857142857145,74.727999999999994,{"$f":"BID!L34","v":67.239999999999995},71.732799999999997,59.567999999999998,{"$f":"MTK!L34","v":37.32},50.668800000000005,77.128,{"$f":"IPA!L34","v":72.040000000000006},75.092800000000011,58.866666666666674,197.49440000000001,176.60000000000002,76.599999999999994,71.919999999999987,74.727999999999994,74.400000000000006,37.32,59.567999999999998,78.400000000000006,75.22,77.128,null,null,74.727999999999994,67.239999999999995,71.732799999999997,59.567999999999998,37.32,50.668800000000005,77.128,72.040000000000006,75.092800000000011,null,null,{"$f":"SISWA!S33","v":"077/MINI.L-Kid/30.02.02/S.1-2/VI/2019"}]
[{"$f":"SISWA!A35","v":28},{"$f":"IF(SISWA!B35=0,\"\",SISWA!B35)","v":"4247"},{"$f":"IF(SISWA!C35=0,\"\",SISWA!C35)","v":"0053546157"},{"$f":"IF(SISWA!D35=0,\"\",SISWA!D35)","v":"1-18-05-80-162-028-6"},{"$f":"IF(SISWA!E35=0,\"\",SISWA!E35)","v":"MOCHAMAD ARIEL FRANS TITO"},{"$f":"IF(SISWA!P35=0,\"\",SISWA!P35)","v":"LUMAJANG, 12 Februari 2005"},{"$f":"IF(SISWA!H35=0,\"\",SISWA!H35)","v":"MARSUGIANTO"},{"$f":"#REF!","v":{"$error":"#REF!"}},{"$f":"#REF!","v":{"$error":"#REF!"}},{"$error":"#REF!"},{"$f":"AA!K35","v":70.599999999999994},{"$f":"AA!N35","v":70.8},70.679999999999993,{"$f":"AH!K35","v":69.400000000000006},{"$f":"AH!N35","v":67.2},68.52000000000001,{"$f":"FQ!K35","v":70.400000000000006},{"$f":"FQ!N35","v":70.2},70.320000000000007,{"$f":"SKI!K35","v":72.599999999999994},{"$f":"SKI!N35","v":69.650000000000006},71.42,{"$f":"PKn!K35","v":72.2},{"$f":"PKn!N35","v":65},69.319999999999993,{"$f":"BID!K35","v":71},{"$f":"BID!N35","v":57.704999999999998},65.682000000000002,{"$f":"BA!K35","v":70.8},{"$f":"BA!N35","v":67.900000000000006},69.64,{"$f":"MTK!K35","v":69},{"$f":"MTK!L35","v":36.33},55.932000000000002,{"$f":"IPA!K35","v":70.8},{"$f":"IPA!N35","v":55.41},64.644000000000005,{"$f":"IPS!K35","v":71.8},{"$f":"IPS!L35","v":65},69.08,{"$f":"SBK!K35","v":72.2},{"$f":"SBK!N35","v":68.599999999999994},70.759999999999991,{"$f":"PJK!K35","v":78.2},{"$f":"PJK!N35","v":71.599999999999994},75.56,{"$f":"BD!K35","v":70},{"$f":"BD!N35","v":67.5},69,{"$f":"BIG!K35","v":66.2},{"$f":"BIG!N35","v":65.599999999999994},65.959999999999994,68.322714285714284,65.682000000000002,{"$f":"BID!L35","v":44.41},57.173199999999994,55.932000000000002,{"$f":"MTK!L35","v":36.33},48.091200000000001,64.644000000000005,{"$f":"IPA!L35","v":40.020000000000003},54.794400000000003,40.25333333333333,160.05879999999999,120.75999999999999,71,57.704999999999998,65.682000000000002,69,36.33,55.932000000000002,70.8,55.41,64.644000000000005,null,null,65.682000000000002,44.41,57.173199999999994,55.932000000000002,36.33,48.091200000000001,64.644000000000005,40.020000000000003,54.794400000000003,null,null,{"$f":"SISWA!S34","v":"078/MINI.L-Kid/30.02.02/S.1-2/VI/2019"}]
[{"$f":"SISWA!A36","v":29},{"$f":"IF(SISWA!B36=0,\"\",SISWA!B36)","v":4285},{"$f":"IF(SISWA!C36=0,\"\",SISWA!C36)","v":"0067871553"},{"$f":"IF(SISWA!D36=0,\"\",SISWA!D36)","v":"1-18-05-80-162-029-5"},{"$f":"IF(SISWA!E36=0,\"\",SISWA!E36)","v":"MUHAMMAD VERYANSYAH"},{"$f":"IF(SISWA!P36=0,\"\",SISWA!P36)","v":"LUMAJANG, 21 Mei 2006"},{"$f":"IF(SISWA!H36=0,\"\",SISWA!H36)","v":"SUTIKNO"},{"$f":"#REF!","v":{"$error":"#REF!"}},{"$f":"#REF!","v":{"$error":"#REF!"}},{"$error":"#REF!"},{"$f":"AA!K36","v":78.599999999999994},{"$f":"AA!N36","v":71.8},75.88,{"$f":"AH!K36","v":79.2},{"$f":"AH!N36","v":72.099999999999994},76.36,{"$f":"FQ!K36","v":81.400000000000006},{"$f":"FQ!N36","v":73.2},78.12,{"$f":"SKI!K36","v":79.400000000000006},{"$f":"SKI!N36","v":72.2},76.52000000000001,{"$f":"PKn!K36","v":78.599999999999994},{"$f":"PKn!N36","v":65},73.16,{"$f":"BID!K36","v":77},{"$f":"BID!N36","v":61.585000000000001},70.834000000000003,{"$f":"BA!K36","v":75.8},{"$f":"BA!N36","v":70.400000000000006},73.64,{"$f":"MTK!K36","v":77},{"$f":"MTK!L36","v":74},75.8,{"$f":"IPA!K36","v":79.2},{"$f":"IPA!N36","v":71.615000000000009},76.166000000000011,{"$f":"IPS!K36","v":79.8},{"$f":"IPS!L36","v":65},73.88,{"$f":"SBK!K36","v":78.8},{"$f":"SBK!N36","v":71.900000000000006},76.039999999999992,{"$f":"PJK!K36","v":82.4},{"$f":"PJK!N36","v":73.7},78.920000000000016,{"$f":"BD!K36","v":76.2},{"$f":"BD!N36","v":70.599999999999994},73.959999999999994,{"$f":"BIG!K36","v":72.8},{"$f":"BIG!N36","v":68.900000000000006},71.240000000000009,75.037142857142854,70.834000000000003,{"$f":"BID!L36","v":46.17},60.968400000000003,75.8,{"$f":"MTK!L36","v":74},75.08,76.166000000000011,{"$f":"IPA!L36","v":64.03},71.311599999999999,61.4,207.36,184.2,77,61.585000000000001,70.834000000000003,77,74,75.8,79.2,71.615000000000009,76.166000000000011,null,null,70.834000000000003,46.17,60.968400000000003,75.8,74,75.08,76.166000000000011,64.03,71.311599999999999,null,null,{"$f":"SISWA!S35","v":"079/MINI.L-Kid/30.02.02/S.1-2/VI/2019"}]
[{"$f":"SISWA!A37","v":30},{"$f":"IF(SISWA!B37=0,\"\",SISWA!B37)","v":4310},{"$f":"IF(SISWA!C37=0,\"\",SISWA!C37)","v":"0066383678"},{"$f":"IF(SISWA!D37=0,\"\",SISWA!D37)","v":"1-18-05-80-162-030-4"},{"$f":"IF(SISWA!E37=0,\"\",SISWA!E37)","v":"MOCHAMMAD BIMA RISFANDA"},{"$f":"IF(SISWA!P37=0,\"\",SISWA!P37)","v":"LUMAJANG, 25 Agustus 2006"},{"$f":"IF(SISWA!H37=0,\"\",SISWA!H37)","v":"IMAM WAHYUDI"},{"$f":"#REF!","v":{"$error":"#REF!"}},{"$f":"#REF!","v":{"$error":"#REF!"}},{"$error":"#REF!"},{"$f":"AA!K37","v":72},{"$f":"AA!N37","v":76},73.599999999999994,{"$f":"AH!K37","v":69.8},{"$f":"AH!N37","v":67.400000000000006},68.84,{"$f":"FQ!K37","v":73},{"$f":"FQ!N37","v":73.150000000000006},73.06,{"$f":"SKI!K37","v":73.400000000000006},{"$f":"SKI!N37","v":71.550000000000011},72.66,{"$f":"PKn!K37","v":73.2},{"$f":"PKn!N37","v":65},69.92,{"$f":"BID!K37","v":70.599999999999994},{"$f":"BID!N37","v":47.334999999999994},61.29399999999999,{"$f":"BA!K37","v":71},{"$f":"BA!N37","v":68},69.800000000000011,{"$f":"MTK!K37","v":69},{"$f":"MTK!L37","v":23.64},50.856000000000002,{"$f":"IPA!K37","v":71},{"$f":"IPA!N37","v":56.019999999999996},65.00800000000001,{"$f":"IPS!K37","v":71.400000000000006},{"$f":"IPS!L37","v":65},68.84,{"$f":"SBK!K37","v":73.400000000000006},{"$f":"SBK!N37","v":69.2},71.72,{"$f":"PJK!K37","v":80.8},{"$f":"PJK!N37","v":72.900000000000006},77.64,{"$f":"BD!K37","v":72.2},{"$f":"BD!N37","v":68.599999999999994},70.759999999999991,{"$f":"BIG!K37","v":67.599999999999994},{"$f":"BIG!N37","v":66.3},67.08,68.648428571428582,61.29399999999999,{"$f":"BID!L37","v":24.07},46.404399999999995,50.856000000000002,{"$f":"MTK!L37","v":23.64},39.9696,65.00800000000001,{"$f":"IPA!L37","v":41.04},55.4208,29.583333333333332,141.79480000000001,88.75,70.599999999999994,47.334999999999994,61.29399999999999,69,23.64,50.856000000000002,71,56.019999999999996,65.00800000000001,null,null,61.29399999999999,24.07,46.404399999999995,50.856000000000002,23.64,39.9696,65.00800000000001,41.04,55.4208,null,null,{"$f":"SISWA!S36","v":"080/MINI.L-Kid/30.02.02/S.1-2/VI/2019"}]
[{"$f":"SISWA!A38","v":31},{"$f":"IF(SISWA!B38=0,\"\",SISWA!B38)","v":4286},{"$f":"IF(SISWA!C38=0,\"\",SISWA!C38)","v":"0064443822"},{"$f":"IF(SISWA!D38=0,\"\",SISWA!D38)","v":"1-18-05-80-162-031-3"},{"$f":"IF(SISWA!E38=0,\"\",SISWA!E38)","v":"MUHAMMAD ZIDNY NA'IM"},{"$f":"IF(SISWA!P38=0,\"\",SISWA!P38)","v":"LUMAJANG, 31 Juli 2006"},{"$f":"IF(SISWA!H38=0,\"\",SISWA!H38)","v":"AGUS MUSHADI"},{"$f":"#REF!","v":{"$error":"#REF!"}},{"$f":"#REF!","v":{"$error":"#REF!"}},{"$error":"#REF!"},{"$f":"AA!K38","v":84},{"$f":"AA!N38","v":74.5},80.2,{"$f":"AH!K38","v":86.4},{"$f":"AH!N38","v":75.7},82.12,{"$f":"FQ!K38","v":86},{"$f":"FQ!N38","v":75.5},81.800000000000011,{"$f":"SKI!K38","v":84.8},{"$f":"SKI!N38","v":74.900000000000006},80.84,{"$f":"PKn!K38","v":82.2},{"$f":"PKn!N38","v":68},76.52000000000001,{"$f":"BID!K38","v":81.400000000000006},{"$f":"BID!N38","v":84.885000000000005},82.794000000000011,{"$f":"BA!K38","v":78.599999999999994},{"$f":"BA!N38","v":71.8},75.88,{"$f":"MTK!K38","v":80},{"$f":"MTK!L38","v":71.989999999999995},76.795999999999992,{"$f":"IPA!K38","v":82.4},{"$f":"IPA!N38","v":75.705000000000013},79.722000000000008,{"$f":"IPS!K38","v":82},{"$f":"IPS!L38","v":80},81.199999999999989,{"$f":"SBK!K38","v":81.2},{"$f":"SBK!N38","v":73.099999999999994},77.959999999999994,{"$f":"PJK!K38","v":84.6},{"$f":"PJK!N38","v":74.8},80.680000000000007,{"$f":"BD!K38","v":79.8},{"$f":"BD!N38","v":72.400000000000006},76.84,{"$f":"BIG!K38","v":74},{"$f":"BIG!N38","v":82},77.2,79.325142857142865,82.794000000000011,{"$f":"BID!L38","v":88.37},85.024400000000014,76.795999999999992,{"$f":"MTK!L38","v":71.989999999999995},74.873599999999996,79.722000000000008,{"$f":"IPA!L38","v":69.010000000000005},75.437200000000004,76.456666666666663,235.33520000000004,229.37,81.400000000000006,84.885000000000005,82.794000000000011,80,71.989999999999995,76.795999999999992,82.4,75.705000000000013,79.722000000000008,null,null,82.794000000000011,88.37,85.024400000000014,76.795999999999992,71.989999999999995,74.873599999999996,79.722000000000008,69.010000000000005,75.437200000000004,null,null,{"$f":"SISWA!S37","v":"081/MINI.L-Kid/30.02.02/S.1-2/VI/2019"}]
[{"$f":"SISWA!A39","v":32},{"$f":"IF(SISWA!B39=0,\"\",SISWA!B39)","v":4282},{"$f":"IF(SISWA!C39=0,\"\",SISWA!C39)","v":"0068336765"},{"$f":"IF(SISWA!D39=0,\"\",SISWA!D39)","v":"1-18-05-80-162-032-2"},{"$f":"IF(SISWA!E39=0,\"\",SISWA!E39)","v":"MUHAMMAD AGUS FERDIANSYAH"},{"$f":"IF(SISWA!P39=0,\"\",SISWA!P39)","v":"LUMAJANG, 11 Agustus 2006"},{"$f":"IF(SISWA!H39=0,\"\",SISWA!H39)","v":"TOTOK YULIANTO"},{"$f":"#REF!","v":{"$error":"#REF!"}},{"$f":"#REF!","v":{"$error":"#REF!"}},{"$error":"#REF!"},{"$f":"AA!K39","v":77.2},{"$f":"AA!N39","v":78.599999999999994},77.759999999999991,{"$f":"AH!K39","v":80.8},{"$f":"AH!N39","v":72.900000000000006},77.64,{"$f":"FQ!K39","v":78.400000000000006},{"$f":"FQ!N39","v":71.7},75.72,{"$f":"SKI!K39","v":77.599999999999994},{"$f":"SKI!N39","v":71.3},75.08,{"$f":"PKn!K39","v":77.599999999999994},{"$f":"PKn!N39","v":65},72.56,{"$f":"BID!K39","v":75.2},{"$f":"BID!N39","v":64.825000000000003},71.05,{"$f":"BA!K39","v":74.8},{"$f":"BA!N39","v":69.900000000000006},72.84,{"$f":"MTK!K39","v":75.8},{"$f":"MTK!L39","v":25.98},55.872,{"$f":"IPA!K39","v":74.599999999999994},{"$f":"IPA!N39","v":62.304999999999993},69.681999999999988,{"$f":"IPS!K39","v":76},{"$f":"IPS!L39","v":70},73.599999999999994,{"$f":"SBK!K39","v":77.2},{"$f":"SBK!N39","v":71.099999999999994},74.759999999999991,{"$f":"PJK!K39","v":81.599999999999994},{"$f":"PJK!N39","v":74.8},78.88,{"$f":"BD!K39","v":75.8},{"$f":"BD!N39","v":70.400000000000006},73.64,{"$f":"BIG!K39","v":74.400000000000006},{"$f":"BIG!N39","v":69.7},72.52000000000001,72.971714285714285,71.05,{"$f":"BID!L39","v":54.45},64.41,55.872,{"$f":"MTK!L39","v":25.98},43.915199999999999,69.681999999999988,{"$f":"IPA!L39","v":50.01},61.813199999999995,43.48,170.13839999999999,130.44,75.2,64.825000000000003,71.05,75.8,25.98,55.872,74.599999999999994,62.304999999999993,69.681999999999988,null,null,71.05,54.45,64.41,55.872,25.98,43.915199999999999,69.681999999999988,50.01,61.813199999999995,null,null,{"$f":"SISWA!S38","v":"082/MINI.L-Kid/30.02.02/S.1-2/VI/2019"}]
[{"$f":"SISWA!A40","v":33},{"$f":"IF(SISWA!B40=0,\"\",SISWA!B40)","v":4287},{"$f":"IF(SISWA!C40=0,\"\",SISWA!C40)","v":"0064528717"},{"$f":"IF(SISWA!D40=0,\"\",SISWA!D40)","v":"1-18-05-80-162-033-9"},{"$f":"IF(SISWA!E40=0,\"\",SISWA!E40)","v":"MUHAMMAD FARDAN ABDILLAH"},{"$f":"IF(SISWA!P40=0,\"\",SISWA!P40)","v":"LUMAJANG, 18 Januari 2006"},{"$f":"IF(SISWA!H40=0,\"\",SISWA!H40)","v":"EDI SUSANTO"},{"$f":"#REF!","v":{"$error":"#REF!"}},{"$f":"#REF!","v":{"$error":"#REF!"}},{"$error":"#REF!"},{"$f":"AA!K40","v":76.333333333333329},{"$f":"AA!N40","v":70.666666666666657},74.066666666666663,{"$f":"AH!K40","v":78},{"$f":"AH!N40","v":71.5},75.400000000000006,{"$f":"FQ!K40","v":79.666666666666671},{"$f":"FQ!N40","v":72.333333333333343},76.733333333333348,{"$f":"SKI!K40","v":73},{"$f":"SKI!N40","v":71.594999999999999},72.438000000000002,{"$f":"PKn!K40","v":74},{"$f":"PKn!N40","v":65},70.400000000000006,{"$f":"BID!K40","v":72.666666666666671},{"$f":"BID!N40","v":76.763333333333335},74.305333333333337,{"$f":"BA!K40","v":72},{"$f":"BA!N40","v":68.5},70.599999999999994,{"$f":"MTK!K40","v":71.333333333333329},{"$f":"MTK!L40","v":34.99},56.795999999999999,{"$f":"IPA!K40","v":71.333333333333329},{"$f":"IPA!N40","v":59.161666666666662},66.464666666666659,{"$f":"IPS!K40","v":71},{"$f":"IPS!L40","v":65},68.599999999999994,{"$f":"SBK!K40","v":75.666666666666671},{"$f":"SBK!N40","v":70.333333333333343},73.533333333333331,{"$f":"PJK!K40","v":82.333333333333329},{"$f":"PJK!N40","v":73.666666666666657},78.86666666666666,{"$f":"BD!K40","v":75.666666666666671},{"$f":"BD!N40","v":70.333333333333343},73.533333333333331,{"$f":"BIG!K40","v":71.333333333333329},{"$f":"BIG!N40","v":68.166666666666657},70.066666666666663,71.557428571428574,{"$f":"AB41","v":74.305333333333337},{"$f":"BID!L40","v":80.86},{"$f":"(BB41*60%)+(BC41*40%)","v":76.927199999999999},{"$f":"AH41","v":56.795999999999999},{"$f":"MTK!L40","v":34.99},{"$f":"(BE41*60%)+(BF41*40%)","v":48.073599999999999},{"$f":"AK41","v":66.464666666666659},{"$f":"IPA!L40","v":46.99},{"$f":"(BH41*60%)+(BI41*40%)","v":58.674799999999991},54.28,{"$f":"SUM(BD41,BG41,BJ41)","v":183.67559999999997},162.84,72.666666666666671,76.763333333333335,74.305333333333337,71.333333333333329,34.99,56.795999999999999,71.333333333333329,59.161666666666662,66.464666666666659,null,null,74.305333333333337,80.86,76.927199999999999,56.795999999999999,34.99,48.073599999999999,66.464666666666659,46.99,58.674799999999991,null,null,{"$f":"SISWA!S39","v":"083/MINI.L-Kid/30.02.02/S.1-2/VI/2019"}]
[{"$f":"SISWA!A41","v":34},{"$f":"IF(SISWA!B41=0,\"\",SISWA!B41)","v":4315},{"$f":"IF(SISWA!C41=0,\"\",SISWA!C41)","v":"0067870495"},{"$f":"IF(SISWA!D41=0,\"\",SISWA!D41)","v":"1-18-05-80-162-034-8"},{"$f":"IF(SISWA!E41=0,\"\",SISWA!E41)","v":"NABILA ARISKA PUTRI"},{"$f":"IF(SISWA!P41=0,\"\",SISWA!P41)","v":"LUMAJANG, 16 Juni 2006"},{"$f":"IF(SISWA!H41=0,\"\",SISWA!H41)","v":"MUHAMMAD ZAINURI"},{"$f":"#REF!","v":{"$error":"#REF!"}},{"$f":"#REF!","v":{"$error":"#REF!"}},{"$error":"#REF!"},{"$f":"AA!K41","v":82.2},{"$f":"AA!N41","v":81.099999999999994},81.759999999999991,{"$f":"AH!K41","v":83.8},{"$f":"AH!N41","v":74.400000000000006},80.039999999999992,{"$f":"FQ!K41","v":81.599999999999994},{"$f":"FQ!N41","v":77.449999999999989},79.94,{"$f":"SKI!K41","v":82.8},{"$f":"SKI!N41","v":78.894999999999996},81.238,{"$f":"PKn!K41","v":79.400000000000006},{"$f":"PKn!N41","v":65},73.64,{"$f":"BID!K41","v":77.8},{"$f":"BID!N41","v":63.125},71.930000000000007,{"$f":"BA!K41","v":79.400000000000006},{"$f":"BA!N41","v":72.2},76.52000000000001,{"$f":"MTK!K41","v":77},{"$f":"MTK!L41","v":34},59.8,{"$f":"IPA!K41","v":79},{"$f":"IPA!N41","v":56.5},70,{"$f":"IPS!K41","v":79},{"$f":"IPS!L41","v":65},73.400000000000006,{"$f":"SBK!K41","v":79.8},{"$f":"SBK!N41","v":72.400000000000006},76.84,{"$f":"PJK!K41","v":81.2},{"$f":"PJK!N41","v":73.099999999999994},77.959999999999994,{"$f":"BD!K41","v":77.2},{"$f":"BD!N41","v":71.099999999999994},74.759999999999991,{"$f":"BIG!K41","v":73},{"$f":"BIG!N41","v":69},71.400000000000006,74.944857142857146,71.930000000000007,{"$f":"BID!L41","v":48.45},62.538000000000004,59.8,{"$f":"MTK!L41","v":34},49.48,70,{"$f":"IPA!L41","v":34},55.6,38.81666666666667,167.61799999999999,116.45,77.8,63.125,71.930000000000007,77,34,59.8,79,56.5,70,null,null,71.930000000000007,48.45,62.538000000000004,59.8,34,49.48,70,34,55.6,null,null,{"$f":"SISWA!S40","v":"084/MINI.L-Kid/30.02.02/S.1-2/VI/2019"}]
[{"$f":"SISWA!A42","v":35},{"$f":"IF(SISWA!B42=0,\"\",SISWA!B42)","v":4288},{"$f":"IF(SISWA!C42=0,\"\",SISWA!C42)","v":"0068641191"},{"$f":"IF(SISWA!D42=0,\"\",SISWA!D42)","v":"1-18-05-80-162-035-7"},{"$f":"IF(SISWA!E42=0,\"\",SISWA!E42)","v":"MUHAMMAD FERDINAN JAYYIDAH RIFQI"},{"$f":"IF(SISWA!P42=0,\"\",SISWA!P42)","v":"LUMAJANG, 13 Mei 2007"},{"$f":"IF(SISWA!H42=0,\"\",SISWA!H42)","v":"MUHAMAD SHOLEH"},{"$f":"#REF!","v":{"$error":"#REF!"}},{"$f":"#REF!","v":{"$error":"#REF!"}},{"$error":"#REF!"},{"$f":"AA!K42","v":80.400000000000006},{"$f":"AA!N42","v":72.7},77.320000000000007,{"$f":"AH!K42","v":82},{"$f":"AH!N42","v":73.5},78.599999999999994,{"$f":"FQ!K42","v":79.599999999999994},{"$f":"FQ!N42","v":72.3},76.680000000000007,{"$f":"SKI!K42","v":80.400000000000006},{"$f":"SKI!N42","v":72.7},77.320000000000007,{"$f":"PKn!K42","v":80.8},{"$f":"PKn!N42","v":65},74.47999999999999,{"$f":"BID!K42","v":78.400000000000006},{"$f":"BID!N42","v":79.504999999999995},78.841999999999999,{"$f":"BA!K42","v":76.2},{"$f":"BA!N42","v":70.599999999999994},73.959999999999994,{"$f":"MTK!K42","v":77.599999999999994},{"$f":"MTK!L42","v":63.31},71.884,{"$f":"IPA!K42","v":78},{"$f":"IPA!N42","v":73.009999999999991},76.003999999999991,{"$f":"IPS!K42","v":76},{"$f":"IPS!L42","v":65},71.599999999999994,{"$f":"SBK!K42","v":80.599999999999994},{"$f":"SBK!N42","v":72.8},77.47999999999999,{"$f":"PJK!K42","v":80.8},{"$f":"PJK!N42","v":72.900000000000006},77.64,{"$f":"BD!K42","v":77},{"$f":"BD!N42","v":71},74.599999999999994,{"$f":"BIG!K42","v":78.8},{"$f":"BIG!N42","v":71.900000000000006},76.039999999999992,75.88928571428572,78.841999999999999,{"$f":"BID!L42","v":80.61},79.549199999999999,71.884,{"$f":"MTK!L42","v":63.31},68.454400000000007,76.003999999999991,{"$f":"IPA!L42","v":68.02},72.810399999999987,70.646666666666661,220.81399999999999,211.94,78.400000000000006,79.504999999999995,78.841999999999999,77.599999999999994,63.31,71.884,78,73.009999999999991,76.003999999999991,null,null,78.841999999999999,80.61,79.549199999999999,71.884,63.31,68.454400000000007,76.003999999999991,68.02,72.810399999999987,null,null,{"$f":"SISWA!S41","v":"085/MINI.L-Kid/30.02.02/S.1-2/VI/2019"}]
[{"$f":"SISWA!A43","v":36},{"$f":"IF(SISWA!B43=0,\"\",SISWA!B43)","v":4283},{"$f":"IF(SISWA!C43=0,\"\",SISWA!C43)","v":"0077212388"},{"$f":"IF(SISWA!D43=0,\"\",SISWA!D43)","v":"1-18-05-80-162-036-6"},{"$f":"IF(SISWA!E43=0,\"\",SISWA!E43)","v":"NAFISA INDRIANI"},{"$f":"IF(SISWA!P43=0,\"\",SISWA!P43)","v":"LUMAJANG, 03 Juni 2006"},{"$f":"IF(SISWA!H43=0,\"\",SISWA!H43)","v":"ABDUL GHOFAR"},{"$f":"#REF!","v":{"$error":"#REF!"}},{"$f":"#REF!","v":{"$error":"#REF!"}},{"$error":"#REF!"},{"$f":"AA!K43","v":85.6},{"$f":"AA!N43","v":78.3},82.679999999999993,{"$f":"AH!K43","v":88.2},{"$f":"AH!N43","v":76.599999999999994},83.56,{"$f":"FQ!K43","v":87.4},{"$f":"FQ!N43","v":78.050000000000011},83.660000000000011,{"$f":"SKI!K43","v":84},{"$f":"SKI!N43","v":78.444999999999993},81.777999999999992,{"$f":"PKn!K43","v":85.2},{"$f":"PKn!N43","v":72},79.92,{"$f":"BID!K43","v":81.8},{"$f":"BID!N43","v":84.204999999999998},82.762,{"$f":"BA!K43","v":85.4},{"$f":"BA!N43","v":75.2},81.320000000000007,{"$f":"MTK!K43","v":79.8},{"$f":"MTK!L43","v":60.65},72.14,{"$f":"IPA!K43","v":82.4},{"$f":"IPA!N43","v":76.724999999999994},80.13,{"$f":"IPS!K43","v":83.8},{"$f":"IPS!L43","v":70},78.28,{"$f":"SBK!K43","v":83},{"$f":"SBK!N43","v":74},79.400000000000006,{"$f":"PJK!K43","v":82.2},{"$f":"PJK!N43","v":79.099999999999994},80.960000000000008,{"$f":"BD!K43","v":80.599999999999994},{"$f":"BD!N43","v":72.8},77.47999999999999,{"$f":"BIG!K43","v":79},{"$f":"BIG!N43","v":74.5},77.2,80.090714285714284,82.762,{"$f":"BID!L43","v":86.61},84.301199999999994,72.14,{"$f":"MTK!L43","v":60.65},67.543999999999997,80.13,{"$f":"IPA!L43","v":71.05},76.49799999999999,72.77,228.34319999999997,218.31,81.8,84.204999999999998,82.762,79.8,60.65,72.14,82.4,76.724999999999994,80.13,null,null,82.762,86.61,84.301199999999994,72.14,60.65,67.543999999999997,80.13,71.05,76.49799999999999,null,null,{"$f":"SISWA!S42","v":"086/MINI.L-Kid/30.02.02/S.1-2/VI/2019"}]
[{"$f":"SISWA!A44","v":37},{"$f":"IF(SISWA!B44=0,\"\",SISWA!B44)","v":"4257"},{"$f":"IF(SISWA!C44=0,\"\",SISWA!C44)","v":"0069944706"},{"$f":"IF(SISWA!D44=0,\"\",SISWA!D44)","v":"1-18-05-80-162-037-5"},{"$f":"IF(SISWA!E44=0,\"\",SISWA!E44)","v":"MUHAMMAD FIRMANSYAH"},{"$f":"IF(SISWA!P44=0,\"\",SISWA!P44)","v":"LUMAJANG, 27 September 2006"},{"$f":"IF(SISWA!H44=0,\"\",SISWA!H44)","v":"MULYADI"},{"$f":"#REF!","v":{"$error":"#REF!"}},{"$f":"#REF!","v":{"$error":"#REF!"}},{"$error":"#REF!"},{"$f":"AA!K44","v":74.599999999999994},{"$f":"AA!N44","v":69.8},72.680000000000007,{"$f":"AH!K44","v":72.599999999999994},{"$f":"AH!N44","v":68.8},71.08,{"$f":"FQ!K44","v":74.400000000000006},{"$f":"FQ!N44","v":69.7},72.52000000000001,{"$f":"SKI!K44","v":74.2},{"$f":"SKI!N44","v":69.599999999999994},72.36,{"$f":"PKn!K44","v":73.2},{"$f":"PKn!N44","v":65},69.92,{"$f":"BID!K44","v":71.599999999999994},{"$f":"BID!N44","v":66.545000000000002},69.578000000000003,{"$f":"BA!K44","v":71.2},{"$f":"BA!N44","v":68.099999999999994},69.959999999999994,{"$f":"MTK!K44","v":71.8},{"$f":"MTK!L44","v":27.99},54.275999999999996,{"$f":"IPA!K44","v":71.8},{"$f":"IPA!N44","v":52.9},64.239999999999995,{"$f":"IPS!K44","v":73},{"$f":"IPS!L44","v":65},69.8,{"$f":"SBK!K44","v":74.2},{"$f":"SBK!N44","v":69.599999999999994},72.36,{"$f":"PJK!K44","v":79.2},{"$f":"PJK!N44","v":72.099999999999994},76.36,{"$f":"BD!K44","v":70.599999999999994},{"$f":"BD!N44","v":67.8},69.47999999999999,{"$f":"BIG!K44","v":68.599999999999994},{"$f":"BIG!N44","v":66.8},67.88,69.463857142857151,69.578000000000003,{"$f":"BID!L44","v":61.49},66.342800000000011,54.275999999999996,{"$f":"MTK!L44","v":27.99},43.761599999999994,64.239999999999995,{"$f":"IPA!L44","v":34},52.143999999999998,41.160000000000004,162.2484,123.48,71.599999999999994,66.545000000000002,69.578000000000003,71.8,27.99,54.275999999999996,71.8,52.9,64.239999999999995,null,null,69.578000000000003,61.49,66.342800000000011,54.275999999999996,27.99,43.761599999999994,64.239999999999995,34,52.143999999999998,null,null,{"$f":"SISWA!S43","v":"087/MINI.L-Kid/30.02.02/S.1-2/VI/2019"}]
[{"$f":"SISWA!A45","v":38},{"$f":"IF(SISWA!B45=0,\"\",SISWA!B45)","v":4317},{"$f":"IF(SISWA!C45=0,\"\",SISWA!C45)","v":"0068498059"},{"$f":"IF(SISWA!D45=0,\"\",SISWA!D45)","v":"1-18-05-80-162-038-4"},{"$f":"IF(SISWA!E45=0,\"\",SISWA!E45)","v":"NAJWA FARISYA BAROROH"},{"$f":"IF(SISWA!P45=0,\"\",SISWA!P45)","v":"LUMAJANG, 25 Desember 2006"},{"$f":"IF(SISWA!H45=0,\"\",SISWA!H45)","v":"MOCHAMAD SYAIR"},{"$f":"#REF!","v":{"$error":"#REF!"}},{"$f":"#REF!","v":{"$error":"#REF!"}},{"$error":"#REF!"},{"$f":"AA!K45","v":82.8},{"$f":"AA!N45","v":81.400000000000006},82.240000000000009,{"$f":"AH!K45","v":83.6},{"$f":"AH!N45","v":74.3},79.88,{"$f":"FQ!K45","v":84.8},{"$f":"FQ!N45","v":74.900000000000006},80.84,{"$f":"SKI!K45","v":81},{"$f":"SKI!N45","v":78.444999999999993},79.978000000000009,{"$f":"PKn!K45","v":80.2},{"$f":"PKn!N45","v":65},74.12,{"$f":"BID!K45","v":81.599999999999994},{"$f":"BID!N45","v":64.009999999999991},74.563999999999993,{"$f":"BA!K45","v":80.2},{"$f":"BA!N45","v":72.599999999999994},77.16,{"$f":"MTK!K45","v":78.400000000000006},{"$f":"MTK!L45","v":16.649999999999999},53.7,{"$f":"IPA!K45","v":76.8},{"$f":"IPA!N45","v":63.89},71.635999999999996,{"$f":"IPS!K45","v":77.599999999999994},{"$f":"IPS!L45","v":65},72.56,{"$f":"SBK!K45","v":79.400000000000006},{"$f":"SBK!N45","v":72.2},76.52000000000001,{"$f":"PJK!K45","v":79.599999999999994},{"$f":"PJK!N45","v":72.3},76.680000000000007,{"$f":"BD!K45","v":75.599999999999994},{"$f":"BD!N45","v":70.3},73.47999999999999,{"$f":"BIG!K45","v":77.400000000000006},{"$f":"BIG!N45","v":71.2},74.920000000000016,74.876999999999995,74.563999999999993,{"$f":"BID!L45","v":46.42},63.306399999999996,53.7,{"$f":"MTK!L45","v":16.649999999999999},38.879999999999995,71.635999999999996,{"$f":"IPA!L45","v":50.98},63.373599999999996,38.016666666666666,165.56,114.05,81.599999999999994,64.009999999999991,74.563999999999993,78.400000000000006,16.649999999999999,53.7,76.8,63.89,71.635999999999996,null,null,74.563999999999993,46.42,63.306399999999996,53.7,16.649999999999999,38.879999999999995,71.635999999999996,50.98,63.373599999999996,null,null,{"$f":"SISWA!S44","v":"088/MINI.L-Kid/30.02.02/S.1-2/VI/2019"}]
[{"$f":"SISWA!A46","v":39},{"$f":"IF(SISWA!B46=0,\"\",SISWA!B46)","v":4289},{"$f":"IF(SISWA!C46=0,\"\",SISWA!C46)","v":"0065225517"},{"$f":"IF(SISWA!D46=0,\"\",SISWA!D46)","v":"1-18-05-80-162-039-3"},{"$f":"IF(SISWA!E46=0,\"\",SISWA!E46)","v":"NUR FITRIYAH"},{"$f":"IF(SISWA!P46=0,\"\",SISWA!P46)","v":"LUMAJANG, 02 November 2006"},{"$f":"IF(SISWA!H46=0,\"\",SISWA!H46)","v":"SLAMET"},{"$f":"#REF!","v":{"$error":"#REF!"}},{"$f":"#REF!","v":{"$error":"#REF!"}},{"$error":"#REF!"},{"$f":"AA!K46","v":80.599999999999994},{"$f":"AA!N46","v":72.8},77.47999999999999,{"$f":"AH!K46","v":80.599999999999994},{"$f":"AH!N46","v":72.8},77.47999999999999,{"$f":"FQ!K46","v":80.8},{"$f":"FQ!N46","v":72.900000000000006},77.64,{"$f":"SKI!K46","v":78.599999999999994},{"$f":"SKI!N46","v":71.8},75.88,{"$f":"PKn!K46","v":79.400000000000006},{"$f":"PKn!N46","v":65},73.64,{"$f":"BID!K46","v":79.8},{"$f":"BID!N46","v":70.88},76.231999999999999,{"$f":"BA!K46","v":73.8},{"$f":"BA!N46","v":69.400000000000006},72.039999999999992,{"$f":"MTK!K46","v":73.599999999999994},{"$f":"MTK!L46","v":25.65},54.419999999999995,{"$f":"IPA!K46","v":76.400000000000006},{"$f":"IPA!N46","v":62.19},70.716000000000008,{"$f":"IPS!K46","v":77.2},{"$f":"IPS!L46","v":65},72.319999999999993,{"$f":"SBK!K46","v":77.2},{"$f":"SBK!N46","v":71.099999999999994},74.759999999999991,{"$f":"PJK!K46","v":80.599999999999994},{"$f":"PJK!N46","v":72.8},77.47999999999999,{"$f":"BD!K46","v":75.400000000000006},{"$f":"BD!N46","v":70.2},73.320000000000007,{"$f":"BIG!K46","v":76.2},{"$f":"BIG!N46","v":70.599999999999994},73.959999999999994,73.383428571428567,76.231999999999999,{"$f":"BID!L46","v":61.96},70.523200000000003,54.419999999999995,{"$f":"MTK!L46","v":25.65},42.911999999999992,70.716000000000008,{"$f":"IPA!L46","v":47.98},61.621600000000001,45.196666666666665,175.05680000000001,135.59,79.8,70.88,76.231999999999999,73.599999999999994,25.65,54.419999999999995,76.400000000000006,62.19,70.716000000000008,null,null,76.231999999999999,61.96,70.523200000000003,54.419999999999995,25.65,42.911999999999992,70.716000000000008,47.98,61.621600000000001,null,null,{"$f":"SISWA!S45","v":"089/MINI.L-Kid/30.02.02/S.1-2/VI/2019"}]
[{"$f":"SISWA!A47","v":40},{"$f":"IF(SISWA!B47=0,\"\",SISWA!B47)","v":4318},{"$f":"IF(SISWA!C47=0,\"\",SISWA!C47)","v":"0061441364"},{"$f":"IF(SISWA!D47=0,\"\",SISWA!D47)","v":"1-18-05-80-162-040-2"},{"$f":"IF(SISWA!E47=0,\"\",SISWA!E47)","v":"MUHAMMAD HILDAN DWI SAPUTRA"},{"$f":"IF(SISWA!P47=0,\"\",SISWA!P47)","v":"LUMAJANG, 04 Mei 2006"},{"$f":"IF(SISWA!H47=0,\"\",SISWA!H47)","v":"SUDIYO"},{"$f":"#REF!","v":{"$error":"#REF!"}},{"$f":"#REF!","v":{"$error":"#REF!"}},{"$error":"#REF!"},{"$f":"AA!K47","v":74},{"$f":"AA!N47","v":69.5},72.2,{"$f":"AH!K47","v":75.8},{"$f":"AH!N47","v":70.400000000000006},73.64,{"$f":"FQ!K47","v":75.2},{"$f":"FQ!N47","v":70.099999999999994},73.16,{"$f":"SKI!K47","v":75.8},{"$f":"SKI!N47","v":70.400000000000006},73.64,{"$f":"PKn!K47","v":72.599999999999994},{"$f":"PKn!N47","v":65},69.56,{"$f":"BID!K47","v":72},{"$f":"BID!N47","v":61.59},67.835999999999999,{"$f":"BA!K47","v":73},{"$f":"BA!N47","v":69},71.400000000000006,{"$f":"MTK!K47","v":68.8},{"$f":"MTK!L47","v":23.64},50.735999999999997,{"$f":"IPA!K47","v":70},{"$f":"IPA!N47","v":56.995000000000005},64.798000000000002,{"$f":"IPS!K47","v":70.8},{"$f":"IPS!L47","v":65},68.47999999999999,{"$f":"SBK!K47","v":75},{"$f":"SBK!N47","v":70},73,{"$f":"PJK!K47","v":64.599999999999994},{"$f":"PJK!N47","v":64.8},64.680000000000007,{"$f":"BD!K47","v":73.599999999999994},{"$f":"BD!N47","v":69.3},71.88,{"$f":"BIG!K47","v":69.400000000000006},{"$f":"BIG!N47","v":67.2},68.52000000000001,68.823571428571441,67.835999999999999,{"$f":"BID!L47","v":51.18},61.1736,50.735999999999997,{"$f":"MTK!L47","v":23.64},39.897599999999997,64.798000000000002,{"$f":"IPA!L47","v":43.99},56.474800000000002,39.603333333333332,157.54599999999999,118.81,72,61.59,67.835999999999999,68.8,23.64,50.735999999999997,70,56.995000000000005,64.798000000000002,null,null,67.835999999999999,51.18,61.1736,50.735999999999997,23.64,39.897599999999997,64.798000000000002,43.99,56.474800000000002,null,null,{"$f":"SISWA!S46","v":"090/MINI.L-Kid/30.02.02/S.1-2/VI/2019"}]
[{"$f":"SISWA!A48","v":41},{"$f":"IF(SISWA!B48=0,\"\",SISWA!B48)","v":4392},{"$f":"IF(SISWA!C48=0,\"\",SISWA!C48)","v":"0075794532"},{"$f":"IF(SISWA!D48=0,\"\",SISWA!D48)","v":"1-18-05-80-162-041-9"},{"$f":"IF(SISWA!E48=0,\"\",SISWA!E48)","v":"PUTRI NAFI'ATUS SOLIKHAH"},{"$f":"IF(SISWA!P48=0,\"\",SISWA!P48)","v":"LUMAJANG, 24 Februari 2007"},{"$f":"IF(SISWA!H48=0,\"\",SISWA!H48)","v":"KUSNO WIBOWO"},{"$f":"#REF!","v":{"$error":"#REF!"}},{"$f":"#REF!","v":{"$error":"#REF!"}},{"$error":"#REF!"},{"$f":"AA!K48","v":78},{"$f":"AA!N48","v":71.5},75.400000000000006,{"$f":"AH!K48","v":78.8},{"$f":"AH!N48","v":71.900000000000006},76.039999999999992,{"$f":"FQ!K48","v":82.2},{"$f":"FQ!N48","v":73.599999999999994},78.759999999999991,{"$f":"SKI!K48","v":79},{"$f":"SKI!N48","v":72},76.2,{"$f":"PKn!K48","v":78},{"$f":"PKn!N48","v":65},72.8,{"$f":"BID!K48","v":78},{"$f":"BID!N48","v":66.224999999999994},73.289999999999992,{"$f":"BA!K48","v":80.2},{"$f":"BA!N48","v":72.599999999999994},77.16,{"$f":"MTK!K48","v":73.8},{"$f":"MTK!L48","v":32.65},57.339999999999996,{"$f":"IPA!K48","v":73.2},{"$f":"IPA!N48","v":54.615000000000002},65.766000000000005,{"$f":"IPS!K48","v":73.599999999999994},{"$f":"IPS!L48","v":65},70.16,{"$f":"SBK!K48","v":76.599999999999994},{"$f":"SBK!N48","v":70.8},74.28,{"$f":"PJK!K48","v":78.8},{"$f":"PJK!N48","v":71.900000000000006},76.039999999999992,{"$f":"BD!K48","v":75.400000000000006},{"$f":"BD!N48","v":70.2},73.320000000000007,{"$f":"BIG!K48","v":73.2},{"$f":"BIG!N48","v":69.099999999999994},71.56,72.722571428571428,73.289999999999992,{"$f":"BID!L48","v":54.45},65.753999999999991,57.339999999999996,{"$f":"MTK!L48","v":32.65},47.463999999999999,65.766000000000005,{"$f":"IPA!L48","v":36.03},53.871600000000001,41.043333333333329,167.08959999999999,123.13,78,66.224999999999994,73.289999999999992,73.8,32.65,57.339999999999996,73.2,54.615000000000002,65.766000000000005,null,null,73.289999999999992,54.45,65.753999999999991,57.339999999999996,32.65,47.463999999999999,65.766000000000005,36.03,53.871600000000001,null,null,{"$f":"SISWA!S47","v":"091/MINI.L-Kid/30.02.02/S.1-2/VI/2019"}]
[{"$f":"SISWA!A49","v":42},{"$f":"IF(SISWA!B49=0,\"\",SISWA!B49)","v":4284},{"$f":"IF(SISWA!C49=0,\"\",SISWA!C49)","v":"0069578000"},{"$f":"IF(SISWA!D49=0,\"\",SISWA!D49)","v":"1-18-05-80-162-042-8"},{"$f":"IF(SISWA!E49=0,\"\",SISWA!E49)","v":"MUHAMMAD RAYA KAFAF JAUHARI"},{"$f":"IF(SISWA!P49=0,\"\",SISWA!P49)","v":"LUMAJANG, 06 September 2006"},{"$f":"IF(SISWA!H49=0,\"\",SISWA!H49)","v":"WAWAN JAUHARI"},{"$f":"#REF!","v":{"$error":"#REF!"}},{"$f":"#REF!","v":{"$error":"#REF!"}},{"$error":"#REF!"},{"$f":"AA!K49","v":79.8},{"$f":"AA!N49","v":79.900000000000006},79.84,{"$f":"AH!K49","v":78.8},{"$f":"AH!N49","v":71.900000000000006},76.039999999999992,{"$f":"FQ!K49","v":79.8},{"$f":"FQ!N49","v":72.400000000000006},76.84,{"$f":"SKI!K49","v":78.8},{"$f":"SKI!N49","v":71.900000000000006},76.039999999999992,{"$f":"PKn!K49","v":76.8},{"$f":"PKn!N49","v":65},72.08,{"$f":"BID!K49","v":76.599999999999994},{"$f":"BID!N49","v":59.65},69.819999999999993,{"$f":"BA!K49","v":77},{"$f":"BA!N49","v":71},74.599999999999994,{"$f":"MTK!K49","v":75.599999999999994},{"$f":"MTK!L49","v":32.979999999999997},58.551999999999992,{"$f":"IPA!K49","v":75.599999999999994},{"$f":"IPA!N49","v":63.819999999999993},70.887999999999991,{"$f":"IPS!K49","v":76.2},{"$f":"IPS!L49","v":65},71.72,{"$f":"SBK!K49","v":78.400000000000006},{"$f":"SBK!N49","v":71.7},75.72,{"$f":"PJK!K49","v":81.400000000000006},{"$f":"PJK!N49","v":73.2},78.12,{"$f":"BD!K49","v":76.400000000000006},{"$f":"BD!N49","v":70.7},74.12,{"$f":"BIG!K49","v":75},{"$f":"BIG!N49","v":70},73,73.384285714285724,69.819999999999993,{"$f":"BID!L49","v":42.7},58.971999999999994,58.551999999999992,{"$f":"MTK!L49","v":32.979999999999997},48.323199999999993,70.887999999999991,{"$f":"IPA!L49","v":52.04},63.348799999999997,42.573333333333331,170.64400000000001,127.72,76.599999999999994,59.65,69.819999999999993,75.599999999999994,32.979999999999997,58.551999999999992,75.599999999999994,63.819999999999993,70.887999999999991,null,null,69.819999999999993,42.7,58.971999999999994,58.551999999999992,32.979999999999997,48.323199999999993,70.887999999999991,52.04,63.348799999999997,null,null,{"$f":"SISWA!S48","v":"092/MINI.L-Kid/30.02.02/S.1-2/VI/2019"}]
[{"$f":"SISWA!A50","v":43},{"$f":"IF(SISWA!B50=0,\"\",SISWA!B50)","v":4290},{"$f":"IF(SISWA!C50=0,\"\",SISWA!C50)","v":"0063558216"},{"$f":"IF(SISWA!D50=0,\"\",SISWA!D50)","v":"1-18-05-80-162-043-7"},{"$f":"IF(SISWA!E50=0,\"\",SISWA!E50)","v":"QORIATUN SHOLIHAH"},{"$f":"IF(SISWA!P50=0,\"\",SISWA!P50)","v":"LUMAJANG, 04 Mei 2006"},{"$f":"IF(SISWA!H50=0,\"\",SISWA!H50)","v":"HOTIB"},{"$f":"#REF!","v":{"$error":"#REF!"}},{"$f":"#REF!","v":{"$error":"#REF!"}},{"$error":"#REF!"},{"$f":"AA!K50","v":81.8},{"$f":"AA!N50","v":73.400000000000006},78.44,{"$f":"AH!K50","v":80.599999999999994},{"$f":"AH!N50","v":72.8},77.47999999999999,{"$f":"FQ!K50","v":79.2},{"$f":"FQ!N50","v":72.099999999999994},76.36,{"$f":"SKI!K50","v":80.599999999999994},{"$f":"SKI!N50","v":72.8},77.47999999999999,{"$f":"PKn!K50","v":77.400000000000006},{"$f":"PKn!N50","v":65},72.44,{"$f":"BID!K50","v":76},{"$f":"BID!N50","v":69.86},73.544000000000011,{"$f":"BA!K50","v":78.8},{"$f":"BA!N50","v":71.900000000000006},76.039999999999992,{"$f":"MTK!K50","v":74.599999999999994},{"$f":"MTK!L50","v":32.65},57.82,{"$f":"IPA!K50","v":78},{"$f":"IPA!N50","v":57.995000000000005},69.998000000000005,{"$f":"IPS!K50","v":78.599999999999994},{"$f":"IPS!L50","v":68},74.36,{"$f":"SBK!K50","v":77.8},{"$f":"SBK!N50","v":71.400000000000006},75.240000000000009,{"$f":"PJK!K50","v":81},{"$f":"PJK!N50","v":73},77.800000000000011,{"$f":"BD!K50","v":76.400000000000006},{"$f":"BD!N50","v":70.7},74.12,{"$f":"BIG!K50","v":71.599999999999994},{"$f":"BIG!N50","v":68.3},70.28,73.671571428571454,73.544000000000011,{"$f":"BID!L50","v":63.72},69.614400000000003,57.82,{"$f":"MTK!L50","v":32.65},47.752000000000002,69.998000000000005,{"$f":"IPA!L50","v":37.99},57.194800000000001,44.786666666666669,174.56119999999999,134.36000000000001,76,69.86,73.544000000000011,74.599999999999994,32.65,57.82,78,57.995000000000005,69.998000000000005,null,null,73.544000000000011,63.72,69.614400000000003,57.82,32.65,47.752000000000002,69.998000000000005,37.99,57.194800000000001,null,null,{"$f":"SISWA!S49","v":"093/MINI.L-Kid/30.02.02/S.1-2/VI/2019"}]
[{"$f":"SISWA!A51","v":44},{"$f":"IF(SISWA!B51=0,\"\",SISWA!B51)","v":4319},{"$f":"IF(SISWA!C51=0,\"\",SISWA!C51)","v":"0065329770"},{"$f":"IF(SISWA!D51=0,\"\",SISWA!D51)","v":"1-18-05-80-162-044-6"},{"$f":"IF(SISWA!E51=0,\"\",SISWA!E51)","v":"MUHAMMAD RUDI TANTOWIK"},{"$f":"IF(SISWA!P51=0,\"\",SISWA!P51)","v":"LUMAJANG, 09 September 2006"},{"$f":"IF(SISWA!H51=0,\"\",SISWA!H51)","v":"MUHAMMAD SOLEH"},{"$f":"#REF!","v":{"$error":"#REF!"}},{"$f":"#REF!","v":{"$error":"#REF!"}},{"$error":"#REF!"},{"$f":"AA!K51","v":70.2},{"$f":"AA!N51","v":67.599999999999994},69.16,{"$f":"AH!K51","v":71.599999999999994},{"$f":"AH!N51","v":68.3},70.28,{"$f":"FQ!K51","v":72.2},{"$f":"FQ!N51","v":68.599999999999994},70.759999999999991,{"$f":"SKI!K51","v":72.400000000000006},{"$f":"SKI!N51","v":68.7},70.920000000000016,{"$f":"PKn!K51","v":72.599999999999994},{"$f":"PKn!N51","v":72},72.36,{"$f":"BID!K51","v":70.400000000000006},{"$f":"BID!N51","v":49.125},61.89,{"$f":"BA!K51","v":71.8},{"$f":"BA!N51","v":68.400000000000006},70.44,{"$f":"MTK!K51","v":75.2},{"$f":"MTK!L51","v":30.64},57.375999999999998,{"$f":"IPA!K51","v":70.400000000000006},{"$f":"IPA!N51","v":61.185000000000002},66.713999999999999,{"$f":"IPS!K51","v":70},{"$f":"IPS!L51","v":77},72.8,{"$f":"SBK!K51","v":72},{"$f":"SBK!N51","v":78},74.400000000000006,{"$f":"PJK!K51","v":79},{"$f":"PJK!N51","v":82.5},80.400000000000006,{"$f":"BD!K51","v":68.8},{"$f":"BD!N51","v":66.900000000000006},68.039999999999992,{"$f":"BIG!K51","v":71.599999999999994},{"$f":"BIG!N51","v":77.8},74.08,69.972857142857137,61.89,{"$f":"BID!L51","v":27.85},48.274000000000001,57.375999999999998,{"$f":"MTK!L51","v":30.64},46.681599999999996,66.713999999999999,{"$f":"IPA!L51","v":51.97},60.816400000000002,36.82,155.77199999999999,110.46000000000001,70.400000000000006,49.125,61.89,75.2,30.64,57.375999999999998,70.400000000000006,61.185000000000002,66.713999999999999,null,null,61.89,27.85,48.274000000000001,57.375999999999998,30.64,46.681599999999996,66.713999999999999,51.97,60.816400000000002,null,null,{"$f":"SISWA!S50","v":"094/MINI.L-Kid/30.02.02/S.1-2/VI/2019"}]
[{"$f":"SISWA!A52","v":45},{"$f":"IF(SISWA!B52=0,\"\",SISWA!B52)","v":4291},{"$f":"IF(SISWA!C52=0,\"\",SISWA!C52)","v":"0067071679"},{"$f":"IF(SISWA!D52=0,\"\",SISWA!D52)","v":"1-18-05-80-162-045-5"},{"$f":"IF(SISWA!E52=0,\"\",SISWA!E52)","v":"RACHMAD HIDAYAT"},{"$f":"IF(SISWA!P52=0,\"\",SISWA!P52)","v":"LUMAJANG, 27 Agustus 2006"},{"$f":"IF(SISWA!H52=0,\"\",SISWA!H52)","v":"MASDUKI"},{"$f":"#REF!","v":{"$error":"#REF!"}},{"$f":"#REF!","v":{"$error":"#REF!"}},{"$error":"#REF!"},{"$f":"AA!K52","v":76.2},{"$f":"AA!N52","v":78.099999999999994},76.959999999999994,{"$f":"AH!K52","v":77.599999999999994},{"$f":"AH!N52","v":71.3},75.08,{"$f":"FQ!K52","v":77.2},{"$f":"FQ!N52","v":71.099999999999994},74.759999999999991,{"$f":"SKI!K52","v":75},{"$f":"SKI!N52","v":74.545000000000002},74.817999999999998,{"$f":"PKn!K52","v":74.599999999999994},{"$f":"PKn!N52","v":72},73.56,{"$f":"BID!K52","v":74.400000000000006},{"$f":"BID!N52","v":57.645000000000003},67.698000000000008,{"$f":"BA!K52","v":73.599999999999994},{"$f":"BA!N52","v":69.3},71.88,{"$f":"MTK!K52","v":75.2},{"$f":"MTK!L52","v":25.98},55.512,{"$f":"IPA!K52","v":76.400000000000006},{"$f":"IPA!N52","v":53.675000000000004},67.31,{"$f":"IPS!K52","v":76.2},{"$f":"IPS!L52","v":72},74.52,{"$f":"SBK!K52","v":77},{"$f":"SBK!N52","v":71},74.599999999999994,{"$f":"PJK!K52","v":82.2},{"$f":"PJK!N52","v":73.599999999999994},78.759999999999991,{"$f":"BD!K52","v":76},{"$f":"BD!N52","v":70.5},73.800000000000011,{"$f":"BIG!K52","v":67.599999999999994},{"$f":"BIG!N52","v":73.8},70.08,72.095571428571432,67.698000000000008,{"$f":"BID!L52","v":40.89},56.974800000000002,55.512,{"$f":"MTK!L52","v":25.98},43.699200000000005,67.31,{"$f":"IPA!L52","v":30.95},52.766000000000005,32.606666666666669,153.44,97.820000000000007,74.400000000000006,57.645000000000003,67.698000000000008,75.2,25.98,55.512,76.400000000000006,53.675000000000004,67.31,null,null,67.698000000000008,40.89,56.974800000000002,55.512,25.98,43.699200000000005,67.31,30.95,52.766000000000005,null,null,{"$f":"SISWA!S51","v":"095/MINI.L-Kid/30.02.02/S.1-2/VI/2019"}]
[{"$f":"SISWA!A53","v":46},{"$f":"IF(SISWA!B53=0,\"\",SISWA!B53)","v":4322},{"$f":"IF(SISWA!C53=0,\"\",SISWA!C53)","v":"0051101989"},{"$f":"IF(SISWA!D53=0,\"\",SISWA!D53)","v":"1-18-05-80-162-046-4"},{"$f":"IF(SISWA!E53=0,\"\",SISWA!E53)","v":"MUHAMMAD ZULDIENUR HABIBIE"},{"$f":"IF(SISWA!P53=0,\"\",SISWA!P53)","v":"LUMAJANG, 30 November 2005"},{"$f":"IF(SISWA!H53=0,\"\",SISWA!H53)","v":"MA'LUM (Alm)"},{"$f":"#REF!","v":{"$error":"#REF!"}},{"$f":"#REF!","v":{"$error":"#REF!"}},{"$error":"#REF!"},{"$f":"AA!K53","v":71},{"$f":"AA!N53","v":78.5},74,{"$f":"AH!K53","v":71.400000000000006},{"$f":"AH!N53","v":68.2},70.12,{"$f":"FQ!K53","v":70.599999999999994},{"$f":"FQ!N53","v":67.8},69.47999999999999,{"$f":"SKI!K53","v":73.8},{"$f":"SKI!N53","v":70.805000000000007},72.602000000000004,{"$f":"PKn!K53","v":70.8},{"$f":"PKn!N53","v":70},70.47999999999999,{"$f":"BID!K53","v":69.400000000000006},{"$f":"BID!N53","v":55.405000000000001},63.802000000000007,{"$f":"BA!K53","v":72.400000000000006},{"$f":"BA!N53","v":68.7},70.920000000000016,{"$f":"MTK!K53","v":68.2},{"$f":"MTK!L53","v":23.32},50.248000000000005,{"$f":"IPA!K53","v":68.400000000000006},{"$f":"IPA!N53","v":45.685000000000002},59.314,{"$f":"IPS!K53","v":70},{"$f":"IPS!L53","v":77},72.8,{"$f":"SBK!K53","v":73.2},{"$f":"SBK!N53","v":69.099999999999994},71.56,{"$f":"PJK!K53","v":77.400000000000006},{"$f":"PJK!N53","v":71.2},74.920000000000016,{"$f":"BD!K53","v":70},{"$f":"BD!N53","v":67.5},69,{"$f":"BIG!K53","v":67},{"$f":"BIG!N53","v":75.5},70.400000000000006,68.546142857142868,63.802000000000007,{"$f":"BID!L53","v":41.41},54.845200000000006,50.248000000000005,{"$f":"MTK!L53","v":23.32},39.476800000000004,59.314,{"$f":"IPA!L53","v":22.97},44.776400000000002,29.233333333333331,139.0984,87.699999999999989,69.400000000000006,55.405000000000001,63.802000000000007,68.2,23.32,50.248000000000005,68.400000000000006,45.685000000000002,59.314,null,null,63.802000000000007,41.41,54.845200000000006,50.248000000000005,23.32,39.476800000000004,59.314,22.97,44.776400000000002,null,null,{"$f":"SISWA!S52","v":"096/MINI.L-Kid/30.02.02/S.1-2/VI/2019"}]
[{"$f":"SISWA!A54","v":47},{"$f":"IF(SISWA!B54=0,\"\",SISWA!B54)","v":4292},{"$f":"IF(SISWA!C54=0,\"\",SISWA!C54)","v":"0072001696"},{"$f":"IF(SISWA!D54=0,\"\",SISWA!D54)","v":"1-18-05-80-162-047-3"},{"$f":"IF(SISWA!E54=0,\"\",SISWA!E54)","v":"RHEA RAYSHANADA NUGRAHA"},{"$f":"IF(SISWA!P54=0,\"\",SISWA!P54)","v":"SURABAYA, 06 Februari 2007"},{"$f":"IF(SISWA!H54=0,\"\",SISWA!H54)","v":"DANANG ARI NUGROHO"},{"$f":"#REF!","v":{"$error":"#REF!"}},{"$f":"#REF!","v":{"$error":"#REF!"}},{"$error":"#REF!"},{"$f":"AA!K54","v":82},{"$f":"AA!N54","v":76.5},79.8,{"$f":"AH!K54","v":84.2},{"$f":"AH!N54","v":74.599999999999994},80.36,{"$f":"FQ!K54","v":80.599999999999994},{"$f":"FQ!N54","v":72.8},77.47999999999999,{"$f":"SKI!K54","v":82.6},{"$f":"SKI!N54","v":83.65},83.02,{"$f":"PKn!K54","v":78.400000000000006},{"$f":"PKn!N54","v":65},73.039999999999992,{"$f":"BID!K54","v":76.8},{"$f":"BID!N54","v":72.765000000000001},75.186000000000007,{"$f":"BA!K54","v":77.2},{"$f":"BA!N54","v":71.099999999999994},74.759999999999991,{"$f":"MTK!K54","v":77.8},{"$f":"MTK!L54","v":39.65},62.54,{"$f":"IPA!K54","v":78.8},{"$f":"IPA!N54","v":64.38},73.031999999999996,{"$f":"IPS!K54","v":78.8},{"$f":"IPS!L54","v":65},73.28,{"$f":"SBK!K54","v":79},{"$f":"SBK!N54","v":72},76.2,{"$f":"PJK!K54","v":83},{"$f":"PJK!N54","v":74},79.400000000000006,{"$f":"BD!K54","v":77},{"$f":"BD!N54","v":71},74.599999999999994,{"$f":"BIG!K54","v":75.8},{"$f":"BIG!N54","v":70.400000000000006},73.64,75.452714285714279,75.186000000000007,{"$f":"BID!L54","v":68.73},72.6036,62.54,{"$f":"MTK!L54","v":39.65},53.384,73.031999999999996,{"$f":"IPA!L54","v":49.96},63.803199999999997,52.78,189.79079999999999,158.34,76.8,72.765000000000001,75.186000000000007,77.8,39.65,62.54,78.8,64.38,73.031999999999996,null,null,75.186000000000007,68.73,72.6036,62.54,39.65,53.384,73.031999999999996,49.96,63.803199999999997,null,null,{"$f":"SISWA!S53","v":"097/MINI.L-Kid/30.02.02/S.1-2/VI/2019"}]
[{"$f":"SISWA!A55","v":48},{"$f":"IF(SISWA!B55=0,\"\",SISWA!B55)","v":4323},{"$f":"IF(SISWA!C55=0,\"\",SISWA!C55)","v":"0078949167"},{"$f":"IF(SISWA!D55=0,\"\",SISWA!D55)","v":"1-18-05-80-162-048-2"},{"$f":"IF(SISWA!E55=0,\"\",SISWA!E55)","v":"MUKHAMAD KHOIRUL AMIN"},{"$f":"IF(SISWA!P55=0,\"\",SISWA!P55)","v":"LUMAJANG, 02 Mei 2007"},{"$f":"IF(SISWA!H55=0,\"\",SISWA!H55)","v":"SUPIYANTO"},{"$f":"#REF!","v":{"$error":"#REF!"}},{"$f":"#REF!","v":{"$error":"#REF!"}},{"$error":"#REF!"},{"$f":"AA!K55","v":73.599999999999994},{"$f":"AA!N55","v":69.3},71.88,{"$f":"AH!K55","v":74},{"$f":"AH!N55","v":69.5},72.2,{"$f":"FQ!K55","v":71.8},{"$f":"FQ!N55","v":68.400000000000006},70.44,{"$f":"SKI!K55","v":74},{"$f":"SKI!N55","v":69.5},72.2,{"$f":"PKn!K55","v":72.400000000000006},{"$f":"PKn!N55","v":65},69.44,{"$f":"BID!K55","v":70},{"$f":"BID!N55","v":52.185000000000002},62.874000000000002,{"$f":"BA!K55","v":73.400000000000006},{"$f":"BA!N55","v":69.2},71.72,{"$f":"MTK!K55","v":70},{"$f":"MTK!L55","v":32.65},55.06,{"$f":"IPA!K55","v":72.2},{"$f":"IPA!N55","v":57.585000000000001},66.353999999999999,{"$f":"IPS!K55","v":72.400000000000006},{"$f":"IPS!L55","v":68},70.640000000000015,{"$f":"SBK!K55","v":73.8},{"$f":"SBK!N55","v":69.400000000000006},72.039999999999992,{"$f":"PJK!K55","v":78},{"$f":"PJK!N55","v":71.5},75.400000000000006,{"$f":"BD!K55","v":70.2},{"$f":"BD!N55","v":67.599999999999994},69.16,{"$f":"BIG!K55","v":71.2},{"$f":"BIG!N55","v":74.099999999999994},72.36,69.412000000000006,62.874000000000002,{"$f":"BID!L55","v":34.369999999999997},51.4724,55.06,{"$f":"MTK!L55","v":32.65},46.096000000000004,66.353999999999999,{"$f":"IPA!L55","v":42.97},57.000399999999999,36.663333333333334,154.56880000000001,109.99,70,52.185000000000002,62.874000000000002,70,32.65,55.06,72.2,57.585000000000001,66.353999999999999,null,null,62.874000000000002,34.369999999999997,51.4724,55.06,32.65,46.096000000000004,66.353999999999999,42.97,57.000399999999999,null,null,{"$f":"SISWA!S54","v":"098/MINI.L-Kid/30.02.02/S.1-2/VI/2019"}]
[{"$f":"SISWA!A56","v":49},{"$f":"IF(SISWA!B56=0,\"\",SISWA!B56)","v":4293},{"$f":"IF(SISWA!C56=0,\"\",SISWA!C56)","v":"0064217705"},{"$f":"IF(SISWA!D56=0,\"\",SISWA!D56)","v":"1-18-05-80-162-049-9"},{"$f":"IF(SISWA!E56=0,\"\",SISWA!E56)","v":"RIYANTI APRILIA"},{"$f":"IF(SISWA!P56=0,\"\",SISWA!P56)","v":"LUMAJANG, 26 April 2006"},{"$f":"IF(SISWA!H56=0,\"\",SISWA!H56)","v":"M KHODIRIN"},{"$f":"#REF!","v":{"$error":"#REF!"}},{"$f":"#REF!","v":{"$error":"#REF!"}},{"$error":"#REF!"},{"$f":"AA!K56","v":82.8},{"$f":"AA!N56","v":73.900000000000006},79.240000000000009,{"$f":"AH!K56","v":82.2},{"$f":"AH!N56","v":73.599999999999994},78.759999999999991,{"$f":"FQ!K56","v":83.2},{"$f":"FQ!N56","v":74.099999999999994},79.56,{"$f":"SKI!K56","v":79.599999999999994},{"$f":"SKI!N56","v":72.3},76.680000000000007,{"$f":"PKn!K56","v":78.400000000000006},{"$f":"PKn!N56","v":65},73.039999999999992,{"$f":"BID!K56","v":78.2},{"$f":"BID!N56","v":65.680000000000007},73.192000000000007,{"$f":"BA!K56","v":79.400000000000006},{"$f":"BA!N56","v":72.2},76.52000000000001,{"$f":"MTK!K56","v":75.400000000000006},{"$f":"MTK!L56","v":34},58.84,{"$f":"IPA!K56","v":78},{"$f":"IPA!N56","v":54.984999999999999},68.793999999999997,{"$f":"IPS!K56","v":77},{"$f":"IPS!L56","v":65},72.199999999999989,{"$f":"SBK!K56","v":80.400000000000006},{"$f":"SBK!N56","v":72.7},77.320000000000007,{"$f":"PJK!K56","v":80.8},{"$f":"PJK!N56","v":72.900000000000006},77.64,{"$f":"BD!K56","v":78},{"$f":"BD!N56","v":71.5},75.400000000000006,{"$f":"BIG!K56","v":77.400000000000006},{"$f":"BIG!N56","v":71.2},74.920000000000016,74.436142857142855,73.192000000000007,{"$f":"BID!L56","v":53.16},65.179200000000009,58.84,{"$f":"MTK!L56","v":34},48.904000000000003,68.793999999999997,{"$f":"IPA!L56","v":31.97},54.064399999999992,39.71,168.14760000000001,119.13,78.2,65.680000000000007,73.192000000000007,75.400000000000006,34,58.84,78,54.984999999999999,68.793999999999997,null,null,73.192000000000007,53.16,65.179200000000009,58.84,34,48.904000000000003,68.793999999999997,31.97,54.064399999999992,null,null,{"$f":"SISWA!S55","v":"099/MINI.L-Kid/30.02.02/S.1-2/VI/2019"}]
[{"$f":"SISWA!A57","v":50},{"$f":"IF(SISWA!B57=0,\"\",SISWA!B57)","v":"4256"},{"$f":"IF(SISWA!C57=0,\"\",SISWA!C57)","v":"0065699742"},{"$f":"IF(SISWA!D57=0,\"\",SISWA!D57)","v":"1-18-05-80-162-050-8"},{"$f":"IF(SISWA!E57=0,\"\",SISWA!E57)","v":"MUKHAMMAD YAASIIN HASAN KHASBULLOH"},{"$f":"IF(SISWA!P57=0,\"\",SISWA!P57)","v":"LUMAJANG, 19 Januari 2006"},{"$f":"IF(SISWA!H57=0,\"\",SISWA!H57)","v":"SAMSUHAR"},{"$f":"#REF!","v":{"$error":"#REF!"}},{"$f":"#REF!","v":{"$error":"#REF!"}},{"$error":"#REF!"},{"$f":"AA!K57","v":75.599999999999994},{"$f":"AA!N57","v":73.3},74.679999999999993,{"$f":"AH!K57","v":74},{"$f":"AH!N57","v":72.405000000000001},73.361999999999995,{"$f":"FQ!K57","v":77.2},{"$f":"FQ!N57","v":71.099999999999994},74.759999999999991,{"$f":"SKI!K57","v":77.599999999999994},{"$f":"SKI!N57","v":71.3},75.08,{"$f":"PKn!K57","v":74.599999999999994},{"$f":"PKn!N57","v":70},72.759999999999991,{"$f":"BID!K57","v":73.599999999999994},{"$f":"BID!N57","v":62.265000000000001},69.066000000000003,{"$f":"BA!K57","v":76.400000000000006},{"$f":"BA!N57","v":70.7},74.12,{"$f":"MTK!K57","v":74.8},{"$f":"MTK!L57","v":25.98},55.271999999999998,{"$f":"IPA!K57","v":75.2},{"$f":"IPA!N57","v":55.105000000000004},67.162000000000006,{"$f":"IPS!K57","v":73.8},{"$f":"IPS!L57","v":65},70.28,{"$f":"SBK!K57","v":75.2},{"$f":"SBK!N57","v":70.099999999999994},73.16,{"$f":"PJK!K57","v":78.8},{"$f":"PJK!N57","v":71.900000000000006},76.039999999999992,{"$f":"BD!K57","v":71.400000000000006},{"$f":"BD!N57","v":68.2},70.12,{"$f":"BIG!K57","v":73.400000000000006},{"$f":"BIG!N57","v":76.2},74.52000000000001,71.455857142857141,69.066000000000003,{"$f":"BID!L57","v":50.93},61.811599999999999,55.271999999999998,{"$f":"MTK!L57","v":25.98},43.555199999999999,67.162000000000006,{"$f":"IPA!L57","v":35.01},54.301200000000001,37.306666666666665,159.66800000000001,111.91999999999999,73.599999999999994,62.265000000000001,69.066000000000003,74.8,25.98,55.271999999999998,75.2,55.105000000000004,67.162000000000006,null,null,69.066000000000003,50.93,61.811599999999999,55.271999999999998,25.98,43.555199999999999,67.162000000000006,35.01,54.301200000000001,null,null,{"$f":"SISWA!S56","v":"100/MINI.L-Kid/30.02.02/S.1-2/VI/2019"}]
[{"$f":"SISWA!A58","v":51},{"$f":"IF(SISWA!B58=0,\"\",SISWA!B58)","v":4295},{"$f":"IF(SISWA!C58=0,\"\",SISWA!C58)","v":"0061359184"},{"$f":"IF(SISWA!D58=0,\"\",SISWA!D58)","v":"1-18-05-80-162-051-7"},{"$f":"IF(SISWA!E58=0,\"\",SISWA!E58)","v":"SHONIA AULIA AS'AD"},{"$f":"IF(SISWA!P58=0,\"\",SISWA!P58)","v":"LUMAJANG, 01 September 2006"},{"$f":"IF(SISWA!H58=0,\"\",SISWA!H58)","v":"ABU ANCAR"},{"$f":"#REF!","v":{"$error":"#REF!"}},{"$f":"#REF!","v":{"$error":"#REF!"}},{"$error":"#REF!"},{"$f":"AA!K58","v":88.4},{"$f":"AA!N58","v":76.7},83.72,{"$f":"AH!K58","v":89},{"$f":"AH!N58","v":77},84.2,{"$f":"FQ!K58","v":87.6},{"$f":"FQ!N58","v":76.3},83.08,{"$f":"SKI!K58","v":90},{"$f":"SKI!N58","v":77.5},85,{"$f":"PKn!K58","v":85},{"$f":"PKn!N58","v":65},77,{"$f":"BID!K58","v":82.6},{"$f":"BID!N58","v":87.11},84.403999999999996,{"$f":"BA!K58","v":86},{"$f":"BA!N58","v":75.5},81.800000000000011,{"$f":"MTK!K58","v":83.2},{"$f":"MTK!L58","v":69.66},77.784000000000006,{"$f":"IPA!K58","v":84.6},{"$f":"IPA!N58","v":80.8},83.08,{"$f":"IPS!K58","v":85},{"$f":"IPS!L58","v":65},77,{"$f":"SBK!K58","v":83.8},{"$f":"SBK!N58","v":74.400000000000006},80.039999999999992,{"$f":"PJK!K58","v":81.400000000000006},{"$f":"PJK!N58","v":73.2},78.12,{"$f":"BD!K58","v":82.6},{"$f":"BD!N58","v":73.8},79.08,{"$f":"BIG!K58","v":77.2},{"$f":"BIG!N58","v":74.599999999999994},76.16,80.747714285714295,84.403999999999996,{"$f":"BID!L58","v":91.62},87.290400000000005,77.784000000000006,{"$f":"MTK!L58","v":69.66},74.534400000000005,83.08,{"$f":"IPA!L58","v":77},80.647999999999996,79.426666666666662,242.47280000000001,238.28,82.6,87.11,84.403999999999996,83.2,69.66,77.784000000000006,84.6,80.8,83.08,null,null,84.403999999999996,91.62,87.290400000000005,77.784000000000006,69.66,74.534400000000005,83.08,77,80.647999999999996,null,null,{"$f":"SISWA!S57","v":"101/MINI.L-Kid/30.02.02/S.1-2/VI/2019"}]
[{"$f":"SISWA!A59","v":52},{"$f":"IF(SISWA!B59=0,\"\",SISWA!B59)","v":4294},{"$f":"IF(SISWA!C59=0,\"\",SISWA!C59)","v":"0064723905"},{"$f":"IF(SISWA!D59=0,\"\",SISWA!D59)","v":"1-18-05-80-162-052-6"},{"$f":"IF(SISWA!E59=0,\"\",SISWA!E59)","v":"RIZKA AYU WULANDARI"},{"$f":"IF(SISWA!P59=0,\"\",SISWA!P59)","v":"BANYUWANGI, 23 Mei 2006"},{"$f":"IF(SISWA!H59=0,\"\",SISWA!H59)","v":"HARIYONO"},{"$f":"#REF!","v":{"$error":"#REF!"}},{"$f":"#REF!","v":{"$error":"#REF!"}},{"$error":"#REF!"},{"$f":"AA!K59","v":78},{"$f":"AA!N59","v":76},77.2,{"$f":"AH!K59","v":78},{"$f":"AH!N59","v":71.5},75.400000000000006,{"$f":"FQ!K59","v":76.8},{"$f":"FQ!N59","v":70.900000000000006},74.44,{"$f":"SKI!K59","v":76},{"$f":"SKI!N59","v":71.844999999999999},74.337999999999994,{"$f":"PKn!K59","v":77},{"$f":"PKn!N59","v":74},75.8,{"$f":"BID!K59","v":73.599999999999994},{"$f":"BID!N59","v":63.144999999999996},69.417999999999992,{"$f":"BA!K59","v":74.400000000000006},{"$f":"BA!N59","v":69.7},72.52000000000001,{"$f":"MTK!K59","v":72.2},{"$f":"MTK!L59","v":32.65},56.38,{"$f":"IPA!K59","v":74.8},{"$f":"IPA!N59","v":52.875},66.03,{"$f":"IPS!K59","v":75.599999999999994},{"$f":"IPS!L59","v":76},75.759999999999991,{"$f":"SBK!K59","v":76.8},{"$f":"SBK!N59","v":70.900000000000006},74.44,{"$f":"PJK!K59","v":80.599999999999994},{"$f":"PJK!N59","v":72.8},77.47999999999999,{"$f":"BD!K59","v":74},{"$f":"BD!N59","v":69.5},72.2,{"$f":"BIG!K59","v":71},{"$f":"BIG!N59","v":72.5},71.599999999999994,72.357571428571447,69.417999999999992,{"$f":"BID!L59","v":52.69},62.726799999999997,56.38,{"$f":"MTK!L59","v":32.65},46.888000000000005,66.03,{"$f":"IPA!L59","v":30.95},51.998000000000005,38.763333333333335,161.61279999999999,116.29,73.599999999999994,63.144999999999996,69.417999999999992,72.2,32.65,56.38,74.8,52.875,66.03,null,null,69.417999999999992,52.69,62.726799999999997,56.38,32.65,46.888000000000005,66.03,30.95,51.998000000000005,null,null,{"$f":"SISWA!S58","v":"102/MINI.L-Kid/30.02.02/S.1-2/VI/2019"}]
[{"$f":"SISWA!A60","v":53},{"$f":"IF(SISWA!B60=0,\"\",SISWA!B60)","v":4298},{"$f":"IF(SISWA!C60=0,\"\",SISWA!C60)","v":"0065530554"},{"$f":"IF(SISWA!D60=0,\"\",SISWA!D60)","v":"1-18-05-80-162-053-5"},{"$f":"IF(SISWA!E60=0,\"\",SISWA!E60)","v":"VERLINA DWI MAULANI"},{"$f":"IF(SISWA!P60=0,\"\",SISWA!P60)","v":"LUMAJANG, 22 April 2006"},{"$f":"IF(SISWA!H60=0,\"\",SISWA!H60)","v":"MUCHAMMAD KHOIDIN"},{"$f":"#REF!","v":{"$error":"#REF!"}},{"$f":"#REF!","v":{"$error":"#REF!"}},{"$error":"#REF!"},{"$f":"AA!K60","v":81},{"$f":"AA!N60","v":73},77.800000000000011,{"$f":"AH!K60","v":80.8},{"$f":"AH!N60","v":72.900000000000006},77.64,{"$f":"FQ!K60","v":81},{"$f":"FQ!N60","v":73},77.800000000000011,{"$f":"SKI!K60","v":80.2},{"$f":"SKI!N60","v":72.599999999999994},77.16,{"$f":"PKn!K60","v":77.8},{"$f":"PKn!N60","v":79},78.28,{"$f":"BID!K60","v":77.599999999999994},{"$f":"BID!N60","v":64.265000000000001},72.265999999999991,{"$f":"BA!K60","v":78.2},{"$f":"BA!N60","v":71.599999999999994},75.56,{"$f":"MTK!K60","v":75.599999999999994},{"$f":"MTK!L60","v":23.64},54.815999999999995,{"$f":"IPA!K60","v":78.400000000000006},{"$f":"IPA!N60","v":55.69},69.316000000000003,{"$f":"IPS!K60","v":79.2},{"$f":"IPS!L60","v":76},77.92,{"$f":"SBK!K60","v":78.599999999999994},{"$f":"SBK!N60","v":71.8},75.88,{"$f":"PJK!K60","v":82.4},{"$f":"PJK!N60","v":73.7},78.920000000000016,{"$f":"BD!K60","v":75.400000000000006},{"$f":"BD!N60","v":70.2},73.320000000000007,{"$f":"BIG!K60","v":71},{"$f":"BIG!N60","v":70.5},70.800000000000011,74.105571428571437,72.265999999999991,{"$f":"BID!L60","v":50.93},63.731599999999993,54.815999999999995,{"$f":"MTK!L60","v":23.64},42.345599999999997,69.316000000000003,{"$f":"IPA!L60","v":32.979999999999997},54.781599999999997,35.849999999999994,160.85879999999997,107.54999999999998,77.599999999999994,64.265000000000001,72.265999999999991,75.599999999999994,23.64,54.815999999999995,78.400000000000006,55.69,69.316000000000003,null,null,72.265999999999991,50.93,63.731599999999993,54.815999999999995,23.64,42.345599999999997,69.316000000000003,32.979999999999997,54.781599999999997,null,null,{"$f":"SISWA!S59","v":"103/MINI.L-Kid/30.02.02/S.1-2/VI/2019"}]
[{"$f":"SISWA!A61","v":54},{"$f":"IF(SISWA!B61=0,\"\",SISWA!B61)","v":4297},{"$f":"IF(SISWA!C61=0,\"\",SISWA!C61)","v":"0063846732"},{"$f":"IF(SISWA!D61=0,\"\",SISWA!D61)","v":"1-18-05-80-162-054-4"},{"$f":"IF(SISWA!E61=0,\"\",SISWA!E61)","v":"USWATUN KHASANAH"},{"$f":"IF(SISWA!P61=0,\"\",SISWA!P61)","v":"LUMAJANG, 19 Desember 2006"},{"$f":"IF(SISWA!H61=0,\"\",SISWA!H61)","v":"GATOT"},{"$f":"#REF!","v":{"$error":"#REF!"}},{"$f":"#REF!","v":{"$error":"#REF!"}},{"$error":"#REF!"},{"$f":"AA!K61","v":75.599999999999994},{"$f":"AA!N61","v":70.3},73.47999999999999,{"$f":"AH!K61","v":77.8},{"$f":"AH!N61","v":71.400000000000006},75.240000000000009,{"$f":"FQ!K61","v":76.8},{"$f":"FQ!N61","v":70.900000000000006},74.44,{"$f":"SKI!K61","v":76.8},{"$f":"SKI!N61","v":87.055000000000007},80.902000000000001,{"$f":"PKn!K61","v":76.2},{"$f":"PKn!N61","v":84},79.319999999999993,{"$f":"BID!K61","v":74.400000000000006},{"$f":"BID!N61","v":67.165000000000006},71.506,{"$f":"BA!K61","v":75.2},{"$f":"BA!N61","v":70.099999999999994},73.16,{"$f":"MTK!K61","v":71},{"$f":"MTK!L61","v":25.98},52.992000000000004,{"$f":"IPA!K61","v":72.599999999999994},{"$f":"IPA!N61","v":56.31},66.084000000000003,{"$f":"IPS!K61","v":73.8},{"$f":"IPS!L61","v":65},70.28,{"$f":"SBK!K61","v":77},{"$f":"SBK!N61","v":71},74.599999999999994,{"$f":"PJK!K61","v":79.8},{"$f":"PJK!N61","v":72.400000000000006},76.84,{"$f":"BD!K61","v":73.2},{"$f":"BD!N61","v":69.099999999999994},71.56,{"$f":"BIG!K61","v":71.8},{"$f":"BIG!N61","v":70.900000000000006},71.44,72.274571428571434,71.506,{"$f":"BID!L61","v":59.93},66.875599999999991,52.992000000000004,{"$f":"MTK!L61","v":25.98},42.187200000000004,66.084000000000003,{"$f":"IPA!L61","v":40.020000000000003},55.6584,41.976666666666667,164.72120000000001,125.93,74.400000000000006,67.165000000000006,71.506,71,25.98,52.992000000000004,72.599999999999994,56.31,66.084000000000003,null,null,71.506,59.93,66.875599999999991,52.992000000000004,25.98,42.187200000000004,66.084000000000003,40.020000000000003,55.6584,null,null,{"$f":"SISWA!S60","v":"104/MINI.L-Kid/30.02.02/S.1-2/VI/2019"}]
[{"$f":"SISWA!A62","v":55},{"$f":"IF(SISWA!B62=0,\"\",SISWA!B62)","v":4324},{"$f":"IF(SISWA!C62=0,\"\",SISWA!C62)","v":"0078966795"},{"$f":"IF(SISWA!D62=0,\"\",SISWA!D62)","v":"1-18-05-80-162-055-3"},{"$f":"IF(SISWA!E62=0,\"\",SISWA!E62)","v":"VIKA KUSUMA WATI"},{"$f":"IF(SISWA!P62=0,\"\",SISWA!P62)","v":"LUMAJANG, 03 Mei 2007"},{"$f":"IF(SISWA!H62=0,\"\",SISWA!H62)","v":"SELAMET EFENDI"},{"$f":"#REF!","v":{"$error":"#REF!"}},{"$f":"#REF!","v":{"$error":"#REF!"}},{"$error":"#REF!"},{"$f":"AA!K62","v":77.2},{"$f":"AA!N62","v":71.099999999999994},74.759999999999991,{"$f":"AH!K62","v":78.400000000000006},{"$f":"AH!N62","v":71.7},75.72,{"$f":"FQ!K62","v":81.599999999999994},{"$f":"FQ!N62","v":73.3},78.28,{"$f":"SKI!K62","v":80.8},{"$f":"SKI!N62","v":72.900000000000006},77.64,{"$f":"PKn!K62","v":79.599999999999994},{"$f":"PKn!N62","v":89},83.36,{"$f":"BID!K62","v":78.400000000000006},{"$f":"BID!N62","v":69.300000000000011},74.760000000000005,{"$f":"BA!K62","v":82},{"$f":"BA!N62","v":73.5},78.599999999999994,{"$f":"MTK!K62","v":74.8},{"$f":"MTK!L62","v":33.32},58.207999999999998,{"$f":"IPA!K62","v":74.8},{"$f":"IPA!N62","v":73.89},74.435999999999993,{"$f":"IPS!K62","v":77},{"$f":"IPS!L62","v":65},72.199999999999989,{"$f":"SBK!K62","v":78.599999999999994},{"$f":"SBK!N62","v":71.8},75.88,{"$f":"PJK!K62","v":80.2},{"$f":"PJK!N62","v":72.599999999999994},77.16,{"$f":"BD!K62","v":76.400000000000006},{"$f":"BD!N62","v":70.7},74.12,{"$f":"BIG!K62","v":75.599999999999994},{"$f":"BIG!N62","v":72.8},74.47999999999999,74.97171428571427,74.760000000000005,{"$f":"BID!L62","v":60.2},68.936000000000007,58.207999999999998,{"$f":"MTK!L62","v":33.32},48.252800000000001,74.435999999999993,{"$f":"IPA!L62","v":72.98},73.8536,55.5,191.04240000000001,166.5,78.400000000000006,69.300000000000011,74.760000000000005,74.8,33.32,58.207999999999998,74.8,73.89,74.435999999999993,null,null,74.760000000000005,60.2,68.936000000000007,58.207999999999998,33.32,48.252800000000001,74.435999999999993,72.98,73.8536,null,null,{"$f":"SISWA!S61","v":"105/MINI.L-Kid/30.02.02/S.1-2/VI/2019"}]
[{"$f":"SISWA!A63","v":56},{"$f":"IF(SISWA!B63=0,\"\",SISWA!B63)","v":4326},{"$f":"IF(SISWA!C63=0,\"\",SISWA!C63)","v":"0064124533"},{"$f":"IF(SISWA!D63=0,\"\",SISWA!D63)","v":"1-18-05-80-162-056-2"},{"$f":"IF(SISWA!E63=0,\"\",SISWA!E63)","v":"YOHAN EGA GILANG PERMANA"},{"$f":"IF(SISWA!P63=0,\"\",SISWA!P63)","v":"LUMAJANG, 24 November 2006"},{"$f":"IF(SISWA!H63=0,\"\",SISWA!H63)","v":"MARTONO"},{"$f":"#REF!","v":{"$error":"#REF!"}},{"$f":"#REF!","v":{"$error":"#REF!"}},{"$error":"#REF!"},{"$f":"AA!K63","v":74.25},{"$f":"AA!N63","v":69.625},72.400000000000006,{"$f":"AH!K63","v":74.25},{"$f":"AH!N63","v":69.625},72.400000000000006,{"$f":"FQ!K63","v":74.25},{"$f":"FQ!N63","v":69.625},72.400000000000006,{"$f":"SKI!K63","v":75},{"$f":"SKI!N63","v":70},73,{"$f":"PKn!K63","v":73.75},{"$f":"PKn!N63","v":94},81.849999999999994,{"$f":"BID!K63","v":74},{"$f":"BID!N63","v":57.965000000000003},67.585999999999999,{"$f":"BA!K63","v":72.25},{"$f":"BA!N63","v":68.625},70.800000000000011,{"$f":"MTK!K63","v":71},{"$f":"MTK!L63","v":27.99},53.795999999999999,{"$f":"IPA!K63","v":70.25},{"$f":"IPA!N63","v":54.625},64,{"$f":"IPS!K63","v":71.25},{"$f":"IPS!L63","v":65},68.75,{"$f":"SBK!K63","v":75.5},{"$f":"SBK!N63","v":70.25},73.400000000000006,{"$f":"PJK!K63","v":79},{"$f":"PJK!N63","v":72},76.2,{"$f":"BD!K63","v":73.5},{"$f":"BD!N63","v":69.25},71.800000000000011,{"$f":"BIG!K63","v":68.75},{"$f":"BIG!N63","v":69.375},69,70.527285714285725,67.585999999999999,{"$f":"BID!L63","v":41.93},57.323599999999999,53.795999999999999,{"$f":"MTK!L63","v":27.99},43.473599999999998,64,{"$f":"IPA!L63","v":39},54,36.306666666666665,154.7972,108.92,74,57.965000000000003,67.585999999999999,71,27.99,53.795999999999999,70.25,54.625,64,null,null,67.585999999999999,41.93,57.323599999999999,53.795999999999999,27.99,43.473599999999998,64,39,54,null,null,{"$f":"SISWA!S62","v":"106/MINI.L-Kid/30.02.02/S.1-2/VI/2019"}]
[{"$f":"SISWA!A64","v":57},{"$f":"IF(SISWA!B64=0,\"\",SISWA!B64)","v":""},{"$f":"IF(SISWA!C64=0,\"\",SISWA!C64)","v":""},{"$f":"IF(SISWA!D64=0,\"\",SISWA!D64)","v":"1-18-05-80-162-057-9"},{"$f":"IF(SISWA!E64=0,\"\",SISWA!E64)","v":""},{"$f":"IF(SISWA!#REF!=0,\"\",SISWA!#REF!)","v":{"$error":"#REF!"}},{"$f":"IF(SISWA!H64=0,\"\",SISWA!H64)","v":""},{"$f":"#REF!","v":{"$error":"#REF!"}},{"$f":"#REF!","v":{"$error":"#REF!"}},{"$error":"#REF!"},{"$f":"AA!K64","v":{"$error":"#DIV/0!"}},{"$f":"AA!N64","v":{"$error":"#DIV/0!"}},{"$error":"#DIV/0!"},{"$f":"AH!K64","v":{"$error":"#DIV/0!"}},{"$f":"AH!N64","v":{"$error":"#DIV/0!"}},{"$error":"#DIV/0!"},{"$f":"FQ!K64","v":{"$error":"#DIV/0!"}},{"$f":"FQ!N64","v":{"$error":"#DIV/0!"}},{"$error":"#DIV/0!"},{"$f":"SKI!K64","v":{"$error":"#DIV/0!"}},{"$f":"SKI!N64","v":{"$error":"#DIV/0!"}},{"$error":"#DIV/0!"},{"$f":"PKn!K64","v":{"$error":"#DIV/0!"}},{"$f":"PKn!N64","v":0},{"$error":"#DIV/0!"},{"$f":"BID!K64","v":{"$error":"#DIV/0!"}},{"$f":"BID!N64","v":{"$error":"#DIV/0!"}},{"$error":"#DIV/0!"},{"$f":"BA!K64","v":{"$error":"#DIV/0!"}},{"$f":"BA!N64","v":{"$error":"#DIV/0!"}},{"$error":"#DIV/0!"},{"$f":"MTK!K64","v":{"$error":"#DIV/0!"}},{"$f":"MTK!L64","v":0},{"$error":"#DIV/0!"},{"$f":"IPA!K64","v":{"$error":"#DIV/0!"}},{"$f":"IPA!N64","v":{"$error":"#DIV/0!"}},{"$error":"#DIV/0!"},{"$f":"IPS!K64","v":{"$error":"#DIV/0!"}},{"$f":"IPS!L64","v":0},{"$error":"#DIV/0!"},{"$f":"SBK!K64","v":{"$error":"#DIV/0!"}},{"$f":"SBK!N64","v":{"$error":"#DIV/0!"}},{"$error":"#DIV/0!"},{"$f":"PJK!K64","v":{"$error":"#DIV/0!"}},{"$f":"PJK!N64","v":{"$error":"#DIV/0!"}},{"$error":"#DIV/0!"},{"$f":"BD!K64","v":{"$error":"#DIV/0!"}},{"$f":"BD!N64","v":{"$error":"#DIV/0!"}},{"$error":"#DIV/0!"},{"$f":"BIG!K64","v":{"$error":"#DIV/0!"}},{"$f":"BIG!N64","v":{"$error":"#DIV/0!"}},{"$error":"#DIV/0!"},{"$error":"#DIV/0!"},{"$error":"#DIV/0!"},{"$f":"BID!L64","v":0},{"$error":"#DIV/0!"},{"$error":"#DIV/0!"},{"$f":"MTK!L64","v":0},{"$error":"#DIV/0!"},{"$error":"#DIV/0!"},{"$f":"IPA!L64","v":0},{"$error":"#DIV/0!"},0,{"$error":"#DIV/0!"},0,{"$error":"#DIV/0!"},{"$error":"#DIV/0!"},{"$error":"#DIV/0!"},{"$error":"#DIV/0!"},0,{"$error":"#DIV/0!"},{"$error":"#DIV/0!"},{"$error":"#DIV/0!"},{"$error":"#DIV/0!"},null,null,{"$error":"#DIV/0!"},0,{"$error":"#DIV/0!"},{"$error":"#DIV/0!"},0,{"$error":"#DIV/0!"},{"$error":"#DIV/0!"},0,{"$error":"#DIV/0!"},null,null,{"$f":"SISWA!S63","v":"107/MINI.L-Kid/30.02.02/S.1-2/VI/2019"}]
[{"$f":"SISWA!A65","v":58},{"$f":"IF(SISWA!B65=0,\"\",SISWA!B65)","v":""},{"$f":"IF(SISWA!C65=0,\"\",SISWA!C65)","v":""},{"$f":"IF(SISWA!D65=0,\"\",SISWA!D65)","v":"1-18-05-80-162-058-8"},{"$f":"IF(SISWA!E65=0,\"\",SISWA!E65)","v":""},{"$f":"IF(SISWA!P64=0,\"\",SISWA!P64)","v":", 00 Januari 1900"},{"$f":"IF(SISWA!H65=0,\"\",SISWA!H65)","v":""},{"$f":"#REF!","v":{"$error":"#REF!"}},{"$f":"#REF!","v":{"$error":"#REF!"}},{"$error":"#REF!"},{"$f":"AA!K65","v":{"$error":"#DIV/0!"}},{"$f":"AA!N65","v":{"$error":"#DIV/0!"}},{"$error":"#DIV/0!"},{"$f":"AH!K65","v":{"$error":"#DIV/0!"}},{"$f":"AH!N65","v":{"$error":"#DIV/0!"}},{"$error":"#DIV/0!"},{"$f":"FQ!K65","v":{"$error":"#DIV/0!"}},{"$f":"FQ!N65","v":{"$error":"#DIV/0!"}},{"$error":"#DIV/0!"},{"$f":"SKI!K65","v":{"$error":"#DIV/0!"}},{"$f":"SKI!N65","v":{"$error":"#DIV/0!"}},{"$error":"#DIV/0!"},{"$f":"PKn!K65","v":{"$error":"#DIV/0!"}},{"$f":"PKn!N65","v":0},{"$error":"#DIV/0!"},{"$f":"BID!K65","v":{"$error":"#DIV/0!"}},{"$f":"BID!N65","v":{"$error":"#DIV/0!"}},{"$error":"#DIV/0!"},{"$f":"BA!K65","v":{"$error":"#DIV/0!"}},{"$f":"BA!N65","v":{"$error":"#DIV/0!"}},{"$error":"#DIV/0!"},{"$f":"MTK!K65","v":{"$error":"#DIV/0!"}},{"$f":"MTK!L65","v":0},{"$error":"#DIV/0!"},{"$f":"IPA!K65","v":{"$error":"#DIV/0!"}},{"$f":"IPA!N65","v":{"$error":"#DIV/0!"}},{"$error":"#DIV/0!"},{"$f":"IPS!K65","v":{"$error":"#DIV/0!"}},{"$f":"IPS!L65","v":0},{"$error":"#DIV/0!"},{"$f":"SBK!K65","v":{"$error":"#DIV/0!"}},{"$f":"SBK!N65","v":{"$error":"#DIV/0!"}},{"$error":"#DIV/0!"},{"$f":"PJK!K65","v":{"$error":"#DIV/0!"}},{"$f":"PJK!N65","v":{"$error":"#DIV/0!"}},{"$error":"#DIV/0!"},{"$f":"BD!K65","v":{"$error":"#DIV/0!"}},{"$f":"BD!N65","v":{"$error":"#DIV/0!"}},{"$error":"#DIV/0!"},{"$f":"BIG!K65","v":{"$error":"#DIV/0!"}},{"$f":"BIG!N65","v":{"$error":"#DIV/0!"}},{"$error":"#DIV/0!"},{"$error":"#DIV/0!"},{"$error":"#DIV/0!"},{"$f":"BID!L65","v":0},{"$error":"#DIV/0!"},{"$error":"#DIV/0!"},{"$f":"MTK!L65","v":0},{"$error":"#DIV/0!"},{"$error":"#DIV/0!"},{"$f":"IPA!L65","v":0},{"$error":"#DIV/0!"},0,{"$error":"#DIV/0!"},0,{"$error":"#DIV/0!"},{"$error":"#DIV/0!"},{"$error":"#DIV/0!"},{"$error":"#DIV/0!"},0,{"$error":"#DIV/0!"},{"$error":"#DIV/0!"},{"$error":"#DIV/0!"},{"$error":"#DIV/0!"},null,null,{"$error":"#DIV/0!"},0,{"$error":"#DIV/0!"},{"$error":"#DIV/0!"},0,{"$error":"#DIV/0!"},{"$error":"#DIV/0!"},0,{"$error":"#DIV/0!"},null,null,{"$f":"SISWA!S64","v":"108"}]
[{"$f":"SISWA!A66","v":59},{"$f":"IF(SISWA!B66=0,\"\",SISWA!B66)","v":""},{"$f":"IF(SISWA!C66=0,\"\",SISWA!C66)","v":""},{"$f":"IF(SISWA!D66=0,\"\",SISWA!D66)","v":"1-18-05-80-162-059-7"},{"$f":"IF(SISWA!E66=0,\"\",SISWA!E66)","v":""},{"$f":"IF(SISWA!P65=0,\"\",SISWA!P65)","v":", 00 Januari 1900"},{"$f":"IF(SISWA!H66=0,\"\",SISWA!H66)","v":""},{"$f":"#REF!","v":{"$error":"#REF!"}},{"$f":"#REF!","v":{"$error":"#REF!"}},{"$error":"#REF!"},{"$f":"AA!K66","v":{"$error":"#DIV/0!"}},{"$f":"AA!N66","v":{"$error":"#DIV/0!"}},{"$error":"#DIV/0!"},{"$f":"AH!K66","v":{"$error":"#DIV/0!"}},{"$f":"AH!N66","v":{"$error":"#DIV/0!"}},{"$error":"#DIV/0!"},{"$f":"FQ!K66","v":{"$error":"#DIV/0!"}},{"$f":"FQ!N66","v":{"$error":"#DIV/0!"}},{"$error":"#DIV/0!"},{"$f":"SKI!K66","v":{"$error":"#DIV/0!"}},{"$f":"SKI!N66","v":{"$error":"#DIV/0!"}},{"$error":"#DIV/0!"},{"$f":"PKn!K66","v":{"$error":"#DIV/0!"}},{"$f":"PKn!N66","v":0},{"$error":"#DIV/0!"},{"$f":"BID!K66","v":{"$error":"#DIV/0!"}},{"$f":"BID!N66","v":{"$error":"#DIV/0!"}},{"$error":"#DIV/0!"},{"$f":"BA!K66","v":{"$error":"#DIV/0!"}},{"$f":"BA!N66","v":{"$error":"#DIV/0!"}},{"$error":"#DIV/0!"},{"$f":"MTK!K66","v":{"$error":"#DIV/0!"}},{"$f":"MTK!L66","v":0},{"$error":"#DIV/0!"},{"$f":"IPA!K66","v":{"$error":"#DIV/0!"}},{"$f":"IPA!N66","v":{"$error":"#DIV/0!"}},{"$error":"#DIV/0!"},{"$f":"IPS!K66","v":{"$error":"#DIV/0!"}},{"$f":"IPS!L66","v":0},{"$error":"#DIV/0!"},{"$f":"SBK!K66","v":{"$error":"#DIV/0!"}},{"$f":"SBK!N66","v":{"$error":"#DIV/0!"}},{"$error":"#DIV/0!"},{"$f":"PJK!K66","v":{"$error":"#DIV/0!"}},{"$f":"PJK!N66","v":{"$error":"#DIV/0!"}},{"$error":"#DIV/0!"},{"$f":"BD!K66","v":{"$error":"#DIV/0!"}},{"$f":"BD!N66","v":{"$error":"#DIV/0!"}},{"$error":"#DIV/0!"},{"$f":"BIG!K66","v":{"$error":"#DIV/0!"}},{"$f":"BIG!N66","v":{"$error":"#DIV/0!"}},{"$error":"#DIV/0!"},{"$error":"#DIV/0!"},{"$error":"#DIV/0!"},{"$f":"BID!L66","v":0},{"$error":"#DIV/0!"},{"$error":"#DIV/0!"},{"$f":"MTK!L66","v":0},{"$error":"#DIV/0!"},{"$error":"#DIV/0!"},{"$f":"IPA!L66","v":0},{"$error":"#DIV/0!"},0,{"$error":"#DIV/0!"},0,{"$error":"#DIV/0!"},{"$error":"#DIV/0!"},{"$error":"#DIV/0!"},{"$error":"#DIV/0!"},0,{"$error":"#DIV/0!"},{"$error":"#DIV/0!"},{"$error":"#DIV/0!"},{"$error":"#DIV/0!"},null,null,{"$error":"#DIV/0!"},0,{"$error":"#DIV/0!"},{"$error":"#DIV/0!"},0,{"$error":"#DIV/0!"},{"$error":"#DIV/0!"},0,{"$error":"#DIV/0!"},null,null,{"$f":"SISWA!S65","v":"109"}]
[{"$f":"SISWA!A67","v":60},{"$f":"IF(SISWA!B67=0,\"\",SISWA!B67)","v":""},{"$f":"IF(SISWA!C67=0,\"\",SISWA!C67)","v":""},{"$f":"IF(SISWA!D67=0,\"\",SISWA!D67)","v":"1-18-05-80-162-060-6"},{"$f":"IF(SISWA!E67=0,\"\",SISWA!E67)","v":""},{"$f":"IF(SISWA!P66=0,\"\",SISWA!P66)","v":", 00 Januari 1900"},{"$f":"IF(SISWA!H67=0,\"\",SISWA!H67)","v":""},{"$f":"#REF!","v":{"$error":"#REF!"}},{"$f":"#REF!","v":{"$error":"#REF!"}},{"$error":"#REF!"},{"$f":"AA!K67","v":{"$error":"#DIV/0!"}},{"$f":"AA!N67","v":{"$error":"#DIV/0!"}},{"$error":"#DIV/0!"},{"$f":"AH!K67","v":{"$error":"#DIV/0!"}},{"$f":"AH!N67","v":{"$error":"#DIV/0!"}},{"$error":"#DIV/0!"},{"$f":"FQ!K67","v":{"$error":"#DIV/0!"}},{"$f":"FQ!N67","v":{"$error":"#DIV/0!"}},{"$error":"#DIV/0!"},{"$f":"SKI!K67","v":{"$error":"#DIV/0!"}},{"$f":"SKI!N67","v":{"$error":"#DIV/0!"}},{"$error":"#DIV/0!"},{"$f":"PKn!K67","v":{"$error":"#DIV/0!"}},{"$f":"PKn!N67","v":0},{"$error":"#DIV/0!"},{"$f":"BID!K67","v":{"$error":"#DIV/0!"}},{"$f":"BID!N67","v":{"$error":"#DIV/0!"}},{"$error":"#DIV/0!"},{"$f":"BA!K67","v":{"$error":"#DIV/0!"}},{"$f":"BA!N67","v":{"$error":"#DIV/0!"}},{"$error":"#DIV/0!"},{"$f":"MTK!K67","v":{"$error":"#DIV/0!"}},{"$f":"MTK!L67","v":0},{"$error":"#DIV/0!"},{"$f":"IPA!K67","v":{"$error":"#DIV/0!"}},{"$f":"IPA!N67","v":{"$error":"#DIV/0!"}},{"$error":"#DIV/0!"},{"$f":"IPS!K67","v":{"$error":"#DIV/0!"}},{"$f":"IPS!L67","v":0},{"$error":"#DIV/0!"},{"$f":"SBK!K67","v":{"$error":"#DIV/0!"}},{"$f":"SBK!N67","v":{"$error":"#DIV/0!"}},{"$error":"#DIV/0!"},{"$f":"PJK!K67","v":{"$error":"#DIV/0!"}},{"$f":"PJK!N67","v":{"$error":"#DIV/0!"}},{"$error":"#DIV/0!"},{"$f":"BD!K67","v":{"$error":"#DIV/0!"}},{"$f":"BD!N67","v":{"$error":"#DIV/0!"}},{"$error":"#DIV/0!"},{"$f":"BIG!K67","v":{"$error":"#DIV/0!"}},{"$f":"BIG!N67","v":{"$error":"#DIV/0!"}},{"$error":"#DIV/0!"},{"$error":"#DIV/0!"},{"$error":"#DIV/0!"},null,{"$error":"#DIV/0!"},{"$error":"#DIV/0!"},null,{"$error":"#DIV/0!"},{"$error":"#DIV/0!"},{"$f":"IPA!L67","v":0},{"$error":"#DIV/0!"},0,{"$error":"#DIV/0!"},0,{"$error":"#DIV/0!"},{"$error":"#DIV/0!"},{"$error":"#DIV/0!"},{"$error":"#DIV/0!"},0,{"$error":"#DIV/0!"},{"$error":"#DIV/0!"},{"$error":"#DIV/0!"},{"$error":"#DIV/0!"},null,null,{"$error":"#DIV/0!"},0,{"$error":"#DIV/0!"},{"$error":"#DIV/0!"},0,{"$error":"#DIV/0!"},{"$error":"#DIV/0!"},0,{"$error":"#DIV/0!"},null,null,{"$f":"SISWA!S66","v":"110"}]
[{"$f":"SISWA!A68","v":61},{"$f":"IF(SISWA!B68=0,\"\",SISWA!B68)","v":""},{"$f":"IF(SISWA!C68=0,\"\",SISWA!C68)","v":""},{"$f":"IF(SISWA!D68=0,\"\",SISWA!D68)","v":"1-18-05-80-162-061-5"},{"$f":"IF(SISWA!E68=0,\"\",SISWA!E68)","v":""},{"$f":"IF(SISWA!P67=0,\"\",SISWA!P67)","v":", 00 Januari 1900"},{"$f":"IF(SISWA!H68=0,\"\",SISWA!H68)","v":""},{"$f":"#REF!","v":{"$error":"#REF!"}},{"$f":"#REF!","v":{"$error":"#REF!"}},{"$error":"#REF!"},{"$f":"AA!K68","v":{"$error":"#DIV/0!"}},{"$f":"AA!N68","v":{"$error":"#DIV/0!"}},{"$error":"#DIV/0!"},{"$f":"AH!K68","v":{"$error":"#DIV/0!"}},{"$f":"AH!N68","v":{"$error":"#DIV/0!"}},{"$error":"#DIV/0!"},{"$f":"FQ!K68","v":{"$error":"#DIV/0!"}},{"$f":"FQ!N68","v":{"$error":"#DIV/0!"}},{"$error":"#DIV/0!"},{"$f":"SKI!K68","v":{"$error":"#DIV/0!"}},{"$f":"SKI!N68","v":{"$error":"#DIV/0!"}},{"$error":"#DIV/0!"},{"$f":"PKn!K68","v":{"$error":"#DIV/0!"}},{"$f":"PKn!N68","v":0},{"$error":"#DIV/0!"},{"$f":"BID!K68","v":{"$error":"#DIV/0!"}},{"$f":"BID!N68","v":{"$error":"#DIV/0!"}},{"$error":"#DIV/0!"},{"$f":"BA!K68","v":{"$error":"#DIV/0!"}},{"$f":"BA!N68","v":{"$error":"#DIV/0!"}},{"$error":"#DIV/0!"},{"$f":"MTK!K68","v":{"$error":"#DIV/0!"}},{"$f":"MTK!L68","v":0},{"$error":"#DIV/0!"},{"$f":"IPA!K68","v":{"$error":"#DIV/0!"}},{"$f":"IPA!N68","v":{"$error":"#DIV/0!"}},{"$error":"#DIV/0!"},{"$f":"IPS!K68","v":{"$error":"#DIV/0!"}},{"$f":"IPS!L68","v":0},{"$error":"#DIV/0!"},{"$f":"SBK!K68","v":{"$error":"#DIV/0!"}},{"$f":"SBK!N68","v":{"$error":"#DIV/0!"}},{"$error":"#DIV/0!"},{"$f":"PJK!K68","v":{"$error":"#DIV/0!"}},{"$f":"PJK!N68","v":{"$error":"#DIV/0!"}},{"$error":"#DIV/0!"},{"$f":"BD!K68","v":{"$error":"#DIV/0!"}},{"$f":"BD!N68","v":{"$error":"#DIV/0!"}},{"$error":"#DIV/0!"},{"$f":"BIG!K68","v":{"$error":"#DIV/0!"}},{"$f":"BIG!N68","v":{"$error":"#DIV/0!"}},{"$error":"#DIV/0!"},{"$error":"#DIV/0!"},{"$error":"#DIV/0!"},null,{"$error":"#DIV/0!"},{"$error":"#DIV/0!"},null,{"$error":"#DIV/0!"},{"$error":"#DIV/0!"},{"$f":"IPA!L68","v":0},{"$error":"#DIV/0!"},0,{"$error":"#DIV/0!"},0,{"$error":"#DIV/0!"},{"$error":"#DIV/0!"},{"$error":"#DIV/0!"},{"$error":"#DIV/0!"},0,{"$error":"#DIV/0!"},{"$error":"#DIV/0!"},{"$error":"#DIV/0!"},{"$error":"#DIV/0!"},null,null,{"$error":"#DIV/0!"},0,{"$error":"#DIV/0!"},{"$error":"#DIV/0!"},0,{"$error":"#DIV/0!"},{"$error":"#DIV/0!"},0,{"$error":"#DIV/0!"},null,null,{"$f":"SISWA!S67","v":"111"}]
[{"$f":"SISWA!A69","v":62},{"$f":"IF(SISWA!B69=0,\"\",SISWA!B69)","v":""},{"$f":"IF(SISWA!C69=0,\"\",SISWA!C69)","v":""},{"$f":"IF(SISWA!D69=0,\"\",SISWA!D69)","v":"062-4"},{"$f":"IF(SISWA!E69=0,\"\",SISWA!E69)","v":""},{"$f":"IF(SISWA!P68=0,\"\",SISWA!P68)","v":", 00 Januari 1900"},{"$f":"IF(SISWA!H69=0,\"\",SISWA!H69)","v":""},{"$f":"#REF!","v":{"$error":"#REF!"}},{"$f":"#REF!","v":{"$error":"#REF!"}},{"$error":"#REF!"},{"$f":"AA!K69","v":{"$error":"#DIV/0!"}},{"$f":"AA!N69","v":{"$error":"#DIV/0!"}},{"$error":"#DIV/0!"},{"$f":"AH!K69","v":{"$error":"#DIV/0!"}},{"$f":"AH!N69","v":{"$error":"#DIV/0!"}},{"$error":"#DIV/0!"},{"$f":"FQ!K69","v":{"$error":"#DIV/0!"}},{"$f":"FQ!N69","v":{"$error":"#DIV/0!"}},{"$error":"#DIV/0!"},{"$f":"SKI!K69","v":{"$error":"#DIV/0!"}},{"$f":"SKI!N69","v":{"$error":"#DIV/0!"}},{"$error":"#DIV/0!"},{"$f":"PKn!K69","v":{"$error":"#DIV/0!"}},{"$f":"PKn!N69","v":0},{"$error":"#DIV/0!"},{"$f":"BID!K69","v":{"$error":"#DIV/0!"}},{"$f":"BID!N69","v":{"$error":"#DIV/0!"}},{"$error":"#DIV/0!"},{"$f":"BA!K69","v":{"$error":"#DIV/0!"}},{"$f":"BA!N69","v":{"$error":"#DIV/0!"}},{"$error":"#DIV/0!"},{"$f":"MTK!K69","v":{"$error":"#DIV/0!"}},{"$f":"MTK!L69","v":0},{"$error":"#DIV/0!"},{"$f":"IPA!K69","v":{"$error":"#DIV/0!"}},{"$f":"IPA!N69","v":{"$error":"#DIV/0!"}},{"$error":"#DIV/0!"},{"$f":"IPS!K69","v":{"$error":"#DIV/0!"}},{"$f":"IPS!L69","v":0},{"$error":"#DIV/0!"},{"$f":"SBK!K69","v":{"$error":"#DIV/0!"}},{"$f":"SBK!N69","v":{"$error":"#DIV/0!"}},{"$error":"#DIV/0!"},{"$f":"PJK!K69","v":{"$error":"#DIV/0!"}},{"$f":"PJK!N69","v":{"$error":"#DIV/0!"}},{"$error":"#DIV/0!"},{"$f":"BD!K69","v":{"$error":"#DIV/0!"}},{"$f":"BD!N69","v":{"$error":"#DIV/0!"}},{"$error":"#DIV/0!"},{"$f":"BIG!K69","v":{"$error":"#DIV/0!"}},{"$f":"BIG!N69","v":{"$error":"#DIV/0!"}},{"$error":"#DIV/0!"},{"$error":"#DIV/0!"},{"$error":"#DIV/0!"},null,{"$error":"#DIV/0!"},{"$error":"#DIV/0!"},null,{"$error":"#DIV/0!"},{"$error":"#DIV/0!"},{"$f":"IPA!L69","v":0},{"$error":"#DIV/0!"},0,{"$error":"#DIV/0!"},0,{"$error":"#DIV/0!"},{"$error":"#DIV/0!"},{"$error":"#DIV/0!"},{"$error":"#DIV/0!"},0,{"$error":"#DIV/0!"},{"$error":"#DIV/0!"},{"$error":"#DIV/0!"},{"$error":"#DIV/0!"},null,null,{"$error":"#DIV/0!"},0,{"$error":"#DIV/0!"},{"$error":"#DIV/0!"},0,{"$error":"#DIV/0!"},{"$error":"#DIV/0!"},0,{"$error":"#DIV/0!"},null,null,{"$f":"SISWA!S68","v":"112"}]
[{"$f":"SISWA!A70","v":63},{"$f":"IF(SISWA!B70=0,\"\",SISWA!B70)","v":""},{"$f":"IF(SISWA!C70=0,\"\",SISWA!C70)","v":""},{"$f":"IF(SISWA!D70=0,\"\",SISWA!D70)","v":"063-3"},{"$f":"IF(SISWA!E70=0,\"\",SISWA!E70)","v":""},{"$f":"IF(SISWA!P69=0,\"\",SISWA!P69)","v":", 00 Januari 1900"},{"$f":"IF(SISWA!H70=0,\"\",SISWA!H70)","v":""},{"$f":"#REF!","v":{"$error":"#REF!"}},{"$f":"#REF!","v":{"$error":"#REF!"}},{"$error":"#REF!"},{"$f":"AA!K70","v":{"$error":"#DIV/0!"}},{"$f":"AA!N70","v":{"$error":"#DIV/0!"}},{"$error":"#DIV/0!"},{"$f":"AH!K70","v":{"$error":"#DIV/0!"}},{"$f":"AH!N70","v":{"$error":"#DIV/0!"}},{"$error":"#DIV/0!"},{"$f":"FQ!K70","v":{"$error":"#DIV/0!"}},{"$f":"FQ!N70","v":{"$error":"#DIV/0!"}},{"$error":"#DIV/0!"},{"$f":"SKI!K70","v":{"$error":"#DIV/0!"}},{"$f":"SKI!N70","v":{"$error":"#DIV/0!"}},{"$error":"#DIV/0!"},{"$f":"PKn!K70","v":{"$error":"#DIV/0!"}},{"$f":"PKn!N70","v":0},{"$error":"#DIV/0!"},{"$f":"BID!K70","v":{"$error":"#DIV/0!"}},{"$f":"BID!N70","v":{"$error":"#DIV/0!"}},{"$error":"#DIV/0!"},{"$f":"BA!K70","v":{"$error":"#DIV/0!"}},{"$f":"BA!N70","v":{"$error":"#DIV/0!"}},{"$error":"#DIV/0!"},{"$f":"MTK!K70","v":{"$error":"#DIV/0!"}},{"$f":"MTK!L70","v":0},{"$error":"#DIV/0!"},{"$f":"IPA!K70","v":{"$error":"#DIV/0!"}},{"$f":"IPA!N70","v":{"$error":"#DIV/0!"}},{"$error":"#DIV/0!"},{"$f":"IPS!K70","v":{"$error":"#DIV/0!"}},{"$f":"IPS!L70","v":0},{"$error":"#DIV/0!"},{"$f":"SBK!K70","v":{"$error":"#DIV/0!"}},{"$f":"SBK!N70","v":{"$error":"#DIV/0!"}},{"$error":"#DIV/0!"},{"$f":"PJK!K70","v":{"$error":"#DIV/0!"}},{"$f":"PJK!N70","v":{"$error":"#DIV/0!"}},{"$error":"#DIV/0!"},{"$f":"BD!K70","v":{"$error":"#DIV/0!"}},{"$f":"BD!N70","v":{"$error":"#DIV/0!"}},{"$error":"#DIV/0!"},{"$f":"BIG!K70","v":{"$error":"#DIV/0!"}},{"$f":"BIG!N70","v":{"$error":"#DIV/0!"}},{"$error":"#DIV/0!"},{"$error":"#DIV/0!"},{"$error":"#DIV/0!"},null,{"$error":"#DIV/0!"},{"$error":"#DIV/0!"},null,{"$error":"#DIV/0!"},{"$error":"#DIV/0!"},{"$f":"IPA!L70","v":0},{"$error":"#DIV/0!"},0,{"$error":"#DIV/0!"},0,{"$error":"#DIV/0!"},{"$error":"#DIV/0!"},{"$error":"#DIV/0!"},{"$error":"#DIV/0!"},0,{"$error":"#DIV/0!"},{"$error":"#DIV/0!"},{"$error":"#DIV/0!"},{"$error":"#DIV/0!"},null,null,{"$error":"#DIV/0!"},0,{"$error":"#DIV/0!"},{"$error":"#DIV/0!"},0,{"$error":"#DIV/0!"},{"$error":"#DIV/0!"},0,{"$error":"#DIV/0!"},null,null,{"$f":"SISWA!S69","v":"113"}]
[{"$f":"SISWA!A71","v":64},{"$f":"IF(SISWA!B71=0,\"\",SISWA!B71)","v":""},{"$f":"IF(SISWA!C71=0,\"\",SISWA!C71)","v":""},{"$f":"IF(SISWA!D71=0,\"\",SISWA!D71)","v":"064-2"},{"$f":"IF(SISWA!E71=0,\"\",SISWA!E71)","v":""},{"$f":"IF(SISWA!P70=0,\"\",SISWA!P70)","v":", 00 Januari 1900"},{"$f":"IF(SISWA!H71=0,\"\",SISWA!H71)","v":""},{"$f":"#REF!","v":{"$error":"#REF!"}},{"$f":"#REF!","v":{"$error":"#REF!"}},{"$error":"#REF!"},{"$f":"AA!K71","v":{"$error":"#DIV/0!"}},{"$f":"AA!N71","v":{"$error":"#DIV/0!"}},{"$error":"#DIV/0!"},{"$f":"AH!K71","v":{"$error":"#DIV/0!"}},{"$f":"AH!N71","v":{"$error":"#DIV/0!"}},{"$error":"#DIV/0!"},{"$f":"FQ!K71","v":{"$error":"#DIV/0!"}},{"$f":"FQ!N71","v":{"$error":"#DIV/0!"}},{"$error":"#DIV/0!"},{"$f":"SKI!K71","v":{"$error":"#DIV/0!"}},{"$f":"SKI!N71","v":{"$error":"#DIV/0!"}},{"$error":"#DIV/0!"},{"$f":"PKn!K71","v":{"$error":"#DIV/0!"}},{"$f":"PKn!N71","v":0},{"$error":"#DIV/0!"},{"$f":"BID!K71","v":{"$error":"#DIV/0!"}},{"$f":"BID!N71","v":{"$error":"#DIV/0!"}},{"$error":"#DIV/0!"},{"$f":"BA!K71","v":{"$error":"#DIV/0!"}},{"$f":"BA!N71","v":{"$error":"#DIV/0!"}},{"$error":"#DIV/0!"},{"$f":"MTK!K71","v":{"$error":"#DIV/0!"}},{"$f":"MTK!L71","v":0},{"$error":"#DIV/0!"},{"$f":"IPA!K71","v":{"$error":"#DIV/0!"}},{"$f":"IPA!N71","v":{"$error":"#DIV/0!"}},{"$error":"#DIV/0!"},{"$f":"IPS!K71","v":{"$error":"#DIV/0!"}},{"$f":"IPS!L71","v":0},{"$error":"#DIV/0!"},{"$f":"SBK!K71","v":{"$error":"#DIV/0!"}},{"$f":"SBK!N71","v":{"$error":"#DIV/0!"}},{"$error":"#DIV/0!"},{"$f":"PJK!K71","v":{"$error":"#DIV/0!"}},{"$f":"PJK!N71","v":{"$error":"#DIV/0!"}},{"$error":"#DIV/0!"},{"$f":"BD!K71","v":{"$error":"#DIV/0!"}},{"$f":"BD!N71","v":{"$error":"#DIV/0!"}},{"$error":"#DIV/0!"},{"$f":"BIG!K71","v":{"$error":"#DIV/0!"}},{"$f":"BIG!N71","v":{"$error":"#DIV/0!"}},{"$error":"#DIV/0!"},{"$error":"#DIV/0!"},{"$error":"#DIV/0!"},null,{"$error":"#DIV/0!"},{"$error":"#DIV/0!"},null,{"$error":"#DIV/0!"},{"$error":"#DIV/0!"},{"$f":"IPA!L71","v":0},{"$error":"#DIV/0!"},0,{"$error":"#DIV/0!"},0,{"$error":"#DIV/0!"},{"$error":"#DIV/0!"},{"$error":"#DIV/0!"},{"$error":"#DIV/0!"},0,{"$error":"#DIV/0!"},{"$error":"#DIV/0!"},{"$error":"#DIV/0!"},{"$error":"#DIV/0!"},null,null,{"$error":"#DIV/0!"},0,{"$error":"#DIV/0!"},{"$error":"#DIV/0!"},0,{"$error":"#DIV/0!"},{"$error":"#DIV/0!"},0,{"$error":"#DIV/0!"},null,null,{"$f":"SISWA!S70","v":"114"}]
[{"$f":"SISWA!A72","v":65},{"$f":"IF(SISWA!B72=0,\"\",SISWA!B72)","v":""},{"$f":"IF(SISWA!C72=0,\"\",SISWA!C72)","v":""},{"$f":"IF(SISWA!D72=0,\"\",SISWA!D72)","v":"065-"},{"$f":"IF(SISWA!E72=0,\"\",SISWA!E72)","v":""},{"$f":"IF(SISWA!P71=0,\"\",SISWA!P71)","v":", 00 Januari 1900"},{"$f":"IF(SISWA!H72=0,\"\",SISWA!H72)","v":""},{"$f":"#REF!","v":{"$error":"#REF!"}},{"$f":"#REF!","v":{"$error":"#REF!"}},{"$error":"#REF!"},{"$f":"AA!K72","v":{"$error":"#DIV/0!"}},{"$f":"AA!N72","v":{"$error":"#DIV/0!"}},{"$error":"#DIV/0!"},{"$f":"AH!K72","v":{"$error":"#DIV/0!"}},{"$f":"AH!N72","v":{"$error":"#DIV/0!"}},{"$error":"#DIV/0!"},{"$f":"FQ!K72","v":{"$error":"#DIV/0!"}},{"$f":"FQ!N72","v":{"$error":"#DIV/0!"}},{"$error":"#DIV/0!"},{"$f":"SKI!K72","v":{"$error":"#DIV/0!"}},{"$f":"SKI!N72","v":{"$error":"#DIV/0!"}},{"$error":"#DIV/0!"},{"$f":"PKn!K72","v":{"$error":"#DIV/0!"}},{"$f":"PKn!N72","v":0},{"$error":"#DIV/0!"},{"$f":"BID!K72","v":{"$error":"#DIV/0!"}},{"$f":"BID!N72","v":{"$error":"#DIV/0!"}},{"$error":"#DIV/0!"},{"$f":"BA!K72","v":{"$error":"#DIV/0!"}},{"$f":"BA!N72","v":{"$error":"#DIV/0!"}},{"$error":"#DIV/0!"},{"$f":"MTK!K72","v":{"$error":"#DIV/0!"}},{"$f":"MTK!L72","v":0},{"$error":"#DIV/0!"},{"$f":"IPA!K72","v":{"$error":"#DIV/0!"}},{"$f":"IPA!N72","v":{"$error":"#DIV/0!"}},{"$error":"#DIV/0!"},{"$f":"IPS!K72","v":{"$error":"#DIV/0!"}},{"$f":"IPS!L72","v":0},{"$error":"#DIV/0!"},{"$f":"SBK!K72","v":{"$error":"#DIV/0!"}},{"$f":"SBK!N72","v":{"$error":"#DIV/0!"}},{"$error":"#DIV/0!"},{"$f":"PJK!K72","v":{"$error":"#DIV/0!"}},{"$f":"PJK!N72","v":{"$error":"#DIV/0!"}},{"$error":"#DIV/0!"},{"$f":"BD!K72","v":{"$error":"#DIV/0!"}},{"$f":"BD!N72","v":{"$error":"#DIV/0!"}},{"$error":"#DIV/0!"},{"$f":"BIG!K72","v":{"$error":"#DIV/0!"}},{"$f":"BIG!N72","v":{"$error":"#DIV/0!"}},{"$error":"#DIV/0!"},{"$error":"#DIV/0!"},{"$f":"AB73","v":{"$error":"#DIV/0!"}},null,{"$f":"(BB73*60%)+(BC73*40%)","v":{"$error":"#DIV/0!"}},{"$f":"AH73","v":{"$error":"#DIV/0!"}},null,{"$f":"(BE73*60%)+(BF73*40%)","v":{"$error":"#DIV/0!"}},{"$f":"AK73","v":{"$error":"#DIV/0!"}},{"$f":"IPA!L72","v":0},{"$f":"(BH73*60%)+(BI73*40%)","v":{"$error":"#DIV/0!"}},0,{"$f":"SUM(BD73,BG73,BJ73)","v":{"$error":"#DIV/0!"}},0,{"$error":"#DIV/0!"},{"$error":"#DIV/0!"},{"$error":"#DIV/0!"},{"$error":"#DIV/0!"},0,{"$error":"#DIV/0!"},{"$error":"#DIV/0!"},{"$error":"#DIV/0!"},{"$error":"#DIV/0!"},null,null,{"$error":"#DIV/0!"},0,{"$error":"#DIV/0!"},{"$error":"#DIV/0!"},0,{"$error":"#DIV/0!"},{"$error":"#DIV/0!"},0,{"$error":"#DIV/0!"},null,null,{"$f":"SISWA!S71","v":"115"}]
[{"$f":"SISWA!A73","v":66},{"$f":"IF(SISWA!B73=0,\"\",SISWA!B73)","v":""},{"$f":"IF(SISWA!C73=0,\"\",SISWA!C73)","v":""},{"$f":"IF(SISWA!D73=0,\"\",SISWA!D73)","v":"066-"},{"$f":"IF(SISWA!E73=0,\"\",SISWA!E73)","v":""},{"$f":"IF(SISWA!P72=0,\"\",SISWA!P72)","v":", 00 Januari 1900"},{"$f":"IF(SISWA!H73=0,\"\",SISWA!H73)","v":""},{"$f":"#REF!","v":{"$error":"#REF!"}},{"$f":"#REF!","v":{"$error":"#REF!"}},{"$f":"(H74*60%)+(I74*40%)","v":{"$error":"#REF!"}},{"$f":"AA!K73","v":{"$error":"#DIV/0!"}},{"$f":"AA!N73","v":{"$error":"#DIV/0!"}},{"$f":"(K74*60%)+(L74*40%)","v":{"$error":"#DIV/0!"}},{"$f":"AH!K73","v":{"$error":"#DIV/0!"}},{"$f":"AH!N73","v":{"$error":"#DIV/0!"}},{"$f":"(N74*60%)+(O74*40%)","v":{"$error":"#DIV/0!"}},{"$f":"FQ!K73","v":{"$error":"#DIV/0!"}},{"$f":"FQ!N73","v":{"$error":"#DIV/0!"}},{"$f":"(Q74*60%)+(R74*40%)","v":{"$error":"#DIV/0!"}},{"$f":"SKI!K73","v":{"$error":"#DIV/0!"}},{"$f":"SKI!N73","v":{"$error":"#DIV/0!"}},{"$f":"(T74*60%)+(U74*40%)","v":{"$error":"#DIV/0!"}},{"$f":"PKn!K73","v":{"$error":"#DIV/0!"}},{"$f":"PKn!N73","v":0},{"$f":"(W74*60%)+(X74*40%)","v":{"$error":"#DIV/0!"}},{"$f":"BID!K73","v":{"$error":"#DIV/0!"}},{"$f":"BID!N73","v":{"$error":"#DIV/0!"}},{"$f":"(Z74*60%)+(AA74*40%)","v":{"$error":"#DIV/0!"}},{"$f":"BA!K73","v":{"$error":"#DIV/0!"}},{"$f":"BA!N73","v":{"$error":"#DIV/0!"}},{"$f":"(AC74*60%)+(AD74*40%)","v":{"$error":"#DIV/0!"}},{"$f":"MTK!K73","v":{"$error":"#DIV/0!"}},{"$f":"MTK!L73","v":0},{"$f":"(AF74*60%)+(AG74*40%)","v":{"$error":"#DIV/0!"}},{"$f":"IPA!K73","v":{"$error":"#DIV/0!"}},{"$f":"IPA!N73","v":{"$error":"#DIV/0!"}},{"$f":"(AI74*60%)+(AJ74*40%)","v":{"$error":"#DIV/0!"}},{"$f":"IPS!K73","v":{"$error":"#DIV/0!"}},{"$f":"IPS!L73","v":0},{"$f":"(AL74*60%)+(AM74*40%)","v":{"$error":"#DIV/0!"}},{"$f":"SBK!K73","v":{"$error":"#DIV/0!"}},{"$f":"SBK!N73","v":{"$error":"#DIV/0!"}},{"$f":"(AO74*60%)+(AP74*40%)","v":{"$error":"#DIV/0!"}},{"$f":"PJK!K73","v":{"$error":"#DIV/0!"}},{"$f":"PJK!N73","v":{"$error":"#DIV/0!"}},{"$f":"(AR74*60%)+(AS74*40%)","v":{"$error":"#DIV/0!"}},{"$f":"BD!K73","v":{"$error":"#DIV/0!"}},{"$f":"BD!N73","v":{"$error":"#DIV/0!"}},{"$f":"(AU74*60%)+(AV74*40%)","v":{"$error":"#DIV/0!"}},{"$f":"BIG!K73","v":{"$error":"#DIV/0!"}},{"$f":"BIG!N73","v":{"$error":"#DIV/0!"}},{"$f":"(AX74*60%)+(AY74*40%)","v":{"$error":"#DIV/0!"}},{"$f":"AVERAGE(M74,P74,S74,V74,Y74,AB74,AE74,AH74,AK74,AN74,AQ74,AT74,AW74,AZ74)","v":{"$error":"#DIV/0!"}},{"$error":"#DIV/0!"},null,{"$error":"#DIV/0!"},{"$error":"#DIV/0!"},null,{"$error":"#DIV/0!"},{"$error":"#DIV/0!"},{"$f":"IPA!L73","v":0},{"$error":"#DIV/0!"},{"$f":"AVERAGE(BC74,BF74,BI74)","v":0},{"$error":"#DIV/0!"},{"$f":"SUM(BC74,BF74,BI74)","v":0},{"$f":"Z74","v":{"$error":"#DIV/0!"}},{"$f":"AA74","v":{"$error":"#DIV/0!"}},{"$f":"AB74","v":{"$error":"#DIV/0!"}},{"$f":"AF74","v":{"$error":"#DIV/0!"}},{"$f":"AG74","v":0},{"$f":"AH74","v":{"$error":"#DIV/0!"}},{"$f":"AI74","v":{"$error":"#DIV/0!"}},{"$f":"AJ74","v":{"$error":"#DIV/0!"}},{"$f":"AK74","v":{"$error":"#DIV/0!"}},null,null,{"$f":"BB74","v":{"$error":"#DIV/0!"}},{"$f":"BC74","v":0},{"$f":"BD74","v":{"$error":"#DIV/0!"}},{"$f":"BE74","v":{"$error":"#DIV/0!"}},{"$f":"BF74","v":0},{"$f":"BG74","v":{"$error":"#DIV/0!"}},{"$f":"BH74","v":{"$error":"#DIV/0!"}},{"$f":"BI74","v":0},{"$f":"BJ74","v":{"$error":"#DIV/0!"}},null,null,{"$f":"SISWA!S72","v":"116"}]
[{"$f":"SISWA!A74","v":67},{"$f":"IF(SISWA!B74=0,\"\",SISWA!B74)","v":""},{"$f":"IF(SISWA!C74=0,\"\",SISWA!C74)","v":""},{"$f":"IF(SISWA!D74=0,\"\",SISWA!D74)","v":"067-"},{"$f":"IF(SISWA!E74=0,\"\",SISWA!E74)","v":""},{"$f":"IF(SISWA!P73=0,\"\",SISWA!P73)","v":", 00 Januari 1900"},{"$f":"IF(SISWA!H74=0,\"\",SISWA!H74)","v":""},{"$f":"#REF!","v":{"$error":"#REF!"}},{"$f":"#REF!","v":{"$error":"#REF!"}},{"$error":"#REF!"},{"$f":"AA!K74","v":{"$error":"#DIV/0!"}},{"$f":"AA!N74","v":{"$error":"#DIV/0!"}},{"$error":"#DIV/0!"},{"$f":"AH!K74","v":{"$error":"#DIV/0!"}},{"$f":"AH!N74","v":{"$error":"#DIV/0!"}},{"$error":"#DIV/0!"},{"$f":"FQ!K74","v":{"$error":"#DIV/0!"}},{"$f":"FQ!N74","v":{"$error":"#DIV/0!"}},{"$error":"#DIV/0!"},{"$f":"SKI!K74","v":{"$error":"#DIV/0!"}},{"$f":"SKI!N74","v":{"$error":"#DIV/0!"}},{"$error":"#DIV/0!"},{"$f":"PKn!K74","v":{"$error":"#DIV/0!"}},{"$f":"PKn!N74","v":0},{"$error":"#DIV/0!"},{"$f":"BID!K74","v":{"$error":"#DIV/0!"}},{"$f":"BID!N74","v":{"$error":"#DIV/0!"}},{"$error":"#DIV/0!"},{"$f":"BA!K74","v":{"$error":"#DIV/0!"}},{"$f":"BA!N74","v":{"$error":"#DIV/0!"}},{"$error":"#DIV/0!"},{"$f":"MTK!K74","v":{"$error":"#DIV/0!"}},{"$f":"MTK!L74","v":0},{"$error":"#DIV/0!"},{"$f":"IPA!K74","v":{"$error":"#DIV/0!"}},{"$f":"IPA!N74","v":{"$error":"#DIV/0!"}},{"$error":"#DIV/0!"},{"$f":"IPS!K74","v":{"$error":"#DIV/0!"}},{"$f":"IPS!L74","v":0},{"$error":"#DIV/0!"},{"$f":"SBK!K74","v":{"$error":"#DIV/0!"}},{"$f":"SBK!N74","v":{"$error":"#DIV/0!"}},{"$error":"#DIV/0!"},{"$f":"PJK!K74","v":{"$error":"#DIV/0!"}},{"$f":"PJK!N74","v":{"$error":"#DIV/0!"}},{"$error":"#DIV/0!"},{"$f":"BD!K74","v":{"$error":"#DIV/0!"}},{"$f":"BD!N74","v":{"$error":"#DIV/0!"}},{"$error":"#DIV/0!"},{"$f":"BIG!K74","v":{"$error":"#DIV/0!"}},{"$f":"BIG!N74","v":{"$error":"#DIV/0!"}},{"$error":"#DIV/0!"},{"$error":"#DIV/0!"},{"$error":"#DIV/0!"},null,{"$error":"#DIV/0!"},{"$error":"#DIV/0!"},null,{"$error":"#DIV/0!"},{"$error":"#DIV/0!"},{"$f":"IPA!L74","v":0},{"$error":"#DIV/0!"},0,{"$error":"#DIV/0!"},0,{"$error":"#DIV/0!"},{"$error":"#DIV/0!"},{"$error":"#DIV/0!"},{"$error":"#DIV/0!"},0,{"$error":"#DIV/0!"},{"$error":"#DIV/0!"},{"$error":"#DIV/0!"},{"$error":"#DIV/0!"},null,null,{"$error":"#DIV/0!"},0,{"$error":"#DIV/0!"},{"$error":"#DIV/0!"},0,{"$error":"#DIV/0!"},{"$error":"#DIV/0!"},0,{"$error":"#DIV/0!"},null,null,{"$f":"SISWA!S73","v":"117"}]
[{"$f":"SISWA!A75","v":68},{"$f":"IF(SISWA!B75=0,\"\",SISWA!B75)","v":""},{"$f":"IF(SISWA!C75=0,\"\",SISWA!C75)","v":""},{"$f":"IF(SISWA!D75=0,\"\",SISWA!D75)","v":"068-"},{"$f":"IF(SISWA!E75=0,\"\",SISWA!E75)","v":""},{"$f":"IF(SISWA!P74=0,\"\",SISWA!P74)","v":", 00 Januari 1900"},{"$f":"IF(SISWA!H75=0,\"\",SISWA!H75)","v":""},{"$f":"#REF!","v":{"$error":"#REF!"}},{"$f":"#REF!","v":{"$error":"#REF!"}},{"$error":"#REF!"},{"$f":"AA!K75","v":{"$error":"#DIV/0!"}},{"$f":"AA!N75","v":{"$error":"#DIV/0!"}},{"$error":"#DIV/0!"},{"$f":"AH!K75","v":{"$error":"#DIV/0!"}},{"$f":"AH!N75","v":{"$error":"#DIV/0!"}},{"$error":"#DIV/0!"},{"$f":"FQ!K75","v":{"$error":"#DIV/0!"}},{"$f":"FQ!N75","v":{"$error":"#DIV/0!"}},{"$error":"#DIV/0!"},{"$f":"SKI!K75","v":{"$error":"#DIV/0!"}},{"$f":"SKI!N75","v":{"$error":"#DIV/0!"}},{"$error":"#DIV/0!"},{"$f":"PKn!K75","v":{"$error":"#DIV/0!"}},{"$f":"PKn!N75","v":0},{"$error":"#DIV/0!"},{"$f":"BID!K75","v":{"$error":"#DIV/0!"}},{"$f":"BID!N75","v":{"$error":"#DIV/0!"}},{"$error":"#DIV/0!"},{"$f":"BA!K75","v":{"$error":"#DIV/0!"}},{"$f":"BA!N75","v":{"$error":"#DIV/0!"}},{"$error":"#DIV/0!"},{"$f":"MTK!K75","v":{"$error":"#DIV/0!"}},{"$f":"MTK!L75","v":0},{"$error":"#DIV/0!"},{"$f":"IPA!K75","v":{"$error":"#DIV/0!"}},{"$f":"IPA!N75","v":{"$error":"#DIV/0!"}},{"$error":"#DIV/0!"},{"$f":"IPS!K75","v":{"$error":"#DIV/0!"}},{"$f":"IPS!L75","v":0},{"$error":"#DIV/0!"},{"$f":"SBK!K75","v":{"$error":"#DIV/0!"}},{"$f":"SBK!N75","v":{"$error":"#DIV/0!"}},{"$error":"#DIV/0!"},{"$f":"PJK!K75","v":{"$error":"#DIV/0!"}},{"$f":"PJK!N75","v":{"$error":"#DIV/0!"}},{"$error":"#DIV/0!"},{"$f":"BD!K75","v":{"$error":"#DIV/0!"}},{"$f":"BD!N75","v":{"$error":"#DIV/0!"}},{"$error":"#DIV/0!"},{"$f":"BIG!K75","v":{"$error":"#DIV/0!"}},{"$f":"BIG!N75","v":{"$error":"#DIV/0!"}},{"$error":"#DIV/0!"},{"$error":"#DIV/0!"},{"$error":"#DIV/0!"},null,{"$error":"#DIV/0!"},{"$error":"#DIV/0!"},null,{"$error":"#DIV/0!"},{"$error":"#DIV/0!"},{"$f":"IPA!L75","v":0},{"$error":"#DIV/0!"},0,{"$error":"#DIV/0!"},0,{"$error":"#DIV/0!"},{"$error":"#DIV/0!"},{"$error":"#DIV/0!"},{"$error":"#DIV/0!"},0,{"$error":"#DIV/0!"},{"$error":"#DIV/0!"},{"$error":"#DIV/0!"},{"$error":"#DIV/0!"},null,null,{"$error":"#DIV/0!"},0,{"$error":"#DIV/0!"},{"$error":"#DIV/0!"},0,{"$error":"#DIV/0!"},{"$error":"#DIV/0!"},0,{"$error":"#DIV/0!"},null,null,{"$f":"SISWA!S74","v":"118"}]
[{"$f":"SISWA!A76","v":69},{"$f":"IF(SISWA!B76=0,\"\",SISWA!B76)","v":""},{"$f":"IF(SISWA!C76=0,\"\",SISWA!C76)","v":""},{"$f":"IF(SISWA!D76=0,\"\",SISWA!D76)","v":"069-"},{"$f":"IF(SISWA!E76=0,\"\",SISWA!E76)","v":""},{"$f":"IF(SISWA!P75=0,\"\",SISWA!P75)","v":", 00 Januari 1900"},{"$f":"IF(SISWA!H76=0,\"\",SISWA!H76)","v":""},{"$f":"#REF!","v":{"$error":"#REF!"}},{"$f":"#REF!","v":{"$error":"#REF!"}},{"$error":"#REF!"},{"$f":"AA!K76","v":{"$error":"#DIV/0!"}},{"$f":"AA!N76","v":{"$error":"#DIV/0!"}},{"$error":"#DIV/0!"},{"$f":"AH!K76","v":{"$error":"#DIV/0!"}},{"$f":"AH!N76","v":{"$error":"#DIV/0!"}},{"$error":"#DIV/0!"},{"$f":"FQ!K76","v":{"$error":"#DIV/0!"}},{"$f":"FQ!N76","v":{"$error":"#DIV/0!"}},{"$error":"#DIV/0!"},{"$f":"SKI!K76","v":{"$error":"#DIV/0!"}},{"$f":"SKI!N76","v":{"$error":"#DIV/0!"}},{"$error":"#DIV/0!"},{"$f":"PKn!K76","v":{"$error":"#DIV/0!"}},{"$f":"PKn!N76","v":0},{"$error":"#DIV/0!"},{"$f":"BID!K76","v":{"$error":"#DIV/0!"}},{"$f":"BID!N76","v":{"$error":"#DIV/0!"}},{"$error":"#DIV/0!"},{"$f":"BA!K76","v":{"$error":"#DIV/0!"}},{"$f":"BA!N76","v":{"$error":"#DIV/0!"}},{"$error":"#DIV/0!"},{"$f":"MTK!K76","v":{"$error":"#DIV/0!"}},{"$f":"MTK!L76","v":0},{"$error":"#DIV/0!"},{"$f":"IPA!K76","v":{"$error":"#DIV/0!"}},{"$f":"IPA!N76","v":{"$error":"#DIV/0!"}},{"$error":"#DIV/0!"},{"$f":"IPS!K76","v":{"$error":"#DIV/0!"}},{"$f":"IPS!L76","v":0},{"$error":"#DIV/0!"},{"$f":"SBK!K76","v":{"$error":"#DIV/0!"}},{"$f":"SBK!N76","v":{"$error":"#DIV/0!"}},{"$error":"#DIV/0!"},{"$f":"PJK!K76","v":{"$error":"#DIV/0!"}},{"$f":"PJK!N76","v":{"$error":"#DIV/0!"}},{"$error":"#DIV/0!"},{"$f":"BD!K76","v":{"$error":"#DIV/0!"}},{"$f":"BD!N76","v":{"$error":"#DIV/0!"}},{"$error":"#DIV/0!"},{"$f":"BIG!K76","v":{"$error":"#DIV/0!"}},{"$f":"BIG!N76","v":{"$error":"#DIV/0!"}},{"$error":"#DIV/0!"},{"$error":"#DIV/0!"},{"$error":"#DIV/0!"},null,{"$error":"#DIV/0!"},{"$error":"#DIV/0!"},null,{"$error":"#DIV/0!"},{"$error":"#DIV/0!"},{"$f":"IPA!L76","v":0},{"$error":"#DIV/0!"},0,{"$error":"#DIV/0!"},0,{"$error":"#DIV/0!"},{"$error":"#DIV/0!"},{"$error":"#DIV/0!"},{"$error":"#DIV/0!"},0,{"$error":"#DIV/0!"},{"$error":"#DIV/0!"},{"$error":"#DIV/0!"},{"$error":"#DIV/0!"},null,null,{"$error":"#DIV/0!"},0,{"$error":"#DIV/0!"},{"$error":"#DIV/0!"},0,{"$error":"#DIV/0!"},{"$error":"#DIV/0!"},0,{"$error":"#DIV/0!"},null,null,{"$f":"SISWA!S75","v":"119"}]
[{"$f":"SISWA!A77","v":70},{"$f":"IF(SISWA!B77=0,\"\",SISWA!B77)","v":""},{"$f":"IF(SISWA!C77=0,\"\",SISWA!C77)","v":""},{"$f":"IF(SISWA!D77=0,\"\",SISWA!D77)","v":"070-"},{"$f":"IF(SISWA!E77=0,\"\",SISWA!E77)","v":""},{"$f":"IF(SISWA!P76=0,\"\",SISWA!P76)","v":", 00 Januari 1900"},{"$f":"IF(SISWA!H77=0,\"\",SISWA!H77)","v":""},{"$f":"#REF!","v":{"$error":"#REF!"}},{"$f":"#REF!","v":{"$error":"#REF!"}},{"$error":"#REF!"},{"$f":"AA!K77","v":{"$error":"#DIV/0!"}},{"$f":"AA!N77","v":{"$error":"#DIV/0!"}},{"$error":"#DIV/0!"},{"$f":"AH!K77","v":{"$error":"#DIV/0!"}},{"$f":"AH!N77","v":{"$error":"#DIV/0!"}},{"$error":"#DIV/0!"},{"$f":"FQ!K77","v":{"$error":"#DIV/0!"}},{"$f":"FQ!N77","v":{"$error":"#DIV/0!"}},{"$error":"#DIV/0!"},{"$f":"SKI!K77","v":{"$error":"#DIV/0!"}},{"$f":"SKI!N77","v":{"$error":"#DIV/0!"}},{"$error":"#DIV/0!"},{"$f":"PKn!K77","v":{"$error":"#DIV/0!"}},{"$f":"PKn!N77","v":0},{"$error":"#DIV/0!"},{"$f":"BID!K77","v":{"$error":"#DIV/0!"}},{"$f":"BID!N77","v":{"$error":"#DIV/0!"}},{"$error":"#DIV/0!"},{"$f":"BA!K77","v":{"$error":"#DIV/0!"}},{"$f":"BA!N77","v":{"$error":"#DIV/0!"}},{"$error":"#DIV/0!"},{"$f":"MTK!K77","v":{"$error":"#DIV/0!"}},{"$f":"MTK!L77","v":0},{"$error":"#DIV/0!"},{"$f":"IPA!K77","v":{"$error":"#DIV/0!"}},{"$f":"IPA!N77","v":{"$error":"#DIV/0!"}},{"$error":"#DIV/0!"},{"$f":"IPS!K77","v":{"$error":"#DIV/0!"}},{"$f":"IPS!L77","v":0},{"$error":"#DIV/0!"},{"$f":"SBK!K77","v":{"$error":"#DIV/0!"}},{"$f":"SBK!N77","v":{"$error":"#DIV/0!"}},{"$error":"#DIV/0!"},{"$f":"PJK!K77","v":{"$error":"#DIV/0!"}},{"$f":"PJK!N77","v":{"$error":"#DIV/0!"}},{"$error":"#DIV/0!"},{"$f":"BD!K77","v":{"$error":"#DIV/0!"}},{"$f":"BD!N77","v":{"$error":"#DIV/0!"}},{"$error":"#DIV/0!"},{"$f":"BIG!K77","v":{"$error":"#DIV/0!"}},{"$f":"BIG!N77","v":{"$error":"#DIV/0!"}},{"$error":"#DIV/0!"},{"$error":"#DIV/0!"},{"$error":"#DIV/0!"},null,{"$error":"#DIV/0!"},{"$error":"#DIV/0!"},null,{"$error":"#DIV/0!"},{"$error":"#DIV/0!"},{"$f":"IPA!L77","v":0},{"$error":"#DIV/0!"},0,{"$error":"#DIV/0!"},0,{"$error":"#DIV/0!"},{"$error":"#DIV/0!"},{"$error":"#DIV/0!"},{"$error":"#DIV/0!"},0,{"$error":"#DIV/0!"},{"$error":"#DIV/0!"},{"$error":"#DIV/0!"},{"$error":"#DIV/0!"},null,null,{"$error":"#DIV/0!"},0,{"$error":"#DIV/0!"},{"$error":"#DIV/0!"},0,{"$error":"#DIV/0!"},{"$error":"#DIV/0!"},0,{"$error":"#DIV/0!"},null,null,{"$f":"SISWA!S76","v":"120"}]
[{"$f":"SISWA!A78","v":71},{"$f":"IF(SISWA!B78=0,\"\",SISWA!B78)","v":""},{"$f":"IF(SISWA!C78=0,\"\",SISWA!C78)","v":""},{"$f":"IF(SISWA!D78=0,\"\",SISWA!D78)","v":"071-"},{"$f":"IF(SISWA!E78=0,\"\",SISWA!E78)","v":""},{"$f":"IF(SISWA!P77=0,\"\",SISWA!P77)","v":", 00 Januari 1900"},{"$f":"IF(SISWA!H78=0,\"\",SISWA!H78)","v":""},{"$f":"#REF!","v":{"$error":"#REF!"}},{"$f":"#REF!","v":{"$error":"#REF!"}},{"$error":"#REF!"},{"$f":"AA!K78","v":{"$error":"#DIV/0!"}},{"$f":"AA!N78","v":{"$error":"#DIV/0!"}},{"$error":"#DIV/0!"},{"$f":"AH!K78","v":{"$error":"#DIV/0!"}},{"$f":"AH!N78","v":{"$error":"#DIV/0!"}},{"$error":"#DIV/0!"},{"$f":"FQ!K78","v":{"$error":"#DIV/0!"}},{"$f":"FQ!N78","v":{"$error":"#DIV/0!"}},{"$error":"#DIV/0!"},{"$f":"SKI!K78","v":{"$error":"#DIV/0!"}},{"$f":"SKI!N78","v":{"$error":"#DIV/0!"}},{"$error":"#DIV/0!"},{"$f":"PKn!K78","v":{"$error":"#DIV/0!"}},{"$f":"PKn!N78","v":0},{"$error":"#DIV/0!"},{"$f":"BID!K78","v":{"$error":"#DIV/0!"}},{"$f":"BID!N78","v":{"$error":"#DIV/0!"}},{"$error":"#DIV/0!"},{"$f":"BA!K78","v":{"$error":"#DIV/0!"}},{"$f":"BA!N78","v":{"$error":"#DIV/0!"}},{"$error":"#DIV/0!"},{"$f":"MTK!K78","v":{"$error":"#DIV/0!"}},{"$f":"MTK!L78","v":0},{"$error":"#DIV/0!"},{"$f":"IPA!K78","v":{"$error":"#DIV/0!"}},{"$f":"IPA!N78","v":{"$error":"#DIV/0!"}},{"$error":"#DIV/0!"},{"$f":"IPS!K78","v":{"$error":"#DIV/0!"}},{"$f":"IPS!L78","v":0},{"$error":"#DIV/0!"},{"$f":"SBK!K78","v":{"$error":"#DIV/0!"}},{"$f":"SBK!N78","v":{"$error":"#DIV/0!"}},{"$error":"#DIV/0!"},{"$f":"PJK!K78","v":{"$error":"#DIV/0!"}},{"$f":"PJK!N78","v":{"$error":"#DIV/0!"}},{"$error":"#DIV/0!"},{"$f":"BD!K78","v":{"$error":"#DIV/0!"}},{"$f":"BD!N78","v":{"$error":"#DIV/0!"}},{"$error":"#DIV/0!"},{"$f":"BIG!K78","v":{"$error":"#DIV/0!"}},{"$f":"BIG!N78","v":{"$error":"#DIV/0!"}},{"$error":"#DIV/0!"},{"$error":"#DIV/0!"},{"$error":"#DIV/0!"},null,{"$error":"#DIV/0!"},{"$error":"#DIV/0!"},null,{"$error":"#DIV/0!"},{"$error":"#DIV/0!"},{"$f":"IPA!L78","v":0},{"$error":"#DIV/0!"},0,{"$error":"#DIV/0!"},0,{"$error":"#DIV/0!"},{"$error":"#DIV/0!"},{"$error":"#DIV/0!"},{"$error":"#DIV/0!"},0,{"$error":"#DIV/0!"},{"$error":"#DIV/0!"},{"$error":"#DIV/0!"},{"$error":"#DIV/0!"},null,null,{"$error":"#DIV/0!"},0,{"$error":"#DIV/0!"},{"$error":"#DIV/0!"},0,{"$error":"#DIV/0!"},{"$error":"#DIV/0!"},0,{"$error":"#DIV/0!"},null,null,{"$f":"SISWA!S77","v":"121"}]
[{"$f":"SISWA!A79","v":72},{"$f":"IF(SISWA!B79=0,\"\",SISWA!B79)","v":""},{"$f":"IF(SISWA!C79=0,\"\",SISWA!C79)","v":""},{"$f":"IF(SISWA!D79=0,\"\",SISWA!D79)","v":"072-"},{"$f":"IF(SISWA!E79=0,\"\",SISWA!E79)","v":""},{"$f":"IF(SISWA!P78=0,\"\",SISWA!P78)","v":", 00 Januari 1900"},{"$f":"IF(SISWA!H79=0,\"\",SISWA!H79)","v":""},{"$f":"#REF!","v":{"$error":"#REF!"}},{"$f":"#REF!","v":{"$error":"#REF!"}},{"$error":"#REF!"},{"$f":"AA!K79","v":{"$error":"#DIV/0!"}},{"$f":"AA!N79","v":{"$error":"#DIV/0!"}},{"$error":"#DIV/0!"},{"$f":"AH!K79","v":{"$error":"#DIV/0!"}},{"$f":"AH!N79","v":{"$error":"#DIV/0!"}},{"$error":"#DIV/0!"},{"$f":"FQ!K79","v":{"$error":"#DIV/0!"}},{"$f":"FQ!N79","v":{"$error":"#DIV/0!"}},{"$error":"#DIV/0!"},{"$f":"SKI!K79","v":{"$error":"#DIV/0!"}},{"$f":"SKI!N79","v":{"$error":"#DIV/0!"}},{"$error":"#DIV/0!"},{"$f":"PKn!K79","v":{"$error":"#DIV/0!"}},{"$f":"PKn!N79","v":0},{"$error":"#DIV/0!"},{"$f":"BID!K79","v":{"$error":"#DIV/0!"}},{"$f":"BID!N79","v":{"$error":"#DIV/0!"}},{"$error":"#DIV/0!"},{"$f":"BA!K79","v":{"$error":"#DIV/0!"}},{"$f":"BA!N79","v":{"$error":"#DIV/0!"}},{"$error":"#DIV/0!"},{"$f":"MTK!K79","v":{"$error":"#DIV/0!"}},{"$f":"MTK!L79","v":0},{"$error":"#DIV/0!"},{"$f":"IPA!K79","v":{"$error":"#DIV/0!"}},{"$f":"IPA!N79","v":{"$error":"#DIV/0!"}},{"$error":"#DIV/0!"},{"$f":"IPS!K79","v":{"$error":"#DIV/0!"}},{"$f":"IPS!L79","v":0},{"$error":"#DIV/0!"},{"$f":"SBK!K79","v":{"$error":"#DIV/0!"}},{"$f":"SBK!N79","v":{"$error":"#DIV/0!"}},{"$error":"#DIV/0!"},{"$f":"PJK!K79","v":{"$error":"#DIV/0!"}},{"$f":"PJK!N79","v":{"$error":"#DIV/0!"}},{"$error":"#DIV/0!"},{"$f":"BD!K79","v":{"$error":"#DIV/0!"}},{"$f":"BD!N79","v":{"$error":"#DIV/0!"}},{"$error":"#DIV/0!"},{"$f":"BIG!K79","v":{"$error":"#DIV/0!"}},{"$f":"BIG!N79","v":{"$error":"#DIV/0!"}},{"$error":"#DIV/0!"},{"$error":"#DIV/0!"},{"$error":"#DIV/0!"},null,{"$error":"#DIV/0!"},{"$error":"#DIV/0!"},null,{"$error":"#DIV/0!"},{"$error":"#DIV/0!"},{"$f":"IPA!L79","v":0},{"$error":"#DIV/0!"},0,{"$error":"#DIV/0!"},0,{"$error":"#DIV/0!"},{"$error":"#DIV/0!"},{"$error":"#DIV/0!"},{"$error":"#DIV/0!"},0,{"$error":"#DIV/0!"},{"$error":"#DIV/0!"},{"$error":"#DIV/0!"},{"$error":"#DIV/0!"},null,null,{"$error":"#DIV/0!"},0,{"$error":"#DIV/0!"},{"$error":"#DIV/0!"},0,{"$error":"#DIV/0!"},{"$error":"#DIV/0!"},0,{"$error":"#DIV/0!"},null,null,{"$f":"SISWA!S78","v":"122"}]
[{"$f":"SISWA!A80","v":73},{"$f":"IF(SISWA!B80=0,\"\",SISWA!B80)","v":""},{"$f":"IF(SISWA!C80=0,\"\",SISWA!C80)","v":""},{"$f":"IF(SISWA!D80=0,\"\",SISWA!D80)","v":"073-"},{"$f":"IF(SISWA!E80=0,\"\",SISWA!E80)","v":""},{"$f":"IF(SISWA!P79=0,\"\",SISWA!P79)","v":", 00 Januari 1900"},{"$f":"IF(SISWA!H80=0,\"\",SISWA!H80)","v":""},{"$f":"#REF!","v":{"$error":"#REF!"}},{"$f":"#REF!","v":{"$error":"#REF!"}},{"$error":"#REF!"},{"$f":"AA!K80","v":{"$error":"#DIV/0!"}},{"$f":"AA!N80","v":{"$error":"#DIV/0!"}},{"$error":"#DIV/0!"},{"$f":"AH!K80","v":{"$error":"#DIV/0!"}},{"$f":"AH!N80","v":{"$error":"#DIV/0!"}},{"$error":"#DIV/0!"},{"$f":"FQ!K80","v":{"$error":"#DIV/0!"}},{"$f":"FQ!N80","v":{"$error":"#DIV/0!"}},{"$error":"#DIV/0!"},{"$f":"SKI!K80","v":{"$error":"#DIV/0!"}},{"$f":"SKI!N80","v":{"$error":"#DIV/0!"}},{"$error":"#DIV/0!"},{"$f":"PKn!K80","v":{"$error":"#DIV/0!"}},{"$f":"PKn!N80","v":0},{"$error":"#DIV/0!"},{"$f":"BID!K80","v":{"$error":"#DIV/0!"}},{"$f":"BID!N80","v":{"$error":"#DIV/0!"}},{"$error":"#DIV/0!"},{"$f":"BA!K80","v":{"$error":"#DIV/0!"}},{"$f":"BA!N80","v":{"$error":"#DIV/0!"}},{"$error":"#DIV/0!"},{"$f":"MTK!K80","v":{"$error":"#DIV/0!"}},{"$f":"MTK!L80","v":0},{"$error":"#DIV/0!"},{"$f":"IPA!K80","v":{"$error":"#DIV/0!"}},{"$f":"IPA!N80","v":{"$error":"#DIV/0!"}},{"$error":"#DIV/0!"},{"$f":"IPS!K80","v":{"$error":"#DIV/0!"}},{"$f":"IPS!L80","v":0},{"$error":"#DIV/0!"},{"$f":"SBK!K80","v":{"$error":"#DIV/0!"}},{"$f":"SBK!N80","v":{"$error":"#DIV/0!"}},{"$error":"#DIV/0!"},{"$f":"PJK!K80","v":{"$error":"#DIV/0!"}},{"$f":"PJK!N80","v":{"$error":"#DIV/0!"}},{"$error":"#DIV/0!"},{"$f":"BD!K80","v":{"$error":"#DIV/0!"}},{"$f":"BD!N80","v":{"$error":"#DIV/0!"}},{"$error":"#DIV/0!"},{"$f":"BIG!K80","v":{"$error":"#DIV/0!"}},{"$f":"BIG!N80","v":{"$error":"#DIV/0!"}},{"$error":"#DIV/0!"},{"$error":"#DIV/0!"},{"$error":"#DIV/0!"},null,{"$error":"#DIV/0!"},{"$error":"#DIV/0!"},null,{"$error":"#DIV/0!"},{"$error":"#DIV/0!"},{"$f":"IPA!L80","v":0},{"$error":"#DIV/0!"},0,{"$error":"#DIV/0!"},0,{"$error":"#DIV/0!"},{"$error":"#DIV/0!"},{"$error":"#DIV/0!"},{"$error":"#DIV/0!"},0,{"$error":"#DIV/0!"},{"$error":"#DIV/0!"},{"$error":"#DIV/0!"},{"$error":"#DIV/0!"},null,null,{"$error":"#DIV/0!"},0,{"$error":"#DIV/0!"},{"$error":"#DIV/0!"},0,{"$error":"#DIV/0!"},{"$error":"#DIV/0!"},0,{"$error":"#DIV/0!"},null,null,{"$f":"SISWA!S79","v":"123"}]
[{"$f":"SISWA!A81","v":74},{"$f":"IF(SISWA!B81=0,\"\",SISWA!B81)","v":""},{"$f":"IF(SISWA!C81=0,\"\",SISWA!C81)","v":""},{"$f":"IF(SISWA!D81=0,\"\",SISWA!D81)","v":"074-"},{"$f":"IF(SISWA!E81=0,\"\",SISWA!E81)","v":""},{"$f":"IF(SISWA!P80=0,\"\",SISWA!P80)","v":", 00 Januari 1900"},{"$f":"IF(SISWA!H81=0,\"\",SISWA!H81)","v":""},{"$f":"#REF!","v":{"$error":"#REF!"}},{"$f":"#REF!","v":{"$error":"#REF!"}},{"$error":"#REF!"},{"$f":"AA!K81","v":{"$error":"#DIV/0!"}},{"$f":"AA!N81","v":{"$error":"#DIV/0!"}},{"$error":"#DIV/0!"},{"$f":"AH!K81","v":{"$error":"#DIV/0!"}},{"$f":"AH!N81","v":{"$error":"#DIV/0!"}},{"$error":"#DIV/0!"},{"$f":"FQ!K81","v":{"$error":"#DIV/0!"}},{"$f":"FQ!N81","v":{"$error":"#DIV/0!"}},{"$error":"#DIV/0!"},{"$f":"SKI!K81","v":{"$error":"#DIV/0!"}},{"$f":"SKI!N81","v":{"$error":"#DIV/0!"}},{"$error":"#DIV/0!"},{"$f":"PKn!K81","v":{"$error":"#DIV/0!"}},{"$f":"PKn!N81","v":0},{"$error":"#DIV/0!"},{"$f":"BID!K81","v":{"$error":"#DIV/0!"}},{"$f":"BID!N81","v":{"$error":"#DIV/0!"}},{"$error":"#DIV/0!"},{"$f":"BA!K81","v":{"$error":"#DIV/0!"}},{"$f":"BA!N81","v":{"$error":"#DIV/0!"}},{"$error":"#DIV/0!"},{"$f":"MTK!K81","v":{"$error":"#DIV/0!"}},{"$f":"MTK!L81","v":0},{"$error":"#DIV/0!"},{"$f":"IPA!K81","v":{"$error":"#DIV/0!"}},{"$f":"IPA!N81","v":{"$error":"#DIV/0!"}},{"$error":"#DIV/0!"},{"$f":"IPS!K81","v":{"$error":"#DIV/0!"}},{"$f":"IPS!L81","v":0},{"$error":"#DIV/0!"},{"$f":"SBK!K81","v":{"$error":"#DIV/0!"}},{"$f":"SBK!N81","v":{"$error":"#DIV/0!"}},{"$error":"#DIV/0!"},{"$f":"PJK!K81","v":{"$error":"#DIV/0!"}},{"$f":"PJK!N81","v":{"$error":"#DIV/0!"}},{"$error":"#DIV/0!"},{"$f":"BD!K81","v":{"$error":"#DIV/0!"}},{"$f":"BD!N81","v":{"$error":"#DIV/0!"}},{"$error":"#DIV/0!"},{"$f":"BIG!K81","v":{"$error":"#DIV/0!"}},{"$f":"BIG!N81","v":{"$error":"#DIV/0!"}},{"$error":"#DIV/0!"},{"$error":"#DIV/0!"},{"$error":"#DIV/0!"},null,{"$error":"#DIV/0!"},{"$error":"#DIV/0!"},null,{"$error":"#DIV/0!"},{"$error":"#DIV/0!"},{"$f":"IPA!L81","v":0},{"$error":"#DIV/0!"},0,{"$error":"#DIV/0!"},0,{"$error":"#DIV/0!"},{"$error":"#DIV/0!"},{"$error":"#DIV/0!"},{"$error":"#DIV/0!"},0,{"$error":"#DIV/0!"},{"$error":"#DIV/0!"},{"$error":"#DIV/0!"},{"$error":"#DIV/0!"},null,null,{"$error":"#DIV/0!"},0,{"$error":"#DIV/0!"},{"$error":"#DIV/0!"},0,{"$error":"#DIV/0!"},{"$error":"#DIV/0!"},0,{"$error":"#DIV/0!"},null,null,{"$f":"SISWA!S80","v":"124"}]
[{"$f":"SISWA!A82","v":75},{"$f":"IF(SISWA!B82=0,\"\",SISWA!B82)","v":""},{"$f":"IF(SISWA!C82=0,\"\",SISWA!C82)","v":""},{"$f":"IF(SISWA!D82=0,\"\",SISWA!D82)","v":"075-"},{"$f":"IF(SISWA!E82=0,\"\",SISWA!E82)","v":""},{"$f":"IF(SISWA!P81=0,\"\",SISWA!P81)","v":", 00 Januari 1900"},{"$f":"IF(SISWA!H82=0,\"\",SISWA!H82)","v":""},{"$f":"#REF!","v":{"$error":"#REF!"}},{"$f":"#REF!","v":{"$error":"#REF!"}},{"$error":"#REF!"},{"$f":"AA!K82","v":{"$error":"#DIV/0!"}},{"$f":"AA!N82","v":{"$error":"#DIV/0!"}},{"$error":"#DIV/0!"},{"$f":"AH!K82","v":{"$error":"#DIV/0!"}},{"$f":"AH!N82","v":{"$error":"#DIV/0!"}},{"$error":"#DIV/0!"},{"$f":"FQ!K82","v":{"$error":"#DIV/0!"}},{"$f":"FQ!N82","v":{"$error":"#DIV/0!"}},{"$error":"#DIV/0!"},{"$f":"SKI!K82","v":{"$error":"#DIV/0!"}},{"$f":"SKI!N82","v":{"$error":"#DIV/0!"}},{"$error":"#DIV/0!"},{"$f":"PKn!K82","v":{"$error":"#DIV/0!"}},{"$f":"PKn!N82","v":0},{"$error":"#DIV/0!"},{"$f":"BID!K82","v":{"$error":"#DIV/0!"}},{"$f":"BID!N82","v":{"$error":"#DIV/0!"}},{"$error":"#DIV/0!"},{"$f":"BA!K82","v":{"$error":"#DIV/0!"}},{"$f":"BA!N82","v":{"$error":"#DIV/0!"}},{"$error":"#DIV/0!"},{"$f":"MTK!K82","v":{"$error":"#DIV/0!"}},{"$f":"MTK!L82","v":0},{"$error":"#DIV/0!"},{"$f":"IPA!K82","v":{"$error":"#DIV/0!"}},{"$f":"IPA!N82","v":{"$error":"#DIV/0!"}},{"$error":"#DIV/0!"},{"$f":"IPS!K82","v":{"$error":"#DIV/0!"}},{"$f":"IPS!L82","v":0},{"$error":"#DIV/0!"},{"$f":"SBK!K82","v":{"$error":"#DIV/0!"}},{"$f":"SBK!N82","v":{"$error":"#DIV/0!"}},{"$error":"#DIV/0!"},{"$f":"PJK!K82","v":{"$error":"#DIV/0!"}},{"$f":"PJK!N82","v":{"$error":"#DIV/0!"}},{"$error":"#DIV/0!"},{"$f":"BD!K82","v":{"$error":"#DIV/0!"}},{"$f":"BD!N82","v":{"$error":"#DIV/0!"}},{"$error":"#DIV/0!"},{"$f":"BIG!K82","v":{"$error":"#DIV/0!"}},{"$f":"BIG!N82","v":{"$error":"#DIV/0!"}},{"$error":"#DIV/0!"},{"$error":"#DIV/0!"},{"$error":"#DIV/0!"},null,{"$error":"#DIV/0!"},{"$error":"#DIV/0!"},null,{"$error":"#DIV/0!"},{"$error":"#DIV/0!"},{"$f":"IPA!L82","v":0},{"$error":"#DIV/0!"},0,{"$error":"#DIV/0!"},0,{"$error":"#DIV/0!"},{"$error":"#DIV/0!"},{"$error":"#DIV/0!"},{"$error":"#DIV/0!"},0,{"$error":"#DIV/0!"},{"$error":"#DIV/0!"},{"$error":"#DIV/0!"},{"$error":"#DIV/0!"},null,null,{"$error":"#DIV/0!"},0,{"$error":"#DIV/0!"},{"$error":"#DIV/0!"},0,{"$error":"#DIV/0!"},{"$error":"#DIV/0!"},0,{"$error":"#DIV/0!"},null,null,{"$f":"SISWA!S81","v":"125"}]
[{"$f":"SISWA!A83","v":76},{"$f":"IF(SISWA!B83=0,\"\",SISWA!B83)","v":""},{"$f":"IF(SISWA!C83=0,\"\",SISWA!C83)","v":""},{"$f":"IF(SISWA!D83=0,\"\",SISWA!D83)","v":"076-"},{"$f":"IF(SISWA!E83=0,\"\",SISWA!E83)","v":""},{"$f":"IF(SISWA!P82=0,\"\",SISWA!P82)","v":", 00 Januari 1900"},{"$f":"IF(SISWA!H83=0,\"\",SISWA!H83)","v":""},{"$f":"#REF!","v":{"$error":"#REF!"}},{"$f":"#REF!","v":{"$error":"#REF!"}},{"$error":"#REF!"},{"$f":"AA!K83","v":{"$error":"#DIV/0!"}},{"$f":"AA!N83","v":{"$error":"#DIV/0!"}},{"$error":"#DIV/0!"},{"$f":"AH!K83","v":{"$error":"#DIV/0!"}},{"$f":"AH!N83","v":{"$error":"#DIV/0!"}},{"$error":"#DIV/0!"},{"$f":"FQ!K83","v":{"$error":"#DIV/0!"}},{"$f":"FQ!N83","v":{"$error":"#DIV/0!"}},{"$error":"#DIV/0!"},{"$f":"SKI!K83","v":{"$error":"#DIV/0!"}},{"$f":"SKI!N83","v":{"$error":"#DIV/0!"}},{"$error":"#DIV/0!"},{"$f":"PKn!K83","v":{"$error":"#DIV/0!"}},{"$f":"PKn!N83","v":0},{"$error":"#DIV/0!"},{"$f":"BID!K83","v":{"$error":"#DIV/0!"}},{"$f":"BID!N83","v":{"$error":"#DIV/0!"}},{"$error":"#DIV/0!"},{"$f":"BA!K83","v":{"$error":"#DIV/0!"}},{"$f":"BA!N83","v":{"$error":"#DIV/0!"}},{"$error":"#DIV/0!"},{"$f":"MTK!K83","v":{"$error":"#DIV/0!"}},{"$f":"MTK!L83","v":0},{"$error":"#DIV/0!"},{"$f":"IPA!K83","v":{"$error":"#DIV/0!"}},{"$f":"IPA!N83","v":{"$error":"#DIV/0!"}},{"$error":"#DIV/0!"},{"$f":"IPS!K83","v":{"$error":"#DIV/0!"}},{"$f":"IPS!L83","v":0},{"$error":"#DIV/0!"},{"$f":"SBK!K83","v":{"$error":"#DIV/0!"}},{"$f":"SBK!N83","v":{"$error":"#DIV/0!"}},{"$error":"#DIV/0!"},{"$f":"PJK!K83","v":{"$error":"#DIV/0!"}},{"$f":"PJK!N83","v":{"$error":"#DIV/0!"}},{"$error":"#DIV/0!"},{"$f":"BD!K83","v":{"$error":"#DIV/0!"}},{"$f":"BD!N83","v":{"$error":"#DIV/0!"}},{"$error":"#DIV/0!"},{"$f":"BIG!K83","v":{"$error":"#DIV/0!"}},{"$f":"BIG!N83","v":{"$error":"#DIV/0!"}},{"$error":"#DIV/0!"},{"$error":"#DIV/0!"},{"$error":"#DIV/0!"},null,{"$error":"#DIV/0!"},{"$error":"#DIV/0!"},null,{"$error":"#DIV/0!"},{"$error":"#DIV/0!"},{"$f":"IPA!L83","v":0},{"$error":"#DIV/0!"},0,{"$error":"#DIV/0!"},0,{"$error":"#DIV/0!"},{"$error":"#DIV/0!"},{"$error":"#DIV/0!"},{"$error":"#DIV/0!"},0,{"$error":"#DIV/0!"},{"$error":"#DIV/0!"},{"$error":"#DIV/0!"},{"$error":"#DIV/0!"},null,null,{"$error":"#DIV/0!"},0,{"$error":"#DIV/0!"},{"$error":"#DIV/0!"},0,{"$error":"#DIV/0!"},{"$error":"#DIV/0!"},0,{"$error":"#DIV/0!"},null,null,{"$f":"SISWA!S82","v":"126"}]
[{"$f":"SISWA!A84","v":77},{"$f":"IF(SISWA!B84=0,\"\",SISWA!B84)","v":""},{"$f":"IF(SISWA!C84=0,\"\",SISWA!C84)","v":""},{"$f":"IF(SISWA!D84=0,\"\",SISWA!D84)","v":"077-"},{"$f":"IF(SISWA!E84=0,\"\",SISWA!E84)","v":""},{"$f":"IF(SISWA!P83=0,\"\",SISWA!P83)","v":", 00 Januari 1900"},{"$f":"IF(SISWA!H84=0,\"\",SISWA!H84)","v":""},{"$f":"#REF!","v":{"$error":"#REF!"}},{"$f":"#REF!","v":{"$error":"#REF!"}},{"$error":"#REF!"},{"$f":"AA!K84","v":{"$error":"#DIV/0!"}},{"$f":"AA!N84","v":{"$error":"#DIV/0!"}},{"$error":"#DIV/0!"},{"$f":"AH!K84","v":{"$error":"#DIV/0!"}},{"$f":"AH!N84","v":{"$error":"#DIV/0!"}},{"$error":"#DIV/0!"},{"$f":"FQ!K84","v":{"$error":"#DIV/0!"}},{"$f":"FQ!N84","v":{"$error":"#DIV/0!"}},{"$error":"#DIV/0!"},{"$f":"SKI!K84","v":{"$error":"#DIV/0!"}},{"$f":"SKI!N84","v":{"$error":"#DIV/0!"}},{"$error":"#DIV/0!"},{"$f":"PKn!K84","v":{"$error":"#DIV/0!"}},{"$f":"PKn!N84","v":0},{"$error":"#DIV/0!"},{"$f":"BID!K84","v":{"$error":"#DIV/0!"}},{"$f":"BID!N84","v":{"$error":"#DIV/0!"}},{"$error":"#DIV/0!"},{"$f":"BA!K84","v":{"$error":"#DIV/0!"}},{"$f":"BA!N84","v":{"$error":"#DIV/0!"}},{"$error":"#DIV/0!"},{"$f":"MTK!K84","v":{"$error":"#DIV/0!"}},{"$f":"MTK!L84","v":0},{"$error":"#DIV/0!"},{"$f":"IPA!K84","v":{"$error":"#DIV/0!"}},{"$f":"IPA!N84","v":{"$error":"#DIV/0!"}},{"$error":"#DIV/0!"},{"$f":"IPS!K84","v":{"$error":"#DIV/0!"}},{"$f":"IPS!L84","v":0},{"$error":"#DIV/0!"},{"$f":"SBK!K84","v":{"$error":"#DIV/0!"}},{"$f":"SBK!N84","v":{"$error":"#DIV/0!"}},{"$error":"#DIV/0!"},{"$f":"PJK!K84","v":{"$error":"#DIV/0!"}},{"$f":"PJK!N84","v":{"$error":"#DIV/0!"}},{"$error":"#DIV/0!"},{"$f":"BD!K84","v":{"$error":"#DIV/0!"}},{"$f":"BD!N84","v":{"$error":"#DIV/0!"}},{"$error":"#DIV/0!"},{"$f":"BIG!K84","v":{"$error":"#DIV/0!"}},{"$f":"BIG!N84","v":{"$error":"#DIV/0!"}},{"$error":"#DIV/0!"},{"$error":"#DIV/0!"},{"$error":"#DIV/0!"},null,{"$error":"#DIV/0!"},{"$error":"#DIV/0!"},null,{"$error":"#DIV/0!"},{"$error":"#DIV/0!"},{"$f":"IPA!L84","v":0},{"$error":"#DIV/0!"},0,{"$error":"#DIV/0!"},0,{"$error":"#DIV/0!"},{"$error":"#DIV/0!"},{"$error":"#DIV/0!"},{"$error":"#DIV/0!"},0,{"$error":"#DIV/0!"},{"$error":"#DIV/0!"},{"$error":"#DIV/0!"},{"$error":"#DIV/0!"},null,null,{"$error":"#DIV/0!"},0,{"$error":"#DIV/0!"},{"$error":"#DIV/0!"},0,{"$error":"#DIV/0!"},{"$error":"#DIV/0!"},0,{"$error":"#DIV/0!"},null,null,{"$f":"SISWA!S83","v":"127"}]
[{"$f":"SISWA!A85","v":78},{"$f":"IF(SISWA!B85=0,\"\",SISWA!B85)","v":""},{"$f":"IF(SISWA!C85=0,\"\",SISWA!C85)","v":""},{"$f":"IF(SISWA!D85=0,\"\",SISWA!D85)","v":"078-"},{"$f":"IF(SISWA!E85=0,\"\",SISWA!E85)","v":""},{"$f":"IF(SISWA!P84=0,\"\",SISWA!P84)","v":", 00 Januari 1900"},{"$f":"IF(SISWA!H85=0,\"\",SISWA!H85)","v":""},{"$f":"#REF!","v":{"$error":"#REF!"}},{"$f":"#REF!","v":{"$error":"#REF!"}},{"$error":"#REF!"},{"$f":"AA!K85","v":{"$error":"#DIV/0!"}},{"$f":"AA!N85","v":{"$error":"#DIV/0!"}},{"$error":"#DIV/0!"},{"$f":"AH!K85","v":{"$error":"#DIV/0!"}},{"$f":"AH!N85","v":{"$error":"#DIV/0!"}},{"$error":"#DIV/0!"},{"$f":"FQ!K85","v":{"$error":"#DIV/0!"}},{"$f":"FQ!N85","v":{"$error":"#DIV/0!"}},{"$error":"#DIV/0!"},{"$f":"SKI!K85","v":{"$error":"#DIV/0!"}},{"$f":"SKI!N85","v":{"$error":"#DIV/0!"}},{"$error":"#DIV/0!"},{"$f":"PKn!K85","v":{"$error":"#DIV/0!"}},{"$f":"PKn!N85","v":0},{"$error":"#DIV/0!"},{"$f":"BID!K85","v":{"$error":"#DIV/0!"}},{"$f":"BID!N85","v":{"$error":"#DIV/0!"}},{"$error":"#DIV/0!"},{"$f":"BA!K85","v":{"$error":"#DIV/0!"}},{"$f":"BA!N85","v":{"$error":"#DIV/0!"}},{"$error":"#DIV/0!"},{"$f":"MTK!K85","v":{"$error":"#DIV/0!"}},{"$f":"MTK!L85","v":0},{"$error":"#DIV/0!"},{"$f":"IPA!K85","v":{"$error":"#DIV/0!"}},{"$f":"IPA!N85","v":{"$error":"#DIV/0!"}},{"$error":"#DIV/0!"},{"$f":"IPS!K85","v":{"$error":"#DIV/0!"}},{"$f":"IPS!L85","v":0},{"$error":"#DIV/0!"},{"$f":"SBK!K85","v":{"$error":"#DIV/0!"}},{"$f":"SBK!N85","v":{"$error":"#DIV/0!"}},{"$error":"#DIV/0!"},{"$f":"PJK!K85","v":{"$error":"#DIV/0!"}},{"$f":"PJK!N85","v":{"$error":"#DIV/0!"}},{"$error":"#DIV/0!"},{"$f":"BD!K85","v":{"$error":"#DIV/0!"}},{"$f":"BD!N85","v":{"$error":"#DIV/0!"}},{"$error":"#DIV/0!"},{"$f":"BIG!K85","v":{"$error":"#DIV/0!"}},{"$f":"BIG!N85","v":{"$error":"#DIV/0!"}},{"$error":"#DIV/0!"},{"$error":"#DIV/0!"},{"$error":"#DIV/0!"},null,{"$error":"#DIV/0!"},{"$error":"#DIV/0!"},null,{"$error":"#DIV/0!"},{"$error":"#DIV/0!"},{"$f":"IPA!L85","v":0},{"$error":"#DIV/0!"},0,{"$error":"#DIV/0!"},0,{"$error":"#DIV/0!"},{"$error":"#DIV/0!"},{"$error":"#DIV/0!"},{"$error":"#DIV/0!"},0,{"$error":"#DIV/0!"},{"$error":"#DIV/0!"},{"$error":"#DIV/0!"},{"$error":"#DIV/0!"},null,null,{"$error":"#DIV/0!"},0,{"$error":"#DIV/0!"},{"$error":"#DIV/0!"},0,{"$error":"#DIV/0!"},{"$error":"#DIV/0!"},0,{"$error":"#DIV/0!"},null,null,{"$f":"SISWA!S84","v":"128"}]
[{"$f":"SISWA!A86","v":79},{"$f":"IF(SISWA!B86=0,\"\",SISWA!B86)","v":""},{"$f":"IF(SISWA!C86=0,\"\",SISWA!C86)","v":""},{"$f":"IF(SISWA!D86=0,\"\",SISWA!D86)","v":"079-"},{"$f":"IF(SISWA!E86=0,\"\",SISWA!E86)","v":""},{"$f":"IF(SISWA!P85=0,\"\",SISWA!P85)","v":", 00 Januari 1900"},{"$f":"IF(SISWA!H86=0,\"\",SISWA!H86)","v":""},{"$f":"#REF!","v":{"$error":"#REF!"}},{"$f":"#REF!","v":{"$error":"#REF!"}},{"$error":"#REF!"},{"$f":"AA!K86","v":{"$error":"#DIV/0!"}},{"$f":"AA!N86","v":{"$error":"#DIV/0!"}},{"$error":"#DIV/0!"},{"$f":"AH!K86","v":{"$error":"#DIV/0!"}},{"$f":"AH!N86","v":{"$error":"#DIV/0!"}},{"$error":"#DIV/0!"},{"$f":"FQ!K86","v":{"$error":"#DIV/0!"}},{"$f":"FQ!N86","v":{"$error":"#DIV/0!"}},{"$error":"#DIV/0!"},{"$f":"SKI!K86","v":{"$error":"#DIV/0!"}},{"$f":"SKI!N86","v":{"$error":"#DIV/0!"}},{"$error":"#DIV/0!"},{"$f":"PKn!K86","v":{"$error":"#DIV/0!"}},{"$f":"PKn!N86","v":0},{"$error":"#DIV/0!"},{"$f":"BID!K86","v":{"$error":"#DIV/0!"}},{"$f":"BID!N86","v":{"$error":"#DIV/0!"}},{"$error":"#DIV/0!"},{"$f":"BA!K86","v":{"$error":"#DIV/0!"}},{"$f":"BA!N86","v":{"$error":"#DIV/0!"}},{"$error":"#DIV/0!"},{"$f":"MTK!K86","v":{"$error":"#DIV/0!"}},{"$f":"MTK!L86","v":0},{"$error":"#DIV/0!"},{"$f":"IPA!K86","v":{"$error":"#DIV/0!"}},{"$f":"IPA!N86","v":{"$error":"#DIV/0!"}},{"$error":"#DIV/0!"},{"$f":"IPS!K86","v":{"$error":"#DIV/0!"}},{"$f":"IPS!L86","v":0},{"$error":"#DIV/0!"},{"$f":"SBK!K86","v":{"$error":"#DIV/0!"}},{"$f":"SBK!N86","v":{"$error":"#DIV/0!"}},{"$error":"#DIV/0!"},{"$f":"PJK!K86","v":{"$error":"#DIV/0!"}},{"$f":"PJK!N86","v":{"$error":"#DIV/0!"}},{"$error":"#DIV/0!"},{"$f":"BD!K86","v":{"$error":"#DIV/0!"}},{"$f":"BD!N86","v":{"$error":"#DIV/0!"}},{"$error":"#DIV/0!"},{"$f":"BIG!K86","v":{"$error":"#DIV/0!"}},{"$f":"BIG!N86","v":{"$error":"#DIV/0!"}},{"$error":"#DIV/0!"},{"$error":"#DIV/0!"},{"$error":"#DIV/0!"},null,{"$error":"#DIV/0!"},{"$error":"#DIV/0!"},null,{"$error":"#DIV/0!"},{"$error":"#DIV/0!"},{"$f":"IPA!L86","v":0},{"$error":"#DIV/0!"},0,{"$error":"#DIV/0!"},0,{"$error":"#DIV/0!"},{"$error":"#DIV/0!"},{"$error":"#DIV/0!"},{"$error":"#DIV/0!"},0,{"$error":"#DIV/0!"},{"$error":"#DIV/0!"},{"$error":"#DIV/0!"},{"$error":"#DIV/0!"},null,null,{"$error":"#DIV/0!"},0,{"$error":"#DIV/0!"},{"$error":"#DIV/0!"},0,{"$error":"#DIV/0!"},{"$error":"#DIV/0!"},0,{"$error":"#DIV/0!"},null,null,{"$f":"SISWA!S85","v":"129"}]
[{"$f":"SISWA!A87","v":80},{"$f":"IF(SISWA!B87=0,\"\",SISWA!B87)","v":""},{"$f":"IF(SISWA!C87=0,\"\",SISWA!C87)","v":""},{"$f":"IF(SISWA!D87=0,\"\",SISWA!D87)","v":"080-"},{"$f":"IF(SISWA!E87=0,\"\",SISWA!E87)","v":""},{"$f":"IF(SISWA!P86=0,\"\",SISWA!P86)","v":", 00 Januari 1900"},{"$f":"IF(SISWA!H87=0,\"\",SISWA!H87)","v":""},{"$f":"#REF!","v":{"$error":"#REF!"}},{"$f":"#REF!","v":{"$error":"#REF!"}},{"$error":"#REF!"},{"$f":"AA!K87","v":{"$error":"#DIV/0!"}},{"$f":"AA!N87","v":{"$error":"#DIV/0!"}},{"$error":"#DIV/0!"},{"$f":"AH!K87","v":{"$error":"#DIV/0!"}},{"$f":"AH!N87","v":{"$error":"#DIV/0!"}},{"$error":"#DIV/0!"},{"$f":"FQ!K87","v":{"$error":"#DIV/0!"}},{"$f":"FQ!N87","v":{"$error":"#DIV/0!"}},{"$error":"#DIV/0!"},{"$f":"SKI!K87","v":{"$error":"#DIV/0!"}},{"$f":"SKI!N87","v":{"$error":"#DIV/0!"}},{"$error":"#DIV/0!"},{"$f":"PKn!K87","v":{"$error":"#DIV/0!"}},{"$f":"PKn!N87","v":0},{"$error":"#DIV/0!"},{"$f":"BID!K87","v":{"$error":"#DIV/0!"}},{"$f":"BID!N87","v":{"$error":"#DIV/0!"}},{"$error":"#DIV/0!"},{"$f":"BA!K87","v":{"$error":"#DIV/0!"}},{"$f":"BA!N87","v":{"$error":"#DIV/0!"}},{"$error":"#DIV/0!"},{"$f":"MTK!K87","v":{"$error":"#DIV/0!"}},{"$f":"MTK!L87","v":0},{"$error":"#DIV/0!"},{"$f":"IPA!K87","v":{"$error":"#DIV/0!"}},{"$f":"IPA!N87","v":{"$error":"#DIV/0!"}},{"$error":"#DIV/0!"},{"$f":"IPS!K87","v":{"$error":"#DIV/0!"}},{"$f":"IPS!L87","v":0},{"$error":"#DIV/0!"},{"$f":"SBK!K87","v":{"$error":"#DIV/0!"}},{"$f":"SBK!N87","v":{"$error":"#DIV/0!"}},{"$error":"#DIV/0!"},{"$f":"PJK!K87","v":{"$error":"#DIV/0!"}},{"$f":"PJK!N87","v":{"$error":"#DIV/0!"}},{"$error":"#DIV/0!"},{"$f":"BD!K87","v":{"$error":"#DIV/0!"}},{"$f":"BD!N87","v":{"$error":"#DIV/0!"}},{"$error":"#DIV/0!"},{"$f":"BIG!K87","v":{"$error":"#DIV/0!"}},{"$f":"BIG!N87","v":{"$error":"#DIV/0!"}},{"$error":"#DIV/0!"},{"$error":"#DIV/0!"},{"$error":"#DIV/0!"},null,{"$error":"#DIV/0!"},{"$error":"#DIV/0!"},null,{"$error":"#DIV/0!"},{"$error":"#DIV/0!"},{"$f":"IPA!L87","v":0},{"$error":"#DIV/0!"},0,{"$error":"#DIV/0!"},0,{"$error":"#DIV/0!"},{"$error":"#DIV/0!"},{"$error":"#DIV/0!"},{"$error":"#DIV/0!"},0,{"$error":"#DIV/0!"},{"$error":"#DIV/0!"},{"$error":"#DIV/0!"},{"$error":"#DIV/0!"},null,null,{"$error":"#DIV/0!"},0,{"$error":"#DIV/0!"},{"$error":"#DIV/0!"},0,{"$error":"#DIV/0!"},{"$error":"#DIV/0!"},0,{"$error":"#DIV/0!"},null,null,{"$f":"SISWA!S86","v":"130"}]
[{"$f":"SISWA!A88","v":81},{"$f":"IF(SISWA!B88=0,\"\",SISWA!B88)","v":""},{"$f":"IF(SISWA!C88=0,\"\",SISWA!C88)","v":""},{"$f":"IF(SISWA!D88=0,\"\",SISWA!D88)","v":"081-"},{"$f":"IF(SISWA!E88=0,\"\",SISWA!E88)","v":""},{"$f":"IF(SISWA!P87=0,\"\",SISWA!P87)","v":", 00 Januari 1900"},{"$f":"IF(SISWA!H88=0,\"\",SISWA!H88)","v":""},{"$f":"#REF!","v":{"$error":"#REF!"}},{"$f":"#REF!","v":{"$error":"#REF!"}},{"$error":"#REF!"},{"$f":"AA!K88","v":{"$error":"#DIV/0!"}},{"$f":"AA!N88","v":{"$error":"#DIV/0!"}},{"$error":"#DIV/0!"},{"$f":"AH!K88","v":{"$error":"#DIV/0!"}},{"$f":"AH!N88","v":{"$error":"#DIV/0!"}},{"$error":"#DIV/0!"},{"$f":"FQ!K88","v":{"$error":"#DIV/0!"}},{"$f":"FQ!N88","v":{"$error":"#DIV/0!"}},{"$error":"#DIV/0!"},{"$f":"SKI!K88","v":{"$error":"#DIV/0!"}},{"$f":"SKI!N88","v":{"$error":"#DIV/0!"}},{"$error":"#DIV/0!"},{"$f":"PKn!K88","v":{"$error":"#DIV/0!"}},{"$f":"PKn!N88","v":0},{"$error":"#DIV/0!"},{"$f":"BID!K88","v":{"$error":"#DIV/0!"}},{"$f":"BID!N88","v":{"$error":"#DIV/0!"}},{"$error":"#DIV/0!"},{"$f":"BA!K88","v":{"$error":"#DIV/0!"}},{"$f":"BA!N88","v":{"$error":"#DIV/0!"}},{"$error":"#DIV/0!"},{"$f":"MTK!K88","v":{"$error":"#DIV/0!"}},{"$f":"MTK!L88","v":0},{"$error":"#DIV/0!"},{"$f":"IPA!K88","v":{"$error":"#DIV/0!"}},{"$f":"IPA!N88","v":{"$error":"#DIV/0!"}},{"$error":"#DIV/0!"},{"$f":"IPS!K88","v":{"$error":"#DIV/0!"}},{"$f":"IPS!L88","v":0},{"$error":"#DIV/0!"},{"$f":"SBK!K88","v":{"$error":"#DIV/0!"}},{"$f":"SBK!N88","v":{"$error":"#DIV/0!"}},{"$error":"#DIV/0!"},{"$f":"PJK!K88","v":{"$error":"#DIV/0!"}},{"$f":"PJK!N88","v":{"$error":"#DIV/0!"}},{"$error":"#DIV/0!"},{"$f":"BD!K88","v":{"$error":"#DIV/0!"}},{"$f":"BD!N88","v":{"$error":"#DIV/0!"}},{"$error":"#DIV/0!"},{"$f":"BIG!K88","v":{"$error":"#DIV/0!"}},{"$f":"BIG!N88","v":{"$error":"#DIV/0!"}},{"$error":"#DIV/0!"},{"$error":"#DIV/0!"},{"$error":"#DIV/0!"},null,{"$error":"#DIV/0!"},{"$error":"#DIV/0!"},null,{"$error":"#DIV/0!"},{"$error":"#DIV/0!"},{"$f":"IPA!L88","v":0},{"$error":"#DIV/0!"},0,{"$error":"#DIV/0!"},0,{"$error":"#DIV/0!"},{"$error":"#DIV/0!"},{"$error":"#DIV/0!"},{"$error":"#DIV/0!"},0,{"$error":"#DIV/0!"},{"$error":"#DIV/0!"},{"$error":"#DIV/0!"},{"$error":"#DIV/0!"},null,null,{"$error":"#DIV/0!"},0,{"$error":"#DIV/0!"},{"$error":"#DIV/0!"},0,{"$error":"#DIV/0!"},{"$error":"#DIV/0!"},0,{"$error":"#DIV/0!"},null,null,{"$f":"SISWA!S87","v":"131"}]
[{"$f":"SISWA!A89","v":82},{"$f":"IF(SISWA!B89=0,\"\",SISWA!B89)","v":""},{"$f":"IF(SISWA!C89=0,\"\",SISWA!C89)","v":""},{"$f":"IF(SISWA!D89=0,\"\",SISWA!D89)","v":"082-"},{"$f":"IF(SISWA!E89=0,\"\",SISWA!E89)","v":""},{"$f":"IF(SISWA!P88=0,\"\",SISWA!P88)","v":", 00 Januari 1900"},{"$f":"IF(SISWA!H89=0,\"\",SISWA!H89)","v":""},{"$f":"#REF!","v":{"$error":"#REF!"}},{"$f":"#REF!","v":{"$error":"#REF!"}},{"$error":"#REF!"},{"$f":"AA!K89","v":{"$error":"#DIV/0!"}},{"$f":"AA!N89","v":{"$error":"#DIV/0!"}},{"$error":"#DIV/0!"},{"$f":"AH!K89","v":{"$error":"#DIV/0!"}},{"$f":"AH!N89","v":{"$error":"#DIV/0!"}},{"$error":"#DIV/0!"},{"$f":"FQ!K89","v":{"$error":"#DIV/0!"}},{"$f":"FQ!N89","v":{"$error":"#DIV/0!"}},{"$error":"#DIV/0!"},{"$f":"SKI!K89","v":{"$error":"#DIV/0!"}},{"$f":"SKI!N89","v":{"$error":"#DIV/0!"}},{"$error":"#DIV/0!"},{"$f":"PKn!K89","v":{"$error":"#DIV/0!"}},{"$f":"PKn!N89","v":0},{"$error":"#DIV/0!"},{"$f":"BID!K89","v":{"$error":"#DIV/0!"}},{"$f":"BID!N89","v":{"$error":"#DIV/0!"}},{"$error":"#DIV/0!"},{"$f":"BA!K89","v":{"$error":"#DIV/0!"}},{"$f":"BA!N89","v":{"$error":"#DIV/0!"}},{"$error":"#DIV/0!"},{"$f":"MTK!K89","v":{"$error":"#DIV/0!"}},{"$f":"MTK!L89","v":0},{"$error":"#DIV/0!"},{"$f":"IPA!K89","v":{"$error":"#DIV/0!"}},{"$f":"IPA!N89","v":{"$error":"#DIV/0!"}},{"$error":"#DIV/0!"},{"$f":"IPS!K89","v":{"$error":"#DIV/0!"}},{"$f":"IPS!L89","v":0},{"$error":"#DIV/0!"},{"$f":"SBK!K89","v":{"$error":"#DIV/0!"}},{"$f":"SBK!N89","v":{"$error":"#DIV/0!"}},{"$error":"#DIV/0!"},{"$f":"PJK!K89","v":{"$error":"#DIV/0!"}},{"$f":"PJK!N89","v":{"$error":"#DIV/0!"}},{"$error":"#DIV/0!"},{"$f":"BD!K89","v":{"$error":"#DIV/0!"}},{"$f":"BD!N89","v":{"$error":"#DIV/0!"}},{"$error":"#DIV/0!"},{"$f":"BIG!K89","v":{"$error":"#DIV/0!"}},{"$f":"BIG!N89","v":{"$error":"#DIV/0!"}},{"$error":"#DIV/0!"},{"$error":"#DIV/0!"},{"$error":"#DIV/0!"},null,{"$error":"#DIV/0!"},{"$error":"#DIV/0!"},null,{"$error":"#DIV/0!"},{"$error":"#DIV/0!"},{"$f":"IPA!L89","v":0},{"$error":"#DIV/0!"},0,{"$error":"#DIV/0!"},0,{"$error":"#DIV/0!"},{"$error":"#DIV/0!"},{"$error":"#DIV/0!"},{"$error":"#DIV/0!"},0,{"$error":"#DIV/0!"},{"$error":"#DIV/0!"},{"$error":"#DIV/0!"},{"$error":"#DIV/0!"},null,null,{"$error":"#DIV/0!"},0,{"$error":"#DIV/0!"},{"$error":"#DIV/0!"},0,{"$error":"#DIV/0!"},{"$error":"#DIV/0!"},0,{"$error":"#DIV/0!"},null,null,{"$f":"SISWA!S88","v":"132"}]
[{"$f":"SISWA!A90","v":83},{"$f":"IF(SISWA!B90=0,\"\",SISWA!B90)","v":""},{"$f":"IF(SISWA!C90=0,\"\",SISWA!C90)","v":""},{"$f":"IF(SISWA!D90=0,\"\",SISWA!D90)","v":"083-"},{"$f":"IF(SISWA!E90=0,\"\",SISWA!E90)","v":""},{"$f":"IF(SISWA!P89=0,\"\",SISWA!P89)","v":", 00 Januari 1900"},{"$f":"IF(SISWA!H90=0,\"\",SISWA!H90)","v":""},{"$f":"#REF!","v":{"$error":"#REF!"}},{"$f":"#REF!","v":{"$error":"#REF!"}},{"$error":"#REF!"},{"$f":"AA!K90","v":{"$error":"#DIV/0!"}},{"$f":"AA!N90","v":{"$error":"#DIV/0!"}},{"$error":"#DIV/0!"},{"$f":"AH!K90","v":{"$error":"#DIV/0!"}},{"$f":"AH!N90","v":{"$error":"#DIV/0!"}},{"$error":"#DIV/0!"},{"$f":"FQ!K90","v":{"$error":"#DIV/0!"}},{"$f":"FQ!N90","v":{"$error":"#DIV/0!"}},{"$error":"#DIV/0!"},{"$f":"SKI!K90","v":{"$error":"#DIV/0!"}},{"$f":"SKI!N90","v":{"$error":"#DIV/0!"}},{"$error":"#DIV/0!"},{"$f":"PKn!K90","v":{"$error":"#DIV/0!"}},{"$f":"PKn!N90","v":0},{"$error":"#DIV/0!"},{"$f":"BID!K90","v":{"$error":"#DIV/0!"}},{"$f":"BID!N90","v":{"$error":"#DIV/0!"}},{"$error":"#DIV/0!"},{"$f":"BA!K90","v":{"$error":"#DIV/0!"}},{"$f":"BA!N90","v":{"$error":"#DIV/0!"}},{"$error":"#DIV/0!"},{"$f":"MTK!K90","v":{"$error":"#DIV/0!"}},{"$f":"MTK!L90","v":0},{"$error":"#DIV/0!"},{"$f":"IPA!K90","v":{"$error":"#DIV/0!"}},{"$f":"IPA!N90","v":{"$error":"#DIV/0!"}},{"$error":"#DIV/0!"},{"$f":"IPS!K90","v":{"$error":"#DIV/0!"}},{"$f":"IPS!L90","v":0},{"$error":"#DIV/0!"},{"$f":"SBK!K90","v":{"$error":"#DIV/0!"}},{"$f":"SBK!N90","v":{"$error":"#DIV/0!"}},{"$error":"#DIV/0!"},{"$f":"PJK!K90","v":{"$error":"#DIV/0!"}},{"$f":"PJK!N90","v":{"$error":"#DIV/0!"}},{"$error":"#DIV/0!"},{"$f":"BD!K90","v":{"$error":"#DIV/0!"}},{"$f":"BD!N90","v":{"$error":"#DIV/0!"}},{"$error":"#DIV/0!"},{"$f":"BIG!K90","v":{"$error":"#DIV/0!"}},{"$f":"BIG!N90","v":{"$error":"#DIV/0!"}},{"$error":"#DIV/0!"},{"$error":"#DIV/0!"},{"$error":"#DIV/0!"},null,{"$error":"#DIV/0!"},{"$error":"#DIV/0!"},null,{"$error":"#DIV/0!"},{"$error":"#DIV/0!"},{"$f":"IPA!L90","v":0},{"$error":"#DIV/0!"},0,{"$error":"#DIV/0!"},0,{"$error":"#DIV/0!"},{"$error":"#DIV/0!"},{"$error":"#DIV/0!"},{"$error":"#DIV/0!"},0,{"$error":"#DIV/0!"},{"$error":"#DIV/0!"},{"$error":"#DIV/0!"},{"$error":"#DIV/0!"},null,null,{"$error":"#DIV/0!"},0,{"$error":"#DIV/0!"},{"$error":"#DIV/0!"},0,{"$error":"#DIV/0!"},{"$error":"#DIV/0!"},0,{"$error":"#DIV/0!"},null,null,{"$f":"SISWA!S89","v":"133"}]
[{"$f":"SISWA!A91","v":84},{"$f":"IF(SISWA!B91=0,\"\",SISWA!B91)","v":""},{"$f":"IF(SISWA!C91=0,\"\",SISWA!C91)","v":""},{"$f":"IF(SISWA!D91=0,\"\",SISWA!D91)","v":"084-"},{"$f":"IF(SISWA!E91=0,\"\",SISWA!E91)","v":""},{"$f":"IF(SISWA!P90=0,\"\",SISWA!P90)","v":", 00 Januari 1900"},{"$f":"IF(SISWA!H91=0,\"\",SISWA!H91)","v":""},{"$f":"#REF!","v":{"$error":"#REF!"}},{"$f":"#REF!","v":{"$error":"#REF!"}},{"$error":"#REF!"},{"$f":"AA!K91","v":{"$error":"#DIV/0!"}},{"$f":"AA!N91","v":{"$error":"#DIV/0!"}},{"$error":"#DIV/0!"},{"$f":"AH!K91","v":{"$error":"#DIV/0!"}},{"$f":"AH!N91","v":{"$error":"#DIV/0!"}},{"$error":"#DIV/0!"},{"$f":"FQ!K91","v":{"$error":"#DIV/0!"}},{"$f":"FQ!N91","v":{"$error":"#DIV/0!"}},{"$error":"#DIV/0!"},{"$f":"SKI!K91","v":{"$error":"#DIV/0!"}},{"$f":"SKI!N91","v":{"$error":"#DIV/0!"}},{"$error":"#DIV/0!"},{"$f":"PKn!K91","v":{"$error":"#DIV/0!"}},{"$f":"PKn!N91","v":0},{"$error":"#DIV/0!"},{"$f":"BID!K91","v":{"$error":"#DIV/0!"}},{"$f":"BID!N91","v":{"$error":"#DIV/0!"}},{"$error":"#DIV/0!"},{"$f":"BA!K91","v":{"$error":"#DIV/0!"}},{"$f":"BA!N91","v":{"$error":"#DIV/0!"}},{"$error":"#DIV/0!"},{"$f":"MTK!K91","v":{"$error":"#DIV/0!"}},{"$f":"MTK!L91","v":0},{"$error":"#DIV/0!"},{"$f":"IPA!K91","v":{"$error":"#DIV/0!"}},{"$f":"IPA!N91","v":{"$error":"#DIV/0!"}},{"$error":"#DIV/0!"},{"$f":"IPS!K91","v":{"$error":"#DIV/0!"}},{"$f":"IPS!L91","v":0},{"$error":"#DIV/0!"},{"$f":"SBK!K91","v":{"$error":"#DIV/0!"}},{"$f":"SBK!N91","v":{"$error":"#DIV/0!"}},{"$error":"#DIV/0!"},{"$f":"PJK!K91","v":{"$error":"#DIV/0!"}},{"$f":"PJK!N91","v":{"$error":"#DIV/0!"}},{"$error":"#DIV/0!"},{"$f":"BD!K91","v":{"$error":"#DIV/0!"}},{"$f":"BD!N91","v":{"$error":"#DIV/0!"}},{"$error":"#DIV/0!"},{"$f":"BIG!K91","v":{"$error":"#DIV/0!"}},{"$f":"BIG!N91","v":{"$error":"#DIV/0!"}},{"$error":"#DIV/0!"},{"$error":"#DIV/0!"},{"$error":"#DIV/0!"},null,{"$error":"#DIV/0!"},{"$error":"#DIV/0!"},null,{"$error":"#DIV/0!"},{"$error":"#DIV/0!"},{"$f":"IPA!L91","v":0},{"$error":"#DIV/0!"},0,{"$error":"#DIV/0!"},0,{"$error":"#DIV/0!"},{"$error":"#DIV/0!"},{"$error":"#DIV/0!"},{"$error":"#DIV/0!"},0,{"$error":"#DIV/0!"},{"$error":"#DIV/0!"},{"$error":"#DIV/0!"},{"$error":"#DIV/0!"},null,null,{"$error":"#DIV/0!"},0,{"$error":"#DIV/0!"},{"$error":"#DIV/0!"},0,{"$error":"#DIV/0!"},{"$error":"#DIV/0!"},0,{"$error":"#DIV/0!"},null,null,{"$f":"SISWA!S90","v":"134"}]
[{"$f":"SISWA!A92","v":85},{"$f":"IF(SISWA!B92=0,\"\",SISWA!B92)","v":""},{"$f":"IF(SISWA!C92=0,\"\",SISWA!C92)","v":""},{"$f":"IF(SISWA!D92=0,\"\",SISWA!D92)","v":"085-"},{"$f":"IF(SISWA!E92=0,\"\",SISWA!E92)","v":""},{"$f":"IF(SISWA!P91=0,\"\",SISWA!P91)","v":", 00 Januari 1900"},{"$f":"IF(SISWA!H92=0,\"\",SISWA!H92)","v":""},{"$f":"#REF!","v":{"$error":"#REF!"}},{"$f":"#REF!","v":{"$error":"#REF!"}},{"$error":"#REF!"},{"$f":"AA!K92","v":{"$error":"#DIV/0!"}},{"$f":"AA!N92","v":{"$error":"#DIV/0!"}},{"$error":"#DIV/0!"},{"$f":"AH!K92","v":{"$error":"#DIV/0!"}},{"$f":"AH!N92","v":{"$error":"#DIV/0!"}},{"$error":"#DIV/0!"},{"$f":"FQ!K92","v":{"$error":"#DIV/0!"}},{"$f":"FQ!N92","v":{"$error":"#DIV/0!"}},{"$error":"#DIV/0!"},{"$f":"SKI!K92","v":{"$error":"#DIV/0!"}},{"$f":"SKI!N92","v":{"$error":"#DIV/0!"}},{"$error":"#DIV/0!"},{"$f":"PKn!K92","v":{"$error":"#DIV/0!"}},{"$f":"PKn!N92","v":0},{"$error":"#DIV/0!"},{"$f":"BID!K92","v":{"$error":"#DIV/0!"}},{"$f":"BID!N92","v":{"$error":"#DIV/0!"}},{"$error":"#DIV/0!"},{"$f":"BA!K92","v":{"$error":"#DIV/0!"}},{"$f":"BA!N92","v":{"$error":"#DIV/0!"}},{"$error":"#DIV/0!"},{"$f":"MTK!K92","v":{"$error":"#DIV/0!"}},{"$f":"MTK!L92","v":0},{"$error":"#DIV/0!"},{"$f":"IPA!K92","v":{"$error":"#DIV/0!"}},{"$f":"IPA!N92","v":{"$error":"#DIV/0!"}},{"$error":"#DIV/0!"},{"$f":"IPS!K92","v":{"$error":"#DIV/0!"}},{"$f":"IPS!L92","v":0},{"$error":"#DIV/0!"},{"$f":"SBK!K92","v":{"$error":"#DIV/0!"}},{"$f":"SBK!N92","v":{"$error":"#DIV/0!"}},{"$error":"#DIV/0!"},{"$f":"PJK!K92","v":{"$error":"#DIV/0!"}},{"$f":"PJK!N92","v":{"$error":"#DIV/0!"}},{"$error":"#DIV/0!"},{"$f":"BD!K92","v":{"$error":"#DIV/0!"}},{"$f":"BD!N92","v":{"$error":"#DIV/0!"}},{"$error":"#DIV/0!"},{"$f":"BIG!K92","v":{"$error":"#DIV/0!"}},{"$f":"BIG!N92","v":{"$error":"#DIV/0!"}},{"$error":"#DIV/0!"},{"$error":"#DIV/0!"},{"$error":"#DIV/0!"},null,{"$error":"#DIV/0!"},{"$error":"#DIV/0!"},null,{"$error":"#DIV/0!"},{"$error":"#DIV/0!"},{"$f":"IPA!L92","v":0},{"$error":"#DIV/0!"},0,{"$error":"#DIV/0!"},0,{"$error":"#DIV/0!"},{"$error":"#DIV/0!"},{"$error":"#DIV/0!"},{"$error":"#DIV/0!"},0,{"$error":"#DIV/0!"},{"$error":"#DIV/0!"},{"$error":"#DIV/0!"},{"$error":"#DIV/0!"},null,null,{"$error":"#DIV/0!"},0,{"$error":"#DIV/0!"},{"$error":"#DIV/0!"},0,{"$error":"#DIV/0!"},{"$error":"#DIV/0!"},0,{"$error":"#DIV/0!"},null,null,{"$f":"SISWA!S91","v":"135"}]
[{"$f":"SISWA!A93","v":86},{"$f":"IF(SISWA!B93=0,\"\",SISWA!B93)","v":""},{"$f":"IF(SISWA!C93=0,\"\",SISWA!C93)","v":""},{"$f":"IF(SISWA!D93=0,\"\",SISWA!D93)","v":"086-"},{"$f":"IF(SISWA!E93=0,\"\",SISWA!E93)","v":""},{"$f":"IF(SISWA!P92=0,\"\",SISWA!P92)","v":", 00 Januari 1900"},{"$f":"IF(SISWA!H93=0,\"\",SISWA!H93)","v":""},{"$f":"#REF!","v":{"$error":"#REF!"}},{"$f":"#REF!","v":{"$error":"#REF!"}},{"$error":"#REF!"},{"$f":"AA!K93","v":{"$error":"#DIV/0!"}},{"$f":"AA!N93","v":{"$error":"#DIV/0!"}},{"$error":"#DIV/0!"},{"$f":"AH!K93","v":{"$error":"#DIV/0!"}},{"$f":"AH!N93","v":{"$error":"#DIV/0!"}},{"$error":"#DIV/0!"},{"$f":"FQ!K93","v":{"$error":"#DIV/0!"}},{"$f":"FQ!N93","v":{"$error":"#DIV/0!"}},{"$error":"#DIV/0!"},{"$f":"SKI!K93","v":{"$error":"#DIV/0!"}},{"$f":"SKI!N93","v":{"$error":"#DIV/0!"}},{"$error":"#DIV/0!"},{"$f":"PKn!K93","v":{"$error":"#DIV/0!"}},{"$f":"PKn!N93","v":0},{"$error":"#DIV/0!"},{"$f":"BID!K93","v":{"$error":"#DIV/0!"}},{"$f":"BID!N93","v":{"$error":"#DIV/0!"}},{"$error":"#DIV/0!"},{"$f":"BA!K93","v":{"$error":"#DIV/0!"}},{"$f":"BA!N93","v":{"$error":"#DIV/0!"}},{"$error":"#DIV/0!"},{"$f":"MTK!K93","v":{"$error":"#DIV/0!"}},{"$f":"MTK!L93","v":0},{"$error":"#DIV/0!"},{"$f":"IPA!K93","v":{"$error":"#DIV/0!"}},{"$f":"IPA!N93","v":{"$error":"#DIV/0!"}},{"$error":"#DIV/0!"},{"$f":"IPS!K93","v":{"$error":"#DIV/0!"}},{"$f":"IPS!L93","v":0},{"$error":"#DIV/0!"},{"$f":"SBK!K93","v":{"$error":"#DIV/0!"}},{"$f":"SBK!N93","v":{"$error":"#DIV/0!"}},{"$error":"#DIV/0!"},{"$f":"PJK!K93","v":{"$error":"#DIV/0!"}},{"$f":"PJK!N93","v":{"$error":"#DIV/0!"}},{"$error":"#DIV/0!"},{"$f":"BD!K93","v":{"$error":"#DIV/0!"}},{"$f":"BD!N93","v":{"$error":"#DIV/0!"}},{"$error":"#DIV/0!"},{"$f":"BIG!K93","v":{"$error":"#DIV/0!"}},{"$f":"BIG!N93","v":{"$error":"#DIV/0!"}},{"$error":"#DIV/0!"},{"$error":"#DIV/0!"},{"$error":"#DIV/0!"},null,{"$error":"#DIV/0!"},{"$error":"#DIV/0!"},null,{"$error":"#DIV/0!"},{"$error":"#DIV/0!"},{"$f":"IPA!L93","v":0},{"$error":"#DIV/0!"},0,{"$error":"#DIV/0!"},0,{"$error":"#DIV/0!"},{"$error":"#DIV/0!"},{"$error":"#DIV/0!"},{"$error":"#DIV/0!"},0,{"$error":"#DIV/0!"},{"$error":"#DIV/0!"},{"$error":"#DIV/0!"},{"$error":"#DIV/0!"},null,null,{"$error":"#DIV/0!"},0,{"$error":"#DIV/0!"},{"$error":"#DIV/0!"},0,{"$error":"#DIV/0!"},{"$error":"#DIV/0!"},0,{"$error":"#DIV/0!"},null,null,{"$f":"SISWA!S92","v":"136"}]
[{"$f":"SISWA!A94","v":87},{"$f":"IF(SISWA!B94=0,\"\",SISWA!B94)","v":""},{"$f":"IF(SISWA!C94=0,\"\",SISWA!C94)","v":""},{"$f":"IF(SISWA!D94=0,\"\",SISWA!D94)","v":"087-"},{"$f":"IF(SISWA!E94=0,\"\",SISWA!E94)","v":""},{"$f":"IF(SISWA!P93=0,\"\",SISWA!P93)","v":", 00 Januari 1900"},{"$f":"IF(SISWA!H94=0,\"\",SISWA!H94)","v":""},{"$f":"#REF!","v":{"$error":"#REF!"}},{"$f":"#REF!","v":{"$error":"#REF!"}},{"$error":"#REF!"},{"$f":"AA!K94","v":{"$error":"#DIV/0!"}},{"$f":"AA!N94","v":{"$error":"#DIV/0!"}},{"$error":"#DIV/0!"},{"$f":"AH!K94","v":{"$error":"#DIV/0!"}},{"$f":"AH!N94","v":{"$error":"#DIV/0!"}},{"$error":"#DIV/0!"},{"$f":"FQ!K94","v":{"$error":"#DIV/0!"}},{"$f":"FQ!N94","v":{"$error":"#DIV/0!"}},{"$error":"#DIV/0!"},{"$f":"SKI!K94","v":{"$error":"#DIV/0!"}},{"$f":"SKI!N94","v":{"$error":"#DIV/0!"}},{"$error":"#DIV/0!"},{"$f":"PKn!K94","v":{"$error":"#DIV/0!"}},{"$f":"PKn!N94","v":0},{"$error":"#DIV/0!"},{"$f":"BID!K94","v":{"$error":"#DIV/0!"}},{"$f":"BID!N94","v":{"$error":"#DIV/0!"}},{"$error":"#DIV/0!"},{"$f":"BA!K94","v":{"$error":"#DIV/0!"}},{"$f":"BA!N94","v":{"$error":"#DIV/0!"}},{"$error":"#DIV/0!"},{"$f":"MTK!K94","v":{"$error":"#DIV/0!"}},{"$f":"MTK!L94","v":0},{"$error":"#DIV/0!"},{"$f":"IPA!K94","v":{"$error":"#DIV/0!"}},{"$f":"IPA!N94","v":{"$error":"#DIV/0!"}},{"$error":"#DIV/0!"},{"$f":"IPS!K94","v":{"$error":"#DIV/0!"}},{"$f":"IPS!L94","v":0},{"$error":"#DIV/0!"},{"$f":"SBK!K94","v":{"$error":"#DIV/0!"}},{"$f":"SBK!N94","v":{"$error":"#DIV/0!"}},{"$error":"#DIV/0!"},{"$f":"PJK!K94","v":{"$error":"#DIV/0!"}},{"$f":"PJK!N94","v":{"$error":"#DIV/0!"}},{"$error":"#DIV/0!"},{"$f":"BD!K94","v":{"$error":"#DIV/0!"}},{"$f":"BD!N94","v":{"$error":"#DIV/0!"}},{"$error":"#DIV/0!"},{"$f":"BIG!K94","v":{"$error":"#DIV/0!"}},{"$f":"BIG!N94","v":{"$error":"#DIV/0!"}},{"$error":"#DIV/0!"},{"$error":"#DIV/0!"},{"$error":"#DIV/0!"},null,{"$error":"#DIV/0!"},{"$error":"#DIV/0!"},null,{"$error":"#DIV/0!"},{"$error":"#DIV/0!"},{"$f":"IPA!L94","v":0},{"$error":"#DIV/0!"},0,{"$error":"#DIV/0!"},0,{"$error":"#DIV/0!"},{"$error":"#DIV/0!"},{"$error":"#DIV/0!"},{"$error":"#DIV/0!"},0,{"$error":"#DIV/0!"},{"$error":"#DIV/0!"},{"$error":"#DIV/0!"},{"$error":"#DIV/0!"},null,null,{"$error":"#DIV/0!"},0,{"$error":"#DIV/0!"},{"$error":"#DIV/0!"},0,{"$error":"#DIV/0!"},{"$error":"#DIV/0!"},0,{"$error":"#DIV/0!"},null,null,{"$f":"SISWA!S93","v":"137"}]
[{"$f":"SISWA!A95","v":88},{"$f":"IF(SISWA!B95=0,\"\",SISWA!B95)","v":""},{"$f":"IF(SISWA!C95=0,\"\",SISWA!C95)","v":""},{"$f":"IF(SISWA!D95=0,\"\",SISWA!D95)","v":"088-"},{"$f":"IF(SISWA!E95=0,\"\",SISWA!E95)","v":""},{"$f":"IF(SISWA!P94=0,\"\",SISWA!P94)","v":", 00 Januari 1900"},{"$f":"IF(SISWA!H95=0,\"\",SISWA!H95)","v":""},{"$f":"#REF!","v":{"$error":"#REF!"}},{"$f":"#REF!","v":{"$error":"#REF!"}},{"$error":"#REF!"},{"$f":"AA!K95","v":{"$error":"#DIV/0!"}},{"$f":"AA!N95","v":{"$error":"#DIV/0!"}},{"$error":"#DIV/0!"},{"$f":"AH!K95","v":{"$error":"#DIV/0!"}},{"$f":"AH!N95","v":{"$error":"#DIV/0!"}},{"$error":"#DIV/0!"},{"$f":"FQ!K95","v":{"$error":"#DIV/0!"}},{"$f":"FQ!N95","v":{"$error":"#DIV/0!"}},{"$error":"#DIV/0!"},{"$f":"SKI!K95","v":{"$error":"#DIV/0!"}},{"$f":"SKI!N95","v":{"$error":"#DIV/0!"}},{"$error":"#DIV/0!"},{"$f":"PKn!K95","v":{"$error":"#DIV/0!"}},{"$f":"PKn!N95","v":0},{"$error":"#DIV/0!"},{"$f":"BID!K95","v":{"$error":"#DIV/0!"}},{"$f":"BID!N95","v":{"$error":"#DIV/0!"}},{"$error":"#DIV/0!"},{"$f":"BA!K95","v":{"$error":"#DIV/0!"}},{"$f":"BA!N95","v":{"$error":"#DIV/0!"}},{"$error":"#DIV/0!"},{"$f":"MTK!K95","v":{"$error":"#DIV/0!"}},{"$f":"MTK!L95","v":0},{"$error":"#DIV/0!"},{"$f":"IPA!K95","v":{"$error":"#DIV/0!"}},{"$f":"IPA!N95","v":{"$error":"#DIV/0!"}},{"$error":"#DIV/0!"},{"$f":"IPS!K95","v":{"$error":"#DIV/0!"}},{"$f":"IPS!L95","v":0},{"$error":"#DIV/0!"},{"$f":"SBK!K95","v":{"$error":"#DIV/0!"}},{"$f":"SBK!N95","v":{"$error":"#DIV/0!"}},{"$error":"#DIV/0!"},{"$f":"PJK!K95","v":{"$error":"#DIV/0!"}},{"$f":"PJK!N95","v":{"$error":"#DIV/0!"}},{"$error":"#DIV/0!"},{"$f":"BD!K95","v":{"$error":"#DIV/0!"}},{"$f":"BD!N95","v":{"$error":"#DIV/0!"}},{"$error":"#DIV/0!"},{"$f":"BIG!K95","v":{"$error":"#DIV/0!"}},{"$f":"BIG!N95","v":{"$error":"#DIV/0!"}},{"$error":"#DIV/0!"},{"$error":"#DIV/0!"},{"$error":"#DIV/0!"},null,{"$error":"#DIV/0!"},{"$error":"#DIV/0!"},null,{"$error":"#DIV/0!"},{"$error":"#DIV/0!"},{"$f":"IPA!L95","v":0},{"$error":"#DIV/0!"},0,{"$error":"#DIV/0!"},0,{"$error":"#DIV/0!"},{"$error":"#DIV/0!"},{"$error":"#DIV/0!"},{"$error":"#DIV/0!"},0,{"$error":"#DIV/0!"},{"$error":"#DIV/0!"},{"$error":"#DIV/0!"},{"$error":"#DIV/0!"},null,null,{"$error":"#DIV/0!"},0,{"$error":"#DIV/0!"},{"$error":"#DIV/0!"},0,{"$error":"#DIV/0!"},{"$error":"#DIV/0!"},0,{"$error":"#DIV/0!"},null,null,{"$f":"SISWA!S94","v":"138"}]
[{"$f":"SISWA!A96","v":89},{"$f":"IF(SISWA!B96=0,\"\",SISWA!B96)","v":""},{"$f":"IF(SISWA!C96=0,\"\",SISWA!C96)","v":""},{"$f":"IF(SISWA!D96=0,\"\",SISWA!D96)","v":"089-"},{"$f":"IF(SISWA!E96=0,\"\",SISWA!E96)","v":""},{"$f":"IF(SISWA!P95=0,\"\",SISWA!P95)","v":", 00 Januari 1900"},{"$f":"IF(SISWA!H96=0,\"\",SISWA!H96)","v":""},{"$f":"#REF!","v":{"$error":"#REF!"}},{"$f":"#REF!","v":{"$error":"#REF!"}},{"$error":"#REF!"},{"$f":"AA!K96","v":{"$error":"#DIV/0!"}},{"$f":"AA!N96","v":{"$error":"#DIV/0!"}},{"$error":"#DIV/0!"},{"$f":"AH!K96","v":{"$error":"#DIV/0!"}},{"$f":"AH!N96","v":{"$error":"#DIV/0!"}},{"$error":"#DIV/0!"},{"$f":"FQ!K96","v":{"$error":"#DIV/0!"}},{"$f":"FQ!N96","v":{"$error":"#DIV/0!"}},{"$error":"#DIV/0!"},{"$f":"SKI!K96","v":{"$error":"#DIV/0!"}},{"$f":"SKI!N96","v":{"$error":"#DIV/0!"}},{"$error":"#DIV/0!"},{"$f":"PKn!K96","v":{"$error":"#DIV/0!"}},{"$f":"PKn!N96","v":0},{"$error":"#DIV/0!"},{"$f":"BID!K96","v":{"$error":"#DIV/0!"}},{"$f":"BID!N96","v":{"$error":"#DIV/0!"}},{"$error":"#DIV/0!"},{"$f":"BA!K96","v":{"$error":"#DIV/0!"}},{"$f":"BA!N96","v":{"$error":"#DIV/0!"}},{"$error":"#DIV/0!"},{"$f":"MTK!K96","v":{"$error":"#DIV/0!"}},{"$f":"MTK!L96","v":0},{"$error":"#DIV/0!"},{"$f":"IPA!K96","v":{"$error":"#DIV/0!"}},{"$f":"IPA!N96","v":{"$error":"#DIV/0!"}},{"$error":"#DIV/0!"},{"$f":"IPS!K96","v":{"$error":"#DIV/0!"}},{"$f":"IPS!L96","v":0},{"$error":"#DIV/0!"},{"$f":"SBK!K96","v":{"$error":"#DIV/0!"}},{"$f":"SBK!N96","v":{"$error":"#DIV/0!"}},{"$error":"#DIV/0!"},{"$f":"PJK!K96","v":{"$error":"#DIV/0!"}},{"$f":"PJK!N96","v":{"$error":"#DIV/0!"}},{"$error":"#DIV/0!"},{"$f":"BD!K96","v":{"$error":"#DIV/0!"}},{"$f":"BD!N96","v":{"$error":"#DIV/0!"}},{"$error":"#DIV/0!"},{"$f":"BIG!K96","v":{"$error":"#DIV/0!"}},{"$f":"BIG!N96","v":{"$error":"#DIV/0!"}},{"$error":"#DIV/0!"},{"$error":"#DIV/0!"},{"$error":"#DIV/0!"},null,{"$error":"#DIV/0!"},{"$error":"#DIV/0!"},null,{"$error":"#DIV/0!"},{"$error":"#DIV/0!"},{"$f":"IPA!L96","v":0},{"$error":"#DIV/0!"},0,{"$error":"#DIV/0!"},0,{"$error":"#DIV/0!"},{"$error":"#DIV/0!"},{"$error":"#DIV/0!"},{"$error":"#DIV/0!"},0,{"$error":"#DIV/0!"},{"$error":"#DIV/0!"},{"$error":"#DIV/0!"},{"$error":"#DIV/0!"},null,null,{"$error":"#DIV/0!"},0,{"$error":"#DIV/0!"},{"$error":"#DIV/0!"},0,{"$error":"#DIV/0!"},{"$error":"#DIV/0!"},0,{"$error":"#DIV/0!"},null,null,{"$f":"SISWA!S95","v":"139"}]
[{"$f":"SISWA!A97","v":90},{"$f":"IF(SISWA!B97=0,\"\",SISWA!B97)","v":""},{"$f":"IF(SISWA!C97=0,\"\",SISWA!C97)","v":""},{"$f":"IF(SISWA!D97=0,\"\",SISWA!D97)","v":"090-"},{"$f":"IF(SISWA!E97=0,\"\",SISWA!E97)","v":""},{"$f":"IF(SISWA!P96=0,\"\",SISWA!P96)","v":", 00 Januari 1900"},{"$f":"IF(SISWA!H97=0,\"\",SISWA!H97)","v":""},{"$f":"#REF!","v":{"$error":"#REF!"}},{"$f":"#REF!","v":{"$error":"#REF!"}},{"$error":"#REF!"},{"$f":"AA!K97","v":{"$error":"#DIV/0!"}},{"$f":"AA!N97","v":{"$error":"#DIV/0!"}},{"$error":"#DIV/0!"},{"$f":"AH!K97","v":{"$error":"#DIV/0!"}},{"$f":"AH!N97","v":{"$error":"#DIV/0!"}},{"$error":"#DIV/0!"},{"$f":"FQ!K97","v":{"$error":"#DIV/0!"}},{"$f":"FQ!N97","v":{"$error":"#DIV/0!"}},{"$error":"#DIV/0!"},{"$f":"SKI!K97","v":{"$error":"#DIV/0!"}},{"$f":"SKI!N97","v":{"$error":"#DIV/0!"}},{"$error":"#DIV/0!"},{"$f":"PKn!K97","v":{"$error":"#DIV/0!"}},{"$f":"PKn!N97","v":0},{"$error":"#DIV/0!"},{"$f":"BID!K97","v":{"$error":"#DIV/0!"}},{"$f":"BID!N97","v":{"$error":"#DIV/0!"}},{"$error":"#DIV/0!"},{"$f":"BA!K97","v":{"$error":"#DIV/0!"}},{"$f":"BA!N97","v":{"$error":"#DIV/0!"}},{"$error":"#DIV/0!"},{"$f":"MTK!K97","v":{"$error":"#DIV/0!"}},{"$f":"MTK!L97","v":0},{"$error":"#DIV/0!"},{"$f":"IPA!K97","v":{"$error":"#DIV/0!"}},{"$f":"IPA!N97","v":{"$error":"#DIV/0!"}},{"$error":"#DIV/0!"},{"$f":"IPS!K97","v":{"$error":"#DIV/0!"}},{"$f":"IPS!L97","v":0},{"$error":"#DIV/0!"},{"$f":"SBK!K97","v":{"$error":"#DIV/0!"}},{"$f":"SBK!N97","v":{"$error":"#DIV/0!"}},{"$error":"#DIV/0!"},{"$f":"PJK!K97","v":{"$error":"#DIV/0!"}},{"$f":"PJK!N97","v":{"$error":"#DIV/0!"}},{"$error":"#DIV/0!"},{"$f":"BD!K97","v":{"$error":"#DIV/0!"}},{"$f":"BD!N97","v":{"$error":"#DIV/0!"}},{"$error":"#DIV/0!"},{"$f":"BIG!K97","v":{"$error":"#DIV/0!"}},{"$f":"BIG!N97","v":{"$error":"#DIV/0!"}},{"$error":"#DIV/0!"},{"$error":"#DIV/0!"},{"$error":"#DIV/0!"},null,{"$error":"#DIV/0!"},{"$error":"#DIV/0!"},null,{"$error":"#DIV/0!"},{"$error":"#DIV/0!"},{"$f":"IPA!L97","v":0},{"$error":"#DIV/0!"},0,{"$error":"#DIV/0!"},0,{"$error":"#DIV/0!"},{"$error":"#DIV/0!"},{"$error":"#DIV/0!"},{"$error":"#DIV/0!"},0,{"$error":"#DIV/0!"},{"$error":"#DIV/0!"},{"$error":"#DIV/0!"},{"$error":"#DIV/0!"},null,null,{"$error":"#DIV/0!"},0,{"$error":"#DIV/0!"},{"$error":"#DIV/0!"},0,{"$error":"#DIV/0!"},{"$error":"#DIV/0!"},0,{"$error":"#DIV/0!"},null,null,{"$f":"SISWA!S96","v":"140"}]
[{"$f":"SISWA!A98","v":91},{"$f":"IF(SISWA!B98=0,\"\",SISWA!B98)","v":""},{"$f":"IF(SISWA!C98=0,\"\",SISWA!C98)","v":""},{"$f":"IF(SISWA!D98=0,\"\",SISWA!D98)","v":"091-"},{"$f":"IF(SISWA!E98=0,\"\",SISWA!E98)","v":""},{"$f":"IF(SISWA!P97=0,\"\",SISWA!P97)","v":", 00 Januari 1900"},{"$f":"IF(SISWA!H98=0,\"\",SISWA!H98)","v":""},{"$f":"#REF!","v":{"$error":"#REF!"}},{"$f":"#REF!","v":{"$error":"#REF!"}},{"$error":"#REF!"},{"$f":"AA!K98","v":{"$error":"#DIV/0!"}},{"$f":"AA!N98","v":{"$error":"#DIV/0!"}},{"$error":"#DIV/0!"},{"$f":"AH!K98","v":{"$error":"#DIV/0!"}},{"$f":"AH!N98","v":{"$error":"#DIV/0!"}},{"$error":"#DIV/0!"},{"$f":"FQ!K98","v":{"$error":"#DIV/0!"}},{"$f":"FQ!N98","v":{"$error":"#DIV/0!"}},{"$error":"#DIV/0!"},{"$f":"SKI!K98","v":{"$error":"#DIV/0!"}},{"$f":"SKI!N98","v":{"$error":"#DIV/0!"}},{"$error":"#DIV/0!"},{"$f":"PKn!K98","v":{"$error":"#DIV/0!"}},{"$f":"PKn!N98","v":0},{"$error":"#DIV/0!"},{"$f":"BID!K98","v":{"$error":"#DIV/0!"}},{"$f":"BID!N98","v":{"$error":"#DIV/0!"}},{"$error":"#DIV/0!"},{"$f":"BA!K98","v":{"$error":"#DIV/0!"}},{"$f":"BA!N98","v":{"$error":"#DIV/0!"}},{"$error":"#DIV/0!"},{"$f":"MTK!K98","v":{"$error":"#DIV/0!"}},{"$f":"MTK!L98","v":0},{"$error":"#DIV/0!"},{"$f":"IPA!K98","v":{"$error":"#DIV/0!"}},{"$f":"IPA!N98","v":{"$error":"#DIV/0!"}},{"$error":"#DIV/0!"},{"$f":"IPS!K98","v":{"$error":"#DIV/0!"}},{"$f":"IPS!L98","v":0},{"$error":"#DIV/0!"},{"$f":"SBK!K98","v":{"$error":"#DIV/0!"}},{"$f":"SBK!N98","v":{"$error":"#DIV/0!"}},{"$error":"#DIV/0!"},{"$f":"PJK!K98","v":{"$error":"#DIV/0!"}},{"$f":"PJK!N98","v":{"$error":"#DIV/0!"}},{"$error":"#DIV/0!"},{"$f":"BD!K98","v":{"$error":"#DIV/0!"}},{"$f":"BD!N98","v":{"$error":"#DIV/0!"}},{"$error":"#DIV/0!"},{"$f":"BIG!K98","v":{"$error":"#DIV/0!"}},{"$f":"BIG!N98","v":{"$error":"#DIV/0!"}},{"$error":"#DIV/0!"},{"$error":"#DIV/0!"},{"$error":"#DIV/0!"},null,{"$error":"#DIV/0!"},{"$error":"#DIV/0!"},null,{"$error":"#DIV/0!"},{"$error":"#DIV/0!"},{"$f":"IPA!L98","v":0},{"$error":"#DIV/0!"},0,{"$error":"#DIV/0!"},0,{"$error":"#DIV/0!"},{"$error":"#DIV/0!"},{"$error":"#DIV/0!"},{"$error":"#DIV/0!"},0,{"$error":"#DIV/0!"},{"$error":"#DIV/0!"},{"$error":"#DIV/0!"},{"$error":"#DIV/0!"},null,null,{"$error":"#DIV/0!"},0,{"$error":"#DIV/0!"},{"$error":"#DIV/0!"},0,{"$error":"#DIV/0!"},{"$error":"#DIV/0!"},0,{"$error":"#DIV/0!"},null,null,{"$f":"SISWA!S97","v":"141"}]
[{"$f":"SISWA!A99","v":92},{"$f":"IF(SISWA!B99=0,\"\",SISWA!B99)","v":""},{"$f":"IF(SISWA!C99=0,\"\",SISWA!C99)","v":""},{"$f":"IF(SISWA!D99=0,\"\",SISWA!D99)","v":"092-"},{"$f":"IF(SISWA!E99=0,\"\",SISWA!E99)","v":""},{"$f":"IF(SISWA!P98=0,\"\",SISWA!P98)","v":", 00 Januari 1900"},{"$f":"IF(SISWA!H99=0,\"\",SISWA!H99)","v":""},{"$f":"#REF!","v":{"$error":"#REF!"}},{"$f":"#REF!","v":{"$error":"#REF!"}},{"$error":"#REF!"},{"$f":"AA!K99","v":{"$error":"#DIV/0!"}},{"$f":"AA!N99","v":{"$error":"#DIV/0!"}},{"$error":"#DIV/0!"},{"$f":"AH!K99","v":{"$error":"#DIV/0!"}},{"$f":"AH!N99","v":{"$error":"#DIV/0!"}},{"$error":"#DIV/0!"},{"$f":"FQ!K99","v":{"$error":"#DIV/0!"}},{"$f":"FQ!N99","v":{"$error":"#DIV/0!"}},{"$error":"#DIV/0!"},{"$f":"SKI!K99","v":{"$error":"#DIV/0!"}},{"$f":"SKI!N99","v":{"$error":"#DIV/0!"}},{"$error":"#DIV/0!"},{"$f":"PKn!K99","v":{"$error":"#DIV/0!"}},{"$f":"PKn!N99","v":0},{"$error":"#DIV/0!"},{"$f":"BID!K99","v":{"$error":"#DIV/0!"}},{"$f":"BID!N99","v":{"$error":"#DIV/0!"}},{"$error":"#DIV/0!"},{"$f":"BA!K99","v":{"$error":"#DIV/0!"}},{"$f":"BA!N99","v":{"$error":"#DIV/0!"}},{"$error":"#DIV/0!"},{"$f":"MTK!K99","v":{"$error":"#DIV/0!"}},{"$f":"MTK!L99","v":0},{"$error":"#DIV/0!"},{"$f":"IPA!K99","v":{"$error":"#DIV/0!"}},{"$f":"IPA!N99","v":{"$error":"#DIV/0!"}},{"$error":"#DIV/0!"},{"$f":"IPS!K99","v":{"$error":"#DIV/0!"}},{"$f":"IPS!L99","v":0},{"$error":"#DIV/0!"},{"$f":"SBK!K99","v":{"$error":"#DIV/0!"}},{"$f":"SBK!N99","v":{"$error":"#DIV/0!"}},{"$error":"#DIV/0!"},{"$f":"PJK!K99","v":{"$error":"#DIV/0!"}},{"$f":"PJK!N99","v":{"$error":"#DIV/0!"}},{"$error":"#DIV/0!"},{"$f":"BD!K99","v":{"$error":"#DIV/0!"}},{"$f":"BD!N99","v":{"$error":"#DIV/0!"}},{"$error":"#DIV/0!"},{"$f":"BIG!K99","v":{"$error":"#DIV/0!"}},{"$f":"BIG!N99","v":{"$error":"#DIV/0!"}},{"$error":"#DIV/0!"},{"$error":"#DIV/0!"},{"$error":"#DIV/0!"},null,{"$error":"#DIV/0!"},{"$error":"#DIV/0!"},null,{"$error":"#DIV/0!"},{"$error":"#DIV/0!"},{"$f":"IPA!L99","v":0},{"$error":"#DIV/0!"},0,{"$error":"#DIV/0!"},0,{"$error":"#DIV/0!"},{"$error":"#DIV/0!"},{"$error":"#DIV/0!"},{"$error":"#DIV/0!"},0,{"$error":"#DIV/0!"},{"$error":"#DIV/0!"},{"$error":"#DIV/0!"},{"$error":"#DIV/0!"},null,null,{"$error":"#DIV/0!"},0,{"$error":"#DIV/0!"},{"$error":"#DIV/0!"},0,{"$error":"#DIV/0!"},{"$error":"#DIV/0!"},0,{"$error":"#DIV/0!"},null,null,{"$f":"SISWA!S98","v":"142"}]
[{"$f":"SISWA!A100","v":93},{"$f":"IF(SISWA!B100=0,\"\",SISWA!B100)","v":""},{"$f":"IF(SISWA!C100=0,\"\",SISWA!C100)","v":""},{"$f":"IF(SISWA!D100=0,\"\",SISWA!D100)","v":"093-"},{"$f":"IF(SISWA!E100=0,\"\",SISWA!E100)","v":""},{"$f":"IF(SISWA!P99=0,\"\",SISWA!P99)","v":", 00 Januari 1900"},{"$f":"IF(SISWA!H100=0,\"\",SISWA!H100)","v":""},{"$f":"#REF!","v":{"$error":"#REF!"}},{"$f":"#REF!","v":{"$error":"#REF!"}},{"$error":"#REF!"},{"$f":"AA!K100","v":{"$error":"#DIV/0!"}},{"$f":"AA!N100","v":{"$error":"#DIV/0!"}},{"$error":"#DIV/0!"},{"$f":"AH!K100","v":{"$error":"#DIV/0!"}},{"$f":"AH!N100","v":{"$error":"#DIV/0!"}},{"$error":"#DIV/0!"},{"$f":"FQ!K100","v":{"$error":"#DIV/0!"}},{"$f":"FQ!N100","v":{"$error":"#DIV/0!"}},{"$error":"#DIV/0!"},{"$f":"SKI!K100","v":{"$error":"#DIV/0!"}},{"$f":"SKI!N100","v":{"$error":"#DIV/0!"}},{"$error":"#DIV/0!"},{"$f":"PKn!K100","v":{"$error":"#DIV/0!"}},{"$f":"PKn!N100","v":0},{"$error":"#DIV/0!"},{"$f":"BID!K100","v":{"$error":"#DIV/0!"}},{"$f":"BID!N100","v":{"$error":"#DIV/0!"}},{"$error":"#DIV/0!"},{"$f":"BA!K100","v":{"$error":"#DIV/0!"}},{"$f":"BA!N100","v":{"$error":"#DIV/0!"}},{"$error":"#DIV/0!"},{"$f":"MTK!K100","v":{"$error":"#DIV/0!"}},{"$f":"MTK!L100","v":0},{"$error":"#DIV/0!"},{"$f":"IPA!K100","v":{"$error":"#DIV/0!"}},{"$f":"IPA!N100","v":{"$error":"#DIV/0!"}},{"$error":"#DIV/0!"},{"$f":"IPS!K100","v":{"$error":"#DIV/0!"}},{"$f":"IPS!L100","v":0},{"$error":"#DIV/0!"},{"$f":"SBK!K100","v":{"$error":"#DIV/0!"}},{"$f":"SBK!N100","v":{"$error":"#DIV/0!"}},{"$error":"#DIV/0!"},{"$f":"PJK!K100","v":{"$error":"#DIV/0!"}},{"$f":"PJK!N100","v":{"$error":"#DIV/0!"}},{"$error":"#DIV/0!"},{"$f":"BD!K100","v":{"$error":"#DIV/0!"}},{"$f":"BD!N100","v":{"$error":"#DIV/0!"}},{"$error":"#DIV/0!"},{"$f":"BIG!K100","v":{"$error":"#DIV/0!"}},{"$f":"BIG!N100","v":{"$error":"#DIV/0!"}},{"$error":"#DIV/0!"},{"$error":"#DIV/0!"},{"$error":"#DIV/0!"},null,{"$error":"#DIV/0!"},{"$error":"#DIV/0!"},null,{"$error":"#DIV/0!"},{"$error":"#DIV/0!"},{"$f":"IPA!L100","v":0},{"$error":"#DIV/0!"},0,{"$error":"#DIV/0!"},0,{"$error":"#DIV/0!"},{"$error":"#DIV/0!"},{"$error":"#DIV/0!"},{"$error":"#DIV/0!"},0,{"$error":"#DIV/0!"},{"$error":"#DIV/0!"},{"$error":"#DIV/0!"},{"$error":"#DIV/0!"},null,null,{"$error":"#DIV/0!"},0,{"$error":"#DIV/0!"},{"$error":"#DIV/0!"},0,{"$error":"#DIV/0!"},{"$error":"#DIV/0!"},0,{"$error":"#DIV/0!"},null,null,{"$f":"SISWA!S99","v":"143"}]
[{"$f":"SISWA!A101","v":94},{"$f":"IF(SISWA!B101=0,\"\",SISWA!B101)","v":""},{"$f":"IF(SISWA!C101=0,\"\",SISWA!C101)","v":""},{"$f":"IF(SISWA!D101=0,\"\",SISWA!D101)","v":"094-"},{"$f":"IF(SISWA!E101=0,\"\",SISWA!E101)","v":""},{"$f":"IF(SISWA!P100=0,\"\",SISWA!P100)","v":", 00 Januari 1900"},{"$f":"IF(SISWA!H101=0,\"\",SISWA!H101)","v":""},{"$f":"#REF!","v":{"$error":"#REF!"}},{"$f":"#REF!","v":{"$error":"#REF!"}},{"$error":"#REF!"},{"$f":"AA!K101","v":{"$error":"#DIV/0!"}},{"$f":"AA!N101","v":{"$error":"#DIV/0!"}},{"$error":"#DIV/0!"},{"$f":"AH!K101","v":{"$error":"#DIV/0!"}},{"$f":"AH!N101","v":{"$error":"#DIV/0!"}},{"$error":"#DIV/0!"},{"$f":"FQ!K101","v":{"$error":"#DIV/0!"}},{"$f":"FQ!N101","v":{"$error":"#DIV/0!"}},{"$error":"#DIV/0!"},{"$f":"SKI!K101","v":{"$error":"#DIV/0!"}},{"$f":"SKI!N101","v":{"$error":"#DIV/0!"}},{"$error":"#DIV/0!"},{"$f":"PKn!K101","v":{"$error":"#DIV/0!"}},{"$f":"PKn!N101","v":0},{"$error":"#DIV/0!"},{"$f":"BID!K101","v":{"$error":"#DIV/0!"}},{"$f":"BID!N101","v":{"$error":"#DIV/0!"}},{"$error":"#DIV/0!"},{"$f":"BA!K101","v":{"$error":"#DIV/0!"}},{"$f":"BA!N101","v":{"$error":"#DIV/0!"}},{"$error":"#DIV/0!"},{"$f":"MTK!K101","v":{"$error":"#DIV/0!"}},{"$f":"MTK!L101","v":0},{"$error":"#DIV/0!"},{"$f":"IPA!K101","v":{"$error":"#DIV/0!"}},{"$f":"IPA!N101","v":{"$error":"#DIV/0!"}},{"$error":"#DIV/0!"},{"$f":"IPS!K101","v":{"$error":"#DIV/0!"}},{"$f":"IPS!L101","v":0},{"$error":"#DIV/0!"},{"$f":"SBK!K101","v":{"$error":"#DIV/0!"}},{"$f":"SBK!N101","v":{"$error":"#DIV/0!"}},{"$error":"#DIV/0!"},{"$f":"PJK!K101","v":{"$error":"#DIV/0!"}},{"$f":"PJK!N101","v":{"$error":"#DIV/0!"}},{"$error":"#DIV/0!"},{"$f":"BD!K101","v":{"$error":"#DIV/0!"}},{"$f":"BD!N101","v":{"$error":"#DIV/0!"}},{"$error":"#DIV/0!"},{"$f":"BIG!K101","v":{"$error":"#DIV/0!"}},{"$f":"BIG!N101","v":{"$error":"#DIV/0!"}},{"$error":"#DIV/0!"},{"$error":"#DIV/0!"},{"$error":"#DIV/0!"},null,{"$error":"#DIV/0!"},{"$error":"#DIV/0!"},null,{"$error":"#DIV/0!"},{"$error":"#DIV/0!"},{"$f":"IPA!L101","v":0},{"$error":"#DIV/0!"},0,{"$error":"#DIV/0!"},0,{"$error":"#DIV/0!"},{"$error":"#DIV/0!"},{"$error":"#DIV/0!"},{"$error":"#DIV/0!"},0,{"$error":"#DIV/0!"},{"$error":"#DIV/0!"},{"$error":"#DIV/0!"},{"$error":"#DIV/0!"},null,null,{"$error":"#DIV/0!"},0,{"$error":"#DIV/0!"},{"$error":"#DIV/0!"},0,{"$error":"#DIV/0!"},{"$error":"#DIV/0!"},0,{"$error":"#DIV/0!"},null,null,{"$f":"SISWA!S100","v":"144"}]
[{"$f":"SISWA!A102","v":95},{"$f":"IF(SISWA!B102=0,\"\",SISWA!B102)","v":""},{"$f":"IF(SISWA!C102=0,\"\",SISWA!C102)","v":""},{"$f":"IF(SISWA!D102=0,\"\",SISWA!D102)","v":"095-"},{"$f":"IF(SISWA!E102=0,\"\",SISWA!E102)","v":""},{"$f":"IF(SISWA!P101=0,\"\",SISWA!P101)","v":", 00 Januari 1900"},{"$f":"IF(SISWA!H102=0,\"\",SISWA!H102)","v":""},{"$f":"#REF!","v":{"$error":"#REF!"}},{"$f":"#REF!","v":{"$error":"#REF!"}},{"$error":"#REF!"},{"$f":"AA!K102","v":{"$error":"#DIV/0!"}},{"$f":"AA!N102","v":{"$error":"#DIV/0!"}},{"$error":"#DIV/0!"},{"$f":"AH!K102","v":{"$error":"#DIV/0!"}},{"$f":"AH!N102","v":{"$error":"#DIV/0!"}},{"$error":"#DIV/0!"},{"$f":"FQ!K102","v":{"$error":"#DIV/0!"}},{"$f":"FQ!N102","v":{"$error":"#DIV/0!"}},{"$error":"#DIV/0!"},{"$f":"SKI!K102","v":{"$error":"#DIV/0!"}},{"$f":"SKI!N102","v":{"$error":"#DIV/0!"}},{"$error":"#DIV/0!"},{"$f":"PKn!K102","v":{"$error":"#DIV/0!"}},{"$f":"PKn!N102","v":0},{"$error":"#DIV/0!"},{"$f":"BID!K102","v":{"$error":"#DIV/0!"}},{"$f":"BID!N102","v":{"$error":"#DIV/0!"}},{"$error":"#DIV/0!"},{"$f":"BA!K102","v":{"$error":"#DIV/0!"}},{"$f":"BA!N102","v":{"$error":"#DIV/0!"}},{"$error":"#DIV/0!"},{"$f":"MTK!K102","v":{"$error":"#DIV/0!"}},{"$f":"MTK!L102","v":0},{"$error":"#DIV/0!"},{"$f":"IPA!K102","v":{"$error":"#DIV/0!"}},{"$f":"IPA!N102","v":{"$error":"#DIV/0!"}},{"$error":"#DIV/0!"},{"$f":"IPS!K102","v":{"$error":"#DIV/0!"}},{"$f":"IPS!L102","v":0},{"$error":"#DIV/0!"},{"$f":"SBK!K102","v":{"$error":"#DIV/0!"}},{"$f":"SBK!N102","v":{"$error":"#DIV/0!"}},{"$error":"#DIV/0!"},{"$f":"PJK!K102","v":{"$error":"#DIV/0!"}},{"$f":"PJK!N102","v":{"$error":"#DIV/0!"}},{"$error":"#DIV/0!"},{"$f":"BD!K102","v":{"$error":"#DIV/0!"}},{"$f":"BD!N102","v":{"$error":"#DIV/0!"}},{"$error":"#DIV/0!"},{"$f":"BIG!K102","v":{"$error":"#DIV/0!"}},{"$f":"BIG!N102","v":{"$error":"#DIV/0!"}},{"$error":"#DIV/0!"},{"$error":"#DIV/0!"},{"$error":"#DIV/0!"},null,{"$error":"#DIV/0!"},{"$error":"#DIV/0!"},null,{"$error":"#DIV/0!"},{"$error":"#DIV/0!"},{"$f":"IPA!L102","v":0},{"$error":"#DIV/0!"},0,{"$error":"#DIV/0!"},0,{"$error":"#DIV/0!"},{"$error":"#DIV/0!"},{"$error":"#DIV/0!"},{"$error":"#DIV/0!"},0,{"$error":"#DIV/0!"},{"$error":"#DIV/0!"},{"$error":"#DIV/0!"},{"$error":"#DIV/0!"},null,null,{"$error":"#DIV/0!"},0,{"$error":"#DIV/0!"},{"$error":"#DIV/0!"},0,{"$error":"#DIV/0!"},{"$error":"#DIV/0!"},0,{"$error":"#DIV/0!"},null,null,{"$f":"SISWA!S101","v":"145"}]
[{"$f":"SISWA!A103","v":96},{"$f":"IF(SISWA!B103=0,\"\",SISWA!B103)","v":""},{"$f":"IF(SISWA!C103=0,\"\",SISWA!C103)","v":""},{"$f":"IF(SISWA!D103=0,\"\",SISWA!D103)","v":"096-"},{"$f":"IF(SISWA!E103=0,\"\",SISWA!E103)","v":""},{"$f":"IF(SISWA!P102=0,\"\",SISWA!P102)","v":", 00 Januari 1900"},{"$f":"IF(SISWA!H103=0,\"\",SISWA!H103)","v":""},{"$f":"#REF!","v":{"$error":"#REF!"}},{"$f":"#REF!","v":{"$error":"#REF!"}},{"$error":"#REF!"},{"$f":"AA!K103","v":{"$error":"#DIV/0!"}},{"$f":"AA!N103","v":{"$error":"#DIV/0!"}},{"$error":"#DIV/0!"},{"$f":"AH!K103","v":{"$error":"#DIV/0!"}},{"$f":"AH!N103","v":{"$error":"#DIV/0!"}},{"$error":"#DIV/0!"},{"$f":"FQ!K103","v":{"$error":"#DIV/0!"}},{"$f":"FQ!N103","v":{"$error":"#DIV/0!"}},{"$error":"#DIV/0!"},{"$f":"SKI!K103","v":{"$error":"#DIV/0!"}},{"$f":"SKI!N103","v":{"$error":"#DIV/0!"}},{"$error":"#DIV/0!"},{"$f":"PKn!K103","v":{"$error":"#DIV/0!"}},{"$f":"PKn!N103","v":0},{"$error":"#DIV/0!"},{"$f":"BID!K103","v":{"$error":"#DIV/0!"}},{"$f":"BID!N103","v":{"$error":"#DIV/0!"}},{"$error":"#DIV/0!"},{"$f":"BA!K103","v":{"$error":"#DIV/0!"}},{"$f":"BA!N103","v":{"$error":"#DIV/0!"}},{"$error":"#DIV/0!"},{"$f":"MTK!K103","v":{"$error":"#DIV/0!"}},{"$f":"MTK!L103","v":0},{"$error":"#DIV/0!"},{"$f":"IPA!K103","v":{"$error":"#DIV/0!"}},{"$f":"IPA!N103","v":{"$error":"#DIV/0!"}},{"$error":"#DIV/0!"},{"$f":"IPS!K103","v":{"$error":"#DIV/0!"}},{"$f":"IPS!L103","v":0},{"$error":"#DIV/0!"},{"$f":"SBK!K103","v":{"$error":"#DIV/0!"}},{"$f":"SBK!N103","v":{"$error":"#DIV/0!"}},{"$error":"#DIV/0!"},{"$f":"PJK!K103","v":{"$error":"#DIV/0!"}},{"$f":"PJK!N103","v":{"$error":"#DIV/0!"}},{"$error":"#DIV/0!"},{"$f":"BD!K103","v":{"$error":"#DIV/0!"}},{"$f":"BD!N103","v":{"$error":"#DIV/0!"}},{"$error":"#DIV/0!"},{"$f":"BIG!K103","v":{"$error":"#DIV/0!"}},{"$f":"BIG!N103","v":{"$error":"#DIV/0!"}},{"$error":"#DIV/0!"},{"$error":"#DIV/0!"},{"$error":"#DIV/0!"},null,{"$error":"#DIV/0!"},{"$error":"#DIV/0!"},null,{"$error":"#DIV/0!"},{"$error":"#DIV/0!"},{"$f":"IPA!L103","v":0},{"$error":"#DIV/0!"},0,{"$error":"#DIV/0!"},0,{"$error":"#DIV/0!"},{"$error":"#DIV/0!"},{"$error":"#DIV/0!"},{"$error":"#DIV/0!"},0,{"$error":"#DIV/0!"},{"$error":"#DIV/0!"},{"$error":"#DIV/0!"},{"$error":"#DIV/0!"},null,null,{"$error":"#DIV/0!"},0,{"$error":"#DIV/0!"},{"$error":"#DIV/0!"},0,{"$error":"#DIV/0!"},{"$error":"#DIV/0!"},0,{"$error":"#DIV/0!"},null,null,{"$f":"SISWA!S102","v":"146"}]
[{"$f":"SISWA!A104","v":97},{"$f":"IF(SISWA!B104=0,\"\",SISWA!B104)","v":""},{"$f":"IF(SISWA!C104=0,\"\",SISWA!C104)","v":""},{"$f":"IF(SISWA!D104=0,\"\",SISWA!D104)","v":"097-"},{"$f":"IF(SISWA!E104=0,\"\",SISWA!E104)","v":""},{"$f":"IF(SISWA!P103=0,\"\",SISWA!P103)","v":", 00 Januari 1900"},{"$f":"IF(SISWA!H104=0,\"\",SISWA!H104)","v":""},{"$f":"#REF!","v":{"$error":"#REF!"}},{"$f":"#REF!","v":{"$error":"#REF!"}},{"$error":"#REF!"},{"$f":"AA!K104","v":{"$error":"#DIV/0!"}},{"$f":"AA!N104","v":{"$error":"#DIV/0!"}},{"$error":"#DIV/0!"},{"$f":"AH!K104","v":{"$error":"#DIV/0!"}},{"$f":"AH!N104","v":{"$error":"#DIV/0!"}},{"$error":"#DIV/0!"},{"$f":"FQ!K104","v":{"$error":"#DIV/0!"}},{"$f":"FQ!N104","v":{"$error":"#DIV/0!"}},{"$error":"#DIV/0!"},{"$f":"SKI!K104","v":{"$error":"#DIV/0!"}},{"$f":"SKI!N104","v":{"$error":"#DIV/0!"}},{"$error":"#DIV/0!"},{"$f":"PKn!K104","v":{"$error":"#DIV/0!"}},{"$f":"PKn!N104","v":0},{"$error":"#DIV/0!"},{"$f":"BID!K104","v":{"$error":"#DIV/0!"}},{"$f":"BID!N104","v":{"$error":"#DIV/0!"}},{"$error":"#DIV/0!"},{"$f":"BA!K104","v":{"$error":"#DIV/0!"}},{"$f":"BA!N104","v":{"$error":"#DIV/0!"}},{"$error":"#DIV/0!"},{"$f":"MTK!K104","v":{"$error":"#DIV/0!"}},{"$f":"MTK!L104","v":0},{"$error":"#DIV/0!"},{"$f":"IPA!K104","v":{"$error":"#DIV/0!"}},{"$f":"IPA!N104","v":{"$error":"#DIV/0!"}},{"$error":"#DIV/0!"},{"$f":"IPS!K104","v":{"$error":"#DIV/0!"}},{"$f":"IPS!L104","v":0},{"$error":"#DIV/0!"},{"$f":"SBK!K104","v":{"$error":"#DIV/0!"}},{"$f":"SBK!N104","v":{"$error":"#DIV/0!"}},{"$error":"#DIV/0!"},{"$f":"PJK!K104","v":{"$error":"#DIV/0!"}},{"$f":"PJK!N104","v":{"$error":"#DIV/0!"}},{"$error":"#DIV/0!"},{"$f":"BD!K104","v":{"$error":"#DIV/0!"}},{"$f":"BD!N104","v":{"$error":"#DIV/0!"}},{"$error":"#DIV/0!"},{"$f":"BIG!K104","v":{"$error":"#DIV/0!"}},{"$f":"BIG!N104","v":{"$error":"#DIV/0!"}},{"$error":"#DIV/0!"},{"$error":"#DIV/0!"},{"$f":"AB105","v":{"$error":"#DIV/0!"}},null,{"$f":"(BB105*60%)+(BC105*40%)","v":{"$error":"#DIV/0!"}},{"$f":"AH105","v":{"$error":"#DIV/0!"}},null,{"$f":"(BE105*60%)+(BF105*40%)","v":{"$error":"#DIV/0!"}},{"$f":"AK105","v":{"$error":"#DIV/0!"}},{"$f":"IPA!L104","v":0},{"$f":"(BH105*60%)+(BI105*40%)","v":{"$error":"#DIV/0!"}},0,{"$f":"SUM(BD105,BG105,BJ105)","v":{"$error":"#DIV/0!"}},0,{"$error":"#DIV/0!"},{"$error":"#DIV/0!"},{"$error":"#DIV/0!"},{"$error":"#DIV/0!"},0,{"$error":"#DIV/0!"},{"$error":"#DIV/0!"},{"$error":"#DIV/0!"},{"$error":"#DIV/0!"},null,null,{"$error":"#DIV/0!"},0,{"$error":"#DIV/0!"},{"$error":"#DIV/0!"},0,{"$error":"#DIV/0!"},{"$error":"#DIV/0!"},0,{"$error":"#DIV/0!"},null,null,{"$f":"SISWA!S103","v":"147"}]
[{"$f":"SISWA!A105","v":98},{"$f":"IF(SISWA!B105=0,\"\",SISWA!B105)","v":""},{"$f":"IF(SISWA!C105=0,\"\",SISWA!C105)","v":""},{"$f":"IF(SISWA!D105=0,\"\",SISWA!D105)","v":"098-"},{"$f":"IF(SISWA!E105=0,\"\",SISWA!E105)","v":""},{"$f":"IF(SISWA!P104=0,\"\",SISWA!P104)","v":", 00 Januari 1900"},{"$f":"IF(SISWA!H105=0,\"\",SISWA!H105)","v":""},{"$f":"#REF!","v":{"$error":"#REF!"}},{"$f":"#REF!","v":{"$error":"#REF!"}},{"$error":"#REF!"},{"$f":"AA!K105","v":{"$error":"#DIV/0!"}},{"$f":"AA!N105","v":{"$error":"#DIV/0!"}},{"$error":"#DIV/0!"},{"$f":"AH!K105","v":{"$error":"#DIV/0!"}},{"$f":"AH!N105","v":{"$error":"#DIV/0!"}},{"$error":"#DIV/0!"},{"$f":"FQ!K105","v":{"$error":"#DIV/0!"}},{"$f":"FQ!N105","v":{"$error":"#DIV/0!"}},{"$error":"#DIV/0!"},{"$f":"SKI!K105","v":{"$error":"#DIV/0!"}},{"$f":"SKI!N105","v":{"$error":"#DIV/0!"}},{"$error":"#DIV/0!"},{"$f":"PKn!K105","v":{"$error":"#DIV/0!"}},{"$f":"PKn!N105","v":0},{"$error":"#DIV/0!"},{"$f":"BID!K105","v":{"$error":"#DIV/0!"}},{"$f":"BID!N105","v":{"$error":"#DIV/0!"}},{"$error":"#DIV/0!"},{"$f":"BA!K105","v":{"$error":"#DIV/0!"}},{"$f":"BA!N105","v":{"$error":"#DIV/0!"}},{"$error":"#DIV/0!"},{"$f":"MTK!K105","v":{"$error":"#DIV/0!"}},{"$f":"MTK!L105","v":0},{"$error":"#DIV/0!"},{"$f":"IPA!K105","v":{"$error":"#DIV/0!"}},{"$f":"IPA!N105","v":{"$error":"#DIV/0!"}},{"$error":"#DIV/0!"},{"$f":"IPS!K105","v":{"$error":"#DIV/0!"}},{"$f":"IPS!L105","v":0},{"$error":"#DIV/0!"},{"$f":"SBK!K105","v":{"$error":"#DIV/0!"}},{"$f":"SBK!N105","v":{"$error":"#DIV/0!"}},{"$error":"#DIV/0!"},{"$f":"PJK!K105","v":{"$error":"#DIV/0!"}},{"$f":"PJK!N105","v":{"$error":"#DIV/0!"}},{"$error":"#DIV/0!"},{"$f":"BD!K105","v":{"$error":"#DIV/0!"}},{"$f":"BD!N105","v":{"$error":"#DIV/0!"}},{"$error":"#DIV/0!"},{"$f":"BIG!K105","v":{"$error":"#DIV/0!"}},{"$f":"BIG!N105","v":{"$error":"#DIV/0!"}},{"$error":"#DIV/0!"},{"$error":"#DIV/0!"},{"$error":"#DIV/0!"},null,{"$error":"#DIV/0!"},{"$error":"#DIV/0!"},null,{"$error":"#DIV/0!"},{"$error":"#DIV/0!"},{"$f":"IPA!L105","v":0},{"$error":"#DIV/0!"},0,{"$error":"#DIV/0!"},0,{"$error":"#DIV/0!"},{"$error":"#DIV/0!"},{"$error":"#DIV/0!"},{"$error":"#DIV/0!"},0,{"$error":"#DIV/0!"},{"$error":"#DIV/0!"},{"$error":"#DIV/0!"},{"$error":"#DIV/0!"},null,null,{"$error":"#DIV/0!"},0,{"$error":"#DIV/0!"},{"$error":"#DIV/0!"},0,{"$error":"#DIV/0!"},{"$error":"#DIV/0!"},0,{"$error":"#DIV/0!"},null,null,{"$f":"SISWA!S104","v":"148"}]
[{"$f":"SISWA!A106","v":99},{"$f":"IF(SISWA!B106=0,\"\",SISWA!B106)","v":""},{"$f":"IF(SISWA!C106=0,\"\",SISWA!C106)","v":""},{"$f":"IF(SISWA!D106=0,\"\",SISWA!D106)","v":"099-"},{"$f":"IF(SISWA!E106=0,\"\",SISWA!E106)","v":""},{"$f":"IF(SISWA!P105=0,\"\",SISWA!P105)","v":", 00 Januari 1900"},{"$f":"IF(SISWA!H106=0,\"\",SISWA!H106)","v":""},{"$f":"#REF!","v":{"$error":"#REF!"}},{"$f":"#REF!","v":{"$error":"#REF!"}},{"$error":"#REF!"},{"$f":"AA!K106","v":{"$error":"#DIV/0!"}},{"$f":"AA!N106","v":{"$error":"#DIV/0!"}},{"$error":"#DIV/0!"},{"$f":"AH!K106","v":{"$error":"#DIV/0!"}},{"$f":"AH!N106","v":{"$error":"#DIV/0!"}},{"$error":"#DIV/0!"},{"$f":"FQ!K106","v":{"$error":"#DIV/0!"}},{"$f":"FQ!N106","v":{"$error":"#DIV/0!"}},{"$error":"#DIV/0!"},{"$f":"SKI!K106","v":{"$error":"#DIV/0!"}},{"$f":"SKI!N106","v":{"$error":"#DIV/0!"}},{"$error":"#DIV/0!"},{"$f":"PKn!K106","v":{"$error":"#DIV/0!"}},{"$f":"PKn!N106","v":0},{"$error":"#DIV/0!"},{"$f":"BID!K106","v":{"$error":"#DIV/0!"}},{"$f":"BID!N106","v":{"$error":"#DIV/0!"}},{"$error":"#DIV/0!"},{"$f":"BA!K106","v":{"$error":"#DIV/0!"}},{"$f":"BA!N106","v":{"$error":"#DIV/0!"}},{"$error":"#DIV/0!"},{"$f":"MTK!K106","v":{"$error":"#DIV/0!"}},{"$f":"MTK!L106","v":0},{"$error":"#DIV/0!"},{"$f":"IPA!K106","v":{"$error":"#DIV/0!"}},{"$f":"IPA!N106","v":{"$error":"#DIV/0!"}},{"$error":"#DIV/0!"},{"$f":"IPS!K106","v":{"$error":"#DIV/0!"}},{"$f":"IPS!L106","v":0},{"$error":"#DIV/0!"},{"$f":"SBK!K106","v":{"$error":"#DIV/0!"}},{"$f":"SBK!N106","v":{"$error":"#DIV/0!"}},{"$error":"#DIV/0!"},{"$f":"PJK!K106","v":{"$error":"#DIV/0!"}},{"$f":"PJK!N106","v":{"$error":"#DIV/0!"}},{"$error":"#DIV/0!"},{"$f":"BD!K106","v":{"$error":"#DIV/0!"}},{"$f":"BD!N106","v":{"$error":"#DIV/0!"}},{"$error":"#DIV/0!"},{"$f":"BIG!K106","v":{"$error":"#DIV/0!"}},{"$f":"BIG!N106","v":{"$error":"#DIV/0!"}},{"$error":"#DIV/0!"},{"$error":"#DIV/0!"},{"$error":"#DIV/0!"},null,{"$error":"#DIV/0!"},{"$error":"#DIV/0!"},null,{"$error":"#DIV/0!"},{"$error":"#DIV/0!"},{"$f":"IPA!L106","v":0},{"$error":"#DIV/0!"},0,{"$error":"#DIV/0!"},0,{"$error":"#DIV/0!"},{"$error":"#DIV/0!"},{"$error":"#DIV/0!"},{"$error":"#DIV/0!"},0,{"$error":"#DIV/0!"},{"$error":"#DIV/0!"},{"$error":"#DIV/0!"},{"$error":"#DIV/0!"},null,null,{"$error":"#DIV/0!"},0,{"$error":"#DIV/0!"},{"$error":"#DIV/0!"},0,{"$error":"#DIV/0!"},{"$error":"#DIV/0!"},0,{"$error":"#DIV/0!"},null,null,{"$f":"SISWA!S105","v":"149"}]
[{"$f":"SISWA!A107","v":100},{"$f":"IF(SISWA!B107=0,\"\",SISWA!B107)","v":""},{"$f":"IF(SISWA!C107=0,\"\",SISWA!C107)","v":""},{"$f":"IF(SISWA!D107=0,\"\",SISWA!D107)","v":"100-"},{"$f":"IF(SISWA!E107=0,\"\",SISWA!E107)","v":""},{"$f":"IF(SISWA!P106=0,\"\",SISWA!P106)","v":", 00 Januari 1900"},{"$f":"IF(SISWA!H107=0,\"\",SISWA!H107)","v":""},{"$f":"#REF!","v":{"$error":"#REF!"}},{"$f":"#REF!","v":{"$error":"#REF!"}},{"$error":"#REF!"},{"$f":"AA!K107","v":{"$error":"#DIV/0!"}},{"$f":"AA!N107","v":{"$error":"#DIV/0!"}},{"$error":"#DIV/0!"},{"$f":"AH!K107","v":{"$error":"#DIV/0!"}},{"$f":"AH!N107","v":{"$error":"#DIV/0!"}},{"$error":"#DIV/0!"},{"$f":"FQ!K107","v":{"$error":"#DIV/0!"}},{"$f":"FQ!N107","v":{"$error":"#DIV/0!"}},{"$error":"#DIV/0!"},{"$f":"SKI!K107","v":{"$error":"#DIV/0!"}},{"$f":"SKI!N107","v":{"$error":"#DIV/0!"}},{"$error":"#DIV/0!"},{"$f":"PKn!K107","v":{"$error":"#DIV/0!"}},{"$f":"PKn!N107","v":0},{"$error":"#DIV/0!"},{"$f":"BID!K107","v":{"$error":"#DIV/0!"}},{"$f":"BID!N107","v":{"$error":"#DIV/0!"}},{"$error":"#DIV/0!"},{"$f":"BA!K107","v":{"$error":"#DIV/0!"}},{"$f":"BA!N107","v":{"$error":"#DIV/0!"}},{"$error":"#DIV/0!"},{"$f":"MTK!K107","v":{"$error":"#DIV/0!"}},{"$f":"MTK!L107","v":0},{"$error":"#DIV/0!"},{"$f":"IPA!K107","v":{"$error":"#DIV/0!"}},{"$f":"IPA!N107","v":{"$error":"#DIV/0!"}},{"$error":"#DIV/0!"},{"$f":"IPS!K107","v":{"$error":"#DIV/0!"}},{"$f":"IPS!L107","v":0},{"$error":"#DIV/0!"},{"$f":"SBK!K107","v":{"$error":"#DIV/0!"}},{"$f":"SBK!N107","v":{"$error":"#DIV/0!"}},{"$error":"#DIV/0!"},{"$f":"PJK!K107","v":{"$error":"#DIV/0!"}},{"$f":"PJK!N107","v":{"$error":"#DIV/0!"}},{"$error":"#DIV/0!"},{"$f":"BD!K107","v":{"$error":"#DIV/0!"}},{"$f":"BD!N107","v":{"$error":"#DIV/0!"}},{"$error":"#DIV/0!"},{"$f":"BIG!K107","v":{"$error":"#DIV/0!"}},{"$f":"BIG!N107","v":{"$error":"#DIV/0!"}},{"$error":"#DIV/0!"},{"$error":"#DIV/0!"},{"$error":"#DIV/0!"},null,{"$error":"#DIV/0!"},{"$error":"#DIV/0!"},null,{"$error":"#DIV/0!"},{"$error":"#DIV/0!"},{"$f":"IPA!L107","v":0},{"$error":"#DIV/0!"},0,{"$error":"#DIV/0!"},0,{"$error":"#DIV/0!"},{"$error":"#DIV/0!"},{"$error":"#DIV/0!"},{"$error":"#DIV/0!"},0,{"$error":"#DIV/0!"},{"$error":"#DIV/0!"},{"$error":"#DIV/0!"},{"$error":"#DIV/0!"},null,null,{"$error":"#DIV/0!"},0,{"$error":"#DIV/0!"},{"$error":"#DIV/0!"},0,{"$error":"#DIV/0!"},{"$error":"#DIV/0!"},0,{"$error":"#DIV/0!"},null,null,{"$f":"SISWA!S106","v":"150"}]
[{"$f":"SISWA!A108","v":101},{"$f":"IF(SISWA!B108=0,\"\",SISWA!B108)","v":""},{"$f":"IF(SISWA!C108=0,\"\",SISWA!C108)","v":""},{"$f":"IF(SISWA!D108=0,\"\",SISWA!D108)","v":"101-"},{"$f":"IF(SISWA!E108=0,\"\",SISWA!E108)","v":""},{"$f":"IF(SISWA!P107=0,\"\",SISWA!P107)","v":", 00 Januari 1900"},{"$f":"IF(SISWA!H108=0,\"\",SISWA!H108)","v":""},{"$f":"#REF!","v":{"$error":"#REF!"}},{"$f":"#REF!","v":{"$error":"#REF!"}},{"$error":"#REF!"},{"$f":"AA!K108","v":{"$error":"#DIV/0!"}},{"$f":"AA!N108","v":{"$error":"#DIV/0!"}},{"$error":"#DIV/0!"},{"$f":"AH!K108","v":{"$error":"#DIV/0!"}},{"$f":"AH!N108","v":{"$error":"#DIV/0!"}},{"$error":"#DIV/0!"},{"$f":"FQ!K108","v":{"$error":"#DIV/0!"}},{"$f":"FQ!N108","v":{"$error":"#DIV/0!"}},{"$error":"#DIV/0!"},{"$f":"SKI!K108","v":{"$error":"#DIV/0!"}},{"$f":"SKI!N108","v":{"$error":"#DIV/0!"}},{"$error":"#DIV/0!"},{"$f":"PKn!K108","v":{"$error":"#DIV/0!"}},{"$f":"PKn!N108","v":0},{"$error":"#DIV/0!"},{"$f":"BID!K108","v":{"$error":"#DIV/0!"}},{"$f":"BID!N108","v":{"$error":"#DIV/0!"}},{"$error":"#DIV/0!"},{"$f":"BA!K108","v":{"$error":"#DIV/0!"}},{"$f":"BA!N108","v":{"$error":"#DIV/0!"}},{"$error":"#DIV/0!"},{"$f":"MTK!K108","v":{"$error":"#DIV/0!"}},{"$f":"MTK!L108","v":0},{"$error":"#DIV/0!"},{"$f":"IPA!K108","v":{"$error":"#DIV/0!"}},{"$f":"IPA!N108","v":{"$error":"#DIV/0!"}},{"$error":"#DIV/0!"},{"$f":"IPS!K108","v":{"$error":"#DIV/0!"}},{"$f":"IPS!L108","v":0},{"$error":"#DIV/0!"},{"$f":"SBK!K108","v":{"$error":"#DIV/0!"}},{"$f":"SBK!N108","v":{"$error":"#DIV/0!"}},{"$error":"#DIV/0!"},{"$f":"PJK!K108","v":{"$error":"#DIV/0!"}},{"$f":"PJK!N108","v":{"$error":"#DIV/0!"}},{"$error":"#DIV/0!"},{"$f":"BD!K108","v":{"$error":"#DIV/0!"}},{"$f":"BD!N108","v":{"$error":"#DIV/0!"}},{"$error":"#DIV/0!"},{"$f":"BIG!K108","v":{"$error":"#DIV/0!"}},{"$f":"BIG!N108","v":{"$error":"#DIV/0!"}},{"$error":"#DIV/0!"},{"$error":"#DIV/0!"},{"$error":"#DIV/0!"},null,{"$error":"#DIV/0!"},{"$error":"#DIV/0!"},null,{"$error":"#DIV/0!"},{"$error":"#DIV/0!"},{"$f":"IPA!L108","v":0},{"$error":"#DIV/0!"},0,{"$error":"#DIV/0!"},0,{"$error":"#DIV/0!"},{"$error":"#DIV/0!"},{"$error":"#DIV/0!"},{"$error":"#DIV/0!"},0,{"$error":"#DIV/0!"},{"$error":"#DIV/0!"},{"$error":"#DIV/0!"},{"$error":"#DIV/0!"},null,null,{"$error":"#DIV/0!"},0,{"$error":"#DIV/0!"},{"$error":"#DIV/0!"},0,{"$error":"#DIV/0!"},{"$error":"#DIV/0!"},0,{"$error":"#DIV/0!"},null,null,{"$f":"SISWA!S107","v":"151"}]
[{"$f":"SISWA!A109","v":102},{"$f":"IF(SISWA!B109=0,\"\",SISWA!B109)","v":""},{"$f":"IF(SISWA!C109=0,\"\",SISWA!C109)","v":""},{"$f":"IF(SISWA!D109=0,\"\",SISWA!D109)","v":"102-"},{"$f":"IF(SISWA!E109=0,\"\",SISWA!E109)","v":""},{"$f":"IF(SISWA!P108=0,\"\",SISWA!P108)","v":", 00 Januari 1900"},{"$f":"IF(SISWA!H109=0,\"\",SISWA!H109)","v":""},{"$f":"#REF!","v":{"$error":"#REF!"}},{"$f":"#REF!","v":{"$error":"#REF!"}},{"$error":"#REF!"},{"$f":"AA!K109","v":{"$error":"#DIV/0!"}},{"$f":"AA!N109","v":{"$error":"#DIV/0!"}},{"$error":"#DIV/0!"},{"$f":"AH!K109","v":{"$error":"#DIV/0!"}},{"$f":"AH!N109","v":{"$error":"#DIV/0!"}},{"$error":"#DIV/0!"},{"$f":"FQ!K109","v":{"$error":"#DIV/0!"}},{"$f":"FQ!N109","v":{"$error":"#DIV/0!"}},{"$error":"#DIV/0!"},{"$f":"SKI!K109","v":{"$error":"#DIV/0!"}},{"$f":"SKI!N109","v":{"$error":"#DIV/0!"}},{"$error":"#DIV/0!"},{"$f":"PKn!K109","v":{"$error":"#DIV/0!"}},{"$f":"PKn!N109","v":0},{"$error":"#DIV/0!"},{"$f":"BID!K109","v":{"$error":"#DIV/0!"}},{"$f":"BID!N109","v":{"$error":"#DIV/0!"}},{"$error":"#DIV/0!"},{"$f":"BA!K109","v":{"$error":"#DIV/0!"}},{"$f":"BA!N109","v":{"$error":"#DIV/0!"}},{"$error":"#DIV/0!"},{"$f":"MTK!K109","v":{"$error":"#DIV/0!"}},{"$f":"MTK!L109","v":0},{"$error":"#DIV/0!"},{"$f":"IPA!K109","v":{"$error":"#DIV/0!"}},{"$f":"IPA!N109","v":{"$error":"#DIV/0!"}},{"$error":"#DIV/0!"},{"$f":"IPS!K109","v":{"$error":"#DIV/0!"}},{"$f":"IPS!L109","v":0},{"$error":"#DIV/0!"},{"$f":"SBK!K109","v":{"$error":"#DIV/0!"}},{"$f":"SBK!N109","v":{"$error":"#DIV/0!"}},{"$error":"#DIV/0!"},{"$f":"PJK!K109","v":{"$error":"#DIV/0!"}},{"$f":"PJK!N109","v":{"$error":"#DIV/0!"}},{"$error":"#DIV/0!"},{"$f":"BD!K109","v":{"$error":"#DIV/0!"}},{"$f":"BD!N109","v":{"$error":"#DIV/0!"}},{"$error":"#DIV/0!"},{"$f":"BIG!K109","v":{"$error":"#DIV/0!"}},{"$f":"BIG!N109","v":{"$error":"#DIV/0!"}},{"$error":"#DIV/0!"},{"$error":"#DIV/0!"},{"$error":"#DIV/0!"},null,{"$error":"#DIV/0!"},{"$error":"#DIV/0!"},null,{"$error":"#DIV/0!"},{"$error":"#DIV/0!"},{"$f":"IPA!L109","v":0},{"$error":"#DIV/0!"},0,{"$error":"#DIV/0!"},0,{"$error":"#DIV/0!"},{"$error":"#DIV/0!"},{"$error":"#DIV/0!"},{"$error":"#DIV/0!"},0,{"$error":"#DIV/0!"},{"$error":"#DIV/0!"},{"$error":"#DIV/0!"},{"$error":"#DIV/0!"},null,null,{"$error":"#DIV/0!"},0,{"$error":"#DIV/0!"},{"$error":"#DIV/0!"},0,{"$error":"#DIV/0!"},{"$error":"#DIV/0!"},0,{"$error":"#DIV/0!"},null,null,{"$f":"SISWA!S108","v":"152"}]
[{"$f":"SISWA!A110","v":103},{"$f":"IF(SISWA!B110=0,\"\",SISWA!B110)","v":""},{"$f":"IF(SISWA!C110=0,\"\",SISWA!C110)","v":""},{"$f":"IF(SISWA!D110=0,\"\",SISWA!D110)","v":"103-"},{"$f":"IF(SISWA!E110=0,\"\",SISWA!E110)","v":""},{"$f":"IF(SISWA!P109=0,\"\",SISWA!P109)","v":", 00 Januari 1900"},{"$f":"IF(SISWA!H110=0,\"\",SISWA!H110)","v":""},{"$f":"#REF!","v":{"$error":"#REF!"}},{"$f":"#REF!","v":{"$error":"#REF!"}},{"$error":"#REF!"},{"$f":"AA!K110","v":{"$error":"#DIV/0!"}},{"$f":"AA!N110","v":{"$error":"#DIV/0!"}},{"$error":"#DIV/0!"},{"$f":"AH!K110","v":{"$error":"#DIV/0!"}},{"$f":"AH!N110","v":{"$error":"#DIV/0!"}},{"$error":"#DIV/0!"},{"$f":"FQ!K110","v":{"$error":"#DIV/0!"}},{"$f":"FQ!N110","v":{"$error":"#DIV/0!"}},{"$error":"#DIV/0!"},{"$f":"SKI!K110","v":{"$error":"#DIV/0!"}},{"$f":"SKI!N110","v":{"$error":"#DIV/0!"}},{"$error":"#DIV/0!"},{"$f":"PKn!K110","v":{"$error":"#DIV/0!"}},{"$f":"PKn!N110","v":0},{"$error":"#DIV/0!"},{"$f":"BID!K110","v":{"$error":"#DIV/0!"}},{"$f":"BID!N110","v":{"$error":"#DIV/0!"}},{"$error":"#DIV/0!"},{"$f":"BA!K110","v":{"$error":"#DIV/0!"}},{"$f":"BA!N110","v":{"$error":"#DIV/0!"}},{"$error":"#DIV/0!"},{"$f":"MTK!K110","v":{"$error":"#DIV/0!"}},{"$f":"MTK!L110","v":0},{"$error":"#DIV/0!"},{"$f":"IPA!K110","v":{"$error":"#DIV/0!"}},{"$f":"IPA!N110","v":{"$error":"#DIV/0!"}},{"$error":"#DIV/0!"},{"$f":"IPS!K110","v":{"$error":"#DIV/0!"}},{"$f":"IPS!L110","v":0},{"$error":"#DIV/0!"},{"$f":"SBK!K110","v":{"$error":"#DIV/0!"}},{"$f":"SBK!N110","v":{"$error":"#DIV/0!"}},{"$error":"#DIV/0!"},{"$f":"PJK!K110","v":{"$error":"#DIV/0!"}},{"$f":"PJK!N110","v":{"$error":"#DIV/0!"}},{"$error":"#DIV/0!"},{"$f":"BD!K110","v":{"$error":"#DIV/0!"}},{"$f":"BD!N110","v":{"$error":"#DIV/0!"}},{"$error":"#DIV/0!"},{"$f":"BIG!K110","v":{"$error":"#DIV/0!"}},{"$f":"BIG!N110","v":{"$error":"#DIV/0!"}},{"$error":"#DIV/0!"},{"$error":"#DIV/0!"},{"$error":"#DIV/0!"},null,{"$error":"#DIV/0!"},{"$error":"#DIV/0!"},null,{"$error":"#DIV/0!"},{"$error":"#DIV/0!"},{"$f":"IPA!L110","v":0},{"$error":"#DIV/0!"},0,{"$error":"#DIV/0!"},0,{"$error":"#DIV/0!"},{"$error":"#DIV/0!"},{"$error":"#DIV/0!"},{"$error":"#DIV/0!"},0,{"$error":"#DIV/0!"},{"$error":"#DIV/0!"},{"$error":"#DIV/0!"},{"$error":"#DIV/0!"},null,null,{"$error":"#DIV/0!"},0,{"$error":"#DIV/0!"},{"$error":"#DIV/0!"},0,{"$error":"#DIV/0!"},{"$error":"#DIV/0!"},0,{"$error":"#DIV/0!"},null,null,{"$f":"SISWA!S109","v":"153"}]
[{"$f":"SISWA!A111","v":104},{"$f":"IF(SISWA!B111=0,\"\",SISWA!B111)","v":""},{"$f":"IF(SISWA!C111=0,\"\",SISWA!C111)","v":""},{"$f":"IF(SISWA!D111=0,\"\",SISWA!D111)","v":"104-"},{"$f":"IF(SISWA!E111=0,\"\",SISWA!E111)","v":""},{"$f":"IF(SISWA!P110=0,\"\",SISWA!P110)","v":", 00 Januari 1900"},{"$f":"IF(SISWA!H111=0,\"\",SISWA!H111)","v":""},{"$f":"#REF!","v":{"$error":"#REF!"}},{"$f":"#REF!","v":{"$error":"#REF!"}},{"$error":"#REF!"},{"$f":"AA!K111","v":{"$error":"#DIV/0!"}},{"$f":"AA!N111","v":{"$error":"#DIV/0!"}},{"$error":"#DIV/0!"},{"$f":"AH!K111","v":{"$error":"#DIV/0!"}},{"$f":"AH!N111","v":{"$error":"#DIV/0!"}},{"$error":"#DIV/0!"},{"$f":"FQ!K111","v":{"$error":"#DIV/0!"}},{"$f":"FQ!N111","v":{"$error":"#DIV/0!"}},{"$error":"#DIV/0!"},{"$f":"SKI!K111","v":{"$error":"#DIV/0!"}},{"$f":"SKI!N111","v":{"$error":"#DIV/0!"}},{"$error":"#DIV/0!"},{"$f":"PKn!K111","v":{"$error":"#DIV/0!"}},{"$f":"PKn!N111","v":0},{"$error":"#DIV/0!"},{"$f":"BID!K111","v":{"$error":"#DIV/0!"}},{"$f":"BID!N111","v":{"$error":"#DIV/0!"}},{"$error":"#DIV/0!"},{"$f":"BA!K111","v":{"$error":"#DIV/0!"}},{"$f":"BA!N111","v":{"$error":"#DIV/0!"}},{"$error":"#DIV/0!"},{"$f":"MTK!K111","v":{"$error":"#DIV/0!"}},{"$f":"MTK!L111","v":0},{"$error":"#DIV/0!"},{"$f":"IPA!K111","v":{"$error":"#DIV/0!"}},{"$f":"IPA!N111","v":{"$error":"#DIV/0!"}},{"$error":"#DIV/0!"},{"$f":"IPS!K111","v":{"$error":"#DIV/0!"}},{"$f":"IPS!L111","v":0},{"$error":"#DIV/0!"},{"$f":"SBK!K111","v":{"$error":"#DIV/0!"}},{"$f":"SBK!N111","v":{"$error":"#DIV/0!"}},{"$error":"#DIV/0!"},{"$f":"PJK!K111","v":{"$error":"#DIV/0!"}},{"$f":"PJK!N111","v":{"$error":"#DIV/0!"}},{"$error":"#DIV/0!"},{"$f":"BD!K111","v":{"$error":"#DIV/0!"}},{"$f":"BD!N111","v":{"$error":"#DIV/0!"}},{"$error":"#DIV/0!"},{"$f":"BIG!K111","v":{"$error":"#DIV/0!"}},{"$f":"BIG!N111","v":{"$error":"#DIV/0!"}},{"$error":"#DIV/0!"},{"$error":"#DIV/0!"},{"$error":"#DIV/0!"},null,{"$error":"#DIV/0!"},{"$error":"#DIV/0!"},null,{"$error":"#DIV/0!"},{"$error":"#DIV/0!"},{"$f":"IPA!L111","v":0},{"$error":"#DIV/0!"},0,{"$error":"#DIV/0!"},0,{"$error":"#DIV/0!"},{"$error":"#DIV/0!"},{"$error":"#DIV/0!"},{"$error":"#DIV/0!"},0,{"$error":"#DIV/0!"},{"$error":"#DIV/0!"},{"$error":"#DIV/0!"},{"$error":"#DIV/0!"},null,null,{"$error":"#DIV/0!"},0,{"$error":"#DIV/0!"},{"$error":"#DIV/0!"},0,{"$error":"#DIV/0!"},{"$error":"#DIV/0!"},0,{"$error":"#DIV/0!"},null,null,{"$f":"SISWA!S110","v":"154"}]
[{"$f":"SISWA!A112","v":105},{"$f":"IF(SISWA!B112=0,\"\",SISWA!B112)","v":""},{"$f":"IF(SISWA!C112=0,\"\",SISWA!C112)","v":""},{"$f":"IF(SISWA!D112=0,\"\",SISWA!D112)","v":"105-"},{"$f":"IF(SISWA!E112=0,\"\",SISWA!E112)","v":""},{"$f":"IF(SISWA!P111=0,\"\",SISWA!P111)","v":", 00 Januari 1900"},{"$f":"IF(SISWA!H112=0,\"\",SISWA!H112)","v":""},{"$f":"#REF!","v":{"$error":"#REF!"}},{"$f":"#REF!","v":{"$error":"#REF!"}},{"$error":"#REF!"},{"$f":"AA!K112","v":{"$error":"#DIV/0!"}},{"$f":"AA!N112","v":{"$error":"#DIV/0!"}},{"$error":"#DIV/0!"},{"$f":"AH!K112","v":{"$error":"#DIV/0!"}},{"$f":"AH!N112","v":{"$error":"#DIV/0!"}},{"$error":"#DIV/0!"},{"$f":"FQ!K112","v":{"$error":"#DIV/0!"}},{"$f":"FQ!N112","v":{"$error":"#DIV/0!"}},{"$error":"#DIV/0!"},{"$f":"SKI!K112","v":{"$error":"#DIV/0!"}},{"$f":"SKI!N112","v":{"$error":"#DIV/0!"}},{"$error":"#DIV/0!"},{"$f":"PKn!K112","v":{"$error":"#DIV/0!"}},{"$f":"PKn!N112","v":0},{"$error":"#DIV/0!"},{"$f":"BID!K112","v":{"$error":"#DIV/0!"}},{"$f":"BID!N112","v":{"$error":"#DIV/0!"}},{"$error":"#DIV/0!"},{"$f":"BA!K112","v":{"$error":"#DIV/0!"}},{"$f":"BA!N112","v":{"$error":"#DIV/0!"}},{"$error":"#DIV/0!"},{"$f":"MTK!K112","v":{"$error":"#DIV/0!"}},{"$f":"MTK!L112","v":0},{"$error":"#DIV/0!"},{"$f":"IPA!K112","v":{"$error":"#DIV/0!"}},{"$f":"IPA!N112","v":{"$error":"#DIV/0!"}},{"$error":"#DIV/0!"},{"$f":"IPS!K112","v":{"$error":"#DIV/0!"}},{"$f":"IPS!L112","v":0},{"$error":"#DIV/0!"},{"$f":"SBK!K112","v":{"$error":"#DIV/0!"}},{"$f":"SBK!N112","v":{"$error":"#DIV/0!"}},{"$error":"#DIV/0!"},{"$f":"PJK!K112","v":{"$error":"#DIV/0!"}},{"$f":"PJK!N112","v":{"$error":"#DIV/0!"}},{"$error":"#DIV/0!"},{"$f":"BD!K112","v":{"$error":"#DIV/0!"}},{"$f":"BD!N112","v":{"$error":"#DIV/0!"}},{"$error":"#DIV/0!"},{"$f":"BIG!K112","v":{"$error":"#DIV/0!"}},{"$f":"BIG!N112","v":{"$error":"#DIV/0!"}},{"$error":"#DIV/0!"},{"$error":"#DIV/0!"},{"$error":"#DIV/0!"},null,{"$error":"#DIV/0!"},{"$error":"#DIV/0!"},null,{"$error":"#DIV/0!"},{"$error":"#DIV/0!"},{"$f":"IPA!L112","v":0},{"$error":"#DIV/0!"},0,{"$error":"#DIV/0!"},0,{"$error":"#DIV/0!"},{"$error":"#DIV/0!"},{"$error":"#DIV/0!"},{"$error":"#DIV/0!"},0,{"$error":"#DIV/0!"},{"$error":"#DIV/0!"},{"$error":"#DIV/0!"},{"$error":"#DIV/0!"},null,null,{"$error":"#DIV/0!"},0,{"$error":"#DIV/0!"},{"$error":"#DIV/0!"},0,{"$error":"#DIV/0!"},{"$error":"#DIV/0!"},0,{"$error":"#DIV/0!"},null,null,{"$f":"SISWA!S111","v":"155"}]
[{"$f":"SISWA!A113","v":106},{"$f":"IF(SISWA!B113=0,\"\",SISWA!B113)","v":""},{"$f":"IF(SISWA!C113=0,\"\",SISWA!C113)","v":""},{"$f":"IF(SISWA!D113=0,\"\",SISWA!D113)","v":"106-"},{"$f":"IF(SISWA!E113=0,\"\",SISWA!E113)","v":""},{"$f":"IF(SISWA!P112=0,\"\",SISWA!P112)","v":", 00 Januari 1900"},{"$f":"IF(SISWA!H113=0,\"\",SISWA!H113)","v":""},{"$f":"#REF!","v":{"$error":"#REF!"}},{"$f":"#REF!","v":{"$error":"#REF!"}},{"$error":"#REF!"},{"$f":"AA!K113","v":{"$error":"#DIV/0!"}},{"$f":"AA!N113","v":{"$error":"#DIV/0!"}},{"$error":"#DIV/0!"},{"$f":"AH!K113","v":{"$error":"#DIV/0!"}},{"$f":"AH!N113","v":{"$error":"#DIV/0!"}},{"$error":"#DIV/0!"},{"$f":"FQ!K113","v":{"$error":"#DIV/0!"}},{"$f":"FQ!N113","v":{"$error":"#DIV/0!"}},{"$error":"#DIV/0!"},{"$f":"SKI!K113","v":{"$error":"#DIV/0!"}},{"$f":"SKI!N113","v":{"$error":"#DIV/0!"}},{"$error":"#DIV/0!"},{"$f":"PKn!K113","v":{"$error":"#DIV/0!"}},{"$f":"PKn!N113","v":0},{"$error":"#DIV/0!"},{"$f":"BID!K113","v":{"$error":"#DIV/0!"}},{"$f":"BID!N113","v":{"$error":"#DIV/0!"}},{"$error":"#DIV/0!"},{"$f":"BA!K113","v":{"$error":"#DIV/0!"}},{"$f":"BA!N113","v":{"$error":"#DIV/0!"}},{"$error":"#DIV/0!"},{"$f":"MTK!K113","v":{"$error":"#DIV/0!"}},{"$f":"MTK!L113","v":0},{"$error":"#DIV/0!"},{"$f":"IPA!K113","v":{"$error":"#DIV/0!"}},{"$f":"IPA!N113","v":{"$error":"#DIV/0!"}},{"$error":"#DIV/0!"},{"$f":"IPS!K113","v":{"$error":"#DIV/0!"}},{"$f":"IPS!L113","v":0},{"$error":"#DIV/0!"},{"$f":"SBK!K113","v":{"$error":"#DIV/0!"}},{"$f":"SBK!N113","v":{"$error":"#DIV/0!"}},{"$error":"#DIV/0!"},{"$f":"PJK!K113","v":{"$error":"#DIV/0!"}},{"$f":"PJK!N113","v":{"$error":"#DIV/0!"}},{"$error":"#DIV/0!"},{"$f":"BD!K113","v":{"$error":"#DIV/0!"}},{"$f":"BD!N113","v":{"$error":"#DIV/0!"}},{"$error":"#DIV/0!"},{"$f":"BIG!K113","v":{"$error":"#DIV/0!"}},{"$f":"BIG!N113","v":{"$error":"#DIV/0!"}},{"$error":"#DIV/0!"},{"$error":"#DIV/0!"},{"$error":"#DIV/0!"},null,{"$error":"#DIV/0!"},{"$error":"#DIV/0!"},null,{"$error":"#DIV/0!"},{"$error":"#DIV/0!"},{"$f":"IPA!L113","v":0},{"$error":"#DIV/0!"},0,{"$error":"#DIV/0!"},0,{"$error":"#DIV/0!"},{"$error":"#DIV/0!"},{"$error":"#DIV/0!"},{"$error":"#DIV/0!"},0,{"$error":"#DIV/0!"},{"$error":"#DIV/0!"},{"$error":"#DIV/0!"},{"$error":"#DIV/0!"},null,null,{"$error":"#DIV/0!"},0,{"$error":"#DIV/0!"},{"$error":"#DIV/0!"},0,{"$error":"#DIV/0!"},{"$error":"#DIV/0!"},0,{"$error":"#DIV/0!"},null,null,{"$f":"SISWA!S112","v":"156"}]
[{"$f":"SISWA!A114","v":107},{"$f":"IF(SISWA!B114=0,\"\",SISWA!B114)","v":""},{"$f":"IF(SISWA!C114=0,\"\",SISWA!C114)","v":""},{"$f":"IF(SISWA!D114=0,\"\",SISWA!D114)","v":"107-"},{"$f":"IF(SISWA!E114=0,\"\",SISWA!E114)","v":""},{"$f":"IF(SISWA!P113=0,\"\",SISWA!P113)","v":", 00 Januari 1900"},{"$f":"IF(SISWA!H114=0,\"\",SISWA!H114)","v":""},{"$f":"#REF!","v":{"$error":"#REF!"}},{"$f":"#REF!","v":{"$error":"#REF!"}},{"$error":"#REF!"},{"$f":"AA!K114","v":{"$error":"#DIV/0!"}},{"$f":"AA!N114","v":{"$error":"#DIV/0!"}},{"$error":"#DIV/0!"},{"$f":"AH!K114","v":{"$error":"#DIV/0!"}},{"$f":"AH!N114","v":{"$error":"#DIV/0!"}},{"$error":"#DIV/0!"},{"$f":"FQ!K114","v":{"$error":"#DIV/0!"}},{"$f":"FQ!N114","v":{"$error":"#DIV/0!"}},{"$error":"#DIV/0!"},{"$f":"SKI!K114","v":{"$error":"#DIV/0!"}},{"$f":"SKI!N114","v":{"$error":"#DIV/0!"}},{"$error":"#DIV/0!"},{"$f":"PKn!K114","v":{"$error":"#DIV/0!"}},{"$f":"PKn!N114","v":0},{"$error":"#DIV/0!"},{"$f":"BID!K114","v":{"$error":"#DIV/0!"}},{"$f":"BID!N114","v":{"$error":"#DIV/0!"}},{"$error":"#DIV/0!"},{"$f":"BA!K114","v":{"$error":"#DIV/0!"}},{"$f":"BA!N114","v":{"$error":"#DIV/0!"}},{"$error":"#DIV/0!"},{"$f":"MTK!K114","v":{"$error":"#DIV/0!"}},{"$f":"MTK!L114","v":0},{"$error":"#DIV/0!"},{"$f":"IPA!K114","v":{"$error":"#DIV/0!"}},{"$f":"IPA!N114","v":{"$error":"#DIV/0!"}},{"$error":"#DIV/0!"},{"$f":"IPS!K114","v":{"$error":"#DIV/0!"}},{"$f":"IPS!L114","v":0},{"$error":"#DIV/0!"},{"$f":"SBK!K114","v":{"$error":"#DIV/0!"}},{"$f":"SBK!N114","v":{"$error":"#DIV/0!"}},{"$error":"#DIV/0!"},{"$f":"PJK!K114","v":{"$error":"#DIV/0!"}},{"$f":"PJK!N114","v":{"$error":"#DIV/0!"}},{"$error":"#DIV/0!"},{"$f":"BD!K114","v":{"$error":"#DIV/0!"}},{"$f":"BD!N114","v":{"$error":"#DIV/0!"}},{"$error":"#DIV/0!"},{"$f":"BIG!K114","v":{"$error":"#DIV/0!"}},{"$f":"BIG!N114","v":{"$error":"#DIV/0!"}},{"$error":"#DIV/0!"},{"$error":"#DIV/0!"},{"$error":"#DIV/0!"},null,{"$error":"#DIV/0!"},{"$error":"#DIV/0!"},null,{"$error":"#DIV/0!"},{"$error":"#DIV/0!"},{"$f":"IPA!L114","v":0},{"$error":"#DIV/0!"},0,{"$error":"#DIV/0!"},0,{"$error":"#DIV/0!"},{"$error":"#DIV/0!"},{"$error":"#DIV/0!"},{"$error":"#DIV/0!"},0,{"$error":"#DIV/0!"},{"$error":"#DIV/0!"},{"$error":"#DIV/0!"},{"$error":"#DIV/0!"},null,null,{"$error":"#DIV/0!"},0,{"$error":"#DIV/0!"},{"$error":"#DIV/0!"},0,{"$error":"#DIV/0!"},{"$error":"#DIV/0!"},0,{"$error":"#DIV/0!"},null,null,{"$f":"SISWA!S113","v":"157"}]
[{"$f":"SISWA!A115","v":108},{"$f":"IF(SISWA!B115=0,\"\",SISWA!B115)","v":""},{"$f":"IF(SISWA!C115=0,\"\",SISWA!C115)","v":""},{"$f":"IF(SISWA!D115=0,\"\",SISWA!D115)","v":"108-"},{"$f":"IF(SISWA!E115=0,\"\",SISWA!E115)","v":""},{"$f":"IF(SISWA!P114=0,\"\",SISWA!P114)","v":", 00 Januari 1900"},{"$f":"IF(SISWA!H115=0,\"\",SISWA!H115)","v":""},{"$f":"#REF!","v":{"$error":"#REF!"}},{"$f":"#REF!","v":{"$error":"#REF!"}},{"$error":"#REF!"},{"$f":"AA!K115","v":{"$error":"#DIV/0!"}},{"$f":"AA!N115","v":{"$error":"#DIV/0!"}},{"$error":"#DIV/0!"},{"$f":"AH!K115","v":{"$error":"#DIV/0!"}},{"$f":"AH!N115","v":{"$error":"#DIV/0!"}},{"$error":"#DIV/0!"},{"$f":"FQ!K115","v":{"$error":"#DIV/0!"}},{"$f":"FQ!N115","v":{"$error":"#DIV/0!"}},{"$error":"#DIV/0!"},{"$f":"SKI!K115","v":{"$error":"#DIV/0!"}},{"$f":"SKI!N115","v":{"$error":"#DIV/0!"}},{"$error":"#DIV/0!"},{"$f":"PKn!K115","v":{"$error":"#DIV/0!"}},{"$f":"PKn!N115","v":0},{"$error":"#DIV/0!"},{"$f":"BID!K115","v":{"$error":"#DIV/0!"}},{"$f":"BID!N115","v":{"$error":"#DIV/0!"}},{"$error":"#DIV/0!"},{"$f":"BA!K115","v":{"$error":"#DIV/0!"}},{"$f":"BA!N115","v":{"$error":"#DIV/0!"}},{"$error":"#DIV/0!"},{"$f":"MTK!K115","v":{"$error":"#DIV/0!"}},{"$f":"MTK!L115","v":0},{"$error":"#DIV/0!"},{"$f":"IPA!K115","v":{"$error":"#DIV/0!"}},{"$f":"IPA!N115","v":{"$error":"#DIV/0!"}},{"$error":"#DIV/0!"},{"$f":"IPS!K115","v":{"$error":"#DIV/0!"}},{"$f":"IPS!L115","v":0},{"$error":"#DIV/0!"},{"$f":"SBK!K115","v":{"$error":"#DIV/0!"}},{"$f":"SBK!N115","v":{"$error":"#DIV/0!"}},{"$error":"#DIV/0!"},{"$f":"PJK!K115","v":{"$error":"#DIV/0!"}},{"$f":"PJK!N115","v":{"$error":"#DIV/0!"}},{"$error":"#DIV/0!"},{"$f":"BD!K115","v":{"$error":"#DIV/0!"}},{"$f":"BD!N115","v":{"$error":"#DIV/0!"}},{"$error":"#DIV/0!"},{"$f":"BIG!K115","v":{"$error":"#DIV/0!"}},{"$f":"BIG!N115","v":{"$error":"#DIV/0!"}},{"$error":"#DIV/0!"},{"$error":"#DIV/0!"},{"$error":"#DIV/0!"},null,{"$error":"#DIV/0!"},{"$error":"#DIV/0!"},null,{"$error":"#DIV/0!"},{"$error":"#DIV/0!"},{"$f":"IPA!L115","v":0},{"$error":"#DIV/0!"},0,{"$error":"#DIV/0!"},0,{"$error":"#DIV/0!"},{"$error":"#DIV/0!"},{"$error":"#DIV/0!"},{"$error":"#DIV/0!"},0,{"$error":"#DIV/0!"},{"$error":"#DIV/0!"},{"$error":"#DIV/0!"},{"$error":"#DIV/0!"},null,null,{"$error":"#DIV/0!"},0,{"$error":"#DIV/0!"},{"$error":"#DIV/0!"},0,{"$error":"#DIV/0!"},{"$error":"#DIV/0!"},0,{"$error":"#DIV/0!"},null,null,{"$f":"SISWA!S114","v":"158"}]
[{"$f":"SISWA!A116","v":109},{"$f":"IF(SISWA!B116=0,\"\",SISWA!B116)","v":""},{"$f":"IF(SISWA!C116=0,\"\",SISWA!C116)","v":""},{"$f":"IF(SISWA!D116=0,\"\",SISWA!D116)","v":"109-"},{"$f":"IF(SISWA!E116=0,\"\",SISWA!E116)","v":""},{"$f":"IF(SISWA!P115=0,\"\",SISWA!P115)","v":", 00 Januari 1900"},{"$f":"IF(SISWA!H116=0,\"\",SISWA!H116)","v":""},{"$f":"#REF!","v":{"$error":"#REF!"}},{"$f":"#REF!","v":{"$error":"#REF!"}},{"$error":"#REF!"},{"$f":"AA!K116","v":{"$error":"#DIV/0!"}},{"$f":"AA!N116","v":{"$error":"#DIV/0!"}},{"$error":"#DIV/0!"},{"$f":"AH!K116","v":{"$error":"#DIV/0!"}},{"$f":"AH!N116","v":{"$error":"#DIV/0!"}},{"$error":"#DIV/0!"},{"$f":"FQ!K116","v":{"$error":"#DIV/0!"}},{"$f":"FQ!N116","v":{"$error":"#DIV/0!"}},{"$error":"#DIV/0!"},{"$f":"SKI!K116","v":{"$error":"#DIV/0!"}},{"$f":"SKI!N116","v":{"$error":"#DIV/0!"}},{"$error":"#DIV/0!"},{"$f":"PKn!K116","v":{"$error":"#DIV/0!"}},{"$f":"PKn!N116","v":0},{"$error":"#DIV/0!"},{"$f":"BID!K116","v":{"$error":"#DIV/0!"}},{"$f":"BID!N116","v":{"$error":"#DIV/0!"}},{"$error":"#DIV/0!"},{"$f":"BA!K116","v":{"$error":"#DIV/0!"}},{"$f":"BA!N116","v":{"$error":"#DIV/0!"}},{"$error":"#DIV/0!"},{"$f":"MTK!K116","v":{"$error":"#DIV/0!"}},{"$f":"MTK!L116","v":0},{"$error":"#DIV/0!"},{"$f":"IPA!K116","v":{"$error":"#DIV/0!"}},{"$f":"IPA!N116","v":{"$error":"#DIV/0!"}},{"$error":"#DIV/0!"},{"$f":"IPS!K116","v":{"$error":"#DIV/0!"}},{"$f":"IPS!L116","v":0},{"$error":"#DIV/0!"},{"$f":"SBK!K116","v":{"$error":"#DIV/0!"}},{"$f":"SBK!N116","v":{"$error":"#DIV/0!"}},{"$error":"#DIV/0!"},{"$f":"PJK!K116","v":{"$error":"#DIV/0!"}},{"$f":"PJK!N116","v":{"$error":"#DIV/0!"}},{"$error":"#DIV/0!"},{"$f":"BD!K116","v":{"$error":"#DIV/0!"}},{"$f":"BD!N116","v":{"$error":"#DIV/0!"}},{"$error":"#DIV/0!"},{"$f":"BIG!K116","v":{"$error":"#DIV/0!"}},{"$f":"BIG!N116","v":{"$error":"#DIV/0!"}},{"$error":"#DIV/0!"},{"$error":"#DIV/0!"},{"$error":"#DIV/0!"},null,{"$error":"#DIV/0!"},{"$error":"#DIV/0!"},null,{"$error":"#DIV/0!"},{"$error":"#DIV/0!"},{"$f":"IPA!L116","v":0},{"$error":"#DIV/0!"},0,{"$error":"#DIV/0!"},0,{"$error":"#DIV/0!"},{"$error":"#DIV/0!"},{"$error":"#DIV/0!"},{"$error":"#DIV/0!"},0,{"$error":"#DIV/0!"},{"$error":"#DIV/0!"},{"$error":"#DIV/0!"},{"$error":"#DIV/0!"},null,null,{"$error":"#DIV/0!"},0,{"$error":"#DIV/0!"},{"$error":"#DIV/0!"},0,{"$error":"#DIV/0!"},{"$error":"#DIV/0!"},0,{"$error":"#DIV/0!"}]
[{"$f":"SISWA!A117","v":110},{"$f":"IF(SISWA!B117=0,\"\",SISWA!B117)","v":""},{"$f":"IF(SISWA!C117=0,\"\",SISWA!C117)","v":""},{"$f":"IF(SISWA!D117=0,\"\",SISWA!D117)","v":"110-"},{"$f":"IF(SISWA!E117=0,\"\",SISWA!E117)","v":""},{"$f":"IF(SISWA!P116=0,\"\",SISWA!P116)","v":", 00 Januari 1900"},{"$f":"IF(SISWA!H117=0,\"\",SISWA!H117)","v":""},{"$f":"#REF!","v":{"$error":"#REF!"}},{"$f":"#REF!","v":{"$error":"#REF!"}},{"$error":"#REF!"},{"$f":"AA!K117","v":{"$error":"#DIV/0!"}},{"$f":"AA!N117","v":{"$error":"#DIV/0!"}},{"$error":"#DIV/0!"},{"$f":"AH!K117","v":{"$error":"#DIV/0!"}},{"$f":"AH!N117","v":{"$error":"#DIV/0!"}},{"$error":"#DIV/0!"},{"$f":"FQ!K117","v":{"$error":"#DIV/0!"}},{"$f":"FQ!N117","v":{"$error":"#DIV/0!"}},{"$error":"#DIV/0!"},{"$f":"SKI!K117","v":{"$error":"#DIV/0!"}},{"$f":"SKI!N117","v":{"$error":"#DIV/0!"}},{"$error":"#DIV/0!"},{"$f":"PKn!K117","v":{"$error":"#DIV/0!"}},{"$f":"PKn!N117","v":0},{"$error":"#DIV/0!"},{"$f":"BID!K117","v":{"$error":"#DIV/0!"}},{"$f":"BID!N117","v":{"$error":"#DIV/0!"}},{"$error":"#DIV/0!"},{"$f":"BA!K117","v":{"$error":"#DIV/0!"}},{"$f":"BA!N117","v":{"$error":"#DIV/0!"}},{"$error":"#DIV/0!"},{"$f":"MTK!K117","v":{"$error":"#DIV/0!"}},{"$f":"MTK!L117","v":0},{"$error":"#DIV/0!"},{"$f":"IPA!K117","v":{"$error":"#DIV/0!"}},{"$f":"IPA!N117","v":{"$error":"#DIV/0!"}},{"$error":"#DIV/0!"},{"$f":"IPS!K117","v":{"$error":"#DIV/0!"}},{"$f":"IPS!L117","v":0},{"$error":"#DIV/0!"},{"$f":"SBK!K117","v":{"$error":"#DIV/0!"}},{"$f":"SBK!N117","v":{"$error":"#DIV/0!"}},{"$error":"#DIV/0!"},{"$f":"PJK!K117","v":{"$error":"#DIV/0!"}},{"$f":"PJK!N117","v":{"$error":"#DIV/0!"}},{"$error":"#DIV/0!"},{"$f":"BD!K117","v":{"$error":"#DIV/0!"}},{"$f":"BD!N117","v":{"$error":"#DIV/0!"}},{"$error":"#DIV/0!"},{"$f":"BIG!K117","v":{"$error":"#DIV/0!"}},{"$f":"BIG!N117","v":{"$error":"#DIV/0!"}},{"$error":"#DIV/0!"},{"$error":"#DIV/0!"},{"$error":"#DIV/0!"},null,{"$error":"#DIV/0!"},{"$error":"#DIV/0!"},null,{"$error":"#DIV/0!"},{"$error":"#DIV/0!"},{"$f":"IPA!L117","v":0},{"$error":"#DIV/0!"},0,{"$error":"#DIV/0!"},0,{"$error":"#DIV/0!"},{"$error":"#DIV/0!"},{"$error":"#DIV/0!"},{"$error":"#DIV/0!"},0,{"$error":"#DIV/0!"},{"$error":"#DIV/0!"},{"$error":"#DIV/0!"},{"$error":"#DIV/0!"},null,null,{"$error":"#DIV/0!"},0,{"$error":"#DIV/0!"},{"$error":"#DIV/0!"},0,{"$error":"#DIV/0!"},{"$error":"#DIV/0!"},0,{"$error":"#DIV/0!"}]
[{"$f":"SISWA!A118","v":111},{"$f":"IF(SISWA!B118=0,\"\",SISWA!B118)","v":""},{"$f":"IF(SISWA!C118=0,\"\",SISWA!C118)","v":""},{"$f":"IF(SISWA!D118=0,\"\",SISWA!D118)","v":"111-"},{"$f":"IF(SISWA!E118=0,\"\",SISWA!E118)","v":""},{"$f":"IF(SISWA!P117=0,\"\",SISWA!P117)","v":", 00 Januari 1900"},{"$f":"IF(SISWA!H118=0,\"\",SISWA!H118)","v":""},{"$f":"#REF!","v":{"$error":"#REF!"}},{"$f":"#REF!","v":{"$error":"#REF!"}},{"$error":"#REF!"},{"$f":"AA!K118","v":{"$error":"#DIV/0!"}},{"$f":"AA!N118","v":{"$error":"#DIV/0!"}},{"$error":"#DIV/0!"},{"$f":"AH!K118","v":{"$error":"#DIV/0!"}},{"$f":"AH!N118","v":{"$error":"#DIV/0!"}},{"$error":"#DIV/0!"},{"$f":"FQ!K118","v":{"$error":"#DIV/0!"}},{"$f":"FQ!N118","v":{"$error":"#DIV/0!"}},{"$error":"#DIV/0!"},{"$f":"SKI!K118","v":{"$error":"#DIV/0!"}},{"$f":"SKI!N118","v":{"$error":"#DIV/0!"}},{"$error":"#DIV/0!"},{"$f":"PKn!K118","v":{"$error":"#DIV/0!"}},{"$f":"PKn!N118","v":0},{"$error":"#DIV/0!"},{"$f":"BID!K118","v":{"$error":"#DIV/0!"}},{"$f":"BID!N118","v":{"$error":"#DIV/0!"}},{"$error":"#DIV/0!"},{"$f":"BA!K118","v":{"$error":"#DIV/0!"}},{"$f":"BA!N118","v":{"$error":"#DIV/0!"}},{"$error":"#DIV/0!"},{"$f":"MTK!K118","v":{"$error":"#DIV/0!"}},{"$f":"MTK!L118","v":0},{"$error":"#DIV/0!"},{"$f":"IPA!K118","v":{"$error":"#DIV/0!"}},{"$f":"IPA!N118","v":{"$error":"#DIV/0!"}},{"$error":"#DIV/0!"},{"$f":"IPS!K118","v":{"$error":"#DIV/0!"}},{"$f":"IPS!L118","v":0},{"$error":"#DIV/0!"},{"$f":"SBK!K118","v":{"$error":"#DIV/0!"}},{"$f":"SBK!N118","v":{"$error":"#DIV/0!"}},{"$error":"#DIV/0!"},{"$f":"PJK!K118","v":{"$error":"#DIV/0!"}},{"$f":"PJK!N118","v":{"$error":"#DIV/0!"}},{"$error":"#DIV/0!"},{"$f":"BD!K118","v":{"$error":"#DIV/0!"}},{"$f":"BD!N118","v":{"$error":"#DIV/0!"}},{"$error":"#DIV/0!"},{"$f":"BIG!K118","v":{"$error":"#DIV/0!"}},{"$f":"BIG!N118","v":{"$error":"#DIV/0!"}},{"$error":"#DIV/0!"},{"$error":"#DIV/0!"},{"$error":"#DIV/0!"},null,{"$error":"#DIV/0!"},{"$error":"#DIV/0!"},null,{"$error":"#DIV/0!"},{"$error":"#DIV/0!"},{"$f":"IPA!L118","v":0},{"$error":"#DIV/0!"},0,{"$error":"#DIV/0!"},0,{"$error":"#DIV/0!"},{"$error":"#DIV/0!"},{"$error":"#DIV/0!"},{"$error":"#DIV/0!"},0,{"$error":"#DIV/0!"},{"$error":"#DIV/0!"},{"$error":"#DIV/0!"},{"$error":"#DIV/0!"},null,null,{"$error":"#DIV/0!"},0,{"$error":"#DIV/0!"},{"$error":"#DIV/0!"},0,{"$error":"#DIV/0!"},{"$error":"#DIV/0!"},0,{"$error":"#DIV/0!"}]
[{"$f":"SISWA!A119","v":112},{"$f":"IF(SISWA!B119=0,\"\",SISWA!B119)","v":""},{"$f":"IF(SISWA!C119=0,\"\",SISWA!C119)","v":""},{"$f":"IF(SISWA!D119=0,\"\",SISWA!D119)","v":"112-"},{"$f":"IF(SISWA!E119=0,\"\",SISWA!E119)","v":""},{"$f":"IF(SISWA!P118=0,\"\",SISWA!P118)","v":", 00 Januari 1900"},{"$f":"IF(SISWA!H119=0,\"\",SISWA!H119)","v":""},{"$f":"#REF!","v":{"$error":"#REF!"}},{"$f":"#REF!","v":{"$error":"#REF!"}},{"$error":"#REF!"},{"$f":"AA!K119","v":{"$error":"#DIV/0!"}},{"$f":"AA!N119","v":{"$error":"#DIV/0!"}},{"$error":"#DIV/0!"},{"$f":"AH!K119","v":{"$error":"#DIV/0!"}},{"$f":"AH!N119","v":{"$error":"#DIV/0!"}},{"$error":"#DIV/0!"},{"$f":"FQ!K119","v":{"$error":"#DIV/0!"}},{"$f":"FQ!N119","v":{"$error":"#DIV/0!"}},{"$error":"#DIV/0!"},{"$f":"SKI!K119","v":{"$error":"#DIV/0!"}},{"$f":"SKI!N119","v":{"$error":"#DIV/0!"}},{"$error":"#DIV/0!"},{"$f":"PKn!K119","v":{"$error":"#DIV/0!"}},{"$f":"PKn!N119","v":0},{"$error":"#DIV/0!"},{"$f":"BID!K119","v":{"$error":"#DIV/0!"}},{"$f":"BID!N119","v":{"$error":"#DIV/0!"}},{"$error":"#DIV/0!"},{"$f":"BA!K119","v":{"$error":"#DIV/0!"}},{"$f":"BA!N119","v":{"$error":"#DIV/0!"}},{"$error":"#DIV/0!"},{"$f":"MTK!K119","v":{"$error":"#DIV/0!"}},{"$f":"MTK!L119","v":0},{"$error":"#DIV/0!"},{"$f":"IPA!K119","v":{"$error":"#DIV/0!"}},{"$f":"IPA!N119","v":{"$error":"#DIV/0!"}},{"$error":"#DIV/0!"},{"$f":"IPS!K119","v":{"$error":"#DIV/0!"}},{"$f":"IPS!L119","v":0},{"$error":"#DIV/0!"},{"$f":"SBK!K119","v":{"$error":"#DIV/0!"}},{"$f":"SBK!N119","v":{"$error":"#DIV/0!"}},{"$error":"#DIV/0!"},{"$f":"PJK!K119","v":{"$error":"#DIV/0!"}},{"$f":"PJK!N119","v":{"$error":"#DIV/0!"}},{"$error":"#DIV/0!"},{"$f":"BD!K119","v":{"$error":"#DIV/0!"}},{"$f":"BD!N119","v":{"$error":"#DIV/0!"}},{"$error":"#DIV/0!"},{"$f":"BIG!K119","v":{"$error":"#DIV/0!"}},{"$f":"BIG!N119","v":{"$error":"#DIV/0!"}},{"$error":"#DIV/0!"},{"$error":"#DIV/0!"},{"$error":"#DIV/0!"},null,{"$error":"#DIV/0!"},{"$error":"#DIV/0!"},null,{"$error":"#DIV/0!"},{"$error":"#DIV/0!"},{"$f":"IPA!L119","v":0},{"$error":"#DIV/0!"},0,{"$error":"#DIV/0!"},0,{"$error":"#DIV/0!"},{"$error":"#DIV/0!"},{"$error":"#DIV/0!"},{"$error":"#DIV/0!"},0,{"$error":"#DIV/0!"},{"$error":"#DIV/0!"},{"$error":"#DIV/0!"},{"$error":"#DIV/0!"},null,null,{"$error":"#DIV/0!"},0,{"$error":"#DIV/0!"},{"$error":"#DIV/0!"},0,{"$error":"#DIV/0!"},{"$error":"#DIV/0!"},0,{"$error":"#DIV/0!"}]
[{"$f":"SISWA!A120","v":113},{"$f":"IF(SISWA!B120=0,\"\",SISWA!B120)","v":""},{"$f":"IF(SISWA!C120=0,\"\",SISWA!C120)","v":""},{"$f":"IF(SISWA!D120=0,\"\",SISWA!D120)","v":"113-"},{"$f":"IF(SISWA!E120=0,\"\",SISWA!E120)","v":""},{"$f":"IF(SISWA!P119=0,\"\",SISWA!P119)","v":", 00 Januari 1900"},{"$f":"IF(SISWA!H120=0,\"\",SISWA!H120)","v":""},{"$f":"#REF!","v":{"$error":"#REF!"}},{"$f":"#REF!","v":{"$error":"#REF!"}},{"$error":"#REF!"},{"$f":"AA!K120","v":{"$error":"#DIV/0!"}},{"$f":"AA!N120","v":{"$error":"#DIV/0!"}},{"$error":"#DIV/0!"},{"$f":"AH!K120","v":{"$error":"#DIV/0!"}},{"$f":"AH!N120","v":{"$error":"#DIV/0!"}},{"$error":"#DIV/0!"},{"$f":"FQ!K120","v":{"$error":"#DIV/0!"}},{"$f":"FQ!N120","v":{"$error":"#DIV/0!"}},{"$error":"#DIV/0!"},{"$f":"SKI!K120","v":{"$error":"#DIV/0!"}},{"$f":"SKI!N120","v":{"$error":"#DIV/0!"}},{"$error":"#DIV/0!"},{"$f":"PKn!K120","v":{"$error":"#DIV/0!"}},{"$f":"PKn!N120","v":0},{"$error":"#DIV/0!"},{"$f":"BID!K120","v":{"$error":"#DIV/0!"}},{"$f":"BID!N120","v":{"$error":"#DIV/0!"}},{"$error":"#DIV/0!"},{"$f":"BA!K120","v":{"$error":"#DIV/0!"}},{"$f":"BA!N120","v":{"$error":"#DIV/0!"}},{"$error":"#DIV/0!"},{"$f":"MTK!K120","v":{"$error":"#DIV/0!"}},{"$f":"MTK!L120","v":0},{"$error":"#DIV/0!"},{"$f":"IPA!K120","v":{"$error":"#DIV/0!"}},{"$f":"IPA!N120","v":{"$error":"#DIV/0!"}},{"$error":"#DIV/0!"},{"$f":"IPS!K120","v":{"$error":"#DIV/0!"}},{"$f":"IPS!L120","v":0},{"$error":"#DIV/0!"},{"$f":"SBK!K120","v":{"$error":"#DIV/0!"}},{"$f":"SBK!N120","v":{"$error":"#DIV/0!"}},{"$error":"#DIV/0!"},{"$f":"PJK!K120","v":{"$error":"#DIV/0!"}},{"$f":"PJK!N120","v":{"$error":"#DIV/0!"}},{"$error":"#DIV/0!"},{"$f":"BD!K120","v":{"$error":"#DIV/0!"}},{"$f":"BD!N120","v":{"$error":"#DIV/0!"}},{"$error":"#DIV/0!"},{"$f":"BIG!K120","v":{"$error":"#DIV/0!"}},{"$f":"BIG!N120","v":{"$error":"#DIV/0!"}},{"$error":"#DIV/0!"},{"$error":"#DIV/0!"},{"$error":"#DIV/0!"},null,{"$error":"#DIV/0!"},{"$error":"#DIV/0!"},null,{"$error":"#DIV/0!"},{"$error":"#DIV/0!"},{"$f":"IPA!L120","v":0},{"$error":"#DIV/0!"},0,{"$error":"#DIV/0!"},0,{"$error":"#DIV/0!"},{"$error":"#DIV/0!"},{"$error":"#DIV/0!"},{"$error":"#DIV/0!"},0,{"$error":"#DIV/0!"},{"$error":"#DIV/0!"},{"$error":"#DIV/0!"},{"$error":"#DIV/0!"},null,null,{"$error":"#DIV/0!"},0,{"$error":"#DIV/0!"},{"$error":"#DIV/0!"},0,{"$error":"#DIV/0!"},{"$error":"#DIV/0!"},0,{"$error":"#DIV/0!"}]
[{"$f":"SISWA!A121","v":114},{"$f":"IF(SISWA!B121=0,\"\",SISWA!B121)","v":""},{"$f":"IF(SISWA!C121=0,\"\",SISWA!C121)","v":""},{"$f":"IF(SISWA!D121=0,\"\",SISWA!D121)","v":"114-"},{"$f":"IF(SISWA!E121=0,\"\",SISWA!E121)","v":""},{"$f":"IF(SISWA!P120=0,\"\",SISWA!P120)","v":", 00 Januari 1900"},{"$f":"IF(SISWA!H121=0,\"\",SISWA!H121)","v":""},{"$f":"#REF!","v":{"$error":"#REF!"}},{"$f":"#REF!","v":{"$error":"#REF!"}},{"$error":"#REF!"},{"$f":"AA!K121","v":{"$error":"#DIV/0!"}},{"$f":"AA!N121","v":{"$error":"#DIV/0!"}},{"$error":"#DIV/0!"},{"$f":"AH!K121","v":{"$error":"#DIV/0!"}},{"$f":"AH!N121","v":{"$error":"#DIV/0!"}},{"$error":"#DIV/0!"},{"$f":"FQ!K121","v":{"$error":"#DIV/0!"}},{"$f":"FQ!N121","v":{"$error":"#DIV/0!"}},{"$error":"#DIV/0!"},{"$f":"SKI!K121","v":{"$error":"#DIV/0!"}},{"$f":"SKI!N121","v":{"$error":"#DIV/0!"}},{"$error":"#DIV/0!"},{"$f":"PKn!K121","v":{"$error":"#DIV/0!"}},{"$f":"PKn!N121","v":0},{"$error":"#DIV/0!"},{"$f":"BID!K121","v":{"$error":"#DIV/0!"}},{"$f":"BID!N121","v":{"$error":"#DIV/0!"}},{"$error":"#DIV/0!"},{"$f":"BA!K121","v":{"$error":"#DIV/0!"}},{"$f":"BA!N121","v":{"$error":"#DIV/0!"}},{"$error":"#DIV/0!"},{"$f":"MTK!K121","v":{"$error":"#DIV/0!"}},{"$f":"MTK!L121","v":0},{"$error":"#DIV/0!"},{"$f":"IPA!K121","v":{"$error":"#DIV/0!"}},{"$f":"IPA!N121","v":{"$error":"#DIV/0!"}},{"$error":"#DIV/0!"},{"$f":"IPS!K121","v":{"$error":"#DIV/0!"}},{"$f":"IPS!L121","v":0},{"$error":"#DIV/0!"},{"$f":"SBK!K121","v":{"$error":"#DIV/0!"}},{"$f":"SBK!N121","v":{"$error":"#DIV/0!"}},{"$error":"#DIV/0!"},{"$f":"PJK!K121","v":{"$error":"#DIV/0!"}},{"$f":"PJK!N121","v":{"$error":"#DIV/0!"}},{"$error":"#DIV/0!"},{"$f":"BD!K121","v":{"$error":"#DIV/0!"}},{"$f":"BD!N121","v":{"$error":"#DIV/0!"}},{"$error":"#DIV/0!"},{"$f":"BIG!K121","v":{"$error":"#DIV/0!"}},{"$f":"BIG!N121","v":{"$error":"#DIV/0!"}},{"$error":"#DIV/0!"},{"$error":"#DIV/0!"},{"$error":"#DIV/0!"},null,{"$error":"#DIV/0!"},{"$error":"#DIV/0!"},null,{"$error":"#DIV/0!"},{"$error":"#DIV/0!"},{"$f":"IPA!L121","v":0},{"$error":"#DIV/0!"},0,{"$error":"#DIV/0!"},0,{"$error":"#DIV/0!"},{"$error":"#DIV/0!"},{"$error":"#DIV/0!"},{"$error":"#DIV/0!"},0,{"$error":"#DIV/0!"},{"$error":"#DIV/0!"},{"$error":"#DIV/0!"},{"$error":"#DIV/0!"},null,null,{"$error":"#DIV/0!"},0,{"$error":"#DIV/0!"},{"$error":"#DIV/0!"},0,{"$error":"#DIV/0!"},{"$error":"#DIV/0!"},0,{"$error":"#DIV/0!"}]
[{"$f":"SISWA!A122","v":115},{"$f":"IF(SISWA!B122=0,\"\",SISWA!B122)","v":""},{"$f":"IF(SISWA!C122=0,\"\",SISWA!C122)","v":""},{"$f":"IF(SISWA!D122=0,\"\",SISWA!D122)","v":"115-"},{"$f":"IF(SISWA!E122=0,\"\",SISWA!E122)","v":""},{"$f":"IF(SISWA!P121=0,\"\",SISWA!P121)","v":", 00 Januari 1900"},{"$f":"IF(SISWA!H122=0,\"\",SISWA!H122)","v":""},{"$f":"#REF!","v":{"$error":"#REF!"}},{"$f":"#REF!","v":{"$error":"#REF!"}},{"$error":"#REF!"},{"$f":"AA!K122","v":{"$error":"#DIV/0!"}},{"$f":"AA!N122","v":{"$error":"#DIV/0!"}},{"$error":"#DIV/0!"},{"$f":"AH!K122","v":{"$error":"#DIV/0!"}},{"$f":"AH!N122","v":{"$error":"#DIV/0!"}},{"$error":"#DIV/0!"},{"$f":"FQ!K122","v":{"$error":"#DIV/0!"}},{"$f":"FQ!N122","v":{"$error":"#DIV/0!"}},{"$error":"#DIV/0!"},{"$f":"SKI!K122","v":{"$error":"#DIV/0!"}},{"$f":"SKI!N122","v":{"$error":"#DIV/0!"}},{"$error":"#DIV/0!"},{"$f":"PKn!K122","v":{"$error":"#DIV/0!"}},{"$f":"PKn!N122","v":0},{"$error":"#DIV/0!"},{"$f":"BID!K122","v":{"$error":"#DIV/0!"}},{"$f":"BID!N122","v":{"$error":"#DIV/0!"}},{"$error":"#DIV/0!"},{"$f":"BA!K122","v":{"$error":"#DIV/0!"}},{"$f":"BA!N122","v":{"$error":"#DIV/0!"}},{"$error":"#DIV/0!"},{"$f":"MTK!K122","v":{"$error":"#DIV/0!"}},{"$f":"MTK!L122","v":0},{"$error":"#DIV/0!"},{"$f":"IPA!K122","v":{"$error":"#DIV/0!"}},{"$f":"IPA!N122","v":{"$error":"#DIV/0!"}},{"$error":"#DIV/0!"},{"$f":"IPS!K122","v":{"$error":"#DIV/0!"}},{"$f":"IPS!L122","v":0},{"$error":"#DIV/0!"},{"$f":"SBK!K122","v":{"$error":"#DIV/0!"}},{"$f":"SBK!N122","v":{"$error":"#DIV/0!"}},{"$error":"#DIV/0!"},{"$f":"PJK!K122","v":{"$error":"#DIV/0!"}},{"$f":"PJK!N122","v":{"$error":"#DIV/0!"}},{"$error":"#DIV/0!"},{"$f":"BD!K122","v":{"$error":"#DIV/0!"}},{"$f":"BD!N122","v":{"$error":"#DIV/0!"}},{"$error":"#DIV/0!"},{"$f":"BIG!K122","v":{"$error":"#DIV/0!"}},{"$f":"BIG!N122","v":{"$error":"#DIV/0!"}},{"$error":"#DIV/0!"},{"$error":"#DIV/0!"},{"$error":"#DIV/0!"},null,{"$error":"#DIV/0!"},{"$error":"#DIV/0!"},null,{"$error":"#DIV/0!"},{"$error":"#DIV/0!"},{"$f":"IPA!L122","v":0},{"$error":"#DIV/0!"},0,{"$error":"#DIV/0!"},0,{"$error":"#DIV/0!"},{"$error":"#DIV/0!"},{"$error":"#DIV/0!"},{"$error":"#DIV/0!"},0,{"$error":"#DIV/0!"},{"$error":"#DIV/0!"},{"$error":"#DIV/0!"},{"$error":"#DIV/0!"},null,null,{"$error":"#DIV/0!"},0,{"$error":"#DIV/0!"},{"$error":"#DIV/0!"},0,{"$error":"#DIV/0!"},{"$error":"#DIV/0!"},0,{"$error":"#DIV/0!"}]
[{"$f":"SISWA!A123","v":116},{"$f":"IF(SISWA!B123=0,\"\",SISWA!B123)","v":""},{"$f":"IF(SISWA!C123=0,\"\",SISWA!C123)","v":""},{"$f":"IF(SISWA!D123=0,\"\",SISWA!D123)","v":"116-"},{"$f":"IF(SISWA!E123=0,\"\",SISWA!E123)","v":""},{"$f":"IF(SISWA!P122=0,\"\",SISWA!P122)","v":", 00 Januari 1900"},{"$f":"IF(SISWA!H123=0,\"\",SISWA!H123)","v":""},{"$f":"#REF!","v":{"$error":"#REF!"}},{"$f":"#REF!","v":{"$error":"#REF!"}},{"$error":"#REF!"},{"$f":"AA!K123","v":{"$error":"#DIV/0!"}},{"$f":"AA!N123","v":{"$error":"#DIV/0!"}},{"$error":"#DIV/0!"},{"$f":"AH!K123","v":{"$error":"#DIV/0!"}},{"$f":"AH!N123","v":{"$error":"#DIV/0!"}},{"$error":"#DIV/0!"},{"$f":"FQ!K123","v":{"$error":"#DIV/0!"}},{"$f":"FQ!N123","v":{"$error":"#DIV/0!"}},{"$error":"#DIV/0!"},{"$f":"SKI!K123","v":{"$error":"#DIV/0!"}},{"$f":"SKI!N123","v":{"$error":"#DIV/0!"}},{"$error":"#DIV/0!"},{"$f":"PKn!K123","v":{"$error":"#DIV/0!"}},{"$f":"PKn!N123","v":0},{"$error":"#DIV/0!"},{"$f":"BID!K123","v":{"$error":"#DIV/0!"}},{"$f":"BID!N123","v":{"$error":"#DIV/0!"}},{"$error":"#DIV/0!"},{"$f":"BA!K123","v":{"$error":"#DIV/0!"}},{"$f":"BA!N123","v":{"$error":"#DIV/0!"}},{"$error":"#DIV/0!"},{"$f":"MTK!K123","v":{"$error":"#DIV/0!"}},{"$f":"MTK!L123","v":0},{"$error":"#DIV/0!"},{"$f":"IPA!K123","v":{"$error":"#DIV/0!"}},{"$f":"IPA!N123","v":{"$error":"#DIV/0!"}},{"$error":"#DIV/0!"},{"$f":"IPS!K123","v":{"$error":"#DIV/0!"}},{"$f":"IPS!L123","v":0},{"$error":"#DIV/0!"},{"$f":"SBK!K123","v":{"$error":"#DIV/0!"}},{"$f":"SBK!N123","v":{"$error":"#DIV/0!"}},{"$error":"#DIV/0!"},{"$f":"PJK!K123","v":{"$error":"#DIV/0!"}},{"$f":"PJK!N123","v":{"$error":"#DIV/0!"}},{"$error":"#DIV/0!"},{"$f":"BD!K123","v":{"$error":"#DIV/0!"}},{"$f":"BD!N123","v":{"$error":"#DIV/0!"}},{"$error":"#DIV/0!"},{"$f":"BIG!K123","v":{"$error":"#DIV/0!"}},{"$f":"BIG!N123","v":{"$error":"#DIV/0!"}},{"$error":"#DIV/0!"},{"$error":"#DIV/0!"},{"$error":"#DIV/0!"},null,{"$error":"#DIV/0!"},{"$error":"#DIV/0!"},null,{"$error":"#DIV/0!"},{"$error":"#DIV/0!"},{"$f":"IPA!L123","v":0},{"$error":"#DIV/0!"},0,{"$error":"#DIV/0!"},0,{"$error":"#DIV/0!"},{"$error":"#DIV/0!"},{"$error":"#DIV/0!"},{"$error":"#DIV/0!"},0,{"$error":"#DIV/0!"},{"$error":"#DIV/0!"},{"$error":"#DIV/0!"},{"$error":"#DIV/0!"},null,null,{"$error":"#DIV/0!"},0,{"$error":"#DIV/0!"},{"$error":"#DIV/0!"},0,{"$error":"#DIV/0!"},{"$error":"#DIV/0!"},0,{"$error":"#DIV/0!"}]
[{"$f":"SISWA!A124","v":117},{"$f":"IF(SISWA!B124=0,\"\",SISWA!B124)","v":""},{"$f":"IF(SISWA!C124=0,\"\",SISWA!C124)","v":""},{"$f":"IF(SISWA!D124=0,\"\",SISWA!D124)","v":"117-"},{"$f":"IF(SISWA!E124=0,\"\",SISWA!E124)","v":""},{"$f":"IF(SISWA!P123=0,\"\",SISWA!P123)","v":", 00 Januari 1900"},{"$f":"IF(SISWA!H124=0,\"\",SISWA!H124)","v":""},{"$f":"#REF!","v":{"$error":"#REF!"}},{"$f":"#REF!","v":{"$error":"#REF!"}},{"$error":"#REF!"},{"$f":"AA!K124","v":{"$error":"#DIV/0!"}},{"$f":"AA!N124","v":{"$error":"#DIV/0!"}},{"$error":"#DIV/0!"},{"$f":"AH!K124","v":{"$error":"#DIV/0!"}},{"$f":"AH!N124","v":{"$error":"#DIV/0!"}},{"$error":"#DIV/0!"},{"$f":"FQ!K124","v":{"$error":"#DIV/0!"}},{"$f":"FQ!N124","v":{"$error":"#DIV/0!"}},{"$error":"#DIV/0!"},{"$f":"SKI!K124","v":{"$error":"#DIV/0!"}},{"$f":"SKI!N124","v":{"$error":"#DIV/0!"}},{"$error":"#DIV/0!"},{"$f":"PKn!K124","v":{"$error":"#DIV/0!"}},{"$f":"PKn!N124","v":0},{"$error":"#DIV/0!"},{"$f":"BID!K124","v":{"$error":"#DIV/0!"}},{"$f":"BID!N124","v":{"$error":"#DIV/0!"}},{"$error":"#DIV/0!"},{"$f":"BA!K124","v":{"$error":"#DIV/0!"}},{"$f":"BA!N124","v":{"$error":"#DIV/0!"}},{"$error":"#DIV/0!"},{"$f":"MTK!K124","v":{"$error":"#DIV/0!"}},{"$f":"MTK!L124","v":0},{"$error":"#DIV/0!"},{"$f":"IPA!K124","v":{"$error":"#DIV/0!"}},{"$f":"IPA!N124","v":{"$error":"#DIV/0!"}},{"$error":"#DIV/0!"},{"$f":"IPS!K124","v":{"$error":"#DIV/0!"}},{"$f":"IPS!L124","v":0},{"$error":"#DIV/0!"},{"$f":"SBK!K124","v":{"$error":"#DIV/0!"}},{"$f":"SBK!N124","v":{"$error":"#DIV/0!"}},{"$error":"#DIV/0!"},{"$f":"PJK!K124","v":{"$error":"#DIV/0!"}},{"$f":"PJK!N124","v":{"$error":"#DIV/0!"}},{"$error":"#DIV/0!"},{"$f":"BD!K124","v":{"$error":"#DIV/0!"}},{"$f":"BD!N124","v":{"$error":"#DIV/0!"}},{"$error":"#DIV/0!"},{"$f":"BIG!K124","v":{"$error":"#DIV/0!"}},{"$f":"BIG!N124","v":{"$error":"#DIV/0!"}},{"$error":"#DIV/0!"},{"$error":"#DIV/0!"},{"$error":"#DIV/0!"},null,{"$error":"#DIV/0!"},{"$error":"#DIV/0!"},null,{"$error":"#DIV/0!"},{"$error":"#DIV/0!"},{"$f":"IPA!L124","v":0},{"$error":"#DIV/0!"},0,{"$error":"#DIV/0!"},0,{"$error":"#DIV/0!"},{"$error":"#DIV/0!"},{"$error":"#DIV/0!"},{"$error":"#DIV/0!"},0,{"$error":"#DIV/0!"},{"$error":"#DIV/0!"},{"$error":"#DIV/0!"},{"$error":"#DIV/0!"},null,null,{"$error":"#DIV/0!"},0,{"$error":"#DIV/0!"},{"$error":"#DIV/0!"},0,{"$error":"#DIV/0!"},{"$error":"#DIV/0!"},0,{"$error":"#DIV/0!"}]
[{"$f":"SISWA!A125","v":118},{"$f":"IF(SISWA!B125=0,\"\",SISWA!B125)","v":""},{"$f":"IF(SISWA!C125=0,\"\",SISWA!C125)","v":""},{"$f":"IF(SISWA!D125=0,\"\",SISWA!D125)","v":"118-"},{"$f":"IF(SISWA!E125=0,\"\",SISWA!E125)","v":""},{"$f":"IF(SISWA!P124=0,\"\",SISWA!P124)","v":", 00 Januari 1900"},{"$f":"IF(SISWA!H125=0,\"\",SISWA!H125)","v":""},{"$f":"#REF!","v":{"$error":"#REF!"}},{"$f":"#REF!","v":{"$error":"#REF!"}},{"$error":"#REF!"},{"$f":"AA!K125","v":{"$error":"#DIV/0!"}},{"$f":"AA!N125","v":{"$error":"#DIV/0!"}},{"$error":"#DIV/0!"},{"$f":"AH!K125","v":{"$error":"#DIV/0!"}},{"$f":"AH!N125","v":{"$error":"#DIV/0!"}},{"$error":"#DIV/0!"},{"$f":"FQ!K125","v":{"$error":"#DIV/0!"}},{"$f":"FQ!N125","v":{"$error":"#DIV/0!"}},{"$error":"#DIV/0!"},{"$f":"SKI!K125","v":{"$error":"#DIV/0!"}},{"$f":"SKI!N125","v":{"$error":"#DIV/0!"}},{"$error":"#DIV/0!"},{"$f":"PKn!K125","v":{"$error":"#DIV/0!"}},{"$f":"PKn!N125","v":0},{"$error":"#DIV/0!"},{"$f":"BID!K125","v":{"$error":"#DIV/0!"}},{"$f":"BID!N125","v":{"$error":"#DIV/0!"}},{"$error":"#DIV/0!"},{"$f":"BA!K125","v":{"$error":"#DIV/0!"}},{"$f":"BA!N125","v":{"$error":"#DIV/0!"}},{"$error":"#DIV/0!"},{"$f":"MTK!K125","v":{"$error":"#DIV/0!"}},{"$f":"MTK!L125","v":0},{"$error":"#DIV/0!"},{"$f":"IPA!K125","v":{"$error":"#DIV/0!"}},{"$f":"IPA!N125","v":{"$error":"#DIV/0!"}},{"$error":"#DIV/0!"},{"$f":"IPS!K125","v":{"$error":"#DIV/0!"}},{"$f":"IPS!L125","v":0},{"$error":"#DIV/0!"},{"$f":"SBK!K125","v":{"$error":"#DIV/0!"}},{"$f":"SBK!N125","v":{"$error":"#DIV/0!"}},{"$error":"#DIV/0!"},{"$f":"PJK!K125","v":{"$error":"#DIV/0!"}},{"$f":"PJK!N125","v":{"$error":"#DIV/0!"}},{"$error":"#DIV/0!"},{"$f":"BD!K125","v":{"$error":"#DIV/0!"}},{"$f":"BD!N125","v":{"$error":"#DIV/0!"}},{"$error":"#DIV/0!"},{"$f":"BIG!K125","v":{"$error":"#DIV/0!"}},{"$f":"BIG!N125","v":{"$error":"#DIV/0!"}},{"$error":"#DIV/0!"},{"$error":"#DIV/0!"},{"$error":"#DIV/0!"},null,{"$error":"#DIV/0!"},{"$error":"#DIV/0!"},null,{"$error":"#DIV/0!"},{"$error":"#DIV/0!"},{"$f":"IPA!L125","v":0},{"$error":"#DIV/0!"},0,{"$error":"#DIV/0!"},0,{"$error":"#DIV/0!"},{"$error":"#DIV/0!"},{"$error":"#DIV/0!"},{"$error":"#DIV/0!"},0,{"$error":"#DIV/0!"},{"$error":"#DIV/0!"},{"$error":"#DIV/0!"},{"$error":"#DIV/0!"},null,null,{"$error":"#DIV/0!"},0,{"$error":"#DIV/0!"},{"$error":"#DIV/0!"},0,{"$error":"#DIV/0!"},{"$error":"#DIV/0!"},0,{"$error":"#DIV/0!"}]
[{"$f":"SISWA!A126","v":119},{"$f":"IF(SISWA!B126=0,\"\",SISWA!B126)","v":""},{"$f":"IF(SISWA!C126=0,\"\",SISWA!C126)","v":""},{"$f":"IF(SISWA!D126=0,\"\",SISWA!D126)","v":"119-"},{"$f":"IF(SISWA!E126=0,\"\",SISWA!E126)","v":""},{"$f":"IF(SISWA!P125=0,\"\",SISWA!P125)","v":", 00 Januari 1900"},{"$f":"IF(SISWA!H126=0,\"\",SISWA!H126)","v":""},{"$f":"#REF!","v":{"$error":"#REF!"}},{"$f":"#REF!","v":{"$error":"#REF!"}},{"$error":"#REF!"},{"$f":"AA!K126","v":{"$error":"#DIV/0!"}},{"$f":"AA!N126","v":{"$error":"#DIV/0!"}},{"$error":"#DIV/0!"},{"$f":"AH!K126","v":{"$error":"#DIV/0!"}},{"$f":"AH!N126","v":{"$error":"#DIV/0!"}},{"$error":"#DIV/0!"},{"$f":"FQ!K126","v":{"$error":"#DIV/0!"}},{"$f":"FQ!N126","v":{"$error":"#DIV/0!"}},{"$error":"#DIV/0!"},{"$f":"SKI!K126","v":{"$error":"#DIV/0!"}},{"$f":"SKI!N126","v":{"$error":"#DIV/0!"}},{"$error":"#DIV/0!"},{"$f":"PKn!K126","v":{"$error":"#DIV/0!"}},{"$f":"PKn!N126","v":0},{"$error":"#DIV/0!"},{"$f":"BID!K126","v":{"$error":"#DIV/0!"}},{"$f":"BID!N126","v":{"$error":"#DIV/0!"}},{"$error":"#DIV/0!"},{"$f":"BA!K126","v":{"$error":"#DIV/0!"}},{"$f":"BA!N126","v":{"$error":"#DIV/0!"}},{"$error":"#DIV/0!"},{"$f":"MTK!K126","v":{"$error":"#DIV/0!"}},{"$f":"MTK!L126","v":0},{"$error":"#DIV/0!"},{"$f":"IPA!K126","v":{"$error":"#DIV/0!"}},{"$f":"IPA!N126","v":{"$error":"#DIV/0!"}},{"$error":"#DIV/0!"},{"$f":"IPS!K126","v":{"$error":"#DIV/0!"}},{"$f":"IPS!L126","v":0},{"$error":"#DIV/0!"},{"$f":"SBK!K126","v":{"$error":"#DIV/0!"}},{"$f":"SBK!N126","v":{"$error":"#DIV/0!"}},{"$error":"#DIV/0!"},{"$f":"PJK!K126","v":{"$error":"#DIV/0!"}},{"$f":"PJK!N126","v":{"$error":"#DIV/0!"}},{"$error":"#DIV/0!"},{"$f":"BD!K126","v":{"$error":"#DIV/0!"}},{"$f":"BD!N126","v":{"$error":"#DIV/0!"}},{"$error":"#DIV/0!"},{"$f":"BIG!K126","v":{"$error":"#DIV/0!"}},{"$f":"BIG!N126","v":{"$error":"#DIV/0!"}},{"$error":"#DIV/0!"},{"$error":"#DIV/0!"},{"$error":"#DIV/0!"},null,{"$error":"#DIV/0!"},{"$error":"#DIV/0!"},null,{"$error":"#DIV/0!"},{"$error":"#DIV/0!"},{"$f":"IPA!L126","v":0},{"$error":"#DIV/0!"},0,{"$error":"#DIV/0!"},0,{"$error":"#DIV/0!"},{"$error":"#DIV/0!"},{"$error":"#DIV/0!"},{"$error":"#DIV/0!"},0,{"$error":"#DIV/0!"},{"$error":"#DIV/0!"},{"$error":"#DIV/0!"},{"$error":"#DIV/0!"},null,null,{"$error":"#DIV/0!"},0,{"$error":"#DIV/0!"},{"$error":"#DIV/0!"},0,{"$error":"#DIV/0!"},{"$error":"#DIV/0!"},0,{"$error":"#DIV/0!"}]
[{"$f":"SISWA!A127","v":120},{"$f":"IF(SISWA!B127=0,\"\",SISWA!B127)","v":""},{"$f":"IF(SISWA!C127=0,\"\",SISWA!C127)","v":""},{"$f":"IF(SISWA!D127=0,\"\",SISWA!D127)","v":"120-"},{"$f":"IF(SISWA!E127=0,\"\",SISWA!E127)","v":""},{"$f":"IF(SISWA!P126=0,\"\",SISWA!P126)","v":", 00 Januari 1900"},{"$f":"IF(SISWA!H127=0,\"\",SISWA!H127)","v":""},{"$f":"#REF!","v":{"$error":"#REF!"}},{"$f":"#REF!","v":{"$error":"#REF!"}},{"$error":"#REF!"},{"$f":"AA!K127","v":{"$error":"#DIV/0!"}},{"$f":"AA!N127","v":{"$error":"#DIV/0!"}},{"$error":"#DIV/0!"},{"$f":"AH!K127","v":{"$error":"#DIV/0!"}},{"$f":"AH!N127","v":{"$error":"#DIV/0!"}},{"$error":"#DIV/0!"},{"$f":"FQ!K127","v":{"$error":"#DIV/0!"}},{"$f":"FQ!N127","v":{"$error":"#DIV/0!"}},{"$error":"#DIV/0!"},{"$f":"SKI!K127","v":{"$error":"#DIV/0!"}},{"$f":"SKI!N127","v":{"$error":"#DIV/0!"}},{"$error":"#DIV/0!"},{"$f":"PKn!K127","v":{"$error":"#DIV/0!"}},{"$f":"PKn!N127","v":0},{"$error":"#DIV/0!"},{"$f":"BID!K127","v":{"$error":"#DIV/0!"}},{"$f":"BID!N127","v":{"$error":"#DIV/0!"}},{"$error":"#DIV/0!"},{"$f":"BA!K127","v":{"$error":"#DIV/0!"}},{"$f":"BA!N127","v":{"$error":"#DIV/0!"}},{"$error":"#DIV/0!"},{"$f":"MTK!K127","v":{"$error":"#DIV/0!"}},{"$f":"MTK!L127","v":0},{"$error":"#DIV/0!"},{"$f":"IPA!K127","v":{"$error":"#DIV/0!"}},{"$f":"IPA!N127","v":{"$error":"#DIV/0!"}},{"$error":"#DIV/0!"},{"$f":"IPS!K127","v":{"$error":"#DIV/0!"}},{"$f":"IPS!L127","v":0},{"$error":"#DIV/0!"},{"$f":"SBK!K127","v":{"$error":"#DIV/0!"}},{"$f":"SBK!N127","v":{"$error":"#DIV/0!"}},{"$error":"#DIV/0!"},{"$f":"PJK!K127","v":{"$error":"#DIV/0!"}},{"$f":"PJK!N127","v":{"$error":"#DIV/0!"}},{"$error":"#DIV/0!"},{"$f":"BD!K127","v":{"$error":"#DIV/0!"}},{"$f":"BD!N127","v":{"$error":"#DIV/0!"}},{"$error":"#DIV/0!"},{"$f":"BIG!K127","v":{"$error":"#DIV/0!"}},{"$f":"BIG!N127","v":{"$error":"#DIV/0!"}},{"$error":"#DIV/0!"},{"$error":"#DIV/0!"},{"$error":"#DIV/0!"},null,{"$error":"#DIV/0!"},{"$error":"#DIV/0!"},null,{"$error":"#DIV/0!"},{"$error":"#DIV/0!"},{"$f":"IPA!L127","v":0},{"$error":"#DIV/0!"},0,{"$error":"#DIV/0!"},0,{"$error":"#DIV/0!"},{"$error":"#DIV/0!"},{"$error":"#DIV/0!"},{"$error":"#DIV/0!"},0,{"$error":"#DIV/0!"},{"$error":"#DIV/0!"},{"$error":"#DIV/0!"},{"$error":"#DIV/0!"},null,null,{"$error":"#DIV/0!"},0,{"$error":"#DIV/0!"},{"$error":"#DIV/0!"},0,{"$error":"#DIV/0!"},{"$error":"#DIV/0!"},0,{"$error":"#DIV/0!"}]
[{"$f":"SISWA!A128","v":121},{"$f":"IF(SISWA!B128=0,\"\",SISWA!B128)","v":""},{"$f":"IF(SISWA!C128=0,\"\",SISWA!C128)","v":""},{"$f":"IF(SISWA!D128=0,\"\",SISWA!D128)","v":"121-"},{"$f":"IF(SISWA!E128=0,\"\",SISWA!E128)","v":""},{"$f":"IF(SISWA!P127=0,\"\",SISWA!P127)","v":", 00 Januari 1900"},{"$f":"IF(SISWA!H128=0,\"\",SISWA!H128)","v":""},{"$f":"#REF!","v":{"$error":"#REF!"}},{"$f":"#REF!","v":{"$error":"#REF!"}},{"$error":"#REF!"},{"$f":"AA!K128","v":{"$error":"#DIV/0!"}},{"$f":"AA!N128","v":{"$error":"#DIV/0!"}},{"$error":"#DIV/0!"},{"$f":"AH!K128","v":{"$error":"#DIV/0!"}},{"$f":"AH!N128","v":{"$error":"#DIV/0!"}},{"$error":"#DIV/0!"},{"$f":"FQ!K128","v":{"$error":"#DIV/0!"}},{"$f":"FQ!N128","v":{"$error":"#DIV/0!"}},{"$error":"#DIV/0!"},{"$f":"SKI!K128","v":{"$error":"#DIV/0!"}},{"$f":"SKI!N128","v":{"$error":"#DIV/0!"}},{"$error":"#DIV/0!"},{"$f":"PKn!K128","v":{"$error":"#DIV/0!"}},{"$f":"PKn!N128","v":0},{"$error":"#DIV/0!"},{"$f":"BID!K128","v":{"$error":"#DIV/0!"}},{"$f":"BID!N128","v":{"$error":"#DIV/0!"}},{"$error":"#DIV/0!"},{"$f":"BA!K128","v":{"$error":"#DIV/0!"}},{"$f":"BA!N128","v":{"$error":"#DIV/0!"}},{"$error":"#DIV/0!"},{"$f":"MTK!K128","v":{"$error":"#DIV/0!"}},{"$f":"MTK!L128","v":0},{"$error":"#DIV/0!"},{"$f":"IPA!K128","v":{"$error":"#DIV/0!"}},{"$f":"IPA!N128","v":{"$error":"#DIV/0!"}},{"$error":"#DIV/0!"},{"$f":"IPS!K128","v":{"$error":"#DIV/0!"}},{"$f":"IPS!L128","v":0},{"$error":"#DIV/0!"},{"$f":"SBK!K128","v":{"$error":"#DIV/0!"}},{"$f":"SBK!N128","v":{"$error":"#DIV/0!"}},{"$error":"#DIV/0!"},{"$f":"PJK!K128","v":{"$error":"#DIV/0!"}},{"$f":"PJK!N128","v":{"$error":"#DIV/0!"}},{"$error":"#DIV/0!"},{"$f":"BD!K128","v":{"$error":"#DIV/0!"}},{"$f":"BD!N128","v":{"$error":"#DIV/0!"}},{"$error":"#DIV/0!"},{"$f":"BIG!K128","v":{"$error":"#DIV/0!"}},{"$f":"BIG!N128","v":{"$error":"#DIV/0!"}},{"$error":"#DIV/0!"},{"$error":"#DIV/0!"},{"$error":"#DIV/0!"},null,{"$error":"#DIV/0!"},{"$error":"#DIV/0!"},null,{"$error":"#DIV/0!"},{"$error":"#DIV/0!"},{"$f":"IPA!L128","v":0},{"$error":"#DIV/0!"},0,{"$error":"#DIV/0!"},0,{"$error":"#DIV/0!"},{"$error":"#DIV/0!"},{"$error":"#DIV/0!"},{"$error":"#DIV/0!"},0,{"$error":"#DIV/0!"},{"$error":"#DIV/0!"},{"$error":"#DIV/0!"},{"$error":"#DIV/0!"},null,null,{"$error":"#DIV/0!"},0,{"$error":"#DIV/0!"},{"$error":"#DIV/0!"},0,{"$error":"#DIV/0!"},{"$error":"#DIV/0!"},0,{"$error":"#DIV/0!"}]
[{"$f":"SISWA!A129","v":122},{"$f":"IF(SISWA!B129=0,\"\",SISWA!B129)","v":""},{"$f":"IF(SISWA!C129=0,\"\",SISWA!C129)","v":""},{"$f":"IF(SISWA!D129=0,\"\",SISWA!D129)","v":"122-"},{"$f":"IF(SISWA!E129=0,\"\",SISWA!E129)","v":""},{"$f":"IF(SISWA!P128=0,\"\",SISWA!P128)","v":", 00 Januari 1900"},{"$f":"IF(SISWA!H129=0,\"\",SISWA!H129)","v":""},{"$f":"#REF!","v":{"$error":"#REF!"}},{"$f":"#REF!","v":{"$error":"#REF!"}},{"$f":"(H130*60%)+(I130*40%)","v":{"$error":"#REF!"}},null,null,null,{"$f":"AH!K129","v":{"$error":"#DIV/0!"}},{"$f":"AH!N129","v":{"$error":"#DIV/0!"}},{"$f":"(N130*60%)+(O130*40%)","v":{"$error":"#DIV/0!"}},{"$f":"FQ!K129","v":{"$error":"#DIV/0!"}},{"$f":"FQ!N129","v":{"$error":"#DIV/0!"}},{"$f":"(Q130*60%)+(R130*40%)","v":{"$error":"#DIV/0!"}},{"$f":"SKI!K129","v":{"$error":"#DIV/0!"}},{"$f":"SKI!N129","v":{"$error":"#DIV/0!"}},{"$f":"(T130*60%)+(U130*40%)","v":{"$error":"#DIV/0!"}},{"$f":"PKn!K129","v":{"$error":"#DIV/0!"}},{"$f":"PKn!N129","v":0},{"$f":"(W130*60%)+(X130*40%)","v":{"$error":"#DIV/0!"}},{"$f":"BID!K129","v":{"$error":"#DIV/0!"}},{"$f":"BID!N129","v":{"$error":"#DIV/0!"}},{"$f":"(Z130*60%)+(AA130*40%)","v":{"$error":"#DIV/0!"}},{"$f":"BA!K129","v":{"$error":"#DIV/0!"}},{"$f":"BA!N129","v":{"$error":"#DIV/0!"}},{"$f":"(AC130*60%)+(AD130*40%)","v":{"$error":"#DIV/0!"}},{"$f":"MTK!K129","v":{"$error":"#DIV/0!"}},{"$f":"MTK!L129","v":0},{"$f":"(AF130*60%)+(AG130*40%)","v":{"$error":"#DIV/0!"}},{"$f":"IPA!K129","v":{"$error":"#DIV/0!"}},{"$f":"IPA!N129","v":{"$error":"#DIV/0!"}},{"$f":"(AI130*60%)+(AJ130*40%)","v":{"$error":"#DIV/0!"}},{"$f":"IPS!K129","v":{"$error":"#DIV/0!"}},{"$f":"IPS!L129","v":0},{"$f":"(AL130*60%)+(AM130*40%)","v":{"$error":"#DIV/0!"}},{"$f":"SBK!K129","v":{"$error":"#DIV/0!"}},{"$f":"SBK!N129","v":{"$error":"#DIV/0!"}},{"$f":"(AO130*60%)+(AP130*40%)","v":{"$error":"#DIV/0!"}},{"$f":"PJK!K129","v":{"$error":"#DIV/0!"}},{"$f":"PJK!N129","v":{"$error":"#DIV/0!"}},{"$f":"(AR130*60%)+(AS130*40%)","v":{"$error":"#DIV/0!"}},{"$f":"BD!K129","v":{"$error":"#DIV/0!"}},{"$f":"BD!N129","v":{"$error":"#DIV/0!"}},{"$f":"(AU130*60%)+(AV130*40%)","v":{"$error":"#DIV/0!"}},{"$f":"BIG!K129","v":{"$error":"#DIV/0!"}},{"$f":"BIG!N129","v":{"$error":"#DIV/0!"}},{"$f":"(AX130*60%)+(AY130*40%)","v":{"$error":"#DIV/0!"}},{"$error":"#DIV/0!"},{"$error":"#DIV/0!"},null,{"$error":"#DIV/0!"},{"$error":"#DIV/0!"},null,{"$error":"#DIV/0!"},{"$error":"#DIV/0!"},{"$f":"IPA!L129","v":0},{"$error":"#DIV/0!"},0,{"$error":"#DIV/0!"},0,{"$error":"#DIV/0!"},{"$error":"#DIV/0!"},{"$error":"#DIV/0!"},{"$error":"#DIV/0!"},0,{"$error":"#DIV/0!"},{"$error":"#DIV/0!"},{"$error":"#DIV/0!"},{"$error":"#DIV/0!"},null,null,{"$error":"#DIV/0!"},0,{"$error":"#DIV/0!"},{"$error":"#DIV/0!"},0,{"$error":"#DIV/0!"},{"$error":"#DIV/0!"},0,{"$error":"#DIV/0!"}]
[{"$f":"SISWA!A130","v":123},{"$f":"IF(SISWA!B130=0,\"\",SISWA!B130)","v":""},{"$f":"IF(SISWA!C130=0,\"\",SISWA!C130)","v":""},{"$f":"IF(SISWA!D130=0,\"\",SISWA!D130)","v":"123-"},{"$f":"IF(SISWA!E130=0,\"\",SISWA!E130)","v":""},{"$f":"IF(SISWA!P129=0,\"\",SISWA!P129)","v":", 00 Januari 1900"},{"$f":"IF(SISWA!H130=0,\"\",SISWA!H130)","v":""},{"$f":"#REF!","v":{"$error":"#REF!"}},{"$f":"#REF!","v":{"$error":"#REF!"}},{"$error":"#REF!"},null,null,null,{"$f":"AH!K130","v":{"$error":"#DIV/0!"}},{"$f":"AH!N130","v":{"$error":"#DIV/0!"}},{"$error":"#DIV/0!"},{"$f":"FQ!K130","v":{"$error":"#DIV/0!"}},{"$f":"FQ!N130","v":{"$error":"#DIV/0!"}},{"$error":"#DIV/0!"},{"$f":"SKI!K130","v":{"$error":"#DIV/0!"}},{"$f":"SKI!N130","v":{"$error":"#DIV/0!"}},{"$error":"#DIV/0!"},{"$f":"PKn!K130","v":{"$error":"#DIV/0!"}},{"$f":"PKn!N130","v":0},{"$error":"#DIV/0!"},{"$f":"BID!K130","v":{"$error":"#DIV/0!"}},{"$f":"BID!N130","v":{"$error":"#DIV/0!"}},{"$error":"#DIV/0!"},{"$f":"BA!K130","v":{"$error":"#DIV/0!"}},{"$f":"BA!N130","v":{"$error":"#DIV/0!"}},{"$error":"#DIV/0!"},{"$f":"MTK!K130","v":{"$error":"#DIV/0!"}},{"$f":"MTK!L130","v":0},{"$error":"#DIV/0!"},{"$f":"IPA!K130","v":{"$error":"#DIV/0!"}},{"$f":"IPA!N130","v":{"$error":"#DIV/0!"}},{"$error":"#DIV/0!"},{"$f":"IPS!K130","v":{"$error":"#DIV/0!"}},{"$f":"IPS!L130","v":0},{"$error":"#DIV/0!"},{"$f":"SBK!K130","v":{"$error":"#DIV/0!"}},{"$f":"SBK!N130","v":{"$error":"#DIV/0!"}},{"$error":"#DIV/0!"},{"$f":"PJK!K130","v":{"$error":"#DIV/0!"}},{"$f":"PJK!N130","v":{"$error":"#DIV/0!"}},{"$error":"#DIV/0!"},{"$f":"BD!K130","v":{"$error":"#DIV/0!"}},{"$f":"BD!N130","v":{"$error":"#DIV/0!"}},{"$error":"#DIV/0!"},{"$f":"BIG!K130","v":{"$error":"#DIV/0!"}},{"$f":"BIG!N130","v":{"$error":"#DIV/0!"}},{"$error":"#DIV/0!"},{"$error":"#DIV/0!"},{"$error":"#DIV/0!"},null,{"$error":"#DIV/0!"},{"$error":"#DIV/0!"},null,{"$error":"#DIV/0!"},{"$error":"#DIV/0!"},{"$f":"IPA!L130","v":0},{"$error":"#DIV/0!"},0,{"$error":"#DIV/0!"},0,{"$error":"#DIV/0!"},{"$error":"#DIV/0!"},{"$error":"#DIV/0!"},{"$error":"#DIV/0!"},0,{"$error":"#DIV/0!"},{"$error":"#DIV/0!"},{"$error":"#DIV/0!"},{"$error":"#DIV/0!"},null,null,{"$error":"#DIV/0!"},0,{"$error":"#DIV/0!"},{"$error":"#DIV/0!"},0,{"$error":"#DIV/0!"},{"$error":"#DIV/0!"},0,{"$error":"#DIV/0!"}]
[{"$f":"SISWA!A131","v":124},{"$f":"IF(SISWA!B131=0,\"\",SISWA!B131)","v":""},{"$f":"IF(SISWA!C131=0,\"\",SISWA!C131)","v":""},{"$f":"IF(SISWA!D131=0,\"\",SISWA!D131)","v":"124-"},{"$f":"IF(SISWA!E131=0,\"\",SISWA!E131)","v":""},{"$f":"IF(SISWA!P130=0,\"\",SISWA!P130)","v":", 00 Januari 1900"},{"$f":"IF(SISWA!H131=0,\"\",SISWA!H131)","v":""},{"$f":"#REF!","v":{"$error":"#REF!"}},{"$f":"#REF!","v":{"$error":"#REF!"}},{"$error":"#REF!"},null,null,null,{"$f":"AH!K131","v":{"$error":"#DIV/0!"}},{"$f":"AH!N131","v":{"$error":"#DIV/0!"}},{"$error":"#DIV/0!"},{"$f":"FQ!K131","v":{"$error":"#DIV/0!"}},{"$f":"FQ!N131","v":{"$error":"#DIV/0!"}},{"$error":"#DIV/0!"},{"$f":"SKI!K131","v":{"$error":"#DIV/0!"}},{"$f":"SKI!N131","v":{"$error":"#DIV/0!"}},{"$error":"#DIV/0!"},{"$f":"PKn!K131","v":{"$error":"#DIV/0!"}},{"$f":"PKn!N131","v":0},{"$error":"#DIV/0!"},{"$f":"BID!K131","v":{"$error":"#DIV/0!"}},{"$f":"BID!N131","v":{"$error":"#DIV/0!"}},{"$error":"#DIV/0!"},{"$f":"BA!K131","v":{"$error":"#DIV/0!"}},{"$f":"BA!N131","v":{"$error":"#DIV/0!"}},{"$error":"#DIV/0!"},{"$f":"MTK!K131","v":{"$error":"#DIV/0!"}},{"$f":"MTK!L131","v":0},{"$error":"#DIV/0!"},{"$f":"IPA!K131","v":{"$error":"#DIV/0!"}},{"$f":"IPA!N131","v":{"$error":"#DIV/0!"}},{"$error":"#DIV/0!"},{"$f":"IPS!K131","v":{"$error":"#DIV/0!"}},{"$f":"IPS!L131","v":0},{"$error":"#DIV/0!"},{"$f":"SBK!K131","v":{"$error":"#DIV/0!"}},{"$f":"SBK!N131","v":{"$error":"#DIV/0!"}},{"$error":"#DIV/0!"},{"$f":"PJK!K131","v":{"$error":"#DIV/0!"}},{"$f":"PJK!N131","v":{"$error":"#DIV/0!"}},{"$error":"#DIV/0!"},{"$f":"BD!K131","v":{"$error":"#DIV/0!"}},{"$f":"BD!N131","v":{"$error":"#DIV/0!"}},{"$error":"#DIV/0!"},{"$f":"BIG!K131","v":{"$error":"#DIV/0!"}},{"$f":"BIG!N131","v":{"$error":"#DIV/0!"}},{"$error":"#DIV/0!"},{"$error":"#DIV/0!"},{"$error":"#DIV/0!"},null,{"$error":"#DIV/0!"},{"$error":"#DIV/0!"},null,{"$error":"#DIV/0!"},{"$error":"#DIV/0!"},{"$f":"IPA!L131","v":0},{"$error":"#DIV/0!"},0,{"$error":"#DIV/0!"},0,{"$error":"#DIV/0!"},{"$error":"#DIV/0!"},{"$error":"#DIV/0!"},{"$error":"#DIV/0!"},0,{"$error":"#DIV/0!"},{"$error":"#DIV/0!"},{"$error":"#DIV/0!"},{"$error":"#DIV/0!"},null,null,{"$error":"#DIV/0!"},0,{"$error":"#DIV/0!"},{"$error":"#DIV/0!"},0,{"$error":"#DIV/0!"},{"$error":"#DIV/0!"},0,{"$error":"#DIV/0!"}]
[{"$f":"SISWA!A132","v":125},{"$f":"IF(SISWA!B132=0,\"\",SISWA!B132)","v":""},{"$f":"IF(SISWA!C132=0,\"\",SISWA!C132)","v":""},{"$f":"IF(SISWA!D132=0,\"\",SISWA!D132)","v":"125-"},{"$f":"IF(SISWA!E132=0,\"\",SISWA!E132)","v":""},{"$f":"IF(SISWA!P131=0,\"\",SISWA!P131)","v":", 00 Januari 1900"},{"$f":"IF(SISWA!H132=0,\"\",SISWA!H132)","v":""},{"$f":"#REF!","v":{"$error":"#REF!"}},{"$f":"#REF!","v":{"$error":"#REF!"}},{"$error":"#REF!"},null,null,null,{"$f":"AH!K132","v":{"$error":"#DIV/0!"}},{"$f":"AH!N132","v":{"$error":"#DIV/0!"}},{"$error":"#DIV/0!"},{"$f":"FQ!K132","v":{"$error":"#DIV/0!"}},{"$f":"FQ!N132","v":{"$error":"#DIV/0!"}},{"$error":"#DIV/0!"},{"$f":"SKI!K132","v":{"$error":"#DIV/0!"}},{"$f":"SKI!N132","v":{"$error":"#DIV/0!"}},{"$error":"#DIV/0!"},{"$f":"PKn!K132","v":{"$error":"#DIV/0!"}},{"$f":"PKn!N132","v":0},{"$error":"#DIV/0!"},{"$f":"BID!K132","v":{"$error":"#DIV/0!"}},{"$f":"BID!N132","v":{"$error":"#DIV/0!"}},{"$error":"#DIV/0!"},{"$f":"BA!K132","v":{"$error":"#DIV/0!"}},{"$f":"BA!N132","v":{"$error":"#DIV/0!"}},{"$error":"#DIV/0!"},{"$f":"MTK!K132","v":{"$error":"#DIV/0!"}},{"$f":"MTK!L132","v":0},{"$error":"#DIV/0!"},{"$f":"IPA!K132","v":{"$error":"#DIV/0!"}},{"$f":"IPA!N132","v":{"$error":"#DIV/0!"}},{"$error":"#DIV/0!"},{"$f":"IPS!K132","v":{"$error":"#DIV/0!"}},{"$f":"IPS!L132","v":0},{"$error":"#DIV/0!"},{"$f":"SBK!K132","v":{"$error":"#DIV/0!"}},{"$f":"SBK!N132","v":{"$error":"#DIV/0!"}},{"$error":"#DIV/0!"},{"$f":"PJK!K132","v":{"$error":"#DIV/0!"}},{"$f":"PJK!N132","v":{"$error":"#DIV/0!"}},{"$error":"#DIV/0!"},{"$f":"BD!K132","v":{"$error":"#DIV/0!"}},{"$f":"BD!N132","v":{"$error":"#DIV/0!"}},{"$error":"#DIV/0!"},{"$f":"BIG!K132","v":{"$error":"#DIV/0!"}},{"$f":"BIG!N132","v":{"$error":"#DIV/0!"}},{"$error":"#DIV/0!"},{"$error":"#DIV/0!"},{"$error":"#DIV/0!"},null,{"$error":"#DIV/0!"},{"$error":"#DIV/0!"},null,{"$error":"#DIV/0!"},{"$error":"#DIV/0!"},{"$f":"IPA!L132","v":0},{"$error":"#DIV/0!"},0,{"$error":"#DIV/0!"},0,{"$error":"#DIV/0!"},{"$error":"#DIV/0!"},{"$error":"#DIV/0!"},{"$error":"#DIV/0!"},0,{"$error":"#DIV/0!"},{"$error":"#DIV/0!"},{"$error":"#DIV/0!"},{"$error":"#DIV/0!"},null,null,{"$error":"#DIV/0!"},0,{"$error":"#DIV/0!"},{"$error":"#DIV/0!"},0,{"$error":"#DIV/0!"},{"$error":"#DIV/0!"},0,{"$error":"#DIV/0!"}]
[{"$f":"SISWA!A133","v":126},{"$f":"IF(SISWA!B133=0,\"\",SISWA!B133)","v":""},{"$f":"IF(SISWA!C133=0,\"\",SISWA!C133)","v":""},{"$f":"IF(SISWA!D133=0,\"\",SISWA!D133)","v":"126-"},{"$f":"IF(SISWA!E133=0,\"\",SISWA!E133)","v":""},{"$f":"IF(SISWA!P132=0,\"\",SISWA!P132)","v":", 00 Januari 1900"},{"$f":"IF(SISWA!H133=0,\"\",SISWA!H133)","v":""},{"$f":"#REF!","v":{"$error":"#REF!"}},{"$f":"#REF!","v":{"$error":"#REF!"}},{"$error":"#REF!"},null,null,null,{"$f":"AH!K133","v":{"$error":"#DIV/0!"}},{"$f":"AH!N133","v":{"$error":"#DIV/0!"}},{"$error":"#DIV/0!"},{"$f":"FQ!K133","v":{"$error":"#DIV/0!"}},{"$f":"FQ!N133","v":{"$error":"#DIV/0!"}},{"$error":"#DIV/0!"},{"$f":"SKI!K133","v":{"$error":"#DIV/0!"}},{"$f":"SKI!N133","v":{"$error":"#DIV/0!"}},{"$error":"#DIV/0!"},{"$f":"PKn!K133","v":{"$error":"#DIV/0!"}},{"$f":"PKn!N133","v":0},{"$error":"#DIV/0!"},{"$f":"BID!K133","v":{"$error":"#DIV/0!"}},{"$f":"BID!N133","v":{"$error":"#DIV/0!"}},{"$error":"#DIV/0!"},{"$f":"BA!K133","v":{"$error":"#DIV/0!"}},{"$f":"BA!N133","v":{"$error":"#DIV/0!"}},{"$error":"#DIV/0!"},{"$f":"MTK!K133","v":{"$error":"#DIV/0!"}},{"$f":"MTK!L133","v":0},{"$error":"#DIV/0!"},{"$f":"IPA!K133","v":{"$error":"#DIV/0!"}},{"$f":"IPA!N133","v":{"$error":"#DIV/0!"}},{"$error":"#DIV/0!"},{"$f":"IPS!K133","v":{"$error":"#DIV/0!"}},{"$f":"IPS!L133","v":0},{"$error":"#DIV/0!"},{"$f":"SBK!K133","v":{"$error":"#DIV/0!"}},{"$f":"SBK!N133","v":{"$error":"#DIV/0!"}},{"$error":"#DIV/0!"},{"$f":"PJK!K133","v":{"$error":"#DIV/0!"}},{"$f":"PJK!N133","v":{"$error":"#DIV/0!"}},{"$error":"#DIV/0!"},{"$f":"BD!K133","v":{"$error":"#DIV/0!"}},{"$f":"BD!N133","v":{"$error":"#DIV/0!"}},{"$error":"#DIV/0!"},{"$f":"BIG!K133","v":{"$error":"#DIV/0!"}},{"$f":"BIG!N133","v":{"$error":"#DIV/0!"}},{"$error":"#DIV/0!"},{"$error":"#DIV/0!"},{"$error":"#DIV/0!"},null,{"$error":"#DIV/0!"},{"$error":"#DIV/0!"},null,{"$error":"#DIV/0!"},{"$error":"#DIV/0!"},{"$f":"IPA!L133","v":0},{"$error":"#DIV/0!"},0,{"$error":"#DIV/0!"},0,{"$error":"#DIV/0!"},{"$error":"#DIV/0!"},{"$error":"#DIV/0!"},{"$error":"#DIV/0!"},0,{"$error":"#DIV/0!"},{"$error":"#DIV/0!"},{"$error":"#DIV/0!"},{"$error":"#DIV/0!"},null,null,{"$error":"#DIV/0!"},0,{"$error":"#DIV/0!"},{"$error":"#DIV/0!"},0,{"$error":"#DIV/0!"},{"$error":"#DIV/0!"},0,{"$error":"#DIV/0!"}]
[{"$f":"SISWA!A134","v":127},{"$f":"IF(SISWA!B134=0,\"\",SISWA!B134)","v":""},{"$f":"IF(SISWA!C134=0,\"\",SISWA!C134)","v":""},{"$f":"IF(SISWA!D134=0,\"\",SISWA!D134)","v":"127-"},{"$f":"IF(SISWA!E134=0,\"\",SISWA!E134)","v":""},{"$f":"IF(SISWA!P133=0,\"\",SISWA!P133)","v":", 00 Januari 1900"},{"$f":"IF(SISWA!H134=0,\"\",SISWA!H134)","v":""},{"$f":"#REF!","v":{"$error":"#REF!"}},{"$f":"#REF!","v":{"$error":"#REF!"}},{"$error":"#REF!"},null,null,null,{"$f":"AH!K134","v":{"$error":"#DIV/0!"}},{"$f":"AH!N134","v":{"$error":"#DIV/0!"}},{"$error":"#DIV/0!"},{"$f":"FQ!K134","v":{"$error":"#DIV/0!"}},{"$f":"FQ!N134","v":{"$error":"#DIV/0!"}},{"$error":"#DIV/0!"},{"$f":"SKI!K134","v":{"$error":"#DIV/0!"}},{"$f":"SKI!N134","v":{"$error":"#DIV/0!"}},{"$error":"#DIV/0!"},{"$f":"PKn!K134","v":{"$error":"#DIV/0!"}},{"$f":"PKn!N134","v":0},{"$error":"#DIV/0!"},{"$f":"BID!K134","v":{"$error":"#DIV/0!"}},{"$f":"BID!N134","v":{"$error":"#DIV/0!"}},{"$error":"#DIV/0!"},{"$f":"BA!K134","v":{"$error":"#DIV/0!"}},{"$f":"BA!N134","v":{"$error":"#DIV/0!"}},{"$error":"#DIV/0!"},{"$f":"MTK!K134","v":{"$error":"#DIV/0!"}},{"$f":"MTK!L134","v":0},{"$error":"#DIV/0!"},{"$f":"IPA!K134","v":{"$error":"#DIV/0!"}},{"$f":"IPA!N134","v":{"$error":"#DIV/0!"}},{"$error":"#DIV/0!"},{"$f":"IPS!K134","v":{"$error":"#DIV/0!"}},{"$f":"IPS!L134","v":0},{"$error":"#DIV/0!"},{"$f":"SBK!K134","v":{"$error":"#DIV/0!"}},{"$f":"SBK!N134","v":{"$error":"#DIV/0!"}},{"$error":"#DIV/0!"},{"$f":"PJK!K134","v":{"$error":"#DIV/0!"}},{"$f":"PJK!N134","v":{"$error":"#DIV/0!"}},{"$error":"#DIV/0!"},{"$f":"BD!K134","v":{"$error":"#DIV/0!"}},{"$f":"BD!N134","v":{"$error":"#DIV/0!"}},{"$error":"#DIV/0!"},{"$f":"BIG!K134","v":{"$error":"#DIV/0!"}},{"$f":"BIG!N134","v":{"$error":"#DIV/0!"}},{"$error":"#DIV/0!"},{"$error":"#DIV/0!"},{"$error":"#DIV/0!"},null,{"$error":"#DIV/0!"},{"$error":"#DIV/0!"},null,{"$error":"#DIV/0!"},{"$error":"#DIV/0!"},{"$f":"IPA!L134","v":0},{"$error":"#DIV/0!"},0,{"$error":"#DIV/0!"},0,{"$error":"#DIV/0!"},{"$error":"#DIV/0!"},{"$error":"#DIV/0!"},{"$error":"#DIV/0!"},0,{"$error":"#DIV/0!"},{"$error":"#DIV/0!"},{"$error":"#DIV/0!"},{"$error":"#DIV/0!"},null,null,{"$error":"#DIV/0!"},0,{"$error":"#DIV/0!"},{"$error":"#DIV/0!"},0,{"$error":"#DIV/0!"},{"$error":"#DIV/0!"},0,{"$error":"#DIV/0!"}]
[{"$f":"SISWA!A135","v":128},{"$f":"IF(SISWA!B135=0,\"\",SISWA!B135)","v":""},{"$f":"IF(SISWA!C135=0,\"\",SISWA!C135)","v":""},{"$f":"IF(SISWA!D135=0,\"\",SISWA!D135)","v":"128-"},{"$f":"IF(SISWA!E135=0,\"\",SISWA!E135)","v":""},{"$f":"IF(SISWA!P134=0,\"\",SISWA!P134)","v":", 00 Januari 1900"},{"$f":"IF(SISWA!H135=0,\"\",SISWA!H135)","v":""},{"$f":"#REF!","v":{"$error":"#REF!"}},{"$f":"#REF!","v":{"$error":"#REF!"}},{"$error":"#REF!"},null,null,null,{"$f":"AH!K135","v":{"$error":"#DIV/0!"}},{"$f":"AH!N135","v":{"$error":"#DIV/0!"}},{"$error":"#DIV/0!"},{"$f":"FQ!K135","v":{"$error":"#DIV/0!"}},{"$f":"FQ!N135","v":{"$error":"#DIV/0!"}},{"$error":"#DIV/0!"},{"$f":"SKI!K135","v":{"$error":"#DIV/0!"}},{"$f":"SKI!N135","v":{"$error":"#DIV/0!"}},{"$error":"#DIV/0!"},{"$f":"PKn!K135","v":{"$error":"#DIV/0!"}},{"$f":"PKn!N135","v":0},{"$error":"#DIV/0!"},{"$f":"BID!K135","v":{"$error":"#DIV/0!"}},{"$f":"BID!N135","v":{"$error":"#DIV/0!"}},{"$error":"#DIV/0!"},{"$f":"BA!K135","v":{"$error":"#DIV/0!"}},{"$f":"BA!N135","v":{"$error":"#DIV/0!"}},{"$error":"#DIV/0!"},{"$f":"MTK!K135","v":{"$error":"#DIV/0!"}},{"$f":"MTK!L135","v":0},{"$error":"#DIV/0!"},{"$f":"IPA!K135","v":{"$error":"#DIV/0!"}},{"$f":"IPA!N135","v":{"$error":"#DIV/0!"}},{"$error":"#DIV/0!"},{"$f":"IPS!K135","v":{"$error":"#DIV/0!"}},{"$f":"IPS!L135","v":0},{"$error":"#DIV/0!"},{"$f":"SBK!K135","v":{"$error":"#DIV/0!"}},{"$f":"SBK!N135","v":{"$error":"#DIV/0!"}},{"$error":"#DIV/0!"},{"$f":"PJK!K135","v":{"$error":"#DIV/0!"}},{"$f":"PJK!N135","v":{"$error":"#DIV/0!"}},{"$error":"#DIV/0!"},{"$f":"BD!K135","v":{"$error":"#DIV/0!"}},{"$f":"BD!N135","v":{"$error":"#DIV/0!"}},{"$error":"#DIV/0!"},{"$f":"BIG!K135","v":{"$error":"#DIV/0!"}},{"$f":"BIG!N135","v":{"$error":"#DIV/0!"}},{"$error":"#DIV/0!"},{"$error":"#DIV/0!"},{"$error":"#DIV/0!"},null,{"$error":"#DIV/0!"},{"$error":"#DIV/0!"},null,{"$error":"#DIV/0!"},{"$error":"#DIV/0!"},{"$f":"IPA!L135","v":0},{"$error":"#DIV/0!"},0,{"$error":"#DIV/0!"},0,{"$error":"#DIV/0!"},{"$error":"#DIV/0!"},{"$error":"#DIV/0!"},{"$error":"#DIV/0!"},0,{"$error":"#DIV/0!"},{"$error":"#DIV/0!"},{"$error":"#DIV/0!"},{"$error":"#DIV/0!"},null,null,{"$error":"#DIV/0!"},0,{"$error":"#DIV/0!"},{"$error":"#DIV/0!"},0,{"$error":"#DIV/0!"},{"$error":"#DIV/0!"},0,{"$error":"#DIV/0!"}]
[{"$f":"SISWA!A136","v":129},{"$f":"IF(SISWA!B136=0,\"\",SISWA!B136)","v":""},{"$f":"IF(SISWA!C136=0,\"\",SISWA!C136)","v":""},{"$f":"IF(SISWA!D136=0,\"\",SISWA!D136)","v":"129-"},{"$f":"IF(SISWA!E136=0,\"\",SISWA!E136)","v":""},{"$f":"IF(SISWA!P135=0,\"\",SISWA!P135)","v":", 00 Januari 1900"},{"$f":"IF(SISWA!H136=0,\"\",SISWA!H136)","v":""},{"$f":"#REF!","v":{"$error":"#REF!"}},{"$f":"#REF!","v":{"$error":"#REF!"}},{"$f":"(H137*60%)+(I137*40%)","v":{"$error":"#REF!"}},null,null,null,{"$f":"AH!K136","v":{"$error":"#DIV/0!"}},{"$f":"AH!N136","v":{"$error":"#DIV/0!"}},{"$f":"(N137*60%)+(O137*40%)","v":{"$error":"#DIV/0!"}},{"$f":"FQ!K136","v":{"$error":"#DIV/0!"}},{"$f":"FQ!N136","v":{"$error":"#DIV/0!"}},{"$f":"(Q137*60%)+(R137*40%)","v":{"$error":"#DIV/0!"}},{"$f":"SKI!K136","v":{"$error":"#DIV/0!"}},{"$f":"SKI!N136","v":{"$error":"#DIV/0!"}},{"$f":"(T137*60%)+(U137*40%)","v":{"$error":"#DIV/0!"}},{"$f":"PKn!K136","v":{"$error":"#DIV/0!"}},{"$f":"PKn!N136","v":0},{"$f":"(W137*60%)+(X137*40%)","v":{"$error":"#DIV/0!"}},{"$f":"BID!K136","v":{"$error":"#DIV/0!"}},{"$f":"BID!N136","v":{"$error":"#DIV/0!"}},{"$f":"(Z137*60%)+(AA137*40%)","v":{"$error":"#DIV/0!"}},{"$f":"BA!K136","v":{"$error":"#DIV/0!"}},{"$f":"BA!N136","v":{"$error":"#DIV/0!"}},{"$f":"(AC137*60%)+(AD137*40%)","v":{"$error":"#DIV/0!"}},{"$f":"MTK!K136","v":{"$error":"#DIV/0!"}},{"$f":"MTK!L136","v":0},{"$f":"(AF137*60%)+(AG137*40%)","v":{"$error":"#DIV/0!"}},{"$f":"IPA!K136","v":{"$error":"#DIV/0!"}},{"$f":"IPA!N136","v":{"$error":"#DIV/0!"}},{"$f":"(AI137*60%)+(AJ137*40%)","v":{"$error":"#DIV/0!"}},{"$f":"IPS!K136","v":{"$error":"#DIV/0!"}},{"$f":"IPS!L136","v":0},{"$f":"(AL137*60%)+(AM137*40%)","v":{"$error":"#DIV/0!"}},{"$f":"SBK!K136","v":{"$error":"#DIV/0!"}},{"$f":"SBK!N136","v":{"$error":"#DIV/0!"}},{"$f":"(AO137*60%)+(AP137*40%)","v":{"$error":"#DIV/0!"}},{"$f":"PJK!K136","v":{"$error":"#DIV/0!"}},{"$f":"PJK!N136","v":{"$error":"#DIV/0!"}},{"$f":"(AR137*60%)+(AS137*40%)","v":{"$error":"#DIV/0!"}},{"$f":"BD!K136","v":{"$error":"#DIV/0!"}},{"$f":"BD!N136","v":{"$error":"#DIV/0!"}},{"$f":"(AU137*60%)+(AV137*40%)","v":{"$error":"#DIV/0!"}},{"$f":"BIG!K136","v":{"$error":"#DIV/0!"}},{"$f":"BIG!N136","v":{"$error":"#DIV/0!"}},{"$f":"(AX137*60%)+(AY137*40%)","v":{"$error":"#DIV/0!"}},{"$error":"#DIV/0!"},{"$f":"AB137","v":{"$error":"#DIV/0!"}},null,{"$f":"(BB137*60%)+(BC137*40%)","v":{"$error":"#DIV/0!"}},{"$f":"AH137","v":{"$error":"#DIV/0!"}},null,{"$f":"(BE137*60%)+(BF137*40%)","v":{"$error":"#DIV/0!"}},{"$f":"AK137","v":{"$error":"#DIV/0!"}},{"$f":"IPA!L136","v":0},{"$f":"(BH137*60%)+(BI137*40%)","v":{"$error":"#DIV/0!"}},0,{"$f":"SUM(BD137,BG137,BJ137)","v":{"$error":"#DIV/0!"}},0,{"$error":"#DIV/0!"},{"$error":"#DIV/0!"},{"$error":"#DIV/0!"},{"$error":"#DIV/0!"},0,{"$error":"#DIV/0!"},{"$error":"#DIV/0!"},{"$error":"#DIV/0!"},{"$error":"#DIV/0!"},null,null,{"$error":"#DIV/0!"},0,{"$error":"#DIV/0!"},{"$error":"#DIV/0!"},0,{"$error":"#DIV/0!"},{"$error":"#DIV/0!"},0,{"$error":"#DIV/0!"}]
[{"$f":"SISWA!A137","v":130},{"$f":"IF(SISWA!B137=0,\"\",SISWA!B137)","v":""},{"$f":"IF(SISWA!C137=0,\"\",SISWA!C137)","v":""},{"$f":"IF(SISWA!D137=0,\"\",SISWA!D137)","v":"130-"},{"$f":"IF(SISWA!E137=0,\"\",SISWA!E137)","v":""},{"$f":"IF(SISWA!P136=0,\"\",SISWA!P136)","v":", 00 Januari 1900"},{"$f":"IF(SISWA!H137=0,\"\",SISWA!H137)","v":""},{"$f":"#REF!","v":{"$error":"#REF!"}},{"$f":"#REF!","v":{"$error":"#REF!"}},{"$error":"#REF!"},null,null,null,{"$f":"AH!K137","v":{"$error":"#DIV/0!"}},{"$f":"AH!N137","v":{"$error":"#DIV/0!"}},{"$f":"(N138*60%)+(O138*40%)","v":{"$error":"#DIV/0!"}},{"$f":"FQ!K137","v":{"$error":"#DIV/0!"}},{"$f":"FQ!N137","v":{"$error":"#DIV/0!"}},{"$f":"(Q138*60%)+(R138*40%)","v":{"$error":"#DIV/0!"}},{"$f":"SKI!K137","v":{"$error":"#DIV/0!"}},{"$f":"SKI!N137","v":{"$error":"#DIV/0!"}},{"$error":"#DIV/0!"},{"$f":"PKn!K137","v":{"$error":"#DIV/0!"}},{"$f":"PKn!N137","v":0},{"$error":"#DIV/0!"},{"$f":"BID!K137","v":{"$error":"#DIV/0!"}},{"$f":"BID!N137","v":{"$error":"#DIV/0!"}},{"$error":"#DIV/0!"},{"$f":"BA!K137","v":{"$error":"#DIV/0!"}},{"$f":"BA!N137","v":{"$error":"#DIV/0!"}},{"$error":"#DIV/0!"},{"$f":"MTK!K137","v":{"$error":"#DIV/0!"}},{"$f":"MTK!L137","v":0},{"$error":"#DIV/0!"},{"$f":"IPA!K137","v":{"$error":"#DIV/0!"}},{"$f":"IPA!N137","v":{"$error":"#DIV/0!"}},{"$error":"#DIV/0!"},{"$f":"IPS!K137","v":{"$error":"#DIV/0!"}},{"$f":"IPS!L137","v":0},{"$error":"#DIV/0!"},{"$f":"SBK!K137","v":{"$error":"#DIV/0!"}},{"$f":"SBK!N137","v":{"$error":"#DIV/0!"}},{"$error":"#DIV/0!"},{"$f":"PJK!K137","v":{"$error":"#DIV/0!"}},{"$f":"PJK!N137","v":{"$error":"#DIV/0!"}},{"$error":"#DIV/0!"},{"$f":"BD!K137","v":{"$error":"#DIV/0!"}},{"$f":"BD!N137","v":{"$error":"#DIV/0!"}},{"$error":"#DIV/0!"},{"$f":"BIG!K137","v":{"$error":"#DIV/0!"}},{"$f":"BIG!N137","v":{"$error":"#DIV/0!"}},{"$error":"#DIV/0!"},{"$f":"AVERAGE(M138,P138,S138,V138,Y138,AB138,AE138,AH138,AK138,AN138,AQ138,AT138,AW138,AZ138)","v":{"$error":"#DIV/0!"}},{"$error":"#DIV/0!"},null,{"$error":"#DIV/0!"},{"$error":"#DIV/0!"},null,{"$error":"#DIV/0!"},{"$error":"#DIV/0!"},{"$f":"IPA!L137","v":0},{"$error":"#DIV/0!"},{"$f":"AVERAGE(BC138,BF138,BI138)","v":0},{"$error":"#DIV/0!"},{"$f":"SUM(BC138,BF138,BI138)","v":0},{"$f":"Z138","v":{"$error":"#DIV/0!"}},{"$f":"AA138","v":{"$error":"#DIV/0!"}},{"$f":"AB138","v":{"$error":"#DIV/0!"}},{"$f":"AF138","v":{"$error":"#DIV/0!"}},{"$f":"AG138","v":0},{"$f":"AH138","v":{"$error":"#DIV/0!"}},{"$f":"AI138","v":{"$error":"#DIV/0!"}},{"$f":"AJ138","v":{"$error":"#DIV/0!"}},{"$f":"AK138","v":{"$error":"#DIV/0!"}},null,null,{"$f":"BB138","v":{"$error":"#DIV/0!"}},{"$f":"BC138","v":0},{"$f":"BD138","v":{"$error":"#DIV/0!"}},{"$f":"BE138","v":{"$error":"#DIV/0!"}},{"$f":"BF138","v":0},{"$f":"BG138","v":{"$error":"#DIV/0!"}},{"$f":"BH138","v":{"$error":"#DIV/0!"}},{"$f":"BI138","v":0},{"$f":"BJ138","v":{"$error":"#DIV/0!"}}]
[{"$f":"SISWA!A138","v":131},{"$f":"IF(SISWA!B138=0,\"\",SISWA!B138)","v":""},{"$f":"IF(SISWA!C138=0,\"\",SISWA!C138)","v":""},{"$f":"IF(SISWA!D138=0,\"\",SISWA!D138)","v":"131-"},{"$f":"IF(SISWA!E138=0,\"\",SISWA!E138)","v":""},{"$f":"IF(SISWA!P137=0,\"\",SISWA!P137)","v":", 00 Januari 1900"},{"$f":"IF(SISWA!H138=0,\"\",SISWA!H138)","v":""},{"$f":"#REF!","v":{"$error":"#REF!"}},{"$f":"#REF!","v":{"$error":"#REF!"}},{"$error":"#REF!"},null,null,null,null,null,null,null,null,null,{"$f":"SKI!K138","v":{"$error":"#DIV/0!"}},{"$f":"SKI!N138","v":{"$error":"#DIV/0!"}},{"$error":"#DIV/0!"},{"$f":"PKn!K138","v":{"$error":"#DIV/0!"}},{"$f":"PKn!N138","v":0},{"$error":"#DIV/0!"},{"$f":"BID!K138","v":{"$error":"#DIV/0!"}},{"$f":"BID!N138","v":{"$error":"#DIV/0!"}},{"$error":"#DIV/0!"},{"$f":"BA!K138","v":{"$error":"#DIV/0!"}},{"$f":"BA!N138","v":{"$error":"#DIV/0!"}},{"$error":"#DIV/0!"},{"$f":"MTK!K138","v":{"$error":"#DIV/0!"}},{"$f":"MTK!L138","v":0},{"$error":"#DIV/0!"},{"$f":"IPA!K138","v":{"$error":"#DIV/0!"}},{"$f":"IPA!N138","v":{"$error":"#DIV/0!"}},{"$error":"#DIV/0!"},{"$f":"IPS!K138","v":{"$error":"#DIV/0!"}},{"$f":"IPS!L138","v":0},{"$error":"#DIV/0!"},{"$f":"SBK!K138","v":{"$error":"#DIV/0!"}},{"$f":"SBK!N138","v":{"$error":"#DIV/0!"}},{"$error":"#DIV/0!"},{"$f":"PJK!K138","v":{"$error":"#DIV/0!"}},{"$f":"PJK!N138","v":{"$error":"#DIV/0!"}},{"$error":"#DIV/0!"},{"$f":"BD!K138","v":{"$error":"#DIV/0!"}},{"$f":"BD!N138","v":{"$error":"#DIV/0!"}},{"$error":"#DIV/0!"},{"$f":"BIG!K138","v":{"$error":"#DIV/0!"}},{"$f":"BIG!N138","v":{"$error":"#DIV/0!"}},{"$error":"#DIV/0!"},{"$error":"#DIV/0!"},{"$error":"#DIV/0!"},null,{"$error":"#DIV/0!"},{"$error":"#DIV/0!"},null,{"$error":"#DIV/0!"},{"$error":"#DIV/0!"},{"$f":"IPA!L138","v":0},{"$error":"#DIV/0!"},0,{"$error":"#DIV/0!"},0,{"$error":"#DIV/0!"},{"$error":"#DIV/0!"},{"$error":"#DIV/0!"},{"$error":"#DIV/0!"},0,{"$error":"#DIV/0!"},{"$error":"#DIV/0!"},{"$error":"#DIV/0!"},{"$error":"#DIV/0!"},null,null,{"$error":"#DIV/0!"},0,{"$error":"#DIV/0!"},{"$error":"#DIV/0!"},0,{"$error":"#DIV/0!"},{"$error":"#DIV/0!"},0,{"$error":"#DIV/0!"}]
[{"$f":"SISWA!A139","v":132},{"$f":"IF(SISWA!B139=0,\"\",SISWA!B139)","v":""},{"$f":"IF(SISWA!C139=0,\"\",SISWA!C139)","v":""},{"$f":"IF(SISWA!D139=0,\"\",SISWA!D139)","v":"132-"},{"$f":"IF(SISWA!E139=0,\"\",SISWA!E139)","v":""},{"$f":"IF(SISWA!P138=0,\"\",SISWA!P138)","v":", 00 Januari 1900"},{"$f":"IF(SISWA!H139=0,\"\",SISWA!H139)","v":""},{"$f":"#REF!","v":{"$error":"#REF!"}},{"$f":"#REF!","v":{"$error":"#REF!"}},{"$error":"#REF!"},null,null,null,null,null,null,null,null,null,{"$f":"SKI!K139","v":{"$error":"#DIV/0!"}},{"$f":"SKI!N139","v":{"$error":"#DIV/0!"}},{"$error":"#DIV/0!"},{"$f":"PKn!K139","v":{"$error":"#DIV/0!"}},{"$f":"PKn!N139","v":0},{"$error":"#DIV/0!"},{"$f":"BID!K139","v":{"$error":"#DIV/0!"}},{"$f":"BID!N139","v":{"$error":"#DIV/0!"}},{"$error":"#DIV/0!"},{"$f":"BA!K139","v":{"$error":"#DIV/0!"}},{"$f":"BA!N139","v":{"$error":"#DIV/0!"}},{"$error":"#DIV/0!"},{"$f":"MTK!K139","v":{"$error":"#DIV/0!"}},{"$f":"MTK!L139","v":0},{"$error":"#DIV/0!"},{"$f":"IPA!K139","v":{"$error":"#DIV/0!"}},{"$f":"IPA!N139","v":{"$error":"#DIV/0!"}},{"$error":"#DIV/0!"},{"$f":"IPS!K139","v":{"$error":"#DIV/0!"}},{"$f":"IPS!L139","v":0},{"$error":"#DIV/0!"},{"$f":"SBK!K139","v":{"$error":"#DIV/0!"}},{"$f":"SBK!N139","v":{"$error":"#DIV/0!"}},{"$error":"#DIV/0!"},{"$f":"PJK!K139","v":{"$error":"#DIV/0!"}},{"$f":"PJK!N139","v":{"$error":"#DIV/0!"}},{"$error":"#DIV/0!"},{"$f":"BD!K139","v":{"$error":"#DIV/0!"}},{"$f":"BD!N139","v":{"$error":"#DIV/0!"}},{"$error":"#DIV/0!"},{"$f":"BIG!K139","v":{"$error":"#DIV/0!"}},{"$f":"BIG!N139","v":{"$error":"#DIV/0!"}},{"$error":"#DIV/0!"},{"$error":"#DIV/0!"},{"$error":"#DIV/0!"},null,{"$error":"#DIV/0!"},{"$error":"#DIV/0!"},null,{"$error":"#DIV/0!"},{"$error":"#DIV/0!"},{"$f":"IPA!L139","v":0},{"$error":"#DIV/0!"},0,{"$error":"#DIV/0!"},0,{"$error":"#DIV/0!"},{"$error":"#DIV/0!"},{"$error":"#DIV/0!"},{"$error":"#DIV/0!"},0,{"$error":"#DIV/0!"},{"$error":"#DIV/0!"},{"$error":"#DIV/0!"},{"$error":"#DIV/0!"},null,null,{"$error":"#DIV/0!"},0,{"$error":"#DIV/0!"},{"$error":"#DIV/0!"},0,{"$error":"#DIV/0!"},{"$error":"#DIV/0!"},0,{"$error":"#DIV/0!"}]
[{"$f":"SISWA!A140","v":133},{"$f":"IF(SISWA!B140=0,\"\",SISWA!B140)","v":""},{"$f":"IF(SISWA!C140=0,\"\",SISWA!C140)","v":""},{"$f":"IF(SISWA!D140=0,\"\",SISWA!D140)","v":"133-"},{"$f":"IF(SISWA!E140=0,\"\",SISWA!E140)","v":""},{"$f":"IF(SISWA!P139=0,\"\",SISWA!P139)","v":", 00 Januari 1900"},{"$f":"IF(SISWA!H140=0,\"\",SISWA!H140)","v":""},{"$f":"#REF!","v":{"$error":"#REF!"}},{"$f":"#REF!","v":{"$error":"#REF!"}},{"$error":"#REF!"},null,null,null,null,null,null,null,null,null,{"$f":"SKI!K140","v":{"$error":"#DIV/0!"}},{"$f":"SKI!N140","v":{"$error":"#DIV/0!"}},{"$error":"#DIV/0!"},{"$f":"PKn!K140","v":{"$error":"#DIV/0!"}},{"$f":"PKn!N140","v":0},{"$error":"#DIV/0!"},{"$f":"BID!K140","v":{"$error":"#DIV/0!"}},{"$f":"BID!N140","v":{"$error":"#DIV/0!"}},{"$error":"#DIV/0!"},{"$f":"BA!K140","v":{"$error":"#DIV/0!"}},{"$f":"BA!N140","v":{"$error":"#DIV/0!"}},{"$error":"#DIV/0!"},{"$f":"MTK!K140","v":{"$error":"#DIV/0!"}},{"$f":"MTK!L140","v":0},{"$error":"#DIV/0!"},{"$f":"IPA!K140","v":{"$error":"#DIV/0!"}},{"$f":"IPA!N140","v":{"$error":"#DIV/0!"}},{"$error":"#DIV/0!"},{"$f":"IPS!K140","v":{"$error":"#DIV/0!"}},{"$f":"IPS!L140","v":0},{"$error":"#DIV/0!"},{"$f":"SBK!K140","v":{"$error":"#DIV/0!"}},{"$f":"SBK!N140","v":{"$error":"#DIV/0!"}},{"$error":"#DIV/0!"},{"$f":"PJK!K140","v":{"$error":"#DIV/0!"}},{"$f":"PJK!N140","v":{"$error":"#DIV/0!"}},{"$error":"#DIV/0!"},{"$f":"BD!K140","v":{"$error":"#DIV/0!"}},{"$f":"BD!N140","v":{"$error":"#DIV/0!"}},{"$error":"#DIV/0!"},{"$f":"BIG!K140","v":{"$error":"#DIV/0!"}},{"$f":"BIG!N140","v":{"$error":"#DIV/0!"}},{"$error":"#DIV/0!"},{"$error":"#DIV/0!"},{"$error":"#DIV/0!"},null,{"$error":"#DIV/0!"},{"$error":"#DIV/0!"},null,{"$error":"#DIV/0!"},{"$error":"#DIV/0!"},{"$f":"IPA!L140","v":0},{"$error":"#DIV/0!"},0,{"$error":"#DIV/0!"},0,{"$error":"#DIV/0!"},{"$error":"#DIV/0!"},{"$error":"#DIV/0!"},{"$error":"#DIV/0!"},0,{"$error":"#DIV/0!"},{"$error":"#DIV/0!"},{"$error":"#DIV/0!"},{"$error":"#DIV/0!"},null,null,{"$error":"#DIV/0!"},0,{"$error":"#DIV/0!"},{"$error":"#DIV/0!"},0,{"$error":"#DIV/0!"},{"$error":"#DIV/0!"},0,{"$error":"#DIV/0!"}]
[{"$f":"SISWA!A141","v":134},{"$f":"IF(SISWA!B141=0,\"\",SISWA!B141)","v":""},{"$f":"IF(SISWA!C141=0,\"\",SISWA!C141)","v":""},{"$f":"IF(SISWA!D141=0,\"\",SISWA!D141)","v":"134-"},{"$f":"IF(SISWA!E141=0,\"\",SISWA!E141)","v":""},{"$f":"IF(SISWA!P140=0,\"\",SISWA!P140)","v":", 00 Januari 1900"},{"$f":"IF(SISWA!H141=0,\"\",SISWA!H141)","v":""},{"$f":"#REF!","v":{"$error":"#REF!"}},{"$f":"#REF!","v":{"$error":"#REF!"}},{"$error":"#REF!"},null,null,null,null,null,null,null,null,null,{"$f":"SKI!K141","v":{"$error":"#DIV/0!"}},{"$f":"SKI!N141","v":{"$error":"#DIV/0!"}},{"$error":"#DIV/0!"},{"$f":"PKn!K141","v":{"$error":"#DIV/0!"}},{"$f":"PKn!N141","v":0},{"$error":"#DIV/0!"},{"$f":"BID!K141","v":{"$error":"#DIV/0!"}},{"$f":"BID!N141","v":{"$error":"#DIV/0!"}},{"$error":"#DIV/0!"},{"$f":"BA!K141","v":{"$error":"#DIV/0!"}},{"$f":"BA!N141","v":{"$error":"#DIV/0!"}},{"$error":"#DIV/0!"},{"$f":"MTK!K141","v":{"$error":"#DIV/0!"}},{"$f":"MTK!L141","v":0},{"$error":"#DIV/0!"},{"$f":"IPA!K141","v":{"$error":"#DIV/0!"}},{"$f":"IPA!N141","v":{"$error":"#DIV/0!"}},{"$error":"#DIV/0!"},{"$f":"IPS!K141","v":{"$error":"#DIV/0!"}},{"$f":"IPS!L141","v":0},{"$error":"#DIV/0!"},{"$f":"SBK!K141","v":{"$error":"#DIV/0!"}},{"$f":"SBK!N141","v":{"$error":"#DIV/0!"}},{"$error":"#DIV/0!"},{"$f":"PJK!K141","v":{"$error":"#DIV/0!"}},{"$f":"PJK!N141","v":{"$error":"#DIV/0!"}},{"$error":"#DIV/0!"},{"$f":"BD!K141","v":{"$error":"#DIV/0!"}},{"$f":"BD!N141","v":{"$error":"#DIV/0!"}},{"$error":"#DIV/0!"},{"$f":"BIG!K141","v":{"$error":"#DIV/0!"}},{"$f":"BIG!N141","v":{"$error":"#DIV/0!"}},{"$error":"#DIV/0!"},{"$error":"#DIV/0!"},{"$error":"#DIV/0!"},null,{"$error":"#DIV/0!"},{"$error":"#DIV/0!"},null,{"$error":"#DIV/0!"},{"$error":"#DIV/0!"},{"$f":"IPA!L141","v":0},{"$error":"#DIV/0!"},0,{"$error":"#DIV/0!"},0,{"$error":"#DIV/0!"},{"$error":"#DIV/0!"},{"$error":"#DIV/0!"},{"$error":"#DIV/0!"},0,{"$error":"#DIV/0!"},{"$error":"#DIV/0!"},{"$error":"#DIV/0!"},{"$error":"#DIV/0!"},null,null,{"$error":"#DIV/0!"},0,{"$error":"#DIV/0!"},{"$error":"#DIV/0!"},0,{"$error":"#DIV/0!"},{"$error":"#DIV/0!"},0,{"$error":"#DIV/0!"}]
[{"$f":"SISWA!A142","v":135},{"$f":"IF(SISWA!B142=0,\"\",SISWA!B142)","v":""},{"$f":"IF(SISWA!C142=0,\"\",SISWA!C142)","v":""},{"$f":"IF(SISWA!D142=0,\"\",SISWA!D142)","v":"135-"},{"$f":"IF(SISWA!E142=0,\"\",SISWA!E142)","v":""},{"$f":"IF(SISWA!P141=0,\"\",SISWA!P141)","v":", 00 Januari 1900"},{"$f":"IF(SISWA!H142=0,\"\",SISWA!H142)","v":""},{"$f":"#REF!","v":{"$error":"#REF!"}},{"$f":"#REF!","v":{"$error":"#REF!"}},{"$error":"#REF!"},null,null,null,null,null,null,null,null,null,{"$f":"SKI!K142","v":{"$error":"#DIV/0!"}},{"$f":"SKI!N142","v":{"$error":"#DIV/0!"}},{"$error":"#DIV/0!"},{"$f":"PKn!K142","v":{"$error":"#DIV/0!"}},{"$f":"PKn!N142","v":0},{"$error":"#DIV/0!"},{"$f":"BID!K142","v":{"$error":"#DIV/0!"}},{"$f":"BID!N142","v":{"$error":"#DIV/0!"}},{"$error":"#DIV/0!"},{"$f":"BA!K142","v":{"$error":"#DIV/0!"}},{"$f":"BA!N142","v":{"$error":"#DIV/0!"}},{"$error":"#DIV/0!"},{"$f":"MTK!K142","v":{"$error":"#DIV/0!"}},{"$f":"MTK!L142","v":0},{"$error":"#DIV/0!"},{"$f":"IPA!K142","v":{"$error":"#DIV/0!"}},{"$f":"IPA!N142","v":{"$error":"#DIV/0!"}},{"$error":"#DIV/0!"},{"$f":"IPS!K142","v":{"$error":"#DIV/0!"}},{"$f":"IPS!L142","v":0},{"$error":"#DIV/0!"},{"$f":"SBK!K142","v":{"$error":"#DIV/0!"}},{"$f":"SBK!N142","v":{"$error":"#DIV/0!"}},{"$error":"#DIV/0!"},{"$f":"PJK!K142","v":{"$error":"#DIV/0!"}},{"$f":"PJK!N142","v":{"$error":"#DIV/0!"}},{"$error":"#DIV/0!"},{"$f":"BD!K142","v":{"$error":"#DIV/0!"}},{"$f":"BD!N142","v":{"$error":"#DIV/0!"}},{"$error":"#DIV/0!"},{"$f":"BIG!K142","v":{"$error":"#DIV/0!"}},{"$f":"BIG!N142","v":{"$error":"#DIV/0!"}},{"$error":"#DIV/0!"},{"$error":"#DIV/0!"},{"$error":"#DIV/0!"},null,{"$error":"#DIV/0!"},{"$error":"#DIV/0!"},null,{"$error":"#DIV/0!"},{"$error":"#DIV/0!"},{"$f":"IPA!L142","v":0},{"$error":"#DIV/0!"},0,{"$error":"#DIV/0!"},0,{"$error":"#DIV/0!"},{"$error":"#DIV/0!"},{"$error":"#DIV/0!"},{"$error":"#DIV/0!"},0,{"$error":"#DIV/0!"},{"$error":"#DIV/0!"},{"$error":"#DIV/0!"},{"$error":"#DIV/0!"},null,null,{"$error":"#DIV/0!"},0,{"$error":"#DIV/0!"},{"$error":"#DIV/0!"},0,{"$error":"#DIV/0!"},{"$error":"#DIV/0!"},0,{"$error":"#DIV/0!"}]
[{"$f":"SISWA!A143","v":136},{"$f":"IF(SISWA!B143=0,\"\",SISWA!B143)","v":""},{"$f":"IF(SISWA!C143=0,\"\",SISWA!C143)","v":""},{"$f":"IF(SISWA!D143=0,\"\",SISWA!D143)","v":"136-"},{"$f":"IF(SISWA!E143=0,\"\",SISWA!E143)","v":""},{"$f":"IF(SISWA!P142=0,\"\",SISWA!P142)","v":", 00 Januari 1900"},{"$f":"IF(SISWA!H143=0,\"\",SISWA!H143)","v":""},{"$f":"#REF!","v":{"$error":"#REF!"}},{"$f":"#REF!","v":{"$error":"#REF!"}},{"$error":"#REF!"},null,null,null,null,null,null,null,null,null,{"$f":"SKI!K143","v":{"$error":"#DIV/0!"}},{"$f":"SKI!N143","v":{"$error":"#DIV/0!"}},{"$error":"#DIV/0!"},{"$f":"PKn!K143","v":{"$error":"#DIV/0!"}},{"$f":"PKn!N143","v":0},{"$error":"#DIV/0!"},{"$f":"BID!K143","v":{"$error":"#DIV/0!"}},{"$f":"BID!N143","v":{"$error":"#DIV/0!"}},{"$error":"#DIV/0!"},{"$f":"BA!K143","v":{"$error":"#DIV/0!"}},{"$f":"BA!N143","v":{"$error":"#DIV/0!"}},{"$error":"#DIV/0!"},{"$f":"MTK!K143","v":{"$error":"#DIV/0!"}},{"$f":"MTK!L143","v":0},{"$error":"#DIV/0!"},{"$f":"IPA!K143","v":{"$error":"#DIV/0!"}},{"$f":"IPA!N143","v":{"$error":"#DIV/0!"}},{"$error":"#DIV/0!"},{"$f":"IPS!K143","v":{"$error":"#DIV/0!"}},{"$f":"IPS!L143","v":0},{"$error":"#DIV/0!"},{"$f":"SBK!K143","v":{"$error":"#DIV/0!"}},{"$f":"SBK!N143","v":{"$error":"#DIV/0!"}},{"$error":"#DIV/0!"},{"$f":"PJK!K143","v":{"$error":"#DIV/0!"}},{"$f":"PJK!N143","v":{"$error":"#DIV/0!"}},{"$error":"#DIV/0!"},{"$f":"BD!K143","v":{"$error":"#DIV/0!"}},{"$f":"BD!N143","v":{"$error":"#DIV/0!"}},{"$error":"#DIV/0!"},{"$f":"BIG!K143","v":{"$error":"#DIV/0!"}},{"$f":"BIG!N143","v":{"$error":"#DIV/0!"}},{"$error":"#DIV/0!"},{"$error":"#DIV/0!"},{"$error":"#DIV/0!"},null,{"$error":"#DIV/0!"},{"$error":"#DIV/0!"},null,{"$error":"#DIV/0!"},{"$error":"#DIV/0!"},{"$f":"IPA!L143","v":0},{"$error":"#DIV/0!"},0,{"$error":"#DIV/0!"},0,{"$error":"#DIV/0!"},{"$error":"#DIV/0!"},{"$error":"#DIV/0!"},{"$error":"#DIV/0!"},0,{"$error":"#DIV/0!"},{"$error":"#DIV/0!"},{"$error":"#DIV/0!"},{"$error":"#DIV/0!"},null,null,{"$error":"#DIV/0!"},0,{"$error":"#DIV/0!"},{"$error":"#DIV/0!"},0,{"$error":"#DIV/0!"},{"$error":"#DIV/0!"},0,{"$error":"#DIV/0!"}]
[{"$f":"SISWA!A144","v":137},{"$f":"IF(SISWA!B144=0,\"\",SISWA!B144)","v":""},{"$f":"IF(SISWA!C144=0,\"\",SISWA!C144)","v":""},{"$f":"IF(SISWA!D144=0,\"\",SISWA!D144)","v":"137-"},{"$f":"IF(SISWA!E144=0,\"\",SISWA!E144)","v":""},{"$f":"IF(SISWA!P143=0,\"\",SISWA!P143)","v":", 00 Januari 1900"},{"$f":"IF(SISWA!H144=0,\"\",SISWA!H144)","v":""},{"$f":"#REF!","v":{"$error":"#REF!"}},{"$f":"#REF!","v":{"$error":"#REF!"}},{"$error":"#REF!"},null,null,null,null,null,null,null,null,null,{"$f":"SKI!K144","v":{"$error":"#DIV/0!"}},{"$f":"SKI!N144","v":{"$error":"#DIV/0!"}},{"$error":"#DIV/0!"},{"$f":"PKn!K144","v":{"$error":"#DIV/0!"}},{"$f":"PKn!N144","v":0},{"$error":"#DIV/0!"},{"$f":"BID!K144","v":{"$error":"#DIV/0!"}},{"$f":"BID!N144","v":{"$error":"#DIV/0!"}},{"$error":"#DIV/0!"},{"$f":"BA!K144","v":{"$error":"#DIV/0!"}},{"$f":"BA!N144","v":{"$error":"#DIV/0!"}},{"$error":"#DIV/0!"},{"$f":"MTK!K144","v":{"$error":"#DIV/0!"}},{"$f":"MTK!L144","v":0},{"$error":"#DIV/0!"},{"$f":"IPA!K144","v":{"$error":"#DIV/0!"}},{"$f":"IPA!N144","v":{"$error":"#DIV/0!"}},{"$error":"#DIV/0!"},{"$f":"IPS!K144","v":{"$error":"#DIV/0!"}},{"$f":"IPS!L144","v":0},{"$error":"#DIV/0!"},{"$f":"SBK!K144","v":{"$error":"#DIV/0!"}},{"$f":"SBK!N144","v":{"$error":"#DIV/0!"}},{"$error":"#DIV/0!"},{"$f":"PJK!K144","v":{"$error":"#DIV/0!"}},{"$f":"PJK!N144","v":{"$error":"#DIV/0!"}},{"$error":"#DIV/0!"},{"$f":"BD!K144","v":{"$error":"#DIV/0!"}},{"$f":"BD!N144","v":{"$error":"#DIV/0!"}},{"$error":"#DIV/0!"},{"$f":"BIG!K144","v":{"$error":"#DIV/0!"}},{"$f":"BIG!N144","v":{"$error":"#DIV/0!"}},{"$error":"#DIV/0!"},{"$error":"#DIV/0!"},{"$error":"#DIV/0!"},null,{"$error":"#DIV/0!"},{"$error":"#DIV/0!"},null,{"$error":"#DIV/0!"},{"$error":"#DIV/0!"},{"$f":"IPA!L144","v":0},{"$error":"#DIV/0!"},0,{"$error":"#DIV/0!"},0,{"$error":"#DIV/0!"},{"$error":"#DIV/0!"},{"$error":"#DIV/0!"},{"$error":"#DIV/0!"},0,{"$error":"#DIV/0!"},{"$error":"#DIV/0!"},{"$error":"#DIV/0!"},{"$error":"#DIV/0!"},null,null,{"$error":"#DIV/0!"},0,{"$error":"#DIV/0!"},{"$error":"#DIV/0!"},0,{"$error":"#DIV/0!"},{"$error":"#DIV/0!"},0,{"$error":"#DIV/0!"}]
[{"$f":"SISWA!A145","v":138},{"$f":"IF(SISWA!B145=0,\"\",SISWA!B145)","v":""},{"$f":"IF(SISWA!C145=0,\"\",SISWA!C145)","v":""},{"$f":"IF(SISWA!D145=0,\"\",SISWA!D145)","v":"138-"},{"$f":"IF(SISWA!E145=0,\"\",SISWA!E145)","v":""},{"$f":"IF(SISWA!P144=0,\"\",SISWA!P144)","v":", 00 Januari 1900"},{"$f":"IF(SISWA!H145=0,\"\",SISWA!H145)","v":""},{"$f":"#REF!","v":{"$error":"#REF!"}},{"$f":"#REF!","v":{"$error":"#REF!"}},{"$error":"#REF!"},null,null,null,null,null,null,null,null,null,{"$f":"SKI!K145","v":{"$error":"#DIV/0!"}},{"$f":"SKI!N145","v":{"$error":"#DIV/0!"}},{"$error":"#DIV/0!"},{"$f":"PKn!K145","v":{"$error":"#DIV/0!"}},{"$f":"PKn!N145","v":0},{"$error":"#DIV/0!"},{"$f":"BID!K145","v":{"$error":"#DIV/0!"}},{"$f":"BID!N145","v":{"$error":"#DIV/0!"}},{"$error":"#DIV/0!"},{"$f":"BA!K145","v":{"$error":"#DIV/0!"}},{"$f":"BA!N145","v":{"$error":"#DIV/0!"}},{"$error":"#DIV/0!"},{"$f":"MTK!K145","v":{"$error":"#DIV/0!"}},{"$f":"MTK!L145","v":0},{"$error":"#DIV/0!"},{"$f":"IPA!K145","v":{"$error":"#DIV/0!"}},{"$f":"IPA!N145","v":{"$error":"#DIV/0!"}},{"$error":"#DIV/0!"},{"$f":"IPS!K145","v":{"$error":"#DIV/0!"}},{"$f":"IPS!L145","v":0},{"$error":"#DIV/0!"},{"$f":"SBK!K145","v":{"$error":"#DIV/0!"}},{"$f":"SBK!N145","v":{"$error":"#DIV/0!"}},{"$error":"#DIV/0!"},{"$f":"PJK!K145","v":{"$error":"#DIV/0!"}},{"$f":"PJK!N145","v":{"$error":"#DIV/0!"}},{"$error":"#DIV/0!"},{"$f":"BD!K145","v":{"$error":"#DIV/0!"}},{"$f":"BD!N145","v":{"$error":"#DIV/0!"}},{"$error":"#DIV/0!"},{"$f":"BIG!K145","v":{"$error":"#DIV/0!"}},{"$f":"BIG!N145","v":{"$error":"#DIV/0!"}},{"$error":"#DIV/0!"},{"$error":"#DIV/0!"},{"$error":"#DIV/0!"},null,{"$error":"#DIV/0!"},{"$error":"#DIV/0!"},null,{"$error":"#DIV/0!"},{"$error":"#DIV/0!"},{"$f":"IPA!L145","v":0},{"$error":"#DIV/0!"},0,{"$error":"#DIV/0!"},0,{"$error":"#DIV/0!"},{"$error":"#DIV/0!"},{"$error":"#DIV/0!"},{"$error":"#DIV/0!"},0,{"$error":"#DIV/0!"},{"$error":"#DIV/0!"},{"$error":"#DIV/0!"},{"$error":"#DIV/0!"},null,null,{"$error":"#DIV/0!"},0,{"$error":"#DIV/0!"},{"$error":"#DIV/0!"},0,{"$error":"#DIV/0!"},{"$error":"#DIV/0!"},0,{"$error":"#DIV/0!"}]
[{"$f":"SISWA!A146","v":139},{"$f":"IF(SISWA!B146=0,\"\",SISWA!B146)","v":""},{"$f":"IF(SISWA!C146=0,\"\",SISWA!C146)","v":""},{"$f":"IF(SISWA!D146=0,\"\",SISWA!D146)","v":"139-"},{"$f":"IF(SISWA!E146=0,\"\",SISWA!E146)","v":""},{"$f":"IF(SISWA!P145=0,\"\",SISWA!P145)","v":", 00 Januari 1900"},{"$f":"IF(SISWA!H146=0,\"\",SISWA!H146)","v":""},{"$f":"#REF!","v":{"$error":"#REF!"}},{"$f":"#REF!","v":{"$error":"#REF!"}},{"$error":"#REF!"},null,null,null,null,null,null,null,null,null,{"$f":"SKI!K146","v":{"$error":"#DIV/0!"}},{"$f":"SKI!N146","v":{"$error":"#DIV/0!"}},{"$error":"#DIV/0!"},{"$f":"PKn!K146","v":{"$error":"#DIV/0!"}},{"$f":"PKn!N146","v":0},{"$error":"#DIV/0!"},{"$f":"BID!K146","v":{"$error":"#DIV/0!"}},{"$f":"BID!N146","v":{"$error":"#DIV/0!"}},{"$error":"#DIV/0!"},{"$f":"BA!K146","v":{"$error":"#DIV/0!"}},{"$f":"BA!N146","v":{"$error":"#DIV/0!"}},{"$error":"#DIV/0!"},{"$f":"MTK!K146","v":{"$error":"#DIV/0!"}},{"$f":"MTK!L146","v":0},{"$error":"#DIV/0!"},{"$f":"IPA!K146","v":{"$error":"#DIV/0!"}},{"$f":"IPA!N146","v":{"$error":"#DIV/0!"}},{"$error":"#DIV/0!"},{"$f":"IPS!K146","v":{"$error":"#DIV/0!"}},{"$f":"IPS!L146","v":0},{"$error":"#DIV/0!"},{"$f":"SBK!K146","v":{"$error":"#DIV/0!"}},{"$f":"SBK!N146","v":{"$error":"#DIV/0!"}},{"$error":"#DIV/0!"},{"$f":"PJK!K146","v":{"$error":"#DIV/0!"}},{"$f":"PJK!N146","v":{"$error":"#DIV/0!"}},{"$error":"#DIV/0!"},{"$f":"BD!K146","v":{"$error":"#DIV/0!"}},{"$f":"BD!N146","v":{"$error":"#DIV/0!"}},{"$error":"#DIV/0!"},{"$f":"BIG!K146","v":{"$error":"#DIV/0!"}},{"$f":"BIG!N146","v":{"$error":"#DIV/0!"}},{"$error":"#DIV/0!"},{"$error":"#DIV/0!"},{"$error":"#DIV/0!"},null,{"$error":"#DIV/0!"},{"$error":"#DIV/0!"},null,{"$error":"#DIV/0!"},{"$error":"#DIV/0!"},{"$f":"IPA!L146","v":0},{"$error":"#DIV/0!"},0,{"$error":"#DIV/0!"},0,{"$error":"#DIV/0!"},{"$error":"#DIV/0!"},{"$error":"#DIV/0!"},{"$error":"#DIV/0!"},0,{"$error":"#DIV/0!"},{"$error":"#DIV/0!"},{"$error":"#DIV/0!"},{"$error":"#DIV/0!"},null,null,{"$error":"#DIV/0!"},0,{"$error":"#DIV/0!"},{"$error":"#DIV/0!"},0,{"$error":"#DIV/0!"},{"$error":"#DIV/0!"},0,{"$error":"#DIV/0!"}]
[{"$f":"SISWA!A147","v":140},{"$f":"IF(SISWA!B147=0,\"\",SISWA!B147)","v":""},{"$f":"IF(SISWA!C147=0,\"\",SISWA!C147)","v":""},{"$f":"IF(SISWA!D147=0,\"\",SISWA!D147)","v":"140-"},{"$f":"IF(SISWA!E147=0,\"\",SISWA!E147)","v":""},{"$f":"IF(SISWA!P146=0,\"\",SISWA!P146)","v":", 00 Januari 1900"},{"$f":"IF(SISWA!H147=0,\"\",SISWA!H147)","v":""},{"$f":"#REF!","v":{"$error":"#REF!"}},{"$f":"#REF!","v":{"$error":"#REF!"}},{"$error":"#REF!"},null,null,null,null,null,null,null,null,null,{"$f":"SKI!K147","v":{"$error":"#DIV/0!"}},{"$f":"SKI!N147","v":{"$error":"#DIV/0!"}},{"$error":"#DIV/0!"},{"$f":"PKn!K147","v":{"$error":"#DIV/0!"}},{"$f":"PKn!N147","v":0},{"$error":"#DIV/0!"},{"$f":"BID!K147","v":{"$error":"#DIV/0!"}},{"$f":"BID!N147","v":{"$error":"#DIV/0!"}},{"$error":"#DIV/0!"},{"$f":"BA!K147","v":{"$error":"#DIV/0!"}},{"$f":"BA!N147","v":{"$error":"#DIV/0!"}},{"$error":"#DIV/0!"},{"$f":"MTK!K147","v":{"$error":"#DIV/0!"}},{"$f":"MTK!L147","v":0},{"$error":"#DIV/0!"},{"$f":"IPA!K147","v":{"$error":"#DIV/0!"}},{"$f":"IPA!N147","v":{"$error":"#DIV/0!"}},{"$error":"#DIV/0!"},{"$f":"IPS!K147","v":{"$error":"#DIV/0!"}},{"$f":"IPS!L147","v":0},{"$error":"#DIV/0!"},{"$f":"SBK!K147","v":{"$error":"#DIV/0!"}},{"$f":"SBK!N147","v":{"$error":"#DIV/0!"}},{"$error":"#DIV/0!"},{"$f":"PJK!K147","v":{"$error":"#DIV/0!"}},{"$f":"PJK!N147","v":{"$error":"#DIV/0!"}},{"$error":"#DIV/0!"},{"$f":"BD!K147","v":{"$error":"#DIV/0!"}},{"$f":"BD!N147","v":{"$error":"#DIV/0!"}},{"$error":"#DIV/0!"},{"$f":"BIG!K147","v":{"$error":"#DIV/0!"}},{"$f":"BIG!N147","v":{"$error":"#DIV/0!"}},{"$error":"#DIV/0!"},{"$error":"#DIV/0!"},{"$error":"#DIV/0!"},null,{"$error":"#DIV/0!"},{"$error":"#DIV/0!"},null,{"$error":"#DIV/0!"},{"$error":"#DIV/0!"},{"$f":"IPA!L147","v":0},{"$error":"#DIV/0!"},0,{"$error":"#DIV/0!"},0,{"$error":"#DIV/0!"},{"$error":"#DIV/0!"},{"$error":"#DIV/0!"},{"$error":"#DIV/0!"},0,{"$error":"#DIV/0!"},{"$error":"#DIV/0!"},{"$error":"#DIV/0!"},{"$error":"#DIV/0!"},null,null,{"$error":"#DIV/0!"},0,{"$error":"#DIV/0!"},{"$error":"#DIV/0!"},0,{"$error":"#DIV/0!"},{"$error":"#DIV/0!"},0,{"$error":"#DIV/0!"}]
[{"$f":"SISWA!A148","v":141},{"$f":"IF(SISWA!B148=0,\"\",SISWA!B148)","v":""},{"$f":"IF(SISWA!C148=0,\"\",SISWA!C148)","v":""},{"$f":"IF(SISWA!D148=0,\"\",SISWA!D148)","v":"141-"},{"$f":"IF(SISWA!E148=0,\"\",SISWA!E148)","v":""},{"$f":"IF(SISWA!P147=0,\"\",SISWA!P147)","v":", 00 Januari 1900"},{"$f":"IF(SISWA!H148=0,\"\",SISWA!H148)","v":""},{"$f":"#REF!","v":{"$error":"#REF!"}},{"$f":"#REF!","v":{"$error":"#REF!"}},{"$error":"#REF!"},null,null,null,null,null,null,null,null,null,null,null,null,{"$f":"PKn!K148","v":{"$error":"#DIV/0!"}},{"$f":"PKn!N148","v":0},{"$error":"#DIV/0!"},{"$f":"BID!K148","v":{"$error":"#DIV/0!"}},{"$f":"BID!N148","v":{"$error":"#DIV/0!"}},{"$error":"#DIV/0!"},null,null,null,{"$f":"MTK!K148","v":{"$error":"#DIV/0!"}},{"$f":"MTK!L148","v":0},{"$error":"#DIV/0!"},{"$f":"IPA!K148","v":{"$error":"#DIV/0!"}},{"$f":"IPA!N148","v":{"$error":"#DIV/0!"}},{"$error":"#DIV/0!"},{"$f":"IPS!K148","v":{"$error":"#DIV/0!"}},{"$f":"IPS!L148","v":0},{"$error":"#DIV/0!"},{"$f":"SBK!K148","v":{"$error":"#DIV/0!"}},{"$f":"SBK!N148","v":{"$error":"#DIV/0!"}},{"$error":"#DIV/0!"},{"$f":"PJK!K148","v":{"$error":"#DIV/0!"}},{"$f":"PJK!N148","v":{"$error":"#DIV/0!"}},{"$error":"#DIV/0!"},{"$f":"BD!K148","v":{"$error":"#DIV/0!"}},{"$f":"BD!N148","v":{"$error":"#DIV/0!"}},{"$error":"#DIV/0!"},{"$f":"BIG!K148","v":{"$error":"#DIV/0!"}},{"$f":"BIG!N148","v":{"$error":"#DIV/0!"}},{"$error":"#DIV/0!"},{"$error":"#DIV/0!"},{"$error":"#DIV/0!"},null,{"$error":"#DIV/0!"},{"$error":"#DIV/0!"},null,{"$error":"#DIV/0!"},{"$error":"#DIV/0!"},{"$f":"IPA!L148","v":0},{"$error":"#DIV/0!"},0,{"$error":"#DIV/0!"},0,{"$error":"#DIV/0!"},{"$error":"#DIV/0!"},{"$error":"#DIV/0!"},{"$error":"#DIV/0!"},0,{"$error":"#DIV/0!"},{"$error":"#DIV/0!"},{"$error":"#DIV/0!"},{"$error":"#DIV/0!"},null,null,{"$error":"#DIV/0!"},0,{"$error":"#DIV/0!"},{"$error":"#DIV/0!"},0,{"$error":"#DIV/0!"},{"$error":"#DIV/0!"},0,{"$error":"#DIV/0!"}]
[{"$f":"SISWA!A149","v":142},{"$f":"IF(SISWA!B149=0,\"\",SISWA!B149)","v":""},{"$f":"IF(SISWA!C149=0,\"\",SISWA!C149)","v":""},{"$f":"IF(SISWA!D149=0,\"\",SISWA!D149)","v":"142-"},{"$f":"IF(SISWA!E149=0,\"\",SISWA!E149)","v":""},{"$f":"IF(SISWA!P148=0,\"\",SISWA!P148)","v":", 00 Januari 1900"},{"$f":"IF(SISWA!H149=0,\"\",SISWA!H149)","v":""},{"$f":"#REF!","v":{"$error":"#REF!"}},{"$f":"#REF!","v":{"$error":"#REF!"}},{"$error":"#REF!"},null,null,null,null,null,null,null,null,null,null,null,null,{"$f":"PKn!K149","v":{"$error":"#DIV/0!"}},{"$f":"PKn!N149","v":0},{"$error":"#DIV/0!"},{"$f":"BID!K149","v":{"$error":"#DIV/0!"}},{"$f":"BID!N149","v":{"$error":"#DIV/0!"}},{"$error":"#DIV/0!"},null,null,null,{"$f":"MTK!K149","v":{"$error":"#DIV/0!"}},{"$f":"MTK!L149","v":0},{"$error":"#DIV/0!"},{"$f":"IPA!K149","v":{"$error":"#DIV/0!"}},{"$f":"IPA!N149","v":{"$error":"#DIV/0!"}},{"$error":"#DIV/0!"},{"$f":"IPS!K149","v":{"$error":"#DIV/0!"}},{"$f":"IPS!L149","v":0},{"$error":"#DIV/0!"},{"$f":"SBK!K149","v":{"$error":"#DIV/0!"}},{"$f":"SBK!N149","v":{"$error":"#DIV/0!"}},{"$error":"#DIV/0!"},{"$f":"PJK!K149","v":{"$error":"#DIV/0!"}},{"$f":"PJK!N149","v":{"$error":"#DIV/0!"}},{"$error":"#DIV/0!"},{"$f":"BD!K149","v":{"$error":"#DIV/0!"}},{"$f":"BD!N149","v":{"$error":"#DIV/0!"}},{"$error":"#DIV/0!"},{"$f":"BIG!K149","v":{"$error":"#DIV/0!"}},{"$f":"BIG!N149","v":{"$error":"#DIV/0!"}},{"$error":"#DIV/0!"},{"$error":"#DIV/0!"},{"$error":"#DIV/0!"},null,{"$error":"#DIV/0!"},{"$error":"#DIV/0!"},null,{"$error":"#DIV/0!"},{"$error":"#DIV/0!"},{"$f":"IPA!L149","v":0},{"$error":"#DIV/0!"},0,{"$error":"#DIV/0!"},0,{"$error":"#DIV/0!"},{"$error":"#DIV/0!"},{"$error":"#DIV/0!"},{"$error":"#DIV/0!"},0,{"$error":"#DIV/0!"},{"$error":"#DIV/0!"},{"$error":"#DIV/0!"},{"$error":"#DIV/0!"},null,null,{"$error":"#DIV/0!"},0,{"$error":"#DIV/0!"},{"$error":"#DIV/0!"},0,{"$error":"#DIV/0!"},{"$error":"#DIV/0!"},0,{"$error":"#DIV/0!"}]
[{"$f":"SISWA!A150","v":143},{"$f":"IF(SISWA!B150=0,\"\",SISWA!B150)","v":""},{"$f":"IF(SISWA!C150=0,\"\",SISWA!C150)","v":""},{"$f":"IF(SISWA!D150=0,\"\",SISWA!D150)","v":"143-"},{"$f":"IF(SISWA!E150=0,\"\",SISWA!E150)","v":""},{"$f":"IF(SISWA!P149=0,\"\",SISWA!P149)","v":", 00 Januari 1900"},{"$f":"IF(SISWA!H150=0,\"\",SISWA!H150)","v":""},{"$f":"#REF!","v":{"$error":"#REF!"}},{"$f":"#REF!","v":{"$error":"#REF!"}},{"$error":"#REF!"},null,null,null,null,null,null,null,null,null,null,null,null,{"$f":"PKn!K150","v":{"$error":"#DIV/0!"}},{"$f":"PKn!N150","v":0},{"$error":"#DIV/0!"},{"$f":"BID!K150","v":{"$error":"#DIV/0!"}},{"$f":"BID!N150","v":{"$error":"#DIV/0!"}},{"$error":"#DIV/0!"},null,null,null,{"$f":"MTK!K150","v":{"$error":"#DIV/0!"}},{"$f":"MTK!L150","v":0},{"$error":"#DIV/0!"},{"$f":"IPA!K150","v":{"$error":"#DIV/0!"}},{"$f":"IPA!N150","v":{"$error":"#DIV/0!"}},{"$error":"#DIV/0!"},{"$f":"IPS!K150","v":{"$error":"#DIV/0!"}},{"$f":"IPS!L150","v":0},{"$error":"#DIV/0!"},{"$f":"SBK!K150","v":{"$error":"#DIV/0!"}},{"$f":"SBK!N150","v":{"$error":"#DIV/0!"}},{"$error":"#DIV/0!"},{"$f":"PJK!K150","v":{"$error":"#DIV/0!"}},{"$f":"PJK!N150","v":{"$error":"#DIV/0!"}},{"$error":"#DIV/0!"},{"$f":"BD!K150","v":{"$error":"#DIV/0!"}},{"$f":"BD!N150","v":{"$error":"#DIV/0!"}},{"$error":"#DIV/0!"},{"$f":"BIG!K150","v":{"$error":"#DIV/0!"}},{"$f":"BIG!N150","v":{"$error":"#DIV/0!"}},{"$error":"#DIV/0!"},{"$error":"#DIV/0!"},{"$error":"#DIV/0!"},null,{"$error":"#DIV/0!"},{"$error":"#DIV/0!"},null,{"$error":"#DIV/0!"},{"$error":"#DIV/0!"},{"$f":"IPA!L150","v":0},{"$error":"#DIV/0!"},0,{"$error":"#DIV/0!"},0,{"$error":"#DIV/0!"},{"$error":"#DIV/0!"},{"$error":"#DIV/0!"},{"$error":"#DIV/0!"},0,{"$error":"#DIV/0!"},{"$error":"#DIV/0!"},{"$error":"#DIV/0!"},{"$error":"#DIV/0!"},null,null,{"$error":"#DIV/0!"},0,{"$error":"#DIV/0!"},{"$error":"#DIV/0!"},0,{"$error":"#DIV/0!"},{"$error":"#DIV/0!"},0,{"$error":"#DIV/0!"}]
[{"$f":"SISWA!A151","v":144},{"$f":"IF(SISWA!B151=0,\"\",SISWA!B151)","v":""},{"$f":"IF(SISWA!C151=0,\"\",SISWA!C151)","v":""},{"$f":"IF(SISWA!D151=0,\"\",SISWA!D151)","v":"144-"},{"$f":"IF(SISWA!E151=0,\"\",SISWA!E151)","v":""},{"$f":"IF(SISWA!P150=0,\"\",SISWA!P150)","v":", 00 Januari 1900"},{"$f":"IF(SISWA!H151=0,\"\",SISWA!H151)","v":""},{"$f":"#REF!","v":{"$error":"#REF!"}},{"$f":"#REF!","v":{"$error":"#REF!"}},{"$error":"#REF!"},null,null,null,null,null,null,null,null,null,null,null,null,{"$f":"PKn!K151","v":{"$error":"#DIV/0!"}},{"$f":"PKn!N151","v":0},{"$error":"#DIV/0!"},{"$f":"BID!K151","v":{"$error":"#DIV/0!"}},{"$f":"BID!N151","v":{"$error":"#DIV/0!"}},{"$error":"#DIV/0!"},null,null,null,{"$f":"MTK!K151","v":{"$error":"#DIV/0!"}},{"$f":"MTK!L151","v":0},{"$error":"#DIV/0!"},{"$f":"IPA!K151","v":{"$error":"#DIV/0!"}},{"$f":"IPA!N151","v":{"$error":"#DIV/0!"}},{"$error":"#DIV/0!"},{"$f":"IPS!K151","v":{"$error":"#DIV/0!"}},{"$f":"IPS!L151","v":0},{"$error":"#DIV/0!"},{"$f":"SBK!K151","v":{"$error":"#DIV/0!"}},{"$f":"SBK!N151","v":{"$error":"#DIV/0!"}},{"$error":"#DIV/0!"},{"$f":"PJK!K151","v":{"$error":"#DIV/0!"}},{"$f":"PJK!N151","v":{"$error":"#DIV/0!"}},{"$error":"#DIV/0!"},{"$f":"BD!K151","v":{"$error":"#DIV/0!"}},{"$f":"BD!N151","v":{"$error":"#DIV/0!"}},{"$error":"#DIV/0!"},{"$f":"BIG!K151","v":{"$error":"#DIV/0!"}},{"$f":"BIG!N151","v":{"$error":"#DIV/0!"}},{"$error":"#DIV/0!"},{"$error":"#DIV/0!"},{"$error":"#DIV/0!"},null,{"$error":"#DIV/0!"},{"$error":"#DIV/0!"},null,{"$error":"#DIV/0!"},{"$error":"#DIV/0!"},{"$f":"IPA!L151","v":0},{"$error":"#DIV/0!"},0,{"$error":"#DIV/0!"},0,{"$error":"#DIV/0!"},{"$error":"#DIV/0!"},{"$error":"#DIV/0!"},{"$error":"#DIV/0!"},0,{"$error":"#DIV/0!"},{"$error":"#DIV/0!"},{"$error":"#DIV/0!"},{"$error":"#DIV/0!"},null,null,{"$error":"#DIV/0!"},0,{"$error":"#DIV/0!"},{"$error":"#DIV/0!"},0,{"$error":"#DIV/0!"},{"$error":"#DIV/0!"},0,{"$error":"#DIV/0!"}]
[{"$f":"SISWA!A152","v":145},{"$f":"IF(SISWA!B152=0,\"\",SISWA!B152)","v":""},{"$f":"IF(SISWA!C152=0,\"\",SISWA!C152)","v":""},{"$f":"IF(SISWA!D152=0,\"\",SISWA!D152)","v":"145-"},{"$f":"IF(SISWA!E152=0,\"\",SISWA!E152)","v":""},{"$f":"IF(SISWA!P151=0,\"\",SISWA!P151)","v":", 00 Januari 1900"},{"$f":"IF(SISWA!H152=0,\"\",SISWA!H152)","v":""},{"$f":"#REF!","v":{"$error":"#REF!"}},{"$f":"#REF!","v":{"$error":"#REF!"}},{"$error":"#REF!"},null,null,null,null,null,null,null,null,null,null,null,null,{"$f":"PKn!K152","v":{"$error":"#DIV/0!"}},{"$f":"PKn!N152","v":0},{"$error":"#DIV/0!"},{"$f":"BID!K152","v":{"$error":"#DIV/0!"}},{"$f":"BID!N152","v":{"$error":"#DIV/0!"}},{"$error":"#DIV/0!"},null,null,null,{"$f":"MTK!K152","v":{"$error":"#DIV/0!"}},{"$f":"MTK!L152","v":0},{"$error":"#DIV/0!"},{"$f":"IPA!K152","v":{"$error":"#DIV/0!"}},{"$f":"IPA!N152","v":{"$error":"#DIV/0!"}},{"$error":"#DIV/0!"},{"$f":"IPS!K152","v":{"$error":"#DIV/0!"}},{"$f":"IPS!L152","v":0},{"$error":"#DIV/0!"},{"$f":"SBK!K152","v":{"$error":"#DIV/0!"}},{"$f":"SBK!N152","v":{"$error":"#DIV/0!"}},{"$error":"#DIV/0!"},{"$f":"PJK!K152","v":{"$error":"#DIV/0!"}},{"$f":"PJK!N152","v":{"$error":"#DIV/0!"}},{"$error":"#DIV/0!"},{"$f":"BD!K152","v":{"$error":"#DIV/0!"}},{"$f":"BD!N152","v":{"$error":"#DIV/0!"}},{"$error":"#DIV/0!"},{"$f":"BIG!K152","v":{"$error":"#DIV/0!"}},{"$f":"BIG!N152","v":{"$error":"#DIV/0!"}},{"$error":"#DIV/0!"},{"$error":"#DIV/0!"},{"$error":"#DIV/0!"},null,{"$error":"#DIV/0!"},{"$error":"#DIV/0!"},null,{"$error":"#DIV/0!"},{"$error":"#DIV/0!"},{"$f":"IPA!L152","v":0},{"$error":"#DIV/0!"},0,{"$error":"#DIV/0!"},0,{"$error":"#DIV/0!"},{"$error":"#DIV/0!"},{"$error":"#DIV/0!"},{"$error":"#DIV/0!"},0,{"$error":"#DIV/0!"},{"$error":"#DIV/0!"},{"$error":"#DIV/0!"},{"$error":"#DIV/0!"},null,null,{"$error":"#DIV/0!"},0,{"$error":"#DIV/0!"},{"$error":"#DIV/0!"},0,{"$error":"#DIV/0!"},{"$error":"#DIV/0!"},0,{"$error":"#DIV/0!"}]
[{"$f":"SISWA!A153","v":146},{"$f":"IF(SISWA!B153=0,\"\",SISWA!B153)","v":""},{"$f":"IF(SISWA!C153=0,\"\",SISWA!C153)","v":""},{"$f":"IF(SISWA!D153=0,\"\",SISWA!D153)","v":"146-"},{"$f":"IF(SISWA!E153=0,\"\",SISWA!E153)","v":""},{"$f":"IF(SISWA!P152=0,\"\",SISWA!P152)","v":", 00 Januari 1900"},{"$f":"IF(SISWA!H153=0,\"\",SISWA!H153)","v":""},{"$f":"#REF!","v":{"$error":"#REF!"}},{"$f":"#REF!","v":{"$error":"#REF!"}},{"$error":"#REF!"},null,null,null,null,null,null,null,null,null,null,null,null,{"$f":"PKn!K153","v":{"$error":"#DIV/0!"}},{"$f":"PKn!N153","v":0},{"$error":"#DIV/0!"},{"$f":"BID!K153","v":{"$error":"#DIV/0!"}},{"$f":"BID!N153","v":{"$error":"#DIV/0!"}},{"$error":"#DIV/0!"},null,null,null,{"$f":"MTK!K153","v":{"$error":"#DIV/0!"}},{"$f":"MTK!L153","v":0},{"$error":"#DIV/0!"},{"$f":"IPA!K153","v":{"$error":"#DIV/0!"}},{"$f":"IPA!N153","v":{"$error":"#DIV/0!"}},{"$error":"#DIV/0!"},{"$f":"IPS!K153","v":{"$error":"#DIV/0!"}},{"$f":"IPS!L153","v":0},{"$error":"#DIV/0!"},{"$f":"SBK!K153","v":{"$error":"#DIV/0!"}},{"$f":"SBK!N153","v":{"$error":"#DIV/0!"}},{"$error":"#DIV/0!"},{"$f":"PJK!K153","v":{"$error":"#DIV/0!"}},{"$f":"PJK!N153","v":{"$error":"#DIV/0!"}},{"$error":"#DIV/0!"},{"$f":"BD!K153","v":{"$error":"#DIV/0!"}},{"$f":"BD!N153","v":{"$error":"#DIV/0!"}},{"$error":"#DIV/0!"},{"$f":"BIG!K153","v":{"$error":"#DIV/0!"}},{"$f":"BIG!N153","v":{"$error":"#DIV/0!"}},{"$error":"#DIV/0!"},{"$error":"#DIV/0!"},{"$error":"#DIV/0!"},null,{"$error":"#DIV/0!"},{"$error":"#DIV/0!"},null,{"$error":"#DIV/0!"},{"$error":"#DIV/0!"},{"$f":"IPA!L153","v":0},{"$error":"#DIV/0!"},0,{"$error":"#DIV/0!"},0,{"$error":"#DIV/0!"},{"$error":"#DIV/0!"},{"$error":"#DIV/0!"},{"$error":"#DIV/0!"},0,{"$error":"#DIV/0!"},{"$error":"#DIV/0!"},{"$error":"#DIV/0!"},{"$error":"#DIV/0!"},null,null,{"$error":"#DIV/0!"},0,{"$error":"#DIV/0!"},{"$error":"#DIV/0!"},0,{"$error":"#DIV/0!"},{"$error":"#DIV/0!"},0,{"$error":"#DIV/0!"}]
[{"$f":"SISWA!A154","v":147},{"$f":"IF(SISWA!B154=0,\"\",SISWA!B154)","v":""},{"$f":"IF(SISWA!C154=0,\"\",SISWA!C154)","v":""},{"$f":"IF(SISWA!D154=0,\"\",SISWA!D154)","v":"147-"},{"$f":"IF(SISWA!E154=0,\"\",SISWA!E154)","v":""},{"$f":"IF(SISWA!P153=0,\"\",SISWA!P153)","v":", 00 Januari 1900"},{"$f":"IF(SISWA!H154=0,\"\",SISWA!H154)","v":""},{"$f":"#REF!","v":{"$error":"#REF!"}},{"$f":"#REF!","v":{"$error":"#REF!"}},{"$error":"#REF!"},null,null,null,null,null,null,null,null,null,null,null,null,{"$f":"PKn!K154","v":{"$error":"#DIV/0!"}},{"$f":"PKn!N154","v":0},{"$error":"#DIV/0!"},{"$f":"BID!K154","v":{"$error":"#DIV/0!"}},{"$f":"BID!N154","v":{"$error":"#DIV/0!"}},{"$error":"#DIV/0!"},null,null,null,{"$f":"MTK!K154","v":{"$error":"#DIV/0!"}},{"$f":"MTK!L154","v":0},{"$error":"#DIV/0!"},{"$f":"IPA!K154","v":{"$error":"#DIV/0!"}},{"$f":"IPA!N154","v":{"$error":"#DIV/0!"}},{"$error":"#DIV/0!"},{"$f":"IPS!K154","v":{"$error":"#DIV/0!"}},{"$f":"IPS!L154","v":0},{"$error":"#DIV/0!"},{"$f":"SBK!K154","v":{"$error":"#DIV/0!"}},{"$f":"SBK!N154","v":{"$error":"#DIV/0!"}},{"$error":"#DIV/0!"},{"$f":"PJK!K154","v":{"$error":"#DIV/0!"}},{"$f":"PJK!N154","v":{"$error":"#DIV/0!"}},{"$error":"#DIV/0!"},{"$f":"BD!K154","v":{"$error":"#DIV/0!"}},{"$f":"BD!N154","v":{"$error":"#DIV/0!"}},{"$error":"#DIV/0!"},{"$f":"BIG!K154","v":{"$error":"#DIV/0!"}},{"$f":"BIG!N154","v":{"$error":"#DIV/0!"}},{"$error":"#DIV/0!"},{"$error":"#DIV/0!"},{"$error":"#DIV/0!"},null,{"$error":"#DIV/0!"},{"$error":"#DIV/0!"},null,{"$error":"#DIV/0!"},{"$error":"#DIV/0!"},{"$f":"IPA!L154","v":0},{"$error":"#DIV/0!"},0,{"$error":"#DIV/0!"},0,{"$error":"#DIV/0!"},{"$error":"#DIV/0!"},{"$error":"#DIV/0!"},{"$error":"#DIV/0!"},0,{"$error":"#DIV/0!"},{"$error":"#DIV/0!"},{"$error":"#DIV/0!"},{"$error":"#DIV/0!"},null,null,{"$error":"#DIV/0!"},0,{"$error":"#DIV/0!"},{"$error":"#DIV/0!"},0,{"$error":"#DIV/0!"},{"$error":"#DIV/0!"},0,{"$error":"#DIV/0!"}]
[{"$f":"SISWA!A155","v":148},{"$f":"IF(SISWA!B155=0,\"\",SISWA!B155)","v":""},{"$f":"IF(SISWA!C155=0,\"\",SISWA!C155)","v":""},{"$f":"IF(SISWA!D155=0,\"\",SISWA!D155)","v":"148-"},{"$f":"IF(SISWA!E155=0,\"\",SISWA!E155)","v":""},{"$f":"IF(SISWA!P154=0,\"\",SISWA!P154)","v":", 00 Januari 1900"},{"$f":"IF(SISWA!H155=0,\"\",SISWA!H155)","v":""},{"$f":"#REF!","v":{"$error":"#REF!"}},{"$f":"#REF!","v":{"$error":"#REF!"}},{"$error":"#REF!"},null,null,null,null,null,null,null,null,null,null,null,null,{"$f":"PKn!K155","v":{"$error":"#DIV/0!"}},{"$f":"PKn!N155","v":0},{"$error":"#DIV/0!"},{"$f":"BID!K155","v":{"$error":"#DIV/0!"}},{"$f":"BID!N155","v":{"$error":"#DIV/0!"}},{"$error":"#DIV/0!"},null,null,null,{"$f":"MTK!K155","v":{"$error":"#DIV/0!"}},{"$f":"MTK!L155","v":0},{"$error":"#DIV/0!"},{"$f":"IPA!K155","v":{"$error":"#DIV/0!"}},{"$f":"IPA!N155","v":{"$error":"#DIV/0!"}},{"$error":"#DIV/0!"},{"$f":"IPS!K155","v":{"$error":"#DIV/0!"}},{"$f":"IPS!L155","v":0},{"$error":"#DIV/0!"},{"$f":"SBK!K155","v":{"$error":"#DIV/0!"}},{"$f":"SBK!N155","v":{"$error":"#DIV/0!"}},{"$error":"#DIV/0!"},{"$f":"PJK!K155","v":{"$error":"#DIV/0!"}},{"$f":"PJK!N155","v":{"$error":"#DIV/0!"}},{"$error":"#DIV/0!"},{"$f":"BD!K155","v":{"$error":"#DIV/0!"}},{"$f":"BD!N155","v":{"$error":"#DIV/0!"}},{"$error":"#DIV/0!"},{"$f":"BIG!K155","v":{"$error":"#DIV/0!"}},{"$f":"BIG!N155","v":{"$error":"#DIV/0!"}},{"$error":"#DIV/0!"},{"$error":"#DIV/0!"},{"$error":"#DIV/0!"},null,{"$error":"#DIV/0!"},{"$error":"#DIV/0!"},null,{"$error":"#DIV/0!"},{"$error":"#DIV/0!"},{"$f":"IPA!L155","v":0},{"$error":"#DIV/0!"},0,{"$error":"#DIV/0!"},0,{"$error":"#DIV/0!"},{"$error":"#DIV/0!"},{"$error":"#DIV/0!"},{"$error":"#DIV/0!"},0,{"$error":"#DIV/0!"},{"$error":"#DIV/0!"},{"$error":"#DIV/0!"},{"$error":"#DIV/0!"},null,null,{"$error":"#DIV/0!"},0,{"$error":"#DIV/0!"},{"$error":"#DIV/0!"},0,{"$error":"#DIV/0!"},{"$error":"#DIV/0!"},0,{"$error":"#DIV/0!"}]
[{"$f":"SISWA!A156","v":149},{"$f":"IF(SISWA!B156=0,\"\",SISWA!B156)","v":""},{"$f":"IF(SISWA!C156=0,\"\",SISWA!C156)","v":""},{"$f":"IF(SISWA!D156=0,\"\",SISWA!D156)","v":"149-"},{"$f":"IF(SISWA!E156=0,\"\",SISWA!E156)","v":""},{"$f":"IF(SISWA!P155=0,\"\",SISWA!P155)","v":", 00 Januari 1900"},{"$f":"IF(SISWA!H156=0,\"\",SISWA!H156)","v":""},{"$f":"#REF!","v":{"$error":"#REF!"}},{"$f":"#REF!","v":{"$error":"#REF!"}},{"$error":"#REF!"},null,null,null,null,null,null,null,null,null,null,null,null,{"$f":"PKn!K156","v":{"$error":"#DIV/0!"}},{"$f":"PKn!N156","v":0},{"$error":"#DIV/0!"},{"$f":"BID!K156","v":{"$error":"#DIV/0!"}},{"$f":"BID!N156","v":{"$error":"#DIV/0!"}},{"$error":"#DIV/0!"},null,null,null,{"$f":"MTK!K156","v":{"$error":"#DIV/0!"}},{"$f":"MTK!L156","v":0},{"$error":"#DIV/0!"},{"$f":"IPA!K156","v":{"$error":"#DIV/0!"}},{"$f":"IPA!N156","v":{"$error":"#DIV/0!"}},{"$error":"#DIV/0!"},{"$f":"IPS!K156","v":{"$error":"#DIV/0!"}},{"$f":"IPS!L156","v":0},{"$error":"#DIV/0!"},{"$f":"SBK!K156","v":{"$error":"#DIV/0!"}},{"$f":"SBK!N156","v":{"$error":"#DIV/0!"}},{"$error":"#DIV/0!"},{"$f":"PJK!K156","v":{"$error":"#DIV/0!"}},{"$f":"PJK!N156","v":{"$error":"#DIV/0!"}},{"$error":"#DIV/0!"},{"$f":"BD!K156","v":{"$error":"#DIV/0!"}},{"$f":"BD!N156","v":{"$error":"#DIV/0!"}},{"$error":"#DIV/0!"},{"$f":"BIG!K156","v":{"$error":"#DIV/0!"}},{"$f":"BIG!N156","v":{"$error":"#DIV/0!"}},{"$error":"#DIV/0!"},{"$error":"#DIV/0!"},{"$error":"#DIV/0!"},null,{"$error":"#DIV/0!"},{"$error":"#DIV/0!"},null,{"$error":"#DIV/0!"},{"$error":"#DIV/0!"},{"$f":"IPA!L156","v":0},{"$error":"#DIV/0!"},0,{"$error":"#DIV/0!"},0,{"$error":"#DIV/0!"},{"$error":"#DIV/0!"},{"$error":"#DIV/0!"},{"$error":"#DIV/0!"},0,{"$error":"#DIV/0!"},{"$error":"#DIV/0!"},{"$error":"#DIV/0!"},{"$error":"#DIV/0!"},null,null,{"$error":"#DIV/0!"},0,{"$error":"#DIV/0!"},{"$error":"#DIV/0!"},0,{"$error":"#DIV/0!"},{"$error":"#DIV/0!"},0,{"$error":"#DIV/0!"}]
[{"$f":"SISWA!A157","v":150},{"$f":"IF(SISWA!B157=0,\"\",SISWA!B157)","v":""},{"$f":"IF(SISWA!C157=0,\"\",SISWA!C157)","v":""},{"$f":"IF(SISWA!D157=0,\"\",SISWA!D157)","v":"150-"},{"$f":"IF(SISWA!E157=0,\"\",SISWA!E157)","v":""},{"$f":"IF(SISWA!P156=0,\"\",SISWA!P156)","v":", 00 Januari 1900"},{"$f":"IF(SISWA!H157=0,\"\",SISWA!H157)","v":""},{"$f":"#REF!","v":{"$error":"#REF!"}},{"$f":"#REF!","v":{"$error":"#REF!"}},{"$error":"#REF!"},null,null,null,null,null,null,null,null,null,null,null,null,{"$f":"PKn!K157","v":{"$error":"#DIV/0!"}},{"$f":"PKn!N157","v":0},{"$error":"#DIV/0!"},{"$f":"BID!K157","v":{"$error":"#DIV/0!"}},{"$f":"BID!N157","v":{"$error":"#DIV/0!"}},{"$error":"#DIV/0!"},null,null,null,{"$f":"MTK!K157","v":{"$error":"#DIV/0!"}},{"$f":"MTK!L157","v":0},{"$error":"#DIV/0!"},{"$f":"IPA!K157","v":{"$error":"#DIV/0!"}},{"$f":"IPA!N157","v":{"$error":"#DIV/0!"}},{"$error":"#DIV/0!"},{"$f":"IPS!K157","v":{"$error":"#DIV/0!"}},{"$f":"IPS!L157","v":0},{"$error":"#DIV/0!"},{"$f":"SBK!K157","v":{"$error":"#DIV/0!"}},{"$f":"SBK!N157","v":{"$error":"#DIV/0!"}},{"$error":"#DIV/0!"},{"$f":"PJK!K157","v":{"$error":"#DIV/0!"}},{"$f":"PJK!N157","v":{"$error":"#DIV/0!"}},{"$error":"#DIV/0!"},{"$f":"BD!K157","v":{"$error":"#DIV/0!"}},{"$f":"BD!N157","v":{"$error":"#DIV/0!"}},{"$error":"#DIV/0!"},{"$f":"BIG!K157","v":{"$error":"#DIV/0!"}},{"$f":"BIG!N157","v":{"$error":"#DIV/0!"}},{"$error":"#DIV/0!"},{"$error":"#DIV/0!"},{"$error":"#DIV/0!"},null,{"$error":"#DIV/0!"},{"$error":"#DIV/0!"},null,{"$error":"#DIV/0!"},{"$error":"#DIV/0!"},{"$f":"IPA!L157","v":0},{"$error":"#DIV/0!"},0,{"$error":"#DIV/0!"},0,{"$error":"#DIV/0!"},{"$error":"#DIV/0!"},{"$error":"#DIV/0!"},{"$error":"#DIV/0!"},0,{"$error":"#DIV/0!"},{"$error":"#DIV/0!"},{"$error":"#DIV/0!"},{"$error":"#DIV/0!"},null,null,{"$error":"#DIV/0!"},0,{"$error":"#DIV/0!"},{"$error":"#DIV/0!"},0,{"$error":"#DIV/0!"},{"$error":"#DIV/0!"},0,{"$error":"#DIV/0!"}]
[{"$f":"SISWA!A158","v":151},{"$f":"IF(SISWA!B158=0,\"\",SISWA!B158)","v":""},{"$f":"IF(SISWA!C158=0,\"\",SISWA!C158)","v":""},{"$f":"IF(SISWA!D158=0,\"\",SISWA!D158)","v":"151-"},{"$f":"IF(SISWA!E158=0,\"\",SISWA!E158)","v":""},{"$f":"IF(SISWA!P157=0,\"\",SISWA!P157)","v":", 00 Januari 1900"},{"$f":"IF(SISWA!H158=0,\"\",SISWA!H158)","v":""},{"$f":"#REF!","v":{"$error":"#REF!"}},{"$f":"#REF!","v":{"$error":"#REF!"}},{"$error":"#REF!"},null,null,null,null,null,null,null,null,null,null,null,null,{"$f":"PKn!K158","v":{"$error":"#DIV/0!"}},{"$f":"PKn!N158","v":0},{"$error":"#DIV/0!"},{"$f":"BID!K158","v":{"$error":"#DIV/0!"}},{"$f":"BID!N158","v":{"$error":"#DIV/0!"}},{"$error":"#DIV/0!"},null,null,null,{"$f":"MTK!K158","v":{"$error":"#DIV/0!"}},{"$f":"MTK!L158","v":0},{"$error":"#DIV/0!"},{"$f":"IPA!K158","v":{"$error":"#DIV/0!"}},{"$f":"IPA!N158","v":{"$error":"#DIV/0!"}},{"$error":"#DIV/0!"},{"$f":"IPS!K158","v":{"$error":"#DIV/0!"}},{"$f":"IPS!L158","v":0},{"$error":"#DIV/0!"},{"$f":"SBK!K158","v":{"$error":"#DIV/0!"}},{"$f":"SBK!N158","v":{"$error":"#DIV/0!"}},{"$error":"#DIV/0!"},{"$f":"PJK!K158","v":{"$error":"#DIV/0!"}},{"$f":"PJK!N158","v":{"$error":"#DIV/0!"}},{"$error":"#DIV/0!"},{"$f":"BD!K158","v":{"$error":"#DIV/0!"}},{"$f":"BD!N158","v":{"$error":"#DIV/0!"}},{"$error":"#DIV/0!"},{"$f":"BIG!K158","v":{"$error":"#DIV/0!"}},{"$f":"BIG!N158","v":{"$error":"#DIV/0!"}},{"$error":"#DIV/0!"},{"$error":"#DIV/0!"},{"$error":"#DIV/0!"},null,{"$error":"#DIV/0!"},{"$error":"#DIV/0!"},null,{"$error":"#DIV/0!"},{"$error":"#DIV/0!"},{"$f":"IPA!L158","v":0},{"$error":"#DIV/0!"},0,{"$error":"#DIV/0!"},0,{"$error":"#DIV/0!"},{"$error":"#DIV/0!"},{"$error":"#DIV/0!"},{"$error":"#DIV/0!"},0,{"$error":"#DIV/0!"},{"$error":"#DIV/0!"},{"$error":"#DIV/0!"},{"$error":"#DIV/0!"},null,null,{"$error":"#DIV/0!"},0,{"$error":"#DIV/0!"},{"$error":"#DIV/0!"},0,{"$error":"#DIV/0!"},{"$error":"#DIV/0!"},0,{"$error":"#DIV/0!"}]
[{"$f":"SISWA!A159","v":152},{"$f":"IF(SISWA!B159=0,\"\",SISWA!B159)","v":""},{"$f":"IF(SISWA!C159=0,\"\",SISWA!C159)","v":""},{"$f":"IF(SISWA!D159=0,\"\",SISWA!D159)","v":"152-"},{"$f":"IF(SISWA!E159=0,\"\",SISWA!E159)","v":""},{"$f":"IF(SISWA!P158=0,\"\",SISWA!P158)","v":", 00 Januari 1900"},{"$f":"IF(SISWA!H159=0,\"\",SISWA!H159)","v":""},{"$f":"#REF!","v":{"$error":"#REF!"}},{"$f":"#REF!","v":{"$error":"#REF!"}},{"$error":"#REF!"},null,null,null,null,null,null,null,null,null,null,null,null,{"$f":"PKn!K159","v":{"$error":"#DIV/0!"}},{"$f":"PKn!N159","v":0},{"$error":"#DIV/0!"},{"$f":"BID!K159","v":{"$error":"#DIV/0!"}},{"$f":"BID!N159","v":{"$error":"#DIV/0!"}},{"$error":"#DIV/0!"},null,null,null,{"$f":"MTK!K159","v":{"$error":"#DIV/0!"}},{"$f":"MTK!L159","v":0},{"$error":"#DIV/0!"},{"$f":"IPA!K159","v":{"$error":"#DIV/0!"}},{"$f":"IPA!N159","v":{"$error":"#DIV/0!"}},{"$error":"#DIV/0!"},{"$f":"IPS!K159","v":{"$error":"#DIV/0!"}},{"$f":"IPS!L159","v":0},{"$error":"#DIV/0!"},{"$f":"SBK!K159","v":{"$error":"#DIV/0!"}},{"$f":"SBK!N159","v":{"$error":"#DIV/0!"}},{"$error":"#DIV/0!"},{"$f":"PJK!K159","v":{"$error":"#DIV/0!"}},{"$f":"PJK!N159","v":{"$error":"#DIV/0!"}},{"$error":"#DIV/0!"},{"$f":"BD!K159","v":{"$error":"#DIV/0!"}},{"$f":"BD!N159","v":{"$error":"#DIV/0!"}},{"$error":"#DIV/0!"},{"$f":"BIG!K159","v":{"$error":"#DIV/0!"}},{"$f":"BIG!N159","v":{"$error":"#DIV/0!"}},{"$error":"#DIV/0!"},{"$error":"#DIV/0!"},{"$error":"#DIV/0!"},null,{"$error":"#DIV/0!"},{"$error":"#DIV/0!"},null,{"$error":"#DIV/0!"},{"$error":"#DIV/0!"},{"$f":"IPA!L159","v":0},{"$error":"#DIV/0!"},0,{"$error":"#DIV/0!"},0,{"$error":"#DIV/0!"},{"$error":"#DIV/0!"},{"$error":"#DIV/0!"},{"$error":"#DIV/0!"},0,{"$error":"#DIV/0!"},{"$error":"#DIV/0!"},{"$error":"#DIV/0!"},{"$error":"#DIV/0!"},null,null,{"$error":"#DIV/0!"},0,{"$error":"#DIV/0!"},{"$error":"#DIV/0!"},0,{"$error":"#DIV/0!"},{"$error":"#DIV/0!"},0,{"$error":"#DIV/0!"}]
[{"$f":"SISWA!A160","v":153},{"$f":"IF(SISWA!B160=0,\"\",SISWA!B160)","v":""},{"$f":"IF(SISWA!C160=0,\"\",SISWA!C160)","v":""},{"$f":"IF(SISWA!D160=0,\"\",SISWA!D160)","v":"153-"},{"$f":"IF(SISWA!E160=0,\"\",SISWA!E160)","v":""},{"$f":"IF(SISWA!P159=0,\"\",SISWA!P159)","v":", 00 Januari 1900"},{"$f":"IF(SISWA!H160=0,\"\",SISWA!H160)","v":""},{"$f":"#REF!","v":{"$error":"#REF!"}},{"$f":"#REF!","v":{"$error":"#REF!"}},{"$error":"#REF!"},null,null,null,null,null,null,null,null,null,null,null,null,{"$f":"PKn!K160","v":{"$error":"#DIV/0!"}},{"$f":"PKn!N160","v":0},{"$error":"#DIV/0!"},{"$f":"BID!K160","v":{"$error":"#DIV/0!"}},{"$f":"BID!N160","v":{"$error":"#DIV/0!"}},{"$error":"#DIV/0!"},null,null,null,{"$f":"MTK!K160","v":{"$error":"#DIV/0!"}},{"$f":"MTK!L160","v":0},{"$error":"#DIV/0!"},{"$f":"IPA!K160","v":{"$error":"#DIV/0!"}},{"$f":"IPA!N160","v":{"$error":"#DIV/0!"}},{"$error":"#DIV/0!"},{"$f":"IPS!K160","v":{"$error":"#DIV/0!"}},{"$f":"IPS!L160","v":0},{"$error":"#DIV/0!"},{"$f":"SBK!K160","v":{"$error":"#DIV/0!"}},{"$f":"SBK!N160","v":{"$error":"#DIV/0!"}},{"$error":"#DIV/0!"},{"$f":"PJK!K160","v":{"$error":"#DIV/0!"}},{"$f":"PJK!N160","v":{"$error":"#DIV/0!"}},{"$error":"#DIV/0!"},{"$f":"BD!K160","v":{"$error":"#DIV/0!"}},{"$f":"BD!N160","v":{"$error":"#DIV/0!"}},{"$error":"#DIV/0!"},{"$f":"BIG!K160","v":{"$error":"#DIV/0!"}},{"$f":"BIG!N160","v":{"$error":"#DIV/0!"}},{"$error":"#DIV/0!"},{"$error":"#DIV/0!"},{"$error":"#DIV/0!"},null,{"$error":"#DIV/0!"},{"$error":"#DIV/0!"},null,{"$error":"#DIV/0!"},{"$error":"#DIV/0!"},{"$f":"IPA!L160","v":0},{"$error":"#DIV/0!"},0,{"$error":"#DIV/0!"},0,{"$error":"#DIV/0!"},{"$error":"#DIV/0!"},{"$error":"#DIV/0!"},{"$error":"#DIV/0!"},0,{"$error":"#DIV/0!"},{"$error":"#DIV/0!"},{"$error":"#DIV/0!"},{"$error":"#DIV/0!"},null,null,{"$error":"#DIV/0!"},0,{"$error":"#DIV/0!"},{"$error":"#DIV/0!"},0,{"$error":"#DIV/0!"},{"$error":"#DIV/0!"},0,{"$error":"#DIV/0!"}]
[{"$f":"SISWA!A161","v":154},{"$f":"IF(SISWA!B161=0,\"\",SISWA!B161)","v":""},{"$f":"IF(SISWA!C161=0,\"\",SISWA!C161)","v":""},{"$f":"IF(SISWA!D161=0,\"\",SISWA!D161)","v":"154-"},{"$f":"IF(SISWA!E161=0,\"\",SISWA!E161)","v":""},{"$f":"IF(SISWA!P160=0,\"\",SISWA!P160)","v":", 00 Januari 1900"},{"$f":"IF(SISWA!H161=0,\"\",SISWA!H161)","v":""},{"$f":"#REF!","v":{"$error":"#REF!"}},{"$f":"#REF!","v":{"$error":"#REF!"}},{"$error":"#REF!"},null,null,null,null,null,null,null,null,null,null,null,null,{"$f":"PKn!K161","v":{"$error":"#DIV/0!"}},{"$f":"PKn!N161","v":0},{"$error":"#DIV/0!"},{"$f":"BID!K161","v":{"$error":"#DIV/0!"}},{"$f":"BID!N161","v":{"$error":"#DIV/0!"}},{"$error":"#DIV/0!"},null,null,null,{"$f":"MTK!K161","v":{"$error":"#DIV/0!"}},{"$f":"MTK!L161","v":0},{"$error":"#DIV/0!"},{"$f":"IPA!K161","v":{"$error":"#DIV/0!"}},{"$f":"IPA!N161","v":{"$error":"#DIV/0!"}},{"$error":"#DIV/0!"},{"$f":"IPS!K161","v":{"$error":"#DIV/0!"}},{"$f":"IPS!L161","v":0},{"$error":"#DIV/0!"},{"$f":"SBK!K161","v":{"$error":"#DIV/0!"}},{"$f":"SBK!N161","v":{"$error":"#DIV/0!"}},{"$error":"#DIV/0!"},{"$f":"PJK!K161","v":{"$error":"#DIV/0!"}},{"$f":"PJK!N161","v":{"$error":"#DIV/0!"}},{"$error":"#DIV/0!"},{"$f":"BD!K161","v":{"$error":"#DIV/0!"}},{"$f":"BD!N161","v":{"$error":"#DIV/0!"}},{"$error":"#DIV/0!"},{"$f":"BIG!K161","v":{"$error":"#DIV/0!"}},{"$f":"BIG!N161","v":{"$error":"#DIV/0!"}},{"$error":"#DIV/0!"},{"$error":"#DIV/0!"},{"$error":"#DIV/0!"},null,{"$error":"#DIV/0!"},{"$error":"#DIV/0!"},null,{"$error":"#DIV/0!"},{"$error":"#DIV/0!"},{"$f":"IPA!L161","v":0},{"$error":"#DIV/0!"},0,{"$error":"#DIV/0!"},0,{"$error":"#DIV/0!"},{"$error":"#DIV/0!"},{"$error":"#DIV/0!"},{"$error":"#DIV/0!"},0,{"$error":"#DIV/0!"},{"$error":"#DIV/0!"},{"$error":"#DIV/0!"},{"$error":"#DIV/0!"},null,null,{"$error":"#DIV/0!"},0,{"$error":"#DIV/0!"},{"$error":"#DIV/0!"},0,{"$error":"#DIV/0!"},{"$error":"#DIV/0!"},0,{"$error":"#DIV/0!"}]
[{"$f":"SISWA!A162","v":155},{"$f":"IF(SISWA!B162=0,\"\",SISWA!B162)","v":""},{"$f":"IF(SISWA!C162=0,\"\",SISWA!C162)","v":""},{"$f":"IF(SISWA!D162=0,\"\",SISWA!D162)","v":"155-"},{"$f":"IF(SISWA!E162=0,\"\",SISWA!E162)","v":""},{"$f":"IF(SISWA!P161=0,\"\",SISWA!P161)","v":", 00 Januari 1900"},{"$f":"IF(SISWA!H162=0,\"\",SISWA!H162)","v":""},{"$f":"#REF!","v":{"$error":"#REF!"}},{"$f":"#REF!","v":{"$error":"#REF!"}},{"$error":"#REF!"},null,null,null,null,null,null,null,null,null,null,null,null,{"$f":"PKn!K162","v":{"$error":"#DIV/0!"}},{"$f":"PKn!N162","v":0},{"$error":"#DIV/0!"},{"$f":"BID!K162","v":{"$error":"#DIV/0!"}},{"$f":"BID!N162","v":{"$error":"#DIV/0!"}},{"$error":"#DIV/0!"},null,null,null,{"$f":"MTK!K162","v":{"$error":"#DIV/0!"}},{"$f":"MTK!L162","v":0},{"$error":"#DIV/0!"},{"$f":"IPA!K162","v":{"$error":"#DIV/0!"}},{"$f":"IPA!N162","v":{"$error":"#DIV/0!"}},{"$error":"#DIV/0!"},{"$f":"IPS!K162","v":{"$error":"#DIV/0!"}},{"$f":"IPS!L162","v":0},{"$error":"#DIV/0!"},{"$f":"SBK!K162","v":{"$error":"#DIV/0!"}},{"$f":"SBK!N162","v":{"$error":"#DIV/0!"}},{"$error":"#DIV/0!"},{"$f":"PJK!K162","v":{"$error":"#DIV/0!"}},{"$f":"PJK!N162","v":{"$error":"#DIV/0!"}},{"$error":"#DIV/0!"},{"$f":"BD!K162","v":{"$error":"#DIV/0!"}},{"$f":"BD!N162","v":{"$error":"#DIV/0!"}},{"$error":"#DIV/0!"},{"$f":"BIG!K162","v":{"$error":"#DIV/0!"}},{"$f":"BIG!N162","v":{"$error":"#DIV/0!"}},{"$error":"#DIV/0!"},{"$error":"#DIV/0!"},{"$error":"#DIV/0!"},null,{"$error":"#DIV/0!"},{"$error":"#DIV/0!"},null,{"$error":"#DIV/0!"},{"$error":"#DIV/0!"},{"$f":"IPA!L162","v":0},{"$error":"#DIV/0!"},0,{"$error":"#DIV/0!"},0,{"$error":"#DIV/0!"},{"$error":"#DIV/0!"},{"$error":"#DIV/0!"},{"$error":"#DIV/0!"},0,{"$error":"#DIV/0!"},{"$error":"#DIV/0!"},{"$error":"#DIV/0!"},{"$error":"#DIV/0!"},null,null,{"$error":"#DIV/0!"},0,{"$error":"#DIV/0!"},{"$error":"#DIV/0!"},0,{"$error":"#DIV/0!"},{"$error":"#DIV/0!"},0,{"$error":"#DIV/0!"}]
[{"$f":"SISWA!A163","v":156},{"$f":"IF(SISWA!B163=0,\"\",SISWA!B163)","v":""},{"$f":"IF(SISWA!C163=0,\"\",SISWA!C163)","v":""},{"$f":"IF(SISWA!D163=0,\"\",SISWA!D163)","v":"156-"},{"$f":"IF(SISWA!E163=0,\"\",SISWA!E163)","v":""},{"$f":"IF(SISWA!P162=0,\"\",SISWA!P162)","v":", 00 Januari 1900"},{"$f":"IF(SISWA!H163=0,\"\",SISWA!H163)","v":""},{"$f":"#REF!","v":{"$error":"#REF!"}},{"$f":"#REF!","v":{"$error":"#REF!"}},{"$error":"#REF!"},null,null,null,null,null,null,null,null,null,null,null,null,{"$f":"PKn!K163","v":{"$error":"#DIV/0!"}},{"$f":"PKn!N163","v":0},{"$error":"#DIV/0!"},{"$f":"BID!K163","v":{"$error":"#DIV/0!"}},{"$f":"BID!N163","v":{"$error":"#DIV/0!"}},{"$error":"#DIV/0!"},null,null,null,{"$f":"MTK!K163","v":{"$error":"#DIV/0!"}},{"$f":"MTK!L163","v":0},{"$error":"#DIV/0!"},{"$f":"IPA!K163","v":{"$error":"#DIV/0!"}},{"$f":"IPA!N163","v":{"$error":"#DIV/0!"}},{"$error":"#DIV/0!"},{"$f":"IPS!K163","v":{"$error":"#DIV/0!"}},{"$f":"IPS!L163","v":0},{"$error":"#DIV/0!"},{"$f":"SBK!K163","v":{"$error":"#DIV/0!"}},{"$f":"SBK!N163","v":{"$error":"#DIV/0!"}},{"$error":"#DIV/0!"},{"$f":"PJK!K163","v":{"$error":"#DIV/0!"}},{"$f":"PJK!N163","v":{"$error":"#DIV/0!"}},{"$error":"#DIV/0!"},{"$f":"BD!K163","v":{"$error":"#DIV/0!"}},{"$f":"BD!N163","v":{"$error":"#DIV/0!"}},{"$error":"#DIV/0!"},{"$f":"BIG!K163","v":{"$error":"#DIV/0!"}},{"$f":"BIG!N163","v":{"$error":"#DIV/0!"}},{"$error":"#DIV/0!"},{"$error":"#DIV/0!"},{"$error":"#DIV/0!"},null,{"$error":"#DIV/0!"},{"$error":"#DIV/0!"},null,{"$error":"#DIV/0!"},{"$error":"#DIV/0!"},{"$f":"IPA!L163","v":0},{"$error":"#DIV/0!"},0,{"$error":"#DIV/0!"},0,{"$error":"#DIV/0!"},{"$error":"#DIV/0!"},{"$error":"#DIV/0!"},{"$error":"#DIV/0!"},0,{"$error":"#DIV/0!"},{"$error":"#DIV/0!"},{"$error":"#DIV/0!"},{"$error":"#DIV/0!"},null,null,{"$error":"#DIV/0!"},0,{"$error":"#DIV/0!"},{"$error":"#DIV/0!"},0,{"$error":"#DIV/0!"},{"$error":"#DIV/0!"},0,{"$error":"#DIV/0!"}]
[{"$f":"SISWA!A164","v":157},{"$f":"IF(SISWA!B164=0,\"\",SISWA!B164)","v":""},{"$f":"IF(SISWA!C164=0,\"\",SISWA!C164)","v":""},{"$f":"IF(SISWA!D164=0,\"\",SISWA!D164)","v":"157-"},{"$f":"IF(SISWA!E164=0,\"\",SISWA!E164)","v":""},{"$f":"IF(SISWA!P163=0,\"\",SISWA!P163)","v":", 00 Januari 1900"},{"$f":"IF(SISWA!H164=0,\"\",SISWA!H164)","v":""},{"$f":"#REF!","v":{"$error":"#REF!"}},{"$f":"#REF!","v":{"$error":"#REF!"}},{"$error":"#REF!"},null,null,null,null,null,null,null,null,null,null,null,null,{"$f":"PKn!K164","v":{"$error":"#DIV/0!"}},{"$f":"PKn!N164","v":0},{"$error":"#DIV/0!"},{"$f":"BID!K164","v":{"$error":"#DIV/0!"}},{"$f":"BID!N164","v":{"$error":"#DIV/0!"}},{"$error":"#DIV/0!"},null,null,null,{"$f":"MTK!K164","v":{"$error":"#DIV/0!"}},{"$f":"MTK!L164","v":0},{"$error":"#DIV/0!"},{"$f":"IPA!K164","v":{"$error":"#DIV/0!"}},{"$f":"IPA!N164","v":{"$error":"#DIV/0!"}},{"$error":"#DIV/0!"},{"$f":"IPS!K164","v":{"$error":"#DIV/0!"}},{"$f":"IPS!L164","v":0},{"$error":"#DIV/0!"},{"$f":"SBK!K164","v":{"$error":"#DIV/0!"}},{"$f":"SBK!N164","v":{"$error":"#DIV/0!"}},{"$error":"#DIV/0!"},{"$f":"PJK!K164","v":{"$error":"#DIV/0!"}},{"$f":"PJK!N164","v":{"$error":"#DIV/0!"}},{"$error":"#DIV/0!"},{"$f":"BD!K164","v":{"$error":"#DIV/0!"}},{"$f":"BD!N164","v":{"$error":"#DIV/0!"}},{"$error":"#DIV/0!"},{"$f":"BIG!K164","v":{"$error":"#DIV/0!"}},{"$f":"BIG!N164","v":{"$error":"#DIV/0!"}},{"$error":"#DIV/0!"},{"$error":"#DIV/0!"},{"$error":"#DIV/0!"},null,{"$error":"#DIV/0!"},{"$error":"#DIV/0!"},null,{"$error":"#DIV/0!"},{"$error":"#DIV/0!"},{"$f":"IPA!L164","v":0},{"$error":"#DIV/0!"},0,{"$error":"#DIV/0!"},0,{"$error":"#DIV/0!"},{"$error":"#DIV/0!"},{"$error":"#DIV/0!"},{"$error":"#DIV/0!"},0,{"$error":"#DIV/0!"},{"$error":"#DIV/0!"},{"$error":"#DIV/0!"},{"$error":"#DIV/0!"},null,null,{"$error":"#DIV/0!"},0,{"$error":"#DIV/0!"},{"$error":"#DIV/0!"},0,{"$error":"#DIV/0!"},{"$error":"#DIV/0!"},0,{"$error":"#DIV/0!"}]
[{"$f":"SISWA!A165","v":158},{"$f":"IF(SISWA!B165=0,\"\",SISWA!B165)","v":""},{"$f":"IF(SISWA!C165=0,\"\",SISWA!C165)","v":""},{"$f":"IF(SISWA!D165=0,\"\",SISWA!D165)","v":"158-"},{"$f":"IF(SISWA!E165=0,\"\",SISWA!E165)","v":""},{"$f":"IF(SISWA!P164=0,\"\",SISWA!P164)","v":", 00 Januari 1900"},{"$f":"IF(SISWA!H165=0,\"\",SISWA!H165)","v":""},{"$f":"#REF!","v":{"$error":"#REF!"}},{"$f":"#REF!","v":{"$error":"#REF!"}},{"$error":"#REF!"},null,null,null,null,null,null,null,null,null,null,null,null,{"$f":"PKn!K165","v":{"$error":"#DIV/0!"}},{"$f":"PKn!N165","v":0},{"$error":"#DIV/0!"},{"$f":"BID!K165","v":{"$error":"#DIV/0!"}},{"$f":"BID!N165","v":{"$error":"#DIV/0!"}},{"$error":"#DIV/0!"},null,null,null,{"$f":"MTK!K165","v":{"$error":"#DIV/0!"}},{"$f":"MTK!L165","v":0},{"$error":"#DIV/0!"},{"$f":"IPA!K165","v":{"$error":"#DIV/0!"}},{"$f":"IPA!N165","v":{"$error":"#DIV/0!"}},{"$error":"#DIV/0!"},{"$f":"IPS!K165","v":{"$error":"#DIV/0!"}},{"$f":"IPS!L165","v":0},{"$error":"#DIV/0!"},{"$f":"SBK!K165","v":{"$error":"#DIV/0!"}},{"$f":"SBK!N165","v":{"$error":"#DIV/0!"}},{"$error":"#DIV/0!"},{"$f":"PJK!K165","v":{"$error":"#DIV/0!"}},{"$f":"PJK!N165","v":{"$error":"#DIV/0!"}},{"$error":"#DIV/0!"},{"$f":"BD!K165","v":{"$error":"#DIV/0!"}},{"$f":"BD!N165","v":{"$error":"#DIV/0!"}},{"$error":"#DIV/0!"},{"$f":"BIG!K165","v":{"$error":"#DIV/0!"}},{"$f":"BIG!N165","v":{"$error":"#DIV/0!"}},{"$error":"#DIV/0!"},{"$error":"#DIV/0!"},{"$error":"#DIV/0!"},null,{"$error":"#DIV/0!"},{"$error":"#DIV/0!"},null,{"$error":"#DIV/0!"},{"$error":"#DIV/0!"},{"$f":"IPA!L165","v":0},{"$error":"#DIV/0!"},0,{"$error":"#DIV/0!"},0,{"$error":"#DIV/0!"},{"$error":"#DIV/0!"},{"$error":"#DIV/0!"},{"$error":"#DIV/0!"},0,{"$error":"#DIV/0!"},{"$error":"#DIV/0!"},{"$error":"#DIV/0!"},{"$error":"#DIV/0!"},null,null,{"$error":"#DIV/0!"},0,{"$error":"#DIV/0!"},{"$error":"#DIV/0!"},0,{"$error":"#DIV/0!"},{"$error":"#DIV/0!"},0,{"$error":"#DIV/0!"}]
[{"$f":"SISWA!A166","v":159},{"$f":"IF(SISWA!B166=0,\"\",SISWA!B166)","v":""},{"$f":"IF(SISWA!C166=0,\"\",SISWA!C166)","v":""},{"$f":"IF(SISWA!D166=0,\"\",SISWA!D166)","v":"159-"},{"$f":"IF(SISWA!E166=0,\"\",SISWA!E166)","v":""},{"$f":"IF(SISWA!P165=0,\"\",SISWA!P165)","v":", 00 Januari 1900"},{"$f":"IF(SISWA!H166=0,\"\",SISWA!H166)","v":""},{"$f":"#REF!","v":{"$error":"#REF!"}},{"$f":"#REF!","v":{"$error":"#REF!"}},{"$error":"#REF!"},null,null,null,null,null,null,null,null,null,null,null,null,{"$f":"PKn!K166","v":{"$error":"#DIV/0!"}},{"$f":"PKn!N166","v":0},{"$error":"#DIV/0!"},{"$f":"BID!K166","v":{"$error":"#DIV/0!"}},{"$f":"BID!N166","v":{"$error":"#DIV/0!"}},{"$error":"#DIV/0!"},null,null,null,{"$f":"MTK!K166","v":{"$error":"#DIV/0!"}},{"$f":"MTK!L166","v":0},{"$error":"#DIV/0!"},{"$f":"IPA!K166","v":{"$error":"#DIV/0!"}},{"$f":"IPA!N166","v":{"$error":"#DIV/0!"}},{"$error":"#DIV/0!"},{"$f":"IPS!K166","v":{"$error":"#DIV/0!"}},{"$f":"IPS!L166","v":0},{"$error":"#DIV/0!"},{"$f":"SBK!K166","v":{"$error":"#DIV/0!"}},{"$f":"SBK!N166","v":{"$error":"#DIV/0!"}},{"$error":"#DIV/0!"},{"$f":"PJK!K166","v":{"$error":"#DIV/0!"}},{"$f":"PJK!N166","v":{"$error":"#DIV/0!"}},{"$error":"#DIV/0!"},{"$f":"BD!K166","v":{"$error":"#DIV/0!"}},{"$f":"BD!N166","v":{"$error":"#DIV/0!"}},{"$error":"#DIV/0!"},{"$f":"BIG!K166","v":{"$error":"#DIV/0!"}},{"$f":"BIG!N166","v":{"$error":"#DIV/0!"}},{"$error":"#DIV/0!"},{"$error":"#DIV/0!"},{"$error":"#DIV/0!"},null,{"$error":"#DIV/0!"},{"$error":"#DIV/0!"},null,{"$error":"#DIV/0!"},{"$error":"#DIV/0!"},{"$f":"IPA!L166","v":0},{"$error":"#DIV/0!"},0,{"$error":"#DIV/0!"},0,{"$error":"#DIV/0!"},{"$error":"#DIV/0!"},{"$error":"#DIV/0!"},{"$error":"#DIV/0!"},0,{"$error":"#DIV/0!"},{"$error":"#DIV/0!"},{"$error":"#DIV/0!"},{"$error":"#DIV/0!"},null,null,{"$error":"#DIV/0!"},0,{"$error":"#DIV/0!"},{"$error":"#DIV/0!"},0,{"$error":"#DIV/0!"},{"$error":"#DIV/0!"},0,{"$error":"#DIV/0!"}]
[{"$f":"SISWA!A167","v":160},{"$f":"IF(SISWA!B167=0,\"\",SISWA!B167)","v":""},{"$f":"IF(SISWA!C167=0,\"\",SISWA!C167)","v":""},{"$f":"IF(SISWA!D167=0,\"\",SISWA!D167)","v":"160-"},{"$f":"IF(SISWA!E167=0,\"\",SISWA!E167)","v":""},{"$f":"IF(SISWA!P166=0,\"\",SISWA!P166)","v":", 00 Januari 1900"},{"$f":"IF(SISWA!H167=0,\"\",SISWA!H167)","v":""},{"$f":"#REF!","v":{"$error":"#REF!"}},{"$f":"#REF!","v":{"$error":"#REF!"}},{"$error":"#REF!"},null,null,null,null,null,null,null,null,null,null,null,null,{"$f":"PKn!K167","v":{"$error":"#DIV/0!"}},{"$f":"PKn!N167","v":0},{"$error":"#DIV/0!"},{"$f":"BID!K167","v":{"$error":"#DIV/0!"}},{"$f":"BID!N167","v":{"$error":"#DIV/0!"}},{"$error":"#DIV/0!"},null,null,null,{"$f":"MTK!K167","v":{"$error":"#DIV/0!"}},{"$f":"MTK!L167","v":0},{"$error":"#DIV/0!"},{"$f":"IPA!K167","v":{"$error":"#DIV/0!"}},{"$f":"IPA!N167","v":{"$error":"#DIV/0!"}},{"$error":"#DIV/0!"},{"$f":"IPS!K167","v":{"$error":"#DIV/0!"}},{"$f":"IPS!L167","v":0},{"$error":"#DIV/0!"},{"$f":"SBK!K167","v":{"$error":"#DIV/0!"}},{"$f":"SBK!N167","v":{"$error":"#DIV/0!"}},{"$error":"#DIV/0!"},{"$f":"PJK!K167","v":{"$error":"#DIV/0!"}},{"$f":"PJK!N167","v":{"$error":"#DIV/0!"}},{"$error":"#DIV/0!"},{"$f":"BD!K167","v":{"$error":"#DIV/0!"}},{"$f":"BD!N167","v":{"$error":"#DIV/0!"}},{"$error":"#DIV/0!"},{"$f":"BIG!K167","v":{"$error":"#DIV/0!"}},{"$f":"BIG!N167","v":{"$error":"#DIV/0!"}},{"$error":"#DIV/0!"},{"$error":"#DIV/0!"},{"$error":"#DIV/0!"},null,{"$error":"#DIV/0!"},{"$error":"#DIV/0!"},null,{"$error":"#DIV/0!"},{"$error":"#DIV/0!"},{"$f":"IPA!L167","v":0},{"$error":"#DIV/0!"},0,{"$error":"#DIV/0!"},0,{"$error":"#DIV/0!"},{"$error":"#DIV/0!"},{"$error":"#DIV/0!"},{"$error":"#DIV/0!"},0,{"$error":"#DIV/0!"},{"$error":"#DIV/0!"},{"$error":"#DIV/0!"},{"$error":"#DIV/0!"},null,null,{"$error":"#DIV/0!"},0,{"$error":"#DIV/0!"},{"$error":"#DIV/0!"},0,{"$error":"#DIV/0!"},{"$error":"#DIV/0!"},0,{"$error":"#DIV/0!"}]
[{"$f":"SISWA!A168","v":161},{"$f":"IF(SISWA!B168=0,\"\",SISWA!B168)","v":""},{"$f":"IF(SISWA!C168=0,\"\",SISWA!C168)","v":""},{"$f":"IF(SISWA!D168=0,\"\",SISWA!D168)","v":"161-"},{"$f":"IF(SISWA!E168=0,\"\",SISWA!E168)","v":""},{"$f":"IF(SISWA!P167=0,\"\",SISWA!P167)","v":", 00 Januari 1900"},{"$f":"IF(SISWA!H168=0,\"\",SISWA!H168)","v":""},{"$f":"#REF!","v":{"$error":"#REF!"}},{"$f":"#REF!","v":{"$error":"#REF!"}},{"$f":"(H169*60%)+(I169*40%)","v":{"$error":"#REF!"}},null,null,null,null,null,null,null,null,null,null,null,null,{"$f":"PKn!K168","v":{"$error":"#DIV/0!"}},{"$f":"PKn!N168","v":0},{"$f":"(W169*60%)+(X169*40%)","v":{"$error":"#DIV/0!"}},{"$f":"BID!K168","v":{"$error":"#DIV/0!"}},{"$f":"BID!N168","v":{"$error":"#DIV/0!"}},{"$f":"(Z169*60%)+(AA169*40%)","v":{"$error":"#DIV/0!"}},null,null,null,{"$f":"MTK!K168","v":{"$error":"#DIV/0!"}},{"$f":"MTK!L168","v":0},{"$f":"(AF169*60%)+(AG169*40%)","v":{"$error":"#DIV/0!"}},{"$f":"IPA!K168","v":{"$error":"#DIV/0!"}},{"$f":"IPA!N168","v":{"$error":"#DIV/0!"}},{"$f":"(AI169*60%)+(AJ169*40%)","v":{"$error":"#DIV/0!"}},{"$f":"IPS!K168","v":{"$error":"#DIV/0!"}},{"$f":"IPS!L168","v":0},{"$f":"(AL169*60%)+(AM169*40%)","v":{"$error":"#DIV/0!"}},{"$f":"SBK!K168","v":{"$error":"#DIV/0!"}},{"$f":"SBK!N168","v":{"$error":"#DIV/0!"}},{"$f":"(AO169*60%)+(AP169*40%)","v":{"$error":"#DIV/0!"}},{"$f":"PJK!K168","v":{"$error":"#DIV/0!"}},{"$f":"PJK!N168","v":{"$error":"#DIV/0!"}},{"$f":"(AR169*60%)+(AS169*40%)","v":{"$error":"#DIV/0!"}},{"$f":"BD!K168","v":{"$error":"#DIV/0!"}},{"$f":"BD!N168","v":{"$error":"#DIV/0!"}},{"$f":"(AU169*60%)+(AV169*40%)","v":{"$error":"#DIV/0!"}},{"$f":"BIG!K168","v":{"$error":"#DIV/0!"}},{"$f":"BIG!N168","v":{"$error":"#DIV/0!"}},{"$f":"(AX169*60%)+(AY169*40%)","v":{"$error":"#DIV/0!"}},{"$error":"#DIV/0!"},{"$f":"AB169","v":{"$error":"#DIV/0!"}},null,{"$f":"(BB169*60%)+(BC169*40%)","v":{"$error":"#DIV/0!"}},{"$f":"AH169","v":{"$error":"#DIV/0!"}},null,{"$f":"(BE169*60%)+(BF169*40%)","v":{"$error":"#DIV/0!"}},{"$f":"AK169","v":{"$error":"#DIV/0!"}},{"$f":"IPA!L168","v":0},{"$f":"(BH169*60%)+(BI169*40%)","v":{"$error":"#DIV/0!"}},0,{"$f":"SUM(BD169,BG169,BJ169)","v":{"$error":"#DIV/0!"}},0,{"$error":"#DIV/0!"},{"$error":"#DIV/0!"},{"$error":"#DIV/0!"},{"$error":"#DIV/0!"},0,{"$error":"#DIV/0!"},{"$error":"#DIV/0!"},{"$error":"#DIV/0!"},{"$error":"#DIV/0!"},null,null,{"$error":"#DIV/0!"},0,{"$error":"#DIV/0!"},{"$error":"#DIV/0!"},0,{"$error":"#DIV/0!"},{"$error":"#DIV/0!"},0,{"$error":"#DIV/0!"}]
[{"$f":"SISWA!A169","v":162},{"$f":"IF(SISWA!B169=0,\"\",SISWA!B169)","v":""},{"$f":"IF(SISWA!C169=0,\"\",SISWA!C169)","v":""},{"$f":"IF(SISWA!D169=0,\"\",SISWA!D169)","v":"162-"},{"$f":"IF(SISWA!E169=0,\"\",SISWA!E169)","v":""},{"$f":"IF(SISWA!P168=0,\"\",SISWA!P168)","v":", 00 Januari 1900"},{"$f":"IF(SISWA!H169=0,\"\",SISWA!H169)","v":""},{"$f":"#REF!","v":{"$error":"#REF!"}},{"$f":"#REF!","v":{"$error":"#REF!"}},{"$error":"#REF!"},null,null,null,null,null,null,null,null,null,null,null,null,{"$f":"PKn!K169","v":{"$error":"#DIV/0!"}},{"$f":"PKn!N169","v":0},{"$error":"#DIV/0!"},{"$f":"BID!K169","v":{"$error":"#DIV/0!"}},{"$f":"BID!N169","v":{"$error":"#DIV/0!"}},{"$error":"#DIV/0!"},null,null,null,{"$f":"MTK!K169","v":{"$error":"#DIV/0!"}},{"$f":"MTK!L169","v":0},{"$error":"#DIV/0!"},{"$f":"IPA!K169","v":{"$error":"#DIV/0!"}},{"$f":"IPA!N169","v":{"$error":"#DIV/0!"}},{"$error":"#DIV/0!"},{"$f":"IPS!K169","v":{"$error":"#DIV/0!"}},{"$f":"IPS!L169","v":0},{"$error":"#DIV/0!"},{"$f":"SBK!K169","v":{"$error":"#DIV/0!"}},{"$f":"SBK!N169","v":{"$error":"#DIV/0!"}},{"$error":"#DIV/0!"},{"$f":"PJK!K169","v":{"$error":"#DIV/0!"}},{"$f":"PJK!N169","v":{"$error":"#DIV/0!"}},{"$error":"#DIV/0!"},{"$f":"BD!K169","v":{"$error":"#DIV/0!"}},{"$f":"BD!N169","v":{"$error":"#DIV/0!"}},{"$error":"#DIV/0!"},{"$f":"BIG!K169","v":{"$error":"#DIV/0!"}},{"$f":"BIG!N169","v":{"$error":"#DIV/0!"}},{"$error":"#DIV/0!"},{"$error":"#DIV/0!"},{"$error":"#DIV/0!"},null,{"$error":"#DIV/0!"},{"$error":"#DIV/0!"},null,{"$error":"#DIV/0!"},{"$error":"#DIV/0!"},{"$f":"IPA!L169","v":0},{"$error":"#DIV/0!"},0,{"$error":"#DIV/0!"},0,{"$error":"#DIV/0!"},{"$error":"#DIV/0!"},{"$error":"#DIV/0!"},{"$error":"#DIV/0!"},0,{"$error":"#DIV/0!"},{"$error":"#DIV/0!"},{"$error":"#DIV/0!"},{"$error":"#DIV/0!"},null,null,{"$error":"#DIV/0!"},0,{"$error":"#DIV/0!"},{"$error":"#DIV/0!"},0,{"$error":"#DIV/0!"},{"$error":"#DIV/0!"},0,{"$error":"#DIV/0!"}]
[{"$f":"SISWA!A170","v":163},{"$f":"IF(SISWA!B170=0,\"\",SISWA!B170)","v":""},{"$f":"IF(SISWA!C170=0,\"\",SISWA!C170)","v":""},{"$f":"IF(SISWA!D170=0,\"\",SISWA!D170)","v":"163-"},{"$f":"IF(SISWA!E170=0,\"\",SISWA!E170)","v":""},{"$f":"IF(SISWA!P169=0,\"\",SISWA!P169)","v":", 00 Januari 1900"},{"$f":"IF(SISWA!H170=0,\"\",SISWA!H170)","v":""},{"$f":"#REF!","v":{"$error":"#REF!"}},{"$f":"#REF!","v":{"$error":"#REF!"}},{"$error":"#REF!"},null,null,null,null,null,null,null,null,null,null,null,null,{"$f":"PKn!K170","v":{"$error":"#DIV/0!"}},{"$f":"PKn!N170","v":0},{"$error":"#DIV/0!"},{"$f":"BID!K170","v":{"$error":"#DIV/0!"}},{"$f":"BID!N170","v":{"$error":"#DIV/0!"}},{"$error":"#DIV/0!"},null,null,null,{"$f":"MTK!K170","v":{"$error":"#DIV/0!"}},{"$f":"MTK!L170","v":0},{"$error":"#DIV/0!"},{"$f":"IPA!K170","v":{"$error":"#DIV/0!"}},{"$f":"IPA!N170","v":{"$error":"#DIV/0!"}},{"$error":"#DIV/0!"},{"$f":"IPS!K170","v":{"$error":"#DIV/0!"}},{"$f":"IPS!L170","v":0},{"$error":"#DIV/0!"},{"$f":"SBK!K170","v":{"$error":"#DIV/0!"}},{"$f":"SBK!N170","v":{"$error":"#DIV/0!"}},{"$error":"#DIV/0!"},{"$f":"PJK!K170","v":{"$error":"#DIV/0!"}},{"$f":"PJK!N170","v":{"$error":"#DIV/0!"}},{"$error":"#DIV/0!"},{"$f":"BD!K170","v":{"$error":"#DIV/0!"}},{"$f":"BD!N170","v":{"$error":"#DIV/0!"}},{"$error":"#DIV/0!"},{"$f":"BIG!K170","v":{"$error":"#DIV/0!"}},{"$f":"BIG!N170","v":{"$error":"#DIV/0!"}},{"$error":"#DIV/0!"},{"$error":"#DIV/0!"},{"$error":"#DIV/0!"},null,{"$error":"#DIV/0!"},{"$error":"#DIV/0!"},null,{"$error":"#DIV/0!"},{"$error":"#DIV/0!"},{"$f":"IPA!L170","v":0},{"$error":"#DIV/0!"},0,{"$error":"#DIV/0!"},0,{"$error":"#DIV/0!"},{"$error":"#DIV/0!"},{"$error":"#DIV/0!"},{"$error":"#DIV/0!"},0,{"$error":"#DIV/0!"},{"$error":"#DIV/0!"},{"$error":"#DIV/0!"},{"$error":"#DIV/0!"},null,null,{"$error":"#DIV/0!"},0,{"$error":"#DIV/0!"},{"$error":"#DIV/0!"},0,{"$error":"#DIV/0!"},{"$error":"#DIV/0!"},0,{"$error":"#DIV/0!"}]
[{"$f":"SISWA!A171","v":164},{"$f":"IF(SISWA!B171=0,\"\",SISWA!B171)","v":""},{"$f":"IF(SISWA!C171=0,\"\",SISWA!C171)","v":""},{"$f":"IF(SISWA!D171=0,\"\",SISWA!D171)","v":"164-"},{"$f":"IF(SISWA!E171=0,\"\",SISWA!E171)","v":""},{"$f":"IF(SISWA!P170=0,\"\",SISWA!P170)","v":", 00 Januari 1900"},{"$f":"IF(SISWA!H171=0,\"\",SISWA!H171)","v":""},{"$f":"#REF!","v":{"$error":"#REF!"}},{"$f":"#REF!","v":{"$error":"#REF!"}},{"$error":"#REF!"},null,null,null,null,null,null,null,null,null,null,null,null,{"$f":"PKn!K171","v":{"$error":"#DIV/0!"}},{"$f":"PKn!N171","v":0},{"$error":"#DIV/0!"},{"$f":"BID!K171","v":{"$error":"#DIV/0!"}},{"$f":"BID!N171","v":{"$error":"#DIV/0!"}},{"$error":"#DIV/0!"},null,null,null,{"$f":"MTK!K171","v":{"$error":"#DIV/0!"}},{"$f":"MTK!L171","v":0},{"$error":"#DIV/0!"},{"$f":"IPA!K171","v":{"$error":"#DIV/0!"}},{"$f":"IPA!N171","v":{"$error":"#DIV/0!"}},{"$error":"#DIV/0!"},{"$f":"IPS!K171","v":{"$error":"#DIV/0!"}},{"$f":"IPS!L171","v":0},{"$error":"#DIV/0!"},{"$f":"SBK!K171","v":{"$error":"#DIV/0!"}},{"$f":"SBK!N171","v":{"$error":"#DIV/0!"}},{"$error":"#DIV/0!"},{"$f":"PJK!K171","v":{"$error":"#DIV/0!"}},{"$f":"PJK!N171","v":{"$error":"#DIV/0!"}},{"$error":"#DIV/0!"},{"$f":"BD!K171","v":{"$error":"#DIV/0!"}},{"$f":"BD!N171","v":{"$error":"#DIV/0!"}},{"$error":"#DIV/0!"},{"$f":"BIG!K171","v":{"$error":"#DIV/0!"}},{"$f":"BIG!N171","v":{"$error":"#DIV/0!"}},{"$error":"#DIV/0!"},{"$error":"#DIV/0!"},{"$error":"#DIV/0!"},null,{"$error":"#DIV/0!"},{"$error":"#DIV/0!"},null,{"$error":"#DIV/0!"},{"$error":"#DIV/0!"},{"$f":"IPA!L171","v":0},{"$error":"#DIV/0!"},0,{"$error":"#DIV/0!"},0,{"$error":"#DIV/0!"},{"$error":"#DIV/0!"},{"$error":"#DIV/0!"},{"$error":"#DIV/0!"},0,{"$error":"#DIV/0!"},{"$error":"#DIV/0!"},{"$error":"#DIV/0!"},{"$error":"#DIV/0!"},null,null,{"$error":"#DIV/0!"},0,{"$error":"#DIV/0!"},{"$error":"#DIV/0!"},0,{"$error":"#DIV/0!"},{"$error":"#DIV/0!"},0,{"$error":"#DIV/0!"}]
[{"$f":"SISWA!A172","v":165},{"$f":"IF(SISWA!B172=0,\"\",SISWA!B172)","v":""},{"$f":"IF(SISWA!C172=0,\"\",SISWA!C172)","v":""},{"$f":"IF(SISWA!D172=0,\"\",SISWA!D172)","v":"165-"},{"$f":"IF(SISWA!E172=0,\"\",SISWA!E172)","v":""},{"$f":"IF(SISWA!P171=0,\"\",SISWA!P171)","v":", 00 Januari 1900"},{"$f":"IF(SISWA!H172=0,\"\",SISWA!H172)","v":""},{"$f":"#REF!","v":{"$error":"#REF!"}},{"$f":"#REF!","v":{"$error":"#REF!"}},{"$error":"#REF!"},null,null,null,null,null,null,null,null,null,null,null,null,{"$f":"PKn!K172","v":{"$error":"#DIV/0!"}},{"$f":"PKn!N172","v":0},{"$error":"#DIV/0!"},{"$f":"BID!K172","v":{"$error":"#DIV/0!"}},{"$f":"BID!N172","v":{"$error":"#DIV/0!"}},{"$error":"#DIV/0!"},null,null,null,{"$f":"MTK!K172","v":{"$error":"#DIV/0!"}},{"$f":"MTK!L172","v":0},{"$error":"#DIV/0!"},{"$f":"IPA!K172","v":{"$error":"#DIV/0!"}},{"$f":"IPA!N172","v":{"$error":"#DIV/0!"}},{"$error":"#DIV/0!"},{"$f":"IPS!K172","v":{"$error":"#DIV/0!"}},{"$f":"IPS!L172","v":0},{"$error":"#DIV/0!"},{"$f":"SBK!K172","v":{"$error":"#DIV/0!"}},{"$f":"SBK!N172","v":{"$error":"#DIV/0!"}},{"$error":"#DIV/0!"},{"$f":"PJK!K172","v":{"$error":"#DIV/0!"}},{"$f":"PJK!N172","v":{"$error":"#DIV/0!"}},{"$error":"#DIV/0!"},{"$f":"BD!K172","v":{"$error":"#DIV/0!"}},{"$f":"BD!N172","v":{"$error":"#DIV/0!"}},{"$error":"#DIV/0!"},{"$f":"BIG!K172","v":{"$error":"#DIV/0!"}},{"$f":"BIG!N172","v":{"$error":"#DIV/0!"}},{"$error":"#DIV/0!"},{"$error":"#DIV/0!"},{"$error":"#DIV/0!"},null,{"$error":"#DIV/0!"},{"$error":"#DIV/0!"},null,{"$error":"#DIV/0!"},{"$error":"#DIV/0!"},{"$f":"IPA!L172","v":0},{"$error":"#DIV/0!"},0,{"$error":"#DIV/0!"},0,{"$error":"#DIV/0!"},{"$error":"#DIV/0!"},{"$error":"#DIV/0!"},{"$error":"#DIV/0!"},0,{"$error":"#DIV/0!"},{"$error":"#DIV/0!"},{"$error":"#DIV/0!"},{"$error":"#DIV/0!"},null,null,{"$error":"#DIV/0!"},0,{"$error":"#DIV/0!"},{"$error":"#DIV/0!"},0,{"$error":"#DIV/0!"},{"$error":"#DIV/0!"},0,{"$error":"#DIV/0!"}]
[{"$f":"SISWA!A173","v":166},{"$f":"IF(SISWA!B173=0,\"\",SISWA!B173)","v":""},{"$f":"IF(SISWA!C173=0,\"\",SISWA!C173)","v":""},{"$f":"IF(SISWA!D173=0,\"\",SISWA!D173)","v":"166-"},{"$f":"IF(SISWA!E173=0,\"\",SISWA!E173)","v":""},{"$f":"IF(SISWA!P172=0,\"\",SISWA!P172)","v":", 00 Januari 1900"},{"$f":"IF(SISWA!H173=0,\"\",SISWA!H173)","v":""},{"$f":"#REF!","v":{"$error":"#REF!"}},{"$f":"#REF!","v":{"$error":"#REF!"}},{"$error":"#REF!"},null,null,null,null,null,null,null,null,null,null,null,null,{"$f":"PKn!K173","v":{"$error":"#DIV/0!"}},{"$f":"PKn!N173","v":0},{"$error":"#DIV/0!"},{"$f":"BID!K173","v":{"$error":"#DIV/0!"}},{"$f":"BID!N173","v":{"$error":"#DIV/0!"}},{"$error":"#DIV/0!"},null,null,null,{"$f":"MTK!K173","v":{"$error":"#DIV/0!"}},{"$f":"MTK!L173","v":0},{"$error":"#DIV/0!"},{"$f":"IPA!K173","v":{"$error":"#DIV/0!"}},{"$f":"IPA!N173","v":{"$error":"#DIV/0!"}},{"$error":"#DIV/0!"},{"$f":"IPS!K173","v":{"$error":"#DIV/0!"}},{"$f":"IPS!L173","v":0},{"$error":"#DIV/0!"},{"$f":"SBK!K173","v":{"$error":"#DIV/0!"}},{"$f":"SBK!N173","v":{"$error":"#DIV/0!"}},{"$error":"#DIV/0!"},{"$f":"PJK!K173","v":{"$error":"#DIV/0!"}},{"$f":"PJK!N173","v":{"$error":"#DIV/0!"}},{"$error":"#DIV/0!"},{"$f":"BD!K173","v":{"$error":"#DIV/0!"}},{"$f":"BD!N173","v":{"$error":"#DIV/0!"}},{"$error":"#DIV/0!"},{"$f":"BIG!K173","v":{"$error":"#DIV/0!"}},{"$f":"BIG!N173","v":{"$error":"#DIV/0!"}},{"$error":"#DIV/0!"},{"$error":"#DIV/0!"},{"$error":"#DIV/0!"},null,{"$error":"#DIV/0!"},{"$error":"#DIV/0!"},null,{"$error":"#DIV/0!"},{"$error":"#DIV/0!"},{"$f":"IPA!L173","v":0},{"$error":"#DIV/0!"},0,{"$error":"#DIV/0!"},0,{"$error":"#DIV/0!"},{"$error":"#DIV/0!"},{"$error":"#DIV/0!"},{"$error":"#DIV/0!"},0,{"$error":"#DIV/0!"},{"$error":"#DIV/0!"},{"$error":"#DIV/0!"},{"$error":"#DIV/0!"},null,null,{"$error":"#DIV/0!"},0,{"$error":"#DIV/0!"},{"$error":"#DIV/0!"},0,{"$error":"#DIV/0!"},{"$error":"#DIV/0!"},0,{"$error":"#DIV/0!"}]
[{"$f":"SISWA!A174","v":167},{"$f":"IF(SISWA!B174=0,\"\",SISWA!B174)","v":""},{"$f":"IF(SISWA!C174=0,\"\",SISWA!C174)","v":""},{"$f":"IF(SISWA!D174=0,\"\",SISWA!D174)","v":"167-"},{"$f":"IF(SISWA!E174=0,\"\",SISWA!E174)","v":""},{"$f":"IF(SISWA!P173=0,\"\",SISWA!P173)","v":", 00 Januari 1900"},{"$f":"IF(SISWA!H174=0,\"\",SISWA!H174)","v":""},{"$f":"#REF!","v":{"$error":"#REF!"}},{"$f":"#REF!","v":{"$error":"#REF!"}},{"$error":"#REF!"},null,null,null,null,null,null,null,null,null,null,null,null,{"$f":"PKn!K174","v":{"$error":"#DIV/0!"}},{"$f":"PKn!N174","v":0},{"$error":"#DIV/0!"},{"$f":"BID!K174","v":{"$error":"#DIV/0!"}},{"$f":"BID!N174","v":{"$error":"#DIV/0!"}},{"$error":"#DIV/0!"},null,null,null,{"$f":"MTK!K174","v":{"$error":"#DIV/0!"}},{"$f":"MTK!L174","v":0},{"$error":"#DIV/0!"},{"$f":"IPA!K174","v":{"$error":"#DIV/0!"}},{"$f":"IPA!N174","v":{"$error":"#DIV/0!"}},{"$error":"#DIV/0!"},{"$f":"IPS!K174","v":{"$error":"#DIV/0!"}},{"$f":"IPS!L174","v":0},{"$error":"#DIV/0!"},{"$f":"SBK!K174","v":{"$error":"#DIV/0!"}},{"$f":"SBK!N174","v":{"$error":"#DIV/0!"}},{"$error":"#DIV/0!"},{"$f":"PJK!K174","v":{"$error":"#DIV/0!"}},{"$f":"PJK!N174","v":{"$error":"#DIV/0!"}},{"$error":"#DIV/0!"},{"$f":"BD!K174","v":{"$error":"#DIV/0!"}},{"$f":"BD!N174","v":{"$error":"#DIV/0!"}},{"$error":"#DIV/0!"},{"$f":"BIG!K174","v":{"$error":"#DIV/0!"}},{"$f":"BIG!N174","v":{"$error":"#DIV/0!"}},{"$error":"#DIV/0!"},{"$error":"#DIV/0!"},{"$error":"#DIV/0!"},null,{"$error":"#DIV/0!"},{"$error":"#DIV/0!"},null,{"$error":"#DIV/0!"},{"$error":"#DIV/0!"},{"$f":"IPA!L174","v":0},{"$error":"#DIV/0!"},0,{"$error":"#DIV/0!"},0,{"$error":"#DIV/0!"},{"$error":"#DIV/0!"},{"$error":"#DIV/0!"},{"$error":"#DIV/0!"},0,{"$error":"#DIV/0!"},{"$error":"#DIV/0!"},{"$error":"#DIV/0!"},{"$error":"#DIV/0!"},null,null,{"$error":"#DIV/0!"},0,{"$error":"#DIV/0!"},{"$error":"#DIV/0!"},0,{"$error":"#DIV/0!"},{"$error":"#DIV/0!"},0,{"$error":"#DIV/0!"}]
[{"$f":"SISWA!A175","v":168},{"$f":"IF(SISWA!B175=0,\"\",SISWA!B175)","v":""},{"$f":"IF(SISWA!C175=0,\"\",SISWA!C175)","v":""},{"$f":"IF(SISWA!D175=0,\"\",SISWA!D175)","v":"168-"},{"$f":"IF(SISWA!E175=0,\"\",SISWA!E175)","v":""},{"$f":"IF(SISWA!P174=0,\"\",SISWA!P174)","v":", 00 Januari 1900"},{"$f":"IF(SISWA!H175=0,\"\",SISWA!H175)","v":""},{"$f":"#REF!","v":{"$error":"#REF!"}},{"$f":"#REF!","v":{"$error":"#REF!"}},{"$error":"#REF!"},null,null,null,null,null,null,null,null,null,null,null,null,{"$f":"PKn!K175","v":{"$error":"#DIV/0!"}},{"$f":"PKn!N175","v":0},{"$error":"#DIV/0!"},{"$f":"BID!K175","v":{"$error":"#DIV/0!"}},{"$f":"BID!N175","v":{"$error":"#DIV/0!"}},{"$error":"#DIV/0!"},null,null,null,{"$f":"MTK!K175","v":{"$error":"#DIV/0!"}},{"$f":"MTK!L175","v":0},{"$error":"#DIV/0!"},{"$f":"IPA!K175","v":{"$error":"#DIV/0!"}},{"$f":"IPA!N175","v":{"$error":"#DIV/0!"}},{"$error":"#DIV/0!"},{"$f":"IPS!K175","v":{"$error":"#DIV/0!"}},{"$f":"IPS!L175","v":0},{"$error":"#DIV/0!"},{"$f":"SBK!K175","v":{"$error":"#DIV/0!"}},{"$f":"SBK!N175","v":{"$error":"#DIV/0!"}},{"$error":"#DIV/0!"},{"$f":"PJK!K175","v":{"$error":"#DIV/0!"}},{"$f":"PJK!N175","v":{"$error":"#DIV/0!"}},{"$error":"#DIV/0!"},{"$f":"BD!K175","v":{"$error":"#DIV/0!"}},{"$f":"BD!N175","v":{"$error":"#DIV/0!"}},{"$error":"#DIV/0!"},{"$f":"BIG!K175","v":{"$error":"#DIV/0!"}},{"$f":"BIG!N175","v":{"$error":"#DIV/0!"}},{"$error":"#DIV/0!"},{"$error":"#DIV/0!"},{"$error":"#DIV/0!"},null,{"$error":"#DIV/0!"},{"$error":"#DIV/0!"},null,{"$error":"#DIV/0!"},{"$error":"#DIV/0!"},{"$f":"IPA!L175","v":0},{"$error":"#DIV/0!"},0,{"$error":"#DIV/0!"},0,{"$error":"#DIV/0!"},{"$error":"#DIV/0!"},{"$error":"#DIV/0!"},{"$error":"#DIV/0!"},0,{"$error":"#DIV/0!"},{"$error":"#DIV/0!"},{"$error":"#DIV/0!"},{"$error":"#DIV/0!"},null,null,{"$error":"#DIV/0!"},0,{"$error":"#DIV/0!"},{"$error":"#DIV/0!"},0,{"$error":"#DIV/0!"},{"$error":"#DIV/0!"},0,{"$error":"#DIV/0!"}]
[{"$f":"SISWA!A176","v":169},{"$f":"IF(SISWA!B176=0,\"\",SISWA!B176)","v":""},{"$f":"IF(SISWA!C176=0,\"\",SISWA!C176)","v":""},{"$f":"IF(SISWA!D176=0,\"\",SISWA!D176)","v":"169-"},{"$f":"IF(SISWA!E176=0,\"\",SISWA!E176)","v":""},{"$f":"IF(SISWA!P175=0,\"\",SISWA!P175)","v":", 00 Januari 1900"},{"$f":"IF(SISWA!H176=0,\"\",SISWA!H176)","v":""},{"$f":"#REF!","v":{"$error":"#REF!"}},{"$f":"#REF!","v":{"$error":"#REF!"}},{"$error":"#REF!"},null,null,null,null,null,null,null,null,null,null,null,null,{"$f":"PKn!K176","v":{"$error":"#DIV/0!"}},{"$f":"PKn!N176","v":0},{"$error":"#DIV/0!"},{"$f":"BID!K176","v":{"$error":"#DIV/0!"}},{"$f":"BID!N176","v":{"$error":"#DIV/0!"}},{"$error":"#DIV/0!"},null,null,null,{"$f":"MTK!K176","v":{"$error":"#DIV/0!"}},{"$f":"MTK!L176","v":0},{"$error":"#DIV/0!"},{"$f":"IPA!K176","v":{"$error":"#DIV/0!"}},{"$f":"IPA!N176","v":{"$error":"#DIV/0!"}},{"$error":"#DIV/0!"},{"$f":"IPS!K176","v":{"$error":"#DIV/0!"}},{"$f":"IPS!L176","v":0},{"$error":"#DIV/0!"},{"$f":"SBK!K176","v":{"$error":"#DIV/0!"}},{"$f":"SBK!N176","v":{"$error":"#DIV/0!"}},{"$error":"#DIV/0!"},{"$f":"PJK!K176","v":{"$error":"#DIV/0!"}},{"$f":"PJK!N176","v":{"$error":"#DIV/0!"}},{"$error":"#DIV/0!"},{"$f":"BD!K176","v":{"$error":"#DIV/0!"}},{"$f":"BD!N176","v":{"$error":"#DIV/0!"}},{"$error":"#DIV/0!"},{"$f":"BIG!K176","v":{"$error":"#DIV/0!"}},{"$f":"BIG!N176","v":{"$error":"#DIV/0!"}},{"$error":"#DIV/0!"},{"$error":"#DIV/0!"},{"$error":"#DIV/0!"},null,{"$error":"#DIV/0!"},{"$error":"#DIV/0!"},null,{"$error":"#DIV/0!"},{"$error":"#DIV/0!"},{"$f":"IPA!L176","v":0},{"$error":"#DIV/0!"},0,{"$error":"#DIV/0!"},0,{"$error":"#DIV/0!"},{"$error":"#DIV/0!"},{"$error":"#DIV/0!"},{"$error":"#DIV/0!"},0,{"$error":"#DIV/0!"},{"$error":"#DIV/0!"},{"$error":"#DIV/0!"},{"$error":"#DIV/0!"},null,null,{"$error":"#DIV/0!"},0,{"$error":"#DIV/0!"},{"$error":"#DIV/0!"},0,{"$error":"#DIV/0!"},{"$error":"#DIV/0!"},0,{"$error":"#DIV/0!"}]
[{"$f":"SISWA!A177","v":170},{"$f":"IF(SISWA!B177=0,\"\",SISWA!B177)","v":""},{"$f":"IF(SISWA!C177=0,\"\",SISWA!C177)","v":""},{"$f":"IF(SISWA!D177=0,\"\",SISWA!D177)","v":"170-"},{"$f":"IF(SISWA!E177=0,\"\",SISWA!E177)","v":""},{"$f":"IF(SISWA!P176=0,\"\",SISWA!P176)","v":", 00 Januari 1900"},{"$f":"IF(SISWA!H177=0,\"\",SISWA!H177)","v":""},{"$f":"#REF!","v":{"$error":"#REF!"}},{"$f":"#REF!","v":{"$error":"#REF!"}},{"$error":"#REF!"},null,null,null,null,null,null,null,null,null,null,null,null,{"$f":"PKn!K177","v":{"$error":"#DIV/0!"}},{"$f":"PKn!N177","v":0},{"$error":"#DIV/0!"},{"$f":"BID!K177","v":{"$error":"#DIV/0!"}},{"$f":"BID!N177","v":{"$error":"#DIV/0!"}},{"$error":"#DIV/0!"},null,null,null,{"$f":"MTK!K177","v":{"$error":"#DIV/0!"}},{"$f":"MTK!L177","v":0},{"$error":"#DIV/0!"},{"$f":"IPA!K177","v":{"$error":"#DIV/0!"}},{"$f":"IPA!N177","v":{"$error":"#DIV/0!"}},{"$error":"#DIV/0!"},{"$f":"IPS!K177","v":{"$error":"#DIV/0!"}},{"$f":"IPS!L177","v":0},{"$error":"#DIV/0!"},{"$f":"SBK!K177","v":{"$error":"#DIV/0!"}},{"$f":"SBK!N177","v":{"$error":"#DIV/0!"}},{"$error":"#DIV/0!"},{"$f":"PJK!K177","v":{"$error":"#DIV/0!"}},{"$f":"PJK!N177","v":{"$error":"#DIV/0!"}},{"$error":"#DIV/0!"},{"$f":"BD!K177","v":{"$error":"#DIV/0!"}},{"$f":"BD!N177","v":{"$error":"#DIV/0!"}},{"$error":"#DIV/0!"},{"$f":"BIG!K177","v":{"$error":"#DIV/0!"}},{"$f":"BIG!N177","v":{"$error":"#DIV/0!"}},{"$error":"#DIV/0!"},{"$error":"#DIV/0!"},{"$error":"#DIV/0!"},null,{"$error":"#DIV/0!"},{"$error":"#DIV/0!"},null,{"$error":"#DIV/0!"},{"$error":"#DIV/0!"},{"$f":"IPA!L177","v":0},{"$error":"#DIV/0!"},0,{"$error":"#DIV/0!"},0,{"$error":"#DIV/0!"},{"$error":"#DIV/0!"},{"$error":"#DIV/0!"},{"$error":"#DIV/0!"},0,{"$error":"#DIV/0!"},{"$error":"#DIV/0!"},{"$error":"#DIV/0!"},{"$error":"#DIV/0!"},null,null,{"$error":"#DIV/0!"},0,{"$error":"#DIV/0!"},{"$error":"#DIV/0!"},0,{"$error":"#DIV/0!"},{"$error":"#DIV/0!"},0,{"$error":"#DIV/0!"}]
[{"$f":"SISWA!A178","v":171},{"$f":"IF(SISWA!B178=0,\"\",SISWA!B178)","v":""},{"$f":"IF(SISWA!C178=0,\"\",SISWA!C178)","v":""},{"$f":"IF(SISWA!D178=0,\"\",SISWA!D178)","v":"171-"},{"$f":"IF(SISWA!E178=0,\"\",SISWA!E178)","v":""},{"$f":"IF(SISWA!P177=0,\"\",SISWA!P177)","v":", 00 Januari 1900"},{"$f":"IF(SISWA!H178=0,\"\",SISWA!H178)","v":""},{"$f":"#REF!","v":{"$error":"#REF!"}},{"$f":"#REF!","v":{"$error":"#REF!"}},{"$error":"#REF!"},null,null,null,null,null,null,null,null,null,null,null,null,{"$f":"PKn!K178","v":{"$error":"#DIV/0!"}},{"$f":"PKn!N178","v":0},{"$error":"#DIV/0!"},{"$f":"BID!K178","v":{"$error":"#DIV/0!"}},{"$f":"BID!N178","v":{"$error":"#DIV/0!"}},{"$error":"#DIV/0!"},null,null,null,{"$f":"MTK!K178","v":{"$error":"#DIV/0!"}},{"$f":"MTK!L178","v":0},{"$error":"#DIV/0!"},{"$f":"IPA!K178","v":{"$error":"#DIV/0!"}},{"$f":"IPA!N178","v":{"$error":"#DIV/0!"}},{"$error":"#DIV/0!"},{"$f":"IPS!K178","v":{"$error":"#DIV/0!"}},{"$f":"IPS!L178","v":0},{"$error":"#DIV/0!"},{"$f":"SBK!K178","v":{"$error":"#DIV/0!"}},{"$f":"SBK!N178","v":{"$error":"#DIV/0!"}},{"$error":"#DIV/0!"},{"$f":"PJK!K178","v":{"$error":"#DIV/0!"}},{"$f":"PJK!N178","v":{"$error":"#DIV/0!"}},{"$error":"#DIV/0!"},{"$f":"BD!K178","v":{"$error":"#DIV/0!"}},{"$f":"BD!N178","v":{"$error":"#DIV/0!"}},{"$error":"#DIV/0!"},{"$f":"BIG!K178","v":{"$error":"#DIV/0!"}},{"$f":"BIG!N178","v":{"$error":"#DIV/0!"}},{"$error":"#DIV/0!"},{"$error":"#DIV/0!"},{"$error":"#DIV/0!"},null,{"$error":"#DIV/0!"},{"$error":"#DIV/0!"},null,{"$error":"#DIV/0!"},{"$error":"#DIV/0!"},{"$f":"IPA!L178","v":0},{"$error":"#DIV/0!"},0,{"$error":"#DIV/0!"},0,{"$error":"#DIV/0!"},{"$error":"#DIV/0!"},{"$error":"#DIV/0!"},{"$error":"#DIV/0!"},0,{"$error":"#DIV/0!"},{"$error":"#DIV/0!"},{"$error":"#DIV/0!"},{"$error":"#DIV/0!"},null,null,{"$error":"#DIV/0!"},0,{"$error":"#DIV/0!"},{"$error":"#DIV/0!"},0,{"$error":"#DIV/0!"},{"$error":"#DIV/0!"},0,{"$error":"#DIV/0!"}]
[{"$f":"SISWA!A179","v":172},{"$f":"IF(SISWA!B179=0,\"\",SISWA!B179)","v":""},{"$f":"IF(SISWA!C179=0,\"\",SISWA!C179)","v":""},{"$f":"IF(SISWA!D179=0,\"\",SISWA!D179)","v":"172-"},{"$f":"IF(SISWA!E179=0,\"\",SISWA!E179)","v":""},{"$f":"IF(SISWA!P178=0,\"\",SISWA!P178)","v":", 00 Januari 1900"},{"$f":"IF(SISWA!H179=0,\"\",SISWA!H179)","v":""},{"$f":"#REF!","v":{"$error":"#REF!"}},{"$f":"#REF!","v":{"$error":"#REF!"}},{"$error":"#REF!"},null,null,null,null,null,null,null,null,null,null,null,null,{"$f":"PKn!K179","v":{"$error":"#DIV/0!"}},{"$f":"PKn!N179","v":0},{"$error":"#DIV/0!"},{"$f":"BID!K179","v":{"$error":"#DIV/0!"}},{"$f":"BID!N179","v":{"$error":"#DIV/0!"}},{"$error":"#DIV/0!"},null,null,null,{"$f":"MTK!K179","v":{"$error":"#DIV/0!"}},{"$f":"MTK!L179","v":0},{"$error":"#DIV/0!"},{"$f":"IPA!K179","v":{"$error":"#DIV/0!"}},{"$f":"IPA!N179","v":{"$error":"#DIV/0!"}},{"$error":"#DIV/0!"},{"$f":"IPS!K179","v":{"$error":"#DIV/0!"}},{"$f":"IPS!L179","v":0},{"$error":"#DIV/0!"},{"$f":"SBK!K179","v":{"$error":"#DIV/0!"}},{"$f":"SBK!N179","v":{"$error":"#DIV/0!"}},{"$error":"#DIV/0!"},{"$f":"PJK!K179","v":{"$error":"#DIV/0!"}},{"$f":"PJK!N179","v":{"$error":"#DIV/0!"}},{"$error":"#DIV/0!"},{"$f":"BD!K179","v":{"$error":"#DIV/0!"}},{"$f":"BD!N179","v":{"$error":"#DIV/0!"}},{"$error":"#DIV/0!"},{"$f":"BIG!K179","v":{"$error":"#DIV/0!"}},{"$f":"BIG!N179","v":{"$error":"#DIV/0!"}},{"$error":"#DIV/0!"},{"$error":"#DIV/0!"},{"$error":"#DIV/0!"},null,{"$error":"#DIV/0!"},{"$error":"#DIV/0!"},null,{"$error":"#DIV/0!"},{"$error":"#DIV/0!"},{"$f":"IPA!L179","v":0},{"$error":"#DIV/0!"},0,{"$error":"#DIV/0!"},0,{"$error":"#DIV/0!"},{"$error":"#DIV/0!"},{"$error":"#DIV/0!"},{"$error":"#DIV/0!"},0,{"$error":"#DIV/0!"},{"$error":"#DIV/0!"},{"$error":"#DIV/0!"},{"$error":"#DIV/0!"},null,null,{"$error":"#DIV/0!"},0,{"$error":"#DIV/0!"},{"$error":"#DIV/0!"},0,{"$error":"#DIV/0!"},{"$error":"#DIV/0!"},0,{"$error":"#DIV/0!"}]
[{"$f":"SISWA!A180","v":173},{"$f":"IF(SISWA!B180=0,\"\",SISWA!B180)","v":""},{"$f":"IF(SISWA!C180=0,\"\",SISWA!C180)","v":""},{"$f":"IF(SISWA!D180=0,\"\",SISWA!D180)","v":"173-"},{"$f":"IF(SISWA!E180=0,\"\",SISWA!E180)","v":""},{"$f":"IF(SISWA!P179=0,\"\",SISWA!P179)","v":", 00 Januari 1900"},{"$f":"IF(SISWA!H180=0,\"\",SISWA!H180)","v":""},{"$f":"#REF!","v":{"$error":"#REF!"}},{"$f":"#REF!","v":{"$error":"#REF!"}},{"$error":"#REF!"},null,null,null,null,null,null,null,null,null,null,null,null,{"$f":"PKn!K180","v":{"$error":"#DIV/0!"}},{"$f":"PKn!N180","v":0},{"$error":"#DIV/0!"},{"$f":"BID!K180","v":{"$error":"#DIV/0!"}},{"$f":"BID!N180","v":{"$error":"#DIV/0!"}},{"$error":"#DIV/0!"},null,null,null,{"$f":"MTK!K180","v":{"$error":"#DIV/0!"}},{"$f":"MTK!L180","v":0},{"$error":"#DIV/0!"},{"$f":"IPA!K180","v":{"$error":"#DIV/0!"}},{"$f":"IPA!N180","v":{"$error":"#DIV/0!"}},{"$error":"#DIV/0!"},{"$f":"IPS!K180","v":{"$error":"#DIV/0!"}},{"$f":"IPS!L180","v":0},{"$error":"#DIV/0!"},{"$f":"SBK!K180","v":{"$error":"#DIV/0!"}},{"$f":"SBK!N180","v":{"$error":"#DIV/0!"}},{"$error":"#DIV/0!"},{"$f":"PJK!K180","v":{"$error":"#DIV/0!"}},{"$f":"PJK!N180","v":{"$error":"#DIV/0!"}},{"$error":"#DIV/0!"},{"$f":"BD!K180","v":{"$error":"#DIV/0!"}},{"$f":"BD!N180","v":{"$error":"#DIV/0!"}},{"$error":"#DIV/0!"},{"$f":"BIG!K180","v":{"$error":"#DIV/0!"}},{"$f":"BIG!N180","v":{"$error":"#DIV/0!"}},{"$error":"#DIV/0!"},{"$error":"#DIV/0!"},{"$error":"#DIV/0!"},null,{"$error":"#DIV/0!"},{"$error":"#DIV/0!"},null,{"$error":"#DIV/0!"},{"$error":"#DIV/0!"},{"$f":"IPA!L180","v":0},{"$error":"#DIV/0!"},0,{"$error":"#DIV/0!"},0,{"$error":"#DIV/0!"},{"$error":"#DIV/0!"},{"$error":"#DIV/0!"},{"$error":"#DIV/0!"},0,{"$error":"#DIV/0!"},{"$error":"#DIV/0!"},{"$error":"#DIV/0!"},{"$error":"#DIV/0!"},null,null,{"$error":"#DIV/0!"},0,{"$error":"#DIV/0!"},{"$error":"#DIV/0!"},0,{"$error":"#DIV/0!"},{"$error":"#DIV/0!"},0,{"$error":"#DIV/0!"}]
[{"$f":"SISWA!A181","v":174},{"$f":"IF(SISWA!B181=0,\"\",SISWA!B181)","v":""},{"$f":"IF(SISWA!C181=0,\"\",SISWA!C181)","v":""},{"$f":"IF(SISWA!D181=0,\"\",SISWA!D181)","v":"174-"},{"$f":"IF(SISWA!E181=0,\"\",SISWA!E181)","v":""},{"$f":"IF(SISWA!P180=0,\"\",SISWA!P180)","v":", 00 Januari 1900"},{"$f":"IF(SISWA!H181=0,\"\",SISWA!H181)","v":""},{"$f":"#REF!","v":{"$error":"#REF!"}},{"$f":"#REF!","v":{"$error":"#REF!"}},{"$error":"#REF!"},null,null,null,null,null,null,null,null,null,null,null,null,{"$f":"PKn!K181","v":{"$error":"#DIV/0!"}},{"$f":"PKn!N181","v":0},{"$error":"#DIV/0!"},{"$f":"BID!K181","v":{"$error":"#DIV/0!"}},{"$f":"BID!N181","v":{"$error":"#DIV/0!"}},{"$error":"#DIV/0!"},null,null,null,{"$f":"MTK!K181","v":{"$error":"#DIV/0!"}},{"$f":"MTK!L181","v":0},{"$error":"#DIV/0!"},{"$f":"IPA!K181","v":{"$error":"#DIV/0!"}},{"$f":"IPA!N181","v":{"$error":"#DIV/0!"}},{"$error":"#DIV/0!"},{"$f":"IPS!K181","v":{"$error":"#DIV/0!"}},{"$f":"IPS!L181","v":0},{"$error":"#DIV/0!"},{"$f":"SBK!K181","v":{"$error":"#DIV/0!"}},{"$f":"SBK!N181","v":{"$error":"#DIV/0!"}},{"$error":"#DIV/0!"},{"$f":"PJK!K181","v":{"$error":"#DIV/0!"}},{"$f":"PJK!N181","v":{"$error":"#DIV/0!"}},{"$error":"#DIV/0!"},{"$f":"BD!K181","v":{"$error":"#DIV/0!"}},{"$f":"BD!N181","v":{"$error":"#DIV/0!"}},{"$error":"#DIV/0!"},{"$f":"BIG!K181","v":{"$error":"#DIV/0!"}},{"$f":"BIG!N181","v":{"$error":"#DIV/0!"}},{"$error":"#DIV/0!"},{"$error":"#DIV/0!"},{"$error":"#DIV/0!"},null,{"$error":"#DIV/0!"},{"$error":"#DIV/0!"},null,{"$error":"#DIV/0!"},{"$error":"#DIV/0!"},{"$f":"IPA!L181","v":0},{"$error":"#DIV/0!"},0,{"$error":"#DIV/0!"},0,{"$error":"#DIV/0!"},{"$error":"#DIV/0!"},{"$error":"#DIV/0!"},{"$error":"#DIV/0!"},0,{"$error":"#DIV/0!"},{"$error":"#DIV/0!"},{"$error":"#DIV/0!"},{"$error":"#DIV/0!"},null,null,{"$error":"#DIV/0!"},0,{"$error":"#DIV/0!"},{"$error":"#DIV/0!"},0,{"$error":"#DIV/0!"},{"$error":"#DIV/0!"},0,{"$error":"#DIV/0!"}]
[{"$f":"SISWA!A182","v":175},{"$f":"IF(SISWA!B182=0,\"\",SISWA!B182)","v":""},{"$f":"IF(SISWA!C182=0,\"\",SISWA!C182)","v":""},{"$f":"IF(SISWA!D182=0,\"\",SISWA!D182)","v":"175-"},{"$f":"IF(SISWA!E182=0,\"\",SISWA!E182)","v":""},{"$f":"IF(SISWA!P181=0,\"\",SISWA!P181)","v":", 00 Januari 1900"},{"$f":"IF(SISWA!H182=0,\"\",SISWA!H182)","v":""},{"$f":"#REF!","v":{"$error":"#REF!"}},{"$f":"#REF!","v":{"$error":"#REF!"}},{"$error":"#REF!"},null,null,null,null,null,null,null,null,null,null,null,null,{"$f":"PKn!K182","v":{"$error":"#DIV/0!"}},{"$f":"PKn!N182","v":0},{"$error":"#DIV/0!"},{"$f":"BID!K182","v":{"$error":"#DIV/0!"}},{"$f":"BID!N182","v":{"$error":"#DIV/0!"}},{"$error":"#DIV/0!"},null,null,null,{"$f":"MTK!K182","v":{"$error":"#DIV/0!"}},{"$f":"MTK!L182","v":0},{"$error":"#DIV/0!"},{"$f":"IPA!K182","v":{"$error":"#DIV/0!"}},{"$f":"IPA!N182","v":{"$error":"#DIV/0!"}},{"$error":"#DIV/0!"},{"$f":"IPS!K182","v":{"$error":"#DIV/0!"}},{"$f":"IPS!L182","v":0},{"$error":"#DIV/0!"},{"$f":"SBK!K182","v":{"$error":"#DIV/0!"}},{"$f":"SBK!N182","v":{"$error":"#DIV/0!"}},{"$error":"#DIV/0!"},{"$f":"PJK!K182","v":{"$error":"#DIV/0!"}},{"$f":"PJK!N182","v":{"$error":"#DIV/0!"}},{"$error":"#DIV/0!"},{"$f":"BD!K182","v":{"$error":"#DIV/0!"}},{"$f":"BD!N182","v":{"$error":"#DIV/0!"}},{"$error":"#DIV/0!"},{"$f":"BIG!K182","v":{"$error":"#DIV/0!"}},{"$f":"BIG!N182","v":{"$error":"#DIV/0!"}},{"$error":"#DIV/0!"},{"$error":"#DIV/0!"},{"$error":"#DIV/0!"},null,{"$error":"#DIV/0!"},{"$error":"#DIV/0!"},null,{"$error":"#DIV/0!"},{"$error":"#DIV/0!"},{"$f":"IPA!L182","v":0},{"$error":"#DIV/0!"},0,{"$error":"#DIV/0!"},0,{"$error":"#DIV/0!"},{"$error":"#DIV/0!"},{"$error":"#DIV/0!"},{"$error":"#DIV/0!"},0,{"$error":"#DIV/0!"},{"$error":"#DIV/0!"},{"$error":"#DIV/0!"},{"$error":"#DIV/0!"},null,null,{"$error":"#DIV/0!"},0,{"$error":"#DIV/0!"},{"$error":"#DIV/0!"},0,{"$error":"#DIV/0!"},{"$error":"#DIV/0!"},0,{"$error":"#DIV/0!"}]
[{"$f":"SISWA!A183","v":176},{"$f":"IF(SISWA!B183=0,\"\",SISWA!B183)","v":""},{"$f":"IF(SISWA!C183=0,\"\",SISWA!C183)","v":""},{"$f":"IF(SISWA!D183=0,\"\",SISWA!D183)","v":"176-"},{"$f":"IF(SISWA!E183=0,\"\",SISWA!E183)","v":""},{"$f":"IF(SISWA!P182=0,\"\",SISWA!P182)","v":", 00 Januari 1900"},{"$f":"IF(SISWA!H183=0,\"\",SISWA!H183)","v":""},{"$f":"#REF!","v":{"$error":"#REF!"}},{"$f":"#REF!","v":{"$error":"#REF!"}},{"$error":"#REF!"},null,null,null,null,null,null,null,null,null,null,null,null,{"$f":"PKn!K183","v":{"$error":"#DIV/0!"}},{"$f":"PKn!N183","v":0},{"$error":"#DIV/0!"},{"$f":"BID!K183","v":{"$error":"#DIV/0!"}},{"$f":"BID!N183","v":{"$error":"#DIV/0!"}},{"$error":"#DIV/0!"},null,null,null,{"$f":"MTK!K183","v":{"$error":"#DIV/0!"}},{"$f":"MTK!L183","v":0},{"$error":"#DIV/0!"},{"$f":"IPA!K183","v":{"$error":"#DIV/0!"}},{"$f":"IPA!N183","v":{"$error":"#DIV/0!"}},{"$error":"#DIV/0!"},{"$f":"IPS!K183","v":{"$error":"#DIV/0!"}},{"$f":"IPS!L183","v":0},{"$error":"#DIV/0!"},{"$f":"SBK!K183","v":{"$error":"#DIV/0!"}},{"$f":"SBK!N183","v":{"$error":"#DIV/0!"}},{"$error":"#DIV/0!"},{"$f":"PJK!K183","v":{"$error":"#DIV/0!"}},{"$f":"PJK!N183","v":{"$error":"#DIV/0!"}},{"$error":"#DIV/0!"},{"$f":"BD!K183","v":{"$error":"#DIV/0!"}},{"$f":"BD!N183","v":{"$error":"#DIV/0!"}},{"$error":"#DIV/0!"},{"$f":"BIG!K183","v":{"$error":"#DIV/0!"}},{"$f":"BIG!N183","v":{"$error":"#DIV/0!"}},{"$error":"#DIV/0!"},{"$error":"#DIV/0!"},{"$error":"#DIV/0!"},null,{"$error":"#DIV/0!"},{"$error":"#DIV/0!"},null,{"$error":"#DIV/0!"},{"$error":"#DIV/0!"},{"$f":"IPA!L183","v":0},{"$error":"#DIV/0!"},0,{"$error":"#DIV/0!"},0,{"$error":"#DIV/0!"},{"$error":"#DIV/0!"},{"$error":"#DIV/0!"},{"$error":"#DIV/0!"},0,{"$error":"#DIV/0!"},{"$error":"#DIV/0!"},{"$error":"#DIV/0!"},{"$error":"#DIV/0!"},null,null,{"$error":"#DIV/0!"},0,{"$error":"#DIV/0!"},{"$error":"#DIV/0!"},0,{"$error":"#DIV/0!"},{"$error":"#DIV/0!"},0,{"$error":"#DIV/0!"}]
[{"$f":"SISWA!A184","v":177},{"$f":"IF(SISWA!B184=0,\"\",SISWA!B184)","v":""},{"$f":"IF(SISWA!C184=0,\"\",SISWA!C184)","v":""},{"$f":"IF(SISWA!D184=0,\"\",SISWA!D184)","v":"177-"},{"$f":"IF(SISWA!E184=0,\"\",SISWA!E184)","v":""},{"$f":"IF(SISWA!P183=0,\"\",SISWA!P183)","v":", 00 Januari 1900"},{"$f":"IF(SISWA!H184=0,\"\",SISWA!H184)","v":""},{"$f":"#REF!","v":{"$error":"#REF!"}},{"$f":"#REF!","v":{"$error":"#REF!"}},{"$error":"#REF!"},null,null,null,null,null,null,null,null,null,null,null,null,{"$f":"PKn!K184","v":{"$error":"#DIV/0!"}},{"$f":"PKn!N184","v":0},{"$error":"#DIV/0!"},{"$f":"BID!K184","v":{"$error":"#DIV/0!"}},{"$f":"BID!N184","v":{"$error":"#DIV/0!"}},{"$error":"#DIV/0!"},null,null,null,{"$f":"MTK!K184","v":{"$error":"#DIV/0!"}},{"$f":"MTK!L184","v":0},{"$error":"#DIV/0!"},{"$f":"IPA!K184","v":{"$error":"#DIV/0!"}},{"$f":"IPA!N184","v":{"$error":"#DIV/0!"}},{"$error":"#DIV/0!"},{"$f":"IPS!K184","v":{"$error":"#DIV/0!"}},{"$f":"IPS!L184","v":0},{"$error":"#DIV/0!"},{"$f":"SBK!K184","v":{"$error":"#DIV/0!"}},{"$f":"SBK!N184","v":{"$error":"#DIV/0!"}},{"$error":"#DIV/0!"},{"$f":"PJK!K184","v":{"$error":"#DIV/0!"}},{"$f":"PJK!N184","v":{"$error":"#DIV/0!"}},{"$error":"#DIV/0!"},{"$f":"BD!K184","v":{"$error":"#DIV/0!"}},{"$f":"BD!N184","v":{"$error":"#DIV/0!"}},{"$error":"#DIV/0!"},{"$f":"BIG!K184","v":{"$error":"#DIV/0!"}},{"$f":"BIG!N184","v":{"$error":"#DIV/0!"}},{"$error":"#DIV/0!"},{"$error":"#DIV/0!"},{"$error":"#DIV/0!"},null,{"$error":"#DIV/0!"},{"$error":"#DIV/0!"},null,{"$error":"#DIV/0!"},{"$error":"#DIV/0!"},{"$f":"IPA!L184","v":0},{"$error":"#DIV/0!"},0,{"$error":"#DIV/0!"},0,{"$error":"#DIV/0!"},{"$error":"#DIV/0!"},{"$error":"#DIV/0!"},{"$error":"#DIV/0!"},0,{"$error":"#DIV/0!"},{"$error":"#DIV/0!"},{"$error":"#DIV/0!"},{"$error":"#DIV/0!"},null,null,{"$error":"#DIV/0!"},0,{"$error":"#DIV/0!"},{"$error":"#DIV/0!"},0,{"$error":"#DIV/0!"},{"$error":"#DIV/0!"},0,{"$error":"#DIV/0!"}]
[{"$f":"SISWA!A185","v":178},{"$f":"IF(SISWA!B185=0,\"\",SISWA!B185)","v":""},{"$f":"IF(SISWA!C185=0,\"\",SISWA!C185)","v":""},{"$f":"IF(SISWA!D185=0,\"\",SISWA!D185)","v":"178-"},{"$f":"IF(SISWA!E185=0,\"\",SISWA!E185)","v":""},{"$f":"IF(SISWA!P184=0,\"\",SISWA!P184)","v":", 00 Januari 1900"},{"$f":"IF(SISWA!H185=0,\"\",SISWA!H185)","v":""},{"$f":"#REF!","v":{"$error":"#REF!"}},{"$f":"#REF!","v":{"$error":"#REF!"}},{"$error":"#REF!"},null,null,null,null,null,null,null,null,null,null,null,null,{"$f":"PKn!K185","v":{"$error":"#DIV/0!"}},{"$f":"PKn!N185","v":0},{"$error":"#DIV/0!"},{"$f":"BID!K185","v":{"$error":"#DIV/0!"}},{"$f":"BID!N185","v":{"$error":"#DIV/0!"}},{"$error":"#DIV/0!"},null,null,null,{"$f":"MTK!K185","v":{"$error":"#DIV/0!"}},{"$f":"MTK!L185","v":0},{"$error":"#DIV/0!"},{"$f":"IPA!K185","v":{"$error":"#DIV/0!"}},{"$f":"IPA!N185","v":{"$error":"#DIV/0!"}},{"$error":"#DIV/0!"},{"$f":"IPS!K185","v":{"$error":"#DIV/0!"}},{"$f":"IPS!L185","v":0},{"$error":"#DIV/0!"},{"$f":"SBK!K185","v":{"$error":"#DIV/0!"}},{"$f":"SBK!N185","v":{"$error":"#DIV/0!"}},{"$error":"#DIV/0!"},{"$f":"PJK!K185","v":{"$error":"#DIV/0!"}},{"$f":"PJK!N185","v":{"$error":"#DIV/0!"}},{"$error":"#DIV/0!"},{"$f":"BD!K185","v":{"$error":"#DIV/0!"}},{"$f":"BD!N185","v":{"$error":"#DIV/0!"}},{"$error":"#DIV/0!"},{"$f":"BIG!K185","v":{"$error":"#DIV/0!"}},{"$f":"BIG!N185","v":{"$error":"#DIV/0!"}},{"$error":"#DIV/0!"},{"$error":"#DIV/0!"},{"$error":"#DIV/0!"},null,{"$error":"#DIV/0!"},{"$error":"#DIV/0!"},null,{"$error":"#DIV/0!"},{"$error":"#DIV/0!"},{"$f":"IPA!L185","v":0},{"$error":"#DIV/0!"},0,{"$error":"#DIV/0!"},0,{"$error":"#DIV/0!"},{"$error":"#DIV/0!"},{"$error":"#DIV/0!"},{"$error":"#DIV/0!"},0,{"$error":"#DIV/0!"},{"$error":"#DIV/0!"},{"$error":"#DIV/0!"},{"$error":"#DIV/0!"},null,null,{"$error":"#DIV/0!"},0,{"$error":"#DIV/0!"},{"$error":"#DIV/0!"},0,{"$error":"#DIV/0!"},{"$error":"#DIV/0!"},0,{"$error":"#DIV/0!"}]
[{"$f":"SISWA!A186","v":179},{"$f":"IF(SISWA!B186=0,\"\",SISWA!B186)","v":""},{"$f":"IF(SISWA!C186=0,\"\",SISWA!C186)","v":""},{"$f":"IF(SISWA!D186=0,\"\",SISWA!D186)","v":"179-"},{"$f":"IF(SISWA!E186=0,\"\",SISWA!E186)","v":""},{"$f":"IF(SISWA!P185=0,\"\",SISWA!P185)","v":", 00 Januari 1900"},{"$f":"IF(SISWA!H186=0,\"\",SISWA!H186)","v":""},{"$f":"#REF!","v":{"$error":"#REF!"}},{"$f":"#REF!","v":{"$error":"#REF!"}},{"$error":"#REF!"},null,null,null,null,null,null,null,null,null,null,null,null,{"$f":"PKn!K186","v":{"$error":"#DIV/0!"}},{"$f":"PKn!N186","v":0},{"$error":"#DIV/0!"},{"$f":"BID!K186","v":{"$error":"#DIV/0!"}},{"$f":"BID!N186","v":{"$error":"#DIV/0!"}},{"$error":"#DIV/0!"},null,null,null,{"$f":"MTK!K186","v":{"$error":"#DIV/0!"}},{"$f":"MTK!L186","v":0},{"$error":"#DIV/0!"},{"$f":"IPA!K186","v":{"$error":"#DIV/0!"}},{"$f":"IPA!N186","v":{"$error":"#DIV/0!"}},{"$error":"#DIV/0!"},{"$f":"IPS!K186","v":{"$error":"#DIV/0!"}},{"$f":"IPS!L186","v":0},{"$error":"#DIV/0!"},{"$f":"SBK!K186","v":{"$error":"#DIV/0!"}},{"$f":"SBK!N186","v":{"$error":"#DIV/0!"}},{"$error":"#DIV/0!"},{"$f":"PJK!K186","v":{"$error":"#DIV/0!"}},{"$f":"PJK!N186","v":{"$error":"#DIV/0!"}},{"$error":"#DIV/0!"},{"$f":"BD!K186","v":{"$error":"#DIV/0!"}},{"$f":"BD!N186","v":{"$error":"#DIV/0!"}},{"$error":"#DIV/0!"},{"$f":"BIG!K186","v":{"$error":"#DIV/0!"}},{"$f":"BIG!N186","v":{"$error":"#DIV/0!"}},{"$error":"#DIV/0!"},{"$error":"#DIV/0!"},{"$error":"#DIV/0!"},null,{"$error":"#DIV/0!"},{"$error":"#DIV/0!"},null,{"$error":"#DIV/0!"},{"$error":"#DIV/0!"},{"$f":"IPA!L186","v":0},{"$error":"#DIV/0!"},0,{"$error":"#DIV/0!"},0,{"$error":"#DIV/0!"},{"$error":"#DIV/0!"},{"$error":"#DIV/0!"},{"$error":"#DIV/0!"},0,{"$error":"#DIV/0!"},{"$error":"#DIV/0!"},{"$error":"#DIV/0!"},{"$error":"#DIV/0!"},null,null,{"$error":"#DIV/0!"},0,{"$error":"#DIV/0!"},{"$error":"#DIV/0!"},0,{"$error":"#DIV/0!"},{"$error":"#DIV/0!"},0,{"$error":"#DIV/0!"}]
[{"$f":"SISWA!A187","v":180},{"$f":"IF(SISWA!B187=0,\"\",SISWA!B187)","v":""},{"$f":"IF(SISWA!C187=0,\"\",SISWA!C187)","v":""},{"$f":"IF(SISWA!D187=0,\"\",SISWA!D187)","v":"180-"},{"$f":"IF(SISWA!E187=0,\"\",SISWA!E187)","v":""},{"$f":"IF(SISWA!P186=0,\"\",SISWA!P186)","v":", 00 Januari 1900"},{"$f":"IF(SISWA!H187=0,\"\",SISWA!H187)","v":""},{"$f":"#REF!","v":{"$error":"#REF!"}},{"$f":"#REF!","v":{"$error":"#REF!"}},{"$error":"#REF!"},null,null,null,null,null,null,null,null,null,null,null,null,{"$f":"PKn!K187","v":{"$error":"#DIV/0!"}},{"$f":"PKn!N187","v":0},{"$error":"#DIV/0!"},{"$f":"BID!K187","v":{"$error":"#DIV/0!"}},{"$f":"BID!N187","v":{"$error":"#DIV/0!"}},{"$error":"#DIV/0!"},null,null,null,{"$f":"MTK!K187","v":{"$error":"#DIV/0!"}},{"$f":"MTK!L187","v":0},{"$error":"#DIV/0!"},{"$f":"IPA!K187","v":{"$error":"#DIV/0!"}},{"$f":"IPA!N187","v":{"$error":"#DIV/0!"}},{"$error":"#DIV/0!"},{"$f":"IPS!K187","v":{"$error":"#DIV/0!"}},{"$f":"IPS!L187","v":0},{"$error":"#DIV/0!"},{"$f":"SBK!K187","v":{"$error":"#DIV/0!"}},{"$f":"SBK!N187","v":{"$error":"#DIV/0!"}},{"$error":"#DIV/0!"},{"$f":"PJK!K187","v":{"$error":"#DIV/0!"}},{"$f":"PJK!N187","v":{"$error":"#DIV/0!"}},{"$error":"#DIV/0!"},{"$f":"BD!K187","v":{"$error":"#DIV/0!"}},{"$f":"BD!N187","v":{"$error":"#DIV/0!"}},{"$error":"#DIV/0!"},{"$f":"BIG!K187","v":{"$error":"#DIV/0!"}},{"$f":"BIG!N187","v":{"$error":"#DIV/0!"}},{"$error":"#DIV/0!"},{"$error":"#DIV/0!"},{"$error":"#DIV/0!"},null,{"$error":"#DIV/0!"},{"$error":"#DIV/0!"},null,{"$error":"#DIV/0!"},{"$error":"#DIV/0!"},{"$f":"IPA!L187","v":0},{"$error":"#DIV/0!"},0,{"$error":"#DIV/0!"},0,{"$error":"#DIV/0!"},{"$error":"#DIV/0!"},{"$error":"#DIV/0!"},{"$error":"#DIV/0!"},0,{"$error":"#DIV/0!"},{"$error":"#DIV/0!"},{"$error":"#DIV/0!"},{"$error":"#DIV/0!"},null,null,{"$error":"#DIV/0!"},0,{"$error":"#DIV/0!"},{"$error":"#DIV/0!"},0,{"$error":"#DIV/0!"},{"$error":"#DIV/0!"},0,{"$error":"#DIV/0!"}]
[{"$f":"SISWA!A188","v":181},{"$f":"IF(SISWA!B188=0,\"\",SISWA!B188)","v":""},{"$f":"IF(SISWA!C188=0,\"\",SISWA!C188)","v":""},{"$f":"IF(SISWA!D188=0,\"\",SISWA!D188)","v":"181-"},{"$f":"IF(SISWA!E188=0,\"\",SISWA!E188)","v":""},{"$f":"IF(SISWA!P187=0,\"\",SISWA!P187)","v":", 00 Januari 1900"},{"$f":"IF(SISWA!H188=0,\"\",SISWA!H188)","v":""},{"$f":"#REF!","v":{"$error":"#REF!"}},{"$f":"#REF!","v":{"$error":"#REF!"}},{"$error":"#REF!"},null,null,null,null,null,null,null,null,null,null,null,null,{"$f":"PKn!K188","v":{"$error":"#DIV/0!"}},{"$f":"PKn!N188","v":0},{"$error":"#DIV/0!"},{"$f":"BID!K188","v":{"$error":"#DIV/0!"}},{"$f":"BID!N188","v":{"$error":"#DIV/0!"}},{"$error":"#DIV/0!"},null,null,null,{"$f":"MTK!K188","v":{"$error":"#DIV/0!"}},{"$f":"MTK!L188","v":0},{"$error":"#DIV/0!"},{"$f":"IPA!K188","v":{"$error":"#DIV/0!"}},{"$f":"IPA!N188","v":{"$error":"#DIV/0!"}},{"$error":"#DIV/0!"},{"$f":"IPS!K188","v":{"$error":"#DIV/0!"}},{"$f":"IPS!L188","v":0},{"$error":"#DIV/0!"},{"$f":"SBK!K188","v":{"$error":"#DIV/0!"}},{"$f":"SBK!N188","v":{"$error":"#DIV/0!"}},{"$error":"#DIV/0!"},{"$f":"PJK!K188","v":{"$error":"#DIV/0!"}},{"$f":"PJK!N188","v":{"$error":"#DIV/0!"}},{"$error":"#DIV/0!"},{"$f":"BD!K188","v":{"$error":"#DIV/0!"}},{"$f":"BD!N188","v":{"$error":"#DIV/0!"}},{"$error":"#DIV/0!"},{"$f":"BIG!K188","v":{"$error":"#DIV/0!"}},{"$f":"BIG!N188","v":{"$error":"#DIV/0!"}},{"$error":"#DIV/0!"},{"$error":"#DIV/0!"},{"$error":"#DIV/0!"},null,{"$error":"#DIV/0!"},{"$error":"#DIV/0!"},null,{"$error":"#DIV/0!"},{"$error":"#DIV/0!"},{"$f":"IPA!L188","v":0},{"$error":"#DIV/0!"},0,{"$error":"#DIV/0!"},0,{"$error":"#DIV/0!"},{"$error":"#DIV/0!"},{"$error":"#DIV/0!"},{"$error":"#DIV/0!"},0,{"$error":"#DIV/0!"},{"$error":"#DIV/0!"},{"$error":"#DIV/0!"},{"$error":"#DIV/0!"},null,null,{"$error":"#DIV/0!"},0,{"$error":"#DIV/0!"},{"$error":"#DIV/0!"},0,{"$error":"#DIV/0!"},{"$error":"#DIV/0!"},0,{"$error":"#DIV/0!"}]
[{"$f":"SISWA!A189","v":182},{"$f":"IF(SISWA!B189=0,\"\",SISWA!B189)","v":""},{"$f":"IF(SISWA!C189=0,\"\",SISWA!C189)","v":""},{"$f":"IF(SISWA!D189=0,\"\",SISWA!D189)","v":"182-"},{"$f":"IF(SISWA!E189=0,\"\",SISWA!E189)","v":""},{"$f":"IF(SISWA!P188=0,\"\",SISWA!P188)","v":", 00 Januari 1900"},{"$f":"IF(SISWA!H189=0,\"\",SISWA!H189)","v":""},{"$f":"#REF!","v":{"$error":"#REF!"}},{"$f":"#REF!","v":{"$error":"#REF!"}},{"$error":"#REF!"},null,null,null,null,null,null,null,null,null,null,null,null,{"$f":"PKn!K189","v":{"$error":"#DIV/0!"}},{"$f":"PKn!N189","v":0},{"$error":"#DIV/0!"},{"$f":"BID!K189","v":{"$error":"#DIV/0!"}},{"$f":"BID!N189","v":{"$error":"#DIV/0!"}},{"$error":"#DIV/0!"},null,null,null,{"$f":"MTK!K189","v":{"$error":"#DIV/0!"}},{"$f":"MTK!L189","v":0},{"$error":"#DIV/0!"},{"$f":"IPA!K189","v":{"$error":"#DIV/0!"}},{"$f":"IPA!N189","v":{"$error":"#DIV/0!"}},{"$error":"#DIV/0!"},{"$f":"IPS!K189","v":{"$error":"#DIV/0!"}},{"$f":"IPS!L189","v":0},{"$error":"#DIV/0!"},{"$f":"SBK!K189","v":{"$error":"#DIV/0!"}},{"$f":"SBK!N189","v":{"$error":"#DIV/0!"}},{"$error":"#DIV/0!"},{"$f":"PJK!K189","v":{"$error":"#DIV/0!"}},{"$f":"PJK!N189","v":{"$error":"#DIV/0!"}},{"$error":"#DIV/0!"},{"$f":"BD!K189","v":{"$error":"#DIV/0!"}},{"$f":"BD!N189","v":{"$error":"#DIV/0!"}},{"$error":"#DIV/0!"},{"$f":"BIG!K189","v":{"$error":"#DIV/0!"}},{"$f":"BIG!N189","v":{"$error":"#DIV/0!"}},{"$error":"#DIV/0!"},{"$error":"#DIV/0!"},{"$error":"#DIV/0!"},null,{"$error":"#DIV/0!"},{"$error":"#DIV/0!"},null,{"$error":"#DIV/0!"},{"$error":"#DIV/0!"},{"$f":"IPA!L189","v":0},{"$error":"#DIV/0!"},0,{"$error":"#DIV/0!"},0,{"$error":"#DIV/0!"},{"$error":"#DIV/0!"},{"$error":"#DIV/0!"},{"$error":"#DIV/0!"},0,{"$error":"#DIV/0!"},{"$error":"#DIV/0!"},{"$error":"#DIV/0!"},{"$error":"#DIV/0!"},null,null,{"$error":"#DIV/0!"},0,{"$error":"#DIV/0!"},{"$error":"#DIV/0!"},0,{"$error":"#DIV/0!"},{"$error":"#DIV/0!"},0,{"$error":"#DIV/0!"}]
[{"$f":"SISWA!A190","v":183},{"$f":"IF(SISWA!B190=0,\"\",SISWA!B190)","v":""},{"$f":"IF(SISWA!C190=0,\"\",SISWA!C190)","v":""},{"$f":"IF(SISWA!D190=0,\"\",SISWA!D190)","v":"183-"},{"$f":"IF(SISWA!E190=0,\"\",SISWA!E190)","v":""},{"$f":"IF(SISWA!P189=0,\"\",SISWA!P189)","v":", 00 Januari 1900"},{"$f":"IF(SISWA!H190=0,\"\",SISWA!H190)","v":""},{"$f":"#REF!","v":{"$error":"#REF!"}},{"$f":"#REF!","v":{"$error":"#REF!"}},{"$error":"#REF!"},null,null,null,null,null,null,null,null,null,null,null,null,{"$f":"PKn!K190","v":{"$error":"#DIV/0!"}},{"$f":"PKn!N190","v":0},{"$error":"#DIV/0!"},{"$f":"BID!K190","v":{"$error":"#DIV/0!"}},{"$f":"BID!N190","v":{"$error":"#DIV/0!"}},{"$error":"#DIV/0!"},null,null,null,{"$f":"MTK!K190","v":{"$error":"#DIV/0!"}},{"$f":"MTK!L190","v":0},{"$error":"#DIV/0!"},{"$f":"IPA!K190","v":{"$error":"#DIV/0!"}},{"$f":"IPA!N190","v":{"$error":"#DIV/0!"}},{"$error":"#DIV/0!"},{"$f":"IPS!K190","v":{"$error":"#DIV/0!"}},{"$f":"IPS!L190","v":0},{"$error":"#DIV/0!"},{"$f":"SBK!K190","v":{"$error":"#DIV/0!"}},{"$f":"SBK!N190","v":{"$error":"#DIV/0!"}},{"$error":"#DIV/0!"},{"$f":"PJK!K190","v":{"$error":"#DIV/0!"}},{"$f":"PJK!N190","v":{"$error":"#DIV/0!"}},{"$error":"#DIV/0!"},{"$f":"BD!K190","v":{"$error":"#DIV/0!"}},{"$f":"BD!N190","v":{"$error":"#DIV/0!"}},{"$error":"#DIV/0!"},{"$f":"BIG!K190","v":{"$error":"#DIV/0!"}},{"$f":"BIG!N190","v":{"$error":"#DIV/0!"}},{"$error":"#DIV/0!"},{"$error":"#DIV/0!"},{"$error":"#DIV/0!"},null,{"$error":"#DIV/0!"},{"$error":"#DIV/0!"},null,{"$error":"#DIV/0!"},{"$error":"#DIV/0!"},{"$f":"IPA!L190","v":0},{"$error":"#DIV/0!"},0,{"$error":"#DIV/0!"},0,{"$error":"#DIV/0!"},{"$error":"#DIV/0!"},{"$error":"#DIV/0!"},{"$error":"#DIV/0!"},0,{"$error":"#DIV/0!"},{"$error":"#DIV/0!"},{"$error":"#DIV/0!"},{"$error":"#DIV/0!"},null,null,{"$error":"#DIV/0!"},0,{"$error":"#DIV/0!"},{"$error":"#DIV/0!"},0,{"$error":"#DIV/0!"},{"$error":"#DIV/0!"},0,{"$error":"#DIV/0!"}]
[{"$f":"SISWA!A191","v":184},{"$f":"IF(SISWA!B191=0,\"\",SISWA!B191)","v":""},{"$f":"IF(SISWA!C191=0,\"\",SISWA!C191)","v":""},{"$f":"IF(SISWA!D191=0,\"\",SISWA!D191)","v":"184-"},{"$f":"IF(SISWA!E191=0,\"\",SISWA!E191)","v":""},{"$f":"IF(SISWA!P190=0,\"\",SISWA!P190)","v":", 00 Januari 1900"},{"$f":"IF(SISWA!H191=0,\"\",SISWA!H191)","v":""},{"$f":"#REF!","v":{"$error":"#REF!"}},{"$f":"#REF!","v":{"$error":"#REF!"}},{"$error":"#REF!"},null,null,null,null,null,null,null,null,null,null,null,null,{"$f":"PKn!K191","v":{"$error":"#DIV/0!"}},{"$f":"PKn!N191","v":0},{"$error":"#DIV/0!"},{"$f":"BID!K191","v":{"$error":"#DIV/0!"}},{"$f":"BID!N191","v":{"$error":"#DIV/0!"}},{"$error":"#DIV/0!"},null,null,null,{"$f":"MTK!K191","v":{"$error":"#DIV/0!"}},{"$f":"MTK!L191","v":0},{"$error":"#DIV/0!"},{"$f":"IPA!K191","v":{"$error":"#DIV/0!"}},{"$f":"IPA!N191","v":{"$error":"#DIV/0!"}},{"$error":"#DIV/0!"},{"$f":"IPS!K191","v":{"$error":"#DIV/0!"}},{"$f":"IPS!L191","v":0},{"$error":"#DIV/0!"},{"$f":"SBK!K191","v":{"$error":"#DIV/0!"}},{"$f":"SBK!N191","v":{"$error":"#DIV/0!"}},{"$error":"#DIV/0!"},{"$f":"PJK!K191","v":{"$error":"#DIV/0!"}},{"$f":"PJK!N191","v":{"$error":"#DIV/0!"}},{"$error":"#DIV/0!"},{"$f":"BD!K191","v":{"$error":"#DIV/0!"}},{"$f":"BD!N191","v":{"$error":"#DIV/0!"}},{"$error":"#DIV/0!"},{"$f":"BIG!K191","v":{"$error":"#DIV/0!"}},{"$f":"BIG!N191","v":{"$error":"#DIV/0!"}},{"$error":"#DIV/0!"},{"$error":"#DIV/0!"},{"$error":"#DIV/0!"},null,{"$error":"#DIV/0!"},{"$error":"#DIV/0!"},null,{"$error":"#DIV/0!"},{"$error":"#DIV/0!"},{"$f":"IPA!L191","v":0},{"$error":"#DIV/0!"},0,{"$error":"#DIV/0!"},0,{"$error":"#DIV/0!"},{"$error":"#DIV/0!"},{"$error":"#DIV/0!"},{"$error":"#DIV/0!"},0,{"$error":"#DIV/0!"},{"$error":"#DIV/0!"},{"$error":"#DIV/0!"},{"$error":"#DIV/0!"},null,null,{"$error":"#DIV/0!"},0,{"$error":"#DIV/0!"},{"$error":"#DIV/0!"},0,{"$error":"#DIV/0!"},{"$error":"#DIV/0!"},0,{"$error":"#DIV/0!"}]
[{"$f":"SISWA!A192","v":185},{"$f":"IF(SISWA!B192=0,\"\",SISWA!B192)","v":""},{"$f":"IF(SISWA!C192=0,\"\",SISWA!C192)","v":""},{"$f":"IF(SISWA!D192=0,\"\",SISWA!D192)","v":"185-"},{"$f":"IF(SISWA!E192=0,\"\",SISWA!E192)","v":""},{"$f":"IF(SISWA!P191=0,\"\",SISWA!P191)","v":", 00 Januari 1900"},{"$f":"IF(SISWA!H192=0,\"\",SISWA!H192)","v":""},{"$f":"#REF!","v":{"$error":"#REF!"}},{"$f":"#REF!","v":{"$error":"#REF!"}},{"$error":"#REF!"},null,null,null,null,null,null,null,null,null,null,null,null,{"$f":"PKn!K192","v":{"$error":"#DIV/0!"}},{"$f":"PKn!N192","v":0},{"$error":"#DIV/0!"},{"$f":"BID!K192","v":{"$error":"#DIV/0!"}},{"$f":"BID!N192","v":{"$error":"#DIV/0!"}},{"$error":"#DIV/0!"},null,null,null,{"$f":"MTK!K192","v":{"$error":"#DIV/0!"}},{"$f":"MTK!L192","v":0},{"$error":"#DIV/0!"},{"$f":"IPA!K192","v":{"$error":"#DIV/0!"}},{"$f":"IPA!N192","v":{"$error":"#DIV/0!"}},{"$error":"#DIV/0!"},{"$f":"IPS!K192","v":{"$error":"#DIV/0!"}},{"$f":"IPS!L192","v":0},{"$error":"#DIV/0!"},{"$f":"SBK!K192","v":{"$error":"#DIV/0!"}},{"$f":"SBK!N192","v":{"$error":"#DIV/0!"}},{"$error":"#DIV/0!"},{"$f":"PJK!K192","v":{"$error":"#DIV/0!"}},{"$f":"PJK!N192","v":{"$error":"#DIV/0!"}},{"$error":"#DIV/0!"},{"$f":"BD!K192","v":{"$error":"#DIV/0!"}},{"$f":"BD!N192","v":{"$error":"#DIV/0!"}},{"$error":"#DIV/0!"},{"$f":"BIG!K192","v":{"$error":"#DIV/0!"}},{"$f":"BIG!N192","v":{"$error":"#DIV/0!"}},{"$error":"#DIV/0!"},{"$error":"#DIV/0!"},{"$error":"#DIV/0!"},null,{"$error":"#DIV/0!"},{"$error":"#DIV/0!"},null,{"$error":"#DIV/0!"},{"$error":"#DIV/0!"},{"$f":"IPA!L192","v":0},{"$error":"#DIV/0!"},0,{"$error":"#DIV/0!"},0,{"$error":"#DIV/0!"},{"$error":"#DIV/0!"},{"$error":"#DIV/0!"},{"$error":"#DIV/0!"},0,{"$error":"#DIV/0!"},{"$error":"#DIV/0!"},{"$error":"#DIV/0!"},{"$error":"#DIV/0!"},null,null,{"$error":"#DIV/0!"},0,{"$error":"#DIV/0!"},{"$error":"#DIV/0!"},0,{"$error":"#DIV/0!"},{"$error":"#DIV/0!"},0,{"$error":"#DIV/0!"}]
[{"$f":"SISWA!A193","v":186},{"$f":"IF(SISWA!B193=0,\"\",SISWA!B193)","v":""},{"$f":"IF(SISWA!C193=0,\"\",SISWA!C193)","v":""},{"$f":"IF(SISWA!D193=0,\"\",SISWA!D193)","v":"186-"},{"$f":"IF(SISWA!E193=0,\"\",SISWA!E193)","v":""},{"$f":"IF(SISWA!P192=0,\"\",SISWA!P192)","v":", 00 Januari 1900"},{"$f":"IF(SISWA!H193=0,\"\",SISWA!H193)","v":""},{"$f":"#REF!","v":{"$error":"#REF!"}},{"$f":"#REF!","v":{"$error":"#REF!"}},{"$error":"#REF!"},null,null,null,null,null,null,null,null,null,null,null,null,{"$f":"PKn!K193","v":{"$error":"#DIV/0!"}},{"$f":"PKn!N193","v":0},{"$error":"#DIV/0!"},{"$f":"BID!K193","v":{"$error":"#DIV/0!"}},{"$f":"BID!N193","v":{"$error":"#DIV/0!"}},{"$error":"#DIV/0!"},null,null,null,{"$f":"MTK!K193","v":{"$error":"#DIV/0!"}},{"$f":"MTK!L193","v":0},{"$error":"#DIV/0!"},{"$f":"IPA!K193","v":{"$error":"#DIV/0!"}},{"$f":"IPA!N193","v":{"$error":"#DIV/0!"}},{"$error":"#DIV/0!"},{"$f":"IPS!K193","v":{"$error":"#DIV/0!"}},{"$f":"IPS!L193","v":0},{"$error":"#DIV/0!"},{"$f":"SBK!K193","v":{"$error":"#DIV/0!"}},{"$f":"SBK!N193","v":{"$error":"#DIV/0!"}},{"$error":"#DIV/0!"},{"$f":"PJK!K193","v":{"$error":"#DIV/0!"}},{"$f":"PJK!N193","v":{"$error":"#DIV/0!"}},{"$error":"#DIV/0!"},{"$f":"BD!K193","v":{"$error":"#DIV/0!"}},{"$f":"BD!N193","v":{"$error":"#DIV/0!"}},{"$error":"#DIV/0!"},{"$f":"BIG!K193","v":{"$error":"#DIV/0!"}},{"$f":"BIG!N193","v":{"$error":"#DIV/0!"}},{"$error":"#DIV/0!"},{"$error":"#DIV/0!"},{"$error":"#DIV/0!"},null,{"$error":"#DIV/0!"},{"$error":"#DIV/0!"},null,{"$error":"#DIV/0!"},{"$error":"#DIV/0!"},{"$f":"IPA!L193","v":0},{"$error":"#DIV/0!"},0,{"$error":"#DIV/0!"},0,{"$error":"#DIV/0!"},{"$error":"#DIV/0!"},{"$error":"#DIV/0!"},{"$error":"#DIV/0!"},0,{"$error":"#DIV/0!"},{"$error":"#DIV/0!"},{"$error":"#DIV/0!"},{"$error":"#DIV/0!"},null,null,{"$error":"#DIV/0!"},0,{"$error":"#DIV/0!"},{"$error":"#DIV/0!"},0,{"$error":"#DIV/0!"},{"$error":"#DIV/0!"},0,{"$error":"#DIV/0!"}]
[{"$f":"SISWA!A194","v":187},{"$f":"IF(SISWA!B194=0,\"\",SISWA!B194)","v":""},{"$f":"IF(SISWA!C194=0,\"\",SISWA!C194)","v":""},{"$f":"IF(SISWA!D194=0,\"\",SISWA!D194)","v":"187-"},{"$f":"IF(SISWA!E194=0,\"\",SISWA!E194)","v":""},{"$f":"IF(SISWA!P193=0,\"\",SISWA!P193)","v":", 00 Januari 1900"},{"$f":"IF(SISWA!H194=0,\"\",SISWA!H194)","v":""},{"$f":"#REF!","v":{"$error":"#REF!"}},{"$f":"#REF!","v":{"$error":"#REF!"}},{"$error":"#REF!"},null,null,null,null,null,null,null,null,null,null,null,null,{"$f":"PKn!K194","v":{"$error":"#DIV/0!"}},{"$f":"PKn!N194","v":0},{"$error":"#DIV/0!"},{"$f":"BID!K194","v":{"$error":"#DIV/0!"}},{"$f":"BID!N194","v":{"$error":"#DIV/0!"}},{"$error":"#DIV/0!"},null,null,null,{"$f":"MTK!K194","v":{"$error":"#DIV/0!"}},{"$f":"MTK!L194","v":0},{"$error":"#DIV/0!"},{"$f":"IPA!K194","v":{"$error":"#DIV/0!"}},{"$f":"IPA!N194","v":{"$error":"#DIV/0!"}},{"$error":"#DIV/0!"},{"$f":"IPS!K194","v":{"$error":"#DIV/0!"}},{"$f":"IPS!L194","v":0},{"$error":"#DIV/0!"},{"$f":"SBK!K194","v":{"$error":"#DIV/0!"}},{"$f":"SBK!N194","v":{"$error":"#DIV/0!"}},{"$error":"#DIV/0!"},{"$f":"PJK!K194","v":{"$error":"#DIV/0!"}},{"$f":"PJK!N194","v":{"$error":"#DIV/0!"}},{"$error":"#DIV/0!"},{"$f":"BD!K194","v":{"$error":"#DIV/0!"}},{"$f":"BD!N194","v":{"$error":"#DIV/0!"}},{"$error":"#DIV/0!"},{"$f":"BIG!K194","v":{"$error":"#DIV/0!"}},{"$f":"BIG!N194","v":{"$error":"#DIV/0!"}},{"$error":"#DIV/0!"},{"$error":"#DIV/0!"},{"$error":"#DIV/0!"},null,{"$error":"#DIV/0!"},{"$error":"#DIV/0!"},null,{"$error":"#DIV/0!"},{"$error":"#DIV/0!"},{"$f":"IPA!L194","v":0},{"$error":"#DIV/0!"},0,{"$error":"#DIV/0!"},0,{"$error":"#DIV/0!"},{"$error":"#DIV/0!"},{"$error":"#DIV/0!"},{"$error":"#DIV/0!"},0,{"$error":"#DIV/0!"},{"$error":"#DIV/0!"},{"$error":"#DIV/0!"},{"$error":"#DIV/0!"},null,null,{"$error":"#DIV/0!"},0,{"$error":"#DIV/0!"},{"$error":"#DIV/0!"},0,{"$error":"#DIV/0!"},{"$error":"#DIV/0!"},0,{"$error":"#DIV/0!"}]
[{"$f":"SISWA!A195","v":188},{"$f":"IF(SISWA!B195=0,\"\",SISWA!B195)","v":""},{"$f":"IF(SISWA!C195=0,\"\",SISWA!C195)","v":""},{"$f":"IF(SISWA!D195=0,\"\",SISWA!D195)","v":"188-"},{"$f":"IF(SISWA!E195=0,\"\",SISWA!E195)","v":""},{"$f":"IF(SISWA!P194=0,\"\",SISWA!P194)","v":", 00 Januari 1900"},{"$f":"IF(SISWA!H195=0,\"\",SISWA!H195)","v":""},{"$f":"#REF!","v":{"$error":"#REF!"}},{"$f":"#REF!","v":{"$error":"#REF!"}},{"$error":"#REF!"},null,null,null,null,null,null,null,null,null,null,null,null,{"$f":"PKn!K195","v":{"$error":"#DIV/0!"}},{"$f":"PKn!N195","v":0},{"$error":"#DIV/0!"},{"$f":"BID!K195","v":{"$error":"#DIV/0!"}},{"$f":"BID!N195","v":{"$error":"#DIV/0!"}},{"$error":"#DIV/0!"},null,null,null,{"$f":"MTK!K195","v":{"$error":"#DIV/0!"}},{"$f":"MTK!L195","v":0},{"$error":"#DIV/0!"},{"$f":"IPA!K195","v":{"$error":"#DIV/0!"}},{"$f":"IPA!N195","v":{"$error":"#DIV/0!"}},{"$error":"#DIV/0!"},{"$f":"IPS!K195","v":{"$error":"#DIV/0!"}},{"$f":"IPS!L195","v":0},{"$error":"#DIV/0!"},{"$f":"SBK!K195","v":{"$error":"#DIV/0!"}},{"$f":"SBK!N195","v":{"$error":"#DIV/0!"}},{"$error":"#DIV/0!"},{"$f":"PJK!K195","v":{"$error":"#DIV/0!"}},{"$f":"PJK!N195","v":{"$error":"#DIV/0!"}},{"$error":"#DIV/0!"},{"$f":"BD!K195","v":{"$error":"#DIV/0!"}},{"$f":"BD!N195","v":{"$error":"#DIV/0!"}},{"$error":"#DIV/0!"},{"$f":"BIG!K195","v":{"$error":"#DIV/0!"}},{"$f":"BIG!N195","v":{"$error":"#DIV/0!"}},{"$error":"#DIV/0!"},{"$error":"#DIV/0!"},{"$error":"#DIV/0!"},null,{"$error":"#DIV/0!"},{"$error":"#DIV/0!"},null,{"$error":"#DIV/0!"},{"$error":"#DIV/0!"},{"$f":"IPA!L195","v":0},{"$error":"#DIV/0!"},0,{"$error":"#DIV/0!"},0,{"$error":"#DIV/0!"},{"$error":"#DIV/0!"},{"$error":"#DIV/0!"},{"$error":"#DIV/0!"},0,{"$error":"#DIV/0!"},{"$error":"#DIV/0!"},{"$error":"#DIV/0!"},{"$error":"#DIV/0!"},null,null,{"$error":"#DIV/0!"},0,{"$error":"#DIV/0!"},{"$error":"#DIV/0!"},0,{"$error":"#DIV/0!"},{"$error":"#DIV/0!"},0,{"$error":"#DIV/0!"}]
[{"$f":"SISWA!A196","v":189},{"$f":"IF(SISWA!B196=0,\"\",SISWA!B196)","v":""},{"$f":"IF(SISWA!C196=0,\"\",SISWA!C196)","v":""},{"$f":"IF(SISWA!D196=0,\"\",SISWA!D196)","v":"189-"},{"$f":"IF(SISWA!E196=0,\"\",SISWA!E196)","v":""},{"$f":"IF(SISWA!P195=0,\"\",SISWA!P195)","v":", 00 Januari 1900"},{"$f":"IF(SISWA!H196=0,\"\",SISWA!H196)","v":""},{"$f":"#REF!","v":{"$error":"#REF!"}},{"$f":"#REF!","v":{"$error":"#REF!"}},{"$error":"#REF!"},null,null,null,null,null,null,null,null,null,null,null,null,{"$f":"PKn!K196","v":{"$error":"#DIV/0!"}},{"$f":"PKn!N196","v":0},{"$error":"#DIV/0!"},{"$f":"BID!K196","v":{"$error":"#DIV/0!"}},{"$f":"BID!N196","v":{"$error":"#DIV/0!"}},{"$error":"#DIV/0!"},null,null,null,{"$f":"MTK!K196","v":{"$error":"#DIV/0!"}},{"$f":"MTK!L196","v":0},{"$error":"#DIV/0!"},{"$f":"IPA!K196","v":{"$error":"#DIV/0!"}},{"$f":"IPA!N196","v":{"$error":"#DIV/0!"}},{"$error":"#DIV/0!"},{"$f":"IPS!K196","v":{"$error":"#DIV/0!"}},{"$f":"IPS!L196","v":0},{"$error":"#DIV/0!"},{"$f":"SBK!K196","v":{"$error":"#DIV/0!"}},{"$f":"SBK!N196","v":{"$error":"#DIV/0!"}},{"$error":"#DIV/0!"},{"$f":"PJK!K196","v":{"$error":"#DIV/0!"}},{"$f":"PJK!N196","v":{"$error":"#DIV/0!"}},{"$error":"#DIV/0!"},{"$f":"BD!K196","v":{"$error":"#DIV/0!"}},{"$f":"BD!N196","v":{"$error":"#DIV/0!"}},{"$error":"#DIV/0!"},{"$f":"BIG!K196","v":{"$error":"#DIV/0!"}},{"$f":"BIG!N196","v":{"$error":"#DIV/0!"}},{"$error":"#DIV/0!"},{"$error":"#DIV/0!"},{"$error":"#DIV/0!"},null,{"$error":"#DIV/0!"},{"$error":"#DIV/0!"},null,{"$error":"#DIV/0!"},{"$error":"#DIV/0!"},{"$f":"IPA!L196","v":0},{"$error":"#DIV/0!"},0,{"$error":"#DIV/0!"},0,{"$error":"#DIV/0!"},{"$error":"#DIV/0!"},{"$error":"#DIV/0!"},{"$error":"#DIV/0!"},0,{"$error":"#DIV/0!"},{"$error":"#DIV/0!"},{"$error":"#DIV/0!"},{"$error":"#DIV/0!"},null,null,{"$error":"#DIV/0!"},0,{"$error":"#DIV/0!"},{"$error":"#DIV/0!"},0,{"$error":"#DIV/0!"},{"$error":"#DIV/0!"},0,{"$error":"#DIV/0!"}]
[{"$f":"SISWA!A197","v":190},{"$f":"IF(SISWA!B197=0,\"\",SISWA!B197)","v":""},{"$f":"IF(SISWA!C197=0,\"\",SISWA!C197)","v":""},{"$f":"IF(SISWA!D197=0,\"\",SISWA!D197)","v":"190-"},{"$f":"IF(SISWA!E197=0,\"\",SISWA!E197)","v":""},{"$f":"IF(SISWA!P196=0,\"\",SISWA!P196)","v":", 00 Januari 1900"},{"$f":"IF(SISWA!H197=0,\"\",SISWA!H197)","v":""},{"$f":"#REF!","v":{"$error":"#REF!"}},{"$f":"#REF!","v":{"$error":"#REF!"}},{"$error":"#REF!"},null,null,null,null,null,null,null,null,null,null,null,null,{"$f":"PKn!K197","v":{"$error":"#DIV/0!"}},{"$f":"PKn!N197","v":0},{"$error":"#DIV/0!"},{"$f":"BID!K197","v":{"$error":"#DIV/0!"}},{"$f":"BID!N197","v":{"$error":"#DIV/0!"}},{"$error":"#DIV/0!"},null,null,null,{"$f":"MTK!K197","v":{"$error":"#DIV/0!"}},{"$f":"MTK!L197","v":0},{"$error":"#DIV/0!"},{"$f":"IPA!K197","v":{"$error":"#DIV/0!"}},{"$f":"IPA!N197","v":{"$error":"#DIV/0!"}},{"$error":"#DIV/0!"},{"$f":"IPS!K197","v":{"$error":"#DIV/0!"}},{"$f":"IPS!L197","v":0},{"$error":"#DIV/0!"},{"$f":"SBK!K197","v":{"$error":"#DIV/0!"}},{"$f":"SBK!N197","v":{"$error":"#DIV/0!"}},{"$error":"#DIV/0!"},{"$f":"PJK!K197","v":{"$error":"#DIV/0!"}},{"$f":"PJK!N197","v":{"$error":"#DIV/0!"}},{"$error":"#DIV/0!"},{"$f":"BD!K197","v":{"$error":"#DIV/0!"}},{"$f":"BD!N197","v":{"$error":"#DIV/0!"}},{"$error":"#DIV/0!"},{"$f":"BIG!K197","v":{"$error":"#DIV/0!"}},{"$f":"BIG!N197","v":{"$error":"#DIV/0!"}},{"$error":"#DIV/0!"},{"$error":"#DIV/0!"},{"$error":"#DIV/0!"},null,{"$error":"#DIV/0!"},{"$error":"#DIV/0!"},null,{"$error":"#DIV/0!"},{"$error":"#DIV/0!"},{"$f":"IPA!L197","v":0},{"$error":"#DIV/0!"},0,{"$error":"#DIV/0!"},0,{"$error":"#DIV/0!"},{"$error":"#DIV/0!"},{"$error":"#DIV/0!"},{"$error":"#DIV/0!"},0,{"$error":"#DIV/0!"},{"$error":"#DIV/0!"},{"$error":"#DIV/0!"},{"$error":"#DIV/0!"},null,null,{"$error":"#DIV/0!"},0,{"$error":"#DIV/0!"},{"$error":"#DIV/0!"},0,{"$error":"#DIV/0!"},{"$error":"#DIV/0!"},0,{"$error":"#DIV/0!"}]
[{"$f":"SISWA!A198","v":191},{"$f":"IF(SISWA!B198=0,\"\",SISWA!B198)","v":""},{"$f":"IF(SISWA!C198=0,\"\",SISWA!C198)","v":""},{"$f":"IF(SISWA!D198=0,\"\",SISWA!D198)","v":"191-"},{"$f":"IF(SISWA!E198=0,\"\",SISWA!E198)","v":""},{"$f":"IF(SISWA!P197=0,\"\",SISWA!P197)","v":", 00 Januari 1900"},{"$f":"IF(SISWA!H198=0,\"\",SISWA!H198)","v":""},{"$f":"#REF!","v":{"$error":"#REF!"}},{"$f":"#REF!","v":{"$error":"#REF!"}},{"$error":"#REF!"},null,null,null,null,null,null,null,null,null,null,null,null,{"$f":"PKn!K198","v":{"$error":"#DIV/0!"}},{"$f":"PKn!N198","v":0},{"$error":"#DIV/0!"},{"$f":"BID!K198","v":{"$error":"#DIV/0!"}},{"$f":"BID!N198","v":{"$error":"#DIV/0!"}},{"$error":"#DIV/0!"},null,null,null,{"$f":"MTK!K198","v":{"$error":"#DIV/0!"}},{"$f":"MTK!L198","v":0},{"$error":"#DIV/0!"},{"$f":"IPA!K198","v":{"$error":"#DIV/0!"}},{"$f":"IPA!N198","v":{"$error":"#DIV/0!"}},{"$error":"#DIV/0!"},{"$f":"IPS!K198","v":{"$error":"#DIV/0!"}},{"$f":"IPS!L198","v":0},{"$error":"#DIV/0!"},{"$f":"SBK!K198","v":{"$error":"#DIV/0!"}},{"$f":"SBK!N198","v":{"$error":"#DIV/0!"}},{"$error":"#DIV/0!"},{"$f":"PJK!K198","v":{"$error":"#DIV/0!"}},{"$f":"PJK!N198","v":{"$error":"#DIV/0!"}},{"$error":"#DIV/0!"},{"$f":"BD!K198","v":{"$error":"#DIV/0!"}},{"$f":"BD!N198","v":{"$error":"#DIV/0!"}},{"$error":"#DIV/0!"},{"$f":"BIG!K198","v":{"$error":"#DIV/0!"}},{"$f":"BIG!N198","v":{"$error":"#DIV/0!"}},{"$error":"#DIV/0!"},{"$error":"#DIV/0!"},{"$error":"#DIV/0!"},null,{"$error":"#DIV/0!"},{"$error":"#DIV/0!"},null,{"$error":"#DIV/0!"},{"$error":"#DIV/0!"},{"$f":"IPA!L198","v":0},{"$error":"#DIV/0!"},0,{"$error":"#DIV/0!"},0,{"$error":"#DIV/0!"},{"$error":"#DIV/0!"},{"$error":"#DIV/0!"},{"$error":"#DIV/0!"},0,{"$error":"#DIV/0!"},{"$error":"#DIV/0!"},{"$error":"#DIV/0!"},{"$error":"#DIV/0!"},null,null,{"$error":"#DIV/0!"},0,{"$error":"#DIV/0!"},{"$error":"#DIV/0!"},0,{"$error":"#DIV/0!"},{"$error":"#DIV/0!"},0,{"$error":"#DIV/0!"}]
[{"$f":"SISWA!A199","v":192},{"$f":"IF(SISWA!B199=0,\"\",SISWA!B199)","v":""},{"$f":"IF(SISWA!C199=0,\"\",SISWA!C199)","v":""},{"$f":"IF(SISWA!D199=0,\"\",SISWA!D199)","v":"192-"},{"$f":"IF(SISWA!E199=0,\"\",SISWA!E199)","v":""},{"$f":"IF(SISWA!P198=0,\"\",SISWA!P198)","v":", 00 Januari 1900"},{"$f":"IF(SISWA!H199=0,\"\",SISWA!H199)","v":""},{"$f":"#REF!","v":{"$error":"#REF!"}},{"$f":"#REF!","v":{"$error":"#REF!"}},{"$error":"#REF!"},null,null,null,null,null,null,null,null,null,null,null,null,{"$f":"PKn!K199","v":{"$error":"#DIV/0!"}},{"$f":"PKn!N199","v":0},{"$error":"#DIV/0!"},{"$f":"BID!K199","v":{"$error":"#DIV/0!"}},{"$f":"BID!N199","v":{"$error":"#DIV/0!"}},{"$error":"#DIV/0!"},null,null,null,{"$f":"MTK!K199","v":{"$error":"#DIV/0!"}},{"$f":"MTK!L199","v":0},{"$error":"#DIV/0!"},{"$f":"IPA!K199","v":{"$error":"#DIV/0!"}},{"$f":"IPA!N199","v":{"$error":"#DIV/0!"}},{"$error":"#DIV/0!"},{"$f":"IPS!K199","v":{"$error":"#DIV/0!"}},{"$f":"IPS!L199","v":0},{"$error":"#DIV/0!"},{"$f":"SBK!K199","v":{"$error":"#DIV/0!"}},{"$f":"SBK!N199","v":{"$error":"#DIV/0!"}},{"$error":"#DIV/0!"},{"$f":"PJK!K199","v":{"$error":"#DIV/0!"}},{"$f":"PJK!N199","v":{"$error":"#DIV/0!"}},{"$error":"#DIV/0!"},{"$f":"BD!K199","v":{"$error":"#DIV/0!"}},{"$f":"BD!N199","v":{"$error":"#DIV/0!"}},{"$error":"#DIV/0!"},{"$f":"BIG!K199","v":{"$error":"#DIV/0!"}},{"$f":"BIG!N199","v":{"$error":"#DIV/0!"}},{"$error":"#DIV/0!"},{"$error":"#DIV/0!"},{"$error":"#DIV/0!"},null,{"$error":"#DIV/0!"},{"$error":"#DIV/0!"},null,{"$error":"#DIV/0!"},{"$error":"#DIV/0!"},{"$f":"IPA!L199","v":0},{"$error":"#DIV/0!"},0,{"$error":"#DIV/0!"},0,{"$error":"#DIV/0!"},{"$error":"#DIV/0!"},{"$error":"#DIV/0!"},{"$error":"#DIV/0!"},0,{"$error":"#DIV/0!"},{"$error":"#DIV/0!"},{"$error":"#DIV/0!"},{"$error":"#DIV/0!"},null,null,{"$error":"#DIV/0!"},0,{"$error":"#DIV/0!"},{"$error":"#DIV/0!"},0,{"$error":"#DIV/0!"},{"$error":"#DIV/0!"},0,{"$error":"#DIV/0!"}]
[{"$f":"SISWA!A200","v":193},{"$f":"IF(SISWA!B200=0,\"\",SISWA!B200)","v":""},{"$f":"IF(SISWA!C200=0,\"\",SISWA!C200)","v":""},{"$f":"IF(SISWA!D200=0,\"\",SISWA!D200)","v":"193-"},{"$f":"IF(SISWA!E200=0,\"\",SISWA!E200)","v":""},{"$f":"IF(SISWA!P199=0,\"\",SISWA!P199)","v":", 00 Januari 1900"},{"$f":"IF(SISWA!H200=0,\"\",SISWA!H200)","v":""},{"$f":"#REF!","v":{"$error":"#REF!"}},{"$f":"#REF!","v":{"$error":"#REF!"}},{"$f":"(H201*60%)+(I201*40%)","v":{"$error":"#REF!"}},null,null,null,null,null,null,null,null,null,null,null,null,{"$f":"PKn!K200","v":{"$error":"#DIV/0!"}},{"$f":"PKn!N200","v":0},{"$f":"(W201*60%)+(X201*40%)","v":{"$error":"#DIV/0!"}},{"$f":"BID!K200","v":{"$error":"#DIV/0!"}},{"$f":"BID!N200","v":{"$error":"#DIV/0!"}},{"$f":"(Z201*60%)+(AA201*40%)","v":{"$error":"#DIV/0!"}},null,null,null,{"$f":"MTK!K200","v":{"$error":"#DIV/0!"}},{"$f":"MTK!L200","v":0},{"$f":"(AF201*60%)+(AG201*40%)","v":{"$error":"#DIV/0!"}},{"$f":"IPA!K200","v":{"$error":"#DIV/0!"}},{"$f":"IPA!N200","v":{"$error":"#DIV/0!"}},{"$f":"(AI201*60%)+(AJ201*40%)","v":{"$error":"#DIV/0!"}},{"$f":"IPS!K200","v":{"$error":"#DIV/0!"}},{"$f":"IPS!L200","v":0},{"$f":"(AL201*60%)+(AM201*40%)","v":{"$error":"#DIV/0!"}},{"$f":"SBK!K200","v":{"$error":"#DIV/0!"}},{"$f":"SBK!N200","v":{"$error":"#DIV/0!"}},{"$f":"(AO201*60%)+(AP201*40%)","v":{"$error":"#DIV/0!"}},{"$f":"PJK!K200","v":{"$error":"#DIV/0!"}},{"$f":"PJK!N200","v":{"$error":"#DIV/0!"}},{"$f":"(AR201*60%)+(AS201*40%)","v":{"$error":"#DIV/0!"}},{"$f":"BD!K200","v":{"$error":"#DIV/0!"}},{"$f":"BD!N200","v":{"$error":"#DIV/0!"}},{"$f":"(AU201*60%)+(AV201*40%)","v":{"$error":"#DIV/0!"}},{"$f":"BIG!K200","v":{"$error":"#DIV/0!"}},{"$f":"BIG!N200","v":{"$error":"#DIV/0!"}},{"$f":"(AX201*60%)+(AY201*40%)","v":{"$error":"#DIV/0!"}},{"$error":"#DIV/0!"},{"$f":"AB201","v":{"$error":"#DIV/0!"}},null,{"$f":"(BB201*60%)+(BC201*40%)","v":{"$error":"#DIV/0!"}},{"$f":"AH201","v":{"$error":"#DIV/0!"}},null,{"$f":"(BE201*60%)+(BF201*40%)","v":{"$error":"#DIV/0!"}},{"$f":"AK201","v":{"$error":"#DIV/0!"}},{"$f":"IPA!L200","v":0},{"$f":"(BH201*60%)+(BI201*40%)","v":{"$error":"#DIV/0!"}},0,{"$f":"SUM(BD201,BG201,BJ201)","v":{"$error":"#DIV/0!"}},0,{"$error":"#DIV/0!"},{"$error":"#DIV/0!"},{"$error":"#DIV/0!"},{"$error":"#DIV/0!"},0,{"$error":"#DIV/0!"},{"$error":"#DIV/0!"},{"$error":"#DIV/0!"},{"$error":"#DIV/0!"},null,null,{"$error":"#DIV/0!"},0,{"$error":"#DIV/0!"},{"$error":"#DIV/0!"},0,{"$error":"#DIV/0!"},{"$error":"#DIV/0!"},0,{"$error":"#DIV/0!"}]
[{"$f":"SISWA!A201","v":194},{"$f":"IF(SISWA!B201=0,\"\",SISWA!B201)","v":""},{"$f":"IF(SISWA!C201=0,\"\",SISWA!C201)","v":""},{"$f":"IF(SISWA!D201=0,\"\",SISWA!D201)","v":"194-"},{"$f":"IF(SISWA!E201=0,\"\",SISWA!E201)","v":""},{"$f":"IF(SISWA!P200=0,\"\",SISWA!P200)","v":", 00 Januari 1900"},{"$f":"IF(SISWA!H201=0,\"\",SISWA!H201)","v":""},{"$f":"#REF!","v":{"$error":"#REF!"}},{"$f":"#REF!","v":{"$error":"#REF!"}},{"$error":"#REF!"},null,null,null,null,null,null,null,null,null,null,null,null,{"$f":"PKn!K201","v":{"$error":"#DIV/0!"}},{"$f":"PKn!N201","v":0},{"$error":"#DIV/0!"},{"$f":"BID!K201","v":{"$error":"#DIV/0!"}},{"$f":"BID!N201","v":{"$error":"#DIV/0!"}},{"$error":"#DIV/0!"},null,null,null,{"$f":"MTK!K201","v":{"$error":"#DIV/0!"}},{"$f":"MTK!L201","v":0},{"$error":"#DIV/0!"},{"$f":"IPA!K201","v":{"$error":"#DIV/0!"}},{"$f":"IPA!N201","v":{"$error":"#DIV/0!"}},{"$error":"#DIV/0!"},{"$f":"IPS!K201","v":{"$error":"#DIV/0!"}},{"$f":"IPS!L201","v":0},{"$error":"#DIV/0!"},{"$f":"SBK!K201","v":{"$error":"#DIV/0!"}},{"$f":"SBK!N201","v":{"$error":"#DIV/0!"}},{"$error":"#DIV/0!"},{"$f":"PJK!K201","v":{"$error":"#DIV/0!"}},{"$f":"PJK!N201","v":{"$error":"#DIV/0!"}},{"$error":"#DIV/0!"},{"$f":"BD!K201","v":{"$error":"#DIV/0!"}},{"$f":"BD!N201","v":{"$error":"#DIV/0!"}},{"$error":"#DIV/0!"},{"$f":"BIG!K201","v":{"$error":"#DIV/0!"}},{"$f":"BIG!N201","v":{"$error":"#DIV/0!"}},{"$error":"#DIV/0!"},{"$f":"AVERAGE(M202,P202,S202,V202,Y202,AB202,AE202,AH202,AK202,AN202,AQ202,AT202,AW202,AZ202)","v":{"$error":"#DIV/0!"}},{"$error":"#DIV/0!"},null,{"$error":"#DIV/0!"},{"$error":"#DIV/0!"},null,{"$error":"#DIV/0!"},{"$error":"#DIV/0!"},{"$f":"IPA!L201","v":0},{"$error":"#DIV/0!"},{"$f":"AVERAGE(BC202,BF202,BI202)","v":0},{"$error":"#DIV/0!"},{"$f":"SUM(BC202,BF202,BI202)","v":0},{"$f":"Z202","v":{"$error":"#DIV/0!"}},{"$f":"AA202","v":{"$error":"#DIV/0!"}},{"$f":"AB202","v":{"$error":"#DIV/0!"}},{"$f":"AF202","v":{"$error":"#DIV/0!"}},{"$f":"AG202","v":0},{"$f":"AH202","v":{"$error":"#DIV/0!"}},{"$f":"AI202","v":{"$error":"#DIV/0!"}},{"$f":"AJ202","v":{"$error":"#DIV/0!"}},{"$f":"AK202","v":{"$error":"#DIV/0!"}},null,null,{"$f":"BB202","v":{"$error":"#DIV/0!"}},{"$f":"BC202","v":0},{"$f":"BD202","v":{"$error":"#DIV/0!"}},{"$f":"BE202","v":{"$error":"#DIV/0!"}},{"$f":"BF202","v":0},{"$f":"BG202","v":{"$error":"#DIV/0!"}},{"$f":"BH202","v":{"$error":"#DIV/0!"}},{"$f":"BI202","v":0},{"$f":"BJ202","v":{"$error":"#DIV/0!"}}]
[{"$f":"SISWA!A202","v":195},{"$f":"IF(SISWA!B202=0,\"\",SISWA!B202)","v":""},{"$f":"IF(SISWA!C202=0,\"\",SISWA!C202)","v":""},{"$f":"IF(SISWA!D202=0,\"\",SISWA!D202)","v":"195-"},{"$f":"IF(SISWA!E202=0,\"\",SISWA!E202)","v":""},{"$f":"IF(SISWA!P201=0,\"\",SISWA!P201)","v":", 00 Januari 1900"},{"$f":"IF(SISWA!H202=0,\"\",SISWA!H202)","v":""},{"$f":"#REF!","v":{"$error":"#REF!"}},{"$f":"#REF!","v":{"$error":"#REF!"}},{"$error":"#REF!"},null,null,null,null,null,null,null,null,null,null,null,null,{"$f":"PKn!K202","v":{"$error":"#DIV/0!"}},{"$f":"PKn!N202","v":0},{"$error":"#DIV/0!"},{"$f":"BID!K202","v":{"$error":"#DIV/0!"}},{"$f":"BID!N202","v":{"$error":"#DIV/0!"}},{"$error":"#DIV/0!"},null,null,null,{"$f":"MTK!K202","v":{"$error":"#DIV/0!"}},{"$f":"MTK!L202","v":0},{"$error":"#DIV/0!"},{"$f":"IPA!K202","v":{"$error":"#DIV/0!"}},{"$f":"IPA!N202","v":{"$error":"#DIV/0!"}},{"$error":"#DIV/0!"},{"$f":"IPS!K202","v":{"$error":"#DIV/0!"}},{"$f":"IPS!L202","v":0},{"$error":"#DIV/0!"},{"$f":"SBK!K202","v":{"$error":"#DIV/0!"}},{"$f":"SBK!N202","v":{"$error":"#DIV/0!"}},{"$error":"#DIV/0!"},{"$f":"PJK!K202","v":{"$error":"#DIV/0!"}},{"$f":"PJK!N202","v":{"$error":"#DIV/0!"}},{"$error":"#DIV/0!"},{"$f":"BD!K202","v":{"$error":"#DIV/0!"}},{"$f":"BD!N202","v":{"$error":"#DIV/0!"}},{"$error":"#DIV/0!"},{"$f":"BIG!K202","v":{"$error":"#DIV/0!"}},{"$f":"BIG!N202","v":{"$error":"#DIV/0!"}},{"$error":"#DIV/0!"},{"$error":"#DIV/0!"},{"$error":"#DIV/0!"},null,{"$error":"#DIV/0!"},{"$error":"#DIV/0!"},null,{"$error":"#DIV/0!"},{"$error":"#DIV/0!"},{"$f":"IPA!L202","v":0},{"$error":"#DIV/0!"},0,{"$error":"#DIV/0!"},0,{"$error":"#DIV/0!"},{"$error":"#DIV/0!"},{"$error":"#DIV/0!"},{"$error":"#DIV/0!"},0,{"$error":"#DIV/0!"},{"$error":"#DIV/0!"},{"$error":"#DIV/0!"},{"$error":"#DIV/0!"},null,null,{"$error":"#DIV/0!"},0,{"$error":"#DIV/0!"},{"$error":"#DIV/0!"},0,{"$error":"#DIV/0!"},{"$error":"#DIV/0!"},0,{"$error":"#DIV/0!"}]
[{"$f":"SISWA!A203","v":196},{"$f":"IF(SISWA!B203=0,\"\",SISWA!B203)","v":""},{"$f":"IF(SISWA!C203=0,\"\",SISWA!C203)","v":""},{"$f":"IF(SISWA!D203=0,\"\",SISWA!D203)","v":"196-"},{"$f":"IF(SISWA!E203=0,\"\",SISWA!E203)","v":""},{"$f":"IF(SISWA!P202=0,\"\",SISWA!P202)","v":", 00 Januari 1900"},{"$f":"IF(SISWA!H203=0,\"\",SISWA!H203)","v":""},{"$f":"#REF!","v":{"$error":"#REF!"}},{"$f":"#REF!","v":{"$error":"#REF!"}},{"$error":"#REF!"},null,null,null,null,null,null,null,null,null,null,null,null,{"$f":"PKn!K203","v":{"$error":"#DIV/0!"}},{"$f":"PKn!N203","v":0},{"$error":"#DIV/0!"},{"$f":"BID!K203","v":{"$error":"#DIV/0!"}},{"$f":"BID!N203","v":{"$error":"#DIV/0!"}},{"$error":"#DIV/0!"},null,null,null,{"$f":"MTK!K203","v":{"$error":"#DIV/0!"}},{"$f":"MTK!L203","v":0},{"$error":"#DIV/0!"},{"$f":"IPA!K203","v":{"$error":"#DIV/0!"}},{"$f":"IPA!N203","v":{"$error":"#DIV/0!"}},{"$error":"#DIV/0!"},{"$f":"IPS!K203","v":{"$error":"#DIV/0!"}},{"$f":"IPS!L203","v":0},{"$error":"#DIV/0!"},{"$f":"SBK!K203","v":{"$error":"#DIV/0!"}},{"$f":"SBK!N203","v":{"$error":"#DIV/0!"}},{"$error":"#DIV/0!"},{"$f":"PJK!K203","v":{"$error":"#DIV/0!"}},{"$f":"PJK!N203","v":{"$error":"#DIV/0!"}},{"$error":"#DIV/0!"},{"$f":"BD!K203","v":{"$error":"#DIV/0!"}},{"$f":"BD!N203","v":{"$error":"#DIV/0!"}},{"$error":"#DIV/0!"},{"$f":"BIG!K203","v":{"$error":"#DIV/0!"}},{"$f":"BIG!N203","v":{"$error":"#DIV/0!"}},{"$error":"#DIV/0!"},{"$error":"#DIV/0!"},{"$error":"#DIV/0!"},null,{"$error":"#DIV/0!"},{"$error":"#DIV/0!"},null,{"$error":"#DIV/0!"},{"$error":"#DIV/0!"},{"$f":"IPA!L203","v":0},{"$error":"#DIV/0!"},0,{"$error":"#DIV/0!"},0,{"$error":"#DIV/0!"},{"$error":"#DIV/0!"},{"$error":"#DIV/0!"},{"$error":"#DIV/0!"},0,{"$error":"#DIV/0!"},{"$error":"#DIV/0!"},{"$error":"#DIV/0!"},{"$error":"#DIV/0!"},null,null,{"$error":"#DIV/0!"},0,{"$error":"#DIV/0!"},{"$error":"#DIV/0!"},0,{"$error":"#DIV/0!"},{"$error":"#DIV/0!"},0,{"$error":"#DIV/0!"}]
[{"$f":"SISWA!A204","v":197},{"$f":"IF(SISWA!B204=0,\"\",SISWA!B204)","v":""},{"$f":"IF(SISWA!C204=0,\"\",SISWA!C204)","v":""},{"$f":"IF(SISWA!D204=0,\"\",SISWA!D204)","v":"197-"},{"$f":"IF(SISWA!E204=0,\"\",SISWA!E204)","v":""},{"$f":"IF(SISWA!P203=0,\"\",SISWA!P203)","v":", 00 Januari 1900"},{"$f":"IF(SISWA!H204=0,\"\",SISWA!H204)","v":""},{"$f":"#REF!","v":{"$error":"#REF!"}},{"$f":"#REF!","v":{"$error":"#REF!"}},{"$error":"#REF!"},null,null,null,null,null,null,null,null,null,null,null,null,{"$f":"PKn!K204","v":{"$error":"#DIV/0!"}},{"$f":"PKn!N204","v":0},{"$error":"#DIV/0!"},{"$f":"BID!K204","v":{"$error":"#DIV/0!"}},{"$f":"BID!N204","v":{"$error":"#DIV/0!"}},{"$error":"#DIV/0!"},null,null,null,{"$f":"MTK!K204","v":{"$error":"#DIV/0!"}},{"$f":"MTK!L204","v":0},{"$error":"#DIV/0!"},{"$f":"IPA!K204","v":{"$error":"#DIV/0!"}},{"$f":"IPA!N204","v":{"$error":"#DIV/0!"}},{"$error":"#DIV/0!"},{"$f":"IPS!K204","v":{"$error":"#DIV/0!"}},{"$f":"IPS!L204","v":0},{"$error":"#DIV/0!"},{"$f":"SBK!K204","v":{"$error":"#DIV/0!"}},{"$f":"SBK!N204","v":{"$error":"#DIV/0!"}},{"$error":"#DIV/0!"},{"$f":"PJK!K204","v":{"$error":"#DIV/0!"}},{"$f":"PJK!N204","v":{"$error":"#DIV/0!"}},{"$error":"#DIV/0!"},{"$f":"BD!K204","v":{"$error":"#DIV/0!"}},{"$f":"BD!N204","v":{"$error":"#DIV/0!"}},{"$error":"#DIV/0!"},{"$f":"BIG!K204","v":{"$error":"#DIV/0!"}},{"$f":"BIG!N204","v":{"$error":"#DIV/0!"}},{"$error":"#DIV/0!"},{"$error":"#DIV/0!"},{"$error":"#DIV/0!"},null,{"$error":"#DIV/0!"},{"$error":"#DIV/0!"},null,{"$error":"#DIV/0!"},{"$error":"#DIV/0!"},{"$f":"IPA!L204","v":0},{"$error":"#DIV/0!"},0,{"$error":"#DIV/0!"},0,{"$error":"#DIV/0!"},{"$error":"#DIV/0!"},{"$error":"#DIV/0!"},{"$error":"#DIV/0!"},0,{"$error":"#DIV/0!"},{"$error":"#DIV/0!"},{"$error":"#DIV/0!"},{"$error":"#DIV/0!"},null,null,{"$error":"#DIV/0!"},0,{"$error":"#DIV/0!"},{"$error":"#DIV/0!"},0,{"$error":"#DIV/0!"},{"$error":"#DIV/0!"},0,{"$error":"#DIV/0!"}]
[{"$f":"SISWA!A205","v":198},{"$f":"IF(SISWA!B205=0,\"\",SISWA!B205)","v":""},{"$f":"IF(SISWA!C205=0,\"\",SISWA!C205)","v":""},{"$f":"IF(SISWA!D205=0,\"\",SISWA!D205)","v":"198-"},{"$f":"IF(SISWA!E205=0,\"\",SISWA!E205)","v":""},{"$f":"IF(SISWA!P204=0,\"\",SISWA!P204)","v":", 00 Januari 1900"},{"$f":"IF(SISWA!H205=0,\"\",SISWA!H205)","v":""},{"$f":"#REF!","v":{"$error":"#REF!"}},{"$f":"#REF!","v":{"$error":"#REF!"}},{"$error":"#REF!"},null,null,null,null,null,null,null,null,null,null,null,null,{"$f":"PKn!K205","v":{"$error":"#DIV/0!"}},{"$f":"PKn!N205","v":0},{"$error":"#DIV/0!"},{"$f":"BID!K205","v":{"$error":"#DIV/0!"}},{"$f":"BID!N205","v":{"$error":"#DIV/0!"}},{"$error":"#DIV/0!"},null,null,null,{"$f":"MTK!K205","v":{"$error":"#DIV/0!"}},{"$f":"MTK!L205","v":0},{"$error":"#DIV/0!"},{"$f":"IPA!K205","v":{"$error":"#DIV/0!"}},{"$f":"IPA!N205","v":{"$error":"#DIV/0!"}},{"$error":"#DIV/0!"},{"$f":"IPS!K205","v":{"$error":"#DIV/0!"}},{"$f":"IPS!L205","v":0},{"$error":"#DIV/0!"},{"$f":"SBK!K205","v":{"$error":"#DIV/0!"}},{"$f":"SBK!N205","v":{"$error":"#DIV/0!"}},{"$error":"#DIV/0!"},{"$f":"PJK!K205","v":{"$error":"#DIV/0!"}},{"$f":"PJK!N205","v":{"$error":"#DIV/0!"}},{"$error":"#DIV/0!"},{"$f":"BD!K205","v":{"$error":"#DIV/0!"}},{"$f":"BD!N205","v":{"$error":"#DIV/0!"}},{"$error":"#DIV/0!"},{"$f":"BIG!K205","v":{"$error":"#DIV/0!"}},{"$f":"BIG!N205","v":{"$error":"#DIV/0!"}},{"$error":"#DIV/0!"},{"$error":"#DIV/0!"},{"$error":"#DIV/0!"},null,{"$error":"#DIV/0!"},{"$error":"#DIV/0!"},null,{"$error":"#DIV/0!"},{"$error":"#DIV/0!"},{"$f":"IPA!L205","v":0},{"$error":"#DIV/0!"},0,{"$error":"#DIV/0!"},0,{"$error":"#DIV/0!"},{"$error":"#DIV/0!"},{"$error":"#DIV/0!"},{"$error":"#DIV/0!"},0,{"$error":"#DIV/0!"},{"$error":"#DIV/0!"},{"$error":"#DIV/0!"},{"$error":"#DIV/0!"},null,null,{"$error":"#DIV/0!"},0,{"$error":"#DIV/0!"},{"$error":"#DIV/0!"},0,{"$error":"#DIV/0!"},{"$error":"#DIV/0!"},0,{"$error":"#DIV/0!"}]
[{"$f":"SISWA!A206","v":199},{"$f":"IF(SISWA!B206=0,\"\",SISWA!B206)","v":""},{"$f":"IF(SISWA!C206=0,\"\",SISWA!C206)","v":""},{"$f":"IF(SISWA!D206=0,\"\",SISWA!D206)","v":"199-"},{"$f":"IF(SISWA!E206=0,\"\",SISWA!E206)","v":""},{"$f":"IF(SISWA!P205=0,\"\",SISWA!P205)","v":", 00 Januari 1900"},{"$f":"IF(SISWA!H206=0,\"\",SISWA!H206)","v":""},{"$f":"#REF!","v":{"$error":"#REF!"}},{"$f":"#REF!","v":{"$error":"#REF!"}},{"$error":"#REF!"},null,null,null,null,null,null,null,null,null,null,null,null,{"$f":"PKn!K206","v":{"$error":"#DIV/0!"}},{"$f":"PKn!N206","v":0},{"$error":"#DIV/0!"},{"$f":"BID!K206","v":{"$error":"#DIV/0!"}},{"$f":"BID!N206","v":{"$error":"#DIV/0!"}},{"$error":"#DIV/0!"},null,null,null,{"$f":"MTK!K206","v":{"$error":"#DIV/0!"}},{"$f":"MTK!L206","v":0},{"$error":"#DIV/0!"},{"$f":"IPA!K206","v":{"$error":"#DIV/0!"}},{"$f":"IPA!N206","v":{"$error":"#DIV/0!"}},{"$error":"#DIV/0!"},{"$f":"IPS!K206","v":{"$error":"#DIV/0!"}},{"$f":"IPS!L206","v":0},{"$error":"#DIV/0!"},{"$f":"SBK!K206","v":{"$error":"#DIV/0!"}},{"$f":"SBK!N206","v":{"$error":"#DIV/0!"}},{"$error":"#DIV/0!"},{"$f":"PJK!K206","v":{"$error":"#DIV/0!"}},{"$f":"PJK!N206","v":{"$error":"#DIV/0!"}},{"$error":"#DIV/0!"},{"$f":"BD!K206","v":{"$error":"#DIV/0!"}},{"$f":"BD!N206","v":{"$error":"#DIV/0!"}},{"$error":"#DIV/0!"},{"$f":"BIG!K206","v":{"$error":"#DIV/0!"}},{"$f":"BIG!N206","v":{"$error":"#DIV/0!"}},{"$error":"#DIV/0!"},{"$error":"#DIV/0!"},{"$error":"#DIV/0!"},null,{"$error":"#DIV/0!"},{"$error":"#DIV/0!"},null,{"$error":"#DIV/0!"},{"$error":"#DIV/0!"},{"$f":"IPA!L206","v":0},{"$error":"#DIV/0!"},0,{"$error":"#DIV/0!"},0,{"$error":"#DIV/0!"},{"$error":"#DIV/0!"},{"$error":"#DIV/0!"},{"$error":"#DIV/0!"},0,{"$error":"#DIV/0!"},{"$error":"#DIV/0!"},{"$error":"#DIV/0!"},{"$error":"#DIV/0!"},null,null,{"$error":"#DIV/0!"},0,{"$error":"#DIV/0!"},{"$error":"#DIV/0!"},0,{"$error":"#DIV/0!"},{"$error":"#DIV/0!"},0,{"$error":"#DIV/0!"}]
[{"$f":"SISWA!A207","v":200},{"$f":"IF(SISWA!B207=0,\"\",SISWA!B207)","v":""},{"$f":"IF(SISWA!C207=0,\"\",SISWA!C207)","v":""},{"$f":"IF(SISWA!D207=0,\"\",SISWA!D207)","v":"200-"},{"$f":"IF(SISWA!E207=0,\"\",SISWA!E207)","v":""},{"$f":"IF(SISWA!P206=0,\"\",SISWA!P206)","v":", 00 Januari 1900"},{"$f":"IF(SISWA!H207=0,\"\",SISWA!H207)","v":""},{"$f":"#REF!","v":{"$error":"#REF!"}},{"$f":"#REF!","v":{"$error":"#REF!"}},{"$error":"#REF!"},null,null,null,null,null,null,null,null,null,null,null,null,{"$f":"PKn!K207","v":{"$error":"#DIV/0!"}},{"$f":"PKn!N207","v":0},{"$error":"#DIV/0!"},{"$f":"BID!K207","v":{"$error":"#DIV/0!"}},{"$f":"BID!N207","v":{"$error":"#DIV/0!"}},{"$error":"#DIV/0!"},null,null,null,{"$f":"MTK!K207","v":{"$error":"#DIV/0!"}},{"$f":"MTK!L207","v":0},{"$error":"#DIV/0!"},{"$f":"IPA!K207","v":{"$error":"#DIV/0!"}},{"$f":"IPA!N207","v":{"$error":"#DIV/0!"}},{"$error":"#DIV/0!"},{"$f":"IPS!K207","v":{"$error":"#DIV/0!"}},{"$f":"IPS!L207","v":0},{"$error":"#DIV/0!"},{"$f":"SBK!K207","v":{"$error":"#DIV/0!"}},{"$f":"SBK!N207","v":{"$error":"#DIV/0!"}},{"$error":"#DIV/0!"},{"$f":"PJK!K207","v":{"$error":"#DIV/0!"}},{"$f":"PJK!N207","v":{"$error":"#DIV/0!"}},{"$error":"#DIV/0!"},{"$f":"BD!K207","v":{"$error":"#DIV/0!"}},{"$f":"BD!N207","v":{"$error":"#DIV/0!"}},{"$error":"#DIV/0!"},{"$f":"BIG!K207","v":{"$error":"#DIV/0!"}},{"$f":"BIG!N207","v":{"$error":"#DIV/0!"}},{"$error":"#DIV/0!"},{"$error":"#DIV/0!"},{"$error":"#DIV/0!"},null,{"$error":"#DIV/0!"},{"$error":"#DIV/0!"},null,{"$error":"#DIV/0!"},{"$error":"#DIV/0!"},{"$f":"IPA!L207","v":0},{"$error":"#DIV/0!"},{"$f":"AVERAGE(BC208,BF208,BI208)","v":0},{"$error":"#DIV/0!"},0,{"$error":"#DIV/0!"},{"$error":"#DIV/0!"},{"$error":"#DIV/0!"},{"$error":"#DIV/0!"},0,{"$error":"#DIV/0!"},{"$error":"#DIV/0!"},{"$error":"#DIV/0!"},{"$error":"#DIV/0!"},null,null,{"$error":"#DIV/0!"},0,{"$error":"#DIV/0!"},{"$error":"#DIV/0!"},0,{"$error":"#DIV/0!"},{"$error":"#DIV/0!"},0,{"$error":"#DIV/0!"}]

{"sheet":"Sheet1","index":17,"n_rows":0,"n_cols":0,"rows_kept":0,"cut":false,"hidden":false,"merged":[]}

{"sheet":"IJAZAH","index":18,"n_rows":99,"n_cols":28,"rows_kept":99,"cut":false,"hidden":false,"merged":[[19,12,19,14],[22,1,23,1],[9,1,9,9],[9,10,9,11],[10,1,10,9],[10,10,10,11],[21,1,21,9],[21,10,21,11],[12,1,19,1],[12,2,13,9],[14,6,14,10],[5,1,5,9],[6,1,6,9],[6,10,6,11],[8,1,8,9],[8,10,8,11],[89,1,89,8],[57,10,57,11],[59,1,59,9],[59,10,59,11],[60,10,60,11],[73,7,73,8],[78,7,78,8],[88,7,88,8],[85,7,85,8],[86,7,86,8],[79,7,79,8],[62,1,62,9],[87,7,87,8],[85,3,85,4],[69,1,70,9],[71,7,71,8],[60,1,60,9],[57,1,57,9],[71,2,71,5],[80,7,80,8],[76,7,76,8],[77,7,77,8],[64,6,64,10],[81,7,81,8],[82,7,82,8],[83,7,83,8],[84,7,84,8],[74,7,74,8],[75,7,75,8]]}
[]
[null,null,null,null,null,null,null,null,null,null,null,null,null,null,null,null,null,null,null,null,null,null,null,null,null,null,null,1]
[null,null,null,null,null,null,null,null,null,null,null,null,null,null,null,null,null,null,null,null,null,null,null,null,null,null,null,2]
[null,null,null,null,null,null,null,null,null,null,null,null,null,null,null,null,null,null,null,null,null,null,null,null,null,null,null,3]
[null,null,null,null,null,null,null,null,null,null,null,null,null,null,null,null,null,null,null,null,null,null,null,null,null,null,null,4]
[null,null,null,null,null,null,null,null,null,null,null,null,null,null,null,null,null,null,null,null,null,null,null,null,null,null,null,5]
[null,null,null,null,null,null,null,null,null,null,null,null,null,null,null,null,null,null,null,null,null,null,null,null,null,null,null,6]
[null,null,null,null,null,null,null,null,null,null,null,null,null,null,null,null,null,null,null,null,null,null,null,null,null,null,null,7]
[null,"IJAZAH SEMENTARA",null,null,null,null,null,null,null,null,null,null,null,null,null,null,null,null,null,null,null,null,null,null,null,null,null,8]
[null,"MADRASAH IBTIDAIYAH",null,null,null,null,null,null,null,null,null,null,null,null,null,null,null,null,null,null,null,null,null,null,null,null,null,9]
[null,{"$f":"B61","v":"Tahun Pelajaran 2018/2019"},null,null,null,null,null,null,null,null,null,null,"NO ABSEN",null,null,null,null,null,null,null,null,null,null,null,null,null,null,10]
[null,null,null,null,null,null,null,null,null,null,null,null,1,null,null,null,null,null,null,null,null,null,null,null,null,null,null,11]
[null,null,{"$f":"B63","v":"yang bertanda tangan dibawah ini, Kepala Madrasah Ibtidaiyah Nurul Islam Labruk Kidul Kecamatan Sumbersuko menerangkan bahwa :"},null,null,null,null,null,null,null,null,null,null,null,null,null,null,null,null,null,null,null,null,null,null,null,null,12]
[null,null,null,null,null,null,null,null,null,null,null,null,null,null,null,null,null,null,null,null,null,null,null,null,null,null,null,13]
[null,null,"nama ",null,null,":",{"$f":"VLOOKUP(M12,DAKOLUN!A9:'DAKOLUN'!G208,5,0)","v":"ADITYA MAULA FANDY TAULANI"},null,null,null,null,null,null,null,null,null,null,null,null,null,null,null,null,null,null,null,null,14]
[null,null,"tempat dan tanggal lahir ",null,null,":",{"$f":"VLOOKUP(M12,DAKOLUN!A9:'DAKOLUN'!G208,6,0)","v":"LUMAJANG, 13 Juni 2006"},null,null,null,null,null,null,null,null,null,null,null,null,null,null,null,null,null,null,null,null,15]
[null,null,"nama orang tua/wali ",null,null,":",{"$f":"PROPER(VLOOKUP(M12,DAKOLUN!A9:'DAKOLUN'!G208,7,0))","v":"Muhammad Khamdani Syaifullah"},null,null,null,null,null,null,null,null,null,null,null,null,null,null,null,null,null,null,null,null,16]
[null,null,"nomor induk siswa",null,null,":",{"$f":"VLOOKUP(M12,DAKOLUN!A9:'DAKOLUN'!G208,2,0)","v":4270}]
[null,null,"nomor induk siswa nasional ",null,null,":",{"$f":"IF(VLOOKUP(M12,DAKOLUN!A9:'DAKOLUN'!G208,3,0)=0,\"\",VLOOKUP(M12,DAKOLUN!A9:'DAKOLUN'!G208,3,0))","v":"0067566336"},null,null,null,null,null,"GANTI TANGGAL IJASAH",null,null,null,null,null,null,null,null,null,null,null,null,null,null,17]
[null,null,"nomor peserta ujian sekolah ",null,null,":",{"$f":"VLOOKUP(M12,DAKOLUN!A9:'DAKOLUN'!G208,4,0)","v":"1-18-05-80-162-001-9"},null,null,null,null,null,"Lumajang, 17 Juni 2019",null,null,null,null,null,null,null,null,null,null,null,null,null,null,18]
[null,null,"sekolah asal",null,null,":",{"$f":"DEPAN!Y7","v":"MI Nurul Islam Labruk Kidul"},null,null,null,null,null,null,null,null,null,null,null,null,null,null,null,null,null,null,null,null,19]
[null,"LULUS",null,null,null,null,null,null,null,null,null,null,null,null,null,null,null,null,null,null,null,null,null,null,null,null,null,20]
[null,null,"dari satuan pendidikan setelah memenuhi seluruh kriteria sesuai ",null,null,null,null,null,null,null,null,null,null,null,null,null,null,null,null,null,null,null,null,null,null,null,null,21]
[null,null,"dengan peraturan perundang-undangan.",null,null,null,null,null,null,null,null,null,null,null,null,null,null,null,null,null,null,null,null,null,null,null,null,22]
[null,null,null,null,null,null,null,null,null,null,null,null,null,null,null,null,null,null,null,null,null,null,null,null,null,null,null,23]
[null,null,null,null,null,null,null,null,null,null,null,null,null,null,null,null,null,null,null,null,null,null,null,null,null,null,null,27]
[null,null,null,null,null,null,null,{"$f":"M20","v":"Lumajang, 17 Juni 2019"},null,null,null,null,null,null,null,null,null,null,null,null,null,null,null,null,null,null,null,28]
[null,null,null,null,null,null,null,"Kepala Sekolah",null,null,null,null,null,null,null,null,null,null,null,null,null,null,null,null,null,null,null,29]
[null,null,null,null,null,null,null,null,null,null,null,null,null,null,null,null,null,null,null,null,null,null,null,null,null,null,null,30]
[null,null,null,null,null,null,null,null,null,null,null,null,null,null,null,null,null,null,null,null,null,null,null,null,null,null,null,31]
[null,null,null,null,null,null,null,null,null,null,null,null,null,null,null,null,null,null,null,null,null,null,null,null,null,null,null,32]
[null,null,null,null,null,null,null,null,null,null,null,null,null,null,null,null,null,null,null,null,null,null,null,null,null,null,null,34]
[null,null,null,null,null,null,null,null,null,null,null,null,null,null,null,null,null,null,null,null,null,null,null,null,null,null,null,35]
[null,null,null,null,null,null,null,null,null,null,null,null,null,null,null,null,null,null,null,null,null,null,null,null,null,null,null,36]
[null,null,null,null,null,null,null,{"$f":"IF(KEPALA<>\"\",KEPALA,\"\")","v":"Sahroni,S.Pd.I"},null,null,null,null,null,null,null,null,null,null,null,null,null,null,null,null,null,null,null,37]
[null,null,null,null,null,null,null,"NIP. ",{"$f":"IF(NIP<>\"\",NIP,\"\")","v":"-"},null,null,null,null,null,null,null,null,null,null,null,null,null,null,null,null,null,null,38]
[null,null,null,null,null,null,null,null,null,null,null,null,null,null,null,null,null,null,null,null,null,null,null,null,null,null,null,40]
[null,null,null,null,null,null,null,null,null,null,null,null,null,null,null,null,null,null,null,null,null,null,null,null,null,null,null,41]
[null,null,null,null,null,null,null,null,null,null,null,null,null,null,null,null,null,null,null,null,null,null,null,null,null,null,null,42]
[null,null,null,null,null,null,null,null,null,null,null,null,null,null,null,null,null,null,null,null,null,null,null,null,null,null,null,43]
[null,null,null,null,null,null,null,null,null,null,null,null,null,null,null,null,null,null,null,null,null,null,null,null,null,null,null,44]
[null,null,null,null,null,null,null,null,null,null,null,null,null,null,null,null,null,null,null,null,null,null,null,null,null,null,null,45]
[null,null,null,null,null,null,null,null,null,null,null,null,null,null,null,null,null,null,null,null,null,null,null,null,null,null,null,46]
[null,null,null,null,null,null,null,null,null,null,null,null,null,null,null,null,null,null,null,null,null,null,null,null,null,null,null,47]
[null,null,null,null,null,null,null,null,null,null,null,null,null,null,null,null,null,null,null,null,null,null,null,null,null,null,null,48]
[null,null,null,null,null,null,null,null,null,null,null,null,null,null,null,null,null,null,null,null,null,null,null,null,null,null,null,49]
[null,null,null,null,null,null,null,null,null,null,null,null,null,null,null,null,null,null,null,null,null,null,null,null,null,null,null,50]
[null,null,null,null,null,null,null,null,null,null,null,null,null,null,null,null,null,null,null,null,null,null,null,null,null,null,null,51]
[null,null,null,null,null,null,null,null,null,null,null,null,null,null,null,null,null,null,null,null,null,null,null,null,null,null,null,52]
[null,null,null,null,null,null,null,null,null,null,null,null,null,null,null,null,null,null,null,null,null,null,null,null,null,null,null,53]
[null,null,null,null,null,null,null,null,null,null,null,null,null,null,null,null,null,null,null,null,null,null,null,null,null,null,null,54]
[null,null,null,null,null,null,null,null,null,null,null,null,null,null,null,null,null,null,null,null,null,null,null,null,null,null,null,55]
[]
[]
[]
[]
[]
[null,"HASIL UJIAN SEKOLAH",null,null,null,null,null,null,null,null,null,null,null,null,null,null,null,null,null,null,null,null,null,null,null,null,null,58]
[null,null,null,null,null,null,null,null,null,null,null,null,null,null,null,null,null,null,null,null,null,null,null,null,null,null,null,59]
[null,"MADRASAH IBTIDAIYAH",null,null,null,null,null,null,null,null,null,null,null,null,null,null,null,null,null,null,null,null,null,null,null,null,null,60]
[null,{"$f":"DAKOLUN!D3","v":"Tahun Pelajaran 2018/2019"},null,null,null,null,null,null,null,null,null,null,null,null,null,null,null,null,null,null,null,null,null,null,null,null,null,61]
[null,null,null,null,null,null,null,null,null,null,null,null,null,null,null,null,null,null,null,null,null,null,null,null,null,null,null,62]
[null,{"$f":"\"yang bertanda tangan dibawah ini, \"&\"Kepala \"&DEPAN!Y6&\" \"&DEPAN!E6&\" \"&PROPER(DEPAN!C12)&\" \"&PROPER(DEPAN!D12)&\" menerangkan bahwa :\"","v":"yang bertanda tangan dibawah ini, Kepala Madrasah Ibtidaiyah Nurul Islam Labruk Kidul Kecamatan Sumbersuko menerangkan bahwa :"},null,null,null,null,null,null,null,null,null,null,null,null,null,null,null,null,null,null,null,null,null,null,null,null,null,63]
[null,null,null,null,null,null,null,null,null,null,null,null,null,null,null,null,null,null,null,null,null,null,null,null,null,null,null,64]
[null,"nama ",null,null,null,":",{"$f":"VLOOKUP(M12,DAKOLUN!A9:'DAKOLUN'!G208,5,0)","v":"ADITYA MAULA FANDY TAULANI"},null,null,null,null,null,null,null,null,null,null,null,null,null,null,null,null,null,null,null,null,65]
[null,"tempat dan tanggal lahir ",null,null,null,":",{"$f":"VLOOKUP(M12,DAKOLUN!A9:'DAKOLUN'!G208,6,0)","v":"LUMAJANG, 13 Juni 2006"}]
[null,"nomor induk ",null,null,null,":",{"$f":"VLOOKUP(M12,DAKOLUN!A9:'DAKOLUN'!G208,2,0)","v":4270}]
[null,"nomor induk siswa nasional ",null,null,null,":",{"$f":"VLOOKUP(M12,DAKOLUN!A9:'DAKOLUN'!G208,3,0)","v":"0067566336"}]
[]
[null,"telah memenuhi penilaian akhir dan mengikuti ujian sekolah berdasarkan Peraturan Menteri Pendidikan dan Kebudayaan Nomor 102 Tahun 2013 dengan hasil sebagai berikut :"]
[]
[null,"No","Mata Pelajaran",null,null,null,"Nilai Rata-rata Rapor","Nilai Ujian\nSekolah",null,"Nilai Akhir Sekolah ')"]
[null,"A",null,"Ujian Sekolah"]
[null,null,"1.","Pendidikan Agama",null,null,{"$f":"VLOOKUP($M$12,DAKOLUN!$A$9:'DAKOLUN'!$BK$208,8,0)","v":{"$error":"#REF!"}},{"$f":"VLOOKUP($M$12,DAKOLUN!$A$9:'DAKOLUN'!$BK$208,9,0)","v":{"$error":"#REF!"}},null,{"$f":"VLOOKUP($M$12,DAKOLUN!$A$9:'DAKOLUN'!$BK$208,10,0)","v":{"$error":"#REF!"}}]
[null,null,null,"a. Al Quran Hadits",null,null,{"$f":"VLOOKUP($M$12,DAKOLUN!$A$9:'DAKOLUN'!$CH$208,14,0)","v":86},{"$f":"VLOOKUP($M$12,DAKOLUN!$A$9:'DAKOLUN'!$CH$208,15,0)","v":75.5},null,{"$f":"VLOOKUP($M$12,DAKOLUN!$A$9:'DAKOLUN'!$CH$208,16,0)","v":81.800000000000011}]
[null,null,null,"b. Aqidah Akhlak",null,null,{"$f":"VLOOKUP($M$12,DAKOLUN!$A$9:'DAKOLUN'!$CH$208,11,0)","v":85.6},{"$f":"VLOOKUP($M$12,DAKOLUN!$A$9:'DAKOLUN'!$CH$208,12,0)","v":75.3},null,{"$f":"VLOOKUP($M$12,DAKOLUN!$A$9:'DAKOLUN'!$CH$208,13,0)","v":81.47999999999999}]
[null,null,null,"c. Fiqih",null,null,{"$f":"VLOOKUP($M$12,DAKOLUN!$A$9:'DAKOLUN'!$CH$208,17,0)","v":85.2},{"$f":"VLOOKUP($M$12,DAKOLUN!$A$9:'DAKOLUN'!$CH$208,18,0)","v":75.099999999999994},null,{"$f":"VLOOKUP($M$12,DAKOLUN!$A$9:'DAKOLUN'!$CH$208,19,0)","v":81.16}]
[null,null,null,"d. Sejarah Kebudayaan Islam",null,null,{"$f":"VLOOKUP($M$12,DAKOLUN!$A$9:'DAKOLUN'!$CH$208,20,0)","v":84.2},{"$f":"VLOOKUP($M$12,DAKOLUN!$A$9:'DAKOLUN'!$CH$208,21,0)","v":74.599999999999994},null,{"$f":"VLOOKUP($M$12,DAKOLUN!$A$9:'DAKOLUN'!$CH$208,22,0)","v":80.36}]
[null,null,"2.","Pendidikan Kewarganegaraan",null,null,{"$f":"VLOOKUP($M$12,DAKOLUN!$A$9:'DAKOLUN'!$CH$208,23,0)","v":87.4},{"$f":"VLOOKUP($M$12,DAKOLUN!$A$9:'DAKOLUN'!$CH$208,24,0)","v":65},null,{"$f":"VLOOKUP($M$12,DAKOLUN!$A$9:'DAKOLUN'!$CH$208,25,0)","v":78.44}]
[null,null,"3.","Bahasa Indonesia",null,null,{"$f":"VLOOKUP($M$12,DAKOLUN!$A$9:'DAKOLUN'!$CH$208,68,0)","v":84.038000000000011},{"$f":"VLOOKUP($M$12,DAKOLUN!$A$9:'DAKOLUN'!$CH$208,55,0)","v":83.39},null,{"$f":"VLOOKUP($M$12,DAKOLUN!$A$9:'DAKOLUN'!$CH$208,56,0)","v":83.778800000000004}]
[null,null,4,"Bahasa Arab",null,null,{"$f":"VLOOKUP($M$12,DAKOLUN!$A$9:'DAKOLUN'!$CH$208,29,0)","v":80.2},{"$f":"VLOOKUP($M$12,DAKOLUN!$A$9:'DAKOLUN'!$CH$208,30,0)","v":72.599999999999994},null,{"$f":"VLOOKUP($M$12,DAKOLUN!$A$9:'DAKOLUN'!$CH$208,31,0)","v":77.16}]
[null,null,5,"Matematika",null,null,{"$f":"VLOOKUP($M$12,DAKOLUN!$A$9:'DAKOLUN'!$CH$208,71,0)","v":81.091999999999999},{"$f":"VLOOKUP($M$12,DAKOLUN!$A$9:'DAKOLUN'!$CH$208,58,0)","v":77.33},null,{"$f":"VLOOKUP($M$12,DAKOLUN!$A$9:'DAKOLUN'!$CH$208,59,0)","v":79.587199999999996}]
[null,null,6,"Ilmu Pengetahuan Alam",null,null,{"$f":"VLOOKUP($M$12,DAKOLUN!$A$9:'DAKOLUN'!$CH$208,74,0)","v":79.599999999999994},{"$f":"VLOOKUP($M$12,DAKOLUN!$A$9:'DAKOLUN'!$CH$208,61,0)","v":74},null,{"$f":"VLOOKUP($M$12,DAKOLUN!$A$9:'DAKOLUN'!$CH$208,62,0)","v":77.36}]
[null,null,7,"Ilmu Pengetahuan Sosial",null,null,{"$f":"VLOOKUP($M$12,DAKOLUN!$A$9:'DAKOLUN'!$CH$208,38,0)","v":83.4},{"$f":"VLOOKUP($M$12,DAKOLUN!$A$9:'DAKOLUN'!$CH$208,39,0)","v":65},null,{"$f":"VLOOKUP($M$12,DAKOLUN!$A$9:'DAKOLUN'!$CH$208,40,0)","v":76.039999999999992}]
[null,null,8,"Seni Budaya dan Keterampilan",null,null,{"$f":"VLOOKUP($M$12,DAKOLUN!$A$9:'DAKOLUN'!$CH$208,41,0)","v":82.6},{"$f":"VLOOKUP($M$12,DAKOLUN!$A$9:'DAKOLUN'!$CH$208,42,0)","v":73.8},null,{"$f":"VLOOKUP($M$12,DAKOLUN!$A$9:'DAKOLUN'!$CH$208,43,0)","v":79.08}]
[null,null,9,"Pendidikan Jasmani Olahraga \ndan Kesehatan",null,null,{"$f":"VLOOKUP($M$12,DAKOLUN!$A$9:'DAKOLUN'!$CH$208,44,0)","v":82.6},{"$f":"VLOOKUP($M$12,DAKOLUN!$A$9:'DAKOLUN'!$CH$208,45,0)","v":73.8},null,{"$f":"VLOOKUP($M$12,DAKOLUN!$A$9:'DAKOLUN'!$CH$208,46,0)","v":79.08}]
[null,"B",null,"Muatan Lokal"]
[null,null,"1.",{"$f":"SISWA!K16","v":"Bahasa Daerah"},null,null,{"$f":"VLOOKUP(M12,DAKOLUN!A9:'DAKOLUN'!CH208,47,0)","v":78.400000000000006},{"$f":"VLOOKUP(M12,DAKOLUN!A9:'DAKOLUN'!CH208,48,0)","v":71.7},null,{"$f":"VLOOKUP(M12,DAKOLUN!A9:'DAKOLUN'!CH208,49,0)","v":75.72}]
[null,null,"2.",{"$f":"SISWA!K17","v":"Bahasa Inggris"},null,null,{"$f":"VLOOKUP(M12,DAKOLUN!A9:'DAKOLUN'!CH208,50,0)","v":79.8},{"$f":"VLOOKUP(M12,DAKOLUN!A9:'DAKOLUN'!CH208,51,0)","v":72.400000000000006},null,{"$f":"VLOOKUP(M12,DAKOLUN!A9:'DAKOLUN'!CH208,52,0)","v":76.84}]
[null,"Rata-rata",null,null,null,null,null,null,null,{"$f":"AVERAGE(J75:J86,J88:J89)","v":79.134714285714281}]
[]
[]
[null,null,null,null,null,null,null,{"$f":"H27","v":"Lumajang, 17 Juni 2019"}]
[null,null,null,null,null,null,null,"Kepala Sekolah"]
[]
[]
[]
[null,null,null,null,null,null,null,{"$f":"IF(KEPALA<>\"\",KEPALA,\"\")","v":"Sahroni,S.Pd.I"}]
[null,null,null,null,null,null,null,"NIP. ",{"$f":"IF(NIP<>\"\",NIP,\"\")","v":"-"}]

{"sheet":"IJAZAHCATAT","index":19,"n_rows":58,"n_cols":48,"rows_kept":58,"cut":false,"hidden":false,"merged":[[1,5,1,9],[1,15,1,19],[1,25,1,29],[31,25,31,29],[31,15,31,19],[31,5,31,9],[6,0,7,8],[8,1,8,4],[18,26,18,27],[19,26,19,27],[20,26,20,27],[15,16,15,17],[16,16,16,17],[17,16,17,17],[8,6,8,7],[10,6,10,7],[11,6,11,7],[19,6,19,7],[20,6,20,7],[12,26,12,27],[13,26,13,27],[14,26,14,27],[15,26,15,27],[16,26,16,27],[17,26,17,27],[6,20,7,28],[8,21,8,24],[8,26,8,27],[10,26,10,27],[11,26,11,27],[12,6,12,7],[13,6,13,7],[14,6,14,7],[21,26,21,27],[18,6,18,7],[15,6,15,7],[16,6,16,7],[17,6,17,7],[19,16,19,17],[20,16,20,17],[21,16,21,17],[12,16,12,17],[13,16,13,17],[14,16,14,17],[21,6,21,7],[43,6,43,7],[43,26,43,27],[44,6,44,7],[44,26,44,27],[26,20,26,24],[26,26,26,27],[23,16,23,17],[22,2,22,3],[22,6,22,7],[22,12,22,13],[22,16,22,17],[40,26,40,27],[38,11,38,14],[38,16,38,17],[40,16,40,17],[41,6,41,7],[41,26,41,27],[42,6,42,7],[42,26,42,27],[38,26,38,27],[45,6,45,7],[45,26,45,27],[23,6,23,7],[24,6,24,7],[25,6,25,7],[36,0,37,8],[36,20,37,28],[24,16,24,17],[25,16,25,17],[36,10,37,18],[23,26,23,27],[24,26,24,27],[25,26,25,27],[26,6,26,7],[26,0,26,4],[26,10,26,14],[26,16,26,17],[38,1,38,4],[38,6,38,7],[38,21,38,24],[43,16,43,17],[44,16,44,17],[45,16,45,17],[40,6,40,7],[56,0,56,4],[56,6,56,7],[56,10,56,14],[56,16,56,17],[56,20,56,24],[56,26,56,27],[52,2,52,3],[52,6,52,7],[52,22,52,23],[52,26,52,27],[54,16,54,17],[55,16,55,17],[53,6,53,7],[53,26,53,27],[54,6,54,7],[54,26,54,27],[49,6,49,7],[49,26,49,27],[46,6,46,7],[46,26,46,27],[47,6,47,7],[47,26,47,27],[48,6,48,7],[48,26,48,27],[55,6,55,7],[55,26,55,27],[50,6,50,7],[50,26,50,27],[51,6,51,7],[50,16,50,17],[51,16,51,17],[2,31,3,31],[4,31,5,31],[6,31,7,31],[8,31,9,31],[10,31,11,31],[12,31,13,31],[52,12,52,13],[52,16,52,17],[53,16,53,17],[18,16,18,17],[22,22,22,23],[22,26,22,27],[51,26,51,27],[6,10,7,18],[8,11,8,14],[8,16,8,17],[10,16,10,17],[11,16,11,17],[47,16,47,17],[48,16,48,17],[49,16,49,17],[46,16,46,17],[41,16,41,17],[42,16,42,17]]}
[{"$f":"AF3","v":1},null,null,null,null,null,null,null,null,null,{"$f":"AF5","v":2},null,null,null,null,null,null,null,null,null,{"$f":"AF7","v":3},null,null,null,null,null,null,null,null,null,null,null,null,null,null,null,null,null,null,null,null,null,null,null,null,null,null,64]
["nama ",null,null,null,":",{"$f":"VLOOKUP(AF3,DAKOLUN!A9:'DAKOLUN'!G208,5,0)","v":"ADITYA MAULA FANDY TAULANI"},null,null,null,null,"nama ",null,null,null,":",{"$f":"VLOOKUP(AF5,DAKOLUN!A9:'DAKOLUN'!G208,5,0)","v":"AHMAD FERDIAN ALAMSYAH"},null,null,null,null,"nama ",null,null,null,":",{"$f":"VLOOKUP(AF7,DAKOLUN!A9:'DAKOLUN'!G208,5,0)","v":"AHMAD RAMADHANI FADLULLOH"},null,null,null,null,null,"NO ABSEN",null,null,null,null,null,null,null,null,null,null,null,null,null,null,null,65]
["tempat dan tanggal lahir ",null,null,null,":",{"$f":"VLOOKUP(AF3,DAKOLUN!A9:'DAKOLUN'!G208,6,0)","v":"LUMAJANG, 13 Juni 2006"},null,null,null,null,"tempat dan tanggal lahir ",null,null,null,":",{"$f":"VLOOKUP(AF5,DAKOLUN!A9:'DAKOLUN'!G208,6,0)","v":"LUMAJANG, 19 Agustus 2006"},null,null,null,null,"tempat dan tanggal lahir ",null,null,null,":",{"$f":"VLOOKUP(AF7,DAKOLUN!A9:'DAKOLUN'!G208,6,0)","v":"LUMAJANG, 18 Oktober 2006"},null,null,null,null,null,1]
["nomor induk ",null,null,null,":",{"$f":"VLOOKUP(AF3,DAKOLUN!A9:'DAKOLUN'!G208,2,0)","v":4270},null,null,null,null,"nomor induk ",null,null,null,":",{"$f":"VLOOKUP(AF5,DAKOLUN!A9:'DAKOLUN'!G208,2,0)","v":4300},null,null,null,null,"nomor induk ",null,null,null,":",{"$f":"VLOOKUP(AF7,DAKOLUN!A9:'DAKOLUN'!G208,2,0)","v":4271}]
["nomor induk siswa nasional ",null,null,null,":",{"$f":"VLOOKUP(AF3,DAKOLUN!A9:'DAKOLUN'!G208,3,0)","v":"0067566336"},null,null,null,null,"nomor induk siswa nasional ",null,null,null,":",{"$f":"VLOOKUP(AF5,DAKOLUN!A9:'DAKOLUN'!G208,3,0)","v":"0066364963"},null,null,null,null,"nomor induk siswa nasional ",null,null,null,":",{"$f":"VLOOKUP(AF7,DAKOLUN!A9:'DAKOLUN'!G208,3,0)","v":"0062805893"},null,null,null,null,null,{"$f":"AF3+1","v":2}]
[]
["telah memenuhi penilaian akhir dan mengikuti ujian sekolah berdasarkan Peraturan Menteri Pendidikan dan Kebudayaan Nomor 102 Tahun 2013 dengan hasil sebagai berikut :",null,null,null,null,null,null,null,null,null,"telah memenuhi penilaian akhir dan mengikuti ujian sekolah berdasarkan Peraturan Menteri Pendidikan dan Kebudayaan Nomor 102 Tahun 2013 dengan hasil sebagai berikut :",null,null,null,null,null,null,null,null,null,"telah memenuhi penilaian akhir dan mengikuti ujian sekolah berdasarkan Peraturan Menteri Pendidikan dan Kebudayaan Nomor 102 Tahun 2013 dengan hasil sebagai berikut :",null,null,null,null,null,null,null,null,null,null,{"$f":"AF5+1","v":3}]
[]
["No","Mata Pelajaran",null,null,null,"Nilai Rata-rata Rapor","Nilai Ujian\nSekolah",null,"Nilai Akhir Sekolah ')",null,"No","Mata Pelajaran",null,null,null,"Nilai Rata-rata Rapor","Nilai Ujian\nSekolah",null,"Nilai Akhir Sekolah ')",null,"No","Mata Pelajaran",null,null,null,"Nilai Rata-rata Rapor","Nilai Ujian\nSekolah",null,"Nilai Akhir Sekolah ')",null,null,{"$f":"AF7+1","v":4}]
["A",null,"Ujian Sekolah",null,null,null,null,null,null,null,"A",null,"Ujian Sekolah",null,null,null,null,null,null,null,"A",null,"Ujian Sekolah"]
[null,"1.","Pendidikan Agama",null,null,{"$f":"VLOOKUP($AF$3,DAKOLUN!$A$9:'DAKOLUN'!$BK$208,8,0)","v":{"$error":"#REF!"}},{"$f":"VLOOKUP($AF$3,DAKOLUN!$A$9:'DAKOLUN'!$BK$208,9,0)","v":{"$error":"#REF!"}},null,{"$f":"VLOOKUP($AF$3,DAKOLUN!$A$9:'DAKOLUN'!$BK$208,10,0)","v":{"$error":"#REF!"}},null,null,"1.","Pendidikan Agama",null,null,{"$f":"VLOOKUP($AF$3,DAKOLUN!$A$9:'DAKOLUN'!$BK$208,8,0)","v":{"$error":"#REF!"}},{"$f":"VLOOKUP($AF$3,DAKOLUN!$A$9:'DAKOLUN'!$BK$208,9,0)","v":{"$error":"#REF!"}},null,{"$f":"VLOOKUP($AF$3,DAKOLUN!$A$9:'DAKOLUN'!$BK$208,10,0)","v":{"$error":"#REF!"}},null,null,"1.","Pendidikan Agama",null,null,{"$f":"VLOOKUP($AF$3,DAKOLUN!$A$9:'DAKOLUN'!$BK$208,8,0)","v":{"$error":"#REF!"}},{"$f":"VLOOKUP($AF$3,DAKOLUN!$A$9:'DAKOLUN'!$BK$208,9,0)","v":{"$error":"#REF!"}},null,{"$f":"VLOOKUP($AF$3,DAKOLUN!$A$9:'DAKOLUN'!$BK$208,10,0)","v":{"$error":"#REF!"}},null,null,{"$f":"AF9+1","v":5}]
[null,null,"a. Al Quran Hadits",null,null,{"$f":"VLOOKUP($AF$3,DAKOLUN!$A$9:'DAKOLUN'!$CH$208,14,0)","v":86},{"$f":"VLOOKUP($AF$3,DAKOLUN!$A$9:'DAKOLUN'!$CH$208,15,0)","v":75.5},null,{"$f":"VLOOKUP($AF$3,DAKOLUN!$A$9:'DAKOLUN'!$CH$208,16,0)","v":81.800000000000011},null,null,null,"a. Al Quran Hadits",null,null,{"$f":"VLOOKUP($AF$5,DAKOLUN!$A$9:'DAKOLUN'!$CH$208,14,0)","v":74.2},{"$f":"VLOOKUP($AF$5,DAKOLUN!$A$9:'DAKOLUN'!$CH$208,15,0)","v":69.599999999999994},null,{"$f":"VLOOKUP($AF$5,DAKOLUN!$A$9:'DAKOLUN'!$CH$208,16,0)","v":72.36},null,null,null,"a. Al Quran Hadits",null,null,{"$f":"VLOOKUP($AF$7,DAKOLUN!$A$9:'DAKOLUN'!$CH$208,14,0)","v":80.2},{"$f":"VLOOKUP($AF$7,DAKOLUN!$A$9:'DAKOLUN'!$CH$208,15,0)","v":72.599999999999994},null,{"$f":"VLOOKUP($AF$7,DAKOLUN!$A$9:'DAKOLUN'!$CH$208,16,0)","v":77.16}]
[null,null,"b. Aqidah Akhlak",null,null,{"$f":"VLOOKUP($AF$3,DAKOLUN!$A$9:'DAKOLUN'!$CH$208,11,0)","v":85.6},{"$f":"VLOOKUP($AF$3,DAKOLUN!$A$9:'DAKOLUN'!$CH$208,12,0)","v":75.3},null,{"$f":"VLOOKUP($AF$3,DAKOLUN!$A$9:'DAKOLUN'!$CH$208,13,0)","v":81.47999999999999},null,null,null,"b. Aqidah Akhlak",null,null,{"$f":"VLOOKUP($AF$5,DAKOLUN!$A$9:'DAKOLUN'!$CH$208,11,0)","v":73.2},{"$f":"VLOOKUP($AF$5,DAKOLUN!$A$9:'DAKOLUN'!$CH$208,12,0)","v":72.099999999999994},null,{"$f":"VLOOKUP($AF$5,DAKOLUN!$A$9:'DAKOLUN'!$CH$208,13,0)","v":72.760000000000005},null,null,null,"b. Aqidah Akhlak",null,null,{"$f":"VLOOKUP($AF$7,DAKOLUN!$A$9:'DAKOLUN'!$CH$208,11,0)","v":79.8},{"$f":"VLOOKUP($AF$7,DAKOLUN!$A$9:'DAKOLUN'!$CH$208,12,0)","v":73.900000000000006},null,{"$f":"VLOOKUP($AF$7,DAKOLUN!$A$9:'DAKOLUN'!$CH$208,13,0)","v":77.44},null,null,{"$f":"AF11+1","v":6}]
[null,null,"c. Fiqih",null,null,{"$f":"VLOOKUP($AF$3,DAKOLUN!$A$9:'DAKOLUN'!$CH$208,17,0)","v":85.2},{"$f":"VLOOKUP($AF$3,DAKOLUN!$A$9:'DAKOLUN'!$CH$208,18,0)","v":75.099999999999994},null,{"$f":"VLOOKUP($AF$3,DAKOLUN!$A$9:'DAKOLUN'!$CH$208,19,0)","v":81.16},null,null,null,"c. Fiqih",null,null,{"$f":"VLOOKUP($AF$5,DAKOLUN!$A$9:'DAKOLUN'!$CH$208,17,0)","v":75},{"$f":"VLOOKUP($AF$5,DAKOLUN!$A$9:'DAKOLUN'!$CH$208,18,0)","v":70},null,{"$f":"VLOOKUP($AF$5,DAKOLUN!$A$9:'DAKOLUN'!$CH$208,19,0)","v":73},null,null,null,"c. Fiqih",null,null,{"$f":"VLOOKUP($AF$7,DAKOLUN!$A$9:'DAKOLUN'!$CH$208,17,0)","v":78.599999999999994},{"$f":"VLOOKUP($AF$7,DAKOLUN!$A$9:'DAKOLUN'!$CH$208,18,0)","v":71.8},null,{"$f":"VLOOKUP($AF$7,DAKOLUN!$A$9:'DAKOLUN'!$CH$208,19,0)","v":75.88}]
[null,null,"d. Sejarah Kebudayaan Islam",null,null,{"$f":"VLOOKUP($AF$3,DAKOLUN!$A$9:'DAKOLUN'!$CH$208,20,0)","v":84.2},{"$f":"VLOOKUP($AF$3,DAKOLUN!$A$9:'DAKOLUN'!$CH$208,21,0)","v":74.599999999999994},null,{"$f":"VLOOKUP($AF$3,DAKOLUN!$A$9:'DAKOLUN'!$CH$208,22,0)","v":80.36},null,null,null,"d. Sejarah Kebudayaan Islam",null,null,{"$f":"VLOOKUP($AF$5,DAKOLUN!$A$9:'DAKOLUN'!$CH$208,20,0)","v":75.2},{"$f":"VLOOKUP($AF$5,DAKOLUN!$A$9:'DAKOLUN'!$CH$208,21,0)","v":72.754999999999995},null,{"$f":"VLOOKUP($AF$5,DAKOLUN!$A$9:'DAKOLUN'!$CH$208,22,0)","v":74.221999999999994},null,null,null,"d. Sejarah Kebudayaan Islam",null,null,{"$f":"VLOOKUP($AF$7,DAKOLUN!$A$9:'DAKOLUN'!$CH$208,20,0)","v":77.400000000000006},{"$f":"VLOOKUP($AF$7,DAKOLUN!$A$9:'DAKOLUN'!$CH$208,21,0)","v":71.754999999999995},null,{"$f":"VLOOKUP($AF$7,DAKOLUN!$A$9:'DAKOLUN'!$CH$208,22,0)","v":75.141999999999996}]
[null,"2.","Pendidikan Kewarganegaraan",null,null,{"$f":"VLOOKUP($AF$3,DAKOLUN!$A$9:'DAKOLUN'!$CH$208,23,0)","v":87.4},{"$f":"VLOOKUP($AF$3,DAKOLUN!$A$9:'DAKOLUN'!$CH$208,24,0)","v":65},null,{"$f":"VLOOKUP($AF$3,DAKOLUN!$A$9:'DAKOLUN'!$CH$208,25,0)","v":78.44},null,null,"2.","Pendidikan Kewarganegaraan",null,null,{"$f":"VLOOKUP($AF$5,DAKOLUN!$A$9:'DAKOLUN'!$CH$208,23,0)","v":72.8},{"$f":"VLOOKUP($AF$5,DAKOLUN!$A$9:'DAKOLUN'!$CH$208,24,0)","v":68},null,{"$f":"VLOOKUP($AF$5,DAKOLUN!$A$9:'DAKOLUN'!$CH$208,25,0)","v":70.88},null,null,"2.","Pendidikan Kewarganegaraan",null,null,{"$f":"VLOOKUP($AF$7,DAKOLUN!$A$9:'DAKOLUN'!$CH$208,23,0)","v":78.8},{"$f":"VLOOKUP($AF$7,DAKOLUN!$A$9:'DAKOLUN'!$CH$208,24,0)","v":68},null,{"$f":"VLOOKUP($AF$7,DAKOLUN!$A$9:'DAKOLUN'!$CH$208,25,0)","v":74.47999999999999}]
[null,"3.","Bahasa Indonesia",null,null,{"$f":"VLOOKUP($AF$3,DAKOLUN!$A$9:'DAKOLUN'!$CH$208,68,0)","v":84.038000000000011},{"$f":"VLOOKUP($AF$3,DAKOLUN!$A$9:'DAKOLUN'!$CH$208,55,0)","v":83.39},null,{"$f":"VLOOKUP($AF$3,DAKOLUN!$A$9:'DAKOLUN'!$CH$208,56,0)","v":83.778800000000004},null,null,"3.","Bahasa Indonesia",null,null,{"$f":"VLOOKUP($AF$5,DAKOLUN!$A$9:'DAKOLUN'!$CH$208,68,0)","v":63.734000000000009},{"$f":"VLOOKUP($AF$5,DAKOLUN!$A$9:'DAKOLUN'!$CH$208,55,0)","v":33.07},null,{"$f":"VLOOKUP($AF$5,DAKOLUN!$A$9:'DAKOLUN'!$CH$208,56,0)","v":51.468400000000003},null,null,"3.","Bahasa Indonesia",null,null,{"$f":"VLOOKUP($AF$7,DAKOLUN!$A$9:'DAKOLUN'!$CH$208,68,0)","v":72.233999999999995},{"$f":"VLOOKUP($AF$7,DAKOLUN!$A$9:'DAKOLUN'!$CH$208,55,0)","v":57.97},null,{"$f":"VLOOKUP($AF$7,DAKOLUN!$A$9:'DAKOLUN'!$CH$208,56,0)","v":66.528400000000005}]
[null,4,"Bahasa Arab",null,null,{"$f":"VLOOKUP($AF$3,DAKOLUN!$A$9:'DAKOLUN'!$CH$208,29,0)","v":80.2},{"$f":"VLOOKUP($AF$3,DAKOLUN!$A$9:'DAKOLUN'!$CH$208,30,0)","v":72.599999999999994},null,{"$f":"VLOOKUP($AF$3,DAKOLUN!$A$9:'DAKOLUN'!$CH$208,31,0)","v":77.16},null,null,4,"Bahasa Arab",null,null,{"$f":"VLOOKUP($AF$5,DAKOLUN!$A$9:'DAKOLUN'!$CH$208,29,0)","v":71.8},{"$f":"VLOOKUP($AF$5,DAKOLUN!$A$9:'DAKOLUN'!$CH$208,30,0)","v":68.400000000000006},null,{"$f":"VLOOKUP($AF$5,DAKOLUN!$A$9:'DAKOLUN'!$CH$208,31,0)","v":70.44},null,null,4,"Bahasa Arab",null,null,{"$f":"VLOOKUP($AF$7,DAKOLUN!$A$9:'DAKOLUN'!$CH$208,29,0)","v":75.8},{"$f":"VLOOKUP($AF$7,DAKOLUN!$A$9:'DAKOLUN'!$CH$208,30,0)","v":70.400000000000006},null,{"$f":"VLOOKUP($AF$7,DAKOLUN!$A$9:'DAKOLUN'!$CH$208,31,0)","v":73.64}]
[null,5,"Matematika",null,null,{"$f":"VLOOKUP($AF$3,DAKOLUN!$A$9:'DAKOLUN'!$CH$208,71,0)","v":81.091999999999999},{"$f":"VLOOKUP($AF$3,DAKOLUN!$A$9:'DAKOLUN'!$CH$208,58,0)","v":77.33},null,{"$f":"VLOOKUP($AF$3,DAKOLUN!$A$9:'DAKOLUN'!$CH$208,59,0)","v":79.587199999999996},null,null,5,"Matematika",null,null,{"$f":"VLOOKUP($AF$5,DAKOLUN!$A$9:'DAKOLUN'!$CH$208,71,0)","v":54.496000000000002},{"$f":"VLOOKUP($AF$5,DAKOLUN!$A$9:'DAKOLUN'!$CH$208,58,0)","v":30.64},null,{"$f":"VLOOKUP($AF$5,DAKOLUN!$A$9:'DAKOLUN'!$CH$208,59,0)","v":44.953600000000002},null,null,5,"Matematika",null,null,{"$f":"VLOOKUP($AF$7,DAKOLUN!$A$9:'DAKOLUN'!$CH$208,71,0)","v":54.244},{"$f":"VLOOKUP($AF$7,DAKOLUN!$A$9:'DAKOLUN'!$CH$208,58,0)","v":21.31},null,{"$f":"VLOOKUP($AF$7,DAKOLUN!$A$9:'DAKOLUN'!$CH$208,59,0)","v":41.070399999999999}]
[null,6,"Ilmu Pengetahuan Alam",null,null,{"$f":"VLOOKUP($AF$3,DAKOLUN!$A$9:'DAKOLUN'!$CH$208,74,0)","v":79.599999999999994},{"$f":"VLOOKUP($AF$3,DAKOLUN!$A$9:'DAKOLUN'!$CH$208,61,0)","v":74},null,{"$f":"VLOOKUP($AF$3,DAKOLUN!$A$9:'DAKOLUN'!$CH$208,62,0)","v":77.36},null,null,6,"Ilmu Pengetahuan Alam",null,null,{"$f":"VLOOKUP($AF$5,DAKOLUN!$A$9:'DAKOLUN'!$CH$208,74,0)","v":64.481999999999999},{"$f":"VLOOKUP($AF$5,DAKOLUN!$A$9:'DAKOLUN'!$CH$208,61,0)","v":36.01},null,{"$f":"VLOOKUP($AF$5,DAKOLUN!$A$9:'DAKOLUN'!$CH$208,62,0)","v":53.093199999999996},null,null,6,"Ilmu Pengetahuan Alam",null,null,{"$f":"VLOOKUP($AF$7,DAKOLUN!$A$9:'DAKOLUN'!$CH$208,74,0)","v":70.914000000000001},{"$f":"VLOOKUP($AF$7,DAKOLUN!$A$9:'DAKOLUN'!$CH$208,61,0)","v":48.97},null,{"$f":"VLOOKUP($AF$7,DAKOLUN!$A$9:'DAKOLUN'!$CH$208,62,0)","v":62.136400000000002}]
[null,7,"Ilmu Pengetahuan Sosial",null,null,{"$f":"VLOOKUP($AF$3,DAKOLUN!$A$9:'DAKOLUN'!$CH$208,38,0)","v":83.4},{"$f":"VLOOKUP($AF$3,DAKOLUN!$A$9:'DAKOLUN'!$CH$208,39,0)","v":65},null,{"$f":"VLOOKUP($AF$3,DAKOLUN!$A$9:'DAKOLUN'!$CH$208,40,0)","v":76.039999999999992},null,null,7,"Ilmu Pengetahuan Sosial",null,null,{"$f":"VLOOKUP($AF$5,DAKOLUN!$A$9:'DAKOLUN'!$CH$208,38,0)","v":73.8},{"$f":"VLOOKUP($AF$5,DAKOLUN!$A$9:'DAKOLUN'!$CH$208,39,0)","v":65},null,{"$f":"VLOOKUP($AF$5,DAKOLUN!$A$9:'DAKOLUN'!$CH$208,40,0)","v":70.28},null,null,7,"Ilmu Pengetahuan Sosial",null,null,{"$f":"VLOOKUP($AF$7,DAKOLUN!$A$9:'DAKOLUN'!$CH$208,38,0)","v":78.599999999999994},{"$f":"VLOOKUP($AF$7,DAKOLUN!$A$9:'DAKOLUN'!$CH$208,39,0)","v":65},null,{"$f":"VLOOKUP($AF$7,DAKOLUN!$A$9:'DAKOLUN'!$CH$208,40,0)","v":73.16}]
[null,8,"Seni Budaya dan Keterampilan",null,null,{"$f":"VLOOKUP($AF$3,DAKOLUN!$A$9:'DAKOLUN'!$CH$208,41,0)","v":82.6},{"$f":"VLOOKUP($AF$3,DAKOLUN!$A$9:'DAKOLUN'!$CH$208,42,0)","v":73.8},null,{"$f":"VLOOKUP($AF$3,DAKOLUN!$A$9:'DAKOLUN'!$CH$208,43,0)","v":79.08},null,null,8,"Seni Budaya dan Keterampilan",null,null,{"$f":"VLOOKUP($AF$5,DAKOLUN!$A$9:'DAKOLUN'!$CH$208,41,0)","v":73.599999999999994},{"$f":"VLOOKUP($AF$5,DAKOLUN!$A$9:'DAKOLUN'!$CH$208,42,0)","v":69.3},null,{"$f":"VLOOKUP($AF$5,DAKOLUN!$A$9:'DAKOLUN'!$CH$208,43,0)","v":71.88},null,null,8,"Seni Budaya dan Keterampilan",null,null,{"$f":"VLOOKUP($AF$7,DAKOLUN!$A$9:'DAKOLUN'!$CH$208,41,0)","v":78.2},{"$f":"VLOOKUP($AF$7,DAKOLUN!$A$9:'DAKOLUN'!$CH$208,42,0)","v":71.599999999999994},null,{"$f":"VLOOKUP($AF$7,DAKOLUN!$A$9:'DAKOLUN'!$CH$208,43,0)","v":75.56}]
[null,9,"Pendidikan Jasmani Olahraga \ndan Kesehatan",null,null,{"$f":"VLOOKUP($AF$3,DAKOLUN!$A$9:'DAKOLUN'!$CH$208,44,0)","v":82.6},{"$f":"VLOOKUP($AF$3,DAKOLUN!$A$9:'DAKOLUN'!$CH$208,45,0)","v":73.8},null,{"$f":"VLOOKUP($AF$3,DAKOLUN!$A$9:'DAKOLUN'!$CH$208,46,0)","v":79.08},null,null,9,"Pendidikan Jasmani Olahraga \ndan Kesehatan",null,null,{"$f":"VLOOKUP($AF$5,DAKOLUN!$A$9:'DAKOLUN'!$CH$208,44,0)","v":78.599999999999994},{"$f":"VLOOKUP($AF$5,DAKOLUN!$A$9:'DAKOLUN'!$CH$208,45,0)","v":71.8},null,{"$f":"VLOOKUP($AF$5,DAKOLUN!$A$9:'DAKOLUN'!$CH$208,46,0)","v":75.88},null,null,9,"Pendidikan Jasmani Olahraga \ndan Kesehatan",null,null,{"$f":"VLOOKUP($AF$7,DAKOLUN!$A$9:'DAKOLUN'!$CH$208,44,0)","v":80.8},{"$f":"VLOOKUP($AF$7,DAKOLUN!$A$9:'DAKOLUN'!$CH$208,45,0)","v":72.900000000000006},null,{"$f":"VLOOKUP($AF$7,DAKOLUN!$A$9:'DAKOLUN'!$CH$208,46,0)","v":77.64}]
["B",null,"Muatan Lokal",null,null,null,null,null,null,null,"B",null,"Muatan Lokal",null,null,null,null,null,null,null,"B",null,"Muatan Lokal"]
[null,"1.",{"$f":"SISWA!K16","v":"Bahasa Daerah"},null,null,{"$f":"VLOOKUP($AF$3,DAKOLUN!$A$9:'DAKOLUN'!$CH$208,47,0)","v":78.400000000000006},{"$f":"VLOOKUP($AF$3,DAKOLUN!$A$9:'DAKOLUN'!$CH$208,48,0)","v":71.7},null,{"$f":"VLOOKUP($AF$3,DAKOLUN!$A$9:'DAKOLUN'!$CH$208,49,0)","v":75.72},null,null,"1.",{"$f":"C25","v":"Bahasa Daerah"},null,null,{"$f":"VLOOKUP($AF$5,DAKOLUN!$A$9:'DAKOLUN'!$CH$208,47,0)","v":71.2},{"$f":"VLOOKUP($AF$5,DAKOLUN!$A$9:'DAKOLUN'!$CH$208,48,0)","v":68.099999999999994},null,{"$f":"VLOOKUP($AF$5,DAKOLUN!$A$9:'DAKOLUN'!$CH$208,49,0)","v":69.959999999999994},null,null,"1.",{"$f":"SISWA!K16","v":"Bahasa Daerah"},null,null,{"$f":"VLOOKUP($AF$7,DAKOLUN!$A$9:'DAKOLUN'!$CH$208,47,0)","v":75.2},{"$f":"VLOOKUP($AF$7,DAKOLUN!$A$9:'DAKOLUN'!$CH$208,48,0)","v":70.099999999999994},null,{"$f":"VLOOKUP($AF$7,DAKOLUN!$A$9:'DAKOLUN'!$CH$208,49,0)","v":73.16}]
[null,"2.",{"$f":"SISWA!K17","v":"Bahasa Inggris"},null,null,{"$f":"VLOOKUP($AF$3,DAKOLUN!$A$9:'DAKOLUN'!$CH$208,50,0)","v":79.8},{"$f":"VLOOKUP($AF$3,DAKOLUN!$A$9:'DAKOLUN'!$CH$208,51,0)","v":72.400000000000006},null,{"$f":"VLOOKUP($AF$3,DAKOLUN!$A$9:'DAKOLUN'!$CH$208,52,0)","v":76.84},null,null,"2.",{"$f":"C26","v":"Bahasa Inggris"},null,null,{"$f":"VLOOKUP($AF$5,DAKOLUN!$A$9:'DAKOLUN'!$CH$208,50,0)","v":67.400000000000006},{"$f":"VLOOKUP($AF$5,DAKOLUN!$A$9:'DAKOLUN'!$CH$208,51,0)","v":66.2},null,{"$f":"VLOOKUP($AF$5,DAKOLUN!$A$9:'DAKOLUN'!$CH$208,52,0)","v":66.920000000000016},null,null,"2.",{"$f":"SISWA!K17","v":"Bahasa Inggris"},null,null,{"$f":"VLOOKUP($AF$7,DAKOLUN!$A$9:'DAKOLUN'!$CH$208,50,0)","v":77.2},{"$f":"VLOOKUP($AF$7,DAKOLUN!$A$9:'DAKOLUN'!$CH$208,51,0)","v":73.599999999999994},null,{"$f":"VLOOKUP($AF$7,DAKOLUN!$A$9:'DAKOLUN'!$CH$208,52,0)","v":75.759999999999991}]
["Rata-rata",null,null,null,null,{"$f":"AVERAGE(F12:F23,F25:F26)","v":82.866428571428585},{"$f":"AVERAGE(G12:H23,G25:H26)","v":73.537142857142854},null,{"$f":"AVERAGE(I12:I23,I25:I26)","v":79.134714285714281},null,"Rata-rata",null,null,null,null,{"$f":"AVERAGE(P12:P23,P25:P26)","v":70.679428571428573},{"$f":"AVERAGE(Q12:R23,Q25:R26)","v":61.498214285714276},null,{"$f":"AVERAGE(S12:S23,S25:S26)","v":67.006942857142846},null,"Rata-rata",null,null,null,null,{"$f":"AVERAGE(Z12:Z23,Z25:Z26)","v":75.570857142857136},{"$f":"AVERAGE(AA12:AB23,AA25:AB26)","v":64.993214285714288},null,{"$f":"AVERAGE(AC12:AC23,AC25:AC26)","v":71.339799999999983}]
[" ') Nilai Sekolah = 60% Nilai Rata-rata Rapor + 40% Nilai Ujian Sekolah",null,null,null,null,null,null,null,null,null," ') Nilai Sekolah = 60% Nilai Rata-rata Rapor + 40% Nilai Ujian Sekolah",null,null,null,null,null,null,null,null,null," ') Nilai Sekolah = 60% Nilai Rata-rata Rapor + 40% Nilai Ujian Sekolah"]
[]
[]
[{"$f":"AF9","v":4},null,null,null,null,null,null,null,null,null,{"$f":"AF11","v":5},null,null,null,null,null,null,null,null,null,{"$f":"AF13","v":6}]
["nama ",null,null,null,":",{"$f":"VLOOKUP(AF9,DAKOLUN!A9:'DAKOLUN'!G208,5,0)","v":"ANANDA AMILIA"},null,null,null,null,"nama ",null,null,null,":",{"$f":"VLOOKUP(AF11,DAKOLUN!A9:'DAKOLUN'!G208,5,0)","v":"ANDINI MAULID DWI LESTARI"},null,null,null,null,"nama ",null,null,null,":",{"$f":"VLOOKUP(AF13,DAKOLUN!A9:'DAKOLUN'!G208,5,0)","v":"ANDRIK YUSRI"}]
["tempat dan tanggal lahir ",null,null,null,":",{"$f":"VLOOKUP(AF9,DAKOLUN!A9:'DAKOLUN'!G208,6,0)","v":"LUMAJANG, 10 Februari 2006"},null,null,null,null,"tempat dan tanggal lahir ",null,null,null,":",{"$f":"VLOOKUP(AF11,DAKOLUN!A9:'DAKOLUN'!G208,6,0)","v":"LUMAJANG, 30 Maret 2007"},null,null,null,null,"tempat dan tanggal lahir ",null,null,null,":",{"$f":"VLOOKUP(AF13,DAKOLUN!A9:'DAKOLUN'!G208,6,0)","v":"LUMAJANG, 15 Mei 2006"}]
["nomor induk ",null,null,null,":",{"$f":"VLOOKUP(AF9,DAKOLUN!A9:'DAKOLUN'!G208,2,0)","v":4398},null,null,null,null,"nomor induk ",null,null,null,":",{"$f":"VLOOKUP(AF11,DAKOLUN!A9:'DAKOLUN'!G208,2,0)","v":4272},null,null,null,null,"nomor induk ",null,null,null,":",{"$f":"VLOOKUP(AF13,DAKOLUN!A9:'DAKOLUN'!G208,2,0)","v":4301}]
["nomor induk siswa nasional ",null,null,null,":",{"$f":"VLOOKUP(AF9,DAKOLUN!A9:'DAKOLUN'!G208,3,0)","v":"0062399399"},null,null,null,null,"nomor induk siswa nasional ",null,null,null,":",{"$f":"VLOOKUP(AF11,DAKOLUN!A9:'DAKOLUN'!G208,3,0)","v":"0071551428"},null,null,null,null,"nomor induk siswa nasional ",null,null,null,":",{"$f":"VLOOKUP(AF13,DAKOLUN!A9:'DAKOLUN'!G208,3,0)","v":"0061907599"}]
[]
["telah memenuhi penilaian akhir dan mengikuti ujian sekolah berdasarkan Peraturan Menteri Pendidikan dan Kebudayaan Nomor 102 Tahun 2013 dengan hasil sebagai berikut :",null,null,null,null,null,null,null,null,null,"telah memenuhi penilaian akhir dan mengikuti ujian sekolah berdasarkan Peraturan Menteri Pendidikan dan Kebudayaan Nomor 102 Tahun 2013 dengan hasil sebagai berikut :",null,null,null,null,null,null,null,null,null,"telah memenuhi penilaian akhir dan mengikuti ujian sekolah berdasarkan Peraturan Menteri Pendidikan dan Kebudayaan Nomor 102 Tahun 2013 dengan hasil sebagai berikut :"]
[]
["No","Mata Pelajaran",null,null,null,"Nilai Rata-rata Rapor","Nilai Ujian\nSekolah",null,"Nilai Akhir Sekolah ')",null,"No","Mata Pelajaran",null,null,null,"Nilai Rata-rata Rapor","Nilai Ujian\nSekolah",null,"Nilai Akhir Sekolah ')",null,"No","Mata Pelajaran",null,null,null,"Nilai Rata-rata Rapor","Nilai Ujian\nSekolah",null,"Nilai Akhir Sekolah ')"]
["A",null,"Ujian Sekolah",null,null,null,null,null,null,null,"A",null,"Ujian Sekolah",null,null,null,null,null,null,null,"A",null,"Ujian Sekolah"]
[null,"1.","Pendidikan Agama",null,null,{"$f":"VLOOKUP($AF$3,DAKOLUN!$A$9:'DAKOLUN'!$BK$208,8,0)","v":{"$error":"#REF!"}},{"$f":"VLOOKUP($AF$3,DAKOLUN!$A$9:'DAKOLUN'!$BK$208,9,0)","v":{"$error":"#REF!"}},null,{"$f":"VLOOKUP($AF$3,DAKOLUN!$A$9:'DAKOLUN'!$BK$208,10,0)","v":{"$error":"#REF!"}},null,null,"1.","Pendidikan Agama",null,null,{"$f":"VLOOKUP($AF$3,DAKOLUN!$A$9:'DAKOLUN'!$BK$208,8,0)","v":{"$error":"#REF!"}},{"$f":"VLOOKUP($AF$3,DAKOLUN!$A$9:'DAKOLUN'!$BK$208,9,0)","v":{"$error":"#REF!"}},null,{"$f":"VLOOKUP($AF$3,DAKOLUN!$A$9:'DAKOLUN'!$BK$208,10,0)","v":{"$error":"#REF!"}},null,null,"1.","Pendidikan Agama",null,null,{"$f":"VLOOKUP($AF$3,DAKOLUN!$A$9:'DAKOLUN'!$BK$208,8,0)","v":{"$error":"#REF!"}},{"$f":"VLOOKUP($AF$3,DAKOLUN!$A$9:'DAKOLUN'!$BK$208,9,0)","v":{"$error":"#REF!"}},null,{"$f":"VLOOKUP($AF$3,DAKOLUN!$A$9:'DAKOLUN'!$BK$208,10,0)","v":{"$error":"#REF!"}}]
[null,null,"a. Al Quran Hadits",null,null,{"$f":"VLOOKUP($AF$9,DAKOLUN!$A$9:'DAKOLUN'!$CH$208,14,0)","v":77},{"$f":"VLOOKUP($AF$9,DAKOLUN!$A$9:'DAKOLUN'!$CH$208,15,0)","v":74.45},null,{"$f":"VLOOKUP($AF$9,DAKOLUN!$A$9:'DAKOLUN'!$CH$208,16,0)","v":75.97999999999999},null,null,null,"a. Al Quran Hadits",null,null,{"$f":"VLOOKUP($AF$11,DAKOLUN!$A$9:'DAKOLUN'!$CH$208,14,0)","v":77.599999999999994},{"$f":"VLOOKUP($AF$11,DAKOLUN!$A$9:'DAKOLUN'!$CH$208,15,0)","v":71.3},null,{"$f":"VLOOKUP($AF$11,DAKOLUN!$A$9:'DAKOLUN'!$CH$208,16,0)","v":75.08},null,null,null,"a. Al Quran Hadits",null,null,{"$f":"VLOOKUP($AF$13,DAKOLUN!$A$9:'DAKOLUN'!$CH$208,14,0)","v":71},{"$f":"VLOOKUP($AF$13,DAKOLUN!$A$9:'DAKOLUN'!$CH$208,15,0)","v":68},null,{"$f":"VLOOKUP($AF$13,DAKOLUN!$A$9:'DAKOLUN'!$CH$208,16,0)","v":69.800000000000011}]
[null,null,"b. Aqidah Akhlak",null,null,{"$f":"VLOOKUP($AF$9,DAKOLUN!$A$9:'DAKOLUN'!$CH$208,11,0)","v":76.400000000000006},{"$f":"VLOOKUP($AF$9,DAKOLUN!$A$9:'DAKOLUN'!$CH$208,12,0)","v":75.2},null,{"$f":"VLOOKUP($AF$9,DAKOLUN!$A$9:'DAKOLUN'!$CH$208,13,0)","v":75.92},null,null,null,"b. Aqidah Akhlak",null,null,{"$f":"VLOOKUP($AF$11,DAKOLUN!$A$9:'DAKOLUN'!$CH$208,11,0)","v":77.400000000000006},{"$f":"VLOOKUP($AF$11,DAKOLUN!$A$9:'DAKOLUN'!$CH$208,12,0)","v":74.2},null,{"$f":"VLOOKUP($AF$11,DAKOLUN!$A$9:'DAKOLUN'!$CH$208,13,0)","v":76.12},null,null,null,"b. Aqidah Akhlak",null,null,{"$f":"VLOOKUP($AF$13,DAKOLUN!$A$9:'DAKOLUN'!$CH$208,11,0)","v":70.8},{"$f":"VLOOKUP($AF$13,DAKOLUN!$A$9:'DAKOLUN'!$CH$208,12,0)","v":67.900000000000006},null,{"$f":"VLOOKUP($AF$13,DAKOLUN!$A$9:'DAKOLUN'!$CH$208,13,0)","v":69.64}]
[null,null,"c. Fiqih",null,null,{"$f":"VLOOKUP($AF$9,DAKOLUN!$A$9:'DAKOLUN'!$CH$208,17,0)","v":77.2},{"$f":"VLOOKUP($AF$9,DAKOLUN!$A$9:'DAKOLUN'!$CH$208,18,0)","v":76.95},null,{"$f":"VLOOKUP($AF$9,DAKOLUN!$A$9:'DAKOLUN'!$CH$208,19,0)","v":77.099999999999994},null,null,null,"c. Fiqih",null,null,{"$f":"VLOOKUP($AF$11,DAKOLUN!$A$9:'DAKOLUN'!$CH$208,17,0)","v":79.8},{"$f":"VLOOKUP($AF$11,DAKOLUN!$A$9:'DAKOLUN'!$CH$208,18,0)","v":72.400000000000006},null,{"$f":"VLOOKUP($AF$11,DAKOLUN!$A$9:'DAKOLUN'!$CH$208,19,0)","v":76.84},null,null,null,"c. Fiqih",null,null,{"$f":"VLOOKUP($AF$13,DAKOLUN!$A$9:'DAKOLUN'!$CH$208,17,0)","v":71},{"$f":"VLOOKUP($AF$13,DAKOLUN!$A$9:'DAKOLUN'!$CH$208,18,0)","v":68},null,{"$f":"VLOOKUP($AF$13,DAKOLUN!$A$9:'DAKOLUN'!$CH$208,19,0)","v":69.800000000000011}]
[null,null,"d. Sejarah Kebudayaan Islam",null,null,{"$f":"VLOOKUP($AF$9,DAKOLUN!$A$9:'DAKOLUN'!$CH$208,20,0)","v":77.599999999999994},{"$f":"VLOOKUP($AF$9,DAKOLUN!$A$9:'DAKOLUN'!$CH$208,21,0)","v":75.199999999999989},null,{"$f":"VLOOKUP($AF$9,DAKOLUN!$A$9:'DAKOLUN'!$CH$208,22,0)","v":76.639999999999986},null,null,null,"d. Sejarah Kebudayaan Islam",null,null,{"$f":"VLOOKUP($AF$11,DAKOLUN!$A$9:'DAKOLUN'!$CH$208,20,0)","v":77.8},{"$f":"VLOOKUP($AF$11,DAKOLUN!$A$9:'DAKOLUN'!$CH$208,21,0)","v":73.344999999999999},null,{"$f":"VLOOKUP($AF$11,DAKOLUN!$A$9:'DAKOLUN'!$CH$208,22,0)","v":76.018000000000001},null,null,null,"d. Sejarah Kebudayaan Islam",null,null,{"$f":"VLOOKUP($AF$13,DAKOLUN!$A$9:'DAKOLUN'!$CH$208,20,0)","v":72.8},{"$f":"VLOOKUP($AF$13,DAKOLUN!$A$9:'DAKOLUN'!$CH$208,21,0)","v":70.245000000000005},null,{"$f":"VLOOKUP($AF$13,DAKOLUN!$A$9:'DAKOLUN'!$CH$208,22,0)","v":71.778000000000006}]
[null,"2.","Pendidikan Kewarganegaraan",null,null,{"$f":"VLOOKUP($AF$9,DAKOLUN!$A$9:'DAKOLUN'!$CH$208,23,0)","v":79.599999999999994},{"$f":"VLOOKUP($AF$9,DAKOLUN!$A$9:'DAKOLUN'!$CH$208,24,0)","v":65},null,{"$f":"VLOOKUP($AF$9,DAKOLUN!$A$9:'DAKOLUN'!$CH$208,25,0)","v":73.759999999999991},null,null,"2.","Pendidikan Kewarganegaraan",null,null,{"$f":"VLOOKUP($AF$11,DAKOLUN!$A$9:'DAKOLUN'!$CH$208,23,0)","v":77.400000000000006},{"$f":"VLOOKUP($AF$11,DAKOLUN!$A$9:'DAKOLUN'!$CH$208,24,0)","v":65},null,{"$f":"VLOOKUP($AF$11,DAKOLUN!$A$9:'DAKOLUN'!$CH$208,25,0)","v":72.44},null,null,"2.","Pendidikan Kewarganegaraan",null,null,{"$f":"VLOOKUP($AF$13,DAKOLUN!$A$9:'DAKOLUN'!$CH$208,23,0)","v":70.599999999999994},{"$f":"VLOOKUP($AF$13,DAKOLUN!$A$9:'DAKOLUN'!$CH$208,24,0)","v":65},null,{"$f":"VLOOKUP($AF$13,DAKOLUN!$A$9:'DAKOLUN'!$CH$208,25,0)","v":68.359999999999985}]
[null,"3.","Bahasa Indonesia",null,null,{"$f":"VLOOKUP($AF$9,DAKOLUN!$A$9:'DAKOLUN'!$CH$208,68,0)","v":71.111999999999995},{"$f":"VLOOKUP($AF$9,DAKOLUN!$A$9:'DAKOLUN'!$CH$208,55,0)","v":53.16},null,{"$f":"VLOOKUP($AF$9,DAKOLUN!$A$9:'DAKOLUN'!$CH$208,56,0)","v":63.93119999999999},null,null,"3.","Bahasa Indonesia",null,null,{"$f":"VLOOKUP($AF$11,DAKOLUN!$A$9:'DAKOLUN'!$CH$208,68,0)","v":77.706000000000003},{"$f":"VLOOKUP($AF$11,DAKOLUN!$A$9:'DAKOLUN'!$CH$208,55,0)","v":81.33},null,{"$f":"VLOOKUP($AF$11,DAKOLUN!$A$9:'DAKOLUN'!$CH$208,56,0)","v":79.155600000000007},null,null,"3.","Bahasa Indonesia",null,null,{"$f":"VLOOKUP($AF$13,DAKOLUN!$A$9:'DAKOLUN'!$CH$208,68,0)","v":68.201999999999998},{"$f":"VLOOKUP($AF$13,DAKOLUN!$A$9:'DAKOLUN'!$CH$208,55,0)","v":56.21},null,{"$f":"VLOOKUP($AF$13,DAKOLUN!$A$9:'DAKOLUN'!$CH$208,56,0)","v":63.405200000000001}]
[null,4,"Bahasa Arab",null,null,{"$f":"VLOOKUP($AF$9,DAKOLUN!$A$9:'DAKOLUN'!$CH$208,29,0)","v":76.599999999999994},{"$f":"VLOOKUP($AF$9,DAKOLUN!$A$9:'DAKOLUN'!$CH$208,30,0)","v":70.8},null,{"$f":"VLOOKUP($AF$9,DAKOLUN!$A$9:'DAKOLUN'!$CH$208,31,0)","v":74.28},null,null,4,"Bahasa Arab",null,null,{"$f":"VLOOKUP($AF$11,DAKOLUN!$A$9:'DAKOLUN'!$CH$208,29,0)","v":73.400000000000006},{"$f":"VLOOKUP($AF$11,DAKOLUN!$A$9:'DAKOLUN'!$CH$208,30,0)","v":69.2},null,{"$f":"VLOOKUP($AF$11,DAKOLUN!$A$9:'DAKOLUN'!$CH$208,31,0)","v":71.72},null,null,4,"Bahasa Arab",null,null,{"$f":"VLOOKUP($AF$13,DAKOLUN!$A$9:'DAKOLUN'!$CH$208,29,0)","v":71},{"$f":"VLOOKUP($AF$13,DAKOLUN!$A$9:'DAKOLUN'!$CH$208,30,0)","v":68},null,{"$f":"VLOOKUP($AF$13,DAKOLUN!$A$9:'DAKOLUN'!$CH$208,31,0)","v":69.800000000000011}]
[null,5,"Matematika",null,null,{"$f":"VLOOKUP($AF$9,DAKOLUN!$A$9:'DAKOLUN'!$CH$208,71,0)","v":57.415999999999997},{"$f":"VLOOKUP($AF$9,DAKOLUN!$A$9:'DAKOLUN'!$CH$208,58,0)","v":37.64},null,{"$f":"VLOOKUP($AF$9,DAKOLUN!$A$9:'DAKOLUN'!$CH$208,59,0)","v":49.505600000000001},null,null,5,"Matematika",null,null,{"$f":"VLOOKUP($AF$11,DAKOLUN!$A$9:'DAKOLUN'!$CH$208,71,0)","v":60.512},{"$f":"VLOOKUP($AF$11,DAKOLUN!$A$9:'DAKOLUN'!$CH$208,58,0)","v":39.979999999999997},null,{"$f":"VLOOKUP($AF$11,DAKOLUN!$A$9:'DAKOLUN'!$CH$208,59,0)","v":52.299199999999999},null,null,5,"Matematika",null,null,{"$f":"VLOOKUP($AF$13,DAKOLUN!$A$9:'DAKOLUN'!$CH$208,71,0)","v":51.192},{"$f":"VLOOKUP($AF$13,DAKOLUN!$A$9:'DAKOLUN'!$CH$208,58,0)","v":25.98},null,{"$f":"VLOOKUP($AF$13,DAKOLUN!$A$9:'DAKOLUN'!$CH$208,59,0)","v":41.107199999999999}]
[null,6,"Ilmu Pengetahuan Alam",null,null,{"$f":"VLOOKUP($AF$9,DAKOLUN!$A$9:'DAKOLUN'!$CH$208,74,0)","v":69.924000000000007},{"$f":"VLOOKUP($AF$9,DAKOLUN!$A$9:'DAKOLUN'!$CH$208,61,0)","v":52.02},null,{"$f":"VLOOKUP($AF$9,DAKOLUN!$A$9:'DAKOLUN'!$CH$208,62,0)","v":62.7624},null,null,6,"Ilmu Pengetahuan Alam",null,null,{"$f":"VLOOKUP($AF$11,DAKOLUN!$A$9:'DAKOLUN'!$CH$208,74,0)","v":71.635999999999996},{"$f":"VLOOKUP($AF$11,DAKOLUN!$A$9:'DAKOLUN'!$CH$208,61,0)","v":50.98},null,{"$f":"VLOOKUP($AF$11,DAKOLUN!$A$9:'DAKOLUN'!$CH$208,62,0)","v":63.373599999999996},null,null,6,"Ilmu Pengetahuan Alam",null,null,{"$f":"VLOOKUP($AF$13,DAKOLUN!$A$9:'DAKOLUN'!$CH$208,74,0)","v":66.126000000000005},{"$f":"VLOOKUP($AF$13,DAKOLUN!$A$9:'DAKOLUN'!$CH$208,61,0)","v":45.03},null,{"$f":"VLOOKUP($AF$13,DAKOLUN!$A$9:'DAKOLUN'!$CH$208,62,0)","v":57.687600000000003}]
[null,7,"Ilmu Pengetahuan Sosial",null,null,{"$f":"VLOOKUP($AF$9,DAKOLUN!$A$9:'DAKOLUN'!$CH$208,38,0)","v":76.2},{"$f":"VLOOKUP($AF$9,DAKOLUN!$A$9:'DAKOLUN'!$CH$208,39,0)","v":65},null,{"$f":"VLOOKUP($AF$9,DAKOLUN!$A$9:'DAKOLUN'!$CH$208,40,0)","v":71.72},null,null,7,"Ilmu Pengetahuan Sosial",null,null,{"$f":"VLOOKUP($AF$11,DAKOLUN!$A$9:'DAKOLUN'!$CH$208,38,0)","v":76.400000000000006},{"$f":"VLOOKUP($AF$11,DAKOLUN!$A$9:'DAKOLUN'!$CH$208,39,0)","v":72},null,{"$f":"VLOOKUP($AF$11,DAKOLUN!$A$9:'DAKOLUN'!$CH$208,40,0)","v":74.64},null,null,7,"Ilmu Pengetahuan Sosial",null,null,{"$f":"VLOOKUP($AF$13,DAKOLUN!$A$9:'DAKOLUN'!$CH$208,38,0)","v":70.400000000000006},{"$f":"VLOOKUP($AF$13,DAKOLUN!$A$9:'DAKOLUN'!$CH$208,39,0)","v":65},null,{"$f":"VLOOKUP($AF$13,DAKOLUN!$A$9:'DAKOLUN'!$CH$208,40,0)","v":68.240000000000009}]
[null,8,"Seni Budaya dan Keterampilan",null,null,{"$f":"VLOOKUP($AF$9,DAKOLUN!$A$9:'DAKOLUN'!$CH$208,41,0)","v":76.8},{"$f":"VLOOKUP($AF$9,DAKOLUN!$A$9:'DAKOLUN'!$CH$208,42,0)","v":70.900000000000006},null,{"$f":"VLOOKUP($AF$9,DAKOLUN!$A$9:'DAKOLUN'!$CH$208,43,0)","v":74.44},null,null,8,"Seni Budaya dan Keterampilan",null,null,{"$f":"VLOOKUP($AF$11,DAKOLUN!$A$9:'DAKOLUN'!$CH$208,41,0)","v":75.8},{"$f":"VLOOKUP($AF$11,DAKOLUN!$A$9:'DAKOLUN'!$CH$208,42,0)","v":70.400000000000006},null,{"$f":"VLOOKUP($AF$11,DAKOLUN!$A$9:'DAKOLUN'!$CH$208,43,0)","v":73.64},null,null,8,"Seni Budaya dan Keterampilan",null,null,{"$f":"VLOOKUP($AF$13,DAKOLUN!$A$9:'DAKOLUN'!$CH$208,41,0)","v":72.599999999999994},{"$f":"VLOOKUP($AF$13,DAKOLUN!$A$9:'DAKOLUN'!$CH$208,42,0)","v":68.8},null,{"$f":"VLOOKUP($AF$13,DAKOLUN!$A$9:'DAKOLUN'!$CH$208,43,0)","v":71.08}]
[null,9,"Pendidikan Jasmani Olahraga \ndan Kesehatan",null,null,{"$f":"VLOOKUP($AF$9,DAKOLUN!$A$9:'DAKOLUN'!$CH$208,44,0)","v":80.2},{"$f":"VLOOKUP($AF$9,DAKOLUN!$A$9:'DAKOLUN'!$CH$208,45,0)","v":72.599999999999994},null,{"$f":"VLOOKUP($AF$9,DAKOLUN!$A$9:'DAKOLUN'!$CH$208,46,0)","v":77.16},null,null,9,"Pendidikan Jasmani Olahraga \ndan Kesehatan",null,null,{"$f":"VLOOKUP($AF$11,DAKOLUN!$A$9:'DAKOLUN'!$CH$208,44,0)","v":80.400000000000006},{"$f":"VLOOKUP($AF$11,DAKOLUN!$A$9:'DAKOLUN'!$CH$208,45,0)","v":76.2},null,{"$f":"VLOOKUP($AF$11,DAKOLUN!$A$9:'DAKOLUN'!$CH$208,46,0)","v":78.72},null,null,9,"Pendidikan Jasmani Olahraga \ndan Kesehatan",null,null,{"$f":"VLOOKUP($AF$13,DAKOLUN!$A$9:'DAKOLUN'!$CH$208,44,0)","v":80.8},{"$f":"VLOOKUP($AF$13,DAKOLUN!$A$9:'DAKOLUN'!$CH$208,45,0)","v":75.400000000000006},null,{"$f":"VLOOKUP($AF$13,DAKOLUN!$A$9:'DAKOLUN'!$CH$208,46,0)","v":78.64}]
["B",null,"Muatan Lokal",null,null,null,null,null,null,null,"B",null,"Muatan Lokal",null,null,null,null,null,null,null,"B",null,"Muatan Lokal"]
[null,"1.",{"$f":"SISWA!K16","v":"Bahasa Daerah"},null,null,{"$f":"VLOOKUP($AF$9,DAKOLUN!$A$9:'DAKOLUN'!$CH$208,47,0)","v":73.400000000000006},{"$f":"VLOOKUP($AF$9,DAKOLUN!$A$9:'DAKOLUN'!$CH$208,48,0)","v":69.2},null,{"$f":"VLOOKUP($AF$9,DAKOLUN!$A$9:'DAKOLUN'!$CH$208,49,0)","v":71.72},null,null,"1.",{"$f":"C55","v":"Bahasa Daerah"},null,null,{"$f":"VLOOKUP($AF$11,DAKOLUN!$A$9:'DAKOLUN'!$CH$208,47,0)","v":75.8},{"$f":"VLOOKUP($AF$11,DAKOLUN!$A$9:'DAKOLUN'!$CH$208,48,0)","v":70.400000000000006},null,{"$f":"VLOOKUP($AF$11,DAKOLUN!$A$9:'DAKOLUN'!$CH$208,49,0)","v":73.64},null,null,"1.",{"$f":"SISWA!K16","v":"Bahasa Daerah"},null,null,{"$f":"VLOOKUP($AF$13,DAKOLUN!$A$9:'DAKOLUN'!$CH$208,47,0)","v":70.599999999999994},{"$f":"VLOOKUP($AF$13,DAKOLUN!$A$9:'DAKOLUN'!$CH$208,48,0)","v":67.8},null,{"$f":"VLOOKUP($AF$13,DAKOLUN!$A$9:'DAKOLUN'!$CH$208,49,0)","v":69.47999999999999}]
[null,"2.",{"$f":"SISWA!K17","v":"Bahasa Inggris"},null,null,{"$f":"VLOOKUP($AF$9,DAKOLUN!$A$9:'DAKOLUN'!$CH$208,50,0)","v":72.400000000000006},{"$f":"VLOOKUP($AF$9,DAKOLUN!$A$9:'DAKOLUN'!$CH$208,51,0)","v":68.7},null,{"$f":"VLOOKUP($AF$9,DAKOLUN!$A$9:'DAKOLUN'!$CH$208,52,0)","v":70.920000000000016},null,null,"2.",{"$f":"C56","v":"Bahasa Inggris"},null,null,{"$f":"VLOOKUP($AF$11,DAKOLUN!$A$9:'DAKOLUN'!$CH$208,50,0)","v":72.2},{"$f":"VLOOKUP($AF$11,DAKOLUN!$A$9:'DAKOLUN'!$CH$208,51,0)","v":68.599999999999994},null,{"$f":"VLOOKUP($AF$11,DAKOLUN!$A$9:'DAKOLUN'!$CH$208,52,0)","v":70.759999999999991},null,null,"2.",{"$f":"SISWA!K17","v":"Bahasa Inggris"},null,null,{"$f":"VLOOKUP($AF$13,DAKOLUN!$A$9:'DAKOLUN'!$CH$208,50,0)","v":70},{"$f":"VLOOKUP($AF$13,DAKOLUN!$A$9:'DAKOLUN'!$CH$208,51,0)","v":67.5},null,{"$f":"VLOOKUP($AF$13,DAKOLUN!$A$9:'DAKOLUN'!$CH$208,52,0)","v":69}]
["Rata-rata",null,null,null,null,{"$f":"AVERAGE(F42:F53,F55:F56)","v":74.418000000000006},{"$f":"AVERAGE(G42:H53,G55:H56)","v":66.201428571428579},null,{"$f":"AVERAGE(I42:I53,I55:I56)","v":71.131371428571427},null,"Rata-rata",null,null,null,null,{"$f":"AVERAGE(P42:P53,P55:P56)","v":75.275285714285701},{"$f":"AVERAGE(Q42:R53,Q55:R56)","v":68.238214285714292},null,{"$f":"AVERAGE(S42:S53,S55:S56)","v":72.460457142857152},null,"Rata-rata",null,null,null,null,{"$f":"AVERAGE(Z42:Z53,Z55:Z56)","v":69.794285714285721},{"$f":"AVERAGE(AA42:AB53,AA55:AB56)","v":62.77607142857142},null,{"$f":"AVERAGE(AC42:AC53,AC55:AC56)","v":66.987000000000009}]
[" ') Nilai Sekolah = 60% Nilai Rata-rata Rapor + 40% Nilai Ujian Sekolah",null,null,null,null,null,null,null,null,null," ') Nilai Sekolah = 60% Nilai Rata-rata Rapor + 40% Nilai Ujian Sekolah",null,null,null,null,null,null,null,null,null," ') Nilai Sekolah = 60% Nilai Rata-rata Rapor + 40% Nilai Ujian Sekolah"]

{"sheet":"SKHUS","index":20,"n_rows":57,"n_cols":33,"rows_kept":57,"cut":false,"hidden":false,"merged":[[29,7,29,10],[25,5,25,6],[26,5,26,6],[27,5,27,6],[28,5,28,6],[29,5,29,6],[36,1,36,7],[44,8,44,10],[24,2,25,4],[24,1,25,1],[30,6,30,7],[32,2,32,4],[35,6,35,7],[29,2,29,4],[32,6,32,7],[33,6,33,7],[34,6,34,7],[24,5,24,10],[25,7,25,10],[26,7,26,10],[27,7,27,10],[28,7,28,10],[24,18,25,18],[18,1,18,8],[20,1,23,10],[25,19,25,22],[1,3,1,8],[2,3,3,8],[5,3,5,8],[7,1,7,10],[9,1,9,10],[10,1,11,10],[4,3,4,8],[8,1,8,10],[20,17,21,28],[22,17,23,28]]}
[]
[]
[]
[]
[]
[]
[]
[null,"SURAT KETERANGAN HASIL UJIAN (SKHU) SEMENTARA",null,null,null,null,null,null,null,null,null,null,null,"NO ABSEN"]
[null,{"$f":"\"SEKOLAH DASAR TAHUN PELAJARAN \"&DEPAN!D16","v":"SEKOLAH DASAR TAHUN PELAJARAN 2018/2019"},null,null,null,null,null,null,null,null,null,null,null,56]
[null,{"$f":"VLOOKUP(N9,DAKOLUN!A9:'DAKOLUN'!CJ222,88,0)","v":"106/MINI.L-Kid/30.02.02/S.1-2/VI/2019"}]
[null,{"$f":"\"yang bertanda tangan dibawah ini, \"&\"Kepala \"&DEPAN!Y6&\" \"&DEPAN!E6&\" \"&PROPER(DEPAN!C12)&\" \"&PROPER(DEPAN!D12)&\" menerangkan bahwa :\"","v":"yang bertanda tangan dibawah ini, Kepala Madrasah Ibtidaiyah Nurul Islam Labruk Kidul Kecamatan Sumbersuko menerangkan bahwa :"}]
[]
[null,"Nama",null,null,":",{"$f":"VLOOKUP(N9,DAKOLUN!A9:'DAKOLUN'!BK208,5,0)","v":"YOHAN EGA GILANG PERMANA"}]
[null,"Tempat dan tanggal lahir ",null,null,":",{"$f":"VLOOKUP(N9,DAKOLUN!A9:'DAKOLUN'!BK208,6,0)","v":"LUMAJANG, 24 November 2006"}]
[null,"Nomor peserta ujian sekolah ",null,null,":",{"$f":"VLOOKUP(N9,DAKOLUN!A9:'DAKOLUN'!BK208,4,0)","v":"1-18-05-80-162-056-2"}]
[null,"NISN",null,null,":",{"$f":"VLOOKUP(N9,DAKOLUN!A9:'DAKOLUN'!BK208,3,0)","v":"0064124533"}]
[null,"Sekolah Asal",null,null,":",{"$f":"DEPAN!Y7&\" \"&PROPER(DEPAN!C12&\" \"&DEPAN!D12)","v":"MI Nurul Islam Labruk Kidul Kecamatan Sumbersuko"}]
[]
[null,{"$f":"IJAZAH!B22","v":"LULUS"},null,null,null,null,null,null,null,null,null,null,null,null,null,null,null,null,null,null,null,null,null,null,null,null,null,null,null,null,null,0,"Nol"]
[null,null,null,null,null,null,null,null,null,null,null,null,null,null,null,null,null,null,null,null,null,null,null,null,null,null,null,null,null,null,null,1,"Satu"]
[null,"Pada Penyelenggaraan Ujian Sekolah (US)SD/MI berdasarkan Peraturan Menteri Pendidikan dan Kebudayaan Republik Indonesia nomor : 58 tahun 2015 dan Peraturan Kepala Badan Penelitian dan Pengembangan Kementerian dan Kebudayaan nomor : 007/H/EP/2017 dengan hasil sbb :",null,null,null,null,null,null,null,null,null,null,null,null,null,null,null,"PASTIKAN ADDIN 'TERBILANG' SUDAH ADA",null,null,null,null,null,null,null,null,null,null,null,null,null,2,"Dua"]
[null,null,null,null,null,null,null,null,null,null,null,null,null,null,null,null,null,null,null,null,null,null,null,null,null,null,null,null,null,null,null,3,"Tiga"]
[null,null,null,null,null,null,null,null,null,null,null,null,null,null,null,null,null,"EDIT =TERBILANG 'WARNA UNGU' JIKA ERROR",null,null,null,null,null,null,null,null,null,null,null,null,null,4,"Empat"]
[null,null,null,null,null,null,null,null,null,null,null,null,null,null,null,null,null,null,null,null,null,null,null,null,null,null,null,null,null,null,null,5,"Lima"]
[null,"No",null,null,null,"NILAI",null,null,null,null,null,null,null,null,null,null,null,null,"VALUE (SESUAIKAN NOL KOMA => #,000)",null,null,null,null,null,null,null,null,null,null,null,null,6,"Enam"]
[null,null,null,null,null,"ANGKA",null,"HURUF",null,null,null,null,null,null,null,null,null,"TEKS",null,null,null,null,null,null,"terbilang1","terbilang2","terbilang3","terbilang4","hasil",null,null,7,"Tujuh"]
[null,1,"Bahasa Indonesia",null,null,{"$f":"VLOOKUP(N9,DAKOLUN!A9:'DAKOLUN'!CH208,55,0)","v":41.93},null,{"$f":"PROPER(AC27)","v":{"$error":"#NAME?"}},null,null,null,null,null,null,null,null,null,{"$f":"IFERROR(_xlfn.NUMBERVALUE(F27,2),F27*1)","v":41.93},{"$f":"TEXT(F27,\"#,#000\")","v":"41,9300"},{"$f":"LEFT(S27,1)","v":"4"},{"$f":"MID(S27,2,1)","v":"1"},{"$f":"MID(S27,4,1)","v":"9"},{"$f":"MID(S27,5,1)","v":"3"},null,{"$error":"#NAME?"},{"$error":"#NAME?"},{"$error":"#NAME?"},{"$error":"#NAME?"},{"$f":"Y27&Z27&\" koma \"&AA27&AB27","v":{"$error":"#NAME?"}},null,null,8,"Delapan"]
[null,2,"Matematika",null,null,{"$f":"VLOOKUP(N9,DAKOLUN!A9:'DAKOLUN'!CH208,58,0)","v":27.99},null,{"$f":"PROPER(AC28)","v":{"$error":"#NAME?"}},null,null,null,null,null,null,null,null,null,{"$f":"IFERROR(_xlfn.NUMBERVALUE(F28,2),F28*1)","v":27.99},{"$f":"TEXT(F28,\"#,#000\")","v":"27,9900"},{"$f":"LEFT(S28,1)","v":"2"},{"$f":"MID(S28,2,1)","v":"7"},{"$f":"MID(S28,4,1)","v":"9"},{"$f":"MID(S28,5,1)","v":"9"},null,{"$error":"#NAME?"},{"$error":"#NAME?"},{"$error":"#NAME?"},{"$error":"#NAME?"},{"$f":"Y28&Z28&\" koma \"&AA28&AB28","v":{"$error":"#NAME?"}},null,null,9,"Sembilan"]
[null,3,"Ilmu Pengetahuan Alam",null,null,{"$f":"VLOOKUP(N9,DAKOLUN!A9:'DAKOLUN'!CH208,61,0)","v":39},null,{"$f":"PROPER(AC29)","v":{"$error":"#NAME?"}},null,null,null,null,null,null,null,null,null,{"$f":"IFERROR(_xlfn.NUMBERVALUE(F29,2),F29*1)","v":39},{"$f":"TEXT(F29,\"#,#000\")","v":"39,000"},{"$f":"LEFT(S29,1)","v":"3"},{"$f":"MID(S29,2,1)","v":"9"},{"$f":"MID(S29,4,1)","v":"0"},{"$f":"MID(S29,5,1)","v":"0"},null,{"$error":"#NAME?"},{"$error":"#NAME?"},{"$error":"#NAME?"},{"$error":"#NAME?"},{"$f":"Y29&Z29&\" koma\"&AA29&AB29","v":{"$error":"#NAME?"}}]
[null,null,null,null,null,{"$f":"SUM(F27:G29)","v":108.92},null,{"$f":"PROPER(IFERROR(AC30,AC38))","v":""},null,null,null,null,null,null,null,null,null,{"$f":"IFERROR(_xlfn.NUMBERVALUE(F30,2),F30*1)","v":108.92},{"$f":"TEXT(F30,\"#,#0\")","v":"108,92"},{"$f":"LEFT(S30)","v":"1"},{"$f":"MID(S30,2,1)","v":"0"},{"$f":"MID(AB39,3,1)","v":"8"},{"$f":"MID(S30,4,1)","v":","},{"$f":"MID(S30,5,1)","v":"9"},{"$error":"#NAME?"},{"$error":"#NAME?"},{"$error":"#NAME?"},{"$error":"#NAME?"},{"$error":"#NAME?"},"edit rumus dengan manual warna hijau sebelah, jangan blok"]
[null,null,{"$f":"SISWA!K18","v":"Aqidah Akhlaq"},null,null,{"$f":"VLOOKUP(N9,DAKOLUN!A9:'DAKOLUN'!BK208,38,0)","v":71.25},{"$f":"VLOOKUP(N9,DAKOLUN!A9:'DAKOLUN'!BK208,39,0)","v":65},null,{"$f":"VLOOKUP(N9,DAKOLUN!A9:'DAKOLUN'!BK208,40,0)","v":68.75},null,null,null,null,null,null,null,null,null,null,{"$f":"LEFT(S31,1)","v":""},{"$f":"MID(S31,2,1)","v":""},{"$f":"MID(S31,3,1)","v":""},{"$f":"MID(S31,5,1)","v":""},{"$f":"MID(S31,5,1)","v":""},{"$error":"#VALUE!"},{"$error":"#NAME?"},{"$error":"#NAME?"},{"$error":"#NAME?"},{"$f":"Y31&\" \"&Z31&\" koma \"&AA31&AB31","v":{"$error":"#VALUE!"}}]
[null,null,null,null,null,null,null,null,null,null,null,null,null,null,null,null,null,null,null,"","","","","",{"$error":"#VALUE!"},{"$error":"#NAME?"},{"$error":"#NAME?"},{"$error":"#NAME?"},{"$error":"#VALUE!"}]
[null,"No",null,null,null,"Nilai\nSekolah","Nilai Ujian\nSekolah",null,"Nilai\nAkhir*)",null,null,null,null,null,null,null,null,null,null,"","","","","",{"$error":"#VALUE!"},{"$error":"#NAME?"},{"$error":"#NAME?"},{"$error":"#NAME?"},{"$error":"#VALUE!"}]
[null,1,"Bahasa Indonesia",null,null,{"$f":"I27","v":0},{"$f":"VLOOKUP(N9,DAKOLUN!A9:'DAKOLUN'!BK208,40,0)","v":68.75},null,{"$f":"(F34*40%)+(G34*60%)","v":41.25},null,null,null,null,null,null,null,null,null,null,"","","","","",{"$error":"#VALUE!"},{"$error":"#NAME?"},{"$error":"#NAME?"},{"$error":"#NAME?"},{"$error":"#VALUE!"}]
[null,2,"Matematika",null,null,{"$f":"I28","v":0},{"$f":"VLOOKUP(N9,DAKOLUN!A9:'DAKOLUN'!BK208,43,0)","v":73.400000000000006},null,{"$f":"(F35*40%)+(G35*60%)","v":44.04},null,null,null,null,null,null,null,null,null,null,"","","","","",{"$error":"#VALUE!"},{"$error":"#NAME?"},{"$error":"#NAME?"},{"$error":"#NAME?"},{"$error":"#VALUE!"}]
[null,3,"Ilmu Pengetahuan Alam",null,null,{"$f":"I29","v":0},{"$f":"VLOOKUP(N9,DAKOLUN!A9:'DAKOLUN'!BK208,46,0)","v":76.2},null,{"$f":"(F36*40%)+(G36*60%)","v":45.72},null,null,null,null,null,null,null,null,null,null,"","","","","",{"$error":"#VALUE!"},{"$error":"#NAME?"},{"$error":"#NAME?"},{"$error":"#NAME?"},{"$error":"#VALUE!"}]
[null,"Rata-rata",null,null,null,null,null,null,{"$f":"AVERAGE(I34:I36)","v":43.669999999999995},null,null,null,null,null,null,null,null,null,null,"","","","","",{"$error":"#VALUE!"},{"$error":"#NAME?"},{"$error":"#NAME?"},{"$error":"#NAME?"},{"$error":"#VALUE!"}]
[]
[null,null,null,null,null,null,null,{"$f":"IJAZAH!M20","v":"Lumajang, 17 Juni 2019"},null,null,null,null,null,null,null,null,null,null,null,null,null,null,null,null,null,null,null,{"$f":"ROUND(S30,1)","v":108.9}]
[null,null,null,null,null,null,null,"Kepala Sekolah",null,null,null,null,null,null,null,null,null,null,null,null,null,null,null,null,null,null,null,{"$f":"TEXT(RIGHT(AB39,2),\"#,0\")","v":",9"}]
[]
[null,null,null,null,null,null,null,null,null,null,null,null,null,null,null,null,null,null,null,0,"nol"]
[null,null,null,null,null,null,null,null,null,null,null,null,null,null,null,null,null,null,null,1,"satu"]
[null,null,null,null,null,null,null,{"$f":"IF(KEPALA<>\"\",KEPALA,\"\")","v":"Sahroni,S.Pd.I"},null,null,null,null,null,null,null,null,null,null,null,2,"dua"]
[null,null,null,null,null,null,null,"NIP. ",{"$f":"IF(NIP<>\"\",NIP,\"\")","v":"-"},null,null,null,null,null,null,null,null,null,null,3,"tiga"]
[null,null,null,null,null,null,null,null,null,null,null,null,null,null,null,null,null,null,null,4,"empat"]
[null,null,null,null,null,null,null,null,null,null,null,null,null,null,null,null,null,null,null,5,"lima"]
[null,null,null,null,null,null,null,null,null,null,null,null,null,null,null,null,null,null,null,6,"enam"]
[null,null,null,null,null,null,null,null,null,null,null,null,null,null,null,null,null,null,null,7,"tujuh"]
[null,null,null,null,null,"Mengetahui",null,null,null,null,null,null,null,null,null,null,null,null,null,8,"delapan"]
[null,null,null,null,null,"Kepala UPT Pendidikan ",null,null,null,null,null,null,null,null,null,null,null,null,null,9,"sembilan"]
[null,null,null,null,null,"Kecamatan Sumbersuko"]
[]
[]
[]
[null,null,null,null,null,"Dra. NGATIFAH,M.Pd"]
[null,null,null,null,null,"NIP.196407091990032003"]

{"sheet":"UAMNU","index":21,"n_rows":72,"n_cols":30,"rows_kept":72,"cut":false,"hidden":false,"merged":[[0,3,0,24],[6,0,6,2],[6,3,7,3],[6,4,7,4],[6,5,6,6],[6,7,6,21],[6,22,7,22],[6,23,7,23],[6,24,7,24],[7,5,7,6]]}
[null,null,null,"DAFTAR KUMPULAN NILAI HASIL UAMNU TAHUN PELAJARAN 2017/2018"]
[null,null,null,null,null,null,null,"MI/SD",null,null,null,null,": MIS. NURUL ISLAM LABRUK KIDUL"]
[null,null,null,null,null,"LEMBAGA PENDIDIKAN MAARIF NU",null,"ALAMAT",null,null,null,null,": JL. RAYA LABRUK KIDUL 65"]
[null,null,null,null,null,"WIILAYAH JAWA TIMUR",null,"KECAMATAN",null,null,null,null,": SUMBERSUKO",null,null,null,"Telp. 0334-887594"]
[null,null,null,null,null,null,null,"CABANG",null,null,null,null,": Lumajang"]
[null,null,null,null,null,null,null,"Piagam Maarif NU Nomor",null,null,null,null,":"]
["NOMOR",null,null,"Nama Peserta","L/P","TTL",null,null,null,null,null,null,null,null,null,null,null,null,null,null,null,null,"  jumlah Nilai Seluruhnya","  Nilai Rata-rata","sikap"]
["URUT","INDUK","Ijazah Maarif",null,null,"sesuai Akte",null,"Al Qur'an Hadits","AQIDAH AKHLAQ","Fiqih","S K I","B. Arab","Aswaja","  P P K n","B. Indonesia","MATEMATIKA","I P A","I P S","KERTAKES","PENJASKES","B. DAERAH","B. Inggris"]
[1,{"$f":"SISWA!B8","v":4270},null,{"$f":"SISWA!E8","v":"ADITYA MAULA FANDY TAULANI"},{"$f":"SISWA!I8","v":"L"},{"$f":"SISWA!F8","v":"LUMAJANG"},{"$f":"SISWA!G8","v":"2006-06-13"},{"$f":"AH!O8","v":75.5},{"$f":"AA!$O8","v":75.3},{"$f":"FQ!$O8","v":75.099999999999994},{"$f":"SKI!$O8","v":74.599999999999994},{"$f":"BA!$O8","v":72.599999999999994},{"$f":"AVERAGE(H9:L9)","v":74.62},{"$f":"PKn!$O8","v":83.666666666666671},{"$f":"BID!$O8","v":84.064999999999998},{"$f":"MTK!$O8","v":82.554999999999993},{"$f":"IPA!$O8","v":77.5},{"$f":"IPS!$O8","v":80.333333333333329},{"$f":"SBK!$O8","v":79.666666666666671},{"$f":"PJK!$O8","v":79.666666666666671},{"$f":"BD!$O8","v":76.166666666666671},{"$f":"BIG!$O8","v":72.400000000000006},{"$f":"SUM(H9:V9)","v":1163.74},{"$f":"IFERROR(AVERAGE(H9:V9),\"\")","v":77.582666666666668},"BAIK",null,{"$f":"F9&\", \"&TEXT(G9,\"[$-id-ID]dd mmmm yyyy\")","v":"LUMAJANG, 13 Juni 2006"},null,null,{"$f":"F9&\",\"&TEXT(G9,\"dd-mm-yyyyy\")","v":"LUMAJANG,13-06-2006"}]
[2,{"$f":"SISWA!B9","v":4300},null,{"$f":"SISWA!E9","v":"AHMAD FERDIAN ALAMSYAH"},{"$f":"SISWA!I9","v":"L"},{"$f":"SISWA!F9","v":"LUMAJANG"},{"$f":"SISWA!G9","v":"2006-08-19"},{"$f":"AH!O9","v":69.599999999999994},{"$f":"AA!$O9","v":72.099999999999994},{"$f":"FQ!$O9","v":70},{"$f":"SKI!$O9","v":72.754999999999995},{"$f":"BA!$O9","v":68.400000000000006},{"$f":"AVERAGE(H10:L10)","v":70.570999999999998},{"$f":"PKn!$O9","v":72},{"$f":"BID!$O9","v":65.01166666666667},{"$f":"MTK!$O9","v":63.773333333333333},{"$f":"IPA!$O9","v":53.804999999999993},{"$f":"IPS!$O9","v":72.333333333333329},{"$f":"SBK!$O9","v":72.166666666666671},{"$f":"PJK!$O9","v":76.333333333333329},{"$f":"BD!$O9","v":70.166666666666671},{"$f":"BIG!$O9","v":66.2},1035.2159999999999,69.014399999999995,"BAIK",null,"LUMAJANG, 19 Agustus 2006",null,null,"LUMAJANG,19-08-2006"]
[3,{"$f":"SISWA!B10","v":4271},null,{"$f":"SISWA!E10","v":"AHMAD RAMADHANI FADLULLOH"},{"$f":"SISWA!I10","v":"L"},{"$f":"SISWA!F10","v":"LUMAJANG"},{"$f":"SISWA!G10","v":"2006-10-18"},{"$f":"AH!O10","v":72.599999999999994},{"$f":"AA!$O10","v":73.900000000000006},{"$f":"FQ!$O10","v":71.8},{"$f":"SKI!$O10","v":71.754999999999995},{"$f":"BA!$O10","v":70.400000000000006},72.091000000000008,{"$f":"PKn!$O10","v":77},{"$f":"BID!$O10","v":72.828333333333333},{"$f":"MTK!$O10","v":67.051666666666662},{"$f":"IPA!$O10","v":62.685000000000002},{"$f":"IPS!$O10","v":76.333333333333329},{"$f":"SBK!$O10","v":76},{"$f":"PJK!$O10","v":78.166666666666671},{"$f":"BD!$O10","v":73.5},{"$f":"BIG!$O10","v":73.599999999999994},1089.711,72.647400000000005,"BAIK",null,"LUMAJANG, 18 Oktober 2006",null,null,"LUMAJANG,18-10-2006"]
[4,{"$f":"SISWA!B11","v":4398},null,{"$f":"SISWA!E11","v":"ANANDA AMILIA"},{"$f":"SISWA!I11","v":"P"},{"$f":"SISWA!F11","v":"LUMAJANG"},{"$f":"SISWA!G11","v":"2006-02-10"},{"$f":"AH!O11","v":74.45},{"$f":"AA!$O11","v":75.2},{"$f":"FQ!$O11","v":76.95},{"$f":"SKI!$O11","v":75.199999999999989},{"$f":"BA!$O11","v":70.8},74.52000000000001,{"$f":"PKn!$O11","v":77.166666666666671},{"$f":"BID!$O11","v":71.86},{"$f":"MTK!$O11","v":65.106666666666669},{"$f":"IPA!$O11","v":63.210000000000008},{"$f":"IPS!$O11","v":74.333333333333329},{"$f":"SBK!$O11","v":74.833333333333329},{"$f":"PJK!$O11","v":77.666666666666671},{"$f":"BD!$O11","v":72},{"$f":"BIG!$O11","v":68.7},1091.9966666666667,72.799777777777777,"BAIK",null,"LUMAJANG, 10 Februari 2006",null,null,"LUMAJANG,10-02-2006"]
[5,{"$f":"SISWA!B12","v":4272},null,{"$f":"SISWA!E12","v":"ANDINI MAULID DWI LESTARI"},{"$f":"SISWA!I12","v":"P"},{"$f":"SISWA!F12","v":"LUMAJANG"},{"$f":"SISWA!G12","v":"2007-03-30"},{"$f":"AH!O12","v":71.3},{"$f":"AA!$O12","v":74.2},{"$f":"FQ!$O12","v":72.400000000000006},{"$f":"SKI!$O12","v":73.344999999999999},{"$f":"BA!$O12","v":69.2},72.088999999999999,{"$f":"PKn!$O12","v":75.333333333333329},{"$f":"BID!$O12","v":77.554999999999993},{"$f":"MTK!$O12","v":68.49666666666667},{"$f":"IPA!$O12","v":63.89},{"$f":"IPS!$O12","v":75.666666666666671},{"$f":"SBK!$O12","v":74},{"$f":"PJK!$O12","v":79},{"$f":"BD!$O12","v":74},{"$f":"BIG!$O12","v":68.599999999999994},1089.0756666666666,72.605044444444445,"BAIK",null,"LUMAJANG, 30 Maret 2007",null,null,"LUMAJANG,30-03-2007"]
[6,{"$f":"SISWA!B13","v":4301},null,{"$f":"SISWA!E13","v":"ANDRIK YUSRI"},{"$f":"SISWA!I13","v":"L"},{"$f":"SISWA!F13","v":"LUMAJANG"},{"$f":"SISWA!G13","v":"2006-05-15"},{"$f":"AH!O13","v":68},{"$f":"AA!$O13","v":67.900000000000006},{"$f":"FQ!$O13","v":68},{"$f":"SKI!$O13","v":70.245000000000005},{"$f":"BA!$O13","v":68},68.429000000000002,{"$f":"PKn!$O13","v":69.666666666666671},{"$f":"BID!$O13","v":68.701666666666668},{"$f":"MTK!$O13","v":60.99666666666667},{"$f":"IPA!$O13","v":58.215000000000003},{"$f":"IPS!$O13","v":69.5},{"$f":"SBK!$O13","v":71.333333333333329},{"$f":"PJK!$O13","v":79},{"$f":"BD!$O13","v":69.666666666666671},{"$f":"BIG!$O13","v":67.5},1025.154,68.343599999999995,"BAIK",null,"LUMAJANG, 15 Mei 2006",null,null,"LUMAJANG,15-05-2006"]
[7,{"$f":"SISWA!B14","v":4273},null,{"$f":"SISWA!E14","v":"DEWI SAKINAH ISWARA"},{"$f":"SISWA!I14","v":"P"},{"$f":"SISWA!F14","v":"LUMAJANG"},{"$f":"SISWA!G14","v":"2006-08-31"},{"$f":"AH!O14","v":79.05},{"$f":"AA!$O14","v":86.6},{"$f":"FQ!$O14","v":89.949999999999989},{"$f":"SKI!$O14","v":81.144999999999996},{"$f":"BA!$O14","v":72.599999999999994},81.868999999999986,{"$f":"PKn!$O14","v":81},{"$f":"BID!$O14","v":82.31},{"$f":"MTK!$O14","v":74.94},{"$f":"IPA!$O14","v":72.12},{"$f":"IPS!$O14","v":76.666666666666671},{"$f":"SBK!$O14","v":78.5},{"$f":"PJK!$O14","v":79.833333333333329},{"$f":"BD!$O14","v":75.5},{"$f":"BIG!$O14","v":71},1183.0839999999998,78.872266666666661,"BAIK",null,"LUMAJANG, 31 Agustus 2006",null,null,"LUMAJANG,31-08-2006"]
[8,{"$f":"SISWA!B15","v":4307},null,{"$f":"SISWA!E15","v":"CHAKIM"},{"$f":"SISWA!I15","v":"L"},{"$f":"SISWA!F15","v":"LUMAJANG"},{"$f":"SISWA!G15","v":"2006-05-05"},{"$f":"AH!O15","v":68.25},{"$f":"AA!$O15","v":66.8},{"$f":"FQ!$O15","v":69.849999999999994},{"$f":"SKI!$O15","v":68.099999999999994},{"$f":"BA!$O15","v":67},68,{"$f":"PKn!$O15","v":70.166666666666671},{"$f":"BID!$O15","v":63.22},{"$f":"MTK!$O15","v":62.830000000000005},{"$f":"IPA!$O15","v":52.185000000000002},{"$f":"IPS!$O15","v":69.5},{"$f":"SBK!$O15","v":70.666666666666671},{"$f":"PJK!$O15","v":75.833333333333329},{"$f":"BD!$O15","v":68.833333333333329},{"$f":"BIG!$O15","v":69.099999999999994},1010.335,67.355666666666664,"BAIK",null,"LUMAJANG, 05 Mei 2006",null,null,"LUMAJANG,05-05-2006"]
[9,{"$f":"SISWA!B16","v":4275},null,{"$f":"SISWA!E16","v":"HANIK APRILIA SARI"},{"$f":"SISWA!I16","v":"P"},{"$f":"SISWA!F16","v":"LUMAJANG"},{"$f":"SISWA!G16","v":"2007-04-23"},{"$f":"AH!O16","v":74.349999999999994},{"$f":"AA!$O16","v":76.599999999999994},{"$f":"FQ!$O16","v":74.099999999999994},{"$f":"SKI!$O16","v":73.099999999999994},{"$f":"BA!$O16","v":71.3},73.89,{"$f":"PKn!$O16","v":78.5},{"$f":"BID!$O16","v":77.036666666666676},{"$f":"MTK!$O16","v":74.888333333333335},{"$f":"IPA!$O16","v":70.510000000000005},{"$f":"IPS!$O16","v":76.5},{"$f":"SBK!$O16","v":76.833333333333329},{"$f":"PJK!$O16","v":78},{"$f":"BD!$O16","v":75.166666666666671},{"$f":"BIG!$O16","v":69.3},1120.0749999999998,74.671666666666653,"BAIK",null,"LUMAJANG, 23 April 2007",null,null,"LUMAJANG,23-04-2007"]
[10,{"$f":"SISWA!B17","v":"4238"},null,{"$f":"SISWA!E17","v":"DESI NATALIA SAPUTRI"},{"$f":"SISWA!I17","v":"P"},{"$f":"SISWA!F17","v":"LUMAJANG"},{"$f":"SISWA!G17","v":"2005-12-24"},{"$f":"AH!O17","v":67.400000000000006},{"$f":"AA!$O17","v":67.2},{"$f":"FQ!$O17","v":67.900000000000006},{"$f":"SKI!$O17","v":68.8},{"$f":"BA!$O17","v":67.3},67.72,{"$f":"PKn!$O17","v":71.5},{"$f":"BID!$O17","v":63.816666666666663},{"$f":"MTK!$O17","v":59.551666666666669},{"$f":"IPA!$O17","v":54.789999999999992},{"$f":"IPS!$O17","v":71.666666666666671},{"$f":"SBK!$O17","v":71.666666666666671},{"$f":"PJK!$O17","v":76.5},{"$f":"BD!$O17","v":70.333333333333329},{"$f":"BIG!$O17","v":72.5},1018.645,67.909666666666666,"BAIK",null,"LUMAJANG, 24 Desember 2005",null,null,"LUMAJANG,24-12-2005"]
[11,{"$f":"SISWA!B18","v":4391},null,{"$f":"SISWA!E18","v":"HIDAYATUL KHUMAINIA"},{"$f":"SISWA!I18","v":"P"},{"$f":"SISWA!F18","v":"LUMAJANG"},{"$f":"SISWA!G18","v":"2007-10-04"},{"$f":"AH!O18","v":72.95},{"$f":"AA!$O18","v":79.3},{"$f":"FQ!$O18","v":76.349999999999994},{"$f":"SKI!$O18","v":74.295000000000002},{"$f":"BA!$O18","v":70.8},74.739000000000004,{"$f":"PKn!$O18","v":74},{"$f":"BID!$O18","v":72.034999999999997},{"$f":"MTK!$O18","v":65.88666666666667},{"$f":"IPA!$O18","v":58.784999999999997},{"$f":"IPS!$O18","v":72.333333333333329},{"$f":"SBK!$O18","v":72.666666666666671},{"$f":"PJK!$O18","v":75.333333333333329},{"$f":"BD!$O18","v":71.666666666666671},{"$f":"BIG!$O18","v":68.7},1079.8406666666665,71.989377777777761,"BAIK",null,"LUMAJANG, 04 Oktober 2007",null,null,"LUMAJANG,04-10-2007"]
[12,{"$f":"SISWA!B19","v":4274},null,{"$f":"SISWA!E19","v":"DWITA FITA WULANDARI"},{"$f":"SISWA!I19","v":"P"},{"$f":"SISWA!F19","v":"LUMAJANG"},{"$f":"SISWA!G19","v":"2007-02-25"},{"$f":"AH!O19","v":70.400000000000006},{"$f":"AA!$O19","v":69.599999999999994},{"$f":"FQ!$O19","v":70.900000000000006},{"$f":"SKI!$O19","v":70.5},{"$f":"BA!$O19","v":69.099999999999994},70.099999999999994,{"$f":"PKn!$O19","v":76.833333333333329},{"$f":"BID!$O19","v":69.903333333333336},{"$f":"MTK!$O19","v":63.718333333333334},{"$f":"IPA!$O19","v":57.879999999999995},{"$f":"IPS!$O19","v":75.5},{"$f":"SBK!$O19","v":73.5},{"$f":"PJK!$O19","v":78},{"$f":"BD!$O19","v":70.666666666666671},{"$f":"BIG!$O19","v":77.2},1063.8016666666667,70.920111111111112,"BAIK",null,"LUMAJANG, 25 Februari 2007",null,null,"LUMAJANG,25-02-2007"]
[13,{"$f":"SISWA!B20","v":4276},null,{"$f":"SISWA!E20","v":"IZZA ILMIA AZZAHRA"},{"$f":"SISWA!I20","v":"P"},{"$f":"SISWA!F20","v":"LUMAJANG"},{"$f":"SISWA!G20","v":"2006-12-15"},{"$f":"AH!O20","v":74.099999999999994},{"$f":"AA!$O20","v":73.099999999999994},{"$f":"FQ!$O20","v":75.8},{"$f":"SKI!$O20","v":72.8},{"$f":"BA!$O20","v":71.3},73.42,{"$f":"PKn!$O20","v":78.833333333333329},{"$f":"BID!$O20","v":81.81},{"$f":"MTK!$O20","v":69.38666666666667},{"$f":"IPA!$O20","v":70.81},{"$f":"IPS!$O20","v":76.5},{"$f":"SBK!$O20","v":79},{"$f":"PJK!$O20","v":78.5},{"$f":"BD!$O20","v":76.833333333333329},{"$f":"BIG!$O20","v":70.400000000000006},1122.5933333333335,74.839555555555563,"BAIK",null,"LUMAJANG, 15 Desember 2006",null,null,"LUMAJANG,15-12-2006"]
[14,{"$f":"SISWA!B21","v":4303},null,{"$f":"SISWA!E21","v":"FARIDATUS SAHDIAH"},{"$f":"SISWA!I21","v":"P"},{"$f":"SISWA!F21","v":"LUMAJANG"},{"$f":"SISWA!G21","v":"2006-06-29"},{"$f":"AH!O21","v":71.245000000000005},{"$f":"AA!$O21","v":79.2},{"$f":"FQ!$O21","v":70.900000000000006},{"$f":"SKI!$O21","v":73.954999999999998},{"$f":"BA!$O21","v":69.2},72.900000000000006,{"$f":"PKn!$O21","v":73},{"$f":"BID!$O21","v":69.533333333333331},{"$f":"MTK!$O21","v":64.273333333333326},{"$f":"IPA!$O21","v":63.289999999999992},{"$f":"IPS!$O21","v":71.333333333333329},{"$f":"SBK!$O21","v":73},{"$f":"PJK!$O21","v":76.666666666666671},{"$f":"BD!$O21","v":69},{"$f":"BIG!$O21","v":73.8},1071.2966666666666,71.419777777777782,"BAIK",null,"LUMAJANG, 29 Juni 2006",null,null,"LUMAJANG,29-06-2006"]
[15,{"$f":"SISWA!B22","v":4278},null,{"$f":"SISWA!E22","v":"KHARISYA AZZAHRO"},{"$f":"SISWA!I22","v":"P"},{"$f":"SISWA!F22","v":"LUMAJANG"},{"$f":"SISWA!G22","v":"2007-01-21"},{"$f":"AH!O22","v":76},{"$f":"AA!$O22","v":77.400000000000006},{"$f":"FQ!$O22","v":75.8},{"$f":"SKI!$O22","v":75},{"$f":"BA!$O22","v":72.7},75.38,{"$f":"PKn!$O22","v":80.166666666666671},{"$f":"BID!$O22","v":83.191666666666663},{"$f":"MTK!$O22","v":79.666666666666671},{"$f":"IPA!$O22","v":83.094999999999999},{"$f":"IPS!$O22","v":79.5},{"$f":"SBK!$O22","v":78.833333333333329},{"$f":"PJK!$O22","v":83},{"$f":"BD!$O22","v":79},{"$f":"BIG!$O22","v":71.400000000000006},1170.1333333333334,78.00888888888889,"BAIK",null,"LUMAJANG, 21 Januari 2007",null,null,"LUMAJANG,21-01-2007"]
[16,{"$f":"SISWA!B23","v":4277},null,{"$f":"SISWA!E23","v":"KARINA FEBBY CAHYA AMILIA"},{"$f":"SISWA!I23","v":"P"},{"$f":"SISWA!F23","v":"LUMAJANG"},{"$f":"SISWA!G23","v":"2007-02-01"},{"$f":"AH!O23","v":72.7},{"$f":"AA!$O23","v":74.400000000000006},{"$f":"FQ!$O23","v":73},{"$f":"SKI!$O23","v":72.594999999999999},{"$f":"BA!$O23","v":70.8},72.699000000000012,{"$f":"PKn!$O23","v":78.5},{"$f":"BID!$O23","v":72.943333333333328},{"$f":"MTK!$O23","v":66.885000000000005},{"$f":"IPA!$O23","v":61.2},{"$f":"IPS!$O23","v":75},{"$f":"SBK!$O23","v":76.666666666666671},{"$f":"PJK!$O23","v":79},{"$f":"BD!$O23","v":73.5},{"$f":"BIG!$O23","v":68.5},1088.3890000000001,72.559266666666673,"BAIK",null,"LUMAJANG, 01 Februari 2007",null,null,"LUMAJANG,01-02-2007"]
[17,{"$f":"SISWA!B24","v":4601},null,{"$f":"SISWA!E24","v":"MOCHAMAD RIFKY ROSAN"},{"$f":"SISWA!I24","v":"L"},{"$f":"SISWA!F24","v":"LUMAJANG"},{"$f":"SISWA!G24","v":"17/06/2006"},{"$f":"AH!O24","v":71},{"$f":"AA!$O24","v":80},{"$f":"FQ!$O24","v":71.7},{"$f":"SKI!$O24","v":71.900000000000006},{"$f":"BA!$O24","v":69},72.72,{"$f":"PKn!$O24","v":75.5},{"$f":"BID!$O24","v":74.16},{"$f":"MTK!$O24","v":67.608333333333334},{"$f":"IPA!$O24","v":66.594999999999999},{"$f":"IPS!$O24","v":75.333333333333329},{"$f":"SBK!$O24","v":75.833333333333329},{"$f":"PJK!$O24","v":79.666666666666671},{"$f":"BD!$O24","v":71.333333333333329},{"$f":"BIG!$O24","v":69.5},1091.8500000000001,72.790000000000006,"BAIK",null,"LUMAJANG, 17 Juni 2006",null,null,"LUMAJANG,17-06-2006"]
[18,{"$f":"SISWA!B25","v":"4241"},null,{"$f":"SISWA!E25","v":"KHUSNI CAHYONO"},{"$f":"SISWA!I25","v":"L"},{"$f":"SISWA!F25","v":"LUMAJANG"},{"$f":"SISWA!G25","v":"2005-07-14"},{"$f":"AH!O25","v":72.650000000000006},{"$f":"AA!$O25","v":78.599999999999994},{"$f":"FQ!$O25","v":66.5},{"$f":"SKI!$O25","v":70.35499999999999},{"$f":"BA!$O25","v":67.099999999999994},71.041000000000011,{"$f":"PKn!$O25","v":69.333333333333329},{"$f":"BID!$O25","v":63.856666666666662},{"$f":"MTK!$O25","v":60.99666666666667},{"$f":"IPA!$O25","v":47},{"$f":"IPS!$O25","v":69.666666666666671},{"$f":"SBK!$O25","v":70},{"$f":"PJK!$O25","v":75.5},{"$f":"BD!$O25","v":68.833333333333329},{"$f":"BIG!$O25","v":70.3},1021.7326666666667,68.115511111111104,"BAIK",null,"LUMAJANG, 14 Juli 2005",null,null,"LUMAJANG,14-07-2005"]
[19,{"$f":"SISWA!B26","v":4280},null,{"$f":"SISWA!E26","v":"MUCHAMMAD ALIEF FERDIANSYAH"},{"$f":"SISWA!I26","v":"L"},{"$f":"SISWA!F26","v":"LUMAJANG"},{"$f":"SISWA!G26","v":"2006-06-22"},{"$f":"AH!O26","v":75.099999999999994},{"$f":"AA!$O26","v":72.599999999999994},{"$f":"FQ!$O26","v":75.099999999999994},{"$f":"SKI!$O26","v":72.5},{"$f":"BA!$O26","v":71.5},73.359999999999985,{"$f":"PKn!$O26","v":79.833333333333329},{"$f":"BID!$O26","v":84.023333333333326},{"$f":"MTK!$O26","v":77.83},{"$f":"IPA!$O26","v":81.995000000000005},{"$f":"IPS!$O26","v":79.5},{"$f":"SBK!$O26","v":78.666666666666671},{"$f":"PJK!$O26","v":79.833333333333329},{"$f":"BD!$O26","v":78.666666666666671},{"$f":"BIG!$O26","v":81},1161.5083333333334,77.433888888888902,"BAIK",null,"LUMAJANG, 22 Juni 2006",null,null,"LUMAJANG,22-06-2006"]
[20,{"$f":"SISWA!B27","v":4306},null,{"$f":"SISWA!E27","v":"LENNY AGUSTIN NINGTYAS"},{"$f":"SISWA!I27","v":"P"},{"$f":"SISWA!F27","v":"LUMAJANG"},{"$f":"SISWA!G27","v":"2006-08-17"},{"$f":"AH!O27","v":67.2},{"$f":"AA!$O27","v":72.7},{"$f":"FQ!$O27","v":67.400000000000006},{"$f":"SKI!$O27","v":69.295000000000002},{"$f":"BA!$O27","v":67.599999999999994},68.839000000000013,{"$f":"PKn!$O27","v":70.333333333333329},{"$f":"BID!$O27","v":63.926666666666669},{"$f":"MTK!$O27","v":61.94},{"$f":"IPA!$O27","v":49.99},{"$f":"IPS!$O27","v":68.833333333333329},{"$f":"SBK!$O27","v":71.166666666666671},{"$f":"PJK!$O27","v":77.5},{"$f":"BD!$O27","v":68.5},{"$f":"BIG!$O27","v":64.8},1010.0239999999999,67.334933333333325,"BAIK",null,"LUMAJANG, 17 Agustus 2006",null,null,"LUMAJANG,17-08-2006"]
[21,{"$f":"SISWA!B28","v":4281},null,{"$f":"SISWA!E28","v":"MUHAMMAD AGUS ANDRIANTO"},{"$f":"SISWA!I28","v":"L"},{"$f":"SISWA!F28","v":"LUMAJANG"},{"$f":"SISWA!G28","v":"2006-08-11"},{"$f":"AH!O28","v":71.8},{"$f":"AA!$O28","v":70.900000000000006},{"$f":"FQ!$O28","v":71.099999999999994},{"$f":"SKI!$O28","v":71},{"$f":"BA!$O28","v":69.099999999999994},70.78,{"$f":"PKn!$O28","v":73.666666666666671},{"$f":"BID!$O28","v":72.661666666666676},{"$f":"MTK!$O28","v":67},{"$f":"IPA!$O28","v":62.1},{"$f":"IPS!$O28","v":75.166666666666671},{"$f":"SBK!$O28","v":73.666666666666671},{"$f":"PJK!$O28","v":79.5},{"$f":"BD!$O28","v":74.333333333333329},{"$f":"BIG!$O28","v":71.099999999999994},1073.875,71.591666666666669,"BAIK",null,"LUMAJANG, 11 Agustus 2006",null,null,"LUMAJANG,11-08-2006"]
[22,{"$f":"SISWA!B29","v":4308},null,{"$f":"SISWA!E29","v":"MAURIS HIDAYATUR ROCHMAN"},{"$f":"SISWA!I29","v":"L"},{"$f":"SISWA!F29","v":"LUMAJANG"},{"$f":"SISWA!G29","v":"2006-12-11"},{"$f":"AH!O29","v":74.05},{"$f":"AA!$O29","v":79.099999999999994},{"$f":"FQ!$O29","v":73.7},{"$f":"SKI!$O29","v":71.849999999999994},{"$f":"BA!$O29","v":70.099999999999994},73.759999999999991,{"$f":"PKn!$O29","v":75.166666666666671},{"$f":"BID!$O29","v":71.195000000000007},{"$f":"MTK!$O29","v":67.94},{"$f":"IPA!$O29","v":70.995000000000005},{"$f":"IPS!$O29","v":74.333333333333329},{"$f":"SBK!$O29","v":75.666666666666671},{"$f":"PJK!$O29","v":78.166666666666671},{"$f":"BD!$O29","v":73},{"$f":"BIG!$O29","v":72},1101.0233333333333,73.401555555555561,"BAIK",null,"LUMAJANG, 11 Desember 2006",null,null,"LUMAJANG,11-12-2006"]
[23,{"$f":"SISWA!B30","v":4314},null,{"$f":"SISWA!E30","v":"MUHAMMAD BISMAR TAUFIQUROHMAN"},{"$f":"SISWA!I30","v":"L"},{"$f":"SISWA!F30","v":"LUMAJANG"},{"$f":"SISWA!G30","v":"2007-02-20"},{"$f":"AH!O30","v":73.900000000000006},{"$f":"AA!$O30","v":73},{"$f":"FQ!$O30","v":72.7},{"$f":"SKI!$O30","v":75.094999999999999},{"$f":"BA!$O30","v":72.099999999999994},73.359000000000009,{"$f":"PKn!$O30","v":77.166666666666671},{"$f":"BID!$O30","v":79.561666666666667},{"$f":"MTK!$O30","v":73.053333333333327},{"$f":"IPA!$O30","v":63.31},{"$f":"IPS!$O30","v":74.833333333333329},{"$f":"SBK!$O30","v":76.166666666666671},{"$f":"PJK!$O30","v":76.666666666666671},{"$f":"BD!$O30","v":74},{"$f":"BIG!$O30","v":71.8},1106.7123333333332,73.780822222222213,"BAIK",null,"LUMAJANG, 20 Februari 2007",null,null,"LUMAJANG,20-02-2007"]
[24,{"$f":"SISWA!B31","v":4309},null,{"$f":"SISWA!E31","v":"MAYA BUNGA ANJANI"},{"$f":"SISWA!I31","v":"P"},{"$f":"SISWA!F31","v":"LUMAJANG"},{"$f":"SISWA!G31","v":"2007-05-04"},{"$f":"AH!O31","v":69.355000000000004},{"$f":"AA!$O31","v":84.5},{"$f":"FQ!$O31","v":67},{"$f":"SKI!$O31","v":70.844999999999999},{"$f":"BA!$O31","v":67.900000000000006},71.92,{"$f":"PKn!$O31","v":70.166666666666671},{"$f":"BID!$O31","v":64.353333333333339},{"$f":"MTK!$O31","v":61.551666666666669},{"$f":"IPA!$O31","v":51.879999999999995},{"$f":"IPS!$O31","v":70},{"$f":"SBK!$O31","v":72},{"$f":"PJK!$O31","v":76.333333333333329},{"$f":"BD!$O31","v":69.166666666666671},{"$f":"BIG!$O31","v":65.3},1032.2716666666668,68.818111111111122,"BAIK",null,"LUMAJANG, 04 Mei 2007",null,null,"LUMAJANG,04-05-2007"]
[25,{"$f":"SISWA!B32","v":4320},null,{"$f":"SISWA!E32","v":"MUHAMMAD SAHLAN SHODIQ"},{"$f":"SISWA!I32","v":"L"},{"$f":"SISWA!F32","v":"LUMAJANG"},{"$f":"SISWA!G32","v":"2006-04-26"},{"$f":"AH!O32","v":74.599999999999994},{"$f":"AA!$O32","v":80},{"$f":"FQ!$O32","v":75.8},{"$f":"SKI!$O32","v":73.400000000000006},{"$f":"BA!$O32","v":73.099999999999994},75.38,{"$f":"PKn!$O32","v":80},{"$f":"BID!$O32","v":79.328333333333333},{"$f":"MTK!$O32","v":68.99666666666667},{"$f":"IPA!$O32","v":76.509999999999991},{"$f":"IPS!$O32","v":75.666666666666671},{"$f":"SBK!$O32","v":77.166666666666671},{"$f":"PJK!$O32","v":79.666666666666671},{"$f":"BD!$O32","v":75.333333333333329},{"$f":"BIG!$O32","v":70.8},1135.7483333333332,75.716555555555544,"BAIK",null,"LUMAJANG, 26 April 2006",null,null,"LUMAJANG,26-04-2006"]
[26,{"$f":"SISWA!B33","v":4279},null,{"$f":"SISWA!E33","v":"MITA SEPTIANI ISLAMIA"},{"$f":"SISWA!I33","v":"P"},{"$f":"SISWA!F33","v":"LUMAJANG"},{"$f":"SISWA!G33","v":"2006-09-16"},{"$f":"AH!O33","v":69.3},{"$f":"AA!$O33","v":79.400000000000006},{"$f":"FQ!$O33","v":86.3},{"$f":"SKI!$O33","v":81},{"$f":"BA!$O33","v":69.2},77.039999999999992,{"$f":"PKn!$O33","v":71.333333333333329},{"$f":"BID!$O33","v":66.236666666666665},{"$f":"MTK!$O33","v":61.830000000000005},{"$f":"IPA!$O33","v":53.495000000000005},{"$f":"IPS!$O33","v":68.333333333333329},{"$f":"SBK!$O33","v":72.5},{"$f":"PJK!$O33","v":76.666666666666671},{"$f":"BD!$O33","v":70.666666666666671},{"$f":"BIG!$O33","v":77.099999999999994},1080.4016666666666,72.026777777777781,"BAIK",null,"LUMAJANG, 16 September 2006",null,null,"LUMAJANG,16-09-2006"]
[27,{"$f":"SISWA!B34","v":4321},null,{"$f":"SISWA!E34","v":"MUHAMMAD SEPTYAN EKA PRATAMA"},{"$f":"SISWA!I34","v":"L"},{"$f":"SISWA!F34","v":"LUMAJANG"},{"$f":"SISWA!G34","v":"2006-09-14"},{"$f":"AH!O34","v":71.900000000000006},{"$f":"AA!$O34","v":72.400000000000006},{"$f":"FQ!$O34","v":71.7},{"$f":"SKI!$O34","v":71.2},{"$f":"BA!$O34","v":70.3},71.5,{"$f":"PKn!$O34","v":76.333333333333329},{"$f":"BID!$O34","v":75.040000000000006},{"$f":"MTK!$O34","v":68.22},{"$f":"IPA!$O34","v":75.22},{"$f":"IPS!$O34","v":77.666666666666671},{"$f":"SBK!$O34","v":75.833333333333329},{"$f":"PJK!$O34","v":80.666666666666671},{"$f":"BD!$O34","v":73.333333333333329},{"$f":"BIG!$O34","v":79.099999999999994},1110.4133333333332,74.027555555555551,"BAIK",null,"LUMAJANG, 14 September 2006",null,null,"LUMAJANG,14-09-2006"]
[28,{"$f":"SISWA!B35","v":"4247"},null,{"$f":"SISWA!E35","v":"MOCHAMAD ARIEL FRANS TITO"},{"$f":"SISWA!I35","v":"L"},{"$f":"SISWA!F35","v":"LUMAJANG"},{"$f":"SISWA!G35","v":"2005-02-12"},{"$f":"AH!O35","v":67.2},{"$f":"AA!$O35","v":70.8},{"$f":"FQ!$O35","v":70.2},{"$f":"SKI!$O35","v":69.650000000000006},{"$f":"BA!$O35","v":67.900000000000006},69.150000000000006,{"$f":"PKn!$O35","v":71},{"$f":"BID!$O35","v":66.568333333333328},{"$f":"MTK!$O35","v":63.555},{"$f":"IPA!$O35","v":55.41},{"$f":"IPS!$O35","v":70.666666666666671},{"$f":"SBK!$O35","v":71},{"$f":"PJK!$O35","v":76},{"$f":"BD!$O35","v":69.166666666666671},{"$f":"BIG!$O35","v":65.599999999999994},1023.8666666666664,68.257777777777761,"BAIK",null,"LUMAJANG, 12 Februari 2005",null,null,"LUMAJANG,12-02-2005"]
[29,{"$f":"SISWA!B36","v":4285},null,{"$f":"SISWA!E36","v":"MUHAMMAD VERYANSYAH"},{"$f":"SISWA!I36","v":"L"},{"$f":"SISWA!F36","v":"LUMAJANG"},{"$f":"SISWA!G36","v":"2006-05-21"},{"$f":"AH!O36","v":72.099999999999994},{"$f":"AA!$O36","v":71.8},{"$f":"FQ!$O36","v":73.2},{"$f":"SKI!$O36","v":72.2},{"$f":"BA!$O36","v":70.400000000000006},71.939999999999984,{"$f":"PKn!$O36","v":76.333333333333329},{"$f":"BID!$O36","v":71.861666666666665},{"$f":"MTK!$O36","v":76.5},{"$f":"IPA!$O36","v":71.615000000000009},{"$f":"IPS!$O36","v":77.333333333333329},{"$f":"SBK!$O36","v":76.5},{"$f":"PJK!$O36","v":79.5},{"$f":"BD!$O36","v":74.333333333333329},{"$f":"BIG!$O36","v":68.900000000000006},1104.5166666666667,73.634444444444441,"BAIK",null,"LUMAJANG, 21 Mei 2006",null,null,"LUMAJANG,21-05-2006"]
[30,{"$f":"SISWA!B37","v":4310},null,{"$f":"SISWA!E37","v":"MOCHAMMAD BIMA RISFANDA"},{"$f":"SISWA!I37","v":"L"},{"$f":"SISWA!F37","v":"LUMAJANG"},{"$f":"SISWA!G37","v":"2006-08-25"},{"$f":"AH!O37","v":67.400000000000006},{"$f":"AA!$O37","v":76},{"$f":"FQ!$O37","v":73.150000000000006},{"$f":"SKI!$O37","v":71.550000000000011},{"$f":"BA!$O37","v":68},71.22,{"$f":"PKn!$O37","v":71.833333333333329},{"$f":"BID!$O37","v":62.844999999999999},{"$f":"MTK!$O37","v":61.44},{"$f":"IPA!$O37","v":56.019999999999996},{"$f":"IPS!$O37","v":70.333333333333329},{"$f":"SBK!$O37","v":72},{"$f":"PJK!$O37","v":78.166666666666671},{"$f":"BD!$O37","v":71},{"$f":"BIG!$O37","v":66.3},1037.2583333333332,69.150555555555542,"BAIK",null,"LUMAJANG, 25 Agustus 2006",null,null,"LUMAJANG,25-08-2006"]
[31,{"$f":"SISWA!B38","v":4286},null,{"$f":"SISWA!E38","v":"MUHAMMAD ZIDNY NA'IM"},{"$f":"SISWA!I38","v":"L"},{"$f":"SISWA!F38","v":"LUMAJANG"},{"$f":"SISWA!G38","v":"2006-07-31"},{"$f":"AH!O38","v":75.7},{"$f":"AA!$O38","v":74.5},{"$f":"FQ!$O38","v":75.5},{"$f":"SKI!$O38","v":74.900000000000006},{"$f":"BA!$O38","v":71.8},74.48,{"$f":"PKn!$O38","v":79.833333333333329},{"$f":"BID!$O38","v":82.561666666666667},{"$f":"MTK!$O38","v":78.665000000000006},{"$f":"IPA!$O38","v":75.705000000000013},{"$f":"IPS!$O38","v":81.666666666666671},{"$f":"SBK!$O38","v":78.5},{"$f":"PJK!$O38","v":81.333333333333329},{"$f":"BD!$O38","v":77.333333333333329},{"$f":"BIG!$O38","v":82},1164.4783333333335,77.631888888888895,"BAIK",null,"LUMAJANG, 31 Juli 2006",null,null,"LUMAJANG,31-07-2006"]
[32,{"$f":"SISWA!B39","v":4282},null,{"$f":"SISWA!E39","v":"MUHAMMAD AGUS FERDIANSYAH"},{"$f":"SISWA!I39","v":"L"},{"$f":"SISWA!F39","v":"LUMAJANG"},{"$f":"SISWA!G39","v":"2006-08-11"},{"$f":"AH!O39","v":72.900000000000006},{"$f":"AA!$O39","v":78.599999999999994},{"$f":"FQ!$O39","v":71.7},{"$f":"SKI!$O39","v":71.3},{"$f":"BA!$O39","v":69.900000000000006},72.88,{"$f":"PKn!$O39","v":75.5},{"$f":"BID!$O39","v":71.74166666666666},{"$f":"MTK!$O39","v":67.49666666666667},{"$f":"IPA!$O39","v":62.304999999999993},{"$f":"IPS!$O39","v":75},{"$f":"SBK!$O39","v":75.166666666666671},{"$f":"PJK!$O39","v":79.333333333333329},{"$f":"BD!$O39","v":74},{"$f":"BIG!$O39","v":69.7},1087.5233333333333,72.501555555555555,"BAIK",null,"LUMAJANG, 11 Agustus 2006",null,null,"LUMAJANG,11-08-2006"]
[33,{"$f":"SISWA!B40","v":4287},null,{"$f":"SISWA!E40","v":"MUHAMMAD FARDAN ABDILLAH"},{"$f":"SISWA!I40","v":"L"},{"$f":"SISWA!F40","v":"LUMAJANG"},{"$f":"SISWA!G40","v":"2006-01-18"},{"$f":"AH!O40","v":71.5},{"$f":"AA!$O40","v":70.666666666666657},{"$f":"FQ!$O40","v":72.333333333333343},{"$f":"SKI!$O40","v":71.594999999999999},{"$f":"BA!$O40","v":68.5},70.919000000000011,{"$f":"PKn!$O40","v":71.75},{"$f":"BID!$O40","v":74.715000000000003},{"$f":"MTK!$O40","v":62.247500000000002},{"$f":"IPA!$O40","v":59.161666666666662},{"$f":"IPS!$O40","v":69.5},{"$f":"SBK!$O40","v":73},{"$f":"PJK!$O40","v":78},{"$f":"BD!$O40","v":73},{"$f":"BIG!$O40","v":68.166666666666657},{"$f":"SUM(H41:V41)","v":1055.0548333333334},{"$f":"IFERROR(AVERAGE(H41:V41),\"\")","v":70.336988888888897},"BAIK",null,{"$f":"F41&\", \"&TEXT(G41,\"[$-id-ID]dd mmmm yyyy\")","v":"LUMAJANG, 18 Januari 2006"},null,null,"LUMAJANG,18-01-2006"]
[34,{"$f":"SISWA!B41","v":4315},null,{"$f":"SISWA!E41","v":"NABILA ARISKA PUTRI"},{"$f":"SISWA!I41","v":"P"},{"$f":"SISWA!F41","v":"LUMAJANG"},{"$f":"SISWA!G41","v":"2006-06-16"},{"$f":"AH!O41","v":74.400000000000006},{"$f":"AA!$O41","v":81.099999999999994},{"$f":"FQ!$O41","v":77.449999999999989},{"$f":"SKI!$O41","v":78.894999999999996},{"$f":"BA!$O41","v":72.2},76.808999999999997,{"$f":"PKn!$O41","v":77},{"$f":"BID!$O41","v":72.908333333333331},{"$f":"MTK!$O41","v":69.833333333333329},{"$f":"IPA!$O41","v":56.5},{"$f":"IPS!$O41","v":76.666666666666671},{"$f":"SBK!$O41","v":77.333333333333329},{"$f":"PJK!$O41","v":78.5},{"$f":"BD!$O41","v":75.166666666666671},{"$f":"BIG!$O41","v":69},1113.7623333333333,74.250822222222226,"BAIK",null,"LUMAJANG, 16 Juni 2006",null,null,"LUMAJANG,16-06-2006"]
[35,{"$f":"SISWA!B42","v":4288},null,{"$f":"SISWA!E42","v":"MUHAMMAD FERDINAN JAYYIDAH RIFQI"},{"$f":"SISWA!I42","v":"L"},{"$f":"SISWA!F42","v":"LUMAJANG"},{"$f":"SISWA!G42","v":"2007-05-13"},{"$f":"AH!O42","v":73.5},{"$f":"AA!$O42","v":72.7},{"$f":"FQ!$O42","v":72.3},{"$f":"SKI!$O42","v":72.7},{"$f":"BA!$O42","v":70.599999999999994},72.359999999999985,{"$f":"PKn!$O42","v":78.166666666666671},{"$f":"BID!$O42","v":78.768333333333331},{"$f":"MTK!$O42","v":75.218333333333334},{"$f":"IPA!$O42","v":73.009999999999991},{"$f":"IPS!$O42","v":74.166666666666671},{"$f":"SBK!$O42","v":78},{"$f":"PJK!$O42","v":78.166666666666671},{"$f":"BD!$O42","v":75},{"$f":"BIG!$O42","v":71.900000000000006},1116.5566666666666,74.437111111111108,"BAIK",null,"LUMAJANG, 13 Mei 2007",null,null,"LUMAJANG,13-05-2007"]
[36,{"$f":"SISWA!B43","v":4283},null,{"$f":"SISWA!E43","v":"NAFISA INDRIANI"},{"$f":"SISWA!I43","v":"P"},{"$f":"SISWA!F43","v":"LUMAJANG"},{"$f":"SISWA!G43","v":"2006-06-03"},{"$f":"AH!O43","v":76.599999999999994},{"$f":"AA!$O43","v":78.3},{"$f":"FQ!$O43","v":78.050000000000011},{"$f":"SKI!$O43","v":78.444999999999993},{"$f":"BA!$O43","v":75.2},77.318999999999988,{"$f":"PKn!$O43","v":83},{"$f":"BID!$O43","v":82.601666666666674},{"$f":"MTK!$O43","v":76.608333333333334},{"$f":"IPA!$O43","v":76.724999999999994},{"$f":"IPS!$O43","v":81.5},{"$f":"SBK!$O43","v":80},{"$f":"PJK!$O43","v":81.166666666666671},{"$f":"BD!$O43","v":78},{"$f":"BIG!$O43","v":74.5},1178.0156666666667,78.534377777777777,"BAIK",null,"LUMAJANG, 03 Juni 2006",null,null,"LUMAJANG,03-06-2006"]
[37,{"$f":"SISWA!B44","v":"4257"},null,{"$f":"SISWA!E44","v":"MUHAMMAD FIRMANSYAH"},{"$f":"SISWA!I44","v":"L"},{"$f":"SISWA!F44","v":"LUMAJANG"},{"$f":"SISWA!G44","v":"2006-09-27"},{"$f":"AH!O44","v":68.8},{"$f":"AA!$O44","v":69.8},{"$f":"FQ!$O44","v":69.7},{"$f":"SKI!$O44","v":69.599999999999994},{"$f":"BA!$O44","v":68.099999999999994},69.2,{"$f":"PKn!$O44","v":71.833333333333329},{"$f":"BID!$O44","v":69.915000000000006},{"$f":"MTK!$O44","v":64.498333333333335},{"$f":"IPA!$O44","v":52.9},{"$f":"IPS!$O44","v":71.666666666666671},{"$f":"SBK!$O44","v":72.666666666666671},{"$f":"PJK!$O44","v":76.833333333333329},{"$f":"BD!$O44","v":69.666666666666671},{"$f":"BIG!$O44","v":66.8},1031.9799999999998,68.798666666666648,"BAIK",null,"LUMAJANG, 27 September 2006",null,null,"LUMAJANG,27-09-2006"]
[38,{"$f":"SISWA!B45","v":4317},null,{"$f":"SISWA!E45","v":"NAJWA FARISYA BAROROH"},{"$f":"SISWA!I45","v":"P"},{"$f":"SISWA!F45","v":"LUMAJANG"},{"$f":"SISWA!G45","v":"2006-12-25"},{"$f":"AH!O45","v":74.3},{"$f":"AA!$O45","v":81.400000000000006},{"$f":"FQ!$O45","v":74.900000000000006},{"$f":"SKI!$O45","v":78.444999999999993},{"$f":"BA!$O45","v":72.599999999999994},76.328999999999994,{"$f":"PKn!$O45","v":77.666666666666671},{"$f":"BID!$O45","v":75.736666666666665},{"$f":"MTK!$O45","v":68.108333333333334},{"$f":"IPA!$O45","v":63.89},{"$f":"IPS!$O45","v":75.5},{"$f":"SBK!$O45","v":77},{"$f":"PJK!$O45","v":77.166666666666671},{"$f":"BD!$O45","v":73.833333333333329},{"$f":"BIG!$O45","v":71.2},1118.0756666666666,74.538377777777768,"BAIK",null,"LUMAJANG, 25 Desember 2006",null,null,"LUMAJANG,25-12-2006"]
[39,{"$f":"SISWA!B46","v":4289},null,{"$f":"SISWA!E46","v":"NUR FITRIYAH"},{"$f":"SISWA!I46","v":"P"},{"$f":"SISWA!F46","v":"LUMAJANG"},{"$f":"SISWA!G46","v":"2006-11-02"},{"$f":"AH!O46","v":72.8},{"$f":"AA!$O46","v":72.8},{"$f":"FQ!$O46","v":72.900000000000006},{"$f":"SKI!$O46","v":71.8},{"$f":"BA!$O46","v":69.400000000000006},71.940000000000012,{"$f":"PKn!$O46","v":77},{"$f":"BID!$O46","v":76.826666666666668},{"$f":"MTK!$O46","v":65.608333333333334},{"$f":"IPA!$O46","v":62.19},{"$f":"IPS!$O46","v":75.166666666666671},{"$f":"SBK!$O46","v":75.166666666666671},{"$f":"PJK!$O46","v":78},{"$f":"BD!$O46","v":73.666666666666671},{"$f":"BIG!$O46","v":70.599999999999994},1085.865,72.391000000000005,"BAIK",null,"LUMAJANG, 02 November 2006",null,null,"LUMAJANG,02-11-2006"]
[40,{"$f":"SISWA!B47","v":4318},null,{"$f":"SISWA!E47","v":"MUHAMMAD HILDAN DWI SAPUTRA"},{"$f":"SISWA!I47","v":"L"},{"$f":"SISWA!F47","v":"LUMAJANG"},{"$f":"SISWA!G47","v":"2006-05-04"},{"$f":"AH!O47","v":70.400000000000006},{"$f":"AA!$O47","v":69.5},{"$f":"FQ!$O47","v":70.099999999999994},{"$f":"SKI!$O47","v":70.400000000000006},{"$f":"BA!$O47","v":69},69.88,{"$f":"PKn!$O47","v":71.333333333333329},{"$f":"BID!$O47","v":68.53},{"$f":"MTK!$O47","v":61.273333333333333},{"$f":"IPA!$O47","v":56.995000000000005},{"$f":"IPS!$O47","v":69.833333333333329},{"$f":"SBK!$O47","v":73.333333333333329},{"$f":"PJK!$O47","v":64.666666666666671},{"$f":"BD!$O47","v":72.166666666666671},{"$f":"BIG!$O47","v":67.2},1024.6116666666667,68.307444444444442,"BAIK",null,"LUMAJANG, 04 Mei 2006",null,null,"LUMAJANG,04-05-2006"]
[41,{"$f":"SISWA!B48","v":4392},null,{"$f":"SISWA!E48","v":"PUTRI NAFI'ATUS SOLIKHAH"},{"$f":"SISWA!I48","v":"P"},{"$f":"SISWA!F48","v":"LUMAJANG"},{"$f":"SISWA!G48","v":"2007-02-24"},{"$f":"AH!O48","v":71.900000000000006},{"$f":"AA!$O48","v":71.5},{"$f":"FQ!$O48","v":73.599999999999994},{"$f":"SKI!$O48","v":72},{"$f":"BA!$O48","v":72.599999999999994},72.320000000000007,{"$f":"PKn!$O48","v":75.833333333333329},{"$f":"BID!$O48","v":74.075000000000003},{"$f":"MTK!$O48","v":66.941666666666663},{"$f":"IPA!$O48","v":54.615000000000002},{"$f":"IPS!$O48","v":72.166666666666671},{"$f":"SBK!$O48","v":74.666666666666671},{"$f":"PJK!$O48","v":76.5},{"$f":"BD!$O48","v":73.666666666666671},{"$f":"BIG!$O48","v":69.099999999999994},1071.4849999999999,71.432333333333332,"BAIK",null,"LUMAJANG, 24 Februari 2007",null,null,"LUMAJANG,24-02-2007"]
[42,{"$f":"SISWA!B49","v":4284},null,{"$f":"SISWA!E49","v":"MUHAMMAD RAYA KAFAF JAUHARI"},{"$f":"SISWA!I49","v":"L"},{"$f":"SISWA!F49","v":"LUMAJANG"},{"$f":"SISWA!G49","v":"2006-09-06"},{"$f":"AH!O49","v":71.900000000000006},{"$f":"AA!$O49","v":79.900000000000006},{"$f":"FQ!$O49","v":72.400000000000006},{"$f":"SKI!$O49","v":71.900000000000006},{"$f":"BA!$O49","v":71},73.42,{"$f":"PKn!$O49","v":74.833333333333329},{"$f":"BID!$O49","v":70.95},{"$f":"MTK!$O49","v":68.49666666666667},{"$f":"IPA!$O49","v":63.819999999999993},{"$f":"IPS!$O49","v":74.333333333333329},{"$f":"SBK!$O49","v":76.166666666666671},{"$f":"PJK!$O49","v":78.666666666666671},{"$f":"BD!$O49","v":74.5},{"$f":"BIG!$O49","v":70},1092.2866666666669,72.819111111111127,"BAIK",null,"LUMAJANG, 06 September 2006",null,null,"LUMAJANG,06-09-2006"]
[43,{"$f":"SISWA!B50","v":4290},null,{"$f":"SISWA!E50","v":"QORIATUN SHOLIHAH"},{"$f":"SISWA!I50","v":"P"},{"$f":"SISWA!F50","v":"LUMAJANG"},{"$f":"SISWA!G50","v":"2006-05-04"},{"$f":"AH!O50","v":72.8},{"$f":"AA!$O50","v":73.400000000000006},{"$f":"FQ!$O50","v":72.099999999999994},{"$f":"SKI!$O50","v":72.8},{"$f":"BA!$O50","v":71.900000000000006},72.599999999999994,{"$f":"PKn!$O50","v":75.333333333333329},{"$f":"BID!$O50","v":73.953333333333333},{"$f":"MTK!$O50","v":67.608333333333334},{"$f":"IPA!$O50","v":57.995000000000005},{"$f":"IPS!$O50","v":76.833333333333329},{"$f":"SBK!$O50","v":75.666666666666671},{"$f":"PJK!$O50","v":78.333333333333329},{"$f":"BD!$O50","v":74.5},{"$f":"BIG!$O50","v":68.3},1084.1233333333334,72.274888888888896,"BAIK",null,"LUMAJANG, 04 Mei 2006",null,null,"LUMAJANG,04-05-2006"]
[44,{"$f":"SISWA!B51","v":4319},null,{"$f":"SISWA!E51","v":"MUHAMMAD RUDI TANTOWIK"},{"$f":"SISWA!I51","v":"L"},{"$f":"SISWA!F51","v":"LUMAJANG"},{"$f":"SISWA!G51","v":"2006-09-09"},{"$f":"AH!O51","v":68.3},{"$f":"AA!$O51","v":67.599999999999994},{"$f":"FQ!$O51","v":68.599999999999994},{"$f":"SKI!$O51","v":68.7},{"$f":"BA!$O51","v":68.400000000000006},68.320000000000007,{"$f":"PKn!$O51","v":72.5},{"$f":"BID!$O51","v":63.308333333333337},{"$f":"MTK!$O51","v":67.773333333333326},{"$f":"IPA!$O51","v":61.185000000000002},{"$f":"IPS!$O51","v":71.166666666666671},{"$f":"SBK!$O51","v":74},{"$f":"PJK!$O51","v":80.166666666666671},{"$f":"BD!$O51","v":68.166666666666671},{"$f":"BIG!$O51","v":77.8},1045.9866666666667,69.73244444444444,"BAIK",null,"LUMAJANG, 09 September 2006",null,null,"LUMAJANG,09-09-2006"]
[45,{"$f":"SISWA!B52","v":4291},null,{"$f":"SISWA!E52","v":"RACHMAD HIDAYAT"},{"$f":"SISWA!I52","v":"L"},{"$f":"SISWA!F52","v":"LUMAJANG"},{"$f":"SISWA!G52","v":"2006-08-27"},{"$f":"AH!O52","v":71.3},{"$f":"AA!$O52","v":78.099999999999994},{"$f":"FQ!$O52","v":71.099999999999994},{"$f":"SKI!$O52","v":74.545000000000002},{"$f":"BA!$O52","v":69.3},72.869,{"$f":"PKn!$O52","v":74.166666666666671},{"$f":"BID!$O52","v":68.814999999999998},{"$f":"MTK!$O52","v":66.99666666666667},{"$f":"IPA!$O52","v":53.675000000000004},{"$f":"IPS!$O52","v":75.5},{"$f":"SBK!$O52","v":75},{"$f":"PJK!$O52","v":79.333333333333329},{"$f":"BD!$O52","v":74.166666666666671},{"$f":"BIG!$O52","v":73.8},1078.6673333333333,71.911155555555553,"BAIK",null,"LUMAJANG, 27 Agustus 2006",null,null,"LUMAJANG,27-08-2006"]
[46,{"$f":"SISWA!B53","v":4322},null,{"$f":"SISWA!E53","v":"MUHAMMAD ZULDIENUR HABIBIE"},{"$f":"SISWA!I53","v":"L"},{"$f":"SISWA!F53","v":"LUMAJANG"},{"$f":"SISWA!G53","v":"2005-11-30"},{"$f":"AH!O53","v":68.2},{"$f":"AA!$O53","v":78.5},{"$f":"FQ!$O53","v":67.8},{"$f":"SKI!$O53","v":70.805000000000007},{"$f":"BA!$O53","v":68.7},70.801000000000002,{"$f":"PKn!$O53","v":70.666666666666671},{"$f":"BID!$O53","v":64.734999999999999},{"$f":"MTK!$O53","v":60.72},{"$f":"IPA!$O53","v":45.685000000000002},{"$f":"IPS!$O53","v":71.166666666666671},{"$f":"SBK!$O53","v":71.833333333333329},{"$f":"PJK!$O53","v":75.333333333333329},{"$f":"BD!$O53","v":69.166666666666671},{"$f":"BIG!$O53","v":75.5},1029.6126666666667,68.64084444444444,"BAIK",null,"LUMAJANG, 30 November 2005"]
[47,{"$f":"SISWA!B54","v":4292},null,{"$f":"SISWA!E54","v":"RHEA RAYSHANADA NUGRAHA"},{"$f":"SISWA!I54","v":"P"},{"$f":"SISWA!F54","v":"SURABAYA"},{"$f":"SISWA!G54","v":"2007-02-06"},{"$f":"AH!O54","v":74.599999999999994},{"$f":"AA!$O54","v":76.5},{"$f":"FQ!$O54","v":72.8},{"$f":"SKI!$O54","v":83.65},{"$f":"BA!$O54","v":71.099999999999994},75.72999999999999,{"$f":"PKn!$O54","v":76.166666666666671},{"$f":"BID!$O54","v":75.454999999999998},{"$f":"MTK!$O54","v":71.441666666666663},{"$f":"IPA!$O54","v":64.38},{"$f":"IPS!$O54","v":76.5},{"$f":"SBK!$O54","v":76.666666666666671},{"$f":"PJK!$O54","v":80},{"$f":"BD!$O54","v":75},{"$f":"BIG!$O54","v":70.400000000000006},1120.3900000000001,74.692666666666668,"BAIK",null,"SURABAYA, 06 Februari 2007"]
[48,{"$f":"SISWA!B55","v":4323},null,{"$f":"SISWA!E55","v":"MUKHAMAD KHOIRUL AMIN"},{"$f":"SISWA!I55","v":"L"},{"$f":"SISWA!F55","v":"LUMAJANG"},{"$f":"SISWA!G55","v":"2007-05-02"},{"$f":"AH!O55","v":69.5},{"$f":"AA!$O55","v":69.3},{"$f":"FQ!$O55","v":68.400000000000006},{"$f":"SKI!$O55","v":69.5},{"$f":"BA!$O55","v":69.2},69.180000000000007,{"$f":"PKn!$O55","v":71.166666666666671},{"$f":"BID!$O55","v":64.061666666666667},{"$f":"MTK!$O55","v":63.774999999999999},{"$f":"IPA!$O55","v":57.585000000000001},{"$f":"IPS!$O55","v":71.666666666666671},{"$f":"SBK!$O55","v":72.333333333333329},{"$f":"PJK!$O55","v":75.833333333333329},{"$f":"BD!$O55","v":69.333333333333329},{"$f":"BIG!$O55","v":74.099999999999994},1034.9350000000002,68.995666666666679,"BAIK",null,"LUMAJANG, 02 Mei 2007"]
[49,{"$f":"SISWA!B56","v":4293},null,{"$f":"SISWA!E56","v":"RIYANTI APRILIA"},{"$f":"SISWA!I56","v":"P"},{"$f":"SISWA!F56","v":"LUMAJANG"},{"$f":"SISWA!G56","v":"2006-04-26"},{"$f":"AH!O56","v":73.599999999999994},{"$f":"AA!$O56","v":73.900000000000006},{"$f":"FQ!$O56","v":74.099999999999994},{"$f":"SKI!$O56","v":72.3},{"$f":"BA!$O56","v":72.2},73.22,{"$f":"PKn!$O56","v":76.166666666666671},{"$f":"BID!$O56","v":74.026666666666657},{"$f":"MTK!$O56","v":68.5},{"$f":"IPA!$O56","v":54.984999999999999},{"$f":"IPS!$O56","v":75},{"$f":"SBK!$O56","v":77.833333333333329},{"$f":"PJK!$O56","v":78.166666666666671},{"$f":"BD!$O56","v":75.833333333333329},{"$f":"BIG!$O56","v":71.2},1091.0316666666665,72.73544444444444,"BAIK",null,"LUMAJANG, 26 April 2006"]
[50,{"$f":"SISWA!B57","v":"4256"},null,{"$f":"SISWA!E57","v":"MUKHAMMAD YAASIIN HASAN KHASBULLOH"},{"$f":"SISWA!I57","v":"L"},{"$f":"SISWA!F57","v":"LUMAJANG"},{"$f":"SISWA!G57","v":"2006-01-19"},{"$f":"AH!O57","v":72.405000000000001},{"$f":"AA!$O57","v":73.3},{"$f":"FQ!$O57","v":71.099999999999994},{"$f":"SKI!$O57","v":71.3},{"$f":"BA!$O57","v":70.7},71.760999999999996,{"$f":"PKn!$O57","v":73.833333333333329},{"$f":"BID!$O57","v":69.821666666666673},{"$f":"MTK!$O57","v":66.663333333333341},{"$f":"IPA!$O57","v":55.105000000000004},{"$f":"IPS!$O57","v":72.333333333333329},{"$f":"SBK!$O57","v":73.5},{"$f":"PJK!$O57","v":76.5},{"$f":"BD!$O57","v":70.333333333333329},{"$f":"BIG!$O57","v":76.2},1064.856,70.990399999999994,"BAIK",null,"LUMAJANG, 19 Januari 2006"]
[51,{"$f":"SISWA!B58","v":4295},null,{"$f":"SISWA!E58","v":"SHONIA AULIA AS'AD"},{"$f":"SISWA!I58","v":"P"},{"$f":"SISWA!F58","v":"LUMAJANG"},{"$f":"SISWA!G58","v":"2006-09-01"},{"$f":"AH!O58","v":77},{"$f":"AA!$O58","v":76.7},{"$f":"FQ!$O58","v":76.3},{"$f":"SKI!$O58","v":77.5},{"$f":"BA!$O58","v":75.5},76.599999999999994,{"$f":"PKn!$O58","v":81.666666666666671},{"$f":"BID!$O58","v":84.103333333333339},{"$f":"MTK!$O58","v":80.943333333333328},{"$f":"IPA!$O58","v":80.8},{"$f":"IPS!$O58","v":81.666666666666671},{"$f":"SBK!$O58","v":80.666666666666671},{"$f":"PJK!$O58","v":78.666666666666671},{"$f":"BD!$O58","v":79.666666666666671},{"$f":"BIG!$O58","v":74.599999999999994},1182.3799999999999,78.825333333333319,"BAIK",null,"LUMAJANG, 01 September 2006"]
[52,{"$f":"SISWA!B59","v":4294},null,{"$f":"SISWA!E59","v":"RIZKA AYU WULANDARI"},{"$f":"SISWA!I59","v":"P"},{"$f":"SISWA!F59","v":"BANYUWANGI"},{"$f":"SISWA!G59","v":"2006-05-23"},{"$f":"AH!O59","v":71.5},{"$f":"AA!$O59","v":76},{"$f":"FQ!$O59","v":70.900000000000006},{"$f":"SKI!$O59","v":71.844999999999999},{"$f":"BA!$O59","v":69.7},71.989000000000004,{"$f":"PKn!$O59","v":76.5},{"$f":"BID!$O59","v":70.114999999999995},{"$f":"MTK!$O59","v":65.608333333333334},{"$f":"IPA!$O59","v":52.875},{"$f":"IPS!$O59","v":75.666666666666671},{"$f":"SBK!$O59","v":74.833333333333329},{"$f":"PJK!$O59","v":78},{"$f":"BD!$O59","v":72.5},{"$f":"BIG!$O59","v":72.5},1070.5323333333333,71.368822222222221,"BAIK",null,"BANYUWANGI, 23 Mei 2006"]
[53,{"$f":"SISWA!B60","v":4298},null,{"$f":"SISWA!E60","v":"VERLINA DWI MAULANI"},{"$f":"SISWA!I60","v":"P"},{"$f":"SISWA!F60","v":"LUMAJANG"},{"$f":"SISWA!G60","v":"2006-04-22"},{"$f":"AH!O60","v":72.900000000000006},{"$f":"AA!$O60","v":73},{"$f":"FQ!$O60","v":73},{"$f":"SKI!$O60","v":72.599999999999994},{"$f":"BA!$O60","v":71.599999999999994},72.62,{"$f":"PKn!$O60","v":78},{"$f":"BID!$O60","v":73.155000000000001},{"$f":"MTK!$O60","v":66.94},{"$f":"IPA!$O60","v":55.69},{"$f":"IPS!$O60","v":78.666666666666671},{"$f":"SBK!$O60","v":76.333333333333329},{"$f":"PJK!$O60","v":79.5},{"$f":"BD!$O60","v":73.666666666666671},{"$f":"BIG!$O60","v":70.5},1088.1716666666666,72.544777777777782,"BAIK",null,"LUMAJANG, 22 April 2006"]
[54,{"$f":"SISWA!B61","v":4297},null,{"$f":"SISWA!E61","v":"USWATUN KHASANAH"},{"$f":"SISWA!I61","v":"P"},{"$f":"SISWA!F61","v":"LUMAJANG"},{"$f":"SISWA!G61","v":"2006-12-19"},{"$f":"AH!O61","v":71.400000000000006},{"$f":"AA!$O61","v":70.3},{"$f":"FQ!$O61","v":70.900000000000006},{"$f":"SKI!$O61","v":87.055000000000007},{"$f":"BA!$O61","v":70.099999999999994},73.950999999999993,{"$f":"PKn!$O61","v":77.5},{"$f":"BID!$O61","v":71.98833333333333},{"$f":"MTK!$O61","v":63.49666666666667},{"$f":"IPA!$O61","v":56.31},{"$f":"IPS!$O61","v":72.333333333333329},{"$f":"SBK!$O61","v":75},{"$f":"PJK!$O61","v":77.333333333333329},{"$f":"BD!$O61","v":71.833333333333329},{"$f":"BIG!$O61","v":70.900000000000006},{"$f":"SUM(H62:V62)","v":1080.4010000000001},{"$f":"IFERROR(AVERAGE(H62:V62),\"\")","v":72.02673333333334},"BAIK",null,"LUMAJANG, 19 Desember 2006"]
[55,{"$f":"SISWA!B62","v":4324},null,{"$f":"SISWA!E62","v":"VIKA KUSUMA WATI"},{"$f":"SISWA!I62","v":"P"},{"$f":"SISWA!F62","v":"LUMAJANG"},{"$f":"SISWA!G62","v":"2007-05-03"},{"$f":"AH!O62","v":71.7},{"$f":"AA!$O62","v":71.099999999999994},{"$f":"FQ!$O62","v":73.3},{"$f":"SKI!$O62","v":72.900000000000006},{"$f":"BA!$O62","v":73.5},{"$f":"AVERAGE(H63:L63)","v":72.5},{"$f":"PKn!$O62","v":81.166666666666671},{"$f":"BID!$O62","v":75.36666666666666},{"$f":"MTK!$O62","v":67.88666666666667},{"$f":"IPA!$O62","v":73.89},{"$f":"IPS!$O62","v":75},{"$f":"SBK!$O62","v":76.333333333333329},{"$f":"PJK!$O62","v":77.666666666666671},{"$f":"BD!$O62","v":74.5},{"$f":"BIG!$O62","v":72.8},1109.6099999999999,73.97399999999999,"BAIK",null,"LUMAJANG, 03 Mei 2007"]
[56,{"$f":"SISWA!B63","v":4326},null,{"$f":"SISWA!E63","v":"YOHAN EGA GILANG PERMANA"},{"$f":"SISWA!I63","v":"L"},{"$f":"SISWA!F63","v":"LUMAJANG"},{"$f":"SISWA!G63","v":"2006-11-24"},{"$f":"AH!O63","v":69.625},{"$f":"AA!$O63","v":69.625},{"$f":"FQ!$O63","v":69.625},{"$f":"SKI!$O63","v":70},{"$f":"BA!$O63","v":68.625},69.5,{"$f":"PKn!$O63","v":77.8},{"$f":"BID!$O63","v":67.585999999999999},{"$f":"MTK!$O63","v":62.398000000000003},{"$f":"IPA!$O63","v":54.625},{"$f":"IPS!$O63","v":70},{"$f":"SBK!$O63","v":73.400000000000006},{"$f":"PJK!$O63","v":76.2},{"$f":"BD!$O63","v":71.8},{"$f":"BIG!$O63","v":69.375},1040.184,69.345600000000005,"BAIK",null,"LUMAJANG, 24 November 2006"]
[57,null,null,null,null,null,null,null,null,null,null,null,null,null,null,null,null,null,null,null,null,null,null,null,null,null,", 00 Januari 1900"]
[null,null,null,null,null,null,null,null,null,null,null,null,null,null,null,null,null,null,null,null,null,null,null,{"$f":"IFERROR(AVERAGE(H66:V66),\"\")","v":""},null,null,"TGL KIRIM"]
[null,null,null,null,null,null,null,null,null,null,null,null,null,null,null,null,null,null,null,{"$f":"SISWA!I69","v":0},null,null,null,null,null,null,"Sumbersuko, 29 Januari 2014"]
[null,null,null,null,null,null,null,null,null,null,null,null,null,null,null,null,null,null,null,"Kepala Madrasah"]
[null,null,null,null,null,null,null,null,null,null,null,null,null,null,null,null,null,null,null,"MIS. Nurul Islam Labruk Kidul"]
[]
[]
[null,null,null,null,null,null,null,null,null,null,null,null,null,null,null,null,null,null,null,"SAHRONI,S.Pd.I"]

{"sheet":"UAMNUCATAT","index":22,"n_rows":60,"n_cols":41,"rows_kept":60,"cut":false,"hidden":false,"merged":[[1,13,1,15],[1,5,1,7],[1,21,1,23],[32,5,32,7],[32,13,32,15],[32,21,32,23],[54,2,54,3],[54,10,54,11],[54,18,54,19],[58,0,58,4],[58,8,58,12],[58,16,58,20],[37,0,38,6],[37,8,38,14],[37,16,38,22],[39,1,39,4],[39,9,39,12],[39,17,39,20],[27,0,27,4],[27,8,27,12],[27,16,27,20],[23,2,23,3],[23,10,23,11],[23,18,23,19],[12,24,13,24],[8,24,9,24],[10,24,11,24],[8,1,8,4],[8,9,8,12],[8,17,8,20],[2,24,3,24],[4,24,5,24],[6,0,7,6],[6,8,7,14],[6,16,7,22],[6,24,7,24]]}
[{"$f":"Y3","v":49},null,null,null,null,null,null,null,{"$f":"Y5","v":50},null,null,null,null,null,null,null,{"$f":"Y7","v":51},null,null,null,null,null,null,null,null,null,null,null,null,null,null,null,null,null,null,null,null,null,null,null,64]
["nama ",null,null,null,":",{"$f":"VLOOKUP(Y3,DAKOLUN!A9:'DAKOLUN'!G208,5,0)","v":"RIYANTI APRILIA"},null,null,"nama ",null,null,null,":",{"$f":"VLOOKUP(Y5,DAKOLUN!A9:'DAKOLUN'!G208,5,0)","v":"MUKHAMMAD YAASIIN HASAN KHASBULLOH"},null,null,"nama ",null,null,null,":",{"$f":"VLOOKUP(Y7,DAKOLUN!A9:'DAKOLUN'!G208,5,0)","v":"SHONIA AULIA AS'AD"},null,null,"NO ABSEN",null,null,null,null,null,null,null,null,null,null,null,null,null,null,null,65]
["tempat dan tanggal lahir ",null,null,null,":",{"$f":"VLOOKUP(Y3,DAKOLUN!A9:'DAKOLUN'!G208,6,0)","v":"LUMAJANG, 26 April 2006"},null,null,"tempat dan tanggal lahir ",null,null,null,":",{"$f":"VLOOKUP(Y5,DAKOLUN!A9:'DAKOLUN'!G208,6,0)","v":"LUMAJANG, 19 Januari 2006"},null,null,"tempat dan tanggal lahir ",null,null,null,":",{"$f":"VLOOKUP(Y7,DAKOLUN!A9:'DAKOLUN'!G208,6,0)","v":"LUMAJANG, 01 September 2006"},null,null,49]
["nomor induk ",null,null,null,":",{"$f":"VLOOKUP(Y3,DAKOLUN!A9:'DAKOLUN'!G208,2,0)","v":4293},null,null,"nomor induk ",null,null,null,":",{"$f":"VLOOKUP(Y5,DAKOLUN!A9:'DAKOLUN'!G208,2,0)","v":"4256"},null,null,"nomor induk ",null,null,null,":",{"$f":"VLOOKUP(Y7,DAKOLUN!A9:'DAKOLUN'!G208,2,0)","v":4295}]
["nomor induk siswa nasional ",null,null,null,":",{"$f":"VLOOKUP(Y3,DAKOLUN!A9:'DAKOLUN'!G208,3,0)","v":"0064217705"},null,null,"nomor induk siswa nasional ",null,null,null,":",{"$f":"VLOOKUP(Y5,DAKOLUN!A9:'DAKOLUN'!G208,3,0)","v":"0065699742"},null,null,"nomor induk siswa nasional ",null,null,null,":",{"$f":"VLOOKUP(Y7,DAKOLUN!A9:'DAKOLUN'!G208,3,0)","v":"0061359184"},null,null,{"$f":"Y3+1","v":50}]
[]
["telah memenuhi penilaian akhir dan mengikuti ujian sekolah berdasarkan Peraturan Menteri Pendidikan dan Kebudayaan Nomor 102 Tahun 2013 dengan hasil sebagai berikut :",null,null,null,null,null,null,null,"telah memenuhi penilaian akhir dan mengikuti ujian sekolah berdasarkan Peraturan Menteri Pendidikan dan Kebudayaan Nomor 102 Tahun 2013 dengan hasil sebagai berikut :",null,null,null,null,null,null,null,"telah memenuhi penilaian akhir dan mengikuti ujian sekolah berdasarkan Peraturan Menteri Pendidikan dan Kebudayaan Nomor 102 Tahun 2013 dengan hasil sebagai berikut :",null,null,null,null,null,null,null,{"$f":"Y5+1","v":51}]
[]
["No","Mata Pelajaran",null,null,null,"Nilai Rata-rata Rapor","Nilai UJIAN MAARIF ')",null,"No","Mata Pelajaran",null,null,null,"Nilai Rata-rata Rapor","Nilai UJIAN MAARIF ')",null,"No","Mata Pelajaran",null,null,null,"Nilai Rata-rata Rapor","Nilai UJIAN MAARIF ')",null,{"$f":"Y7+1","v":52}]
["A",null,"Ujian Sekolah",null,null,null,null,null,"A",null,"Ujian Sekolah",null,null,null,null,null,"A",null,"Ujian Sekolah"]
[null,"1.","Pendidikan Agama",null,null,{"$f":"VLOOKUP($Y$3,DAKOLUN!$A$9:'DAKOLUN'!$BK$208,8,0)","v":{"$error":"#REF!"}},{"$f":"VLOOKUP($Y$3,DAKOLUN!$A$9:'DAKOLUN'!$BK$208,10,0)","v":{"$error":"#REF!"}},null,null,"1.","Pendidikan Agama",null,null,{"$f":"VLOOKUP($Y$5,DAKOLUN!$A$9:'DAKOLUN'!$BK$208,8,0)","v":{"$error":"#REF!"}},{"$f":"VLOOKUP($Y$5,DAKOLUN!$A$9:'DAKOLUN'!$BK$208,10,0)","v":{"$error":"#REF!"}},null,null,"1.","Pendidikan Agama",null,null,{"$f":"VLOOKUP($Y$7,DAKOLUN!$A$9:'DAKOLUN'!$BK$208,8,0)","v":{"$error":"#REF!"}},{"$f":"VLOOKUP($Y$7,DAKOLUN!$A$9:'DAKOLUN'!$BK$208,10,0)","v":{"$error":"#REF!"}},null,{"$f":"Y9+1","v":53}]
[null,null,"a. Al Quran Hadits",null,null,{"$f":"VLOOKUP($Y$3,DAKOLUN!$A$9:'DAKOLUN'!$CH$208,14,0)","v":82.2},{"$f":"IF(VLOOKUP($Y$3,UAMNU!$A$9:$Y$65,8,0)<60,60,VLOOKUP($Y$3,UAMNU!$A$9:$Y$65,8,0))","v":73.599999999999994},null,null,null,"a. Al Quran Hadits",null,null,{"$f":"VLOOKUP($Y$5,DAKOLUN!$A$9:'DAKOLUN'!$CH$208,14,0)","v":74},{"$f":"IF(VLOOKUP($Y$5,UAMNU!$A$9:$Y$65,8,0)<60,60,VLOOKUP($Y$5,UAMNU!$A$9:$Y$65,8,0))","v":72.405000000000001},null,null,null,"a. Al Quran Hadits",null,null,{"$f":"VLOOKUP($Y$7,DAKOLUN!$A$9:'DAKOLUN'!$CH$208,14,0)","v":89},{"$f":"IF(VLOOKUP($Y$7,UAMNU!$A$9:$Y$65,8,0)<60,60,VLOOKUP($Y$7,UAMNU!$A$9:$Y$65,8,0))","v":77}]
[null,null,"b. Aqidah Akhlak",null,null,{"$f":"VLOOKUP($Y$3,DAKOLUN!$A$9:'DAKOLUN'!$CH$208,11,0)","v":82.8},{"$f":"IF(VLOOKUP($Y$3,UAMNU!$A$9:$Y$65,9,0)<60,60,VLOOKUP($Y$3,UAMNU!$A$9:$Y$65,9,0))","v":73.900000000000006},null,null,null,"b. Aqidah Akhlak",null,null,{"$f":"VLOOKUP($Y$5,DAKOLUN!$A$9:'DAKOLUN'!$CH$208,11,0)","v":75.599999999999994},{"$f":"IF(VLOOKUP($Y$5,UAMNU!$A$9:$Y$65,9,0)<60,60,VLOOKUP($Y$5,UAMNU!$A$9:$Y$65,9,0))","v":73.3},null,null,null,"b. Aqidah Akhlak",null,null,{"$f":"VLOOKUP($Y$7,DAKOLUN!$A$9:'DAKOLUN'!$CH$208,11,0)","v":88.4},{"$f":"IF(VLOOKUP($Y$7,UAMNU!$A$9:$Y$65,9,0)<60,60,VLOOKUP($Y$7,UAMNU!$A$9:$Y$65,9,0))","v":76.7},null,{"$f":"Y11+1","v":54}]
[null,null,"c. Fiqih",null,null,{"$f":"VLOOKUP($Y$3,DAKOLUN!$A$9:'DAKOLUN'!$CH$208,17,0)","v":83.2},{"$f":"IF(VLOOKUP($Y$3,UAMNU!$A$9:$Y$65,10,0)<60,60,VLOOKUP($Y$3,UAMNU!$A$9:$Y$65,10,0))","v":74.099999999999994},null,null,null,"c. Fiqih",null,null,{"$f":"VLOOKUP($Y$5,DAKOLUN!$A$9:'DAKOLUN'!$CH$208,17,0)","v":77.2},{"$f":"IF(VLOOKUP($Y$5,UAMNU!$A$9:$Y$65,10,0)<60,60,VLOOKUP($Y$5,UAMNU!$A$9:$Y$65,10,0))","v":71.099999999999994},null,null,null,"c. Fiqih",null,null,{"$f":"VLOOKUP($Y$7,DAKOLUN!$A$9:'DAKOLUN'!$CH$208,17,0)","v":87.6},{"$f":"IF(VLOOKUP($Y$7,UAMNU!$A$9:$Y$65,10,0)<60,60,VLOOKUP($Y$7,UAMNU!$A$9:$Y$65,10,0))","v":76.3}]
[null,null,"d. Sejarah Kebudayaan Islam",null,null,{"$f":"VLOOKUP($Y$3,DAKOLUN!$A$9:'DAKOLUN'!$CH$208,20,0)","v":79.599999999999994},{"$f":"IF(VLOOKUP($Y$3,UAMNU!$A$9:$Y$65,11,0)<60,60,VLOOKUP($Y$3,UAMNU!$A$9:$Y$65,11,0))","v":72.3},null,null,null,"d. Sejarah Kebudayaan Islam",null,null,{"$f":"VLOOKUP($Y$5,DAKOLUN!$A$9:'DAKOLUN'!$CH$208,20,0)","v":77.599999999999994},{"$f":"IF(VLOOKUP($Y$5,UAMNU!$A$9:$Y$65,11,0)<60,60,VLOOKUP($Y$5,UAMNU!$A$9:$Y$65,11,0))","v":71.3},null,null,null,"d. Sejarah Kebudayaan Islam",null,null,{"$f":"VLOOKUP($Y$7,DAKOLUN!$A$9:'DAKOLUN'!$CH$208,20,0)","v":90},{"$f":"IF(VLOOKUP($Y$7,UAMNU!$A$9:$Y$65,11,0)<60,60,VLOOKUP($Y$7,UAMNU!$A$9:$Y$65,11,0))","v":77.5}]
[null,null,"e. Bahasa Arab",null,null,{"$f":"VLOOKUP($Y$3,DAKOLUN!$A$9:'DAKOLUN'!$CH$208,29,0)","v":79.400000000000006},{"$f":"IF(VLOOKUP($Y$3,UAMNU!$A$9:$Y$65,12,0)<60,60,VLOOKUP($Y$3,UAMNU!$A$9:$Y$65,12,0))","v":72.2},null,null,null,"e. Bahasa Arab",null,null,{"$f":"VLOOKUP($Y$5,DAKOLUN!$A$9:'DAKOLUN'!$CH$208,29,0)","v":76.400000000000006},{"$f":"IF(VLOOKUP($Y$5,UAMNU!$A$9:$Y$65,12,0)<60,60,VLOOKUP($Y$5,UAMNU!$A$9:$Y$65,12,0))","v":70.7},null,null,null,"e. Bahasa Arab",null,null,{"$f":"VLOOKUP($Y$7,DAKOLUN!$A$9:'DAKOLUN'!$CH$208,29,0)","v":86},{"$f":"IF(VLOOKUP($Y$7,UAMNU!$A$9:$Y$65,12,0)<60,60,VLOOKUP($Y$7,UAMNU!$A$9:$Y$65,12,0))","v":75.5}]
[null,null,"f. Aswaja",null,null,{"$f":"F15","v":79.599999999999994},{"$f":"IF(VLOOKUP($Y$3,UAMNU!$A$9:$Y$65,13,0)<60,60,VLOOKUP($Y$3,UAMNU!$A$9:$Y$65,13,0))","v":73.22},null,null,null,"f. Aswaja",null,null,{"$f":"N15","v":77.599999999999994},{"$f":"IF(VLOOKUP($Y$5,UAMNU!$A$9:$Y$65,13,0)<60,60,VLOOKUP($Y$5,UAMNU!$A$9:$Y$65,13,0))","v":71.760999999999996},null,null,null,"f. Aswaja",null,null,{"$f":"V15","v":90},{"$f":"IF(VLOOKUP($Y$7,UAMNU!$A$9:$Y$65,13,0)<60,60,VLOOKUP($Y$7,UAMNU!$A$9:$Y$65,13,0))","v":76.599999999999994}]
[null,"2.","Pendidikan Kewarganegaraan",null,null,{"$f":"VLOOKUP($Y$3,DAKOLUN!$A$9:'DAKOLUN'!$CH$208,23,0)","v":78.400000000000006},{"$f":"IF(VLOOKUP($Y$3,UAMNU!$A$9:$Y$65,14,0)<60,60,VLOOKUP($Y$3,UAMNU!$A$9:$Y$65,14,0))","v":76.166666666666671},null,null,"2.","Pendidikan Kewarganegaraan",null,null,{"$f":"VLOOKUP($Y$5,DAKOLUN!$A$9:'DAKOLUN'!$CH$208,23,0)","v":74.599999999999994},{"$f":"IF(VLOOKUP($Y$5,UAMNU!$A$9:$Y$65,14,0)<60,60,VLOOKUP($Y$5,UAMNU!$A$9:$Y$65,14,0))","v":73.833333333333329},null,null,"2.","Pendidikan Kewarganegaraan",null,null,{"$f":"VLOOKUP($Y$7,DAKOLUN!$A$9:'DAKOLUN'!$CH$208,23,0)","v":85},{"$f":"IF(VLOOKUP($Y$7,UAMNU!$A$9:$Y$65,14,0)<60,60,VLOOKUP($Y$7,UAMNU!$A$9:$Y$65,14,0))","v":81.666666666666671}]
[null,"3.","Bahasa Indonesia",null,null,{"$f":"VLOOKUP($Y$3,DAKOLUN!$A$9:'DAKOLUN'!$CH$208,68,0)","v":73.192000000000007},{"$f":"IF(VLOOKUP($Y$3,UAMNU!$A$9:$Y$65,15,0)<60,60,VLOOKUP($Y$3,UAMNU!$A$9:$Y$65,15,0))","v":74.026666666666657},null,null,"3.","Bahasa Indonesia",null,null,{"$f":"VLOOKUP($Y$5,DAKOLUN!$A$9:'DAKOLUN'!$CH$208,68,0)","v":69.066000000000003},{"$f":"IF(VLOOKUP($Y$5,UAMNU!$A$9:$Y$65,15,0)<60,60,VLOOKUP($Y$5,UAMNU!$A$9:$Y$65,15,0))","v":69.821666666666673},null,null,"3.","Bahasa Indonesia",null,null,{"$f":"VLOOKUP($Y$7,DAKOLUN!$A$9:'DAKOLUN'!$CH$208,68,0)","v":84.403999999999996},{"$f":"IF(VLOOKUP($Y$7,UAMNU!$A$9:$Y$65,15,0)<60,60,VLOOKUP($Y$7,UAMNU!$A$9:$Y$65,15,0))","v":84.103333333333339}]
[null,5,"Matematika",null,null,{"$f":"VLOOKUP($Y$3,DAKOLUN!$A$9:'DAKOLUN'!$CH$208,71,0)","v":58.84},{"$f":"IF(VLOOKUP($Y$3,UAMNU!$A$9:$Y$65,16,0)<60,60,VLOOKUP($Y$3,UAMNU!$A$9:$Y$65,16,0))","v":68.5},null,null,5,"Matematika",null,null,{"$f":"VLOOKUP($Y$5,DAKOLUN!$A$9:'DAKOLUN'!$CH$208,71,0)","v":55.271999999999998},{"$f":"IF(VLOOKUP($Y$5,UAMNU!$A$9:$Y$65,16,0)<60,60,VLOOKUP($Y$5,UAMNU!$A$9:$Y$65,16,0))","v":66.663333333333341},null,null,5,"Matematika",null,null,{"$f":"VLOOKUP($Y$7,DAKOLUN!$A$9:'DAKOLUN'!$CH$208,71,0)","v":77.784000000000006},{"$f":"IF(VLOOKUP($Y$7,UAMNU!$A$9:$Y$65,16,0)<60,60,VLOOKUP($Y$7,UAMNU!$A$9:$Y$65,16,0))","v":80.943333333333328}]
[null,6,"Ilmu Pengetahuan Alam",null,null,{"$f":"VLOOKUP($Y$3,DAKOLUN!$A$9:'DAKOLUN'!$CH$208,74,0)","v":68.793999999999997},{"$f":"IF(VLOOKUP($Y$3,UAMNU!$A$9:$Y$65,17,0)<60,60,VLOOKUP($Y$3,UAMNU!$A$9:$Y$65,17,0))","v":60},null,null,6,"Ilmu Pengetahuan Alam",null,null,{"$f":"VLOOKUP($Y$5,DAKOLUN!$A$9:'DAKOLUN'!$CH$208,74,0)","v":67.162000000000006},{"$f":"IF(VLOOKUP($Y$5,UAMNU!$A$9:$Y$65,17,0)<60,60,VLOOKUP($Y$5,UAMNU!$A$9:$Y$65,17,0))","v":60},null,null,6,"Ilmu Pengetahuan Alam",null,null,{"$f":"VLOOKUP($Y$7,DAKOLUN!$A$9:'DAKOLUN'!$CH$208,74,0)","v":83.08},{"$f":"IF(VLOOKUP($Y$7,UAMNU!$A$9:$Y$65,17,0)<60,60,VLOOKUP($Y$7,UAMNU!$A$9:$Y$65,17,0))","v":80.8}]
[null,7,"Ilmu Pengetahuan Sosial",null,null,{"$f":"VLOOKUP($Y$3,DAKOLUN!$A$9:'DAKOLUN'!$CH$208,38,0)","v":77},{"$f":"IF(VLOOKUP($Y$3,UAMNU!$A$9:$Y$65,18,0)<60,60,VLOOKUP($Y$3,UAMNU!$A$9:$Y$65,18,0))","v":75},null,null,7,"Ilmu Pengetahuan Sosial",null,null,{"$f":"VLOOKUP($Y$5,DAKOLUN!$A$9:'DAKOLUN'!$CH$208,38,0)","v":73.8},{"$f":"IF(VLOOKUP($Y$5,UAMNU!$A$9:$Y$65,18,0)<60,60,VLOOKUP($Y$5,UAMNU!$A$9:$Y$65,18,0))","v":72.333333333333329},null,null,7,"Ilmu Pengetahuan Sosial",null,null,{"$f":"VLOOKUP($Y$7,DAKOLUN!$A$9:'DAKOLUN'!$CH$208,38,0)","v":85},{"$f":"IF(VLOOKUP($Y$7,UAMNU!$A$9:$Y$65,18,0)<60,60,VLOOKUP($Y$7,UAMNU!$A$9:$Y$65,18,0))","v":81.666666666666671}]
[null,8,"Seni Budaya dan Keterampilan",null,null,{"$f":"VLOOKUP($Y$3,DAKOLUN!$A$9:'DAKOLUN'!$CH$208,41,0)","v":80.400000000000006},{"$f":"IF(VLOOKUP($Y$3,UAMNU!$A$9:$Y$65,19,0)<60,60,VLOOKUP($Y$3,UAMNU!$A$9:$Y$65,19,0))","v":77.833333333333329},null,null,8,"Seni Budaya dan Keterampilan",null,null,{"$f":"VLOOKUP($Y$5,DAKOLUN!$A$9:'DAKOLUN'!$CH$208,41,0)","v":75.2},{"$f":"IF(VLOOKUP($Y$5,UAMNU!$A$9:$Y$65,19,0)<60,60,VLOOKUP($Y$5,UAMNU!$A$9:$Y$65,19,0))","v":73.5},null,null,8,"Seni Budaya dan Keterampilan",null,null,{"$f":"VLOOKUP($Y$7,DAKOLUN!$A$9:'DAKOLUN'!$CH$208,41,0)","v":83.8},{"$f":"IF(VLOOKUP($Y$7,UAMNU!$A$9:$Y$65,19,0)<60,60,VLOOKUP($Y$7,UAMNU!$A$9:$Y$65,19,0))","v":80.666666666666671}]
[null,9,"Pendidikan Jasmani Olahraga \ndan Kesehatan",null,null,{"$f":"VLOOKUP($Y$3,DAKOLUN!$A$9:'DAKOLUN'!$CH$208,44,0)","v":80.8},{"$f":"IF(VLOOKUP($Y$3,UAMNU!$A$9:$Y$65,20,0)<60,60,VLOOKUP($Y$3,UAMNU!$A$9:$Y$65,20,0))","v":78.166666666666671},null,null,9,"Pendidikan Jasmani Olahraga \ndan Kesehatan",null,null,{"$f":"VLOOKUP($Y$5,DAKOLUN!$A$9:'DAKOLUN'!$CH$208,44,0)","v":78.8},{"$f":"IF(VLOOKUP($Y$5,UAMNU!$A$9:$Y$65,20,0)<60,60,VLOOKUP($Y$5,UAMNU!$A$9:$Y$65,20,0))","v":76.5},null,null,9,"Pendidikan Jasmani Olahraga \ndan Kesehatan",null,null,{"$f":"VLOOKUP($Y$7,DAKOLUN!$A$9:'DAKOLUN'!$CH$208,44,0)","v":81.400000000000006},{"$f":"IF(VLOOKUP($Y$7,UAMNU!$A$9:$Y$65,20,0)<60,60,VLOOKUP($Y$7,UAMNU!$A$9:$Y$65,20,0))","v":78.666666666666671}]
["B",null,"Muatan Lokal",null,null,null,null,null,"B",null,"Muatan Lokal",null,null,null,null,null,"B",null,"Muatan Lokal"]
[null,"1.",{"$f":"SISWA!K16","v":"Bahasa Daerah"},null,null,{"$f":"VLOOKUP($Y$3,DAKOLUN!$A$9:'DAKOLUN'!$CH$208,47,0)","v":78},{"$f":"IF(VLOOKUP($Y$3,UAMNU!$A$9:$Y$65,21,0)<60,60,VLOOKUP($Y$3,UAMNU!$A$9:$Y$65,21,0))","v":75.833333333333329},null,null,"1.",{"$f":"C26","v":"Bahasa Daerah"},null,null,{"$f":"VLOOKUP($Y$5,DAKOLUN!$A$9:'DAKOLUN'!$CH$208,47,0)","v":71.400000000000006},{"$f":"IF(VLOOKUP($Y$5,UAMNU!$A$9:$Y$65,21,0)<60,60,VLOOKUP($Y$5,UAMNU!$A$9:$Y$65,21,0))","v":70.333333333333329},null,null,"1.",{"$f":"SISWA!K16","v":"Bahasa Daerah"},null,null,{"$f":"VLOOKUP($Y$7,DAKOLUN!$A$9:'DAKOLUN'!$CH$208,47,0)","v":82.6},{"$f":"IF(VLOOKUP($Y$7,UAMNU!$A$9:$Y$65,21,0)<60,60,VLOOKUP($Y$7,UAMNU!$A$9:$Y$65,21,0))","v":79.666666666666671}]
[null,"2.",{"$f":"SISWA!K17","v":"Bahasa Inggris"},null,null,{"$f":"VLOOKUP($Y$3,DAKOLUN!$A$9:'DAKOLUN'!$CH$208,50,0)","v":77.400000000000006},{"$f":"IF(VLOOKUP($Y$3,UAMNU!$A$9:$Y$65,22,0)<60,60,VLOOKUP($Y$3,UAMNU!$A$9:$Y$65,22,0))","v":71.2},null,null,"2.",{"$f":"C27","v":"Bahasa Inggris"},null,null,{"$f":"VLOOKUP($Y$5,DAKOLUN!$A$9:'DAKOLUN'!$CH$208,50,0)","v":73.400000000000006},{"$f":"IF(VLOOKUP($Y$5,UAMNU!$A$9:$Y$65,22,0)<60,60,VLOOKUP($Y$5,UAMNU!$A$9:$Y$65,22,0))","v":76.2},null,null,"2.",{"$f":"SISWA!K17","v":"Bahasa Inggris"},null,null,{"$f":"VLOOKUP($Y$7,DAKOLUN!$A$9:'DAKOLUN'!$CH$208,50,0)","v":77.2},{"$f":"IF(VLOOKUP($Y$7,UAMNU!$A$9:$Y$65,22,0)<60,60,VLOOKUP($Y$7,UAMNU!$A$9:$Y$65,22,0))","v":74.599999999999994}]
["Rata-rata",null,null,null,null,{"$f":"AVERAGE(F12:F24,F26:F27)","v":77.308399999999992},{"$f":"AVERAGE(G12:G24,G26:G27)","v":73.069777777777773},null,"Rata-rata",null,null,null,null,{"$f":"AVERAGE(N12:N24,N26:N27)","v":73.140000000000015},{"$f":"AVERAGE(O12:O24,O26:O27)","v":71.316733333333332},null,"Rata-rata",null,null,null,null,{"$f":"AVERAGE(V12:V24,V26:V27)","v":84.751199999999997},{"$f":"AVERAGE(W12:W24,W26:W27)","v":78.825333333333319}]
[" ') Nilai Sekolah = 60% Nilai Rata-rata Rapor + 40% Nilai Ujian Sekolah",null,null,null,null,null,null,null," ') Nilai Sekolah = 60% Nilai Rata-rata Rapor + 40% Nilai Ujian Sekolah",null,null,null,null,null,null,null," ') Nilai Sekolah = 60% Nilai Rata-rata Rapor + 40% Nilai Ujian Sekolah"]
[]
[]
[{"$f":"Y9","v":52},null,null,null,null,null,null,null,{"$f":"Y11","v":53},null,null,null,null,null,null,null,{"$f":"Y13","v":54}]
["nama ",null,null,null,":",{"$f":"VLOOKUP(Y9,DAKOLUN!A9:'DAKOLUN'!G208,5,0)","v":"RIZKA AYU WULANDARI"},null,null,"nama ",null,null,null,":",{"$f":"VLOOKUP(Y11,DAKOLUN!A9:'DAKOLUN'!G208,5,0)","v":"VERLINA DWI MAULANI"},null,null,"nama ",null,null,null,":",{"$f":"VLOOKUP(Y13,DAKOLUN!A9:'DAKOLUN'!G208,5,0)","v":"USWATUN KHASANAH"}]
["tempat dan tanggal lahir ",null,null,null,":",{"$f":"VLOOKUP(Y9,DAKOLUN!A9:'DAKOLUN'!G208,6,0)","v":"BANYUWANGI, 23 Mei 2006"},null,null,"tempat dan tanggal lahir ",null,null,null,":",{"$f":"VLOOKUP(Y11,DAKOLUN!A9:'DAKOLUN'!G208,6,0)","v":"LUMAJANG, 22 April 2006"},null,null,"tempat dan tanggal lahir ",null,null,null,":",{"$f":"VLOOKUP(Y13,DAKOLUN!A9:'DAKOLUN'!G208,6,0)","v":"LUMAJANG, 19 Desember 2006"}]
["nomor induk ",null,null,null,":",{"$f":"VLOOKUP(Y9,DAKOLUN!A9:'DAKOLUN'!G208,2,0)","v":4294},null,null,"nomor induk ",null,null,null,":",{"$f":"VLOOKUP(Y11,DAKOLUN!A9:'DAKOLUN'!G208,2,0)","v":4298},null,null,"nomor induk ",null,null,null,":",{"$f":"VLOOKUP(Y13,DAKOLUN!A9:'DAKOLUN'!G208,2,0)","v":4297}]
["nomor induk siswa nasional ",null,null,null,":",{"$f":"VLOOKUP(Y9,DAKOLUN!A9:'DAKOLUN'!G208,3,0)","v":"0064723905"},null,null,"nomor induk siswa nasional ",null,null,null,":",{"$f":"VLOOKUP(Y11,DAKOLUN!A9:'DAKOLUN'!G208,3,0)","v":"0065530554"},null,null,"nomor induk siswa nasional ",null,null,null,":",{"$f":"VLOOKUP(Y13,DAKOLUN!A9:'DAKOLUN'!G208,3,0)","v":"0063846732"}]
[]
["telah memenuhi penilaian akhir dan mengikuti ujian sekolah berdasarkan Peraturan Menteri Pendidikan dan Kebudayaan Nomor 102 Tahun 2013 dengan hasil sebagai berikut :",null,null,null,null,null,null,null,"telah memenuhi penilaian akhir dan mengikuti ujian sekolah berdasarkan Peraturan Menteri Pendidikan dan Kebudayaan Nomor 102 Tahun 2013 dengan hasil sebagai berikut :",null,null,null,null,null,null,null,"telah memenuhi penilaian akhir dan mengikuti ujian sekolah berdasarkan Peraturan Menteri Pendidikan dan Kebudayaan Nomor 102 Tahun 2013 dengan hasil sebagai berikut :"]
[]
["No","Mata Pelajaran",null,null,null,"Nilai Rata-rata Rapor","Nilai Akhir Sekolah ')",null,"No","Mata Pelajaran",null,null,null,"Nilai Rata-rata Rapor","Nilai Akhir Sekolah ')",null,"No","Mata Pelajaran",null,null,null,"Nilai Rata-rata Rapor","Nilai Akhir Sekolah ')"]
["A",null,"Ujian Sekolah",null,null,null,null,null,"A",null,"Ujian Sekolah",null,null,null,null,null,"A",null,"Ujian Sekolah"]
[null,"1.","Pendidikan Agama",null,null,{"$f":"VLOOKUP($Y$9,DAKOLUN!$A$9:'DAKOLUN'!$BK$208,8,0)","v":{"$error":"#REF!"}},{"$f":"VLOOKUP($Y$9,DAKOLUN!$A$9:'DAKOLUN'!$BK$208,10,0)","v":{"$error":"#REF!"}},null,null,"1.","Pendidikan Agama",null,null,{"$f":"VLOOKUP($Y$11,DAKOLUN!$A$9:'DAKOLUN'!$BK$208,8,0)","v":{"$error":"#REF!"}},{"$f":"VLOOKUP($Y$11,DAKOLUN!$A$9:'DAKOLUN'!$BK$208,10,0)","v":{"$error":"#REF!"}},null,null,"1.","Pendidikan Agama",null,null,{"$f":"VLOOKUP($Y$13,DAKOLUN!$A$9:'DAKOLUN'!$BK$208,8,0)","v":{"$error":"#REF!"}},{"$f":"VLOOKUP($Y$13,DAKOLUN!$A$9:'DAKOLUN'!$BK$208,10,0)","v":{"$error":"#REF!"}}]
[null,null,"a. Al Quran Hadits",null,null,{"$f":"VLOOKUP($Y$9,DAKOLUN!$A$9:'DAKOLUN'!$CH$208,14,0)","v":78},{"$f":"IF(VLOOKUP($Y$9,UAMNU!$A$9:$Y$65,8,0)<60,60,VLOOKUP($Y$9,UAMNU!$A$9:$Y$65,8,0))","v":71.5},null,null,null,"a. Al Quran Hadits",null,null,{"$f":"VLOOKUP($Y$11,DAKOLUN!$A$9:'DAKOLUN'!$CH$208,14,0)","v":80.8},{"$f":"IF(VLOOKUP($Y$11,UAMNU!$A$9:$Y$65,8,0)<60,60,VLOOKUP($Y$11,UAMNU!$A$9:$Y$65,8,0))","v":72.900000000000006},null,null,null,"a. Al Quran Hadits",null,null,{"$f":"VLOOKUP($Y$13,DAKOLUN!$A$9:'DAKOLUN'!$CH$208,14,0)","v":77.8},{"$f":"IF(VLOOKUP($Y$13,UAMNU!$A$9:$Y$65,8,0)<60,60,VLOOKUP($Y$13,UAMNU!$A$9:$Y$65,8,0))","v":71.400000000000006}]
[null,null,"b. Aqidah Akhlak",null,null,{"$f":"VLOOKUP($Y$9,DAKOLUN!$A$9:'DAKOLUN'!$CH$208,11,0)","v":78},{"$f":"IF(VLOOKUP($Y$9,UAMNU!$A$9:$Y$65,9,0)<60,60,VLOOKUP($Y$9,UAMNU!$A$9:$Y$65,9,0))","v":76},null,null,null,"b. Aqidah Akhlak",null,null,{"$f":"VLOOKUP($Y$11,DAKOLUN!$A$9:'DAKOLUN'!$CH$208,11,0)","v":81},{"$f":"IF(VLOOKUP($Y$11,UAMNU!$A$9:$Y$65,9,0)<60,60,VLOOKUP($Y$11,UAMNU!$A$9:$Y$65,9,0))","v":73},null,null,null,"b. Aqidah Akhlak",null,null,{"$f":"VLOOKUP($Y$13,DAKOLUN!$A$9:'DAKOLUN'!$CH$208,11,0)","v":75.599999999999994},{"$f":"IF(VLOOKUP($Y$13,UAMNU!$A$9:$Y$65,9,0)<60,60,VLOOKUP($Y$13,UAMNU!$A$9:$Y$65,9,0))","v":70.3}]
[null,null,"c. Fiqih",null,null,{"$f":"VLOOKUP($Y$9,DAKOLUN!$A$9:'DAKOLUN'!$CH$208,17,0)","v":76.8},{"$f":"IF(VLOOKUP($Y$9,UAMNU!$A$9:$Y$65,10,0)<60,60,VLOOKUP($Y$9,UAMNU!$A$9:$Y$65,10,0))","v":70.900000000000006},null,null,null,"c. Fiqih",null,null,{"$f":"VLOOKUP($Y$11,DAKOLUN!$A$9:'DAKOLUN'!$CH$208,17,0)","v":81},{"$f":"IF(VLOOKUP($Y$11,UAMNU!$A$9:$Y$65,10,0)<60,60,VLOOKUP($Y$11,UAMNU!$A$9:$Y$65,10,0))","v":73},null,null,null,"c. Fiqih",null,null,{"$f":"VLOOKUP($Y$13,DAKOLUN!$A$9:'DAKOLUN'!$CH$208,17,0)","v":76.8},{"$f":"IF(VLOOKUP($Y$13,UAMNU!$A$9:$Y$65,10,0)<60,60,VLOOKUP($Y$13,UAMNU!$A$9:$Y$65,10,0))","v":70.900000000000006}]
[null,null,"d. Sejarah Kebudayaan Islam",null,null,{"$f":"VLOOKUP($Y$9,DAKOLUN!$A$9:'DAKOLUN'!$CH$208,20,0)","v":76},{"$f":"IF(VLOOKUP($Y$9,UAMNU!$A$9:$Y$65,11,0)<60,60,VLOOKUP($Y$9,UAMNU!$A$9:$Y$65,11,0))","v":71.844999999999999},null,null,null,"d. Sejarah Kebudayaan Islam",null,null,{"$f":"VLOOKUP($Y$11,DAKOLUN!$A$9:'DAKOLUN'!$CH$208,20,0)","v":80.2},{"$f":"IF(VLOOKUP($Y$11,UAMNU!$A$9:$Y$65,11,0)<60,60,VLOOKUP($Y$11,UAMNU!$A$9:$Y$65,11,0))","v":72.599999999999994},null,null,null,"d. Sejarah Kebudayaan Islam",null,null,{"$f":"VLOOKUP($Y$13,DAKOLUN!$A$9:'DAKOLUN'!$CH$208,20,0)","v":76.8},{"$f":"IF(VLOOKUP($Y$13,UAMNU!$A$9:$Y$65,11,0)<60,60,VLOOKUP($Y$13,UAMNU!$A$9:$Y$65,11,0))","v":87.055000000000007}]
[null,null,"e. Bahasa Arab",null,null,{"$f":"VLOOKUP($Y$9,DAKOLUN!$A$9:'DAKOLUN'!$CH$208,29,0)","v":74.400000000000006},{"$f":"IF(VLOOKUP($Y$9,UAMNU!$A$9:$Y$65,12,0)<60,60,VLOOKUP($Y$9,UAMNU!$A$9:$Y$65,12,0))","v":69.7},null,null,null,"e. Bahasa Arab",null,null,{"$f":"VLOOKUP($Y$11,DAKOLUN!$A$9:'DAKOLUN'!$CH$208,29,0)","v":78.2},{"$f":"IF(VLOOKUP($Y$11,UAMNU!$A$9:$Y$65,12,0)<60,60,VLOOKUP($Y$11,UAMNU!$A$9:$Y$65,12,0))","v":71.599999999999994},null,null,null,"e. Bahasa Arab",null,null,{"$f":"VLOOKUP($Y$13,DAKOLUN!$A$9:'DAKOLUN'!$CH$208,29,0)","v":75.2},{"$f":"IF(VLOOKUP($Y$13,UAMNU!$A$9:$Y$65,12,0)<60,60,VLOOKUP($Y$13,UAMNU!$A$9:$Y$65,12,0))","v":70.099999999999994}]
[null,null,"f. Aswaja",null,null,{"$f":"F46","v":76},{"$f":"IF(VLOOKUP($Y$9,UAMNU!$A$9:$Y$65,13,0)<60,60,VLOOKUP($Y$9,UAMNU!$A$9:$Y$65,13,0))","v":71.989000000000004},null,null,null,"f. Aswaja",null,null,{"$f":"N46","v":80.2},{"$f":"IF(VLOOKUP($Y$11,UAMNU!$A$9:$Y$65,13,0)<60,60,VLOOKUP($Y$11,UAMNU!$A$9:$Y$65,13,0))","v":72.62},null,null,null,"f. Aswaja",null,null,{"$f":"V46","v":76.8},{"$f":"IF(VLOOKUP($Y$13,UAMNU!$A$9:$Y$65,13,0)<60,60,VLOOKUP($Y$13,UAMNU!$A$9:$Y$65,13,0))","v":73.950999999999993}]
[null,"2.","Pendidikan Kewarganegaraan",null,null,{"$f":"VLOOKUP($Y$9,DAKOLUN!$A$9:'DAKOLUN'!$CH$208,23,0)","v":77},{"$f":"IF(VLOOKUP($Y$9,UAMNU!$A$9:$Y$65,14,0)<60,60,VLOOKUP($Y$9,UAMNU!$A$9:$Y$65,14,0))","v":76.5},null,null,"2.","Pendidikan Kewarganegaraan",null,null,{"$f":"VLOOKUP($Y$11,DAKOLUN!$A$9:'DAKOLUN'!$CH$208,23,0)","v":77.8},{"$f":"IF(VLOOKUP($Y$11,UAMNU!$A$9:$Y$65,14,0)<60,60,VLOOKUP($Y$11,UAMNU!$A$9:$Y$65,14,0))","v":78},null,null,"2.","Pendidikan Kewarganegaraan",null,null,{"$f":"VLOOKUP($Y$13,DAKOLUN!$A$9:'DAKOLUN'!$CH$208,23,0)","v":76.2},{"$f":"IF(VLOOKUP($Y$13,UAMNU!$A$9:$Y$65,14,0)<60,60,VLOOKUP($Y$13,UAMNU!$A$9:$Y$65,14,0))","v":77.5}]
[null,"3.","Bahasa Indonesia",null,null,{"$f":"VLOOKUP($Y$9,DAKOLUN!$A$9:'DAKOLUN'!$CH$208,68,0)","v":69.417999999999992},{"$f":"IF(VLOOKUP($Y$9,UAMNU!$A$9:$Y$65,15,0)<60,60,VLOOKUP($Y$9,UAMNU!$A$9:$Y$65,15,0))","v":70.114999999999995},null,null,"3.","Bahasa Indonesia",null,null,{"$f":"VLOOKUP($Y$11,DAKOLUN!$A$9:'DAKOLUN'!$CH$208,68,0)","v":72.265999999999991},{"$f":"IF(VLOOKUP($Y$11,UAMNU!$A$9:$Y$65,15,0)<60,60,VLOOKUP($Y$11,UAMNU!$A$9:$Y$65,15,0))","v":73.155000000000001},null,null,"3.","Bahasa Indonesia",null,null,{"$f":"VLOOKUP($Y$13,DAKOLUN!$A$9:'DAKOLUN'!$CH$208,68,0)","v":71.506},{"$f":"IF(VLOOKUP($Y$13,UAMNU!$A$9:$Y$65,15,0)<60,60,VLOOKUP($Y$13,UAMNU!$A$9:$Y$65,15,0))","v":71.98833333333333}]
[null,5,"Matematika",null,null,{"$f":"VLOOKUP($Y$9,DAKOLUN!$A$9:'DAKOLUN'!$CH$208,71,0)","v":56.38},{"$f":"IF(VLOOKUP($Y$9,UAMNU!$A$9:$Y$65,16,0)<60,60,VLOOKUP($Y$9,UAMNU!$A$9:$Y$65,16,0))","v":65.608333333333334},null,null,5,"Matematika",null,null,{"$f":"VLOOKUP($Y$11,DAKOLUN!$A$9:'DAKOLUN'!$CH$208,71,0)","v":54.815999999999995},{"$f":"IF(VLOOKUP($Y$11,UAMNU!$A$9:$Y$65,16,0)<60,60,VLOOKUP($Y$11,UAMNU!$A$9:$Y$65,16,0))","v":66.94},null,null,5,"Matematika",null,null,{"$f":"VLOOKUP($Y$13,DAKOLUN!$A$9:'DAKOLUN'!$CH$208,71,0)","v":52.992000000000004},{"$f":"IF(VLOOKUP($Y$13,UAMNU!$A$9:$Y$65,16,0)<60,60,VLOOKUP($Y$13,UAMNU!$A$9:$Y$65,16,0))","v":63.49666666666667}]
[null,6,"Ilmu Pengetahuan Alam",null,null,{"$f":"VLOOKUP($Y$9,DAKOLUN!$A$9:'DAKOLUN'!$CH$208,74,0)","v":66.03},{"$f":"IF(VLOOKUP($Y$9,UAMNU!$A$9:$Y$65,17,0)<60,60,VLOOKUP($Y$9,UAMNU!$A$9:$Y$65,17,0))","v":60},null,null,6,"Ilmu Pengetahuan Alam",null,null,{"$f":"VLOOKUP($Y$11,DAKOLUN!$A$9:'DAKOLUN'!$CH$208,74,0)","v":69.316000000000003},{"$f":"IF(VLOOKUP($Y$11,UAMNU!$A$9:$Y$65,17,0)<60,60,VLOOKUP($Y$11,UAMNU!$A$9:$Y$65,17,0))","v":60},null,null,6,"Ilmu Pengetahuan Alam",null,null,{"$f":"VLOOKUP($Y$13,DAKOLUN!$A$9:'DAKOLUN'!$CH$208,74,0)","v":66.084000000000003},{"$f":"IF(VLOOKUP($Y$13,UAMNU!$A$9:$Y$65,17,0)<60,60,VLOOKUP($Y$13,UAMNU!$A$9:$Y$65,17,0))","v":60}]
[null,7,"Ilmu Pengetahuan Sosial",null,null,{"$f":"VLOOKUP($Y$9,DAKOLUN!$A$9:'DAKOLUN'!$CH$208,38,0)","v":75.599999999999994},{"$f":"IF(VLOOKUP($Y$9,UAMNU!$A$9:$Y$65,18,0)<60,60,VLOOKUP($Y$9,UAMNU!$A$9:$Y$65,18,0))","v":75.666666666666671},null,null,7,"Ilmu Pengetahuan Sosial",null,null,{"$f":"VLOOKUP($Y$11,DAKOLUN!$A$9:'DAKOLUN'!$CH$208,38,0)","v":79.2},{"$f":"IF(VLOOKUP($Y$11,UAMNU!$A$9:$Y$65,18,0)<60,60,VLOOKUP($Y$11,UAMNU!$A$9:$Y$65,18,0))","v":78.666666666666671},null,null,7,"Ilmu Pengetahuan Sosial",null,null,{"$f":"VLOOKUP($Y$13,DAKOLUN!$A$9:'DAKOLUN'!$CH$208,38,0)","v":73.8},{"$f":"IF(VLOOKUP($Y$13,UAMNU!$A$9:$Y$65,18,0)<60,60,VLOOKUP($Y$13,UAMNU!$A$9:$Y$65,18,0))","v":72.333333333333329}]
[null,8,"Seni Budaya dan Keterampilan",null,null,{"$f":"VLOOKUP($Y$9,DAKOLUN!$A$9:'DAKOLUN'!$CH$208,41,0)","v":76.8},{"$f":"IF(VLOOKUP($Y$9,UAMNU!$A$9:$Y$65,19,0)<60,60,VLOOKUP($Y$9,UAMNU!$A$9:$Y$65,19,0))","v":74.833333333333329},null,null,8,"Seni Budaya dan Keterampilan",null,null,{"$f":"VLOOKUP($Y$11,DAKOLUN!$A$9:'DAKOLUN'!$CH$208,41,0)","v":78.599999999999994},{"$f":"IF(VLOOKUP($Y$11,UAMNU!$A$9:$Y$65,19,0)<60,60,VLOOKUP($Y$11,UAMNU!$A$9:$Y$65,19,0))","v":76.333333333333329},null,null,8,"Seni Budaya dan Keterampilan",null,null,{"$f":"VLOOKUP($Y$13,DAKOLUN!$A$9:'DAKOLUN'!$CH$208,41,0)","v":77},{"$f":"IF(VLOOKUP($Y$13,UAMNU!$A$9:$Y$65,19,0)<60,60,VLOOKUP($Y$13,UAMNU!$A$9:$Y$65,19,0))","v":75}]
[null,9,"Pendidikan Jasmani Olahraga \ndan Kesehatan",null,null,{"$f":"VLOOKUP($Y$9,DAKOLUN!$A$9:'DAKOLUN'!$CH$208,44,0)","v":80.599999999999994},{"$f":"IF(VLOOKUP($Y$9,UAMNU!$A$9:$Y$65,20,0)<60,60,VLOOKUP($Y$9,UAMNU!$A$9:$Y$65,20,0))","v":78},null,null,9,"Pendidikan Jasmani Olahraga \ndan Kesehatan",null,null,{"$f":"VLOOKUP($Y$11,DAKOLUN!$A$9:'DAKOLUN'!$CH$208,44,0)","v":82.4},{"$f":"IF(VLOOKUP($Y$11,UAMNU!$A$9:$Y$65,20,0)<60,60,VLOOKUP($Y$11,UAMNU!$A$9:$Y$65,20,0))","v":79.5},null,null,9,"Pendidikan Jasmani Olahraga \ndan Kesehatan",null,null,{"$f":"VLOOKUP($Y$13,DAKOLUN!$A$9:'DAKOLUN'!$CH$208,44,0)","v":79.8},{"$f":"IF(VLOOKUP($Y$13,UAMNU!$A$9:$Y$65,20,0)<60,60,VLOOKUP($Y$13,UAMNU!$A$9:$Y$65,20,0))","v":77.333333333333329}]
["B",null,"Muatan Lokal",null,null,null,null,null,"B",null,"Muatan Lokal",null,null,null,null,null,"B",null,"Muatan Lokal"]
[null,"1.",{"$f":"SISWA!K16","v":"Bahasa Daerah"},null,null,{"$f":"VLOOKUP($Y$9,DAKOLUN!$A$9:'DAKOLUN'!$CH$208,47,0)","v":74},{"$f":"IF(VLOOKUP($Y$9,UAMNU!$A$9:$Y$65,21,0)<60,60,VLOOKUP($Y$9,UAMNU!$A$9:$Y$65,21,0))","v":72.5},null,null,"1.",{"$f":"C57","v":"Bahasa Daerah"},null,null,{"$f":"VLOOKUP($Y$11,DAKOLUN!$A$9:'DAKOLUN'!$CH$208,47,0)","v":75.400000000000006},{"$f":"IF(VLOOKUP($Y$11,UAMNU!$A$9:$Y$65,21,0)<60,60,VLOOKUP($Y$11,UAMNU!$A$9:$Y$65,21,0))","v":73.666666666666671},null,null,"1.",{"$f":"SISWA!K16","v":"Bahasa Daerah"},null,null,{"$f":"VLOOKUP($Y$13,DAKOLUN!$A$9:'DAKOLUN'!$CH$208,47,0)","v":73.2},{"$f":"IF(VLOOKUP($Y$13,UAMNU!$A$9:$Y$65,21,0)<60,60,VLOOKUP($Y$13,UAMNU!$A$9:$Y$65,21,0))","v":71.833333333333329}]
[null,"2.",{"$f":"SISWA!K17","v":"Bahasa Inggris"},null,null,{"$f":"VLOOKUP($Y$9,DAKOLUN!$A$9:'DAKOLUN'!$CH$208,50,0)","v":71},{"$f":"IF(VLOOKUP($Y$9,UAMNU!$A$9:$Y$65,22,0)<60,60,VLOOKUP($Y$9,UAMNU!$A$9:$Y$65,22,0))","v":72.5},null,null,"2.",{"$f":"C58","v":"Bahasa Inggris"},null,null,{"$f":"VLOOKUP($Y$11,DAKOLUN!$A$9:'DAKOLUN'!$CH$208,50,0)","v":71},{"$f":"IF(VLOOKUP($Y$11,UAMNU!$A$9:$Y$65,22,0)<60,60,VLOOKUP($Y$11,UAMNU!$A$9:$Y$65,22,0))","v":70.5},null,null,"2.",{"$f":"SISWA!K17","v":"Bahasa Inggris"},null,null,{"$f":"VLOOKUP($Y$13,DAKOLUN!$A$9:'DAKOLUN'!$CH$208,50,0)","v":71.8},{"$f":"IF(VLOOKUP($Y$13,UAMNU!$A$9:$Y$65,22,0)<60,60,VLOOKUP($Y$13,UAMNU!$A$9:$Y$65,22,0))","v":70.900000000000006}]
["Rata-rata",null,null,null,null,{"$f":"AVERAGE(F43:F55,F57:F58)","v":73.735200000000006},{"$f":"AVERAGE(G43:G55,G57:G58)","v":71.843822222222215},null,"Rata-rata",null,null,null,null,{"$f":"AVERAGE(N43:N55,N57:N58)","v":76.146533333333338},{"$f":"AVERAGE(O43:O55,O57:O58)","v":72.832111111111104},null,"Rata-rata",null,null,null,null,{"$f":"AVERAGE(V43:V55,V57:V58)","v":73.425466666666651},{"$f":"AVERAGE(W43:W55,W57:W58)","v":72.272733333333335}]
[" ') Nilai Sekolah = 60% Nilai Rata-rata Rapor + 40% Nilai Ujian Sekolah",null,null,null,null,null,null,null," ') Nilai Sekolah = 60% Nilai Rata-rata Rapor + 40% Nilai Ujian Sekolah",null,null,null,null,null,null,null," ') Nilai Sekolah = 60% Nilai Rata-rata Rapor + 40% Nilai Ujian Sekolah"]

{"sheet":"SKLULUS","index":23,"n_rows":39,"n_cols":18,"rows_kept":39,"cut":false,"hidden":false,"merged":[[11,13,13,13],[12,1,13,10],[1,3,1,8],[2,3,3,8],[4,3,4,8],[5,3,5,8],[7,1,7,10],[8,1,8,10],[26,1,26,10],[30,1,30,10],[28,1,28,10],[38,8,38,10],[9,1,9,9],[10,1,10,9],[11,1,11,9]]}
[]
[null,null,null,null,null,null,null,null,null,null,null,null,null,null,null,null,0,"Nol"]
[null,null,null,null,null,null,null,null,null,null,null,null,null,null,null,null,1,"Satu"]
[null,null,null,null,null,null,null,null,null,null,null,null,null,null,null,null,2,"Dua"]
[null,null,null,null,null,null,null,null,null,null,null,null,null,null,null,null,3,"Tiga"]
[null,null,null,null,null,null,null,null,null,null,null,null,null,null,null,null,4,"Empat"]
[null,null,null,null,null,null,null,null,null,null,null,null,null,null,null,null,5,"Lima"]
[null,"SURAT KETERANGAN LULUS",null,null,null,null,null,null,null,null,null,null,null,null,null,null,6,"Enam"]
[null,{"$f":"VLOOKUP(N12,DAKOLUN!A9:'DAKOLUN'!CJ222,88,0)","v":"106/MINI.L-Kid/30.02.02/S.1-2/VI/2019"},null,null,null,null,null,null,null,null,null,null,null,null,null,null,7,"Tujuh"]
[null,null,null,null,null,null,null,null,null,null,null,null,null,null,null,null,8,"Delapan"]
[null,null,null,null,null,null,null,null,null,null,null,null,null,"NO ABSEN",null,null,9,"Sembilan"]
[null,null,null,null,null,null,null,null,null,null,null,null,null,56]
[null,{"$f":"\"yang bertanda tangan dibawah ini, \"&\"Kepala \"&DEPAN!Y6&\" \"&DEPAN!E6&\" \"&PROPER(DEPAN!C12)&\" \"&PROPER(DEPAN!D12)&\" :\"","v":"yang bertanda tangan dibawah ini, Kepala Madrasah Ibtidaiyah Nurul Islam Labruk Kidul Kecamatan Sumbersuko :"}]
[]
[]
[null,"Nama",null,null,":","SAHRONI,S.Pd.I"]
[null,"Jabatan",null,null,":","Kepala Madrasah"]
[null,"Alamat",null,null,":","Tompokersan - Lumajang"]
[]
[null,"Menerangkan Bahwa"]
[null,"Nama",null,null,":",{"$f":"VLOOKUP(N12,DAKOLUN!A9:'DAKOLUN'!BK208,5,0)","v":"YOHAN EGA GILANG PERMANA"}]
[null,"Tempat dan tanggal lahir ",null,null,":",{"$f":"VLOOKUP(N12,DAKOLUN!A9:'DAKOLUN'!BK208,6,0)","v":"LUMAJANG, 24 November 2006"}]
[null,"Nomor peserta ujian sekolah ",null,null,":",{"$f":"VLOOKUP(N12,DAKOLUN!A9:'DAKOLUN'!BK208,4,0)","v":"1-18-05-80-162-056-2"}]
[null,"NISN",null,null,null,{"$f":"VLOOKUP(N12,DAKOLUN!A9:'DAKOLUN'!BK208,3,0)","v":"0064124533"}]
[null,"Sekolah Asal",null,null,":",{"$f":"DEPAN!Y7","v":"MI Nurul Islam Labruk Kidul"}]
[]
[null,{"$f":"\"Telah mengikuti Ujian Nasional Tahun ajaran \"&DEPAN!D16&\", berdasarkan hasil penilaian dan kriteria dari Sekolah bahwa nama yang tersebut diatas dinyatakan:\"","v":"Telah mengikuti Ujian Nasional Tahun ajaran 2018/2019, berdasarkan hasil penilaian dan kriteria dari Sekolah bahwa nama yang tersebut diatas dinyatakan:"}]
[]
[null,"LULUS"]
[]
[null,"Demikian surat keterangan ini dibuat dengan sebenarnya dan agar dipergunakan sebagaimana mestinya."]
[]
[null,null,null,null,null,null,null,{"$f":"IJAZAH!M20","v":"Lumajang, 17 Juni 2019"}]
[null,null,null,null,null,null,null,"Kepala Sekolah"]
[]
[]
[]
[null,null,null,null,null,null,null,{"$f":"IF(KEPALA<>\"\",KEPALA,\"\")","v":"Sahroni,S.Pd.I"}]
[null,null,null,null,null,null,null,"NIP. ",{"$f":"IF(NIP<>\"\",NIP,\"\")","v":"-"}]

{"sheet":"SKHU SD","index":24,"n_rows":51,"n_cols":14,"rows_kept":51,"cut":false,"hidden":false,"merged":[[50,9,50,11],[37,7,37,8],[38,7,38,8],[39,1,39,8],[2,1,2,10],[4,1,4,10],[5,1,5,10],[7,1,7,10],[8,1,8,10],[35,2,35,5],[35,7,35,8],[36,7,36,8],[29,3,29,4],[29,7,29,8],[30,7,30,8],[31,7,31,8],[20,2,20,5],[32,7,32,8],[33,7,33,8],[20,7,20,8],[22,7,22,8],[23,7,23,8],[24,7,24,8],[25,7,25,8],[26,7,26,8],[27,7,27,8],[28,7,28,8]]}
[]
[]
[null,"KEMENTERIAN PENDIDIKAN DAN KEBUDAYAAN REPUBLIK INDONESIA"]
[]
[null,"SURAT KETERANGAN"]
[null,"HASIL UJIAN SEMENTARA"]
[]
[null,"SEKOLAH DASAR"]
[null,"TAHUN PELAJARAN 2013/2014"]
[]
[null,"Yang bertanda tangan di bawah ini, Kepala Sekolah Dasar"]
[null,{"$f":"IF(LEMBAGA<>\"\",LEMBAGA,\"\")","v":"MI"},null,null,null,"menerangkan bahwa:"]
[null,"nama ",null,null,null,":",{"$f":"VLOOKUP(N21,DAKOLUN!A9:'DAKOLUN'!BK208,5,0)","v":"ADITYA MAULA FANDY TAULANI"}]
[null,"tempat dan tanggal lahir ",null,null,null,":",{"$f":"VLOOKUP(N21,DAKOLUN!A9:'DAKOLUN'!BK208,6,0)","v":"LUMAJANG, 13 Juni 2006"}]
[null,"nomor induk ",null,null,null,":",{"$f":"VLOOKUP(N21,DAKOLUN!A9:'DAKOLUN'!BK208,2,0)","v":4270}]
[null,"nomor peserta ujian sekolah ",null,null,null,":",{"$f":"VLOOKUP(N21,DAKOLUN!A9:'DAKOLUN'!BK208,4,0)","v":"1-18-05-80-162-001-9"}]
[]
[null,"telah memenuhi penilaian akhir dan mengikuti ujian sekolah berdasarkan Peraturan"]
[null,"menteri Pendidikan dan Kebudayaan Nomor 102 Tahun 2013 dengan hasil sebagai"]
[null,"berikut",null,null,null,null,null,null,null,null,null,null,null,"NO ABSEN"]
[null,"No","Mata Pelajaran",null,null,null,"Nilai Rata-rata Rapor","Nilai Ujian\nSekolah",null,"Nilai\nSekolah",null,null,null,1]
[null,"A",null,"Ujian Sekolah"]
[null,null,"1.","Pendidikan Agama"]
[null,null,"2.","Pendidikan Kewarganegaraan",null,null,{"$f":"VLOOKUP(N21,DAKOLUN!A9:'DAKOLUN'!BK208,11,0)","v":85.6},{"$f":"VLOOKUP(N21,DAKOLUN!A9:'DAKOLUN'!BK208,12,0)","v":75.3},null,{"$f":"VLOOKUP(N21,DAKOLUN!A9:'DAKOLUN'!BK208,13,0)","v":81.47999999999999}]
[null,null,"3.","Bahasa Indonesia",null,null,{"$f":"VLOOKUP(N21,DAKOLUN!A9:'DAKOLUN'!BK208,14,0)","v":86},{"$f":"VLOOKUP(N21,DAKOLUN!A9:'DAKOLUN'!BK208,15,0)","v":75.5},null,{"$f":"VLOOKUP(N21,DAKOLUN!A9:'DAKOLUN'!BK208,16,0)","v":81.800000000000011},null,null,null,"GANTI TANGGAL IJASAH"]
[null,null,"4.","Matematika",null,null,{"$f":"VLOOKUP(N21,DAKOLUN!A9:'DAKOLUN'!BK208,17,0)","v":85.2},{"$f":"VLOOKUP(N21,DAKOLUN!A9:'DAKOLUN'!BK208,18,0)","v":75.099999999999994},null,{"$f":"VLOOKUP(N21,DAKOLUN!A9:'DAKOLUN'!BK208,19,0)","v":81.16},null,null,null,"Lumajang, 21 Juni 2015"]
[null,null,"5.","Ilmu Pengetahuan Alam",null,null,{"$f":"VLOOKUP(N21,DAKOLUN!A9:'DAKOLUN'!BK208,20,0)","v":84.2},{"$f":"VLOOKUP(N21,DAKOLUN!A9:'DAKOLUN'!BK208,21,0)","v":74.599999999999994},null,{"$f":"VLOOKUP(N21,DAKOLUN!A9:'DAKOLUN'!BK208,22,0)","v":80.36}]
[null,null,"6.","Ilmu Pengetahuan Sosial",null,null,{"$f":"VLOOKUP(N21,DAKOLUN!A9:'DAKOLUN'!BK208,23,0)","v":87.4},{"$f":"VLOOKUP(N21,DAKOLUN!A9:'DAKOLUN'!BK208,24,0)","v":65},null,{"$f":"VLOOKUP(N21,DAKOLUN!A9:'DAKOLUN'!BK208,25,0)","v":78.44}]
[null,null,"7.","Seni Budaya dan Keterampilan",null,null,{"$f":"VLOOKUP(N21,DAKOLUN!A9:'DAKOLUN'!BK208,26,0)","v":84.2},{"$f":"VLOOKUP(N21,DAKOLUN!A9:'DAKOLUN'!BK208,27,0)","v":83.795000000000002},null,{"$f":"VLOOKUP(N21,DAKOLUN!A9:'DAKOLUN'!BK208,28,0)","v":84.038000000000011}]
[null,null,"8.","Pendidikan Jasmani Olahraga \ndan Kesehatan",null,null,{"$f":"VLOOKUP(N21,DAKOLUN!A9:'DAKOLUN'!BK208,29,0)","v":80.2},{"$f":"VLOOKUP(N21,DAKOLUN!A9:'DAKOLUN'!BK208,30,0)","v":72.599999999999994},null,{"$f":"VLOOKUP(N21,DAKOLUN!A9:'DAKOLUN'!BK208,31,0)","v":77.16}]
[null,"B",null,"Muatan Lokal"]
[null,null,"1.",{"$f":"SISWA!K16","v":"Bahasa Daerah"},null,null,{"$f":"VLOOKUP(N21,DAKOLUN!A9:'DAKOLUN'!BK208,32,0)","v":83.6},{"$f":"VLOOKUP(N21,DAKOLUN!A9:'DAKOLUN'!BK208,33,0)","v":77.33},null,{"$f":"VLOOKUP(N21,DAKOLUN!A9:'DAKOLUN'!BK208,34,0)","v":81.091999999999999}]
[null,null,"2.",{"$f":"SISWA!K17","v":"Bahasa Inggris"},null,null,{"$f":"VLOOKUP(N21,DAKOLUN!A9:'DAKOLUN'!BK208,35,0)","v":81},{"$f":"VLOOKUP(N21,DAKOLUN!A9:'DAKOLUN'!BK208,36,0)","v":77.5},null,{"$f":"VLOOKUP(N21,DAKOLUN!A9:'DAKOLUN'!BK208,37,0)","v":79.599999999999994}]
[null,null,"3.",{"$f":"SISWA!K18","v":"Aqidah Akhlaq"},null,null,{"$f":"VLOOKUP(N21,DAKOLUN!A9:'DAKOLUN'!BK208,38,0)","v":83.4},{"$f":"VLOOKUP(N21,DAKOLUN!A9:'DAKOLUN'!BK208,39,0)","v":65},null,{"$f":"VLOOKUP(N21,DAKOLUN!A9:'DAKOLUN'!BK208,40,0)","v":76.039999999999992}]
[]
[null,"No","Mata Pelajaran",null,null,null,"Nilai\nSekolah","Nilai Ujian\nSekolah",null,"Nilai\nAkhir*)"]
[null,1,"1.","Bahasa Indonesia",null,null,{"$f":"J25","v":81.800000000000011},{"$f":"VLOOKUP(N21,DAKOLUN!A9:'DAKOLUN'!BK208,40,0)","v":76.039999999999992},null,{"$f":"(G37*40%)+(H37*60%)","v":78.343999999999994}]
[null,2,"2.","Matematika",null,null,{"$f":"J26","v":81.16},{"$f":"VLOOKUP(N21,DAKOLUN!A9:'DAKOLUN'!BK208,43,0)","v":79.08},null,{"$f":"(G38*40%)+(H38*60%)","v":79.912000000000006}]
[null,3,"3.","Ilmu Pengetahuan Alam",null,null,{"$f":"J27","v":80.36},{"$f":"VLOOKUP(N21,DAKOLUN!A9:'DAKOLUN'!BK208,46,0)","v":79.08},null,{"$f":"(G39*40%)+(H39*60%)","v":79.591999999999999}]
[null,"Rata-rata",null,null,null,null,null,null,null,{"$f":"AVERAGE(J37:J39)","v":79.282666666666671}]
[null,"*)Nilai akhir= 70% Nilai Rata-rata Raport + 30% Nilai Ujian Sekolah."]
[]
[]
[]
[null,null,null,null,null,null,null,null,{"$f":"N26","v":"Lumajang, 21 Juni 2015"}]
[null,null,null,null,null,null,null,null,"Kepala Sekolah"]
[]
[]
[]
[null,null,null,null,null,null,null,null,{"$f":"IF(KEPALA<>\"\",KEPALA,\"\")","v":"Sahroni,S.Pd.I"}]
[null,null,null,null,null,null,null,null,"NIP. ",{"$f":"IF(NIP<>\"\",NIP,\"\")","v":"-"}]

{"sheet":"NILAI","index":25,"n_rows":34,"n_cols":18,"rows_kept":34,"cut":false,"hidden":false,"merged":[[17,17,19,17],[5,0,7,0],[5,1,7,1],[5,2,5,7],[5,8,7,8],[5,9,6,9],[5,11,5,12],[5,14,7,14],[6,2,6,3],[6,4,6,5],[6,6,6,7],[6,11,7,11],[6,12,7,12]]}
[null,"NAMA LEMBAGA",":",{"$f":"IF(LEMBAGA<>\"\",LEMBAGA,\"\")","v":"MI"}]
[null,"KECAMATAN",":",{"$f":"IF(CAMAT<>\"\",CAMAT,\"\")","v":"SUMBERSUKO"}]
[null,"Nama Siswa",":",{"$f":"VLOOKUP(R18,DAKOLUN!A9:'DAKOLUN'!G208,5,0)","v":"ADITYA MAULA FANDY TAULANI"}]
[null,"Nomor Peserta",": ",{"$f":"VLOOKUP(R18,DAKOLUN!A9:'DAKOLUN'!G208,4,0)","v":"1-18-05-80-162-001-9"}]
[]
["NO","MATA PELAJARAN","NILAI RAPOR (NR)",null,null,null,null,null,"JUM LAH","RATA-RATA",null,"NILAI UJIAN SEKOLAH",null,"RATA-RATA","NILAI SEKOLAH (NS)"," "]
[null,null,"KL IV",null,"KL V",null,"KL VI",null,null,null,"SKM","TERTULIS","PRAKTIK","NILAI UJIAN",null,"KETERANGAN"]
[null,null,7,8,9,10,11,null,null,"NR",null,null,null,"(RNU)"]
[1,{"$f":"SISWA!K8","v":"Pendidikan Agama"}]
[null,"a. Aqidah Akhlaq",{"$f":"VLOOKUP($R$18,AA!$A$8:'AA'!$M$207,6,0)","v":81},{"$f":"VLOOKUP($R$18,AA!$A$8:'AA'!$M$207,7,0)","v":82},{"$f":"VLOOKUP($R$18,AA!$A$8:'AA'!$M$207,8,0)","v":80},{"$f":"VLOOKUP($R$18,AA!$A$8:'AA'!$M$207,9,0)","v":89},{"$f":"VLOOKUP($R$18,AA!$A$8:'AA'!$M$207,10,0)","v":96},null,{"$f":"SUM(C10:G10)","v":428},{"$f":"I10/5","v":85.6},{"$f":"SISWA!L18","v":65},{"$f":"VLOOKUP($R$18,AA!$A$8:'AA'!$M$207,12,0)","v":65},{"$f":"VLOOKUP($R$18,AA!$A$8:'AA'!$M$207,13,0)","v":85.6},{"$f":"AVERAGE(L10:M10)","v":75.3},{"$f":"(60%*J10)+(40%*N10)","v":81.47999999999999}]
[null,"b. Al Qur'an Hadits",{"$f":"VLOOKUP($R$18,AH!$A$8:'AH'!$M$207,6,0)","v":85},{"$f":"VLOOKUP($R$18,AH!$A$8:'AH'!$M$207,7,0)","v":81},{"$f":"VLOOKUP($R$18,AH!$A$8:'AH'!$M$207,8,0)","v":85},{"$f":"VLOOKUP($R$18,AH!$A$8:'AH'!$M$207,9,0)","v":88},{"$f":"VLOOKUP($R$18,AH!$A$8:'AH'!$M$207,10,0)","v":91},null,430,{"$f":"I11/5","v":86},{"$f":"SISWA!L19","v":65},{"$f":"VLOOKUP($R$18,AH!$A$8:'AH'!$M$207,12,0)","v":65},{"$f":"VLOOKUP($R$18,AH!$A$8:'AH'!$M$207,13,0)","v":86},75.5,81.800000000000011]
[null,"c. Fiqih",{"$f":"VLOOKUP($R$18,FQ!$A$8:'FQ'!$M$207,6,0)","v":79},{"$f":"VLOOKUP($R$18,FQ!$A$8:'FQ'!$M$207,7,0)","v":85},{"$f":"VLOOKUP($R$18,FQ!$A$8:'FQ'!$M$207,8,0)","v":87},{"$f":"VLOOKUP($R$18,FQ!$A$8:'FQ'!$M$207,9,0)","v":84},{"$f":"VLOOKUP($R$18,FQ!$A$8:'FQ'!$M$207,10,0)","v":91},null,426,{"$f":"I12/5","v":85.2},{"$f":"SISWA!L20","v":65},{"$f":"VLOOKUP($R$18,FQ!$A$8:'FQ'!$M$207,12,0)","v":65},{"$f":"VLOOKUP($R$18,FQ!$A$8:'FQ'!$M$207,13,0)","v":85.2},75.099999999999994,81.16]
[null,"d. SKI",{"$f":"VLOOKUP($R$18,SKI!$A$8:'SKI'!$M$207,6,0)","v":83},{"$f":"VLOOKUP($R$18,SKI!$A$8:'SKI'!$M$207,7,0)","v":86},{"$f":"VLOOKUP($R$18,SKI!$A$8:'SKI'!$M$207,8,0)","v":78},{"$f":"VLOOKUP($R$18,SKI!$A$8:'SKI'!$M$207,9,0)","v":83},{"$f":"VLOOKUP($R$18,SKI!$A$8:'SKI'!$M$207,10,0)","v":91},null,421,{"$f":"I13/5","v":84.2},{"$f":"SISWA!L21","v":65},{"$f":"VLOOKUP($R$18,SKI!$A$8:'SKI'!$M$207,12,0)","v":65},{"$f":"VLOOKUP($R$18,SKI!$A$8:'SKI'!$M$207,13,0)","v":84.2},74.599999999999994,80.36]
[null,"e. Bahasa Arab",{"$f":"VLOOKUP($R$18,BA!$A$8:'BA'!$M$207,6,0)","v":81},{"$f":"VLOOKUP($R$18,BA!$A$8:'BA'!$M$207,7,0)","v":82},{"$f":"VLOOKUP($R$18,BA!$A$8:'BA'!$M$207,8,0)","v":76},{"$f":"VLOOKUP($R$18,BA!$A$8:'BA'!$M$207,9,0)","v":81},{"$f":"VLOOKUP($R$18,BA!$A$8:'BA'!$M$207,10,0)","v":81},null,401,{"$f":"I14/5","v":80.2},{"$f":"SISWA!L22","v":65},{"$f":"VLOOKUP($R$18,BA!$A$8:'BA'!$M$207,12,0)","v":65},{"$f":"VLOOKUP($R$18,BA!$A$8:'BA'!$M$207,13,0)","v":80.2},72.599999999999994,77.16]
[2,{"$f":"SISWA!K9","v":"Pendidikan Kewarganegaraan"},{"$f":"VLOOKUP(R18,PKn!A8:'PKn'!M207,6,0)","v":80},{"$f":"VLOOKUP(R18,PKn!A8:'PKn'!M207,7,0)","v":82},{"$f":"VLOOKUP(R18,PKn!A8:'PKn'!M207,8,0)","v":89},{"$f":"VLOOKUP(R18,PKn!A8:'PKn'!M207,9,0)","v":93},{"$f":"VLOOKUP(R18,PKn!A8:'PKn'!M207,10,0)","v":93},null,437,{"$f":"I15/5","v":87.4},{"$f":"SISWA!L9","v":65},{"$f":"VLOOKUP(R18,PKn!A8:'PKn'!M207,12,0)","v":65},"−",65,78.44,"1. Tentukan SKM Mapel"]
[3,{"$f":"SISWA!K10","v":"Bahasa Indonesia"},{"$f":"VLOOKUP(R18,BID!A8:'BID'!M207,6,0)","v":80},{"$f":"VLOOKUP(R18,BID!A8:'BID'!M207,7,0)","v":78},{"$f":"VLOOKUP(R18,BID!A8:'BID'!M207,8,0)","v":84},{"$f":"VLOOKUP(R18,BID!A8:'BID'!M207,9,0)","v":88},{"$f":"VLOOKUP(R18,BID!A8:'BID'!M207,10,0)","v":91},null,421,84.2,{"$f":"SISWA!L10","v":65},{"$f":"VLOOKUP(R18,BID!A8:'BID'!M207,12,0)","v":83.39},{"$f":"VLOOKUP(R18,BID!A8:'BID'!M207,13,0)","v":84.2},83.795000000000002,84.038000000000011,"2. Tentukan penilaian akhir (kelulusan) berdasarkan Rapor "]
[4,{"$f":"SISWA!K11","v":"Matematika"},{"$f":"VLOOKUP(R18,MTK!A8:'MTK'!M207,6,0)","v":80},{"$f":"VLOOKUP(R18,MTK!A8:'MTK'!M207,7,0)","v":78},{"$f":"VLOOKUP(R18,MTK!A8:'MTK'!M207,8,0)","v":81},{"$f":"VLOOKUP(R18,MTK!A8:'MTK'!M207,9,0)","v":83},{"$f":"VLOOKUP(R18,MTK!A8:'MTK'!M207,10,0)","v":96},null,{"$f":"SUM(C17:G17)","v":418},83.6,{"$f":"SISWA!L11","v":65},{"$f":"VLOOKUP(R18,MTK!A8:'MTK'!M207,12,0)","v":77.33},"−",77.33,81.091999999999999,"3. Tentukan kriteria kelulusan ujian sebelum US/M",null,"NO ABSEN"]
[5,{"$f":"SISWA!K12","v":"Ilmu Pengetahuan Alam"},{"$f":"VLOOKUP(R18,IPA!A8:'IPA'!M207,6,0)","v":81},{"$f":"VLOOKUP(R18,IPA!A8:'IPA'!M207,7,0)","v":79},{"$f":"VLOOKUP(R18,IPA!A8:'IPA'!M207,8,0)","v":78},{"$f":"VLOOKUP(R18,IPA!A8:'IPA'!M207,9,0)","v":81},{"$f":"VLOOKUP(R18,IPA!A8:'IPA'!M207,10,0)","v":86},null,405,81,{"$f":"SISWA!L12","v":65},{"$f":"VLOOKUP(R18,IPA!A8:'IPA'!M207,12,0)","v":74},{"$f":"VLOOKUP(R18,IPA!A8:'IPA'!M207,13,0)","v":81},77.5,79.599999999999994,"4. Tentukan kelulusan peserta didik berdasarkan US/M",null,1]
[6,{"$f":"SISWA!K13","v":"Ilmu Pengetahuan Sosial"},{"$f":"VLOOKUP(R18,IPS!A8:'IPS'!M207,6,0)","v":81},{"$f":"VLOOKUP(R18,IPS!A8:'IPS'!M207,7,0)","v":80},{"$f":"VLOOKUP(R18,IPS!A8:'IPS'!M207,8,0)","v":83},{"$f":"VLOOKUP(R18,IPS!A8:'IPS'!M207,9,0)","v":86},{"$f":"VLOOKUP(R18,IPS!A8:'IPS'!M207,10,0)","v":87},null,417,83.4,{"$f":"SISWA!L13","v":65},{"$f":"VLOOKUP(R18,IPS!A8:'IPS'!M207,12,0)","v":65},"−",65,76.039999999999992,"    a. Nilai minimal setiap mata pelajaran ujian = 4,00"]
[7,{"$f":"SISWA!K14","v":"Seni Budaya dan Keterampilan"},{"$f":"VLOOKUP(R18,SBK!A8:'SBK'!M207,6,0)","v":80},{"$f":"VLOOKUP(R18,SBK!A8:'SBK'!M207,7,0)","v":78},{"$f":"VLOOKUP(R18,SBK!A8:'SBK'!M207,8,0)","v":83},{"$f":"VLOOKUP(R18,SBK!A8:'SBK'!M207,9,0)","v":82},{"$f":"VLOOKUP(R18,SBK!A8:'SBK'!M207,10,0)","v":90},null,413,82.6,{"$f":"SISWA!L14","v":70},"−",{"$f":"VLOOKUP(R18,SBK!A8:'SBK'!M207,13,0)","v":82.6},82.6,82.6,"    b. Nilai rata-rata minimal  mata pelajaran ujian = 5,50"]
[8,{"$f":"SISWA!K15","v":"Pendidikan Jasmani Olahraga dan Kesehatan"},{"$f":"VLOOKUP(R18,PJK!A8:'PJK'!M207,6,0)","v":82},{"$f":"VLOOKUP(R18,PJK!A8:'PJK'!M207,7,0)","v":81},{"$f":"VLOOKUP(R18,PJK!A8:'PJK'!M207,8,0)","v":83},{"$f":"VLOOKUP(R18,PJK!A8:'PJK'!M207,9,0)","v":82},{"$f":"VLOOKUP(R18,PJK!A8:'PJK'!M207,10,0)","v":85},null,413,82.6,{"$f":"SISWA!L15","v":70},"−",{"$f":"VLOOKUP(R18,PJK!A8:'PJK'!M207,13,0)","v":82.6},82.6,82.6]
[9,{"$f":"SISWA!K16","v":"Bahasa Daerah"},{"$f":"VLOOKUP(R18,BD!A8:M207,6,0)","v":76},{"$f":"VLOOKUP(R18,BD!A8:M207,7,0)","v":76},{"$f":"VLOOKUP(R18,BD!A8:M207,8,0)","v":77},{"$f":"VLOOKUP(R18,BD!A8:M207,9,0)","v":74},{"$f":"VLOOKUP(R18,BD!A8:M207,10,0)","v":89},null,392,78.400000000000006,{"$f":"SISWA!L16","v":65},{"$f":"VLOOKUP(R18,BD!A8:M207,12,0)","v":65},"−",65,73.039999999999992]
[10,{"$f":"SISWA!K17","v":"Bahasa Inggris"},{"$f":"VLOOKUP(R18,BIG!A8:M207,6,0)","v":77},{"$f":"VLOOKUP(R18,BIG!A8:M207,7,0)","v":74},{"$f":"VLOOKUP(R18,BIG!A8:M207,8,0)","v":83},{"$f":"VLOOKUP(R18,BIG!A8:M207,9,0)","v":85},{"$f":"VLOOKUP(R18,BIG!A8:M207,10,0)","v":80},null,399,79.8,{"$f":"SISWA!L17","v":65},{"$f":"VLOOKUP(R18,BIG!A8:M207,12,0)","v":65},{"$f":"VLOOKUP(R18,BIG!A8:M207,13,0)","v":79.8},72.400000000000006,76.84]
[]
[]
[null,"NILAI RATA-RATA TOTAL",null,null,null,null,null,null,null,{"$f":"AVERAGE(J9:J23)","v":83.157142857142858},{"$f":"AVERAGE(K9:K23)","v":65.714285714285708},null,null,{"$f":"AVERAGE(N9:N23)","v":74.594642857142858},{"$f":"(60%*J26)+(40%*N26)","v":79.732142857142861}]
[]
[null,"KELULUSAN ",null,null,null,null,null,null,null,"LULUS",null,null,null,"LULUS",null," "]
[]
[null,"Catatan: "]
[null,"1. Daftar Nilai Ujian Mata Pelajaran (halaman belakang ijazah), terdapat 3 kolom, yaitu: 1) kolom Nilai Rata-rata Rapor; 2) kolom Nilai Ujian Sekolah; dan 3) kolom Nilai Sekolah. "]
[null,"2. Nilai rata-rata Rapor (kriteria 2 berdasarkan PP no.32; Permendikbud No.102, dan POS US/M), dan Nilai Ujian Sekolah (kriteria 3) HARUS LULUS."]
[null,"3. Nilai Sekolah adalah penjumlahan proporsi Nilai Rata-rata Rapor dan Nilai Ujian Sekolah. Besarnya proporsi diatur dalam petunjuk teknis pelaksanaan US/M "]
[null,"     Dinas Pendidikan Provinsi, Kanwil Kemenag dan/atau Dinas Pendidikan Kab/Kota, dan Kantor Kemenag (60%NR + 40% RNU)"]

{"sheet":"petunjuk","index":26,"n_rows":12,"n_cols":12,"rows_kept":12,"cut":false,"hidden":false,"merged":[]}
[]
[]
[null,"PETUNJUK"]
[null,"Mohon maaf…"]
[null,"Dikarnakan tutorialnya begitu banyak dan tidak mungkin saya taruh di sini"]
[null,"oleh sebab itu Anda bisa mengunduhnya di"]
[null,"c.kurniawan@ymail.com",null,null,null,"atau"]
[]
[]
[]
["PENOMORAN IJAZAH","001/Mi.13.05.162/PP.01.1/06/2018"]
[null,null,"surat keluar","jenjang (MI) kode Provinsi (13) kode kabupaten (05) nus (162)",null,null,null,null,null,null,"bulan (06)","tahun (2018)"]

{"sheet":"RUMUS","index":27,"n_rows":2,"n_cols":1,"rows_kept":2,"cut":false,"hidden":false,"merged":[]}
["RUMUS NILAI 2 DIGIT, 2 ANGKA BELAKANG KOMA = 22,22"]
["=VLOOKUP(LEFT(G27;1)*1;KONIJ;2)&\" \"&VLOOKUP(MID(G27;2;1)*1;KONIJ;2)&\" Koma \"&VLOOKUP(RIGHT(G27;1)*1;KONIJ;2)&\" \"&VLOOKUP(RIGHT(G27;2)*1;KONIJ;2)\""]