{"text_format":"1","workbook":"xlsx","n_sheets":27,"sheets":["CEKKODEGURU","CEKANGKA","1A","1B","1C","2A","2B","2C","3A","3B","3C","4A","4B","4C","5A","5B","6A","6B","1ABC","2ABC","3ABC","4ABC","5ABC","CEKJADWALMP","6ABC","DAFTARGURU","HOME"],"not_rendered":{"charts":0,"images":0,"macros":1,"external_links":0,"defined_names":26,"comments":16,"pivot_tables":0},"unopened":[],"bounds":{"document_bytes":16777216,"sheet_cells":100000,"rows_first":2000,"rows_last":500,"rows_between":2000,"halvings":0,"cell_chars":16384,"cell_head_chars":4096},"cells_cut":0,"cells_raw":0,"read":"whole","date_system":"1900"}

{"sheet":"CEKKODEGURU","index":0,"n_rows":75,"n_cols":27,"rows_kept":75,"cut":false,"hidden":false,"merged":[[64,0,66,0],[64,1,64,18],[65,1,65,3],[65,4,65,6],[65,7,65,9],[65,10,65,12],[65,13,65,15],[65,16,65,18],[52,0,54,0],[52,1,52,18],[53,1,53,3],[53,4,53,6],[53,7,53,9],[53,10,53,12],[53,13,53,15],[53,16,53,18],[40,0,42,0],[40,1,40,18],[41,1,41,3],[41,4,41,6],[41,7,41,9],[41,10,41,12],[41,13,41,15],[41,16,41,18],[28,0,30,0],[28,1,28,18],[29,1,29,3],[29,4,29,6],[29,7,29,9],[29,10,29,12],[29,13,29,15],[29,16,29,18],[16,0,18,0],[16,1,16,18],[17,1,17,3],[17,4,17,6],[17,7,17,9],[17,10,17,12],[17,13,17,15],[17,16,17,18],[0,0,0,18],[1,0,1,18],[2,0,2,18],[4,0,6,0],[4,1,4,18],[5,1,5,3],[5,4,5,6],[5,7,5,9],[5,10,5,12],[5,13,5,15],[5,16,5,18]]}
["SINKRONISASI JADWAL PELAJARAN KURIKULUM 2013"]
["MI NURUL ISLAM LABRUK KIDUL"]
[{"$f":"\"TAHUN PELAJARAN \"&HOME!A8","v":"TAHUN PELAJARAN 2020/2021"},null,null,null,null,null,null,null,null,null,null,null,null,null,null,null,null,null,null,null,null,"BLOK CONDITIONAL FORMATTING"]
[]
["NO","KELAS 1"]
[null,"SENIN",null,null,"SELASA",null,null,"RABU",null,null,"KAMIS",null,null,"JUMAT",null,null,"SABTU",null,null,null,null,"SENIN","SELASA","RABU","KAMIS","JUMAT","SABTU"]
[null,"A","B","C","A","B","C","A","B","C","A","B","C","A","B","C","A","B","C",null,"JAM1",{"$f":"B8:D8,B20:D20,B32:D32,B44:D44,B56:D56,B68:D68","v":{"$error":"#VALUE!"}},{"$f":"E8:G8,E20:G20,E32:G32,E44:G44,E56:G56,E68:G68","v":{"$error":"#VALUE!"}},{"$f":"H8:J8,H20:J20,H32:J32,H44:J44,H56:J56,H68:J68","v":{"$error":"#VALUE!"}},{"$f":"K8:M8,K20:M20,K32:M32,K44:M44,K56:M56,K68:M68","v":{"$error":"#VALUE!"}},{"$f":"N8:P8,N20:P20,N32:P32,N44:P44,N56:P56,N68:P68","v":{"$error":"#VALUE!"}},{"$f":"Q8:S8,Q20:S20,Q32:S32,Q44:S44,Q56:S56,Q68:S68","v":{"$error":"#VALUE!"}}]
[1,{"$f":"'1A'!$C$9","v":" F"},{"$f":"'1B'!$C$9","v":0},{"$f":"'1C'!$C$9","v":0},{"$f":"'1A'!$E$9","v":"F"},{"$f":"'1B'!$E$9","v":0},{"$f":"'1C'!$E$9","v":0},{"$f":"'1A'!$G$9","v":"F"},{"$f":"'1B'!$G$9","v":0},{"$f":"'1C'!$G$9","v":0},{"$f":"'1A'!$I$9","v":"F"},{"$f":"'1B'!$I$9","v":0},{"$f":"'1C'!$I$9","v":0},{"$f":"'1A'!$M$9","v":"F"},{"$f":"'1B'!$M$9","v":0},{"$f":"'1C'!$M$9","v":0},{"$f":"'1A'!$C$22","v":"F"},{"$f":"'1B'!$C$22","v":0},{"$f":"'1C'!$C$22","v":0},null,"JAM1",{"$f":"B9:D9,B21:D21,B33:D33,B45:D45,B57:D57,B69:D69","v":{"$error":"#VALUE!"}},{"$f":"E9:G9,E21:G21,E33:G33,E45:G45,E57:G57,E69:G69","v":{"$error":"#VALUE!"}},{"$f":"H9:J9,H21:J21,H33:J33,H45:J45,H57:J57,H69:J69","v":{"$error":"#VALUE!"}},{"$f":"K9:M9,K21:M21,K33:M33,K45:M45,K57:M57,K69:M69","v":{"$error":"#VALUE!"}},{"$f":"N9:P9,N21:P21,N33:P33,N45:P45,N57:P57,N69:P69","v":{"$error":"#VALUE!"}},{"$f":"Q9:S9,Q21:S21,Q33:S33,Q45:S45,Q57:S57,Q69:S69","v":{"$error":"#VALUE!"}}]
[2,{"$f":"'1A'!$C$10","v":"F"},{"$f":"'1B'!$C$10","v":0},{"$f":"'1C'!$C$10","v":0},{"$f":"'1A'!$E$10","v":"F"},{"$f":"'1B'!$E$10","v":0},{"$f":"'1C'!$E$10","v":0},{"$f":"'1A'!$G$10","v":"F"},{"$f":"'1B'!$G$10","v":0},{"$f":"'1C'!$G$10","v":0},{"$f":"'1A'!$I$10","v":"F"},{"$f":"'1B'!$I$10","v":0},{"$f":"'1C'!$I$10","v":0},{"$f":"'1A'!$M$10","v":"F"},{"$f":"'1B'!$M$10","v":0},{"$f":"'1C'!$M$10","v":0},{"$f":"'1A'!$C$23","v":"F"},{"$f":"'1B'!$C$23","v":0},{"$f":"'1C'!$C$23","v":0},null,"JAM3",{"$f":"B10:D10,B22:D22,B34:D34,B46:D46,B58:D58,B70:D70","v":{"$error":"#VALUE!"}},{"$f":"E10:G10,E22:G22,E34:G34,E46:G46,E58:G58,E70:G70","v":{"$error":"#VALUE!"}},{"$f":"H10:J10,H22:J22,H34:J34,H46:J46,H58:J58,H70:J70","v":{"$error":"#VALUE!"}},{"$f":"K10:M10,K22:M22,K34:M34,K46:M46,K58:M58,K70:M70","v":{"$error":"#VALUE!"}},{"$f":"N10:P10,N22:P22,N34:P34,N46:P46,N58:P58,N70:P70","v":{"$error":"#VALUE!"}},{"$f":"Q10:S10,Q22:S22,Q34:S34,Q46:S46,Q58:S58,Q70:S70","v":{"$error":"#VALUE!"}}]
[3,{"$f":"'1A'!$C$11","v":"F"},{"$f":"'1B'!$C$11","v":0},{"$f":"'1C'!$C$11","v":0},{"$f":"'1A'!$E$11","v":"F"},{"$f":"'1B'!$E$11","v":0},{"$f":"'1C'!$E$11","v":0},{"$f":"'1A'!$G$11","v":"F"},{"$f":"'1B'!$G$11","v":0},{"$f":"'1C'!$G$11","v":0},{"$f":"'1A'!$I$11","v":"F"},{"$f":"'1B'!$I$11","v":0},{"$f":"'1C'!$I$11","v":0},{"$f":"'1A'!$M$11","v":"F"},{"$f":"'1B'!$M$11","v":0},{"$f":"'1C'!$M$11","v":0},{"$f":"'1A'!$C$25","v":"F"},{"$f":"'1B'!$C$25","v":0},{"$f":"'1C'!$C$25","v":0},null,"JAM4",{"$f":"B11:D11,B23:D23,B35:D35,B47:D47,B59:D59,B71:D71","v":{"$error":"#VALUE!"}},{"$f":"E11:G11,E23:G23,E35:G35,E47:G47,E59:G59,E71:G71","v":{"$error":"#VALUE!"}},{"$f":"H11:J11,H23:J23,H35:J35,H47:J47,H59:J59,H71:J71","v":{"$error":"#VALUE!"}},{"$f":"K11:M11,K23:M23,K35:M35,K47:M47,K59:M59,K71:M71","v":{"$error":"#VALUE!"}},{"$f":"N11:P11,N23:P23,N35:P35,N47:P47,N59:P59,N71:P71","v":{"$error":"#VALUE!"}},{"$f":"Q11:S11,Q23:S23,Q35:S35,Q47:S47,Q59:S59,Q71:S71","v":{"$error":"#VALUE!"}}]
[4,{"$f":"'1A'!$C$13","v":"F"},{"$f":"'1B'!$C$13","v":0},{"$f":"'1C'!$C$13","v":0},{"$f":"'1A'!$E$13","v":"F"},{"$f":"'1B'!$E$13","v":0},{"$f":"'1C'!$E$13","v":0},{"$f":"'1A'!$G$13","v":"F"},{"$f":"'1B'!$G$13","v":0},{"$f":"'1C'!$G$13","v":0},{"$f":"'1A'!$I$13","v":"F"},{"$f":"'1B'!$I$13","v":0},{"$f":"'1C'!$I$13","v":0},{"$f":"'1A'!$M$13","v":"F"},{"$f":"'1B'!$M$13","v":0},{"$f":"'1C'!$M$13","v":0},{"$f":"'1A'!$C$26","v":"F"},{"$f":"'1B'!$C$26","v":0},{"$f":"'1C'!$C$26","v":0},null,"JAM5",{"$f":"B12:D12,B24:D24,B36:D36,B48:D48,B60:D60,B72:D72","v":{"$error":"#VALUE!"}},{"$f":"E12:G12,E24:G24,E36:G36,E48:G48,E60:G60,E72:G72","v":{"$error":"#VALUE!"}},{"$f":"H12:J12,H24:J24,H36:J36,H48:J48,H60:J60,H72:J72","v":{"$error":"#VALUE!"}},{"$f":"K12:M12,K24:M24,K36:M36,K48:M48,K60:M60,K72:M72","v":{"$error":"#VALUE!"}},{"$f":"N12:P12,N24:P24,N36:P36,N48:P48,N60:P60,N72:P72","v":{"$error":"#VALUE!"}},{"$f":"Q12:S12,Q24:S24,Q36:S36,Q48:S48,Q60:S60,Q72:S72","v":{"$error":"#VALUE!"}}]
[5,{"$f":"'1A'!$C$14","v":"F"},{"$f":"'1B'!$C$14","v":0},{"$f":"'1C'!$C$14","v":0},{"$f":"'1A'!$E$14","v":"F"},{"$f":"'1B'!$E$14","v":0},{"$f":"'1C'!$E$14","v":0},{"$f":"'1A'!$G$14","v":"F"},{"$f":"'1B'!$G$14","v":0},{"$f":"'1C'!$G$14","v":0},{"$f":"'1A'!$I$14","v":"F"},{"$f":"'1B'!$I$14","v":0},{"$f":"'1C'!$I$14","v":0},{"$f":"'1A'!$M$14","v":"F"},{"$f":"'1B'!$M$14","v":0},{"$f":"'1C'!$M$14","v":0},{"$f":"'1A'!$C$27","v":0},{"$f":"'1B'!$C$27","v":0},{"$f":"'1C'!$C$27","v":0},null,"JAM6",{"$f":"B13:D13,B25:D25,B37:D37,B49:D49,B61:D61,B73:D73","v":{"$error":"#VALUE!"}},{"$f":"E13:G13,E25:G25,E37:G37,E49:G49,E61:G61,E73:G73","v":{"$error":"#VALUE!"}},{"$f":"H13:J13,H25:J25,H37:J37,H49:J49,H61:J61,H73:J73","v":{"$error":"#VALUE!"}},{"$f":"K13:M13,K25:M25,K37:M37,K49:M49,K61:M61,K73:M73","v":{"$error":"#VALUE!"}},{"$f":"N13:P13,N25:P25,N37:P37,N49:P49,N61:P61,N73:P73","v":{"$error":"#VALUE!"}},{"$f":"Q13:S13,Q25:S25,Q37:S37,Q49:S49,Q61:S61,Q73:S73","v":{"$error":"#VALUE!"}}]
[6,{"$f":"'1A'!$C$15","v":"F"},{"$f":"'1B'!$C$15","v":0},{"$f":"'1C'!$C$15","v":0},{"$f":"'1A'!$E$15","v":"F"},{"$f":"'1B'!$E$15","v":0},{"$f":"'1C'!$E$15","v":0},{"$f":"'1A'!$G$15","v":"F"},{"$f":"'1B'!$G$15","v":0},{"$f":"'1C'!$G$15","v":0},{"$f":"'1A'!$I$15","v":"F"},{"$f":"'1B'!$I$15","v":0},{"$f":"'1C'!$I$15","v":0},{"$f":"'1A'!$M$15","v":0},{"$f":"'1B'!$M$15","v":0},{"$f":"'1C'!$M$15","v":0},{"$f":"'1A'!$C$28","v":0},{"$f":"'1B'!$C$28","v":0},{"$f":"'1C'!$C$28","v":0},null,"JAM7",{"$f":"B14:D14,B26:D26,B38:D38,B50:D50,B62:D62,B74:D74","v":{"$error":"#VALUE!"}},{"$f":"E14:G14,E26:G26,E38:G38,E50:G50,E62:G62,E74:G74","v":{"$error":"#VALUE!"}},{"$f":"H14:J14,H26:J26,H38:J38,H50:J50,H62:J62,H74:J74","v":{"$error":"#VALUE!"}},{"$f":"K14:M14,K26:M26,K38:M38,K50:M50,K62:M62,K74:M74","v":{"$error":"#VALUE!"}},{"$f":"N14:P14,N26:P26,N38:P38,N50:P50,N62:P62,N74:P74","v":{"$error":"#VALUE!"}},{"$f":"Q14:S14,Q26:S26,Q38:S38,Q50:S50,Q62:S62,Q74:S74","v":{"$error":"#VALUE!"}}]
[7,null,null,null,null,null,null,null,null,null,null,null,null,null,null,null,null,null,null,null,"JAM8",{"$f":"B15:D15,B27:D27,B39:D39,B51:D51,B63:D63,B75:D75","v":{"$error":"#VALUE!"}},{"$f":"E15:G15,E27:G27,E39:G39,E51:G51,E63:G63,E75:G75","v":{"$error":"#VALUE!"}},{"$f":"H15:J15,H27:J27,H39:J39,H51:J51,H63:J63,H75:J75","v":{"$error":"#VALUE!"}},{"$f":"K15:M15,K27:M27,K39:M39,K51:M51,K63:M63,K75:M75","v":{"$error":"#VALUE!"}},{"$f":"N15:P15,N27:P27,N39:P39,N51:P51,N63:P63,N75:P75","v":{"$error":"#VALUE!"}},{"$f":"Q15:S15,Q27:S27,Q39:S39,Q51:S51,Q63:S63,Q75:S75","v":{"$error":"#VALUE!"}}]
[8]
[]
["NO","KELAS 2"]
[null,"SENIN",null,null,"SELASA",null,null,"RABU",null,null,"KAMIS",null,null,"JUMAT",null,null,"SABTU"]
[null,"A","B","C","A","B","C","A","B","C","A","B","C","A","B","C","A","B","C"]
[1,{"$f":"'2A'!$C$9","v":0},{"$f":"'2B'!$C$9","v":0},{"$f":"'2C'!$C$9","v":0},{"$f":"'2A'!$E$9","v":0},{"$f":"'2B'!$E$9","v":0},{"$f":"'2C'!$E$9","v":0},{"$f":"'2A'!$G$9","v":0},{"$f":"'2B'!$G$9","v":0},{"$f":"'2C'!$G$9","v":0},{"$f":"'2A'!$I$9","v":0},{"$f":"'2B'!$I$9","v":0},{"$f":"'2C'!$I$9","v":0},{"$f":"'2A'!$M$9","v":0},{"$f":"'2B'!$M$9","v":0},{"$f":"'2C'!$M$9","v":0},{"$f":"'2A'!$C$22","v":0},{"$f":"'2B'!$C$22","v":0},{"$f":"'2C'!$C$22","v":0}]
[2,{"$f":"'2A'!$C$10","v":0},{"$f":"'2B'!$C$10","v":0},{"$f":"'2C'!$C$10","v":0},{"$f":"'2A'!$E$10","v":0},{"$f":"'2B'!$E$10","v":0},{"$f":"'2C'!$E$10","v":0},{"$f":"'2A'!$G$10","v":0},{"$f":"'2B'!$G$10","v":0},{"$f":"'2C'!$G$10","v":0},{"$f":"'2A'!$I$10","v":0},{"$f":"'2B'!$I$10","v":0},{"$f":"'2C'!$I$10","v":0},{"$f":"'2A'!$M$10","v":0},{"$f":"'2B'!$M$10","v":0},{"$f":"'2C'!$M$10","v":0},{"$f":"'2A'!$C$23","v":0},{"$f":"'2B'!$C$23","v":0},{"$f":"'2C'!$C$23","v":0}]
[3,{"$f":"'2A'!$C$11","v":0},{"$f":"'2B'!$C$11","v":0},{"$f":"'2C'!$C$11","v":0},{"$f":"'2A'!$E$11","v":0},{"$f":"'2B'!$E$11","v":0},{"$f":"'2C'!$E$11","v":0},{"$f":"'2A'!$G$11","v":0},{"$f":"'2B'!$G$11","v":0},{"$f":"'2C'!$G$11","v":0},{"$f":"'2A'!$I$11","v":0},{"$f":"'2B'!$I$11","v":0},{"$f":"'2C'!$I$11","v":0},{"$f":"'2A'!$M$11","v":0},{"$f":"'2B'!$M$11","v":0},{"$f":"'2C'!$M$11","v":0},{"$f":"'2A'!$C$25","v":0},{"$f":"'2B'!$C$25","v":0},{"$f":"'2C'!$C$25","v":0}]
[4,{"$f":"'2A'!$C$13","v":0},{"$f":"'2B'!$C$13","v":0},{"$f":"'2C'!$C$13","v":0},{"$f":"'2A'!$E$13","v":0},{"$f":"'2B'!$E$13","v":0},{"$f":"'2C'!$E$13","v":0},{"$f":"'2A'!$G$13","v":0},{"$f":"'2B'!$G$13","v":0},{"$f":"'2C'!$G$13","v":0},{"$f":"'2A'!$I$13","v":0},{"$f":"'2B'!$I$13","v":0},{"$f":"'2C'!$I$13","v":0},{"$f":"'2A'!$M$13","v":0},{"$f":"'2B'!$M$13","v":0},{"$f":"'2C'!$M$13","v":0},{"$f":"'2A'!$C$26","v":0},{"$f":"'2B'!$C$26","v":0},{"$f":"'2C'!$C$26","v":0}]
[5,{"$f":"'2A'!$C$14","v":0},{"$f":"'2B'!$C$14","v":0},{"$f":"'2C'!$C$14","v":0},{"$f":"'2A'!$E$14","v":0},{"$f":"'2B'!$E$14","v":0},{"$f":"'2C'!$E$14","v":0},{"$f":"'2A'!$G$14","v":0},{"$f":"'2B'!$G$14","v":0},{"$f":"'2C'!$G$14","v":0},{"$f":"'2A'!$I$14","v":0},{"$f":"'2B'!$I$14","v":0},{"$f":"'2C'!$I$14","v":0},{"$f":"'2A'!$M$14","v":0},{"$f":"'2B'!$M$14","v":0},{"$f":"'2C'!$M$14","v":0},{"$f":"'2A'!$C$27","v":0},{"$f":"'2B'!$C$27","v":0},{"$f":"'2C'!$C$27","v":0}]
[6,{"$f":"'2A'!$C$15","v":0},{"$f":"'2B'!$C$15","v":0},{"$f":"'2C'!$C$15","v":0},{"$f":"'2A'!$E$15","v":0},{"$f":"'2B'!$E$15","v":0},{"$f":"'2C'!$E$15","v":0},{"$f":"'2A'!$G$15","v":0},{"$f":"'2B'!$G$15","v":0},{"$f":"'2C'!$G$15","v":0},{"$f":"'2A'!$I$15","v":0},{"$f":"'2B'!$I$15","v":0},{"$f":"'2C'!$I$15","v":0},{"$f":"'2A'!$M$15","v":0},{"$f":"'2B'!$M$15","v":0},{"$f":"'2C'!$M$15","v":0},{"$f":"'2A'!$C$28","v":0},{"$f":"'2B'!$C$28","v":0},{"$f":"'2C'!$C$28","v":0}]
[7]
[8]
[]
["NO","KELAS 3"]
[null,"SENIN",null,null,"SELASA",null,null,"RABU",null,null,"KAMIS",null,null,"JUMAT",null,null,"SABTU"]
[null,"A","B","C","A","B","C","A","B","C","A","B","C","A","B","C","A","B","C"]
[1,{"$f":"'3A'!$C$9","v":0},{"$f":"'3B'!$C$9","v":0},{"$f":"'3C'!$C$9","v":0},{"$f":"'3A'!$E$9","v":0},{"$f":"'3B'!$E$9","v":0},{"$f":"'3C'!$E$9","v":0},{"$f":"'3A'!$G$9","v":0},{"$f":"'3B'!$G$9","v":0},{"$f":"'3C'!$G$9","v":0},{"$f":"'3A'!$I$9","v":0},{"$f":"'3B'!$I$9","v":0},{"$f":"'3C'!$I$9","v":0},{"$f":"'3A'!$M$9","v":0},{"$f":"'3B'!$M$9","v":0},{"$f":"'3C'!$M$9","v":0},{"$f":"'3A'!$C$22","v":0},{"$f":"'3B'!$C$22","v":0},{"$f":"'3C'!$C$22","v":0}]
[2,{"$f":"'3A'!$C$10","v":0},{"$f":"'3B'!$C$10","v":0},{"$f":"'3C'!$C$10","v":0},{"$f":"'3A'!$E$10","v":0},{"$f":"'3B'!$E$10","v":0},{"$f":"'3C'!$E$10","v":0},{"$f":"'3A'!$G$10","v":0},{"$f":"'3B'!$G$10","v":0},{"$f":"'3C'!$G$10","v":0},{"$f":"'3A'!$I$10","v":0},{"$f":"'3B'!$I$10","v":0},{"$f":"'3C'!$I$10","v":0},{"$f":"'3A'!$M$10","v":0},{"$f":"'3B'!$M$10","v":0},{"$f":"'3C'!$M$10","v":0},{"$f":"'3A'!$C$23","v":0},{"$f":"'3B'!$C$23","v":0},{"$f":"'3C'!$C$23","v":0}]
[3,{"$f":"'3A'!$C$11","v":0},{"$f":"'3B'!$C$11","v":0},{"$f":"'3C'!$C$11","v":0},{"$f":"'3A'!$E$11","v":0},{"$f":"'3B'!$E$11","v":0},{"$f":"'3C'!$E$11","v":0},{"$f":"'3A'!$G$11","v":0},{"$f":"'3B'!$G$11","v":0},{"$f":"'3C'!$G$11","v":0},{"$f":"'3A'!$I$11","v":0},{"$f":"'3B'!$I$11","v":0},{"$f":"'3C'!$I$11","v":0},{"$f":"'3A'!$M$11","v":0},{"$f":"'3B'!$M$11","v":0},{"$f":"'3C'!$M$11","v":0},{"$f":"'3A'!$C$24","v":0},{"$f":"'3B'!$C$24","v":0},{"$f":"'3C'!$C$24","v":0}]
[4,{"$f":"'3A'!$C$12","v":0},{"$f":"'3B'!$C$12","v":0},{"$f":"'3C'!$C$12","v":0},{"$f":"'3A'!$E$12","v":0},{"$f":"'3B'!$E$12","v":0},{"$f":"'3C'!$E$12","v":0},{"$f":"'3A'!$G$12","v":0},{"$f":"'3B'!$G$12","v":0},{"$f":"'3C'!$G$12","v":0},{"$f":"'3A'!$I$12","v":0},{"$f":"'3B'!$I$12","v":0},{"$f":"'3C'!$I$12","v":0},{"$f":"'3A'!$M$12","v":0},{"$f":"'3B'!$M$12","v":0},{"$f":"'3C'!$M$12","v":0},{"$f":"'3A'!$C$25","v":0},{"$f":"'3B'!$C$25","v":0},{"$f":"'3C'!$C$25","v":0}]
[5,{"$f":"'3A'!$C$14","v":0},{"$f":"'3B'!$C$14","v":0},{"$f":"'3C'!$C$14","v":0},{"$f":"'3A'!$E$14","v":0},{"$f":"'3B'!$E$14","v":0},{"$f":"'3C'!$E$14","v":0},{"$f":"'3A'!$G$14","v":0},{"$f":"'3B'!$G$14","v":0},{"$f":"'3C'!$G$14","v":0},{"$f":"'3A'!$I$14","v":0},{"$f":"'3B'!$I$14","v":0},{"$f":"'3C'!$I$14","v":0},{"$f":"'3A'!$M$14","v":0},{"$f":"'3B'!$M$14","v":0},{"$f":"'3C'!$M$14","v":0},{"$f":"'3A'!$C$27","v":0},{"$f":"'3B'!$C$27","v":0},{"$f":"'3C'!$C$27","v":0}]
[6,{"$f":"'3A'!$C$15","v":0},{"$f":"'3B'!$C$15","v":0},{"$f":"'3C'!$C$15","v":0},{"$f":"'3A'!$E$15","v":0},{"$f":"'3B'!$E$15","v":0},{"$f":"'3C'!$E$15","v":0},{"$f":"'3A'!$G$15","v":0},{"$f":"'3B'!$G$15","v":0},{"$f":"'3C'!$G$15","v":0},{"$f":"'3A'!$I$15","v":0},{"$f":"'3B'!$I$15","v":0},{"$f":"'3C'!$I$15","v":0},{"$f":"'3A'!$M$15","v":0},{"$f":"'3B'!$M$15","v":0},{"$f":"'3C'!$M$15","v":0},{"$f":"'3A'!$C$28","v":0},{"$f":"'3B'!$C$28","v":0},{"$f":"'3C'!$C$28","v":0}]
[7,{"$f":"'3A'!$C$17","v":0},{"$f":"'3B'!$C$17","v":0},{"$f":"'3C'!$C$17","v":0},{"$f":"'3A'!$E$17","v":0},{"$f":"'3B'!$E$17","v":0},{"$f":"'3C'!$E$17","v":0},{"$f":"'3A'!$G$17","v":0},{"$f":"'3B'!$G$17","v":0},{"$f":"'3C'!$G$17","v":0},{"$f":"'3A'!$I$17","v":0},{"$f":"'3B'!$I$17","v":0},{"$f":"'3C'!$I$17","v":0}]
[8,{"$f":"'3A'!$C$18","v":0},{"$f":"'3B'!$C$18","v":0},{"$f":"'3C'!$C$18","v":0},{"$f":"'3A'!$E$18","v":0},{"$f":"'3B'!$E$18","v":0},{"$f":"'3C'!$E$18","v":0},{"$f":"'3A'!$G$18","v":0},{"$f":"'3B'!$G$18","v":0},{"$f":"'3C'!$G$18","v":0},{"$f":"'3A'!$I$18","v":0},{"$f":"'3B'!$I$18","v":0},{"$f":"'3C'!$I$18","v":0}]
[]
["NO","KELAS 4"]
[null,"SENIN",null,null,"SELASA",null,null,"RABU",null,null,"KAMIS",null,null,"JUMAT",null,null,"SABTU"]
[null,"A","B","C","A","B","C","A","B","C","A","B","C","A","B","C","A","B","C"]
[1,{"$f":"'4A'!$C$9","v":"P"},{"$f":"'4B'!$C$9","v":"X"},{"$f":"'4C'!$C$9","v":"M"},{"$f":"'4A'!$E$9","v":"P"},{"$f":"'4B'!$E$9","v":"I"},{"$f":"'4C'!$E$9","v":"X"},{"$f":"'4A'!$G$9","v":"P"},{"$f":"'4B'!$G$9","v":"I"},{"$f":"'4C'!$G$9","v":"AA"},{"$f":"'4A'!$I$9","v":"P"},{"$f":"'4B'!$I$9","v":"I"},{"$f":"'4C'!$I$9","v":"M"},{"$f":"'4A'!$M$9","v":"X"},{"$f":"'4B'!$M$9","v":"AA"},{"$f":"'4C'!$M$9","v":"M"},{"$f":"'4A'!$C$22","v":"AA"},{"$f":"'4B'!$C$22","v":"I"},{"$f":"'4C'!$C$22","v":"M"}]
[2,{"$f":"'4A'!$C$10","v":"P"},{"$f":"'4B'!$C$10","v":"X"},{"$f":"'4C'!$C$10","v":"M"},{"$f":"'4A'!$E$10","v":"P"},{"$f":"'4B'!$E$10","v":"I"},{"$f":"'4C'!$E$10","v":"X"},{"$f":"'4A'!$G$10","v":"P"},{"$f":"'4B'!$G$10","v":"I"},{"$f":"'4C'!$G$10","v":"AA"},{"$f":"'4A'!$I$10","v":"P"},{"$f":"'4B'!$I$10","v":"I"},{"$f":"'4C'!$I$10","v":"M"},{"$f":"'4A'!$M$10","v":"X"},{"$f":"'4B'!$M$10","v":"AA"},{"$f":"'4C'!$M$10","v":"M"},{"$f":"'4A'!$C$23","v":"AA"},{"$f":"'4B'!$C$23","v":"I"},{"$f":"'4C'!$C$23","v":"M"}]
[3,{"$f":"'4A'!$C$11","v":"B"},{"$f":"'4B'!$C$11","v":"X"},{"$f":"'4C'!$C$11","v":"J"},{"$f":"'4A'!$E$11","v":"P"},{"$f":"'4B'!$E$11","v":"B"},{"$f":"'4C'!$E$11","v":"X"},{"$f":"'4A'!$G$11","v":"AA"},{"$f":"'4B'!$G$11","v":"I"},{"$f":"'4C'!$G$11","v":"AA"},{"$f":"'4A'!$I$11","v":"P"},{"$f":"'4B'!$I$11","v":"H"},{"$f":"'4C'!$I$11","v":"M"},{"$f":"'4A'!$M$11","v":"X"},{"$f":"'4B'!$M$11","v":"AA"},{"$f":"'4C'!$M$11","v":"H"},{"$f":"'4A'!$C$24","v":"AA"},{"$f":"'4B'!$C$24","v":"I"},{"$f":"'4C'!$C$24","v":"M"}]
[4,{"$f":"'4A'!$C$12","v":"B"},{"$f":"'4B'!$C$12","v":"X"},{"$f":"'4C'!$C$12","v":"J"},{"$f":"'4A'!$E$12","v":"P"},{"$f":"'4B'!$E$12","v":"B"},{"$f":"'4C'!$E$12","v":"X"},{"$f":"'4A'!$G$12","v":"AA"},{"$f":"'4B'!$G$12","v":"I"},{"$f":"'4C'!$G$12","v":"M"},{"$f":"'4A'!$I$12","v":"P"},{"$f":"'4B'!$I$12","v":"H"},{"$f":"'4C'!$I$12","v":"M"},{"$f":"'4A'!$M$12","v":"X"},{"$f":"'4B'!$M$12","v":"I"},{"$f":"'4C'!$M$12","v":"H"},{"$f":"'4A'!$C$25","v":"AB"},{"$f":"'4B'!$C$25","v":"I"},{"$f":"'4C'!$C$25","v":"M"}]
[5,{"$f":"'4A'!$C$14","v":"J"},{"$f":"'4B'!$C$14","v":"AA"},{"$f":"'4C'!$C$14","v":"B"},{"$f":"'4A'!$E$14","v":"H"},{"$f":"'4B'!$E$14","v":"I"},{"$f":"'4C'!$E$14","v":"AA"},{"$f":"'4A'!$G$14","v":"P"},{"$f":"'4B'!$G$14","v":"I"},{"$f":"'4C'!$G$14","v":"M"},{"$f":"'4A'!$I$14","v":"P"},{"$f":"'4B'!$I$14","v":"Z"},{"$f":"'4C'!$I$14","v":"M"},{"$f":"'4A'!$M$14","v":"Z"},{"$f":"'4B'!$M$14","v":"I"},{"$f":"'4C'!$M$14","v":"M"},{"$f":"'4A'!$C$27","v":0},{"$f":"'4B'!$C$27","v":0},{"$f":"'4C'!$C$27","v":0}]
[6,{"$f":"'4A'!$C$15","v":"J"},{"$f":"'4B'!$C$15","v":"AA"},{"$f":"'4C'!$C$15","v":"B"},{"$f":"'4A'!$E$15","v":"H"},{"$f":"'4B'!$E$15","v":"I"},{"$f":"'4C'!$E$15","v":"AA"},{"$f":"'4A'!$G$15","v":"P"},{"$f":"'4B'!$G$15","v":"I"},{"$f":"'4C'!$G$15","v":"M"},{"$f":"'4A'!$I$15","v":"P"},{"$f":"'4B'!$I$15","v":"Z"},{"$f":"'4C'!$I$15","v":"M"},{"$f":"'4A'!$M$15","v":"Z"},{"$f":"'4B'!$M$15","v":"I"},{"$f":"'4C'!$M$15","v":"M"},{"$f":"'4A'!$C$28","v":0},{"$f":"'4B'!$C$28","v":0},{"$f":"'4C'!$C$28","v":0}]
[7,{"$f":"'4A'!$C$17","v":"P"},{"$f":"'4B'!$C$17","v":"J"},{"$f":"'4C'!$C$17","v":"Z"},{"$f":"'4A'!$E$17","v":"P"},{"$f":"'4B'!$E$17","v":"I"},{"$f":"'4C'!$E$17","v":"H"},{"$f":"'4A'!$G$17","v":"P"},{"$f":"'4B'!$G$17","v":"I"},{"$f":"'4C'!$G$17","v":"Z"},{"$f":"'4A'!$I$17","v":"P"},{"$f":"'4B'!$I$17","v":"I"},{"$f":"'4C'!$I$17","v":"M"}]
[8,{"$f":"'4A'!$C$18","v":"P"},{"$f":"'4B'!$C$18","v":"J"},{"$f":"'4C'!$C$18","v":"Z"},{"$f":"'4A'!$E$18","v":"P"},{"$f":"'4B'!$E$18","v":"I"},{"$f":"'4C'!$E$18","v":"H"},{"$f":"'4A'!$G$18","v":"P"},{"$f":"'4B'!$G$18","v":"I"},{"$f":"'4C'!$G$18","v":"Z"},{"$f":"'4A'!$I$18","v":"P"},{"$f":"'4B'!$I$18","v":"I"},{"$f":"'4C'!$I$18","v":"M"}]
[]
["NO","KELAS 5"]
[null,"SENIN",null,null,"SELASA",null,null,"RABU",null,null,"KAMIS",null,null,"JUMAT",null,null,"SABTU"]
[null,"A","B","C","A","B","C","A","B","C","A","B","C","A","B","C","A","B","C"]
[1,{"$f":"'5A'!$C$9","v":"Z"},{"$f":"'5B'!$C$9","v":"U"},null,{"$f":"'5A'!$E$9","v":"U"},{"$f":"'5B'!$E$9","v":"B"},null,{"$f":"'5A'!$G$9","v":"X"},{"$f":"'5B'!$G$9","v":"U"},null,{"$f":"'5A'!$I$9","v":"U"},{"$f":"'5B'!$I$9","v":"X"},null,{"$f":"'5A'!$M$9","v":"H"},{"$f":"'5B'!$M$9","v":"U"},null,{"$f":"'5A'!$C$22","v":"O"},{"$f":"'5B'!$C$22","v":"U"}]
[2,{"$f":"'5A'!$C$10","v":"Z"},{"$f":"'5B'!$C$10","v":"U"},null,{"$f":"'5A'!$E$10","v":"U"},{"$f":"'5B'!$E$10","v":"B"},null,{"$f":"'5A'!$G$10","v":"X"},{"$f":"'5B'!$G$10","v":"U"},null,{"$f":"'5A'!$I$10","v":"U"},{"$f":"'5B'!$I$10","v":"X"},null,{"$f":"'5A'!$M$10","v":"H"},{"$f":"'5B'!$M$10","v":"U"},null,{"$f":"'5A'!$C$23","v":"O"},{"$f":"'5B'!$C$23","v":"U"}]
[3,{"$f":"'5A'!$C$11","v":"O"},{"$f":"'5B'!$C$11","v":"U"},null,{"$f":"'5A'!$E$11","v":"O"},{"$f":"'5B'!$E$11","v":"U"},null,{"$f":"'5A'!$G$11","v":"X"},{"$f":"'5B'!$G$11","v":"U"},null,{"$f":"'5A'!$I$11","v":"U"},{"$f":"'5B'!$I$11","v":"X"},null,{"$f":"'5A'!$M$11","v":"O"},{"$f":"'5B'!$M$11","v":"H"},null,{"$f":"'5A'!$C$24","v":"O"},{"$f":"'5B'!$C$24","v":"U"}]
[4,{"$f":"'5A'!$C$12","v":"O"},{"$f":"'5B'!$C$12","v":"U"},null,{"$f":"'5A'!$E$12","v":"O"},{"$f":"'5B'!$E$12","v":"U"},null,{"$f":"'5A'!$G$12","v":"X"},{"$f":"'5B'!$G$12","v":"U"},null,{"$f":"'5A'!$I$12","v":"O"},{"$f":"'5B'!$I$12","v":"X"},null,{"$f":"'5A'!$M$12","v":"O"},{"$f":"'5B'!$M$12","v":"H"},null,{"$f":"'5A'!$C$25","v":"O"},{"$f":"'5B'!$C$25","v":"AB"}]
[5,{"$f":"'5A'!$C$14","v":"Z"},{"$f":"'5B'!$C$14","v":"Z"},null,{"$f":"'5A'!$E$14","v":"B"},{"$f":"'5B'!$E$14","v":"Z"},null,{"$f":"'5A'!$G$14","v":"H"},{"$f":"'5B'!$G$14","v":"U"},null,{"$f":"'5A'!$I$14","v":"O"},{"$f":"'5B'!$I$14","v":"J"},null,{"$f":"'5A'!$M$14","v":"O"},{"$f":"'5B'!$M$14","v":"U"},null,{"$f":"'5A'!$C$27","v":0},{"$f":"'5B'!$C$27","v":0}]
[6,{"$f":"'5A'!$C$15","v":"Z"},{"$f":"'5B'!$C$15","v":"Z"},null,{"$f":"'5A'!$E$15","v":"B"},{"$f":"'5B'!$E$15","v":"Z"},null,{"$f":"'5A'!$G$15","v":"H"},{"$f":"'5B'!$G$15","v":"U"},null,{"$f":"'5A'!$I$15","v":"O"},{"$f":"'5B'!$I$15","v":"J"},null,{"$f":"'5A'!$M$15","v":"O"},{"$f":"'5B'!$M$15","v":"U"},null,{"$f":"'5A'!$C$28","v":0},{"$f":"'5B'!$C$28","v":0}]
[7,{"$f":"'5A'!$C$17","v":"O"},{"$f":"'5B'!$C$17","v":"H"},null,{"$f":"'5A'!$E$17","v":"O"},{"$f":"'5B'!$E$17","v":"U"},null,{"$f":"'5A'!$G$17","v":"O"},{"$f":"'5B'!$G$17","v":"U"},null,{"$f":"'5A'!$I$17","v":"J"},{"$f":"'5B'!$I$17","v":"U"}]
[8,{"$f":"'5A'!$C$18","v":"O"},{"$f":"'5B'!$C$18","v":"H"},null,{"$f":"'5A'!$E$18","v":"O"},{"$f":"'5B'!$E$18","v":"U"},null,{"$f":"'5A'!$G$18","v":"O"},{"$f":"'5B'!$G$18","v":"U"},null,{"$f":"'5A'!$I$18","v":"J"},{"$f":"'5B'!$I$18","v":"U"}]
[]
["NO","KELAS 6"]
[null,"SENIN",null,null,"SELASA",null,null,"RABU",null,null,"KAMIS",null,null,"JUMAT",null,null,"SABTU"]
[null,"A","B","C","A","B","C","A","B","C","A","B","C","A","B","C","A","B","C"]
[1,{"$f":"'6A'!$C$9","v":0},{"$f":"'6B'!$C$9","v":"L"},null,{"$f":"'6A'!$E$9","v":"L"},{"$f":"'6B'!$E$9","v":0},null,{"$f":"'6A'!$G$9","v":"Z"},{"$f":"'6B'!$G$9","v":"L"},null,{"$f":"'6A'!$I$9","v":"N"},{"$f":"'6B'!$I$9","v":"H"},null,{"$f":"'6A'!$M$9","v":"N"},{"$f":"'6B'!$M$9","v":"V"},null,{"$f":"'6A'!$C$22","v":"N"},{"$f":"'6B'!$C$22","v":"V"}]
[2,{"$f":"'6A'!$C$10","v":0},{"$f":"'6B'!$C$10","v":"L"},null,{"$f":"'6A'!$E$10","v":"L"},{"$f":"'6B'!$E$10","v":0},null,{"$f":"'6A'!$G$10","v":"Z"},{"$f":"'6B'!$G$10","v":"L"},null,{"$f":"'6A'!$I$10","v":"N"},{"$f":"'6B'!$I$10","v":"H"},null,{"$f":"'6A'!$M$10","v":"N"},{"$f":"'6B'!$M$10","v":"V"},null,{"$f":"'6A'!$C$23","v":"N"},{"$f":"'6B'!$C$23","v":"V"}]
[3,{"$f":"'6A'!$C$11","v":0},{"$f":"'6B'!$C$11","v":"L"},null,{"$f":"'6A'!$E$11","v":"L"},{"$f":"'6B'!$E$11","v":0},null,{"$f":"'6A'!$G$11","v":"L"},{"$f":"'6B'!$G$11","v":"Z"},null,{"$f":"'6A'!$I$11","v":"N"},{"$f":"'6B'!$I$11","v":"V"},null,{"$f":"'6A'!$M$11","v":"J"},{"$f":"'6B'!$M$11","v":"V"},null,{"$f":"'6A'!$C$24","v":"N"},{"$f":"'6B'!$C$24","v":"V"}]
[4,{"$f":"'6A'!$C$12","v":0},{"$f":"'6B'!$C$12","v":"V"},null,{"$f":"'6A'!$E$12","v":"N"},{"$f":"'6B'!$E$12","v":0},null,{"$f":"'6A'!$G$12","v":"L"},{"$f":"'6B'!$G$12","v":"Z"},null,{"$f":"'6A'!$I$12","v":"N"},{"$f":"'6B'!$I$12","v":"V"},null,{"$f":"'6A'!$M$12","v":"J"},{"$f":"'6B'!$M$12","v":"V"},null,{"$f":"'6A'!$C$25","v":"N"},{"$f":"'6B'!$C$25","v":"V"}]
[5,{"$f":"'6A'!$C$14","v":"N"},{"$f":"'6B'!$C$14","v":"V"},null,{"$f":"'6A'!$E$14","v":"N"},{"$f":"'6B'!$E$14","v":"V"},null,{"$f":"'6A'!$G$14","v":"N"},{"$f":"'6B'!$G$14","v":"V"},null,{"$f":"'6A'!$I$14","v":"N"},{"$f":"'6B'!$I$14","v":"V"},null,{"$f":"'6A'!$M$14","v":"H"},{"$f":"'6B'!$M$14","v":"J"},null,{"$f":"'6A'!$C$27","v":"J"},{"$f":"'6B'!$C$27","v":"AB"}]
[6,{"$f":"'6A'!$C$15","v":"N"},{"$f":"'6B'!$C$15","v":"V"},null,{"$f":"'6A'!$E$15","v":"N"},{"$f":"'6B'!$E$15","v":"V"},null,{"$f":"'6A'!$G$15","v":"N"},{"$f":"'6B'!$G$15","v":"V"},null,{"$f":"'6A'!$I$15","v":"N"},{"$f":"'6B'!$I$15","v":"V"},null,{"$f":"'6A'!$M$15","v":"H"},{"$f":"'6B'!$M$15","v":"J"},null,{"$f":"'6A'!$C$28","v":0},{"$f":"'6B'!$C$28","v":0}]
[7,{"$f":"'6A'!$C$17","v":"B"},{"$f":"'6B'!$C$17","v":"V"},null,{"$f":"'6A'!$E$17","v":"N"},{"$f":"'6B'!$E$17","v":"B"},null,{"$f":"'6A'!$G$17","v":"N"},{"$f":"'6B'!$G$17","v":"V"},null,{"$f":"'6A'!$I$17","v":"N"},{"$f":"'6B'!$I$17","v":"V"}]
[8,{"$f":"'6A'!$C$18","v":"B"},{"$f":"'6B'!$C$18","v":"V"},null,{"$f":"'6A'!$E$18","v":"N"},{"$f":"'6B'!$E$18","v":"B"},null,{"$f":"'6A'!$G$18","v":"N"},{"$f":"'6B'!$G$18","v":"V"},null,{"$f":"'6A'!$I$18","v":"N"},{"$f":"'6B'!$I$18","v":"V"}]

{"sheet":"CEKANGKA","index":1,"n_rows":75,"n_cols":22,"rows_kept":75,"cut":false,"hidden":false,"merged":[[64,0,66,0],[64,1,64,18],[65,1,65,3],[65,4,65,6],[65,7,65,9],[65,10,65,12],[65,13,65,15],[65,16,65,18],[52,0,54,0],[52,1,52,18],[53,1,53,3],[53,4,53,6],[53,7,53,9],[53,10,53,12],[53,13,53,15],[53,16,53,18],[40,0,42,0],[40,1,40,18],[41,1,41,3],[41,4,41,6],[41,7,41,9],[41,10,41,12],[41,13,41,15],[41,16,41,18],[28,0,30,0],[28,1,28,18],[29,1,29,3],[29,4,29,6],[29,7,29,9],[29,10,29,12],[29,13,29,15],[29,16,29,18],[16,0,18,0],[16,1,16,18],[17,1,17,3],[17,4,17,6],[17,7,17,9],[17,10,17,12],[17,13,17,15],[17,16,17,18],[5,13,5,15],[5,16,5,18],[0,0,0,18],[1,0,1,18],[2,0,2,18],[4,1,4,18],[4,0,6,0],[5,1,5,3],[5,4,5,6],[5,7,5,9],[5,10,5,12]]}
["SINKONISASI JADWAL PELAJARAN KURIKULUM 2013"]
["MI NURUL ISLAM LABRUK KIDUL"]
[{"$f":"\"TAHUN PELAJARAN \"&HOME!A8","v":"TAHUN PELAJARAN 2020/2021"}]
[]
["NO","KELAS 1"]
[null,"SENIN",null,null,"SELASA",null,null,"RABU",null,null,"KAMIS",null,null,"JUMAT",null,null,"SABTU",null,null,null,1,"TMTIK"]
[null,"A","B","C","A","B","C","A","B","C","A","B","C","A","B","C","A","B","C",null,2,"AA"]
[1,{"$f":"'1A'!$D$9","v":3},{"$f":"'1B'!$D$9","v":0},{"$f":"'1C'!$D$9","v":0},{"$f":"'1A'!$F$9","v":2},{"$f":"'1B'!$F$9","v":0},{"$f":"'1C'!$F$9","v":0},{"$f":"'1A'!$H$9","v":13},{"$f":"'1B'!$H$9","v":0},{"$f":"'1C'!$H$9","v":0},{"$f":"'1A'!$J$9","v":4},{"$f":"'1B'!$J$9","v":0},{"$f":"'1C'!$J$9","v":0},{"$f":"'1A'!$N$9","v":8},{"$f":"'1B'!$N$9","v":0},{"$f":"'1C'!$N$9","v":0},{"$f":"'1A'!$D$22","v":1},{"$f":"'1B'!$D$22","v":0},{"$f":"'1C'!$D$22","v":0},null,3,"QH"]
[2,{"$f":"'1A'!$D$10","v":3},{"$f":"'1B'!$D$10","v":0},{"$f":"'1C'!$D$10","v":0},{"$f":"'1A'!$F$10","v":2},{"$f":"'1B'!$F$10","v":0},{"$f":"'1C'!$F$10","v":0},{"$f":"'1A'!$H$10","v":13},{"$f":"'1B'!$H$10","v":0},{"$f":"'1C'!$H$10","v":0},{"$f":"'1A'!$J$10","v":4},{"$f":"'1B'!$J$10","v":0},{"$f":"'1C'!$J$10","v":0},{"$f":"'1A'!$N$10","v":8},{"$f":"'1B'!$N$10","v":0},{"$f":"'1C'!$N$10","v":0},{"$f":"'1A'!$D$23","v":1},{"$f":"'1B'!$D$23","v":0},{"$f":"'1C'!$D$23","v":0},null,4,"FQ"]
[3,{"$f":"'1A'!$D$11","v":1},{"$f":"'1B'!$D$11","v":0},{"$f":"'1C'!$D$11","v":0},{"$f":"'1A'!$F$11","v":1},{"$f":"'1B'!$F$11","v":0},{"$f":"'1C'!$F$11","v":0},{"$f":"'1A'!$H$11","v":13},{"$f":"'1B'!$H$11","v":0},{"$f":"'1C'!$H$11","v":0},{"$f":"'1A'!$J$11","v":1},{"$f":"'1B'!$J$11","v":0},{"$f":"'1C'!$J$11","v":0},{"$f":"'1A'!$N$11","v":1},{"$f":"'1B'!$N$11","v":0},{"$f":"'1C'!$N$11","v":0},{"$f":"'1A'!$D$25","v":1},{"$f":"'1B'!$D$25","v":0},{"$f":"'1C'!$D$25","v":0},null,5,"SKI"]
[4,{"$f":"'1A'!$D$13","v":1},{"$f":"'1B'!$D$13","v":0},{"$f":"'1C'!$D$13","v":0},{"$f":"'1A'!$F$13","v":1},{"$f":"'1B'!$F$13","v":0},{"$f":"'1C'!$F$13","v":0},{"$f":"'1A'!$H$13","v":13},{"$f":"'1B'!$H$13","v":0},{"$f":"'1C'!$H$13","v":0},{"$f":"'1A'!$J$13","v":1},{"$f":"'1B'!$J$13","v":0},{"$f":"'1C'!$J$13","v":0},{"$f":"'1A'!$N$13","v":1},{"$f":"'1B'!$N$13","v":0},{"$f":"'1C'!$N$13","v":0},{"$f":"'1A'!$D$26","v":1},{"$f":"'1B'!$D$26","v":0},{"$f":"'1C'!$D$26","v":0},null,6,"PKN"]
[5,{"$f":"'1A'!$D$14","v":1},{"$f":"'1B'!$D$14","v":0},{"$f":"'1C'!$D$14","v":0},{"$f":"'1A'!$F$14","v":1},{"$f":"'1B'!$F$14","v":0},{"$f":"'1C'!$F$14","v":0},{"$f":"'1A'!$H$14","v":14},{"$f":"'1B'!$H$14","v":0},{"$f":"'1C'!$H$14","v":0},{"$f":"'1A'!$J$14","v":1},{"$f":"'1B'!$J$14","v":0},{"$f":"'1C'!$J$14","v":0},{"$f":"'1A'!$N$14","v":1},{"$f":"'1B'!$N$14","v":0},{"$f":"'1C'!$N$14","v":0},{"$f":"'1A'!$D$27","v":0},{"$f":"'1B'!$D$27","v":0},{"$f":"'1C'!$D$27","v":0},null,7,"BID"]
[6,{"$f":"'1A'!$D$15","v":1},{"$f":"'1B'!$D$15","v":0},{"$f":"'1C'!$D$15","v":0},{"$f":"'1A'!$F$15","v":1},{"$f":"'1B'!$F$15","v":0},{"$f":"'1C'!$F$15","v":0},{"$f":"'1A'!$H$15","v":15},{"$f":"'1B'!$H$15","v":0},{"$f":"'1C'!$H$15","v":0},{"$f":"'1A'!$J$15","v":1},{"$f":"'1B'!$J$15","v":0},{"$f":"'1C'!$J$15","v":0},{"$f":"'1A'!$N$15","v":0},{"$f":"'1B'!$N$15","v":0},{"$f":"'1C'!$N$15","v":0},{"$f":"'1A'!$D$28","v":0},{"$f":"'1B'!$D$28","v":0},{"$f":"'1C'!$D$28","v":0},null,8,"BA"]
[7,{"$f":"'1A'!D16","v":0},null,null,{"$f":"'1A'!F16","v":0},null,null,{"$f":"'1A'!H16","v":0},null,null,{"$f":"'1A'!J16","v":0},null,null,{"$f":"'1A'!N16","v":0},null,null,{"$f":"'1A'!D29","v":0},null,null,null,9,"MTK"]
[8,{"$f":"'1A'!D17","v":0},null,null,{"$f":"'1A'!F17","v":0},null,null,{"$f":"'1A'!H17","v":0},null,null,{"$f":"'1A'!J17","v":0},null,null,{"$f":"'1A'!N17","v":0},null,null,null,null,null,null,10,"IPA"]
[null,null,null,null,null,null,null,null,null,null,null,null,null,null,null,null,null,null,null,null,11,"IPS"]
["NO","KELAS 2",null,null,null,null,null,null,null,null,null,null,null,null,null,null,null,null,null,null,12,"SBK"]
[null,"SENIN",null,null,"SELASA",null,null,"RABU",null,null,"KAMIS",null,null,"JUMAT",null,null,"SABTU",null,null,null,13,"PJK"]
[null,"A","B","C","A","B","C","A","B","C","A","B","C","A","B","C","A","B","C",null,14,"BD"]
[1,{"$f":"'2A'!$D$9","v":0},{"$f":"'2B'!$D$9","v":0},{"$f":"'2C'!$D$9","v":0},{"$f":"'2A'!$F$9","v":0},{"$f":"'2B'!$F$9","v":0},{"$f":"'2C'!$F$9","v":0},{"$f":"'2A'!$H$9","v":0},{"$f":"'2B'!$H$9","v":0},{"$f":"'2C'!$H$9","v":0},{"$f":"'2A'!$J$9","v":0},{"$f":"'2B'!$J$9","v":0},{"$f":"'2C'!$J$9","v":0},{"$f":"'2A'!$N$9","v":0},{"$f":"'2B'!$N$9","v":0},{"$f":"'2C'!$N$9","v":0},{"$f":"'2A'!$D$22","v":0},{"$f":"'2B'!$D$22","v":0},{"$f":"'2C'!$D$22","v":0},null,15,"BIG"]
[2,{"$f":"'2A'!$D$10","v":0},{"$f":"'2B'!$D$10","v":0},{"$f":"'2C'!$D$10","v":0},{"$f":"'2A'!$F$10","v":0},{"$f":"'2B'!$F$10","v":0},{"$f":"'2C'!$F$10","v":0},{"$f":"'2A'!$H$10","v":0},{"$f":"'2B'!$H$10","v":0},{"$f":"'2C'!$H$10","v":0},{"$f":"'2A'!$J$10","v":0},{"$f":"'2B'!$J$10","v":0},{"$f":"'2C'!$J$10","v":0},{"$f":"'2A'!$N$10","v":0},{"$f":"'2B'!$N$10","v":0},{"$f":"'2C'!$N$10","v":0},{"$f":"'2A'!$D$23","v":0},{"$f":"'2B'!$D$23","v":0},{"$f":"'2C'!$D$23","v":0},null,16,"AWJ"]
[3,{"$f":"'2A'!$D$11","v":0},{"$f":"'2B'!$D$11","v":0},{"$f":"'2C'!$D$11","v":0},{"$f":"'2A'!$F$11","v":0},{"$f":"'2B'!$F$11","v":0},{"$f":"'2C'!$F$11","v":0},{"$f":"'2A'!$H$11","v":0},{"$f":"'2B'!$H$11","v":0},{"$f":"'2C'!$H$11","v":0},{"$f":"'2A'!$J$11","v":0},{"$f":"'2B'!$J$11","v":0},{"$f":"'2C'!$J$11","v":0},{"$f":"'2A'!$N$11","v":0},{"$f":"'2B'!$N$11","v":0},{"$f":"'2C'!$N$11","v":0},{"$f":"'2A'!$D$25","v":0},{"$f":"'2B'!$D$25","v":0},{"$f":"'2C'!$D$25","v":0},null,17,"NW"]
[4,{"$f":"'2A'!$D$13","v":0},{"$f":"'2B'!$D$13","v":0},{"$f":"'2C'!$D$13","v":0},{"$f":"'2A'!$F$13","v":0},{"$f":"'2B'!$F$13","v":0},{"$f":"'2C'!$F$13","v":0},{"$f":"'2A'!$H$13","v":0},{"$f":"'2B'!$H$13","v":0},{"$f":"'2C'!$H$13","v":0},{"$f":"'2A'!$J$13","v":0},{"$f":"'2B'!$J$13","v":0},{"$f":"'2C'!$J$13","v":0},{"$f":"'2A'!$N$13","v":0},{"$f":"'2B'!$N$13","v":0},{"$f":"'2C'!$N$13","v":0},{"$f":"'2A'!$D$26","v":0},{"$f":"'2B'!$D$26","v":0},{"$f":"'2C'!$D$26","v":0},null,18,"SRF"]
[5,{"$f":"'2A'!$D$14","v":0},{"$f":"'2B'!$D$14","v":0},{"$f":"'2C'!$D$14","v":0},{"$f":"'2A'!$F$14","v":0},{"$f":"'2B'!$F$14","v":0},{"$f":"'2C'!$F$14","v":0},{"$f":"'2A'!$H$14","v":0},{"$f":"'2B'!$H$14","v":0},{"$f":"'2C'!$H$14","v":0},{"$f":"'2A'!$J$14","v":0},{"$f":"'2B'!$J$14","v":0},{"$f":"'2C'!$J$14","v":0},{"$f":"'2A'!$N$14","v":0},{"$f":"'2B'!$N$14","v":0},{"$f":"'2C'!$N$14","v":0},{"$f":"'2A'!$D$27","v":0},{"$f":"'2B'!$D$27","v":0},{"$f":"'2C'!$D$27","v":0},null,19,"PG"]
[6,{"$f":"'2A'!$D$15","v":0},{"$f":"'2B'!$D$15","v":0},{"$f":"'2C'!$D$15","v":0},{"$f":"'2A'!$F$15","v":0},{"$f":"'2B'!$F$15","v":0},{"$f":"'2C'!$F$15","v":0},{"$f":"'2A'!$H$15","v":0},{"$f":"'2B'!$H$15","v":0},{"$f":"'2C'!$H$15","v":0},{"$f":"'2A'!$J$15","v":0},{"$f":"'2B'!$J$15","v":0},{"$f":"'2C'!$J$15","v":0},{"$f":"'2A'!$N$15","v":0},{"$f":"'2B'!$N$15","v":0},{"$f":"'2C'!$N$15","v":0},{"$f":"'2A'!$D$28","v":0},{"$f":"'2B'!$D$28","v":0},{"$f":"'2C'!$D$28","v":0}]
[7,{"$f":"'2A'!$D$16","v":0},{"$f":"'2B'!$D$16","v":0},{"$f":"'2C'!$D$16","v":0},{"$f":"'2A'!$F$16","v":0},{"$f":"'2B'!$F$16","v":0},{"$f":"'2C'!$F$16","v":0},{"$f":"'2A'!$H$16","v":0},{"$f":"'2B'!$H$16","v":0},{"$f":"'2C'!$H$16","v":0},{"$f":"'2A'!$J$16","v":0},{"$f":"'2B'!$J$16","v":0},{"$f":"'2C'!$J$16","v":0},{"$f":"'2A'!$N$16","v":0},{"$f":"'2B'!$N$16","v":0},{"$f":"'2C'!$N$16","v":0},{"$f":"'2A'!$D$28","v":0},{"$f":"'2B'!$D$28","v":0},{"$f":"'2C'!$D$28","v":0}]
[8,{"$f":"'2A'!D29","v":0},null,null,{"$f":"'2A'!F29","v":0},null,null,{"$f":"'2A'!H29","v":0},null,null,{"$f":"'2A'!J29","v":0},null,null,{"$f":"'2A'!N29","v":0}]
[]
["NO","KELAS 3"]
[null,"SENIN",null,null,"SELASA",null,null,"RABU",null,null,"KAMIS",null,null,"JUMAT",null,null,"SABTU"]
[null,"A","B","C","A","B","C","A","B","C","A","B","C","A","B","C","A","B","C"]
[1,{"$f":"'3A'!$D$9","v":0},{"$f":"'3B'!$D$9","v":0},{"$f":"'3C'!$D$9","v":3},{"$f":"'3A'!$F$9","v":0},{"$f":"'3B'!$F$9","v":0},{"$f":"'3C'!$F$9","v":5},{"$f":"'3A'!$H$9","v":0},{"$f":"'3B'!$H$9","v":0},{"$f":"'3C'!$H$9","v":4},{"$f":"'3A'!$J$9","v":0},{"$f":"'3B'!$J$9","v":0},{"$f":"'3C'!$J$9","v":2},{"$f":"'3A'!$N$9","v":0},{"$f":"'3B'!$N$9","v":0},{"$f":"'3C'!$N$9","v":1},{"$f":"'3A'!$D$22","v":0},{"$f":"'3B'!$D$22","v":0},{"$f":"'3C'!$D$22","v":13}]
[2,{"$f":"'3A'!$D$10","v":0},{"$f":"'3B'!$D$10","v":0},{"$f":"'3C'!$D$10","v":3},{"$f":"'3A'!$F$10","v":0},{"$f":"'3B'!$F$10","v":0},{"$f":"'3C'!$F$10","v":5},{"$f":"'3A'!$H$10","v":0},{"$f":"'3B'!$H$10","v":0},{"$f":"'3C'!$H$10","v":4},{"$f":"'3A'!$J$10","v":0},{"$f":"'3B'!$J$10","v":0},{"$f":"'3C'!$J$10","v":2},{"$f":"'3A'!$N$10","v":0},{"$f":"'3B'!$N$10","v":0},{"$f":"'3C'!$N$10","v":1},{"$f":"'3A'!$D$23","v":0},{"$f":"'3B'!$D$23","v":0},{"$f":"'3C'!$D$23","v":13}]
[3,{"$f":"'3A'!$D$11","v":0},{"$f":"'3B'!$D$11","v":0},{"$f":"'3C'!$D$11","v":1},{"$f":"'3A'!$F$11","v":0},{"$f":"'3B'!$F$11","v":0},{"$f":"'3C'!$F$11","v":1},{"$f":"'3A'!$H$11","v":0},{"$f":"'3B'!$H$11","v":0},{"$f":"'3C'!$H$11","v":1},{"$f":"'3A'!$J$11","v":0},{"$f":"'3B'!$J$11","v":0},{"$f":"'3C'!$J$11","v":8},{"$f":"'3A'!$N$11","v":0},{"$f":"'3B'!$N$11","v":0},{"$f":"'3C'!$N$11","v":1},{"$f":"'3A'!$D$24","v":0},{"$f":"'3B'!$D$24","v":0},{"$f":"'3C'!$D$24","v":13}]
[4,{"$f":"'3A'!$D$12","v":0},{"$f":"'3B'!$D$12","v":0},{"$f":"'3C'!$D$12","v":1},{"$f":"'3A'!$F$12","v":0},{"$f":"'3B'!$F$12","v":0},{"$f":"'3C'!$F$12","v":1},{"$f":"'3A'!$H$12","v":0},{"$f":"'3B'!$H$12","v":0},{"$f":"'3C'!$H$12","v":1},{"$f":"'3A'!$J$12","v":0},{"$f":"'3B'!$J$12","v":0},{"$f":"'3C'!$J$12","v":8},{"$f":"'3A'!$N$12","v":0},{"$f":"'3B'!$N$12","v":0},{"$f":"'3C'!$N$12","v":1},{"$f":"'3A'!$D$25","v":0},{"$f":"'3B'!$D$25","v":0},{"$f":"'3C'!$D$25","v":19}]
[5,{"$f":"'3A'!$D$14","v":0},{"$f":"'3B'!$D$14","v":0},{"$f":"'3C'!$D$14","v":1},{"$f":"'3A'!$F$14","v":0},{"$f":"'3B'!$F$14","v":0},{"$f":"'3C'!$F$14","v":15},{"$f":"'3A'!$H$14","v":0},{"$f":"'3B'!$H$14","v":0},{"$f":"'3C'!$H$14","v":1},{"$f":"'3A'!$J$14","v":0},{"$f":"'3B'!$J$14","v":0},{"$f":"'3C'!$J$14","v":1},{"$f":"'3A'!$N$14","v":0},{"$f":"'3B'!$N$14","v":0},{"$f":"'3C'!$N$14","v":14},{"$f":"'3A'!$D$27","v":0},{"$f":"'3B'!$D$27","v":0},{"$f":"'3C'!$D$27","v":0}]
[6,{"$f":"'3A'!$D$15","v":0},{"$f":"'3B'!$D$15","v":0},{"$f":"'3C'!$D$15","v":1},{"$f":"'3A'!$F$15","v":0},{"$f":"'3B'!$F$15","v":0},{"$f":"'3C'!$F$15","v":15},{"$f":"'3A'!$H$15","v":0},{"$f":"'3B'!$H$15","v":0},{"$f":"'3C'!$H$15","v":1},{"$f":"'3A'!$J$15","v":0},{"$f":"'3B'!$J$15","v":0},{"$f":"'3C'!$J$15","v":1},{"$f":"'3A'!$N$15","v":0},{"$f":"'3B'!$N$15","v":0},{"$f":"'3C'!$N$15","v":14},{"$f":"'3A'!$D$28","v":0},{"$f":"'3B'!$D$28","v":0},{"$f":"'3C'!$D$28","v":0}]
[7,{"$f":"'3A'!$D$17","v":0},{"$f":"'3B'!$D$17","v":0},{"$f":"'3C'!$D$17","v":1},{"$f":"'3A'!$F$17","v":0},{"$f":"'3B'!$F$17","v":0},{"$f":"'3C'!$F$17","v":1},{"$f":"'3A'!$H$17","v":0},{"$f":"'3B'!$H$17","v":0},{"$f":"'3C'!$H$17","v":1},{"$f":"'3A'!$J$17","v":0},{"$f":"'3B'!$J$17","v":0},{"$f":"'3C'!$J$17","v":1},{"$f":"'3A'!$N$17","v":0},{"$f":"'3B'!$N$17","v":0},{"$f":"'3B'!$N$17","v":0},{"$f":"'3A'!$D$29","v":0},{"$f":"'3B'!$D$29","v":0},{"$f":"'3C'!$D$17","v":1}]
[8,{"$f":"'3A'!$D$18","v":0},{"$f":"'3B'!$D$18","v":0},{"$f":"'3C'!$D$18","v":1},{"$f":"'3A'!$F$18","v":0},{"$f":"'3B'!$F$18","v":0},{"$f":"'3C'!$F$18","v":1},{"$f":"'3A'!$H$18","v":0},{"$f":"'3B'!$H$18","v":0},{"$f":"'3C'!$H$18","v":0},{"$f":"'3A'!$J$18","v":0},{"$f":"'3B'!$J$18","v":0},{"$f":"'3C'!$J$18","v":0},{"$f":"'3A'!$N$18","v":0},{"$f":"'3B'!$N$18","v":0},{"$f":"'3B'!$N$18","v":0},null,null,{"$f":"'3C'!$D$18","v":1}]
[]
["NO","KELAS 4"]
[null,"SENIN",null,null,"SELASA",null,null,"RABU",null,null,"KAMIS",null,null,"JUMAT",null,null,"SABTU"]
[null,"A","B","C","A","B","C","A","B","C","A","B","C","A","B","C","A","B","C"]
[1,{"$f":"'4A'!$D$9","v":1},{"$f":"'4B'!$D$9","v":5},null,{"$f":"'4A'!$F$9","v":1},{"$f":"'4B'!$F$9","v":1},null,{"$f":"'4A'!$H$9","v":14},{"$f":"'4B'!$H$9","v":3},null,{"$f":"'4A'!$J$9","v":1},{"$f":"'4B'!$J$9","v":1},null,{"$f":"'4A'!$N$9","v":13},{"$f":"'4B'!$N$9","v":9},null,{"$f":"'4A'!$D$22","v":9},{"$f":"'4B'!$D$22","v":13}]
[2,{"$f":"'4A'!$D$10","v":1},{"$f":"'4B'!$D$10","v":5},null,{"$f":"'4A'!$F$10","v":1},{"$f":"'4B'!$F$10","v":1},null,{"$f":"'4A'!$H$10","v":14},{"$f":"'4B'!$H$10","v":3},null,{"$f":"'4A'!$J$10","v":1},{"$f":"'4B'!$J$10","v":1},null,{"$f":"'4A'!$N$10","v":13},{"$f":"'4B'!$N$10","v":9},null,{"$f":"'4A'!$D$23","v":9},{"$f":"'4B'!$D$23","v":13}]
[3,{"$f":"'4A'!$D$11","v":17},{"$f":"'4B'!$D$11","v":9},null,{"$f":"'4A'!$F$11","v":2},{"$f":"'4B'!$F$11","v":17},null,{"$f":"'4A'!$H$11","v":9},{"$f":"'4B'!$H$11","v":1},null,{"$f":"'4A'!$J$11","v":1},{"$f":"'4B'!$J$11","v":1},null,{"$f":"'4A'!$N$11","v":13},{"$f":"'4B'!$N$11","v":9},null,{"$f":"'4A'!$D$24","v":9},{"$f":"'4B'!$D$24","v":13}]
[4,{"$f":"'4A'!$D$12","v":18},{"$f":"'4B'!$D$12","v":9},null,{"$f":"'4A'!$F$12","v":2},{"$f":"'4B'!$F$12","v":18},null,{"$f":"'4A'!$H$12","v":9},{"$f":"'4B'!$H$12","v":1},null,{"$f":"'4A'!$J$12","v":1},{"$f":"'4B'!$J$12","v":1},null,{"$f":"'4A'!$N$12","v":13},{"$f":"'4B'!$N$12","v":1},null,{"$f":"'4A'!$D$25","v":20},{"$f":"'4B'!$D$25","v":20}]
[5,{"$f":"'4A'!$D$14","v":16},{"$f":"'4B'!$D$14","v":4},null,{"$f":"'4A'!$F$14","v":5},{"$f":"'4B'!$F$14","v":2},null,{"$f":"'4A'!$H$14","v":1},{"$f":"'4B'!$H$14","v":1},null,{"$f":"'4A'!$J$14","v":3},{"$f":"'4B'!$J$14","v":8},null,{"$f":"'4A'!$N$14","v":8},{"$f":"'4B'!$N$14","v":1},null,{"$f":"'4A'!$D$27","v":0},{"$f":"'4B'!$D$27","v":0}]
[6,{"$f":"'4A'!$D$15","v":16},{"$f":"'4B'!$D$15","v":4},null,{"$f":"'4A'!$F$15","v":5},{"$f":"'4B'!$F$15","v":2},null,{"$f":"'4A'!$H$15","v":1},{"$f":"'4B'!$H$15","v":1},null,{"$f":"'4A'!$J$15","v":3},{"$f":"'4B'!$J$15","v":8},null,{"$f":"'4A'!$N$15","v":8},{"$f":"'4B'!$N$15","v":1},null,{"$f":"'4A'!$D$28","v":0},{"$f":"'4B'!$D$28","v":0}]
[7,{"$f":"'4A'!$D$17","v":4},{"$f":"'4B'!$D$17","v":16},null,{"$f":"'4A'!$F$17","v":1},{"$f":"'4B'!$F$17","v":14},null,{"$f":"'4A'!$H$17","v":1},{"$f":"'4B'!$H$17","v":1},null,{"$f":"'4A'!$J$17","v":1},{"$f":"'4B'!$J$17","v":1},null,{"$f":"'4A'!$N$17","v":0},{"$f":"'4B'!$N$17","v":0},null,{"$f":"'4A'!$D$29","v":0},{"$f":"'4B'!$D$29","v":0}]
[8,{"$f":"'4A'!$D$18","v":4},{"$f":"'4B'!$D$18","v":16},null,{"$f":"'4A'!$F$18","v":1},{"$f":"'4B'!$F$18","v":14},null,{"$f":"'4A'!$H$18","v":1},{"$f":"'4B'!$H$18","v":1},null,{"$f":"'4A'!$J$18","v":1},{"$f":"'4B'!$J$18","v":1},null,{"$f":"'4A'!$N$18","v":0},{"$f":"'4B'!$N$18","v":0}]
[]
["NO","KELAS 5"]
[null,"SENIN",null,null,"SELASA",null,null,"RABU",null,null,"KAMIS",null,null,"JUMAT",null,null,"SABTU"]
[null,"A","B","C","A","B","C","A","B","C","A","B","C","A","B","C","A","B","C"]
[1,{"$f":"'5A'!$D$9","v":8},{"$f":"'5B'!$D$9","v":9},null,{"$f":"'5A'!$F$9","v":9},{"$f":"'5B'!$F$9","v":17},null,{"$f":"'5A'!$H$9","v":13},{"$f":"'5B'!$H$9","v":9},null,{"$f":"'5A'!$J$9","v":9},{"$f":"'5B'!$J$9","v":13},null,{"$f":"'5A'!$N$9","v":5},{"$f":"'5B'!$N$9","v":3},null,{"$f":"'5A'!$D$22","v":1},{"$f":"'5B'!$D$22","v":1}]
[2,{"$f":"'5A'!$D$10","v":8},{"$f":"'5B'!$D$10","v":9},null,{"$f":"'5A'!$F$10","v":9},{"$f":"'5B'!$F$10","v":18},null,{"$f":"'5A'!$H$10","v":13},{"$f":"'5B'!$H$10","v":9},null,{"$f":"'5A'!$J$10","v":9},{"$f":"'5B'!$J$10","v":13},null,{"$f":"'5A'!$N$10","v":5},{"$f":"'5B'!$N$10","v":3},null,{"$f":"'5A'!$D$23","v":1},{"$f":"'5B'!$D$23","v":1}]
[3,{"$f":"'5A'!$D$11","v":1},{"$f":"'5B'!$D$11","v":1},null,{"$f":"'5A'!$F$11","v":1},{"$f":"'5B'!$F$11","v":1},null,{"$f":"'5A'!$H$11","v":13},{"$f":"'5B'!$H$11","v":9},null,{"$f":"'5A'!$J$11","v":9},{"$f":"'5B'!$J$11","v":13},null,{"$f":"'5A'!$N$11","v":3},{"$f":"'5B'!$N$11","v":14},null,{"$f":"'5A'!$D$24","v":1},{"$f":"'5B'!$D$24","v":1}]
[4,{"$f":"'5A'!$D$12","v":1},{"$f":"'5B'!$D$12","v":1},null,{"$f":"'5A'!$F$12","v":1},{"$f":"'5B'!$F$12","v":1},null,{"$f":"'5A'!$H$12","v":13},{"$f":"'5B'!$H$12","v":1},null,{"$f":"'5A'!$J$12","v":1},{"$f":"'5B'!$J$12","v":13},null,{"$f":"'5A'!$N$12","v":3},{"$f":"'5B'!$N$12","v":14},null,{"$f":"'5A'!$D$25","v":20},{"$f":"'5B'!$D$25","v":20}]
[5,{"$f":"'5A'!$D$14","v":4},{"$f":"'5B'!$D$14","v":8},null,{"$f":"'5A'!$F$14","v":17},{"$f":"'5B'!$F$14","v":4},null,{"$f":"'5A'!$H$14","v":14},{"$f":"'5B'!$H$14","v":1},null,{"$f":"'5A'!$J$14","v":1},{"$f":"'5B'!$J$14","v":16},null,{"$f":"'5A'!$N$14","v":1},{"$f":"'5B'!$N$14","v":1},null,{"$f":"'5A'!$D$27","v":0},{"$f":"'5B'!$D$27","v":0}]
[6,{"$f":"'5A'!$D$15","v":4},{"$f":"'5B'!$D$15","v":8},null,{"$f":"'5A'!$F$15","v":18},{"$f":"'5B'!$F$15","v":4},null,{"$f":"'5A'!$H$15","v":14},{"$f":"'5B'!$H$15","v":1},null,{"$f":"'5A'!$J$15","v":1},{"$f":"'5B'!$J$15","v":16},null,{"$f":"'5A'!$N$15","v":1},{"$f":"'5B'!$N$15","v":1},null,{"$f":"'5A'!$D$28","v":0},{"$f":"'5B'!$D$28","v":0}]
[7,{"$f":"'5A'!$D$17","v":2},{"$f":"'5B'!$D$17","v":5},null,{"$f":"'5A'!$F$17","v":1},{"$f":"'5B'!$F$17","v":2},null,{"$f":"'5A'!$H$17","v":1},{"$f":"'5B'!$H$17","v":1},null,{"$f":"'5A'!$J$17","v":16},{"$f":"'5B'!$J$17","v":1},null,{"$f":"'5A'!$N$17","v":0},{"$f":"'5B'!$N$17","v":0},null,{"$f":"'5A'!$D$29","v":0},{"$f":"'5B'!$D$29","v":0}]
[8,{"$f":"'5A'!$D$18","v":2},{"$f":"'5B'!$D$18","v":5},null,{"$f":"'5A'!$F$18","v":1},{"$f":"'5B'!$F$18","v":2},null,{"$f":"'5A'!$H$18","v":1},{"$f":"'5B'!$H$18","v":1},null,{"$f":"'5A'!$J$18","v":16},{"$f":"'5B'!$J$18","v":1},null,{"$f":"'5A'!$N$18","v":0},{"$f":"'5B'!$N$18","v":0}]
[]
["NO","KELAS 6"]
[null,"SENIN",null,null,"SELASA",null,null,"RABU",null,null,"KAMIS",null,null,"JUMAT",null,null,"SABTU"]
[null,"A","B","C","A","B","C","A","B","C","A","B","C","A","B","C","A","B","C"]
[1,{"$f":"'6A'!$D$9","v":13},{"$f":"'6B'!$D$9","v":9},null,{"$f":"'6A'!$F$9","v":9},{"$f":"'6B'!$F$9","v":13},null,{"$f":"'6A'!$H$9","v":8},{"$f":"'6B'!$H$9","v":9},null,{"$f":"'6A'!$J$9","v":4},{"$f":"'6B'!$J$9","v":5},null,{"$f":"'6A'!$N$9","v":1},{"$f":"'6B'!$N$9","v":1},null,{"$f":"'6A'!$D$22","v":1},{"$f":"'6B'!$D$22","v":1}]
[2,{"$f":"'6A'!$D$10","v":13},{"$f":"'6B'!$D$10","v":9},null,{"$f":"'6A'!$F$10","v":9},{"$f":"'6B'!$F$10","v":13},null,{"$f":"'6A'!$H$10","v":8},{"$f":"'6B'!$H$10","v":9},null,{"$f":"'6A'!$J$10","v":4},{"$f":"'6B'!$J$10","v":5},null,{"$f":"'6A'!$N$10","v":1},{"$f":"'6B'!$N$10","v":1},null,{"$f":"'6A'!$D$23","v":1},{"$f":"'6B'!$D$23","v":1}]
[3,{"$f":"'6A'!$D$11","v":13},{"$f":"'6B'!$D$11","v":9},null,{"$f":"'6A'!$F$11","v":9},{"$f":"'6B'!$F$11","v":13},null,{"$f":"'6A'!$H$11","v":9},{"$f":"'6B'!$H$11","v":8},null,{"$f":"'6A'!$J$11","v":1},{"$f":"'6B'!$J$11","v":3},null,{"$f":"'6A'!$N$11","v":16},{"$f":"'6B'!$N$11","v":1},null,{"$f":"'6A'!$D$24","v":1},{"$f":"'6B'!$D$24","v":1}]
[4,{"$f":"'6A'!$D$12","v":13},{"$f":"'6B'!$D$12","v":1},null,{"$f":"'6A'!$F$12","v":1},{"$f":"'6B'!$F$12","v":13},null,{"$f":"'6A'!$H$12","v":9},{"$f":"'6B'!$H$12","v":8},null,{"$f":"'6A'!$J$12","v":1},{"$f":"'6B'!$J$12","v":3},null,{"$f":"'6A'!$N$12","v":16},{"$f":"'6B'!$N$12","v":1},null,{"$f":"'6A'!$D$25","v":20},{"$f":"'6B'!$D$25","v":20}]
[5,{"$f":"'6A'!$D$14","v":1},{"$f":"'6B'!$D$14","v":1},null,{"$f":"'6A'!$F$14","v":1},{"$f":"'6B'!$F$14","v":1},null,{"$f":"'6A'!$H$14","v":1},{"$f":"'6B'!$H$14","v":1},null,{"$f":"'6A'!$J$14","v":1},{"$f":"'6B'!$J$14","v":1},null,{"$f":"'6A'!$N$14","v":5},{"$f":"'6B'!$N$14","v":16},null,{"$f":"'6A'!$D$27","v":15},{"$f":"'6B'!$D$27","v":15}]
[6,{"$f":"'6A'!$D$15","v":1},{"$f":"'6B'!$D$15","v":1},null,{"$f":"'6A'!$F$15","v":1},{"$f":"'6B'!$F$15","v":1},null,{"$f":"'6A'!$H$15","v":1},{"$f":"'6B'!$H$15","v":1},null,{"$f":"'6A'!$J$15","v":1},{"$f":"'6B'!$J$15","v":1},null,{"$f":"'6A'!$N$15","v":5},{"$f":"'6B'!$N$15","v":16},null,{"$f":"'6A'!$D$28","v":0},{"$f":"'6B'!$D$28","v":0}]
[7,{"$f":"'6A'!$D$17","v":17},{"$f":"'6B'!$D$17","v":2},null,{"$f":"'6A'!$F$17","v":2},{"$f":"'6B'!$F$17","v":17},null,{"$f":"'6A'!$H$17","v":14},{"$f":"'6B'!$H$17","v":4},null,{"$f":"'6A'!$J$17","v":3},{"$f":"'6B'!$J$17","v":14},null,{"$f":"'6A'!$N$17","v":0},{"$f":"'6B'!$N$17","v":0},null,{"$f":"'6A'!$D$29","v":0},{"$f":"'6B'!$D$29","v":0}]
[8,{"$f":"'6A'!$D$18","v":18},{"$f":"'6B'!$D$18","v":2},null,{"$f":"'6A'!$F$18","v":2},{"$f":"'6B'!$F$18","v":18},null,{"$f":"'6A'!$H$18","v":14},{"$f":"'6B'!$H$18","v":4},null,{"$f":"'6A'!$J$18","v":3},{"$f":"'6B'!$J$18","v":14},null,{"$f":"'6A'!$N$18","v":0},{"$f":"'6B'!$N$18","v":0}]

{"sheet":"1A","index":2,"n_rows":26,"n_cols":14,"rows_kept":26,"cut":false,"hidden":false,"merged":[[20,2,20,3],[4,11,5,11],[6,2,6,9],[6,12,6,13],[7,2,7,9],[7,12,7,13],[18,0,19,0],[18,1,19,1],[18,2,18,3],[0,0,0,13],[1,0,1,13],[2,0,2,13],[4,0,5,0],[4,1,5,1],[4,2,4,3],[4,4,4,5],[4,6,4,7],[4,8,4,9],[4,10,5,10],[4,12,4,13]]}
["KODE JADWAL PELAJARAN 1A"]
["MI NURUL ISLAM LABRUK KIDUL"]
[{"$f":"\"TAHUN PELAJARAN \"&HOME!A8","v":"TAHUN PELAJARAN 2020/2021"}]
[]
["NO","WAKTU","SENIN",null,"SELASA",null,"RABU",null,"KAMIS",null,"NO","WAKTU","JUMAT"]
[null,null,"GURU","PLJR","GURU","PLJR","GURU","PLJR","GURU","PLJR",null,null,"GURU","PLJR"]
[null,"06.45-07.00","PEMBIASAAN"]
[null,"07.00-08.00","TILAWATI",null,null,null,null,null,null,null,null,"06.45-07.00","PEMBIASAAN"]
[1,"08.00-08.35"," F",3,"F",2,"F",13,"F",4,1,"07.00-07.35","F",8]
[2,"08.35-09.10","F",3,"F",2,"F",13,"F",4,2,"07.35-08.10","F",8]
[3,"09.10-09.45","F",1,"F",1,"F",13,"F",1,3,"08.10-08.45","F",1]
[null,"09.45-10.20","Istirahat","Istirahat","Istirahat","Istirahat","Istirahat","Istirahat","Istirahat","Istirahat",null,"09.20-09.40","Istirahat","Istirahat"]
[5,"10.15-10.50","F",1,"F",1,"F",13,"F",1,5,"09.40-10.15","F",1]
[6,"10.50-11.25","F",1,"F",1,"F",14,"F",1,6,"10.15-10.50","F",1]
[null,"11.25-12.00","F",1,"F",1,"F",15,"F",1]
[7]
[]
[]
["NO","WAKTU","SABTU"]
[null,null,"GURU","PLJR"]
[null,"06.45-07.00","PEMBIASAAN"]
[1,"07.00-07.35","F",1]
[2,"07.35-08.10","F",1]
[null,"08.10-08.30","Istirahat","Istirahat"]
[3,"08.30-09.05","F",1]
[4,"09.05-09.40","F",1]

{"sheet":"1B","index":3,"n_rows":26,"n_cols":14,"rows_kept":26,"cut":false,"hidden":false,"merged":[[20,2,20,3],[4,11,5,11],[6,2,6,9],[6,12,6,13],[7,2,7,9],[7,12,7,13],[18,0,19,0],[18,1,19,1],[18,2,18,3],[0,0,0,13],[1,0,1,13],[2,0,2,13],[4,0,5,0],[4,1,5,1],[4,2,4,3],[4,4,4,5],[4,6,4,7],[4,8,4,9],[4,10,5,10],[4,12,4,13]]}
["KODE JADWAL PELAJARAN 1B"]
["MI NURUL ISLAM LABRUK KIDUL"]
[{"$f":"\"TAHUN PELAJARAN \"&HOME!A8","v":"TAHUN PELAJARAN 2020/2021"}]
[]
["NO","WAKTU","SENIN",null,"SELASA",null,"RABU",null,"KAMIS",null,"NO","WAKTU","JUMAT"]
[null,null,"GURU","PLJR","GURU","PLJR","GURU","PLJR","GURU","PLJR",null,null,"GURU","PLJR"]
[null,"06.45-07.00","PEMBIASAAN"]
[null,"07.00-08.00","TILAWATI",null,null,null,null,null,null,null,null,"06.45-07.00","PEMBIASAAN"]
[1,"08.00-08.35",null,null,null,null,null,null,null,null,1,"07.00-07.35"]
[2,"08.35-09.10",null,null,null,null,null,null,null,null,2,"07.35-08.10"]
[3,"09.10-09.45",null,null,null,null,null,null,null,null,3,"08.10-08.45"]
[null,"09.45-10.20","Istirahat","Istirahat","Istirahat","Istirahat","Istirahat","Istirahat","Istirahat","Istirahat",null,"09.20-09.40","Istirahat","Istirahat"]
[5,"10.15-10.50",null,null,null,null,null,null,null,null,5,"09.40-10.15"]
[6,"10.50-11.25",null,null,null,null,null,null,null,null,6,"10.15-10.50"]
[null,"11.25-12.00"]
[7]
[]
[]
["NO","WAKTU","SABTU"]
[null,null,"GURU","PLJR"]
[null,"06.45-07.00","PEMBIASAAN"]
[1,"07.00-07.35"]
[2,"07.35-08.10"]
[null,"08.10-08.30","Istirahat","Istirahat"]
[3,"08.30-09.05"]
[4,"09.05-09.40"]

{"sheet":"1C","index":4,"n_rows":26,"n_cols":14,"rows_kept":26,"cut":false,"hidden":false,"merged":[[20,2,20,3],[4,11,5,11],[6,2,6,9],[6,12,6,13],[7,2,7,9],[7,12,7,13],[18,0,19,0],[18,1,19,1],[18,2,18,3],[0,0,0,13],[1,0,1,13],[2,0,2,13],[4,0,5,0],[4,1,5,1],[4,2,4,3],[4,4,4,5],[4,6,4,7],[4,8,4,9],[4,10,5,10],[4,12,4,13]]}
["KODE JADWAL PELAJARAN 1C"]
["MI NURUL ISLAM LABRUK KIDUL"]
[{"$f":"\"TAHUN PELAJARAN \"&HOME!A8","v":"TAHUN PELAJARAN 2020/2021"}]
[]
["NO","WAKTU","SENIN",null,"SELASA",null,"RABU",null,"KAMIS",null,"NO","WAKTU","JUMAT"]
[null,null,"GURU","PLJR","GURU","PLJR","GURU","PLJR","GURU","PLJR",null,null,"GURU","PLJR"]
[null,"06.45-07.00","PEMBIASAAN"]
[null,"07.00-08.00","TILAWATI",null,null,null,null,null,null,null,null,"06.45-07.00","PEMBIASAAN"]
[1,"08.00-08.35",null,null,null,null,null,null,null,null,1,"07.00-07.35"]
[2,"08.35-09.10",null,null,null,null,null,null,null,null,2,"07.35-08.10"]
[3,"09.10-09.45",null,null,null,null,null,null,null,null,3,"08.10-08.45"]
[null,"09.45-10.20","Istirahat","Istirahat","Istirahat","Istirahat","Istirahat","Istirahat","Istirahat","Istirahat",null,"09.20-09.40","Istirahat","Istirahat"]
[5,"10.15-10.50",null,null,null,null,null,null,null,null,5,"09.40-10.15"]
[6,"10.50-11.25",null,null,null,null,null,null,null,null,6,"10.15-10.50"]
[null,"11.25-12.00"]
[7]
[]
[]
["NO","WAKTU","SABTU"]
[null,null,"GURU","PLJR"]
[null,"06.45-07.00","PEMBIASAAN"]
[1,"07.00-07.35"]
[2,"07.35-08.10"]
[null,"08.10-08.30","Istirahat","Istirahat"]
[3,"08.30-09.05"]
[4,"09.05-09.40"]

{"sheet":"2A","index":5,"n_rows":26,"n_cols":14,"rows_kept":26,"cut":false,"hidden":false,"merged":[[20,2,20,3],[4,11,5,11],[6,2,6,9],[6,12,6,13],[7,2,7,9],[7,12,7,13],[18,0,19,0],[18,1,19,1],[18,2,18,3],[0,0,0,13],[1,0,1,13],[2,0,2,13],[4,0,5,0],[4,1,5,1],[4,2,4,3],[4,4,4,5],[4,6,4,7],[4,8,4,9],[4,10,5,10],[4,12,4,13]]}
["KODE JADWAL PELAJARAN 2A"]
["MI NURUL ISLAM LABRUK KIDUL"]
[{"$f":"\"TAHUN PELAJARAN \"&HOME!A8","v":"TAHUN PELAJARAN 2020/2021"}]
[]
["NO","WAKTU","SENIN",null,"SELASA",null,"RABU",null,"KAMIS",null,"NO","WAKTU","JUMAT"]
[null,null,"GURU","PLJR","GURU","PLJR","GURU","PLJR","GURU","PLJR",null,null,"GURU","PLJR"]
[null,"06.45-07.00","PEMBIASAAN"]
[null,"07.00-08.00","TILAWATI",null,null,null,null,null,null,null,null,"06.45-07.00","PEMBIASAAN"]
[1,"08.00-08.35",null,null,null,null,null,null,null,null,1,"07.00-07.35"]
[2,"08.35-09.10",null,null,null,null,null,null,null,null,2,"07.35-08.10"]
[3,"09.10-09.45",null,null,null,null,null,null,null,null,3,"08.10-08.45"]
[null,"09.45-10.20","Istirahat","Istirahat","Istirahat","Istirahat","Istirahat","Istirahat","Istirahat","Istirahat",null,"09.20-09.40","Istirahat","Istirahat"]
[4,"10.15-10.50",null,null,null,null,null,null,null,null,5,"09.40-10.15"]
[5,"10.50-11.25",null,null,null,null,null,null,null,null,6,"10.15-10.50"]
[6,"11.25-12.00"]
[]
[]
[]
["NO","WAKTU","SABTU"]
[null,null,"GURU","PLJR"]
[null,"06.45-07.00","PEMBIASAAN"]
[1,"07.00-07.35"]
[2,"07.35-08.10"]
[null,"08.10-08.30","Istirahat","Istirahat"]
[3,"08.30-09.05"]
[4,"09.05-09.40"]

{"sheet":"2B","index":6,"n_rows":26,"n_cols":14,"rows_kept":26,"cut":false,"hidden":false,"merged":[[20,2,20,3],[4,11,5,11],[6,2,6,9],[6,12,6,13],[7,2,7,9],[7,12,7,13],[18,0,19,0],[18,1,19,1],[18,2,18,3],[0,0,0,13],[1,0,1,13],[2,0,2,13],[4,0,5,0],[4,1,5,1],[4,2,4,3],[4,4,4,5],[4,6,4,7],[4,8,4,9],[4,10,5,10],[4,12,4,13]]}
["KODE JADWAL PELAJARAN 2B"]
["MI NURUL ISLAM LABRUK KIDUL"]
[{"$f":"\"TAHUN PELAJARAN \"&HOME!A8","v":"TAHUN PELAJARAN 2020/2021"}]
[]
["NO","WAKTU","SENIN",null,"SELASA",null,"RABU",null,"KAMIS",null,"NO","WAKTU","JUMAT"]
[null,null,"GURU","PLJR","GURU","PLJR","GURU","PLJR","GURU","PLJR",null,null,"GURU","PLJR"]
[null,"06.45-07.00","PEMBIASAAN"]
[null,"07.00-08.00","TILAWATI",null,null,null,null,null,null,null,null,"06.45-07.00","PEMBIASAAN"]
[1,"08.00-08.35",null,null,null,null,null,null,null,null,1,"07.00-07.35"]
[2,"08.35-09.10",null,null,null,null,null,null,null,null,2,"07.35-08.10"]
[3,"09.10-09.45",null,null,null,null,null,null,null,null,3,"08.10-08.45"]
[null,"09.45-10.20","Istirahat","Istirahat","Istirahat","Istirahat","Istirahat","Istirahat","Istirahat","Istirahat",null,"09.20-09.40","Istirahat","Istirahat"]
[5,"10.15-10.50",null,null,null,null,null,null,null,null,5,"09.40-10.15"]
[6,"10.50-11.25",null,null,null,null,null,null,null,null,6,"10.15-10.50"]
[null,"11.25-12.00"]
[7]
[]
[]
["NO","WAKTU","SABTU"]
[null,null,"GURU","PLJR"]
[null,"06.45-07.00","PEMBIASAAN"]
[1,"07.00-07.35"]
[2,"07.35-08.10"]
[null,"08.10-08.30","Istirahat","Istirahat"]
[3,"08.30-09.05"]
[4,"09.05-09.40"]

{"sheet":"2C","index":7,"n_rows":26,"n_cols":14,"rows_kept":26,"cut":false,"hidden":false,"merged":[[20,2,20,3],[4,11,5,11],[6,2,6,9],[6,12,6,13],[7,2,7,9],[7,12,7,13],[18,0,19,0],[18,1,19,1],[18,2,18,3],[0,0,0,13],[1,0,1,13],[2,0,2,13],[4,0,5,0],[4,1,5,1],[4,2,4,3],[4,4,4,5],[4,6,4,7],[4,8,4,9],[4,10,5,10],[4,12,4,13]]}
["KODE JADWAL PELAJARAN 2C"]
["MI NURUL ISLAM LABRUK KIDUL"]
[{"$f":"\"TAHUN PELAJARAN \"&HOME!A8","v":"TAHUN PELAJARAN 2020/2021"}]
[]
["NO","WAKTU","SENIN",null,"SELASA",null,"RABU",null,"KAMIS",null,"NO","WAKTU","JUMAT"]
[null,null,"GURU","PLJR","GURU","PLJR","GURU","PLJR","GURU","PLJR",null,null,"GURU","PLJR"]
[null,"06.45-07.00","PEMBIASAAN"]
[null,"07.00-08.00","TILAWATI",null,null,null,null,null,null,null,null,"06.45-07.00","PEMBIASAAN"]
[1,"08.00-08.35",null,null,null,null,null,null,null,null,1,"07.00-07.35"]
[2,"08.35-09.10",null,null,null,null,null,null,null,null,2,"07.35-08.10"]
[3,"09.10-09.45",null,null,null,null,null,null,null,null,3,"08.10-08.45"]
[null,"09.45-10.20","Istirahat","Istirahat","Istirahat","Istirahat","Istirahat","Istirahat","Istirahat","Istirahat",null,"09.20-09.40","Istirahat","Istirahat"]
[5,"10.15-10.50",null,null,null,null,null,null,null,null,5,"09.40-10.15"]
[6,"10.50-11.25",null,null,null,null,null,null,null,null,6,"10.15-10.50"]
[null,"11.25-12.00"]
[7]
[]
[]
["NO","WAKTU","SABTU"]
[null,null,"GURU","PLJR"]
[null,"06.45-07.00","PEMBIASAAN"]
[1,"07.00-07.35"]
[2,"07.35-08.10"]
[null,"08.10-08.30","Istirahat","Istirahat"]
[3,"08.30-09.05"]
[4,"09.05-09.40"]

{"sheet":"3A","index":8,"n_rows":26,"n_cols":14,"rows_kept":26,"cut":false,"hidden":false,"merged":[[20,2,20,3],[4,11,5,11],[6,2,6,9],[6,12,6,13],[7,2,7,9],[7,12,7,13],[18,0,19,0],[18,1,19,1],[18,2,18,3],[0,0,0,13],[1,0,1,13],[2,0,2,13],[4,0,5,0],[4,1,5,1],[4,2,4,3],[4,4,4,5],[4,6,4,7],[4,8,4,9],[4,10,5,10],[4,12,4,13]]}
["KODE JADWAL PELAJARAN 3A"]
["MI NURUL ISLAM LABRUK KIDUL"]
[{"$f":"\"TAHUN PELAJARAN \"&HOME!A8","v":"TAHUN PELAJARAN 2020/2021"}]
[]
["NO","WAKTU","SENIN",null,"SELASA",null,"RABU",null,"KAMIS",null,"NO","WAKTU","JUMAT"]
[null,null,"GURU","PLJR","GURU","PLJR","GURU","PLJR","GURU","PLJR",null,null,"GURU","PLJR"]
[null,"06.45-07.00","PEMBIASAAN"]
[null,"07.00-08.00","TILAWATI",null,null,null,null,null,null,null,null,"06.45-07.00","PEMBIASAAN"]
[1,"08.00-08.35",null,null,null,null,null,null,null,null,1,"07.00-07.35"]
[2,"08.35-09.10",null,null,null,null,null,null,null,null,2,"07.35-08.10"]
[3,"09.10-09.45",null,null,null,null,null,null,null,null,3,"08.10-08.45"]
[4,"09.45-10.20",null,null,null,null,null,null,null,null,4,"08.45-09.20"]
[null,"10.20-10.40","Istirahat","Istirahat","Istirahat","Istirahat","Istirahat","Istirahat","Istirahat","Istirahat",null,"09.20-09.40","Istirahat","Istirahat"]
[5,"10.40-11.15",null,null,null,null,null,null,null,null,5,"09.40-10.15"]
[6,"11.15-11.50",null,null,null,null,null,null,null,null,6,"10.15-10.50"]
[null,"11.50-12.20","ishoja","ishoja","ishoja","ishoja","ishoja","ishoja","ishoja","ishoja"]
[7,"12.20-12.55"]
[8,"12.55-13.30"]
["NO","WAKTU","SABTU"]
[null,null,"GURU","PLJR"]
[null,"06.45-07.15","PEMBIASAAN"]
[1,"07.15-07.50"]
[2,"07.50-08.25"]
[3,"08.25-09.00"]
[4,"09.00-10.00"]
[null,"10.00-10.20","Istirahat","Istirahat"]

{"sheet":"3B","index":9,"n_rows":26,"n_cols":14,"rows_kept":26,"cut":false,"hidden":false,"merged":[[20,2,20,3],[4,11,5,11],[6,2,6,9],[6,12,6,13],[7,2,7,9],[7,12,7,13],[18,0,19,0],[18,1,19,1],[18,2,18,3],[0,0,0,13],[1,0,1,13],[2,0,2,13],[4,0,5,0],[4,1,5,1],[4,2,4,3],[4,4,4,5],[4,6,4,7],[4,8,4,9],[4,10,5,10],[4,12,4,13]]}
["KODE JADWAL PELAJARAN 3B"]
["MI NURUL ISLAM LABRUK KIDUL"]
[{"$f":"\"TAHUN PELAJARAN \"&HOME!A8","v":"TAHUN PELAJARAN 2020/2021"}]
[]
["NO","WAKTU","SENIN",null,"SELASA",null,"RABU",null,"KAMIS",null,"NO","WAKTU","JUMAT"]
[null,null,"GURU","PLJR","GURU","PLJR","GURU","PLJR","GURU","PLJR",null,null,"GURU","PLJR"]
[null,"06.45-07.00","PEMBIASAAN"]
[null,"07.00-08.00","TILAWATI",null,null,null,null,null,null,null,null,"06.45-07.00","PEMBIASAAN"]
[1,"08.00-08.35",null,null,null,null,null,null,null,null,1,"07.00-07.35"]
[2,"08.35-09.10",null,null,null,null,null,null,null,null,2,"07.35-08.10"]
[3,"09.10-09.45",null,null,null,null,null,null,null,null,3,"08.10-08.45"]
[4,"09.45-10.20",null,null,null,null,null,null,null,null,4,"08.45-09.20"]
[null,"10.20-10.40","Istirahat","Istirahat","Istirahat","Istirahat","Istirahat","Istirahat","Istirahat","Istirahat",null,"09.20-09.40","Istirahat","Istirahat"]
[5,"10.40-11.15",null,null,null,null,null,null,null,null,5,"09.40-10.15"]
[6,"11.15-11.50",null,null,null,null,null,null,null,null,6,"10.15-10.50"]
[null,"11.50-12.20","ishoja","ishoja","ishoja","ishoja","ishoja","ishoja","ishoja","ishoja"]
[7,"12.20-12.55"]
[8,"12.55-13.30"]
["NO","WAKTU","SABTU"]
[null,null,"GURU","PLJR"]
[null,"06.45-07.15","PEMBIASAAN"]
[1,"07.15-07.50"]
[2,"07.50-08.25"]
[3,"08.25-09.00"]
[4,"09.00-10.00"]
[null,"10.00-10.20","Istirahat","Istirahat"]

{"sheet":"3C","index":10,"n_rows":26,"n_cols":14,"rows_kept":26,"cut":false,"hidden":false,"merged":[[18,0,19,0],[18,1,19,1],[18,2,18,3],[0,0,0,13],[1,0,1,13],[2,0,2,13],[4,0,5,0],[4,1,5,1],[4,2,4,3],[4,4,4,5],[4,6,4,7],[4,8,4,9],[4,10,5,10],[4,12,4,13],[20,2,20,3],[4,11,5,11],[6,2,6,9],[6,12,6,13],[7,2,7,9],[7,12,7,13]]}
["KODE JADWAL PELAJARAN 3C"]
["MI NURUL ISLAM LABRUK KIDUL"]
[{"$f":"\"TAHUN PELAJARAN \"&HOME!A8","v":"TAHUN PELAJARAN 2020/2021"}]
[]
["NO","WAKTU","SENIN",null,"SELASA",null,"RABU",null,"KAMIS",null,"NO","WAKTU","JUMAT"]
[null,null,"GURU","PLJR","GURU","PLJR","GURU","PLJR","GURU","PLJR",null,null,"GURU","PLJR"]
[null,"06.45-07.00","PEMBIASAAN"]
[null,"07.00-08.00","TILAWATI",null,null,null,null,null,null,null,null,"06.45-07.00","PEMBIASAAN"]
[1,"08.00-08.35",null,3,null,5,null,4,null,2,1,"07.00-07.35",null,1]
[2,"08.35-09.10",null,3,null,5,null,4,null,2,2,"07.35-08.10",null,1]
[3,"09.10-09.45",null,1,null,1,null,1,null,8,3,"08.10-08.45",null,1]
[4,"09.45-10.20",null,1,null,1,null,1,null,8,4,"08.45-09.20",null,1]
[null,"10.20-10.40","Istirahat","Istirahat","Istirahat","Istirahat","Istirahat","Istirahat","Istirahat","Istirahat",null,"09.20-09.40","Istirahat","Istirahat"]
[5,"10.40-11.15",null,1,null,15,null,1,null,1,5,"09.40-10.15",null,14]
[6,"11.15-11.50",null,1,null,15,null,1,null,1,6,"10.15-10.50",null,14]
[null,"11.50-12.20","ishoja","ishoja","ishoja","ishoja","ishoja","ishoja","ishoja","ishoja"]
[7,"12.20-12.55",null,1,null,1,null,1,null,1]
[8,"12.55-13.30",null,1,null,1]
["NO","WAKTU","SABTU"]
[null,null,"GURU","PLJR"]
[null,"06.45-07.15","PEMBIASAAN"]
[1,"07.15-07.50",null,13]
[2,"07.50-08.25",null,13]
[3,"08.25-09.00",null,13]
[4,"09.00-10.00",null,19]
[null,"10.00-10.20","Istirahat","Istirahat"]

{"sheet":"4A","index":11,"n_rows":26,"n_cols":14,"rows_kept":26,"cut":false,"hidden":false,"merged":[[18,0,19,0],[18,1,19,1],[18,2,18,3],[0,0,0,13],[1,0,1,13],[2,0,2,13],[4,0,5,0],[4,1,5,1],[4,2,4,3],[4,4,4,5],[4,6,4,7],[4,8,4,9],[4,10,5,10],[4,12,4,13],[20,2,20,3],[4,11,5,11],[6,2,6,9],[6,12,6,13],[7,2,7,9],[7,12,7,13]]}
["KODE JADWAL PELAJARAN 4A"]
["MI NURUL ISLAM LABRUK KIDUL"]
[{"$f":"\"TAHUN PELAJARAN \"&HOME!A8","v":"TAHUN PELAJARAN 2020/2021"}]
[]
["NO","WAKTU","SENIN",null,"SELASA",null,"RABU",null,"KAMIS",null,"NO","WAKTU","JUMAT"]
[null,null,"GURU","PLJR","GURU","PLJR","GURU","PLJR","GURU","PLJR",null,null,"GURU","PLJR"]
[null,"06.45-07.00","PEMBIASAAN"]
[null,"07.00-08.00","TILAWATI",null,null,null,null,null,null,null,null,"06.45-07.00","PEMBIASAAN"]
[1,"08.00-08.35","P",1,"P",1,"P",14,"P",1,1,"07.00-07.35","X",13]
[2,"08.35-09.10","P",1,"P",1,"P",14,"P",1,2,"07.35-08.10","X",13]
[3,"09.10-09.45","B",17,"P",2,"AA",9,"P",1,3,"08.10-08.45","X",13]
[4,"09.45-10.20","B",18,"P",2,"AA",9,"P",1,4,"08.45-09.20","X",13]
[null,"10.20-10.40","Istirahat","Istirahat","Istirahat","Istirahat","Istirahat","Istirahat","Istirahat","Istirahat",null,"09.20-09.40","Istirahat","Istirahat"]
[5,"10.40-11.15","J",16,"H",5,"P",1,"P",3,5,"09.40-10.15","Z",8]
[6,"11.15-11.50","J",16,"H",5,"P",1,"P",3,6,"10.15-10.50","Z",8]
[null,"11.50-12.20","ishoja","ishoja","ishoja","ishoja","ishoja","ishoja","ishoja","ishoja"]
[7,"12.20-12.55","P",4,"P",1,"P",1,"P",1]
[8,"12.55-13.30","P",4,"P",1,"P",1,"P",1]
["NO","WAKTU","SABTU"]
[null,null,"GURU","PLJR"]
[null,"06.45-07.15","PEMBIASAAN"]
[1,"07.15-07.50","AA",9]
[2,"07.50-08.25","AA",9]
[3,"08.25-09.00","AA",9]
[4,"09.00-10.00","AB",20]
[null,"10.00-10.20","Istirahat","Istirahat"]

{"sheet":"4B","index":12,"n_rows":26,"n_cols":14,"rows_kept":26,"cut":false,"hidden":false,"merged":[[18,0,19,0],[18,1,19,1],[18,2,18,3],[0,0,0,13],[1,0,1,13],[2,0,2,13],[4,0,5,0],[4,1,5,1],[4,2,4,3],[4,4,4,5],[4,6,4,7],[4,8,4,9],[4,10,5,10],[4,12,4,13],[20,2,20,3],[4,11,5,11],[6,2,6,9],[6,12,6,13],[7,2,7,9],[7,12,7,13]]}
["KODE JADWAL PELAJARAN 4B"]
["MI NURUL ISLAM LABRUK KIDUL"]
[{"$f":"\"TAHUN PELAJARAN \"&HOME!A8","v":"TAHUN PELAJARAN 2020/2021"}]
[]
["NO","WAKTU","SENIN",null,"SELASA",null,"RABU",null,"KAMIS",null,"NO","WAKTU","JUMAT"]
[null,null,"GURU","PLJR","GURU","PLJR","GURU","PLJR","GURU","PLJR",null,null,"GURU","PLJR"]
[null,"06.45-07.00","PEMBIASAAN"]
[null,"07.00-08.00","TILAWATI",null,null,null,null,null,null,null,null,"06.45-07.00","PEMBIASAAN"]
[1,"08.00-08.35","X",5,"I",1,"I",3,"I",1,1,"07.00-07.35","AA",9]
[2,"08.35-09.10","X",5,"I",1,"I",3,"I",1,2,"07.35-08.10","AA",9]
[3,"09.10-09.45","X",9,"B",17,"I",1,"H",1,3,"08.10-08.45","AA",9]
[4,"09.45-10.20","X",9,"B",18,"I",1,"H",1,4,"08.45-09.20","I",1]
[null,"10.20-10.40","Istirahat","Istirahat","Istirahat","Istirahat","Istirahat","Istirahat","Istirahat","Istirahat",null,"09.20-09.40","Istirahat","Istirahat"]
[5,"10.40-11.15","AA",4,"I",2,"I",1,"Z",8,5,"09.40-10.15","I",1]
[6,"11.15-11.50","AA",4,"I",2,"I",1,"Z",8,6,"10.15-10.50","I",1]
[null,"11.50-12.20","ishoja","ishoja","ishoja","ishoja","ishoja","ishoja","ishoja","ishoja"]
[7,"12.20-12.55","J",16,"I",14,"I",1,"I",1]
[8,"12.55-13.30","J",16,"I",14,"I",1,"I",1]
["NO","WAKTU","SABTU"]
[null,null,"GURU","PLJR"]
[null,"06.45-07.15","PEMBIASAAN"]
[1,"07.15-07.50","I",13]
[2,"07.50-08.25","I",13]
[3,"08.25-09.00","I",13]
[4,"09.00-10.00","I",20]
[null,"10.00-10.20","Istirahat","Istirahat"]

{"sheet":"4C","index":13,"n_rows":26,"n_cols":14,"rows_kept":26,"cut":false,"hidden":false,"merged":[[20,2,20,3],[4,11,5,11],[6,2,6,9],[6,12,6,13],[7,2,7,9],[7,12,7,13],[18,0,19,0],[18,1,19,1],[18,2,18,3],[0,0,0,13],[1,0,1,13],[2,0,2,13],[4,0,5,0],[4,1,5,1],[4,2,4,3],[4,4,4,5],[4,6,4,7],[4,8,4,9],[4,10,5,10],[4,12,4,13]]}
["KODE JADWAL PELAJARAN 4C"]
["MI NURUL ISLAM LABRUK KIDUL"]
[{"$f":"\"TAHUN PELAJARAN \"&HOME!A8","v":"TAHUN PELAJARAN 2020/2021"}]
[]
["NO","WAKTU","SENIN",null,"SELASA",null,"RABU",null,"KAMIS",null,"NO","WAKTU","JUMAT"]
[null,null,"GURU","PLJR","GURU","PLJR","GURU","PLJR","GURU","PLJR",null,null,"GURU","PLJR"]
[null,"06.45-07.00","PEMBIASAAN"]
[null,"07.00-08.00","TILAWATI",null,null,null,null,null,null,null,null,"06.45-07.00","PEMBIASAAN"]
[1,"08.00-08.35","M",5,"X",1,"AA",3,"M",1,1,"07.00-07.35","M",9]
[2,"08.35-09.10","M",5,"X",1,"AA",3,"M",1,2,"07.35-08.10","M",9]
[3,"09.10-09.45","J",9,"X",17,"AA",1,"M",1,3,"08.10-08.45","H",9]
[4,"09.45-10.20","J",9,"X",18,"M",1,"M",1,4,"08.45-09.20","H",1]
[null,"10.20-10.40","Istirahat","Istirahat","Istirahat","Istirahat","Istirahat","Istirahat","Istirahat","Istirahat",null,"09.20-09.40","Istirahat","Istirahat"]
[5,"10.40-11.15","B",4,"AA",2,"M",1,"M",8,5,"09.40-10.15","M",1]
[6,"11.15-11.50","B",4,"AA",2,"M",1,"M",8,6,"10.15-10.50","M",1]
[null,"11.50-12.20","ishoja","ishoja","ishoja","ishoja","ishoja","ishoja","ishoja","ishoja"]
[7,"12.20-12.55","Z",16,"H",14,"Z",1,"M",1]
[8,"12.55-13.30","Z",16,"H",14,"Z",1,"M",1]
["NO","WAKTU","SABTU"]
[null,null,"GURU","PLJR"]
[null,"06.45-07.15","PEMBIASAAN"]
[1,"07.15-07.50","M",13]
[2,"07.50-08.25","M",13]
[3,"08.25-09.00","M",13]
[4,"09.00-10.00","M",20]
[null,"10.00-10.20","Istirahat","Istirahat"]

{"sheet":"5A","index":14,"n_rows":26,"n_cols":14,"rows_kept":26,"cut":false,"hidden":false,"merged":[[18,0,19,0],[18,1,19,1],[18,2,18,3],[0,0,0,13],[1,0,1,13],[2,0,2,13],[4,0,5,0],[4,1,5,1],[4,2,4,3],[4,4,4,5],[4,6,4,7],[4,8,4,9],[4,10,5,10],[4,12,4,13],[20,2,20,3],[4,11,5,11],[6,2,6,9],[6,12,6,13],[7,2,7,9],[7,12,7,13]]}
["KODE JADWAL PELAJARAN 5A"]
["MI NURUL ISLAM LABRUK KIDUL"]
[{"$f":"\"TAHUN PELAJARAN \"&HOME!A8","v":"TAHUN PELAJARAN 2020/2021"}]
[]
["NO","WAKTU","SENIN",null,"SELASA",null,"RABU",null,"KAMIS",null,"NO","WAKTU","JUMAT"]
[null,null,"GURU","PLJR","GURU","PLJR","GURU","PLJR","GURU","PLJR",null,null,"GURU","PLJR"]
[null,"06.45-07.00","PEMBIASAAN"]
[null,"07.00-08.00","TILAWATI",null,null,null,null,null,null,null,null,"06.45-07.00","PEMBIASAAN"]
[1,"08.00-08.35","Z",8,"U",9,"X",13,"U",9,1,"07.00-07.35","H",5]
[2,"08.35-09.10","Z",8,"U",9,"X",13,"U",9,2,"07.35-08.10","H",5]
[3,"09.10-09.45","O",1,"O",1,"X",13,"U",9,3,"08.10-08.45","O",3]
[4,"09.45-10.20","O",1,"O",1,"X",13,"O",1,4,"08.45-09.20","O",3]
[null,"10.20-10.40","Istirahat","Istirahat","Istirahat","Istirahat","Istirahat","Istirahat","Istirahat","Istirahat",null,"09.20-09.40","Istirahat","Istirahat"]
[5,"10.40-11.15","Z",4,"B",17,"H",14,"O",1,5,"09.40-10.15","O",1]
[6,"11.15-11.50","Z",4,"B",18,"H",14,"O",1,6,"10.15-10.50","O",1]
[null,"11.50-12.20","ishoja","ishoja","ishoja","ishoja","ishoja","ishoja","ishoja","ishoja"]
[7,"12.20-12.55","O",2,"O",1,"O",1,"J",16]
[8,"12.55-13.30","O",2,"O",1,"O",1,"J",16]
["NO","WAKTU","SABTU"]
[null,null,"GURU","PLJR"]
[null,"06.45-07.15","PEMBIASAAN"]
[1,"07.15-07.50","O",1]
[2,"07.50-08.25","O",1]
[3,"08.25-09.00","O",1]
[4,"09.00-10.00","O",20]
[null,"10.00-10.20","Istirahat","Istirahat"]

{"sheet":"5B","index":15,"n_rows":26,"n_cols":14,"rows_kept":26,"cut":false,"hidden":false,"merged":[[18,0,19,0],[18,1,19,1],[18,2,18,3],[0,0,0,13],[1,0,1,13],[2,0,2,13],[4,0,5,0],[4,1,5,1],[4,2,4,3],[4,4,4,5],[4,6,4,7],[4,8,4,9],[4,10,5,10],[4,12,4,13],[20,2,20,3],[4,11,5,11],[6,2,6,9],[6,12,6,13],[7,2,7,9],[7,12,7,13]]}
["KODE JADWAL PELAJARAN 5B"]
["MI NURUL ISLAM LABRUK KIDUL"]
[{"$f":"\"TAHUN PELAJARAN \"&HOME!A8","v":"TAHUN PELAJARAN 2020/2021"}]
[]
["NO","WAKTU","SENIN",null,"SELASA",null,"RABU",null,"KAMIS",null,"NO","WAKTU","JUMAT"]
[null,null,"GURU","PLJR","GURU","PLJR","GURU","PLJR","GURU","PLJR",null,null,"GURU","PLJR"]
[null,"06.45-07.00","PEMBIASAAN"]
[null,"07.00-08.00","TILAWATI",null,null,null,null,null,null,null,null,"06.45-07.00","PEMBIASAAN"]
[1,"08.00-08.35","U",9,"B",17,"U",9,"X",13,1,"07.00-07.35","U",3]
[2,"08.35-09.10","U",9,"B",18,"U",9,"X",13,2,"07.35-08.10","U",3]
[3,"09.10-09.45","U",1,"U",1,"U",9,"X",13,3,"08.10-08.45","H",14]
[4,"09.45-10.20","U",1,"U",1,"U",1,"X",13,4,"08.45-09.20","H",14]
[null,"10.20-10.40","Istirahat","Istirahat","Istirahat","Istirahat","Istirahat","Istirahat","Istirahat","Istirahat",null,"09.20-09.40","Istirahat","Istirahat"]
[5,"10.40-11.15","Z",8,"Z",4,"U",1,"J",16,5,"09.40-10.15","U",1]
[6,"11.15-11.50","Z",8,"Z",4,"U",1,"J",16,6,"10.15-10.50","U",1]
[null,"11.50-12.20","ishoja","ishoja","ishoja","ishoja","ishoja","ishoja","ishoja","ishoja"]
[7,"12.20-12.55","H",5,"U",2,"U",1,"U",1]
[8,"12.55-13.30","H",5,"U",2,"U",1,"U",1]
["NO","WAKTU","SABTU"]
[null,null,"GURU","PLJR"]
[null,"06.45-07.15","PEMBIASAAN"]
[1,"07.15-07.50","U",1]
[2,"07.50-08.25","U",1]
[3,"08.25-09.00","U",1]
[4,"09.00-10.00","AB",20]
[null,"10.00-10.20","Istirahat","Istirahat"]

{"sheet":"6A","index":16,"n_rows":27,"n_cols":14,"rows_kept":27,"cut":false,"hidden":false,"merged":[[20,2,20,3],[4,11,5,11],[4,12,4,13],[6,2,6,9],[6,12,6,13],[7,2,7,9],[18,0,19,0],[18,1,19,1],[18,2,18,3],[0,0,0,13],[1,0,1,13],[2,0,2,13],[4,0,5,0],[4,1,5,1],[4,2,4,3],[4,4,4,5],[4,6,4,7],[4,8,4,9],[4,10,5,10],[7,12,7,13]]}
["KODE JADWAL PELAJARAN 6A"]
["MI NURUL ISLAM LABRUK KIDUL"]
[{"$f":"\"TAHUN PELAJARAN \"&HOME!A8","v":"TAHUN PELAJARAN 2020/2021"}]
[]
["NO","WAKTU","SENIN",null,"SELASA",null,"RABU",null,"KAMIS",null,"NO","WAKTU","JUMAT"]
[null,null,"GURU","PLJR","GURU","PLJR","GURU","PLJR","GURU","PLJR",null,null,"GURU","PLJR"]
[null,"06.45-07.00","PEMBIASAAN"]
[null,"07.00-08.00","TILAWATI",null,null,null,null,null,null,null,null,"06.45-07.00","PEMBIASAAN"]
[1,"08.00-08.35",null,13,"L",9,"Z",8,"N",4,1,"07.00-07.35","N",1]
[2,"08.35-09.10",null,13,"L",9,"Z",8,"N",4,2,"07.35-08.10","N",1]
[3,"09.10-09.45",null,13,"L",9,"L",9,"N",1,3,"08.10-08.45","J",16]
[4,"09.45-10.20",null,13,"N",1,"L",9,"N",1,4,"08.45-09.20","J",16]
[null,"10.20-10.40","Istirahat","Istirahat","Istirahat","Istirahat","Istirahat","Istirahat","Istirahat","Istirahat",null,"09.20-09.40","Istirahat","Istirahat"]
[5,"10.40-11.15","N",1,"N",1,"N",1,"N",1,5,"09.40-10.15","H",5]
[6,"11.15-11.50","N",1,"N",1,"N",1,"N",1,6,"10.15-10.50","H",5]
[null,"11.50-12.20","ishoja","ishoja","ishoja","ishoja","ishoja","ishoja","ishoja","ishoja"]
[7,"12.20-12.55","B",17,"N",2,"N",14,"N",3]
[8,"12.55-13.30","B",18,"N",2,"N",14,"N",3]
["NO","WAKTU","SABTU"]
[null,null,"GURU","PLJR"]
[null,"06.45-07.15","PEMBIASAAN"]
[1,"07.15-07.50","N",1]
[2,"07.50-08.25","N",1]
[3,"08.25-09.00","N",1]
[4,"09.00-10.00","N",20]
[null,"10.00-10.20","Istirahat","Istirahat"]
[5,null,"J",15]

{"sheet":"6B","index":17,"n_rows":27,"n_cols":14,"rows_kept":27,"cut":false,"hidden":false,"merged":[[18,0,19,0],[18,1,19,1],[18,2,18,3],[0,0,0,13],[1,0,1,13],[2,0,2,13],[4,0,5,0],[4,1,5,1],[4,2,4,3],[4,4,4,5],[4,6,4,7],[4,8,4,9],[4,10,5,10],[4,12,4,13],[20,2,20,3],[4,11,5,11],[6,2,6,9],[6,12,6,13],[7,2,7,9],[7,12,7,13]]}
["KODE JADWAL PELAJARAN 6B"]
["MI NURUL ISLAM LABRUK KIDUL"]
[{"$f":"\"TAHUN PELAJARAN \"&HOME!A8","v":"TAHUN PELAJARAN 2020/2021"}]
[]
["NO","WAKTU","SENIN",null,"SELASA",null,"RABU",null,"KAMIS",null,"NO","WAKTU","JUMAT"]
[null,null,"GURU","PLJR","GURU","PLJR","GURU","PLJR","GURU","PLJR",null,null,"GURU","PLJR"]
[null,"06.45-07.00","PEMBIASAAN"]
[null,"07.00-08.00","TILAWATI",null,null,null,null,null,null,null,null,"06.45-07.00","PEMBIASAAN"]
[1,"08.00-08.35","L",9,null,13,"L",9,"H",5,1,"07.00-07.35","V",1]
[2,"08.35-09.10","L",9,null,13,"L",9,"H",5,2,"07.35-08.10","V",1]
[3,"09.10-09.45","L",9,null,13,"Z",8,"V",3,3,"08.10-08.45","V",1]
[4,"09.45-10.20","V",1,null,13,"Z",8,"V",3,4,"08.45-09.20","V",1]
[null,"10.20-10.40","Istirahat","Istirahat","Istirahat","Istirahat","Istirahat","Istirahat","Istirahat","Istirahat",null,"09.20-09.40","Istirahat","Istirahat"]
[5,"10.40-11.15","V",1,"V",1,"V",1,"V",1,5,"09.40-10.15","J",16]
[6,"11.15-11.50","V",1,"V",1,"V",1,"V",1,6,"10.15-10.50","J",16]
[null,"11.50-12.20","ishoja","ishoja","ishoja","ishoja","ishoja","ishoja","ishoja","ishoja"]
[7,"12.20-12.55","V",2,"B",17,"V",4,"V",14]
[8,"12.55-13.30","V",2,"B",18,"V",4,"V",14]
["NO","WAKTU","SABTU"]
[null,null,"GURU","PLJR"]
[null,"06.45-07.15","PEMBIASAAN"]
[1,"07.15-07.50","V",1]
[2,"07.50-08.25","V",1]
[3,"08.25-09.00","V",1]
[4,"09.00-10.00","V",20]
[null,"10.00-10.20","Istirahat","Istirahat"]
[5,null,"AB",15]

{"sheet":"1ABC","index":18,"n_rows":27,"n_cols":19,"rows_kept":27,"cut":false,"hidden":false,"merged":[[25,7,25,8],[19,7,19,8],[20,7,20,8],[21,7,21,8],[22,7,22,8],[23,7,23,8],[24,7,24,8],[16,0,17,0],[16,1,17,1],[16,2,16,4],[17,6,17,8],[18,2,18,4],[18,7,18,8],[15,0,15,20],[0,0,0,18],[1,0,1,18],[2,0,2,18],[4,0,5,0],[4,1,5,1],[4,2,4,4],[4,5,4,7],[4,8,4,10],[4,11,4,13],[4,14,5,14],[4,15,5,15],[4,16,4,18],[6,2,6,13],[7,16,7,18],[7,2,7,13]]}
["JADWAL PELAJARAN KURIKULUM 2013 KELAS I (SATU)"]
["MI NURUL ISLAM LABRUK KIDUL"]
[{"$f":"\"TAHUN PELAJARAN \"&HOME!A8","v":"TAHUN PELAJARAN 2020/2021"}]
[]
["NO","WAKTU","SENIN",null,null,"SELASA",null,null,"RABU",null,null,"KAMIS",null,null,"NO","WAKTU","JUMAT"]
[null,null,"A","B","C","A","B","C","A","B","C","A","B","C",null,null,"A","B","C"]
[null,"06.45-07.00","PEMBIASAAN"]
[null,"07.00-08.00","TILAWATI",null,null,null,null,null,null,null,null,null,null,null,null,"06.45-07.00","PEMBIASAAN"]
[1,"08.00-08.35",{"$f":"CEKJADWALMP!B8","v":"QH"},{"$f":"CEKJADWALMP!C8","v":{"$error":"#NAME?"}},{"$f":"CEKJADWALMP!D8","v":{"$error":"#NAME?"}},{"$f":"CEKJADWALMP!E8","v":"AA"},{"$f":"CEKJADWALMP!F8","v":{"$error":"#NAME?"}},{"$f":"CEKJADWALMP!G8","v":{"$error":"#NAME?"}},{"$f":"CEKJADWALMP!H8","v":"PJK"},{"$f":"CEKJADWALMP!I8","v":{"$error":"#NAME?"}},{"$f":"CEKJADWALMP!J8","v":{"$error":"#NAME?"}},{"$f":"CEKJADWALMP!K8","v":"FQ"},{"$f":"CEKJADWALMP!L8","v":{"$error":"#NAME?"}},{"$f":"CEKJADWALMP!M8","v":{"$error":"#NAME?"}},1,"07.00-07.35",{"$f":"CEKJADWALMP!N8","v":"BA"},{"$f":"CEKJADWALMP!O8","v":{"$error":"#NAME?"}},{"$f":"CEKJADWALMP!P8","v":{"$error":"#NAME?"}}]
[2,"08.35-09.10",{"$f":"CEKJADWALMP!B9","v":"QH"},{"$f":"CEKJADWALMP!C9","v":{"$error":"#NAME?"}},{"$f":"CEKJADWALMP!D9","v":{"$error":"#NAME?"}},{"$f":"CEKJADWALMP!E9","v":"AA"},{"$f":"CEKJADWALMP!F9","v":{"$error":"#NAME?"}},{"$f":"CEKJADWALMP!G9","v":{"$error":"#NAME?"}},{"$f":"CEKJADWALMP!H9","v":"PJK"},{"$f":"CEKJADWALMP!I9","v":{"$error":"#NAME?"}},{"$f":"CEKJADWALMP!J9","v":{"$error":"#NAME?"}},{"$f":"CEKJADWALMP!K9","v":"FQ"},{"$f":"CEKJADWALMP!L9","v":{"$error":"#NAME?"}},{"$f":"CEKJADWALMP!M9","v":{"$error":"#NAME?"}},2,"07.35-08.10",{"$f":"CEKJADWALMP!N9","v":"BA"},{"$f":"CEKJADWALMP!O9","v":{"$error":"#NAME?"}},{"$f":"CEKJADWALMP!P9","v":{"$error":"#NAME?"}}]
[3,"09.10-09.45",{"$f":"CEKJADWALMP!B10","v":"TMTIK"},{"$f":"CEKJADWALMP!C10","v":{"$error":"#NAME?"}},{"$f":"CEKJADWALMP!D10","v":{"$error":"#NAME?"}},{"$f":"CEKJADWALMP!E10","v":"TMTIK"},{"$f":"CEKJADWALMP!F10","v":{"$error":"#NAME?"}},{"$f":"CEKJADWALMP!G10","v":{"$error":"#NAME?"}},{"$f":"CEKJADWALMP!H10","v":"PJK"},{"$f":"CEKJADWALMP!I10","v":{"$error":"#NAME?"}},{"$f":"CEKJADWALMP!J10","v":{"$error":"#NAME?"}},{"$f":"CEKJADWALMP!K10","v":"TMTIK"},{"$f":"CEKJADWALMP!L10","v":{"$error":"#NAME?"}},{"$f":"CEKJADWALMP!M10","v":{"$error":"#NAME?"}},3,"08.10-08.45",{"$f":"CEKJADWALMP!N10","v":"TMTIK"},{"$f":"CEKJADWALMP!O10","v":{"$error":"#NAME?"}},{"$f":"CEKJADWALMP!P10","v":{"$error":"#NAME?"}}]
[null,"09.45-10.20","Istirahat","Istirahat","Istirahat","Istirahat","Istirahat","Istirahat","Istirahat","Istirahat","Istirahat","Istirahat","Istirahat","Istirahat",null,"08.45-09.05","Istirahat","Istirahat","Istirahat"]
[4,"10.15-10.50",{"$f":"CEKJADWALMP!B11","v":"TMTIK"},{"$f":"CEKJADWALMP!C11","v":{"$error":"#NAME?"}},{"$f":"CEKJADWALMP!D11","v":{"$error":"#NAME?"}},{"$f":"CEKJADWALMP!E11","v":"TMTIK"},{"$f":"CEKJADWALMP!F11","v":{"$error":"#NAME?"}},{"$f":"CEKJADWALMP!G11","v":{"$error":"#NAME?"}},{"$f":"CEKJADWALMP!H11","v":"PJK"},{"$f":"CEKJADWALMP!I11","v":{"$error":"#NAME?"}},{"$f":"CEKJADWALMP!J11","v":{"$error":"#NAME?"}},{"$f":"CEKJADWALMP!K11","v":"TMTIK"},{"$f":"CEKJADWALMP!L11","v":{"$error":"#NAME?"}},{"$f":"CEKJADWALMP!M11","v":{"$error":"#NAME?"}},4,"09.05-09.40",{"$f":"CEKJADWALMP!N11","v":"TMTIK"},{"$f":"CEKJADWALMP!O11","v":{"$error":"#NAME?"}},{"$f":"CEKJADWALMP!P11","v":{"$error":"#NAME?"}}]
[5,"10.50-11.25",{"$f":"CEKJADWALMP!B12","v":"TMTIK"},{"$f":"CEKJADWALMP!C12","v":{"$error":"#NAME?"}},{"$f":"CEKJADWALMP!D12","v":{"$error":"#NAME?"}},{"$f":"CEKJADWALMP!E12","v":"TMTIK"},{"$f":"CEKJADWALMP!F12","v":{"$error":"#NAME?"}},{"$f":"CEKJADWALMP!G12","v":{"$error":"#NAME?"}},{"$f":"CEKJADWALMP!H12","v":"BD"},{"$f":"CEKJADWALMP!I12","v":{"$error":"#NAME?"}},{"$f":"CEKJADWALMP!J12","v":{"$error":"#NAME?"}},{"$f":"CEKJADWALMP!K12","v":"TMTIK"},{"$f":"CEKJADWALMP!L12","v":{"$error":"#NAME?"}},{"$f":"CEKJADWALMP!M12","v":{"$error":"#NAME?"}},5,"09.40-10.15",{"$f":"CEKJADWALMP!N12","v":"TMTIK"},{"$f":"CEKJADWALMP!O12","v":{"$error":"#NAME?"}},{"$f":"CEKJADWALMP!P12","v":{"$error":"#NAME?"}}]
[6,"11.25-12.00",{"$f":"CEKJADWALMP!B13","v":"TMTIK"},{"$f":"CEKJADWALMP!C13","v":{"$error":"#NAME?"}},{"$f":"CEKJADWALMP!D13","v":{"$error":"#NAME?"}},{"$f":"CEKJADWALMP!E13","v":"TMTIK"},{"$f":"CEKJADWALMP!F13","v":{"$error":"#NAME?"}},{"$f":"CEKJADWALMP!G13","v":{"$error":"#NAME?"}},{"$f":"CEKJADWALMP!H13","v":"BIG"},{"$f":"CEKJADWALMP!I13","v":{"$error":"#NAME?"}},{"$f":"CEKJADWALMP!J13","v":{"$error":"#NAME?"}},{"$f":"CEKJADWALMP!K13","v":"TMTIK"},{"$f":"CEKJADWALMP!L13","v":{"$error":"#NAME?"}},{"$f":"CEKJADWALMP!M13","v":{"$error":"#NAME?"}},null,null,{"$f":"CEKJADWALMP!N13","v":{"$error":"#NAME?"}},{"$f":"CEKJADWALMP!O13","v":{"$error":"#NAME?"}},{"$f":"CEKJADWALMP!P13","v":{"$error":"#NAME?"}}]
[]
["NO","WAKTU","SABTU",null,null,"NB : tematik disesuaikan dengan tema tiap bulan"]
[null,null,"A","B","C",null,"KETERANGAN"]
[null,"06.45-07.00","PEMBIASAAN",null,null,null,"AA","Aqidah Akhlak"]
[1,"07.00-07.35",{"$f":"CEKJADWALMP!Q8","v":"TMTIK"},{"$f":"CEKJADWALMP!R8","v":{"$error":"#NAME?"}},{"$f":"CEKJADWALMP!S8","v":{"$error":"#NAME?"}},null,"BD","B. Daerah"]
[2,"07.35-08.10",{"$f":"CEKJADWALMP!Q9","v":"TMTIK"},{"$f":"CEKJADWALMP!R9","v":{"$error":"#NAME?"}},{"$f":"CEKJADWALMP!S9","v":{"$error":"#NAME?"}},null,"BIG","B. Inggris"]
[null,"08.10-08.30","Istirahat","Istirahat","Istirahat",null,"FQ","Fiqih"]
[3,"08.30-09.05",{"$f":"CEKJADWALMP!Q10","v":"TMTIK"},{"$f":"CEKJADWALMP!R10","v":{"$error":"#NAME?"}},{"$f":"CEKJADWALMP!S10","v":{"$error":"#NAME?"}},null,"PJOK","Penjaskes",null,null,null,null,null,null,null,null,"Labruk Kidul, 15 Juli 2019"]
[4,"09.05-09.40",{"$f":"CEKJADWALMP!Q11","v":"TMTIK"},{"$f":"CEKJADWALMP!R11","v":{"$error":"#NAME?"}},{"$f":"CEKJADWALMP!S11","v":{"$error":"#NAME?"}},null,"QH","Quran Hadits",null,null,null,"Kepala Madrasah",null,null,null,null,"PKM. Kurikulum"]
[null,null,null,null,null,null,"BA","Bahasa Arab"]
[null,null,null,null,null,null,"PG","pego"]
[null,null,null,null,null,null,null,null,null,null,null,"SAHRONI,S.Pd.I",null,null,null,null,"NUR RATNA P,S.Pd"]

{"sheet":"2ABC","index":19,"n_rows":27,"n_cols":19,"rows_kept":27,"cut":false,"hidden":false,"merged":[[24,7,24,8],[25,7,25,8],[19,7,19,8],[20,7,20,8],[21,7,21,8],[22,7,22,8],[23,7,23,8],[16,0,17,0],[16,1,17,1],[16,2,16,4],[0,0,0,18],[1,0,1,18],[2,0,2,18],[4,0,5,0],[4,1,5,1],[4,2,4,4],[4,5,4,7],[4,8,4,10],[4,11,4,13],[4,14,5,14],[15,0,15,20],[17,6,17,8],[18,2,18,4],[4,15,5,15],[4,16,4,18],[6,2,6,13],[7,16,7,18],[7,2,7,13],[18,7,18,8]]}
["JADWAL PELAJARAN KURIKULUM 2013 KELAS II (DUA)"]
["MI NURUL ISLAM LABRUK KIDUL"]
[{"$f":"\"TAHUN PELAJARAN \"&HOME!A8","v":"TAHUN PELAJARAN 2020/2021"}]
[]
["NO","WAKTU","SENIN",null,null,"SELASA",null,null,"RABU",null,null,"KAMIS",null,null,"NO","WAKTU","JUMAT"]
[null,null,"A","B","C","A","B","C","A","B","C","A","B","C",null,null,"A","B","C"]
[null,"06.45-07.00","PEMBIASAAN"]
[null,"07.00-08.00","TILAWATI",null,null,null,null,null,null,null,null,null,null,null,null,"06.45-07.00","PEMBIASAAN"]
[1,"08.00-08.35",{"$f":"CEKJADWALMP!B20","v":{"$error":"#NAME?"}},{"$f":"CEKJADWALMP!C20","v":{"$error":"#NAME?"}},{"$f":"CEKJADWALMP!D20","v":{"$error":"#NAME?"}},{"$f":"CEKJADWALMP!E20","v":{"$error":"#NAME?"}},{"$f":"CEKJADWALMP!F20","v":{"$error":"#NAME?"}},{"$f":"CEKJADWALMP!G20","v":{"$error":"#NAME?"}},{"$f":"CEKJADWALMP!H20","v":{"$error":"#NAME?"}},{"$f":"CEKJADWALMP!I20","v":{"$error":"#NAME?"}},{"$f":"CEKJADWALMP!J20","v":{"$error":"#NAME?"}},{"$f":"CEKJADWALMP!K20","v":{"$error":"#NAME?"}},{"$f":"CEKJADWALMP!L20","v":{"$error":"#NAME?"}},{"$f":"CEKJADWALMP!M20","v":{"$error":"#NAME?"}},1,"07.00-07.35",{"$f":"CEKJADWALMP!N20","v":{"$error":"#NAME?"}},{"$f":"CEKJADWALMP!O20","v":{"$error":"#NAME?"}},{"$f":"CEKJADWALMP!P20","v":{"$error":"#NAME?"}}]
[2,"08.35-09.10",{"$f":"CEKJADWALMP!B21","v":{"$error":"#NAME?"}},{"$f":"CEKJADWALMP!C21","v":{"$error":"#NAME?"}},{"$f":"CEKJADWALMP!D21","v":{"$error":"#NAME?"}},{"$f":"CEKJADWALMP!E21","v":{"$error":"#NAME?"}},{"$f":"CEKJADWALMP!F21","v":{"$error":"#NAME?"}},{"$f":"CEKJADWALMP!G21","v":{"$error":"#NAME?"}},{"$f":"CEKJADWALMP!H21","v":{"$error":"#NAME?"}},{"$f":"CEKJADWALMP!I21","v":{"$error":"#NAME?"}},{"$f":"CEKJADWALMP!J21","v":{"$error":"#NAME?"}},{"$f":"CEKJADWALMP!K21","v":{"$error":"#NAME?"}},{"$f":"CEKJADWALMP!L21","v":{"$error":"#NAME?"}},{"$f":"CEKJADWALMP!M21","v":{"$error":"#NAME?"}},2,"07.35-08.10",{"$f":"CEKJADWALMP!N21","v":{"$error":"#NAME?"}},{"$f":"CEKJADWALMP!O21","v":{"$error":"#NAME?"}},{"$f":"CEKJADWALMP!P21","v":{"$error":"#NAME?"}}]
[3,"09.10-09.45",{"$f":"CEKJADWALMP!B22","v":{"$error":"#NAME?"}},{"$f":"CEKJADWALMP!C22","v":{"$error":"#NAME?"}},{"$f":"CEKJADWALMP!D22","v":{"$error":"#NAME?"}},{"$f":"CEKJADWALMP!E22","v":{"$error":"#NAME?"}},{"$f":"CEKJADWALMP!F22","v":{"$error":"#NAME?"}},{"$f":"CEKJADWALMP!G22","v":{"$error":"#NAME?"}},{"$f":"CEKJADWALMP!H22","v":{"$error":"#NAME?"}},{"$f":"CEKJADWALMP!I22","v":{"$error":"#NAME?"}},{"$f":"CEKJADWALMP!J22","v":{"$error":"#NAME?"}},{"$f":"CEKJADWALMP!K22","v":{"$error":"#NAME?"}},{"$f":"CEKJADWALMP!L22","v":{"$error":"#NAME?"}},{"$f":"CEKJADWALMP!M22","v":{"$error":"#NAME?"}},3,"08.10-08.45",{"$f":"CEKJADWALMP!N22","v":{"$error":"#NAME?"}},{"$f":"CEKJADWALMP!O22","v":{"$error":"#NAME?"}},{"$f":"CEKJADWALMP!P22","v":{"$error":"#NAME?"}}]
[null,"09.45-10.20","Istirahat","Istirahat","Istirahat","Istirahat","Istirahat","Istirahat","Istirahat","Istirahat","Istirahat","Istirahat","Istirahat","Istirahat",null,"08.45-09.05","Istirahat","Istirahat","Istirahat"]
[4,"10.15-10.50",{"$f":"CEKJADWALMP!B23","v":{"$error":"#NAME?"}},{"$f":"CEKJADWALMP!C23","v":{"$error":"#NAME?"}},{"$f":"CEKJADWALMP!D23","v":{"$error":"#NAME?"}},{"$f":"CEKJADWALMP!E23","v":{"$error":"#NAME?"}},{"$f":"CEKJADWALMP!F23","v":{"$error":"#NAME?"}},{"$f":"CEKJADWALMP!G23","v":{"$error":"#NAME?"}},{"$f":"CEKJADWALMP!H23","v":{"$error":"#NAME?"}},{"$f":"CEKJADWALMP!I23","v":{"$error":"#NAME?"}},{"$f":"CEKJADWALMP!J23","v":{"$error":"#NAME?"}},{"$f":"CEKJADWALMP!K23","v":{"$error":"#NAME?"}},{"$f":"CEKJADWALMP!L23","v":{"$error":"#NAME?"}},{"$f":"CEKJADWALMP!M23","v":{"$error":"#NAME?"}},4,"09.05-09.40",{"$f":"CEKJADWALMP!N23","v":{"$error":"#NAME?"}},{"$f":"CEKJADWALMP!O23","v":{"$error":"#NAME?"}},{"$f":"CEKJADWALMP!P23","v":{"$error":"#NAME?"}}]
[5,"10.50-11.25",{"$f":"CEKJADWALMP!B24","v":{"$error":"#NAME?"}},{"$f":"CEKJADWALMP!C24","v":{"$error":"#NAME?"}},{"$f":"CEKJADWALMP!D24","v":{"$error":"#NAME?"}},{"$f":"CEKJADWALMP!E24","v":{"$error":"#NAME?"}},{"$f":"CEKJADWALMP!F24","v":{"$error":"#NAME?"}},{"$f":"CEKJADWALMP!G24","v":{"$error":"#NAME?"}},{"$f":"CEKJADWALMP!H24","v":{"$error":"#NAME?"}},{"$f":"CEKJADWALMP!I24","v":{"$error":"#NAME?"}},{"$f":"CEKJADWALMP!J24","v":{"$error":"#NAME?"}},{"$f":"CEKJADWALMP!K24","v":{"$error":"#NAME?"}},{"$f":"CEKJADWALMP!L24","v":{"$error":"#NAME?"}},{"$f":"CEKJADWALMP!M24","v":{"$error":"#NAME?"}},5,"09.40-10.15",{"$f":"CEKJADWALMP!N24","v":{"$error":"#NAME?"}},{"$f":"CEKJADWALMP!O24","v":{"$error":"#NAME?"}},{"$f":"CEKJADWALMP!P24","v":{"$error":"#NAME?"}}]
[6,"11.25-12.00",{"$f":"CEKJADWALMP!B25","v":{"$error":"#NAME?"}},{"$f":"CEKJADWALMP!C25","v":{"$error":"#NAME?"}},{"$f":"CEKJADWALMP!D25","v":{"$error":"#NAME?"}},{"$f":"CEKJADWALMP!E25","v":{"$error":"#NAME?"}},{"$f":"CEKJADWALMP!F25","v":{"$error":"#NAME?"}},{"$f":"CEKJADWALMP!G25","v":{"$error":"#NAME?"}},{"$f":"CEKJADWALMP!H25","v":{"$error":"#NAME?"}},{"$f":"CEKJADWALMP!I25","v":{"$error":"#NAME?"}},{"$f":"CEKJADWALMP!J25","v":{"$error":"#NAME?"}},{"$f":"CEKJADWALMP!K25","v":{"$error":"#NAME?"}},{"$f":"CEKJADWALMP!L25","v":{"$error":"#NAME?"}},{"$f":"CEKJADWALMP!M25","v":{"$error":"#NAME?"}},null,null,{"$f":"CEKJADWALMP!N25","v":{"$error":"#NAME?"}},{"$f":"CEKJADWALMP!O25","v":{"$error":"#NAME?"}},{"$f":"CEKJADWALMP!P25","v":{"$error":"#NAME?"}}]
[]
["NO","WAKTU","SABTU",null,null,"NB : tematik disesuaikan dengan tema tiap bulan"]
[null,null,"A","B","C",null,"KETERANGAN"]
[null,"06.45-07.00","PEMBIASAAN",null,null,null,"AA","Aqidah Akhlak"]
[1,"07.00-07.35",{"$f":"CEKJADWALMP!Q20","v":{"$error":"#NAME?"}},{"$f":"CEKJADWALMP!R20","v":{"$error":"#NAME?"}},{"$f":"CEKJADWALMP!S20","v":{"$error":"#NAME?"}},null,"BD","B. Daerah"]
[2,"07.35-08.10",{"$f":"CEKJADWALMP!Q21","v":{"$error":"#NAME?"}},{"$f":"CEKJADWALMP!R21","v":{"$error":"#NAME?"}},{"$f":"CEKJADWALMP!S21","v":{"$error":"#NAME?"}},null,"BIG","B. Inggris"]
[null,"08.10-08.30","Istirahat","Istirahat","Istirahat",null,"FQ","Fiqih"]
[3,"08.30-09.05",{"$f":"CEKJADWALMP!Q22","v":{"$error":"#NAME?"}},{"$f":"CEKJADWALMP!R22","v":{"$error":"#NAME?"}},{"$f":"CEKJADWALMP!S22","v":{"$error":"#NAME?"}},null,"PJOK","Penjaskes",null,null,null,null,null,null,null,null,"Labruk Kidul, 15 Juli 2019"]
[4,"09.05-09.40",{"$f":"CEKJADWALMP!Q23","v":{"$error":"#NAME?"}},{"$f":"CEKJADWALMP!R23","v":{"$error":"#NAME?"}},{"$f":"CEKJADWALMP!S23","v":{"$error":"#NAME?"}},null,"QH","Quran Hadits",null,null,null,"Kepala Madrasah",null,null,null,null,"PKM. Kurikulum"]
[null,null,null,null,null,null,"BA","Bahasa Arab"]
[null,null,null,null,null,null,"PG","pego"]
[null,null,null,null,null,null,null,null,null,null,null,"SAHRONI,S.Pd.I",null,null,null,null,"NUR RATNA P,S.Pd"]

{"sheet":"3ABC","index":20,"n_rows":29,"n_cols":21,"rows_kept":29,"cut":false,"hidden":false,"merged":[[21,2,21,4],[4,2,4,4],[4,5,4,7],[4,8,4,10],[4,15,5,15],[6,2,6,13],[7,2,7,13],[19,0,20,0],[19,1,20,1],[0,0,0,18],[1,0,1,18],[2,0,2,18],[4,0,5,0],[4,1,5,1],[4,11,4,13],[4,14,5,14],[19,2,19,4],[4,16,4,18],[6,16,6,18]]}
["JADWAL PELAJARAN KURIKULUM 2013 KELAS III (TIGA) "]
["MI NURUL ISLAM LABRUK KIDUL"]
[{"$f":"\"TAHUN PELAJARAN \"&HOME!A8","v":"TAHUN PELAJARAN 2020/2021"}]
[]
["NO","WAKTU","SENIN",null,null,"SELASA",null,null,"RABU",null,null,"KAMIS",null,null,"NO","WAKTU","JUMAT",null,null,"KETERANGAN"]
[null,null,"A","B","C","A","B","C","A","B","C","A","B","C",null,null,"A","B","C","AA","Aqidah Akhlak"]
[null,"06.45-07.00","PEMBIASAAN",null,null,null,null,null,null,null,null,null,null,null,null,"06.45-07.10","PEMBIASAAN",null,null,"BA","B. Arab"]
[null,"07.00-08.00","TILAWATI",null,null,null,null,null,null,null,null,null,null,null,1,"07.10-07.40",{"$f":"CEKJADWALMP!N32","v":{"$error":"#NAME?"}},{"$f":"CEKJADWALMP!O32","v":{"$error":"#NAME?"}},"TMTIK","BD","B. Daerah"]
[1,"08.00-08.35",{"$f":"CEKJADWALMP!B32","v":{"$error":"#NAME?"}},{"$f":"CEKJADWALMP!C32","v":{"$error":"#NAME?"}},"QH",{"$f":"CEKJADWALMP!E32","v":{"$error":"#NAME?"}},{"$f":"CEKJADWALMP!F32","v":{"$error":"#NAME?"}},"SKI",{"$f":"CEKJADWALMP!H32","v":{"$error":"#NAME?"}},{"$f":"CEKJADWALMP!I32","v":{"$error":"#NAME?"}},"FQ",{"$f":"CEKJADWALMP!K32","v":{"$error":"#NAME?"}},{"$f":"CEKJADWALMP!L32","v":{"$error":"#NAME?"}},"AA",2,"07.40-08.10",{"$f":"CEKJADWALMP!N33","v":{"$error":"#NAME?"}},{"$f":"CEKJADWALMP!O33","v":{"$error":"#NAME?"}},"TMTIK","BIG","B. Inggris"]
[2,"08.35-09.10",{"$f":"CEKJADWALMP!B33","v":{"$error":"#NAME?"}},{"$f":"CEKJADWALMP!C33","v":{"$error":"#NAME?"}},"QH",{"$f":"CEKJADWALMP!E33","v":{"$error":"#NAME?"}},{"$f":"CEKJADWALMP!F33","v":{"$error":"#NAME?"}},"SKI",{"$f":"CEKJADWALMP!H33","v":{"$error":"#NAME?"}},{"$f":"CEKJADWALMP!I33","v":{"$error":"#NAME?"}},"FQ",{"$f":"CEKJADWALMP!K33","v":{"$error":"#NAME?"}},{"$f":"CEKJADWALMP!L33","v":{"$error":"#NAME?"}},"AA",3,"08.10-08.40",{"$f":"CEKJADWALMP!N34","v":{"$error":"#NAME?"}},{"$f":"CEKJADWALMP!O34","v":{"$error":"#NAME?"}},"TMTIK","FQ","Fiqih"]
[3,"09.10-09.45",{"$f":"CEKJADWALMP!B34","v":{"$error":"#NAME?"}},{"$f":"CEKJADWALMP!C34","v":{"$error":"#NAME?"}},"TMTIK",{"$f":"CEKJADWALMP!E34","v":{"$error":"#NAME?"}},{"$f":"CEKJADWALMP!F34","v":{"$error":"#NAME?"}},"TMTIK",{"$f":"CEKJADWALMP!H34","v":{"$error":"#NAME?"}},{"$f":"CEKJADWALMP!I34","v":{"$error":"#NAME?"}},"TMTIK",{"$f":"CEKJADWALMP!K34","v":{"$error":"#NAME?"}},{"$f":"CEKJADWALMP!L34","v":{"$error":"#NAME?"}},"BA",4,"08.40-09.10",{"$f":"CEKJADWALMP!N35","v":{"$error":"#NAME?"}},{"$f":"CEKJADWALMP!O35","v":{"$error":"#NAME?"}},"TMTIK","NW","Nahwu"]
[4,"09.45-10.20",{"$f":"CEKJADWALMP!B35","v":{"$error":"#NAME?"}},{"$f":"CEKJADWALMP!C35","v":{"$error":"#NAME?"}},"TMTIK",{"$f":"CEKJADWALMP!E35","v":{"$error":"#NAME?"}},{"$f":"CEKJADWALMP!F35","v":{"$error":"#NAME?"}},"TMTIK",{"$f":"CEKJADWALMP!H35","v":{"$error":"#NAME?"}},{"$f":"CEKJADWALMP!I35","v":{"$error":"#NAME?"}},"TMTIK",{"$f":"CEKJADWALMP!K35","v":{"$error":"#NAME?"}},{"$f":"CEKJADWALMP!L35","v":{"$error":"#NAME?"}},"BA",5,"09.10-09.30","istirahat","istirahat","istirahat","PJK","Penjaskes"]
[null,"10.20-10.40","Istirahat","Istirahat","Istirahat","Istirahat","Istirahat","Istirahat","Istirahat","Istirahat","Istirahat","Istirahat","Istirahat","Istirahat",6,"09.30-10.00",{"$f":"CEKJADWALMP!N36","v":{"$error":"#NAME?"}},{"$f":"CEKJADWALMP!O36","v":{"$error":"#NAME?"}},"BD","QH","Quran Hadits"]
[5,"10.40-11.15",{"$f":"CEKJADWALMP!B36","v":{"$error":"#NAME?"}},{"$f":"CEKJADWALMP!C36","v":{"$error":"#NAME?"}},"TMTIK",{"$f":"CEKJADWALMP!E36","v":{"$error":"#NAME?"}},{"$f":"CEKJADWALMP!F36","v":{"$error":"#NAME?"}},"BIG",{"$f":"CEKJADWALMP!H36","v":{"$error":"#NAME?"}},{"$f":"CEKJADWALMP!I36","v":{"$error":"#NAME?"}},"TMTIK",{"$f":"CEKJADWALMP!K36","v":{"$error":"#NAME?"}},{"$f":"CEKJADWALMP!L36","v":{"$error":"#NAME?"}},"TMTIK",7,"10.00-10.30",{"$f":"CEKJADWALMP!N37","v":{"$error":"#NAME?"}},{"$f":"CEKJADWALMP!O37","v":{"$error":"#NAME?"}},"BD","SRF","Sorof"]
[6,"11.15-11.50",{"$f":"CEKJADWALMP!B37","v":{"$error":"#NAME?"}},{"$f":"CEKJADWALMP!C37","v":{"$error":"#NAME?"}},"TMTIK",{"$f":"CEKJADWALMP!E37","v":{"$error":"#NAME?"}},{"$f":"CEKJADWALMP!F37","v":{"$error":"#NAME?"}},"BIG",{"$f":"CEKJADWALMP!H37","v":{"$error":"#NAME?"}},{"$f":"CEKJADWALMP!I37","v":{"$error":"#NAME?"}},"TMTIK",{"$f":"CEKJADWALMP!K37","v":{"$error":"#NAME?"}},{"$f":"CEKJADWALMP!L37","v":{"$error":"#NAME?"}},"TMTIK",null,"10:30:00","PULANG","PULANG","PULANG"]
[null,"11.50-12.20","ishoja","ishoja","ishoja","ishoja","ishoja","ishoja","ishoja","ishoja","ishoja","ishoja","ishoja","ishoja"]
[7,"12.20-12.55",{"$f":"CEKJADWALMP!B38","v":{"$error":"#NAME?"}},{"$f":"CEKJADWALMP!C38","v":{"$error":"#NAME?"}},"TMTIK",{"$f":"CEKJADWALMP!E38","v":{"$error":"#NAME?"}},{"$f":"CEKJADWALMP!F38","v":{"$error":"#NAME?"}},"TMTIK",{"$f":"CEKJADWALMP!H38","v":{"$error":"#NAME?"}},{"$f":"CEKJADWALMP!I38","v":{"$error":"#NAME?"}},"TMTIK",{"$f":"CEKJADWALMP!K38","v":{"$error":"#NAME?"}},{"$f":"CEKJADWALMP!L38","v":{"$error":"#NAME?"}},"TMTIK"]
[8,"12.55-13.30",{"$f":"CEKJADWALMP!B39","v":{"$error":"#NAME?"}},{"$f":"CEKJADWALMP!C39","v":{"$error":"#NAME?"}},"TMTIK",{"$f":"CEKJADWALMP!E39","v":{"$error":"#NAME?"}},{"$f":"CEKJADWALMP!F39","v":{"$error":"#NAME?"}},"TMTIK"]
[]
["NO","WAKTU","SABTU",null,null,"istirahat ke1 = 20 menit"]
[null,null,"A","B","C","istirahat ke2 = 30 menit ishoja (istirahat dan sholat jamaah)"]
[null,"06.45-07.15","PEMBIASAAN"]
[1,"07.15-07.50",{"$f":"CEKJADWALMP!Q32","v":{"$error":"#NAME?"}},{"$f":"CEKJADWALMP!R32","v":{"$error":"#NAME?"}},"PJK"]
[2,"07.50-08.25",{"$f":"CEKJADWALMP!Q33","v":{"$error":"#NAME?"}},{"$f":"CEKJADWALMP!R33","v":{"$error":"#NAME?"}},"PJK"]
[3,"08.25-09.00",{"$f":"CEKJADWALMP!Q34","v":{"$error":"#NAME?"}},{"$f":"CEKJADWALMP!R34","v":{"$error":"#NAME?"}},"PJK",null,null,null,null,null,null,null,null,null,"Labruk Kidul, 15 Juli 2019"]
[4,"09.00-10.00",{"$f":"CEKJADWALMP!Q35","v":{"$error":"#NAME?"}},{"$f":"CEKJADWALMP!R35","v":{"$error":"#NAME?"}},"PG",null,null,null,"Kepala Madrasah",null,null,null,null,null,"PKM. Kurikulum"]
[null,"10.00-10.20","Istirahat","Istirahat","Istirahat"]
[5,"10.20-11.10"]
[6,null,null,null,null,null,null,null,"SAHRONI,S.Pd.I",null,null,null,null,null,"NUR RATNA P,S.Pd"]

{"sheet":"4ABC","index":21,"n_rows":28,"n_cols":21,"rows_kept":28,"cut":false,"hidden":false,"merged":[[18,0,19,0],[18,1,19,1],[18,2,18,3],[0,0,0,17],[1,0,1,17],[2,0,2,17],[4,0,5,0],[4,1,5,1],[4,2,4,3],[4,5,4,6],[4,8,4,9],[4,11,4,12],[4,14,5,14],[20,2,20,3],[4,15,5,15],[4,16,4,17],[6,2,6,12],[6,16,6,17],[7,2,7,12]]}
["JADWAL PELAJARAN KURIKULUM 2013 KELAS IV (EMPAT) "]
["MI NURUL ISLAM LABRUK KIDUL"]
[{"$f":"\"TAHUN PELAJARAN \"&HOME!A8","v":"TAHUN PELAJARAN 2020/2021"}]
[]
["NO","WAKTU","SENIN",null,null,"SELASA",null,null,"RABU",null,null,"KAMIS",null,null,"NO","WAKTU","JUMAT",null,null,"KETERANGAN"]
[null,null,"A","B","C","A","B","C","A","B","C","A","B","C",null,null,"A","B","C","AA","Aqidah Akhlak"]
[null,"06.45-07.00","PEMBIASAAN",null,null,null,null,null,null,null,null,null,null,null,null,"06.45-07.10","PEMBIASAAN",null,null,"AWJ","Aswaja"]
[null,"07.00-08.00","TILAWATI",null,null,null,null,null,null,null,null,null,null,null,1,"07.10-07.40",{"$f":"CEKJADWALMP!N44","v":"PJK"},{"$f":"CEKJADWALMP!O44","v":"MTK"},null,"BA","B. Arab"]
[1,"08.00-08.35",{"$f":"CEKJADWALMP!B44","v":"TMTIK"},{"$f":"CEKJADWALMP!C44","v":"SKI"},{"$f":"CEKJADWALMP!D44","v":0},{"$f":"CEKJADWALMP!E44","v":"TMTIK"},{"$f":"CEKJADWALMP!F44","v":"TMTIK"},null,{"$f":"CEKJADWALMP!H44","v":"BD"},{"$f":"CEKJADWALMP!I44","v":"QH"},null,{"$f":"CEKJADWALMP!K44","v":"TMTIK"},{"$f":"CEKJADWALMP!L44","v":"TMTIK"},null,2,"07.40-08.10",{"$f":"CEKJADWALMP!N45","v":"PJK"},{"$f":"CEKJADWALMP!O45","v":"MTK"},null,"BD","B. Daerah"]
[2,"08.35-09.10",{"$f":"CEKJADWALMP!B45","v":"TMTIK"},{"$f":"CEKJADWALMP!C45","v":"SKI"},{"$f":"CEKJADWALMP!D45","v":0},{"$f":"CEKJADWALMP!E45","v":"TMTIK"},{"$f":"CEKJADWALMP!F45","v":"TMTIK"},null,{"$f":"CEKJADWALMP!H45","v":"BD"},{"$f":"CEKJADWALMP!I45","v":"QH"},null,{"$f":"CEKJADWALMP!K45","v":"TMTIK"},{"$f":"CEKJADWALMP!L45","v":"TMTIK"},null,3,"08.10-08.40",{"$f":"CEKJADWALMP!N46","v":"PJK"},{"$f":"CEKJADWALMP!O46","v":"MTK"},null,"BIG","B. Inggris"]
[3,"09.10-09.45",{"$f":"CEKJADWALMP!B46","v":"NW"},{"$f":"CEKJADWALMP!C46","v":"MTK"},{"$f":"CEKJADWALMP!D46","v":0},{"$f":"CEKJADWALMP!E46","v":"AA"},{"$f":"CEKJADWALMP!F46","v":"NW"},null,{"$f":"CEKJADWALMP!H46","v":"MTK"},{"$f":"CEKJADWALMP!I46","v":"TMTIK"},null,{"$f":"CEKJADWALMP!K46","v":"TMTIK"},{"$f":"CEKJADWALMP!L46","v":"TMTIK"},null,4,"08.40-09.10",{"$f":"CEKJADWALMP!N47","v":"PJK"},{"$f":"CEKJADWALMP!O47","v":"TMTIK"},null,"FQ","Fiqih"]
[4,"09.45-10.20",{"$f":"CEKJADWALMP!B47","v":"SRF"},{"$f":"CEKJADWALMP!C47","v":"MTK"},{"$f":"CEKJADWALMP!D47","v":0},{"$f":"CEKJADWALMP!E47","v":"AA"},{"$f":"CEKJADWALMP!F47","v":"SRF"},null,{"$f":"CEKJADWALMP!H47","v":"MTK"},{"$f":"CEKJADWALMP!I47","v":"TMTIK"},null,{"$f":"CEKJADWALMP!K47","v":"TMTIK"},{"$f":"CEKJADWALMP!L47","v":"TMTIK"},null,5,"09.10-09.30","istirahat","istirahat",null,"NW","Nahwu"]
[null,"10.20-10.40","Istirahat","Istirahat",{"$f":"CEKJADWALMP!D48","v":0},"Istirahat","Istirahat",null,"Istirahat","Istirahat",null,"Istirahat","Istirahat",null,6,"09.30-10.00",{"$f":"CEKJADWALMP!N48","v":"BA"},{"$f":"CEKJADWALMP!O48","v":"TMTIK"},null,"PJK","Penjaskes"]
[5,"10.40-11.15",{"$f":"CEKJADWALMP!B48","v":"AWJ"},{"$f":"CEKJADWALMP!C48","v":"FQ"},{"$f":"CEKJADWALMP!D49","v":0},{"$f":"CEKJADWALMP!E48","v":"SKI"},{"$f":"CEKJADWALMP!F48","v":"AA"},null,{"$f":"CEKJADWALMP!H48","v":"TMTIK"},{"$f":"CEKJADWALMP!I48","v":"TMTIK"},null,{"$f":"CEKJADWALMP!K48","v":"QH"},{"$f":"CEKJADWALMP!L48","v":"BA"},null,7,"10.00-10.30",{"$f":"CEKJADWALMP!N49","v":"BA"},{"$f":"CEKJADWALMP!O49","v":"TMTIK"},null,"QH","Quran Hadits"]
[6,"11.15-11.50",{"$f":"CEKJADWALMP!B49","v":"AWJ"},{"$f":"CEKJADWALMP!C49","v":"FQ"},{"$f":"CEKJADWALMP!D50","v":0},{"$f":"CEKJADWALMP!E49","v":"SKI"},{"$f":"CEKJADWALMP!F49","v":"AA"},null,{"$f":"CEKJADWALMP!H49","v":"TMTIK"},{"$f":"CEKJADWALMP!I49","v":"TMTIK"},null,{"$f":"CEKJADWALMP!K49","v":"QH"},{"$f":"CEKJADWALMP!L49","v":"BA"},null,null,"10:30:00","PULANG","PULANG",null,"SRF","Sorof"]
[null,"11.50-12.20","ishoja","ishoja",{"$f":"CEKJADWALMP!D51","v":0},"ishoja","ishoja",null,"ishoja","ishoja",null,"ishoja","ishoja"]
[7,"12.20-12.55",{"$f":"CEKJADWALMP!B50","v":"FQ"},{"$f":"CEKJADWALMP!C50","v":"AWJ"},{"$f":"CEKJADWALMP!D52","v":0},{"$f":"CEKJADWALMP!E50","v":"TMTIK"},{"$f":"CEKJADWALMP!F50","v":"BD"},null,{"$f":"CEKJADWALMP!H50","v":"TMTIK"},{"$f":"CEKJADWALMP!I50","v":"TMTIK"},null,{"$f":"CEKJADWALMP!K50","v":"TMTIK"},{"$f":"CEKJADWALMP!L50","v":"TMTIK"}]
[8,"12.55-13.30",{"$f":"CEKJADWALMP!B51","v":"FQ"},{"$f":"CEKJADWALMP!C51","v":"AWJ"},{"$f":"CEKJADWALMP!D53","v":0},{"$f":"CEKJADWALMP!E51","v":"TMTIK"},{"$f":"CEKJADWALMP!F51","v":"BD"},null,{"$f":"CEKJADWALMP!H51","v":"TMTIK"},{"$f":"CEKJADWALMP!I51","v":"TMTIK"},null,{"$f":"CEKJADWALMP!K51","v":"TMTIK"},{"$f":"CEKJADWALMP!L51","v":"TMTIK"}]
["NO","WAKTU","SABTU",null,null,"istirahat ke1 = 20 menit"]
[null,null,"A","B","C","istirahat ke2 = 30 menit ishoja (istirahat dan sholat jamaah)"]
[null,"06.45-07.15","PEMBIASAAN"]
[1,"07.15-07.50",{"$f":"CEKJADWALMP!Q44","v":"MTK"},{"$f":"CEKJADWALMP!R44","v":"PJK"}]
[2,"07.50-08.25",{"$f":"CEKJADWALMP!Q45","v":"MTK"},{"$f":"CEKJADWALMP!R45","v":"PJK"}]
[3,"08.25-09.00",{"$f":"CEKJADWALMP!Q46","v":"MTK"},{"$f":"CEKJADWALMP!R46","v":"PJK"},null,null,null,null,null,null,null,null,null,null,"Labruk Kidul, 15 Juli 2019"]
[4,"09.00-10.00",{"$f":"CEKJADWALMP!Q47","v":"XTR"},{"$f":"CEKJADWALMP!R47","v":"XTR"},null,null,null,null,"Kepala Madrasah",null,null,null,null,null,"PKM. Kurikulum"]
[null,"10.00-10.20","Istirahat","Istirahat"]
[5,"10.20-11.20","pramuka","pramuka"]
[null,null,null,null,null,null,null,null,"SAHRONI,S.Pd.I",null,null,null,null,null,"NUR RATNA P,S.Pd"]

{"sheet":"5ABC","index":22,"n_rows":28,"n_cols":16,"rows_kept":28,"cut":false,"hidden":false,"merged":[[18,0,19,0],[18,1,19,1],[18,2,18,3],[0,0,0,13],[1,0,1,13],[2,0,2,13],[4,0,5,0],[4,1,5,1],[4,2,4,3],[4,4,4,5],[4,6,4,7],[4,8,4,9],[4,10,5,10],[20,2,20,3],[4,11,5,11],[4,12,4,13],[6,2,6,9],[6,12,6,13],[7,2,7,9]]}
["JADWAL PELAJARAN KURIKULUM 2013 KELAS V (LIMA) "]
["MI NURUL ISLAM LABRUK KIDUL"]
[{"$f":"\"TAHUN PELAJARAN \"&HOME!A8","v":"TAHUN PELAJARAN 2020/2021"}]
[]
["NO","WAKTU","SENIN",null,"SELASA",null,"RABU",null,"KAMIS",null,"NO","WAKTU","JUMAT",null,"KETERANGAN"]
[null,null,"A","B","A","B","A","B","A","B",null,null,"A","B","AA","Aqidah Akhlak"]
[null,"06.45-07.00","PEMBIASAAN",null,null,null,null,null,null,null,null,"06.45-07.10","PEMBIASAAN",null,"AWJ","Aswaja"]
[null,"07.00-08.00","TILAWATI",null,null,null,null,null,null,null,1,"07.10-07.40",{"$f":"CEKJADWALMP!N56","v":"SKI"},{"$f":"CEKJADWALMP!O56","v":"QH"},"BA","B. Arab"]
[1,"08.00-08.35",{"$f":"CEKJADWALMP!B56","v":"BA"},{"$f":"CEKJADWALMP!C56","v":"MTK"},{"$f":"CEKJADWALMP!E56","v":"MTK"},{"$f":"CEKJADWALMP!F56","v":"NW"},{"$f":"CEKJADWALMP!H56","v":"PJK"},{"$f":"CEKJADWALMP!I56","v":"MTK"},{"$f":"CEKJADWALMP!K56","v":"MTK"},{"$f":"CEKJADWALMP!L56","v":"PJK"},2,"07.40-08.10",{"$f":"CEKJADWALMP!N57","v":"SKI"},{"$f":"CEKJADWALMP!O57","v":"QH"},"BD","B. Daerah"]
[2,"08.35-09.10",{"$f":"CEKJADWALMP!B57","v":"BA"},{"$f":"CEKJADWALMP!C57","v":"MTK"},{"$f":"CEKJADWALMP!E57","v":"MTK"},{"$f":"CEKJADWALMP!F57","v":"SRF"},{"$f":"CEKJADWALMP!H57","v":"PJK"},{"$f":"CEKJADWALMP!I57","v":"MTK"},{"$f":"CEKJADWALMP!K57","v":"MTK"},{"$f":"CEKJADWALMP!L57","v":"PJK"},3,"08.10-08.40",{"$f":"CEKJADWALMP!N58","v":"QH"},{"$f":"CEKJADWALMP!O58","v":"BD"},"BIG","B. Inggris"]
[3,"09.10-09.45",{"$f":"CEKJADWALMP!B58","v":"TMTIK"},{"$f":"CEKJADWALMP!C58","v":"TMTIK"},{"$f":"CEKJADWALMP!E58","v":"TMTIK"},{"$f":"CEKJADWALMP!F58","v":"TMTIK"},{"$f":"CEKJADWALMP!H58","v":"PJK"},{"$f":"CEKJADWALMP!I58","v":"MTK"},{"$f":"CEKJADWALMP!K58","v":"MTK"},{"$f":"CEKJADWALMP!L58","v":"PJK"},4,"08.40-09.10",{"$f":"CEKJADWALMP!N59","v":"QH"},{"$f":"CEKJADWALMP!O59","v":"BD"},"FQ","Fiqih"]
[4,"09.45-10.20",{"$f":"CEKJADWALMP!B59","v":"TMTIK"},{"$f":"CEKJADWALMP!C59","v":"TMTIK"},{"$f":"CEKJADWALMP!E59","v":"TMTIK"},{"$f":"CEKJADWALMP!F59","v":"TMTIK"},{"$f":"CEKJADWALMP!H59","v":"PJK"},{"$f":"CEKJADWALMP!I59","v":"TMTIK"},{"$f":"CEKJADWALMP!K59","v":"TMTIK"},{"$f":"CEKJADWALMP!L59","v":"PJK"},null,"09.10-09.30","Istirahat","Istirahat","NW","Nahwu"]
[null,"10.20-10.40","Istirahat","Istirahat","Istirahat","Istirahat","Istirahat","Istirahat","Istirahat","Istirahat",5,"09.30-10.00",{"$f":"CEKJADWALMP!N60","v":"TMTIK"},{"$f":"CEKJADWALMP!O60","v":"TMTIK"},"PJK","Penjaskes"]
[5,"10.40-11.15",{"$f":"CEKJADWALMP!B60","v":"FQ"},{"$f":"CEKJADWALMP!C60","v":"BA"},{"$f":"CEKJADWALMP!E60","v":"NW"},{"$f":"CEKJADWALMP!F60","v":"FQ"},{"$f":"CEKJADWALMP!H60","v":"BD"},{"$f":"CEKJADWALMP!I60","v":"TMTIK"},{"$f":"CEKJADWALMP!K60","v":"TMTIK"},{"$f":"CEKJADWALMP!L60","v":"AWJ"},6,"10.00-10.30",{"$f":"CEKJADWALMP!N61","v":"TMTIK"},{"$f":"CEKJADWALMP!O61","v":"TMTIK"},"QH","Quran Hadits"]
[6,"11.15-11.50",{"$f":"CEKJADWALMP!B61","v":"FQ"},{"$f":"CEKJADWALMP!C61","v":"BA"},{"$f":"CEKJADWALMP!E61","v":"SRF"},{"$f":"CEKJADWALMP!F61","v":"FQ"},{"$f":"CEKJADWALMP!H61","v":"BD"},{"$f":"CEKJADWALMP!I61","v":"TMTIK"},{"$f":"CEKJADWALMP!K61","v":"TMTIK"},{"$f":"CEKJADWALMP!L61","v":"AWJ"},null,"10:30:00","PULANG","PULANG","SRF","Sorof"]
[null,"11.50-12.20","ishoja","ishoja","ishoja","ishoja","ishoja","ishoja","ishoja","ishoja"]
[7,"12.20-12.55",{"$f":"CEKJADWALMP!B62","v":"AA"},{"$f":"CEKJADWALMP!C62","v":"SKI"},{"$f":"CEKJADWALMP!E62","v":"TMTIK"},{"$f":"CEKJADWALMP!F62","v":"AA"},{"$f":"CEKJADWALMP!H62","v":"TMTIK"},{"$f":"CEKJADWALMP!I62","v":"TMTIK"},{"$f":"CEKJADWALMP!K62","v":"AWJ"},{"$f":"CEKJADWALMP!L62","v":"TMTIK"}]
[8,"12.55-13.30",{"$f":"CEKJADWALMP!B63","v":"AA"},{"$f":"CEKJADWALMP!C63","v":"SKI"},{"$f":"CEKJADWALMP!E63","v":"TMTIK"},{"$f":"CEKJADWALMP!F63","v":"AA"},{"$f":"CEKJADWALMP!H63","v":"TMTIK"},{"$f":"CEKJADWALMP!I63","v":"TMTIK"},{"$f":"CEKJADWALMP!K63","v":"AWJ"},{"$f":"CEKJADWALMP!L63","v":"TMTIK"}]
["NO","WAKTU","SABTU",null,"istirahat ke1 = 20 menit"]
[null,null,"A","B","istirahat ke2 = 30 menit ishoja (istirahat dan sholat jamaah)"]
[null,"06.45-07.15","PEMBIASAAN"]
[1,"07.15-07.50",{"$f":"CEKJADWALMP!Q56","v":"TMTIK"},{"$f":"CEKJADWALMP!R56","v":"TMTIK"}]
[2,"07.50-08.25",{"$f":"CEKJADWALMP!Q57","v":"TMTIK"},{"$f":"CEKJADWALMP!R57","v":"TMTIK"}]
[3,"08.25-09.00",{"$f":"CEKJADWALMP!Q58","v":"TMTIK"},{"$f":"CEKJADWALMP!R58","v":"TMTIK"},null,null,null,null,null,null,"Labruk Kidul, 15 Juli 2019"]
[4,"09.00-10.00",{"$f":"CEKJADWALMP!Q59","v":"XTR"},{"$f":"CEKJADWALMP!R59","v":"XTR"},null,null,"Kepala Madrasah",null,null,null,"PKM. Kurikulum"]
[null,"10.00-10.20","Istirahat","Istirahat"]
[5,"10.20-11.20","pramuka","pramuka"]
[null,null,null,null,null,null,"SAHRONI,S.Pd.I",null,null,null,"NUR RATNA P,S.Pd"]

{"sheet":"CEKJADWALMP","index":23,"n_rows":75,"n_cols":22,"rows_kept":75,"cut":false,"hidden":false,"merged":[[64,0,66,0],[64,1,64,18],[65,1,65,3],[65,4,65,6],[65,7,65,9],[65,10,65,12],[65,13,65,15],[65,16,65,18],[52,0,54,0],[52,1,52,18],[53,1,53,3],[53,4,53,6],[53,7,53,9],[53,10,53,12],[53,13,53,15],[53,16,53,18],[40,0,42,0],[40,1,40,18],[41,1,41,3],[41,4,41,6],[41,7,41,9],[41,10,41,12],[41,13,41,15],[41,16,41,18],[28,0,30,0],[28,1,28,18],[29,1,29,3],[29,4,29,6],[29,7,29,9],[29,10,29,12],[29,13,29,15],[29,16,29,18],[16,0,18,0],[16,1,16,18],[17,1,17,3],[17,4,17,6],[17,7,17,9],[17,10,17,12],[17,13,17,15],[17,16,17,18],[0,0,0,18],[1,0,1,18],[2,0,2,18],[4,0,6,0],[4,1,4,18],[5,1,5,3],[5,4,5,6],[5,7,5,9],[5,10,5,12],[5,13,5,15],[5,16,5,18]]}
["SINKONISASI JADWAL PELAJARAN KURIKULUM 2013"]
["MI NURUL ISLAM LABRUK KIDUL"]
["TAHUN PELAJARAN 2018/2019"]
[]
["NO","KELAS 1"]
[null,"SENIN",null,null,"SELASA",null,null,"RABU",null,null,"KAMIS",null,null,"JUMAT",null,null,"SABTU",null,null,null,1,"TMTIK"]
[null,"A","B","C","A","B","C","A","B","C","A","B","C","A","B","C","A","B","C",null,2,"AA"]
[1,{"$f":"IF('1A'!$D$9=1,\"TMTIK\",IF('1A'!$D$9=2,\"AA\",IF('1A'!$D$9=3,\"QH\",IF('1A'!$D$9=4,\"FQ\",IF('1A'!$D$9=5,\"SKI\",IF('1A'!$D$9=6,\"PKN\",IF('1A'!$D$9=7,\"BID\",IF('1A'!$D$9=8,\"BA\",IF('1A'!$D$9=9,\"MTK\",IF('1A'!$D$9=10,\"IPA\",IF('1A'!$D$9=11,\"IPS\",IF('1A'!$D$9=12,\"SBK\",IF('1A'!$D$9=13,\"PJK\",IF('1A'!$D$9=14,\"BD\",IF('1A'!$D$9=15,\"BIG\",IF('1A'!$D$9=16,\"AWJ\",IF('1A'!$D$9=17,\"NW\",IF('1A'!$D$9=18,\"SRF\",IF('1A'!$D$9=19,\"PG\",IF('1A'!$D$9=20,\"XTR\",””))))))))))))))))))))","v":"QH"},{"$f":"IF('1B'!$D$9=1,\"TMTIK\",IF('1B'!$D$9=2,\"AA\",IF('1B'!$D$9=3,\"QH\",IF('1B'!$D$9=4,\"FQ\",IF('1B'!$D$9=5,\"SKI\",IF('1B'!$D$9=6,\"PKN\",IF('1B'!$D$9=7,\"BID\",IF('1B'!$D$9=8,\"BA\",IF('1B'!$D$9=9,\"MTK\",IF('1B'!$D$9=10,\"IPA\",IF('1B'!$D$9=11,\"IPS\",IF('1B'!$D$9=12,\"SBK\",IF('1B'!$D$9=13,\"PJK\",IF('1B'!$D$9=14,\"BD\",IF('1B'!$D$9=15,\"BIG\",IF('1B'!$D$9=16,\"AWJ\",IF('1B'!$D$9=17,\"NW\",IF('1B'!$D$9=18,\"SRF\",IF('1B'!$D$9=19,\"PG\",IF('1B'!$D$9=20,\"XTR\",””))))))))))))))))))))","v":{"$error":"#NAME?"}},{"$f":"IF('1C'!$D$9=1,\"TMTIK\",IF('1C'!$D$9=2,\"AA\",IF('1C'!$D$9=3,\"QH\",IF('1C'!$D$9=4,\"FQ\",IF('1C'!$D$9=5,\"SKI\",IF('1C'!$D$9=6,\"PKN\",IF('1C'!$D$9=7,\"BID\",IF('1C'!$D$9=8,\"BA\",IF('1C'!$D$9=9,\"MTK\",IF('1C'!$D$9=10,\"IPA\",IF('1C'!$D$9=11,\"IPS\",IF('1C'!$D$9=12,\"SBK\",IF('1C'!$D$9=13,\"PJK\",IF('1C'!$D$9=14,\"BD\",IF('1C'!$D$9=15,\"BIG\",IF('1C'!$D$9=16,\"AWJ\",IF('1C'!$D$9=17,\"NW\",IF('1C'!$D$9=18,\"SRF\",IF('1C'!$D$9=19,\"PG\",IF('1C'!$D$9=20,\"XTR\",””))))))))))))))))))))","v":{"$error":"#NAME?"}},{"$f":"IF('1A'!$F$9=1,\"TMTIK\",IF('1A'!$F$9=2,\"AA\",IF('1A'!$F$9=3,\"QH\",IF('1A'!$F$9=4,\"FQ\",IF('1A'!$F$9=5,\"SKI\",IF('1A'!$F$9=6,\"PKN\",IF('1A'!$F$9=7,\"BID\",IF('1A'!$F$9=8,\"BA\",IF('1A'!$F$9=9,\"MTK\",IF('1A'!$F$9=10,\"IPA\",IF('1A'!$F$9=11,\"IPS\",IF('1A'!$F$9=12,\"SBK\",IF('1A'!$F$9=13,\"PJK\",IF('1A'!$F$9=14,\"BD\",IF('1A'!$F$9=15,\"BIG\",IF('1A'!$F$9=16,\"AWJ\",IF('1A'!$F$9=17,\"NW\",IF('1A'!$F$9=18,\"SRF\",IF('1A'!$F$9=19,\"PG\",IF('1A'!$F$9=20,\"XTR\",””))))))))))))))))))))","v":"AA"},{"$f":"IF('1B'!$F$9=1,\"TMTIK\",IF('1B'!$F$9=2,\"AA\",IF('1B'!$F$9=3,\"QH\",IF('1B'!$F$9=4,\"FQ\",IF('1B'!$F$9=5,\"SKI\",IF('1B'!$F$9=6,\"PKN\",IF('1B'!$F$9=7,\"BID\",IF('1B'!$F$9=8,\"BA\",IF('1B'!$F$9=9,\"MTK\",IF('1B'!$F$9=10,\"IPA\",IF('1B'!$F$9=11,\"IPS\",IF('1B'!$F$9=12,\"SBK\",IF('1B'!$F$9=13,\"PJK\",IF('1B'!$F$9=14,\"BD\",IF('1B'!$F$9=15,\"BIG\",IF('1B'!$F$9=16,\"AWJ\",IF('1B'!$F$9=17,\"NW\",IF('1B'!$F$9=18,\"SRF\",IF('1B'!$F$9=19,\"PG\",IF('1B'!$F$9=20,\"XTR\",””))))))))))))))))))))","v":{"$error":"#NAME?"}},{"$f":"IF('1C'!$F$9=1,\"TMTIK\",IF('1C'!$F$9=2,\"AA\",IF('1C'!$F$9=3,\"QH\",IF('1C'!$F$9=4,\"FQ\",IF('1C'!$F$9=5,\"SKI\",IF('1C'!$F$9=6,\"PKN\",IF('1C'!$F$9=7,\"BID\",IF('1C'!$F$9=8,\"BA\",IF('1C'!$F$9=9,\"MTK\",IF('1C'!$F$9=10,\"IPA\",IF('1C'!$F$9=11,\"IPS\",IF('1C'!$F$9=12,\"SBK\",IF('1C'!$F$9=13,\"PJK\",IF('1C'!$F$9=14,\"BD\",IF('1C'!$F$9=15,\"BIG\",IF('1C'!$F$9=16,\"AWJ\",IF('1C'!$F$9=17,\"NW\",IF('1C'!$F$9=18,\"SRF\",IF('1C'!$F$9=19,\"PG\",IF('1C'!$F$9=20,\"XTR\",””))))))))))))))))))))","v":{"$error":"#NAME?"}},{"$f":"IF('1A'!$H$9=1,\"TMTIK\",IF('1A'!$H$9=2,\"AA\",IF('1A'!$H$9=3,\"QH\",IF('1A'!$H$9=4,\"FQ\",IF('1A'!$H$9=5,\"SKI\",IF('1A'!$H$9=6,\"PKN\",IF('1A'!$H$9=7,\"BID\",IF('1A'!$H$9=8,\"BA\",IF('1A'!$H$9=9,\"MTK\",IF('1A'!$H$9=10,\"IPA\",IF('1A'!$H$9=11,\"IPS\",IF('1A'!$H$9=12,\"SBK\",IF('1A'!$H$9=13,\"PJK\",IF('1A'!$H$9=14,\"BD\",IF('1A'!$H$9=15,\"BIG\",IF('1A'!$H$9=16,\"AWJ\",IF('1A'!$H$9=17,\"NW\",IF('1A'!$H$9=18,\"SRF\",IF('1A'!$H$9=19,\"PG\",IF('1A'!$H$9=20,\"XTR\",””))))))))))))))))))))","v":"PJK"},{"$f":"IF('1B'!$H$9=1,\"TMTIK\",IF('1B'!$H$9=2,\"AA\",IF('1B'!$H$9=3,\"QH\",IF('1B'!$H$9=4,\"FQ\",IF('1B'!$H$9=5,\"SKI\",IF('1B'!$H$9=6,\"PKN\",IF('1B'!$H$9=7,\"BID\",IF('1B'!$H$9=8,\"BA\",IF('1B'!$H$9=9,\"MTK\",IF('1B'!$H$9=10,\"IPA\",IF('1B'!$H$9=11,\"IPS\",IF('1B'!$H$9=12,\"SBK\",IF('1B'!$H$9=13,\"PJK\",IF('1B'!$H$9=14,\"BD\",IF('1B'!$H$9=15,\"BIG\",IF('1B'!$H$9=16,\"AWJ\",IF('1B'!$H$9=17,\"NW\",IF('1B'!$H$9=18,\"SRF\",IF('1B'!$H$9=19,\"PG\",IF('1B'!$H$9=20,\"XTR\",””))))))))))))))))))))","v":{"$error":"#NAME?"}},{"$f":"IF('1C'!$H$9=1,\"TMTIK\",IF('1C'!$H$9=2,\"AA\",IF('1C'!$H$9=3,\"QH\",IF('1C'!$H$9=4,\"FQ\",IF('1C'!$H$9=5,\"SKI\",IF('1C'!$H$9=6,\"PKN\",IF('1C'!$H$9=7,\"BID\",IF('1C'!$H$9=8,\"BA\",IF('1C'!$H$9=9,\"MTK\",IF('1C'!$H$9=10,\"IPA\",IF('1C'!$H$9=11,\"IPS\",IF('1C'!$H$9=12,\"SBK\",IF('1C'!$H$9=13,\"PJK\",IF('1C'!$H$9=14,\"BD\",IF('1C'!$H$9=15,\"BIG\",IF('1C'!$H$9=16,\"AWJ\",IF('1C'!$H$9=17,\"NW\",IF('1C'!$H$9=18,\"SRF\",IF('1C'!$H$9=19,\"PG\",IF('1C'!$H$9=20,\"XTR\",””))))))))))))))))))))","v":{"$error":"#NAME?"}},{"$f":"IF('1A'!$J$9=1,\"TMTIK\",IF('1A'!$J$9=2,\"AA\",IF('1A'!$J$9=3,\"QH\",IF('1A'!$J$9=4,\"FQ\",IF('1A'!$J$9=5,\"SKI\",IF('1A'!$J$9=6,\"PKN\",IF('1A'!$J$9=7,\"BID\",IF('1A'!$J$9=8,\"BA\",IF('1A'!$J$9=9,\"MTK\",IF('1A'!$J$9=10,\"IPA\",IF('1A'!$J$9=11,\"IPS\",IF('1A'!$J$9=12,\"SBK\",IF('1A'!$J$9=13,\"PJK\",IF('1A'!$J$9=14,\"BD\",IF('1A'!$J$9=15,\"BIG\",IF('1A'!$J$9=16,\"AWJ\",IF('1A'!$J$9=17,\"NW\",IF('1A'!$J$9=18,\"SRF\",IF('1A'!$J$9=19,\"PG\",IF('1A'!$J$9=20,\"XTR\",””))))))))))))))))))))","v":"FQ"},{"$f":"IF('1B'!$J$9=1,\"TMTIK\",IF('1B'!$J$9=2,\"AA\",IF('1B'!$J$9=3,\"QH\",IF('1B'!$J$9=4,\"FQ\",IF('1B'!$J$9=5,\"SKI\",IF('1B'!$J$9=6,\"PKN\",IF('1B'!$J$9=7,\"BID\",IF('1B'!$J$9=8,\"BA\",IF('1B'!$J$9=9,\"MTK\",IF('1B'!$J$9=10,\"IPA\",IF('1B'!$J$9=11,\"IPS\",IF('1B'!$J$9=12,\"SBK\",IF('1B'!$J$9=13,\"PJK\",IF('1B'!$J$9=14,\"BD\",IF('1B'!$J$9=15,\"BIG\",IF('1B'!$J$9=16,\"AWJ\",IF('1B'!$J$9=17,\"NW\",IF('1B'!$J$9=18,\"SRF\",IF('1B'!$J$9=19,\"PG\",IF('1B'!$J$9=20,\"XTR\",””))))))))))))))))))))","v":{"$error":"#NAME?"}},{"$f":"IF('1C'!$J$9=1,\"TMTIK\",IF('1C'!$J$9=2,\"AA\",IF('1C'!$J$9=3,\"QH\",IF('1C'!$J$9=4,\"FQ\",IF('1C'!$J$9=5,\"SKI\",IF('1C'!$J$9=6,\"PKN\",IF('1C'!$J$9=7,\"BID\",IF('1C'!$J$9=8,\"BA\",IF('1C'!$J$9=9,\"MTK\",IF('1C'!$J$9=10,\"IPA\",IF('1C'!$J$9=11,\"IPS\",IF('1C'!$J$9=12,\"SBK\",IF('1C'!$J$9=13,\"PJK\",IF('1C'!$J$9=14,\"BD\",IF('1C'!$J$9=15,\"BIG\",IF('1C'!$J$9=16,\"AWJ\",IF('1C'!$J$9=17,\"NW\",IF('1C'!$J$9=18,\"SRF\",IF('1C'!$J$9=19,\"PG\",IF('1C'!$J$9=20,\"XTR\",””))))))))))))))))))))","v":{"$error":"#NAME?"}},{"$f":"IF('1A'!$N$9=1,\"TMTIK\",IF('1A'!$N$9=2,\"AA\",IF('1A'!$N$9=3,\"QH\",IF('1A'!$N$9=4,\"FQ\",IF('1A'!$N$9=5,\"SKI\",IF('1A'!$N$9=6,\"PKN\",IF('1A'!$N$9=7,\"BID\",IF('1A'!$N$9=8,\"BA\",IF('1A'!$N$9=9,\"MTK\",IF('1A'!$N$9=10,\"IPA\",IF('1A'!$N$9=11,\"IPS\",IF('1A'!$N$9=12,\"SBK\",IF('1A'!$N$9=13,\"PJK\",IF('1A'!$N$9=14,\"BD\",IF('1A'!$N$9=15,\"BIG\",IF('1A'!$N$9=16,\"AWJ\",IF('1A'!$N$9=17,\"NW\",IF('1A'!$N$9=18,\"SRF\",IF('1A'!$N$9=19,\"PG\",IF('1A'!$N$9=20,\"XTR\",””))))))))))))))))))))","v":"BA"},{"$f":"IF('1B'!$N$9=1,\"TMTIK\",IF('1B'!$N$9=2,\"AA\",IF('1B'!$N$9=3,\"QH\",IF('1B'!$N$9=4,\"FQ\",IF('1B'!$N$9=5,\"SKI\",IF('1B'!$N$9=6,\"PKN\",IF('1B'!$N$9=7,\"BID\",IF('1B'!$N$9=8,\"BA\",IF('1B'!$N$9=9,\"MTK\",IF('1B'!$N$9=10,\"IPA\",IF('1B'!$N$9=11,\"IPS\",IF('1B'!$N$9=12,\"SBK\",IF('1B'!$N$9=13,\"PJK\",IF('1B'!$N$9=14,\"BD\",IF('1B'!$N$9=15,\"BIG\",IF('1B'!$N$9=16,\"AWJ\",IF('1B'!$N$9=17,\"NW\",IF('1B'!$N$9=18,\"SRF\",IF('1B'!$N$9=19,\"PG\",IF('1B'!$N$9=20,\"XTR\",””))))))))))))))))))))","v":{"$error":"#NAME?"}},{"$f":"IF('1C'!$N$9=1,\"TMTIK\",IF('1C'!$N$9=2,\"AA\",IF('1C'!$N$9=3,\"QH\",IF('1C'!$N$9=4,\"FQ\",IF('1C'!$N$9=5,\"SKI\",IF('1C'!$N$9=6,\"PKN\",IF('1C'!$N$9=7,\"BID\",IF('1C'!$N$9=8,\"BA\",IF('1C'!$N$9=9,\"MTK\",IF('1C'!$N$9=10,\"IPA\",IF('1C'!$N$9=11,\"IPS\",IF('1C'!$N$9=12,\"SBK\",IF('1C'!$N$9=13,\"PJK\",IF('1C'!$N$9=14,\"BD\",IF('1C'!$N$9=15,\"BIG\",IF('1C'!$N$9=16,\"AWJ\",IF('1C'!$N$9=17,\"NW\",IF('1C'!$N$9=18,\"SRF\",IF('1C'!$N$9=19,\"PG\",IF('1C'!$N$9=20,\"XTR\",””))))))))))))))))))))","v":{"$error":"#NAME?"}},{"$f":"IF('1A'!$D$22=1,\"TMTIK\",IF('1A'!$D$22=2,\"AA\",IF('1A'!$D$22=3,\"QH\",IF('1A'!$D$22=4,\"FQ\",IF('1A'!$D$22=5,\"SKI\",IF('1A'!$D$22=6,\"PKN\",IF('1A'!$D$22=7,\"BID\",IF('1A'!$D$22=8,\"BA\",IF('1A'!$D$22=9,\"MTK\",IF('1A'!$D$22=10,\"IPA\",IF('1A'!$D$22=11,\"IPS\",IF('1A'!$D$22=12,\"SBK\",IF('1A'!$D$22=13,\"PJK\",IF('1A'!$D$22=14,\"BD\",IF('1A'!$D$22=15,\"BIG\",IF('1A'!$D$22=16,\"AWJ\",IF('1A'!$D$22=17,\"NW\",IF('1A'!$D$22=18,\"SRF\",IF('1A'!$D$22=19,\"PG\",IF('1A'!$D$22=20,\"XTR\",””))))))))))))))))))))","v":"TMTIK"},{"$f":"IF('1B'!$D$22=1,\"TMTIK\",IF('1B'!$D$22=2,\"AA\",IF('1B'!$D$22=3,\"QH\",IF('1B'!$D$22=4,\"FQ\",IF('1B'!$D$22=5,\"SKI\",IF('1B'!$D$22=6,\"PKN\",IF('1B'!$D$22=7,\"BID\",IF('1B'!$D$22=8,\"BA\",IF('1B'!$D$22=9,\"MTK\",IF('1B'!$D$22=10,\"IPA\",IF('1B'!$D$22=11,\"IPS\",IF('1B'!$D$22=12,\"SBK\",IF('1B'!$D$22=13,\"PJK\",IF('1B'!$D$22=14,\"BD\",IF('1B'!$D$22=15,\"BIG\",IF('1B'!$D$22=16,\"AWJ\",IF('1B'!$D$22=17,\"NW\",IF('1B'!$D$22=18,\"SRF\",IF('1B'!$D$22=19,\"PG\",IF('1B'!$D$22=20,\"XTR\",””))))))))))))))))))))","v":{"$error":"#NAME?"}},{"$f":"IF('1C'!$D$22=1,\"TMTIK\",IF('1C'!$D$22=2,\"AA\",IF('1C'!$D$22=3,\"QH\",IF('1C'!$D$22=4,\"FQ\",IF('1C'!$D$22=5,\"SKI\",IF('1C'!$D$22=6,\"PKN\",IF('1C'!$D$22=7,\"BID\",IF('1C'!$D$22=8,\"BA\",IF('1C'!$D$22=9,\"MTK\",IF('1C'!$D$22=10,\"IPA\",IF('1C'!$D$22=11,\"IPS\",IF('1C'!$D$22=12,\"SBK\",IF('1C'!$D$22=13,\"PJK\",IF('1C'!$D$22=14,\"BD\",IF('1C'!$D$22=15,\"BIG\",IF('1C'!$D$22=16,\"AWJ\",IF('1C'!$D$22=17,\"NW\",IF('1C'!$D$22=18,\"SRF\",IF('1C'!$D$22=19,\"PG\",IF('1C'!$D$22=20,\"XTR\",””))))))))))))))))))))","v":{"$error":"#NAME?"}},22,3,"QH"]
[2,{"$f":"IF('1A'!$D$10=1,\"TMTIK\",IF('1A'!$D$10=2,\"AA\",IF('1A'!$D$10=3,\"QH\",IF('1A'!$D$10=4,\"FQ\",IF('1A'!$D$10=5,\"SKI\",IF('1A'!$D$10=6,\"PKN\",IF('1A'!$D$10=7,\"BID\",IF('1A'!$D$10=8,\"BA\",IF('1A'!$D$10=9,\"MTK\",IF('1A'!$D$10=10,\"IPA\",IF('1A'!$D$10=11,\"IPS\",IF('1A'!$D$10=12,\"SBK\",IF('1A'!$D$10=13,\"PJK\",IF('1A'!$D$10=14,\"BD\",IF('1A'!$D$10=15,\"BIG\",IF('1A'!$D$10=16,\"AWJ\",IF('1A'!$D$10=17,\"NW\",IF('1A'!$D$10=18,\"SRF\",IF('1A'!$D$10=19,\"PG\",IF('1A'!$D$10=20,\"XTR\",””))))))))))))))))))))","v":"QH"},{"$f":"IF('1B'!$D$10=1,\"TMTIK\",IF('1B'!$D$10=2,\"AA\",IF('1B'!$D$10=3,\"QH\",IF('1B'!$D$10=4,\"FQ\",IF('1B'!$D$10=5,\"SKI\",IF('1B'!$D$10=6,\"PKN\",IF('1B'!$D$10=7,\"BID\",IF('1B'!$D$10=8,\"BA\",IF('1B'!$D$10=9,\"MTK\",IF('1B'!$D$10=10,\"IPA\",IF('1B'!$D$10=11,\"IPS\",IF('1B'!$D$10=12,\"SBK\",IF('1B'!$D$10=13,\"PJK\",IF('1B'!$D$10=14,\"BD\",IF('1B'!$D$10=15,\"BIG\",IF('1B'!$D$10=16,\"AWJ\",IF('1B'!$D$10=17,\"NW\",IF('1B'!$D$10=18,\"SRF\",IF('1B'!$D$10=19,\"PG\",IF('1B'!$D$10=20,\"XTR\",””))))))))))))))))))))","v":{"$error":"#NAME?"}},{"$f":"IF('1C'!$D$10=1,\"TMTIK\",IF('1C'!$D$10=2,\"AA\",IF('1C'!$D$10=3,\"QH\",IF('1C'!$D$10=4,\"FQ\",IF('1C'!$D$10=5,\"SKI\",IF('1C'!$D$10=6,\"PKN\",IF('1C'!$D$10=7,\"BID\",IF('1C'!$D$10=8,\"BA\",IF('1C'!$D$10=9,\"MTK\",IF('1C'!$D$10=10,\"IPA\",IF('1C'!$D$10=11,\"IPS\",IF('1C'!$D$10=12,\"SBK\",IF('1C'!$D$10=13,\"PJK\",IF('1C'!$D$10=14,\"BD\",IF('1C'!$D$10=15,\"BIG\",IF('1C'!$D$10=16,\"AWJ\",IF('1C'!$D$10=17,\"NW\",IF('1C'!$D$10=18,\"SRF\",IF('1C'!$D$10=19,\"PG\",IF('1C'!$D$10=20,\"XTR\",””))))))))))))))))))))","v":{"$error":"#NAME?"}},{"$f":"IF('1A'!$F$10=1,\"TMTIK\",IF('1A'!$F$10=2,\"AA\",IF('1A'!$F$10=3,\"QH\",IF('1A'!$F$10=4,\"FQ\",IF('1A'!$F$10=5,\"SKI\",IF('1A'!$F$10=6,\"PKN\",IF('1A'!$F$10=7,\"BID\",IF('1A'!$F$10=8,\"BA\",IF('1A'!$F$10=9,\"MTK\",IF('1A'!$F$10=10,\"IPA\",IF('1A'!$F$10=11,\"IPS\",IF('1A'!$F$10=12,\"SBK\",IF('1A'!$F$10=13,\"PJK\",IF('1A'!$F$10=14,\"BD\",IF('1A'!$F$10=15,\"BIG\",IF('1A'!$F$10=16,\"AWJ\",IF('1A'!$F$10=17,\"NW\",IF('1A'!$F$10=18,\"SRF\",IF('1A'!$F$10=19,\"PG\",IF('1A'!$F$10=20,\"XTR\",””))))))))))))))))))))","v":"AA"},{"$f":"IF('1B'!$F$10=1,\"TMTIK\",IF('1B'!$F$10=2,\"AA\",IF('1B'!$F$10=3,\"QH\",IF('1B'!$F$10=4,\"FQ\",IF('1B'!$F$10=5,\"SKI\",IF('1B'!$F$10=6,\"PKN\",IF('1B'!$F$10=7,\"BID\",IF('1B'!$F$10=8,\"BA\",IF('1B'!$F$10=9,\"MTK\",IF('1B'!$F$10=10,\"IPA\",IF('1B'!$F$10=11,\"IPS\",IF('1B'!$F$10=12,\"SBK\",IF('1B'!$F$10=13,\"PJK\",IF('1B'!$F$10=14,\"BD\",IF('1B'!$F$10=15,\"BIG\",IF('1B'!$F$10=16,\"AWJ\",IF('1B'!$F$10=17,\"NW\",IF('1B'!$F$10=18,\"SRF\",IF('1B'!$F$10=19,\"PG\",IF('1B'!$F$10=20,\"XTR\",””))))))))))))))))))))","v":{"$error":"#NAME?"}},{"$f":"IF('1C'!$F$10=1,\"TMTIK\",IF('1C'!$F$10=2,\"AA\",IF('1C'!$F$10=3,\"QH\",IF('1C'!$F$10=4,\"FQ\",IF('1C'!$F$10=5,\"SKI\",IF('1C'!$F$10=6,\"PKN\",IF('1C'!$F$10=7,\"BID\",IF('1C'!$F$10=8,\"BA\",IF('1C'!$F$10=9,\"MTK\",IF('1C'!$F$10=10,\"IPA\",IF('1C'!$F$10=11,\"IPS\",IF('1C'!$F$10=12,\"SBK\",IF('1C'!$F$10=13,\"PJK\",IF('1C'!$F$10=14,\"BD\",IF('1C'!$F$10=15,\"BIG\",IF('1C'!$F$10=16,\"AWJ\",IF('1C'!$F$10=17,\"NW\",IF('1C'!$F$10=18,\"SRF\",IF('1C'!$F$10=19,\"PG\",IF('1C'!$F$10=20,\"XTR\",””))))))))))))))))))))","v":{"$error":"#NAME?"}},{"$f":"IF('1A'!$H$10=1,\"TMTIK\",IF('1A'!$H$10=2,\"AA\",IF('1A'!$H$10=3,\"QH\",IF('1A'!$H$10=4,\"FQ\",IF('1A'!$H$10=5,\"SKI\",IF('1A'!$H$10=6,\"PKN\",IF('1A'!$H$10=7,\"BID\",IF('1A'!$H$10=8,\"BA\",IF('1A'!$H$10=9,\"MTK\",IF('1A'!$H$10=10,\"IPA\",IF('1A'!$H$10=11,\"IPS\",IF('1A'!$H$10=12,\"SBK\",IF('1A'!$H$10=13,\"PJK\",IF('1A'!$H$10=14,\"BD\",IF('1A'!$H$10=15,\"BIG\",IF('1A'!$H$10=16,\"AWJ\",IF('1A'!$H$10=17,\"NW\",IF('1A'!$H$10=18,\"SRF\",IF('1A'!$H$10=19,\"PG\",IF('1A'!$H$10=20,\"XTR\",””))))))))))))))))))))","v":"PJK"},{"$f":"IF('1B'!$H$10=1,\"TMTIK\",IF('1B'!$H$10=2,\"AA\",IF('1B'!$H$10=3,\"QH\",IF('1B'!$H$10=4,\"FQ\",IF('1B'!$H$10=5,\"SKI\",IF('1B'!$H$10=6,\"PKN\",IF('1B'!$H$10=7,\"BID\",IF('1B'!$H$10=8,\"BA\",IF('1B'!$H$10=9,\"MTK\",IF('1B'!$H$10=10,\"IPA\",IF('1B'!$H$10=11,\"IPS\",IF('1B'!$H$10=12,\"SBK\",IF('1B'!$H$10=13,\"PJK\",IF('1B'!$H$10=14,\"BD\",IF('1B'!$H$10=15,\"BIG\",IF('1B'!$H$10=16,\"AWJ\",IF('1B'!$H$10=17,\"NW\",IF('1B'!$H$10=18,\"SRF\",IF('1B'!$H$10=19,\"PG\",IF('1B'!$H$10=20,\"XTR\",””))))))))))))))))))))","v":{"$error":"#NAME?"}},{"$f":"IF('1C'!$H$10=1,\"TMTIK\",IF('1C'!$H$10=2,\"AA\",IF('1C'!$H$10=3,\"QH\",IF('1C'!$H$10=4,\"FQ\",IF('1C'!$H$10=5,\"SKI\",IF('1C'!$H$10=6,\"PKN\",IF('1C'!$H$10=7,\"BID\",IF('1C'!$H$10=8,\"BA\",IF('1C'!$H$10=9,\"MTK\",IF('1C'!$H$10=10,\"IPA\",IF('1C'!$H$10=11,\"IPS\",IF('1C'!$H$10=12,\"SBK\",IF('1C'!$H$10=13,\"PJK\",IF('1C'!$H$10=14,\"BD\",IF('1C'!$H$10=15,\"BIG\",IF('1C'!$H$10=16,\"AWJ\",IF('1C'!$H$10=17,\"NW\",IF('1C'!$H$10=18,\"SRF\",IF('1C'!$H$10=19,\"PG\",IF('1C'!$H$10=20,\"XTR\",””))))))))))))))))))))","v":{"$error":"#NAME?"}},{"$f":"IF('1A'!$J$10=1,\"TMTIK\",IF('1A'!$J$10=2,\"AA\",IF('1A'!$J$10=3,\"QH\",IF('1A'!$J$10=4,\"FQ\",IF('1A'!$J$10=5,\"SKI\",IF('1A'!$J$10=6,\"PKN\",IF('1A'!$J$10=7,\"BID\",IF('1A'!$J$10=8,\"BA\",IF('1A'!$J$10=9,\"MTK\",IF('1A'!$J$10=10,\"IPA\",IF('1A'!$J$10=11,\"IPS\",IF('1A'!$J$10=12,\"SBK\",IF('1A'!$J$10=13,\"PJK\",IF('1A'!$J$10=14,\"BD\",IF('1A'!$J$10=15,\"BIG\",IF('1A'!$J$10=16,\"AWJ\",IF('1A'!$J$10=17,\"NW\",IF('1A'!$J$10=18,\"SRF\",IF('1A'!$J$10=19,\"PG\",IF('1A'!$J$10=20,\"XTR\",””))))))))))))))))))))","v":"FQ"},{"$f":"IF('1B'!$J$10=1,\"TMTIK\",IF('1B'!$J$10=2,\"AA\",IF('1B'!$J$10=3,\"QH\",IF('1B'!$J$10=4,\"FQ\",IF('1B'!$J$10=5,\"SKI\",IF('1B'!$J$10=6,\"PKN\",IF('1B'!$J$10=7,\"BID\",IF('1B'!$J$10=8,\"BA\",IF('1B'!$J$10=9,\"MTK\",IF('1B'!$J$10=10,\"IPA\",IF('1B'!$J$10=11,\"IPS\",IF('1B'!$J$10=12,\"SBK\",IF('1B'!$J$10=13,\"PJK\",IF('1B'!$J$10=14,\"BD\",IF('1B'!$J$10=15,\"BIG\",IF('1B'!$J$10=16,\"AWJ\",IF('1B'!$J$10=17,\"NW\",IF('1B'!$J$10=18,\"SRF\",IF('1B'!$J$10=19,\"PG\",IF('1B'!$J$10=20,\"XTR\",””))))))))))))))))))))","v":{"$error":"#NAME?"}},{"$f":"IF('1C'!$J$10=1,\"TMTIK\",IF('1C'!$J$10=2,\"AA\",IF('1C'!$J$10=3,\"QH\",IF('1C'!$J$10=4,\"FQ\",IF('1C'!$J$10=5,\"SKI\",IF('1C'!$J$10=6,\"PKN\",IF('1C'!$J$10=7,\"BID\",IF('1C'!$J$10=8,\"BA\",IF('1C'!$J$10=9,\"MTK\",IF('1C'!$J$10=10,\"IPA\",IF('1C'!$J$10=11,\"IPS\",IF('1C'!$J$10=12,\"SBK\",IF('1C'!$J$10=13,\"PJK\",IF('1C'!$J$10=14,\"BD\",IF('1C'!$J$10=15,\"BIG\",IF('1C'!$J$10=16,\"AWJ\",IF('1C'!$J$10=17,\"NW\",IF('1C'!$J$10=18,\"SRF\",IF('1C'!$J$10=19,\"PG\",IF('1C'!$J$10=20,\"XTR\",””))))))))))))))))))))","v":{"$error":"#NAME?"}},{"$f":"IF('1A'!$N$10=1,\"TMTIK\",IF('1A'!$N$10=2,\"AA\",IF('1A'!$N$10=3,\"QH\",IF('1A'!$N$10=4,\"FQ\",IF('1A'!$N$10=5,\"SKI\",IF('1A'!$N$10=6,\"PKN\",IF('1A'!$N$10=7,\"BID\",IF('1A'!$N$10=8,\"BA\",IF('1A'!$N$10=9,\"MTK\",IF('1A'!$N$10=10,\"IPA\",IF('1A'!$N$10=11,\"IPS\",IF('1A'!$N$10=12,\"SBK\",IF('1A'!$N$10=13,\"PJK\",IF('1A'!$N$10=14,\"BD\",IF('1A'!$N$10=15,\"BIG\",IF('1A'!$N$10=16,\"AWJ\",IF('1A'!$N$10=17,\"NW\",IF('1A'!$N$10=18,\"SRF\",IF('1A'!$N$10=19,\"PG\",IF('1A'!$N$10=20,\"XTR\",””))))))))))))))))))))","v":"BA"},{"$f":"IF('1B'!$N$10=1,\"TMTIK\",IF('1B'!$N$10=2,\"AA\",IF('1B'!$N$10=3,\"QH\",IF('1B'!$N$10=4,\"FQ\",IF('1B'!$N$10=5,\"SKI\",IF('1B'!$N$10=6,\"PKN\",IF('1B'!$N$10=7,\"BID\",IF('1B'!$N$10=8,\"BA\",IF('1B'!$N$10=9,\"MTK\",IF('1B'!$N$10=10,\"IPA\",IF('1B'!$N$10=11,\"IPS\",IF('1B'!$N$10=12,\"SBK\",IF('1B'!$N$10=13,\"PJK\",IF('1B'!$N$10=14,\"BD\",IF('1B'!$N$10=15,\"BIG\",IF('1B'!$N$10=16,\"AWJ\",IF('1B'!$N$10=17,\"NW\",IF('1B'!$N$10=18,\"SRF\",IF('1B'!$N$10=19,\"PG\",IF('1B'!$N$10=20,\"XTR\",””))))))))))))))))))))","v":{"$error":"#NAME?"}},{"$f":"IF('1C'!$N$10=1,\"TMTIK\",IF('1C'!$N$10=2,\"AA\",IF('1C'!$N$10=3,\"QH\",IF('1C'!$N$10=4,\"FQ\",IF('1C'!$N$10=5,\"SKI\",IF('1C'!$N$10=6,\"PKN\",IF('1C'!$N$10=7,\"BID\",IF('1C'!$N$10=8,\"BA\",IF('1C'!$N$10=9,\"MTK\",IF('1C'!$N$10=10,\"IPA\",IF('1C'!$N$10=11,\"IPS\",IF('1C'!$N$10=12,\"SBK\",IF('1C'!$N$10=13,\"PJK\",IF('1C'!$N$10=14,\"BD\",IF('1C'!$N$10=15,\"BIG\",IF('1C'!$N$10=16,\"AWJ\",IF('1C'!$N$10=17,\"NW\",IF('1C'!$N$10=18,\"SRF\",IF('1C'!$N$10=19,\"PG\",IF('1C'!$N$10=20,\"XTR\",””))))))))))))))))))))","v":{"$error":"#NAME?"}},{"$f":"IF('1A'!$D$23=1,\"TMTIK\",IF('1A'!$D$23=2,\"AA\",IF('1A'!$D$23=3,\"QH\",IF('1A'!$D$23=4,\"FQ\",IF('1A'!$D$23=5,\"SKI\",IF('1A'!$D$23=6,\"PKN\",IF('1A'!$D$23=7,\"BID\",IF('1A'!$D$23=8,\"BA\",IF('1A'!$D$23=9,\"MTK\",IF('1A'!$D$23=10,\"IPA\",IF('1A'!$D$23=11,\"IPS\",IF('1A'!$D$23=12,\"SBK\",IF('1A'!$D$23=13,\"PJK\",IF('1A'!$D$23=14,\"BD\",IF('1A'!$D$23=15,\"BIG\",IF('1A'!$D$23=16,\"AWJ\",IF('1A'!$D$23=17,\"NW\",IF('1A'!$D$23=18,\"SRF\",IF('1A'!$D$23=19,\"PG\",IF('1A'!$D$23=20,\"XTR\",””))))))))))))))))))))","v":"TMTIK"},{"$f":"IF('1B'!$D$23=1,\"TMTIK\",IF('1B'!$D$23=2,\"AA\",IF('1B'!$D$23=3,\"QH\",IF('1B'!$D$23=4,\"FQ\",IF('1B'!$D$23=5,\"SKI\",IF('1B'!$D$23=6,\"PKN\",IF('1B'!$D$23=7,\"BID\",IF('1B'!$D$23=8,\"BA\",IF('1B'!$D$23=9,\"MTK\",IF('1B'!$D$23=10,\"IPA\",IF('1B'!$D$23=11,\"IPS\",IF('1B'!$D$23=12,\"SBK\",IF('1B'!$D$23=13,\"PJK\",IF('1B'!$D$23=14,\"BD\",IF('1B'!$D$23=15,\"BIG\",IF('1B'!$D$23=16,\"AWJ\",IF('1B'!$D$23=17,\"NW\",IF('1B'!$D$23=18,\"SRF\",IF('1B'!$D$23=19,\"PG\",IF('1B'!$D$23=20,\"XTR\",””))))))))))))))))))))","v":{"$error":"#NAME?"}},{"$f":"IF('1C'!$D$23=1,\"TMTIK\",IF('1C'!$D$23=2,\"AA\",IF('1C'!$D$23=3,\"QH\",IF('1C'!$D$23=4,\"FQ\",IF('1C'!$D$23=5,\"SKI\",IF('1C'!$D$23=6,\"PKN\",IF('1C'!$D$23=7,\"BID\",IF('1C'!$D$23=8,\"BA\",IF('1C'!$D$23=9,\"MTK\",IF('1C'!$D$23=10,\"IPA\",IF('1C'!$D$23=11,\"IPS\",IF('1C'!$D$23=12,\"SBK\",IF('1C'!$D$23=13,\"PJK\",IF('1C'!$D$23=14,\"BD\",IF('1C'!$D$23=15,\"BIG\",IF('1C'!$D$23=16,\"AWJ\",IF('1C'!$D$23=17,\"NW\",IF('1C'!$D$23=18,\"SRF\",IF('1C'!$D$23=19,\"PG\",IF('1C'!$D$23=20,\"XTR\",””))))))))))))))))))))","v":{"$error":"#NAME?"}},23,4,"FQ"]
[3,{"$f":"IF('1A'!$D$11=1,\"TMTIK\",IF('1A'!$D$11=2,\"AA\",IF('1A'!$D$11=3,\"QH\",IF('1A'!$D$11=4,\"FQ\",IF('1A'!$D$11=5,\"SKI\",IF('1A'!$D$11=6,\"PKN\",IF('1A'!$D$11=7,\"BID\",IF('1A'!$D$11=8,\"BA\",IF('1A'!$D$11=9,\"MTK\",IF('1A'!$D$11=10,\"IPA\",IF('1A'!$D$11=11,\"IPS\",IF('1A'!$D$11=12,\"SBK\",IF('1A'!$D$11=13,\"PJK\",IF('1A'!$D$11=14,\"BD\",IF('1A'!$D$11=15,\"BIG\",IF('1A'!$D$11=16,\"AWJ\",IF('1A'!$D$11=17,\"NW\",IF('1A'!$D$11=18,\"SRF\",IF('1A'!$D$11=19,\"PG\",IF('1A'!$D$11=20,\"XTR\",””))))))))))))))))))))","v":"TMTIK"},{"$f":"IF('1B'!$D$11=1,\"TMTIK\",IF('1B'!$D$11=2,\"AA\",IF('1B'!$D$11=3,\"QH\",IF('1B'!$D$11=4,\"FQ\",IF('1B'!$D$11=5,\"SKI\",IF('1B'!$D$11=6,\"PKN\",IF('1B'!$D$11=7,\"BID\",IF('1B'!$D$11=8,\"BA\",IF('1B'!$D$11=9,\"MTK\",IF('1B'!$D$11=10,\"IPA\",IF('1B'!$D$11=11,\"IPS\",IF('1B'!$D$11=12,\"SBK\",IF('1B'!$D$11=13,\"PJK\",IF('1B'!$D$11=14,\"BD\",IF('1B'!$D$11=15,\"BIG\",IF('1B'!$D$11=16,\"AWJ\",IF('1B'!$D$11=17,\"NW\",IF('1B'!$D$11=18,\"SRF\",IF('1B'!$D$11=19,\"PG\",IF('1B'!$D$11=20,\"XTR\",””))))))))))))))))))))","v":{"$error":"#NAME?"}},{"$f":"IF('1C'!$D$11=1,\"TMTIK\",IF('1C'!$D$11=2,\"AA\",IF('1C'!$D$11=3,\"QH\",IF('1C'!$D$11=4,\"FQ\",IF('1C'!$D$11=5,\"SKI\",IF('1C'!$D$11=6,\"PKN\",IF('1C'!$D$11=7,\"BID\",IF('1C'!$D$11=8,\"BA\",IF('1C'!$D$11=9,\"MTK\",IF('1C'!$D$11=10,\"IPA\",IF('1C'!$D$11=11,\"IPS\",IF('1C'!$D$11=12,\"SBK\",IF('1C'!$D$11=13,\"PJK\",IF('1C'!$D$11=14,\"BD\",IF('1C'!$D$11=15,\"BIG\",IF('1C'!$D$11=16,\"AWJ\",IF('1C'!$D$11=17,\"NW\",IF('1C'!$D$11=18,\"SRF\",IF('1C'!$D$11=19,\"PG\",IF('1C'!$D$11=20,\"XTR\",””))))))))))))))))))))","v":{"$error":"#NAME?"}},{"$f":"IF('1A'!$F$11=1,\"TMTIK\",IF('1A'!$F$11=2,\"AA\",IF('1A'!$F$11=3,\"QH\",IF('1A'!$F$11=4,\"FQ\",IF('1A'!$F$11=5,\"SKI\",IF('1A'!$F$11=6,\"PKN\",IF('1A'!$F$11=7,\"BID\",IF('1A'!$F$11=8,\"BA\",IF('1A'!$F$11=9,\"MTK\",IF('1A'!$F$11=10,\"IPA\",IF('1A'!$F$11=11,\"IPS\",IF('1A'!$F$11=12,\"SBK\",IF('1A'!$F$11=13,\"PJK\",IF('1A'!$F$11=14,\"BD\",IF('1A'!$F$11=15,\"BIG\",IF('1A'!$F$11=16,\"AWJ\",IF('1A'!$F$11=17,\"NW\",IF('1A'!$F$11=18,\"SRF\",IF('1A'!$F$11=19,\"PG\",IF('1A'!$F$11=20,\"XTR\",””))))))))))))))))))))","v":"TMTIK"},{"$f":"IF('1B'!$F$11=1,\"TMTIK\",IF('1B'!$F$11=2,\"AA\",IF('1B'!$F$11=3,\"QH\",IF('1B'!$F$11=4,\"FQ\",IF('1B'!$F$11=5,\"SKI\",IF('1B'!$F$11=6,\"PKN\",IF('1B'!$F$11=7,\"BID\",IF('1B'!$F$11=8,\"BA\",IF('1B'!$F$11=9,\"MTK\",IF('1B'!$F$11=10,\"IPA\",IF('1B'!$F$11=11,\"IPS\",IF('1B'!$F$11=12,\"SBK\",IF('1B'!$F$11=13,\"PJK\",IF('1B'!$F$11=14,\"BD\",IF('1B'!$F$11=15,\"BIG\",IF('1B'!$F$11=16,\"AWJ\",IF('1B'!$F$11=17,\"NW\",IF('1B'!$F$11=18,\"SRF\",IF('1B'!$F$11=19,\"PG\",IF('1B'!$F$11=20,\"XTR\",””))))))))))))))))))))","v":{"$error":"#NAME?"}},{"$f":"IF('1C'!$F$11=1,\"TMTIK\",IF('1C'!$F$11=2,\"AA\",IF('1C'!$F$11=3,\"QH\",IF('1C'!$F$11=4,\"FQ\",IF('1C'!$F$11=5,\"SKI\",IF('1C'!$F$11=6,\"PKN\",IF('1C'!$F$11=7,\"BID\",IF('1C'!$F$11=8,\"BA\",IF('1C'!$F$11=9,\"MTK\",IF('1C'!$F$11=10,\"IPA\",IF('1C'!$F$11=11,\"IPS\",IF('1C'!$F$11=12,\"SBK\",IF('1C'!$F$11=13,\"PJK\",IF('1C'!$F$11=14,\"BD\",IF('1C'!$F$11=15,\"BIG\",IF('1C'!$F$11=16,\"AWJ\",IF('1C'!$F$11=17,\"NW\",IF('1C'!$F$11=18,\"SRF\",IF('1C'!$F$11=19,\"PG\",IF('1C'!$F$11=20,\"XTR\",””))))))))))))))))))))","v":{"$error":"#NAME?"}},{"$f":"IF('1A'!$H$11=1,\"TMTIK\",IF('1A'!$H$11=2,\"AA\",IF('1A'!$H$11=3,\"QH\",IF('1A'!$H$11=4,\"FQ\",IF('1A'!$H$11=5,\"SKI\",IF('1A'!$H$11=6,\"PKN\",IF('1A'!$H$11=7,\"BID\",IF('1A'!$H$11=8,\"BA\",IF('1A'!$H$11=9,\"MTK\",IF('1A'!$H$11=10,\"IPA\",IF('1A'!$H$11=11,\"IPS\",IF('1A'!$H$11=12,\"SBK\",IF('1A'!$H$11=13,\"PJK\",IF('1A'!$H$11=14,\"BD\",IF('1A'!$H$11=15,\"BIG\",IF('1A'!$H$11=16,\"AWJ\",IF('1A'!$H$11=17,\"NW\",IF('1A'!$H$11=18,\"SRF\",IF('1A'!$H$11=19,\"PG\",IF('1A'!$H$11=20,\"XTR\",””))))))))))))))))))))","v":"PJK"},{"$f":"IF('1B'!$H$11=1,\"TMTIK\",IF('1B'!$H$11=2,\"AA\",IF('1B'!$H$11=3,\"QH\",IF('1B'!$H$11=4,\"FQ\",IF('1B'!$H$11=5,\"SKI\",IF('1B'!$H$11=6,\"PKN\",IF('1B'!$H$11=7,\"BID\",IF('1B'!$H$11=8,\"BA\",IF('1B'!$H$11=9,\"MTK\",IF('1B'!$H$11=10,\"IPA\",IF('1B'!$H$11=11,\"IPS\",IF('1B'!$H$11=12,\"SBK\",IF('1B'!$H$11=13,\"PJK\",IF('1B'!$H$11=14,\"BD\",IF('1B'!$H$11=15,\"BIG\",IF('1B'!$H$11=16,\"AWJ\",IF('1B'!$H$11=17,\"NW\",IF('1B'!$H$11=18,\"SRF\",IF('1B'!$H$11=19,\"PG\",IF('1B'!$H$11=20,\"XTR\",””))))))))))))))))))))","v":{"$error":"#NAME?"}},{"$f":"IF('1C'!$H$11=1,\"TMTIK\",IF('1C'!$H$11=2,\"AA\",IF('1C'!$H$11=3,\"QH\",IF('1C'!$H$11=4,\"FQ\",IF('1C'!$H$11=5,\"SKI\",IF('1C'!$H$11=6,\"PKN\",IF('1C'!$H$11=7,\"BID\",IF('1C'!$H$11=8,\"BA\",IF('1C'!$H$11=9,\"MTK\",IF('1C'!$H$11=10,\"IPA\",IF('1C'!$H$11=11,\"IPS\",IF('1C'!$H$11=12,\"SBK\",IF('1C'!$H$11=13,\"PJK\",IF('1C'!$H$11=14,\"BD\",IF('1C'!$H$11=15,\"BIG\",IF('1C'!$H$11=16,\"AWJ\",IF('1C'!$H$11=17,\"NW\",IF('1C'!$H$11=18,\"SRF\",IF('1C'!$H$11=19,\"PG\",IF('1C'!$H$11=20,\"XTR\",””))))))))))))))))))))","v":{"$error":"#NAME?"}},{"$f":"IF('1A'!$J$11=1,\"TMTIK\",IF('1A'!$J$11=2,\"AA\",IF('1A'!$J$11=3,\"QH\",IF('1A'!$J$11=4,\"FQ\",IF('1A'!$J$11=5,\"SKI\",IF('1A'!$J$11=6,\"PKN\",IF('1A'!$J$11=7,\"BID\",IF('1A'!$J$11=8,\"BA\",IF('1A'!$J$11=9,\"MTK\",IF('1A'!$J$11=10,\"IPA\",IF('1A'!$J$11=11,\"IPS\",IF('1A'!$J$11=12,\"SBK\",IF('1A'!$J$11=13,\"PJK\",IF('1A'!$J$11=14,\"BD\",IF('1A'!$J$11=15,\"BIG\",IF('1A'!$J$11=16,\"AWJ\",IF('1A'!$J$11=17,\"NW\",IF('1A'!$J$11=18,\"SRF\",IF('1A'!$J$11=19,\"PG\",IF('1A'!$J$11=20,\"XTR\",””))))))))))))))))))))","v":"TMTIK"},{"$f":"IF('1B'!$J$11=1,\"TMTIK\",IF('1B'!$J$11=2,\"AA\",IF('1B'!$J$11=3,\"QH\",IF('1B'!$J$11=4,\"FQ\",IF('1B'!$J$11=5,\"SKI\",IF('1B'!$J$11=6,\"PKN\",IF('1B'!$J$11=7,\"BID\",IF('1B'!$J$11=8,\"BA\",IF('1B'!$J$11=9,\"MTK\",IF('1B'!$J$11=10,\"IPA\",IF('1B'!$J$11=11,\"IPS\",IF('1B'!$J$11=12,\"SBK\",IF('1B'!$J$11=13,\"PJK\",IF('1B'!$J$11=14,\"BD\",IF('1B'!$J$11=15,\"BIG\",IF('1B'!$J$11=16,\"AWJ\",IF('1B'!$J$11=17,\"NW\",IF('1B'!$J$11=18,\"SRF\",IF('1B'!$J$11=19,\"PG\",IF('1B'!$J$11=20,\"XTR\",””))))))))))))))))))))","v":{"$error":"#NAME?"}},{"$f":"IF('1C'!$J$11=1,\"TMTIK\",IF('1C'!$J$11=2,\"AA\",IF('1C'!$J$11=3,\"QH\",IF('1C'!$J$11=4,\"FQ\",IF('1C'!$J$11=5,\"SKI\",IF('1C'!$J$11=6,\"PKN\",IF('1C'!$J$11=7,\"BID\",IF('1C'!$J$11=8,\"BA\",IF('1C'!$J$11=9,\"MTK\",IF('1C'!$J$11=10,\"IPA\",IF('1C'!$J$11=11,\"IPS\",IF('1C'!$J$11=12,\"SBK\",IF('1C'!$J$11=13,\"PJK\",IF('1C'!$J$11=14,\"BD\",IF('1C'!$J$11=15,\"BIG\",IF('1C'!$J$11=16,\"AWJ\",IF('1C'!$J$11=17,\"NW\",IF('1C'!$J$11=18,\"SRF\",IF('1C'!$J$11=19,\"PG\",IF('1C'!$J$11=20,\"XTR\",””))))))))))))))))))))","v":{"$error":"#NAME?"}},{"$f":"IF('1A'!$N$11=1,\"TMTIK\",IF('1A'!$N$11=2,\"AA\",IF('1A'!$N$11=3,\"QH\",IF('1A'!$N$11=4,\"FQ\",IF('1A'!$N$11=5,\"SKI\",IF('1A'!$N$11=6,\"PKN\",IF('1A'!$N$11=7,\"BID\",IF('1A'!$N$11=8,\"BA\",IF('1A'!$N$11=9,\"MTK\",IF('1A'!$N$11=10,\"IPA\",IF('1A'!$N$11=11,\"IPS\",IF('1A'!$N$11=12,\"SBK\",IF('1A'!$N$11=13,\"PJK\",IF('1A'!$N$11=14,\"BD\",IF('1A'!$N$11=15,\"BIG\",IF('1A'!$N$11=16,\"AWJ\",IF('1A'!$N$11=17,\"NW\",IF('1A'!$N$11=18,\"SRF\",IF('1A'!$N$11=19,\"PG\",IF('1A'!$N$11=20,\"XTR\",””))))))))))))))))))))","v":"TMTIK"},{"$f":"IF('1B'!$N$11=1,\"TMTIK\",IF('1B'!$N$11=2,\"AA\",IF('1B'!$N$11=3,\"QH\",IF('1B'!$N$11=4,\"FQ\",IF('1B'!$N$11=5,\"SKI\",IF('1B'!$N$11=6,\"PKN\",IF('1B'!$N$11=7,\"BID\",IF('1B'!$N$11=8,\"BA\",IF('1B'!$N$11=9,\"MTK\",IF('1B'!$N$11=10,\"IPA\",IF('1B'!$N$11=11,\"IPS\",IF('1B'!$N$11=12,\"SBK\",IF('1B'!$N$11=13,\"PJK\",IF('1B'!$N$11=14,\"BD\",IF('1B'!$N$11=15,\"BIG\",IF('1B'!$N$11=16,\"AWJ\",IF('1B'!$N$11=17,\"NW\",IF('1B'!$N$11=18,\"SRF\",IF('1B'!$N$11=19,\"PG\",IF('1B'!$N$11=20,\"XTR\",””))))))))))))))))))))","v":{"$error":"#NAME?"}},{"$f":"IF('1C'!$N$11=1,\"TMTIK\",IF('1C'!$N$11=2,\"AA\",IF('1C'!$N$11=3,\"QH\",IF('1C'!$N$11=4,\"FQ\",IF('1C'!$N$11=5,\"SKI\",IF('1C'!$N$11=6,\"PKN\",IF('1C'!$N$11=7,\"BID\",IF('1C'!$N$11=8,\"BA\",IF('1C'!$N$11=9,\"MTK\",IF('1C'!$N$11=10,\"IPA\",IF('1C'!$N$11=11,\"IPS\",IF('1C'!$N$11=12,\"SBK\",IF('1C'!$N$11=13,\"PJK\",IF('1C'!$N$11=14,\"BD\",IF('1C'!$N$11=15,\"BIG\",IF('1C'!$N$11=16,\"AWJ\",IF('1C'!$N$11=17,\"NW\",IF('1C'!$N$11=18,\"SRF\",IF('1C'!$N$11=19,\"PG\",IF('1C'!$N$11=20,\"XTR\",””))))))))))))))))))))","v":{"$error":"#NAME?"}},{"$f":"IF('1A'!$D$25=1,\"TMTIK\",IF('1A'!$D$25=2,\"AA\",IF('1A'!$D$25=3,\"QH\",IF('1A'!$D$25=4,\"FQ\",IF('1A'!$D$25=5,\"SKI\",IF('1A'!$D$25=6,\"PKN\",IF('1A'!$D$25=7,\"BID\",IF('1A'!$D$25=8,\"BA\",IF('1A'!$D$25=9,\"MTK\",IF('1A'!$D$25=10,\"IPA\",IF('1A'!$D$25=11,\"IPS\",IF('1A'!$D$25=12,\"SBK\",IF('1A'!$D$25=13,\"PJK\",IF('1A'!$D$25=14,\"BD\",IF('1A'!$D$25=15,\"BIG\",IF('1A'!$D$25=16,\"AWJ\",IF('1A'!$D$25=17,\"NW\",IF('1A'!$D$25=18,\"SRF\",IF('1A'!$D$25=19,\"PG\",IF('1A'!$D$25=20,\"XTR\",””))))))))))))))))))))","v":"TMTIK"},{"$f":"IF('1B'!$D$25=1,\"TMTIK\",IF('1B'!$D$25=2,\"AA\",IF('1B'!$D$25=3,\"QH\",IF('1B'!$D$25=4,\"FQ\",IF('1B'!$D$25=5,\"SKI\",IF('1B'!$D$25=6,\"PKN\",IF('1B'!$D$25=7,\"BID\",IF('1B'!$D$25=8,\"BA\",IF('1B'!$D$25=9,\"MTK\",IF('1B'!$D$25=10,\"IPA\",IF('1B'!$D$25=11,\"IPS\",IF('1B'!$D$25=12,\"SBK\",IF('1B'!$D$25=13,\"PJK\",IF('1B'!$D$25=14,\"BD\",IF('1B'!$D$25=15,\"BIG\",IF('1B'!$D$25=16,\"AWJ\",IF('1B'!$D$25=17,\"NW\",IF('1B'!$D$25=18,\"SRF\",IF('1B'!$D$25=19,\"PG\",IF('1B'!$D$25=20,\"XTR\",””))))))))))))))))))))","v":{"$error":"#NAME?"}},{"$f":"IF('1C'!$D$25=1,\"TMTIK\",IF('1C'!$D$25=2,\"AA\",IF('1C'!$D$25=3,\"QH\",IF('1C'!$D$25=4,\"FQ\",IF('1C'!$D$25=5,\"SKI\",IF('1C'!$D$25=6,\"PKN\",IF('1C'!$D$25=7,\"BID\",IF('1C'!$D$25=8,\"BA\",IF('1C'!$D$25=9,\"MTK\",IF('1C'!$D$25=10,\"IPA\",IF('1C'!$D$25=11,\"IPS\",IF('1C'!$D$25=12,\"SBK\",IF('1C'!$D$25=13,\"PJK\",IF('1C'!$D$25=14,\"BD\",IF('1C'!$D$25=15,\"BIG\",IF('1C'!$D$25=16,\"AWJ\",IF('1C'!$D$25=17,\"NW\",IF('1C'!$D$25=18,\"SRF\",IF('1C'!$D$25=19,\"PG\",IF('1C'!$D$25=20,\"XTR\",””))))))))))))))))))))","v":{"$error":"#NAME?"}},25,5,"SKI"]
[4,{"$f":"IF('1A'!$D$13=1,\"TMTIK\",IF('1A'!$D$13=2,\"AA\",IF('1A'!$D$13=3,\"QH\",IF('1A'!$D$13=4,\"FQ\",IF('1A'!$D$13=5,\"SKI\",IF('1A'!$D$13=6,\"PKN\",IF('1A'!$D$13=7,\"BID\",IF('1A'!$D$13=8,\"BA\",IF('1A'!$D$13=9,\"MTK\",IF('1A'!$D$13=10,\"IPA\",IF('1A'!$D$13=11,\"IPS\",IF('1A'!$D$13=12,\"SBK\",IF('1A'!$D$13=13,\"PJK\",IF('1A'!$D$13=14,\"BD\",IF('1A'!$D$13=15,\"BIG\",IF('1A'!$D$13=16,\"AWJ\",IF('1A'!$D$13=17,\"NW\",IF('1A'!$D$13=18,\"SRF\",IF('1A'!$D$13=19,\"PG\",IF('1A'!$D$13=20,\"XTR\",””))))))))))))))))))))","v":"TMTIK"},{"$f":"IF('1B'!$D$13=1,\"TMTIK\",IF('1B'!$D$13=2,\"AA\",IF('1B'!$D$13=3,\"QH\",IF('1B'!$D$13=4,\"FQ\",IF('1B'!$D$13=5,\"SKI\",IF('1B'!$D$13=6,\"PKN\",IF('1B'!$D$13=7,\"BID\",IF('1B'!$D$13=8,\"BA\",IF('1B'!$D$13=9,\"MTK\",IF('1B'!$D$13=10,\"IPA\",IF('1B'!$D$13=11,\"IPS\",IF('1B'!$D$13=12,\"SBK\",IF('1B'!$D$13=13,\"PJK\",IF('1B'!$D$13=14,\"BD\",IF('1B'!$D$13=15,\"BIG\",IF('1B'!$D$13=16,\"AWJ\",IF('1B'!$D$13=17,\"NW\",IF('1B'!$D$13=18,\"SRF\",IF('1B'!$D$13=19,\"PG\",IF('1B'!$D$13=20,\"XTR\",””))))))))))))))))))))","v":{"$error":"#NAME?"}},{"$f":"IF('1C'!$D$13=1,\"TMTIK\",IF('1C'!$D$13=2,\"AA\",IF('1C'!$D$13=3,\"QH\",IF('1C'!$D$13=4,\"FQ\",IF('1C'!$D$13=5,\"SKI\",IF('1C'!$D$13=6,\"PKN\",IF('1C'!$D$13=7,\"BID\",IF('1C'!$D$13=8,\"BA\",IF('1C'!$D$13=9,\"MTK\",IF('1C'!$D$13=10,\"IPA\",IF('1C'!$D$13=11,\"IPS\",IF('1C'!$D$13=12,\"SBK\",IF('1C'!$D$13=13,\"PJK\",IF('1C'!$D$13=14,\"BD\",IF('1C'!$D$13=15,\"BIG\",IF('1C'!$D$13=16,\"AWJ\",IF('1C'!$D$13=17,\"NW\",IF('1C'!$D$13=18,\"SRF\",IF('1C'!$D$13=19,\"PG\",IF('1C'!$D$13=20,\"XTR\",””))))))))))))))))))))","v":{"$error":"#NAME?"}},{"$f":"IF('1A'!$F$13=1,\"TMTIK\",IF('1A'!$F$13=2,\"AA\",IF('1A'!$F$13=3,\"QH\",IF('1A'!$F$13=4,\"FQ\",IF('1A'!$F$13=5,\"SKI\",IF('1A'!$F$13=6,\"PKN\",IF('1A'!$F$13=7,\"BID\",IF('1A'!$F$13=8,\"BA\",IF('1A'!$F$13=9,\"MTK\",IF('1A'!$F$13=10,\"IPA\",IF('1A'!$F$13=11,\"IPS\",IF('1A'!$F$13=12,\"SBK\",IF('1A'!$F$13=13,\"PJK\",IF('1A'!$F$13=14,\"BD\",IF('1A'!$F$13=15,\"BIG\",IF('1A'!$F$13=16,\"AWJ\",IF('1A'!$F$13=17,\"NW\",IF('1A'!$F$13=18,\"SRF\",IF('1A'!$F$13=19,\"PG\",IF('1A'!$F$13=20,\"XTR\",””))))))))))))))))))))","v":"TMTIK"},{"$f":"IF('1B'!$F$13=1,\"TMTIK\",IF('1B'!$F$13=2,\"AA\",IF('1B'!$F$13=3,\"QH\",IF('1B'!$F$13=4,\"FQ\",IF('1B'!$F$13=5,\"SKI\",IF('1B'!$F$13=6,\"PKN\",IF('1B'!$F$13=7,\"BID\",IF('1B'!$F$13=8,\"BA\",IF('1B'!$F$13=9,\"MTK\",IF('1B'!$F$13=10,\"IPA\",IF('1B'!$F$13=11,\"IPS\",IF('1B'!$F$13=12,\"SBK\",IF('1B'!$F$13=13,\"PJK\",IF('1B'!$F$13=14,\"BD\",IF('1B'!$F$13=15,\"BIG\",IF('1B'!$F$13=16,\"AWJ\",IF('1B'!$F$13=17,\"NW\",IF('1B'!$F$13=18,\"SRF\",IF('1B'!$F$13=19,\"PG\",IF('1B'!$F$13=20,\"XTR\",””))))))))))))))))))))","v":{"$error":"#NAME?"}},{"$f":"IF('1C'!$F$13=1,\"TMTIK\",IF('1C'!$F$13=2,\"AA\",IF('1C'!$F$13=3,\"QH\",IF('1C'!$F$13=4,\"FQ\",IF('1C'!$F$13=5,\"SKI\",IF('1C'!$F$13=6,\"PKN\",IF('1C'!$F$13=7,\"BID\",IF('1C'!$F$13=8,\"BA\",IF('1C'!$F$13=9,\"MTK\",IF('1C'!$F$13=10,\"IPA\",IF('1C'!$F$13=11,\"IPS\",IF('1C'!$F$13=12,\"SBK\",IF('1C'!$F$13=13,\"PJK\",IF('1C'!$F$13=14,\"BD\",IF('1C'!$F$13=15,\"BIG\",IF('1C'!$F$13=16,\"AWJ\",IF('1C'!$F$13=17,\"NW\",IF('1C'!$F$13=18,\"SRF\",IF('1C'!$F$13=19,\"PG\",IF('1C'!$F$13=20,\"XTR\",””))))))))))))))))))))","v":{"$error":"#NAME?"}},{"$f":"IF('1A'!$H$13=1,\"TMTIK\",IF('1A'!$H$13=2,\"AA\",IF('1A'!$H$13=3,\"QH\",IF('1A'!$H$13=4,\"FQ\",IF('1A'!$H$13=5,\"SKI\",IF('1A'!$H$13=6,\"PKN\",IF('1A'!$H$13=7,\"BID\",IF('1A'!$H$13=8,\"BA\",IF('1A'!$H$13=9,\"MTK\",IF('1A'!$H$13=10,\"IPA\",IF('1A'!$H$13=11,\"IPS\",IF('1A'!$H$13=12,\"SBK\",IF('1A'!$H$13=13,\"PJK\",IF('1A'!$H$13=14,\"BD\",IF('1A'!$H$13=15,\"BIG\",IF('1A'!$H$13=16,\"AWJ\",IF('1A'!$H$13=17,\"NW\",IF('1A'!$H$13=18,\"SRF\",IF('1A'!$H$13=19,\"PG\",IF('1A'!$H$13=20,\"XTR\",””))))))))))))))))))))","v":"PJK"},{"$f":"IF('1B'!$H$13=1,\"TMTIK\",IF('1B'!$H$13=2,\"AA\",IF('1B'!$H$13=3,\"QH\",IF('1B'!$H$13=4,\"FQ\",IF('1B'!$H$13=5,\"SKI\",IF('1B'!$H$13=6,\"PKN\",IF('1B'!$H$13=7,\"BID\",IF('1B'!$H$13=8,\"BA\",IF('1B'!$H$13=9,\"MTK\",IF('1B'!$H$13=10,\"IPA\",IF('1B'!$H$13=11,\"IPS\",IF('1B'!$H$13=12,\"SBK\",IF('1B'!$H$13=13,\"PJK\",IF('1B'!$H$13=14,\"BD\",IF('1B'!$H$13=15,\"BIG\",IF('1B'!$H$13=16,\"AWJ\",IF('1B'!$H$13=17,\"NW\",IF('1B'!$H$13=18,\"SRF\",IF('1B'!$H$13=19,\"PG\",IF('1B'!$H$13=20,\"XTR\",””))))))))))))))))))))","v":{"$error":"#NAME?"}},{"$f":"IF('1C'!$H$13=1,\"TMTIK\",IF('1C'!$H$13=2,\"AA\",IF('1C'!$H$13=3,\"QH\",IF('1C'!$H$13=4,\"FQ\",IF('1C'!$H$13=5,\"SKI\",IF('1C'!$H$13=6,\"PKN\",IF('1C'!$H$13=7,\"BID\",IF('1C'!$H$13=8,\"BA\",IF('1C'!$H$13=9,\"MTK\",IF('1C'!$H$13=10,\"IPA\",IF('1C'!$H$13=11,\"IPS\",IF('1C'!$H$13=12,\"SBK\",IF('1C'!$H$13=13,\"PJK\",IF('1C'!$H$13=14,\"BD\",IF('1C'!$H$13=15,\"BIG\",IF('1C'!$H$13=16,\"AWJ\",IF('1C'!$H$13=17,\"NW\",IF('1C'!$H$13=18,\"SRF\",IF('1C'!$H$13=19,\"PG\",IF('1C'!$H$13=20,\"XTR\",””))))))))))))))))))))","v":{"$error":"#NAME?"}},{"$f":"IF('1A'!$J$13=1,\"TMTIK\",IF('1A'!$J$13=2,\"AA\",IF('1A'!$J$13=3,\"QH\",IF('1A'!$J$13=4,\"FQ\",IF('1A'!$J$13=5,\"SKI\",IF('1A'!$J$13=6,\"PKN\",IF('1A'!$J$13=7,\"BID\",IF('1A'!$J$13=8,\"BA\",IF('1A'!$J$13=9,\"MTK\",IF('1A'!$J$13=10,\"IPA\",IF('1A'!$J$13=11,\"IPS\",IF('1A'!$J$13=12,\"SBK\",IF('1A'!$J$13=13,\"PJK\",IF('1A'!$J$13=14,\"BD\",IF('1A'!$J$13=15,\"BIG\",IF('1A'!$J$13=16,\"AWJ\",IF('1A'!$J$13=17,\"NW\",IF('1A'!$J$13=18,\"SRF\",IF('1A'!$J$13=19,\"PG\",IF('1A'!$J$13=20,\"XTR\",””))))))))))))))))))))","v":"TMTIK"},{"$f":"IF('1B'!$J$13=1,\"TMTIK\",IF('1B'!$J$13=2,\"AA\",IF('1B'!$J$13=3,\"QH\",IF('1B'!$J$13=4,\"FQ\",IF('1B'!$J$13=5,\"SKI\",IF('1B'!$J$13=6,\"PKN\",IF('1B'!$J$13=7,\"BID\",IF('1B'!$J$13=8,\"BA\",IF('1B'!$J$13=9,\"MTK\",IF('1B'!$J$13=10,\"IPA\",IF('1B'!$J$13=11,\"IPS\",IF('1B'!$J$13=12,\"SBK\",IF('1B'!$J$13=13,\"PJK\",IF('1B'!$J$13=14,\"BD\",IF('1B'!$J$13=15,\"BIG\",IF('1B'!$J$13=16,\"AWJ\",IF('1B'!$J$13=17,\"NW\",IF('1B'!$J$13=18,\"SRF\",IF('1B'!$J$13=19,\"PG\",IF('1B'!$J$13=20,\"XTR\",””))))))))))))))))))))","v":{"$error":"#NAME?"}},{"$f":"IF('1C'!$J$13=1,\"TMTIK\",IF('1C'!$J$13=2,\"AA\",IF('1C'!$J$13=3,\"QH\",IF('1C'!$J$13=4,\"FQ\",IF('1C'!$J$13=5,\"SKI\",IF('1C'!$J$13=6,\"PKN\",IF('1C'!$J$13=7,\"BID\",IF('1C'!$J$13=8,\"BA\",IF('1C'!$J$13=9,\"MTK\",IF('1C'!$J$13=10,\"IPA\",IF('1C'!$J$13=11,\"IPS\",IF('1C'!$J$13=12,\"SBK\",IF('1C'!$J$13=13,\"PJK\",IF('1C'!$J$13=14,\"BD\",IF('1C'!$J$13=15,\"BIG\",IF('1C'!$J$13=16,\"AWJ\",IF('1C'!$J$13=17,\"NW\",IF('1C'!$J$13=18,\"SRF\",IF('1C'!$J$13=19,\"PG\",IF('1C'!$J$13=20,\"XTR\",””))))))))))))))))))))","v":{"$error":"#NAME?"}},{"$f":"IF('1A'!$N$13=1,\"TMTIK\",IF('1A'!$N$13=2,\"AA\",IF('1A'!$N$13=3,\"QH\",IF('1A'!$N$13=4,\"FQ\",IF('1A'!$N$13=5,\"SKI\",IF('1A'!$N$13=6,\"PKN\",IF('1A'!$N$13=7,\"BID\",IF('1A'!$N$13=8,\"BA\",IF('1A'!$N$13=9,\"MTK\",IF('1A'!$N$13=10,\"IPA\",IF('1A'!$N$13=11,\"IPS\",IF('1A'!$N$13=12,\"SBK\",IF('1A'!$N$13=13,\"PJK\",IF('1A'!$N$13=14,\"BD\",IF('1A'!$N$13=15,\"BIG\",IF('1A'!$N$13=16,\"AWJ\",IF('1A'!$N$13=17,\"NW\",IF('1A'!$N$13=18,\"SRF\",IF('1A'!$N$13=19,\"PG\",IF('1A'!$N$13=20,\"XTR\",””))))))))))))))))))))","v":"TMTIK"},{"$f":"IF('1B'!$N$13=1,\"TMTIK\",IF('1B'!$N$13=2,\"AA\",IF('1B'!$N$13=3,\"QH\",IF('1B'!$N$13=4,\"FQ\",IF('1B'!$N$13=5,\"SKI\",IF('1B'!$N$13=6,\"PKN\",IF('1B'!$N$13=7,\"BID\",IF('1B'!$N$13=8,\"BA\",IF('1B'!$N$13=9,\"MTK\",IF('1B'!$N$13=10,\"IPA\",IF('1B'!$N$13=11,\"IPS\",IF('1B'!$N$13=12,\"SBK\",IF('1B'!$N$13=13,\"PJK\",IF('1B'!$N$13=14,\"BD\",IF('1B'!$N$13=15,\"BIG\",IF('1B'!$N$13=16,\"AWJ\",IF('1B'!$N$13=17,\"NW\",IF('1B'!$N$13=18,\"SRF\",IF('1B'!$N$13=19,\"PG\",IF('1B'!$N$13=20,\"XTR\",””))))))))))))))))))))","v":{"$error":"#NAME?"}},{"$f":"IF('1C'!$N$13=1,\"TMTIK\",IF('1C'!$N$13=2,\"AA\",IF('1C'!$N$13=3,\"QH\",IF('1C'!$N$13=4,\"FQ\",IF('1C'!$N$13=5,\"SKI\",IF('1C'!$N$13=6,\"PKN\",IF('1C'!$N$13=7,\"BID\",IF('1C'!$N$13=8,\"BA\",IF('1C'!$N$13=9,\"MTK\",IF('1C'!$N$13=10,\"IPA\",IF('1C'!$N$13=11,\"IPS\",IF('1C'!$N$13=12,\"SBK\",IF('1C'!$N$13=13,\"PJK\",IF('1C'!$N$13=14,\"BD\",IF('1C'!$N$13=15,\"BIG\",IF('1C'!$N$13=16,\"AWJ\",IF('1C'!$N$13=17,\"NW\",IF('1C'!$N$13=18,\"SRF\",IF('1C'!$N$13=19,\"PG\",IF('1C'!$N$13=20,\"XTR\",””))))))))))))))))))))","v":{"$error":"#NAME?"}},{"$f":"IF('1A'!$D$26=1,\"TMTIK\",IF('1A'!$D$26=2,\"AA\",IF('1A'!$D$26=3,\"QH\",IF('1A'!$D$26=4,\"FQ\",IF('1A'!$D$26=5,\"SKI\",IF('1A'!$D$26=6,\"PKN\",IF('1A'!$D$26=7,\"BID\",IF('1A'!$D$26=8,\"BA\",IF('1A'!$D$26=9,\"MTK\",IF('1A'!$D$26=10,\"IPA\",IF('1A'!$D$26=11,\"IPS\",IF('1A'!$D$26=12,\"SBK\",IF('1A'!$D$26=13,\"PJK\",IF('1A'!$D$26=14,\"BD\",IF('1A'!$D$26=15,\"BIG\",IF('1A'!$D$26=16,\"AWJ\",IF('1A'!$D$26=17,\"NW\",IF('1A'!$D$26=18,\"SRF\",IF('1A'!$D$26=19,\"PG\",IF('1A'!$D$26=20,\"XTR\",””))))))))))))))))))))","v":"TMTIK"},{"$f":"IF('1B'!$D$26=1,\"TMTIK\",IF('1B'!$D$26=2,\"AA\",IF('1B'!$D$26=3,\"QH\",IF('1B'!$D$26=4,\"FQ\",IF('1B'!$D$26=5,\"SKI\",IF('1B'!$D$26=6,\"PKN\",IF('1B'!$D$26=7,\"BID\",IF('1B'!$D$26=8,\"BA\",IF('1B'!$D$26=9,\"MTK\",IF('1B'!$D$26=10,\"IPA\",IF('1B'!$D$26=11,\"IPS\",IF('1B'!$D$26=12,\"SBK\",IF('1B'!$D$26=13,\"PJK\",IF('1B'!$D$26=14,\"BD\",IF('1B'!$D$26=15,\"BIG\",IF('1B'!$D$26=16,\"AWJ\",IF('1B'!$D$26=17,\"NW\",IF('1B'!$D$26=18,\"SRF\",IF('1B'!$D$26=19,\"PG\",IF('1B'!$D$26=20,\"XTR\",””))))))))))))))))))))","v":{"$error":"#NAME?"}},{"$f":"IF('1C'!$D$26=1,\"TMTIK\",IF('1C'!$D$26=2,\"AA\",IF('1C'!$D$26=3,\"QH\",IF('1C'!$D$26=4,\"FQ\",IF('1C'!$D$26=5,\"SKI\",IF('1C'!$D$26=6,\"PKN\",IF('1C'!$D$26=7,\"BID\",IF('1C'!$D$26=8,\"BA\",IF('1C'!$D$26=9,\"MTK\",IF('1C'!$D$26=10,\"IPA\",IF('1C'!$D$26=11,\"IPS\",IF('1C'!$D$26=12,\"SBK\",IF('1C'!$D$26=13,\"PJK\",IF('1C'!$D$26=14,\"BD\",IF('1C'!$D$26=15,\"BIG\",IF('1C'!$D$26=16,\"AWJ\",IF('1C'!$D$26=17,\"NW\",IF('1C'!$D$26=18,\"SRF\",IF('1C'!$D$26=19,\"PG\",IF('1C'!$D$26=20,\"XTR\",””))))))))))))))))))))","v":{"$error":"#NAME?"}},26,6,"PKN"]
[5,{"$f":"IF('1A'!$D$14=1,\"TMTIK\",IF('1A'!$D$14=2,\"AA\",IF('1A'!$D$14=3,\"QH\",IF('1A'!$D$14=4,\"FQ\",IF('1A'!$D$14=5,\"SKI\",IF('1A'!$D$14=6,\"PKN\",IF('1A'!$D$14=7,\"BID\",IF('1A'!$D$14=8,\"BA\",IF('1A'!$D$14=9,\"MTK\",IF('1A'!$D$14=10,\"IPA\",IF('1A'!$D$14=11,\"IPS\",IF('1A'!$D$14=12,\"SBK\",IF('1A'!$D$14=13,\"PJK\",IF('1A'!$D$14=14,\"BD\",IF('1A'!$D$14=15,\"BIG\",IF('1A'!$D$14=16,\"AWJ\",IF('1A'!$D$14=17,\"NW\",IF('1A'!$D$14=18,\"SRF\",IF('1A'!$D$14=19,\"PG\",IF('1A'!$D$14=20,\"XTR\",””))))))))))))))))))))","v":"TMTIK"},{"$f":"IF('1B'!$D$14=1,\"TMTIK\",IF('1B'!$D$14=2,\"AA\",IF('1B'!$D$14=3,\"QH\",IF('1B'!$D$14=4,\"FQ\",IF('1B'!$D$14=5,\"SKI\",IF('1B'!$D$14=6,\"PKN\",IF('1B'!$D$14=7,\"BID\",IF('1B'!$D$14=8,\"BA\",IF('1B'!$D$14=9,\"MTK\",IF('1B'!$D$14=10,\"IPA\",IF('1B'!$D$14=11,\"IPS\",IF('1B'!$D$14=12,\"SBK\",IF('1B'!$D$14=13,\"PJK\",IF('1B'!$D$14=14,\"BD\",IF('1B'!$D$14=15,\"BIG\",IF('1B'!$D$14=16,\"AWJ\",IF('1B'!$D$14=17,\"NW\",IF('1B'!$D$14=18,\"SRF\",IF('1B'!$D$14=19,\"PG\",IF('1B'!$D$14=20,\"XTR\",””))))))))))))))))))))","v":{"$error":"#NAME?"}},{"$f":"IF('1C'!$D$14=1,\"TMTIK\",IF('1C'!$D$14=2,\"AA\",IF('1C'!$D$14=3,\"QH\",IF('1C'!$D$14=4,\"FQ\",IF('1C'!$D$14=5,\"SKI\",IF('1C'!$D$14=6,\"PKN\",IF('1C'!$D$14=7,\"BID\",IF('1C'!$D$14=8,\"BA\",IF('1C'!$D$14=9,\"MTK\",IF('1C'!$D$14=10,\"IPA\",IF('1C'!$D$14=11,\"IPS\",IF('1C'!$D$14=12,\"SBK\",IF('1C'!$D$14=13,\"PJK\",IF('1C'!$D$14=14,\"BD\",IF('1C'!$D$14=15,\"BIG\",IF('1C'!$D$14=16,\"AWJ\",IF('1C'!$D$14=17,\"NW\",IF('1C'!$D$14=18,\"SRF\",IF('1C'!$D$14=19,\"PG\",IF('1C'!$D$14=20,\"XTR\",””))))))))))))))))))))","v":{"$error":"#NAME?"}},{"$f":"IF('1A'!$F$14=1,\"TMTIK\",IF('1A'!$F$14=2,\"AA\",IF('1A'!$F$14=3,\"QH\",IF('1A'!$F$14=4,\"FQ\",IF('1A'!$F$14=5,\"SKI\",IF('1A'!$F$14=6,\"PKN\",IF('1A'!$F$14=7,\"BID\",IF('1A'!$F$14=8,\"BA\",IF('1A'!$F$14=9,\"MTK\",IF('1A'!$F$14=10,\"IPA\",IF('1A'!$F$14=11,\"IPS\",IF('1A'!$F$14=12,\"SBK\",IF('1A'!$F$14=13,\"PJK\",IF('1A'!$F$14=14,\"BD\",IF('1A'!$F$14=15,\"BIG\",IF('1A'!$F$14=16,\"AWJ\",IF('1A'!$F$14=17,\"NW\",IF('1A'!$F$14=18,\"SRF\",IF('1A'!$F$14=19,\"PG\",IF('1A'!$F$14=20,\"XTR\",””))))))))))))))))))))","v":"TMTIK"},{"$f":"IF('1B'!$F$14=1,\"TMTIK\",IF('1B'!$F$14=2,\"AA\",IF('1B'!$F$14=3,\"QH\",IF('1B'!$F$14=4,\"FQ\",IF('1B'!$F$14=5,\"SKI\",IF('1B'!$F$14=6,\"PKN\",IF('1B'!$F$14=7,\"BID\",IF('1B'!$F$14=8,\"BA\",IF('1B'!$F$14=9,\"MTK\",IF('1B'!$F$14=10,\"IPA\",IF('1B'!$F$14=11,\"IPS\",IF('1B'!$F$14=12,\"SBK\",IF('1B'!$F$14=13,\"PJK\",IF('1B'!$F$14=14,\"BD\",IF('1B'!$F$14=15,\"BIG\",IF('1B'!$F$14=16,\"AWJ\",IF('1B'!$F$14=17,\"NW\",IF('1B'!$F$14=18,\"SRF\",IF('1B'!$F$14=19,\"PG\",IF('1B'!$F$14=20,\"XTR\",””))))))))))))))))))))","v":{"$error":"#NAME?"}},{"$f":"IF('1C'!$F$14=1,\"TMTIK\",IF('1C'!$F$14=2,\"AA\",IF('1C'!$F$14=3,\"QH\",IF('1C'!$F$14=4,\"FQ\",IF('1C'!$F$14=5,\"SKI\",IF('1C'!$F$14=6,\"PKN\",IF('1C'!$F$14=7,\"BID\",IF('1C'!$F$14=8,\"BA\",IF('1C'!$F$14=9,\"MTK\",IF('1C'!$F$14=10,\"IPA\",IF('1C'!$F$14=11,\"IPS\",IF('1C'!$F$14=12,\"SBK\",IF('1C'!$F$14=13,\"PJK\",IF('1C'!$F$14=14,\"BD\",IF('1C'!$F$14=15,\"BIG\",IF('1C'!$F$14=16,\"AWJ\",IF('1C'!$F$14=17,\"NW\",IF('1C'!$F$14=18,\"SRF\",IF('1C'!$F$14=19,\"PG\",IF('1C'!$F$14=20,\"XTR\",””))))))))))))))))))))","v":{"$error":"#NAME?"}},{"$f":"IF('1A'!$H$14=1,\"TMTIK\",IF('1A'!$H$14=2,\"AA\",IF('1A'!$H$14=3,\"QH\",IF('1A'!$H$14=4,\"FQ\",IF('1A'!$H$14=5,\"SKI\",IF('1A'!$H$14=6,\"PKN\",IF('1A'!$H$14=7,\"BID\",IF('1A'!$H$14=8,\"BA\",IF('1A'!$H$14=9,\"MTK\",IF('1A'!$H$14=10,\"IPA\",IF('1A'!$H$14=11,\"IPS\",IF('1A'!$H$14=12,\"SBK\",IF('1A'!$H$14=13,\"PJK\",IF('1A'!$H$14=14,\"BD\",IF('1A'!$H$14=15,\"BIG\",IF('1A'!$H$14=16,\"AWJ\",IF('1A'!$H$14=17,\"NW\",IF('1A'!$H$14=18,\"SRF\",IF('1A'!$H$14=19,\"PG\",IF('1A'!$H$14=20,\"XTR\",””))))))))))))))))))))","v":"BD"},{"$f":"IF('1B'!$H$14=1,\"TMTIK\",IF('1B'!$H$14=2,\"AA\",IF('1B'!$H$14=3,\"QH\",IF('1B'!$H$14=4,\"FQ\",IF('1B'!$H$14=5,\"SKI\",IF('1B'!$H$14=6,\"PKN\",IF('1B'!$H$14=7,\"BID\",IF('1B'!$H$14=8,\"BA\",IF('1B'!$H$14=9,\"MTK\",IF('1B'!$H$14=10,\"IPA\",IF('1B'!$H$14=11,\"IPS\",IF('1B'!$H$14=12,\"SBK\",IF('1B'!$H$14=13,\"PJK\",IF('1B'!$H$14=14,\"BD\",IF('1B'!$H$14=15,\"BIG\",IF('1B'!$H$14=16,\"AWJ\",IF('1B'!$H$14=17,\"NW\",IF('1B'!$H$14=18,\"SRF\",IF('1B'!$H$14=19,\"PG\",IF('1B'!$H$14=20,\"XTR\",””))))))))))))))))))))","v":{"$error":"#NAME?"}},{"$f":"IF('1C'!$H$14=1,\"TMTIK\",IF('1C'!$H$14=2,\"AA\",IF('1C'!$H$14=3,\"QH\",IF('1C'!$H$14=4,\"FQ\",IF('1C'!$H$14=5,\"SKI\",IF('1C'!$H$14=6,\"PKN\",IF('1C'!$H$14=7,\"BID\",IF('1C'!$H$14=8,\"BA\",IF('1C'!$H$14=9,\"MTK\",IF('1C'!$H$14=10,\"IPA\",IF('1C'!$H$14=11,\"IPS\",IF('1C'!$H$14=12,\"SBK\",IF('1C'!$H$14=13,\"PJK\",IF('1C'!$H$14=14,\"BD\",IF('1C'!$H$14=15,\"BIG\",IF('1C'!$H$14=16,\"AWJ\",IF('1C'!$H$14=17,\"NW\",IF('1C'!$H$14=18,\"SRF\",IF('1C'!$H$14=19,\"PG\",IF('1C'!$H$14=20,\"XTR\",””))))))))))))))))))))","v":{"$error":"#NAME?"}},{"$f":"IF('1A'!$J$14=1,\"TMTIK\",IF('1A'!$J$14=2,\"AA\",IF('1A'!$J$14=3,\"QH\",IF('1A'!$J$14=4,\"FQ\",IF('1A'!$J$14=5,\"SKI\",IF('1A'!$J$14=6,\"PKN\",IF('1A'!$J$14=7,\"BID\",IF('1A'!$J$14=8,\"BA\",IF('1A'!$J$14=9,\"MTK\",IF('1A'!$J$14=10,\"IPA\",IF('1A'!$J$14=11,\"IPS\",IF('1A'!$J$14=12,\"SBK\",IF('1A'!$J$14=13,\"PJK\",IF('1A'!$J$14=14,\"BD\",IF('1A'!$J$14=15,\"BIG\",IF('1A'!$J$14=16,\"AWJ\",IF('1A'!$J$14=17,\"NW\",IF('1A'!$J$14=18,\"SRF\",IF('1A'!$J$14=19,\"PG\",IF('1A'!$J$14=20,\"XTR\",””))))))))))))))))))))","v":"TMTIK"},{"$f":"IF('1B'!$J$14=1,\"TMTIK\",IF('1B'!$J$14=2,\"AA\",IF('1B'!$J$14=3,\"QH\",IF('1B'!$J$14=4,\"FQ\",IF('1B'!$J$14=5,\"SKI\",IF('1B'!$J$14=6,\"PKN\",IF('1B'!$J$14=7,\"BID\",IF('1B'!$J$14=8,\"BA\",IF('1B'!$J$14=9,\"MTK\",IF('1B'!$J$14=10,\"IPA\",IF('1B'!$J$14=11,\"IPS\",IF('1B'!$J$14=12,\"SBK\",IF('1B'!$J$14=13,\"PJK\",IF('1B'!$J$14=14,\"BD\",IF('1B'!$J$14=15,\"BIG\",IF('1B'!$J$14=16,\"AWJ\",IF('1B'!$J$14=17,\"NW\",IF('1B'!$J$14=18,\"SRF\",IF('1B'!$J$14=19,\"PG\",IF('1B'!$J$14=20,\"XTR\",””))))))))))))))))))))","v":{"$error":"#NAME?"}},{"$f":"IF('1C'!$J$14=1,\"TMTIK\",IF('1C'!$J$14=2,\"AA\",IF('1C'!$J$14=3,\"QH\",IF('1C'!$J$14=4,\"FQ\",IF('1C'!$J$14=5,\"SKI\",IF('1C'!$J$14=6,\"PKN\",IF('1C'!$J$14=7,\"BID\",IF('1C'!$J$14=8,\"BA\",IF('1C'!$J$14=9,\"MTK\",IF('1C'!$J$14=10,\"IPA\",IF('1C'!$J$14=11,\"IPS\",IF('1C'!$J$14=12,\"SBK\",IF('1C'!$J$14=13,\"PJK\",IF('1C'!$J$14=14,\"BD\",IF('1C'!$J$14=15,\"BIG\",IF('1C'!$J$14=16,\"AWJ\",IF('1C'!$J$14=17,\"NW\",IF('1C'!$J$14=18,\"SRF\",IF('1C'!$J$14=19,\"PG\",IF('1C'!$J$14=20,\"XTR\",””))))))))))))))))))))","v":{"$error":"#NAME?"}},{"$f":"IF('1A'!$N$14=1,\"TMTIK\",IF('1A'!$N$14=2,\"AA\",IF('1A'!$N$14=3,\"QH\",IF('1A'!$N$14=4,\"FQ\",IF('1A'!$N$14=5,\"SKI\",IF('1A'!$N$14=6,\"PKN\",IF('1A'!$N$14=7,\"BID\",IF('1A'!$N$14=8,\"BA\",IF('1A'!$N$14=9,\"MTK\",IF('1A'!$N$14=10,\"IPA\",IF('1A'!$N$14=11,\"IPS\",IF('1A'!$N$14=12,\"SBK\",IF('1A'!$N$14=13,\"PJK\",IF('1A'!$N$14=14,\"BD\",IF('1A'!$N$14=15,\"BIG\",IF('1A'!$N$14=16,\"AWJ\",IF('1A'!$N$14=17,\"NW\",IF('1A'!$N$14=18,\"SRF\",IF('1A'!$N$14=19,\"PG\",IF('1A'!$N$14=20,\"XTR\",””))))))))))))))))))))","v":"TMTIK"},{"$f":"IF('1B'!$N$14=1,\"TMTIK\",IF('1B'!$N$14=2,\"AA\",IF('1B'!$N$14=3,\"QH\",IF('1B'!$N$14=4,\"FQ\",IF('1B'!$N$14=5,\"SKI\",IF('1B'!$N$14=6,\"PKN\",IF('1B'!$N$14=7,\"BID\",IF('1B'!$N$14=8,\"BA\",IF('1B'!$N$14=9,\"MTK\",IF('1B'!$N$14=10,\"IPA\",IF('1B'!$N$14=11,\"IPS\",IF('1B'!$N$14=12,\"SBK\",IF('1B'!$N$14=13,\"PJK\",IF('1B'!$N$14=14,\"BD\",IF('1B'!$N$14=15,\"BIG\",IF('1B'!$N$14=16,\"AWJ\",IF('1B'!$N$14=17,\"NW\",IF('1B'!$N$14=18,\"SRF\",IF('1B'!$N$14=19,\"PG\",IF('1B'!$N$14=20,\"XTR\",””))))))))))))))))))))","v":{"$error":"#NAME?"}},{"$f":"IF('1C'!$N$14=1,\"TMTIK\",IF('1C'!$N$14=2,\"AA\",IF('1C'!$N$14=3,\"QH\",IF('1C'!$N$14=4,\"FQ\",IF('1C'!$N$14=5,\"SKI\",IF('1C'!$N$14=6,\"PKN\",IF('1C'!$N$14=7,\"BID\",IF('1C'!$N$14=8,\"BA\",IF('1C'!$N$14=9,\"MTK\",IF('1C'!$N$14=10,\"IPA\",IF('1C'!$N$14=11,\"IPS\",IF('1C'!$N$14=12,\"SBK\",IF('1C'!$N$14=13,\"PJK\",IF('1C'!$N$14=14,\"BD\",IF('1C'!$N$14=15,\"BIG\",IF('1C'!$N$14=16,\"AWJ\",IF('1C'!$N$14=17,\"NW\",IF('1C'!$N$14=18,\"SRF\",IF('1C'!$N$14=19,\"PG\",IF('1C'!$N$14=20,\"XTR\",””))))))))))))))))))))","v":{"$error":"#NAME?"}},{"$f":"IF('1A'!$D$27=1,\"TMTIK\",IF('1A'!$D$27=2,\"AA\",IF('1A'!$D$27=3,\"QH\",IF('1A'!$D$27=4,\"FQ\",IF('1A'!$D$27=5,\"SKI\",IF('1A'!$D$27=6,\"PKN\",IF('1A'!$D$27=7,\"BID\",IF('1A'!$D$27=8,\"BA\",IF('1A'!$D$27=9,\"MTK\",IF('1A'!$D$27=10,\"IPA\",IF('1A'!$D$27=11,\"IPS\",IF('1A'!$D$27=12,\"SBK\",IF('1A'!$D$27=13,\"PJK\",IF('1A'!$D$27=14,\"BD\",IF('1A'!$D$27=15,\"BIG\",IF('1A'!$D$27=16,\"AWJ\",IF('1A'!$D$27=17,\"NW\",IF('1A'!$D$27=18,\"SRF\",IF('1A'!$D$27=19,\"PG\",IF('1A'!$D$27=20,\"XTR\",””))))))))))))))))))))","v":{"$error":"#NAME?"}},{"$f":"IF('1B'!$D$27=1,\"TMTIK\",IF('1B'!$D$27=2,\"AA\",IF('1B'!$D$27=3,\"QH\",IF('1B'!$D$27=4,\"FQ\",IF('1B'!$D$27=5,\"SKI\",IF('1B'!$D$27=6,\"PKN\",IF('1B'!$D$27=7,\"BID\",IF('1B'!$D$27=8,\"BA\",IF('1B'!$D$27=9,\"MTK\",IF('1B'!$D$27=10,\"IPA\",IF('1B'!$D$27=11,\"IPS\",IF('1B'!$D$27=12,\"SBK\",IF('1B'!$D$27=13,\"PJK\",IF('1B'!$D$27=14,\"BD\",IF('1B'!$D$27=15,\"BIG\",IF('1B'!$D$27=16,\"AWJ\",IF('1B'!$D$27=17,\"NW\",IF('1B'!$D$27=18,\"SRF\",IF('1B'!$D$27=19,\"PG\",IF('1B'!$D$27=20,\"XTR\",””))))))))))))))))))))","v":{"$error":"#NAME?"}},{"$f":"IF('1C'!$D$27=1,\"TMTIK\",IF('1C'!$D$27=2,\"AA\",IF('1C'!$D$27=3,\"QH\",IF('1C'!$D$27=4,\"FQ\",IF('1C'!$D$27=5,\"SKI\",IF('1C'!$D$27=6,\"PKN\",IF('1C'!$D$27=7,\"BID\",IF('1C'!$D$27=8,\"BA\",IF('1C'!$D$27=9,\"MTK\",IF('1C'!$D$27=10,\"IPA\",IF('1C'!$D$27=11,\"IPS\",IF('1C'!$D$27=12,\"SBK\",IF('1C'!$D$27=13,\"PJK\",IF('1C'!$D$27=14,\"BD\",IF('1C'!$D$27=15,\"BIG\",IF('1C'!$D$27=16,\"AWJ\",IF('1C'!$D$27=17,\"NW\",IF('1C'!$D$27=18,\"SRF\",IF('1C'!$D$27=19,\"PG\",IF('1C'!$D$27=20,\"XTR\",””))))))))))))))))))))","v":{"$error":"#NAME?"}},27,7,"BID"]
[6,{"$f":"IF('1A'!$D$15=1,\"TMTIK\",IF('1A'!$D$15=2,\"AA\",IF('1A'!$D$15=3,\"QH\",IF('1A'!$D$15=4,\"FQ\",IF('1A'!$D$15=5,\"SKI\",IF('1A'!$D$15=6,\"PKN\",IF('1A'!$D$15=7,\"BID\",IF('1A'!$D$15=8,\"BA\",IF('1A'!$D$15=9,\"MTK\",IF('1A'!$D$15=10,\"IPA\",IF('1A'!$D$15=11,\"IPS\",IF('1A'!$D$15=12,\"SBK\",IF('1A'!$D$15=13,\"PJK\",IF('1A'!$D$15=14,\"BD\",IF('1A'!$D$15=15,\"BIG\",IF('1A'!$D$15=16,\"AWJ\",IF('1A'!$D$15=17,\"NW\",IF('1A'!$D$15=18,\"SRF\",IF('1A'!$D$15=19,\"PG\",IF('1A'!$D$15=20,\"XTR\",””))))))))))))))))))))","v":"TMTIK"},{"$f":"IF('1B'!$D$15=1,\"TMTIK\",IF('1B'!$D$15=2,\"AA\",IF('1B'!$D$15=3,\"QH\",IF('1B'!$D$15=4,\"FQ\",IF('1B'!$D$15=5,\"SKI\",IF('1B'!$D$15=6,\"PKN\",IF('1B'!$D$15=7,\"BID\",IF('1B'!$D$15=8,\"BA\",IF('1B'!$D$15=9,\"MTK\",IF('1B'!$D$15=10,\"IPA\",IF('1B'!$D$15=11,\"IPS\",IF('1B'!$D$15=12,\"SBK\",IF('1B'!$D$15=13,\"PJK\",IF('1B'!$D$15=14,\"BD\",IF('1B'!$D$15=15,\"BIG\",IF('1B'!$D$15=16,\"AWJ\",IF('1B'!$D$15=17,\"NW\",IF('1B'!$D$15=18,\"SRF\",IF('1B'!$D$15=19,\"PG\",IF('1B'!$D$15=20,\"XTR\",””))))))))))))))))))))","v":{"$error":"#NAME?"}},{"$f":"IF('1C'!$D$15=1,\"TMTIK\",IF('1C'!$D$15=2,\"AA\",IF('1C'!$D$15=3,\"QH\",IF('1C'!$D$15=4,\"FQ\",IF('1C'!$D$15=5,\"SKI\",IF('1C'!$D$15=6,\"PKN\",IF('1C'!$D$15=7,\"BID\",IF('1C'!$D$15=8,\"BA\",IF('1C'!$D$15=9,\"MTK\",IF('1C'!$D$15=10,\"IPA\",IF('1C'!$D$15=11,\"IPS\",IF('1C'!$D$15=12,\"SBK\",IF('1C'!$D$15=13,\"PJK\",IF('1C'!$D$15=14,\"BD\",IF('1C'!$D$15=15,\"BIG\",IF('1C'!$D$15=16,\"AWJ\",IF('1C'!$D$15=17,\"NW\",IF('1C'!$D$15=18,\"SRF\",IF('1C'!$D$15=19,\"PG\",IF('1C'!$D$15=20,\"XTR\",””))))))))))))))))))))","v":{"$error":"#NAME?"}},{"$f":"IF('1A'!$F$15=1,\"TMTIK\",IF('1A'!$F$15=2,\"AA\",IF('1A'!$F$15=3,\"QH\",IF('1A'!$F$15=4,\"FQ\",IF('1A'!$F$15=5,\"SKI\",IF('1A'!$F$15=6,\"PKN\",IF('1A'!$F$15=7,\"BID\",IF('1A'!$F$15=8,\"BA\",IF('1A'!$F$15=9,\"MTK\",IF('1A'!$F$15=10,\"IPA\",IF('1A'!$F$15=11,\"IPS\",IF('1A'!$F$15=12,\"SBK\",IF('1A'!$F$15=13,\"PJK\",IF('1A'!$F$15=14,\"BD\",IF('1A'!$F$15=15,\"BIG\",IF('1A'!$F$15=16,\"AWJ\",IF('1A'!$F$15=17,\"NW\",IF('1A'!$F$15=18,\"SRF\",IF('1A'!$F$15=19,\"PG\",IF('1A'!$F$15=20,\"XTR\",””))))))))))))))))))))","v":"TMTIK"},{"$f":"IF('1B'!$F$15=1,\"TMTIK\",IF('1B'!$F$15=2,\"AA\",IF('1B'!$F$15=3,\"QH\",IF('1B'!$F$15=4,\"FQ\",IF('1B'!$F$15=5,\"SKI\",IF('1B'!$F$15=6,\"PKN\",IF('1B'!$F$15=7,\"BID\",IF('1B'!$F$15=8,\"BA\",IF('1B'!$F$15=9,\"MTK\",IF('1B'!$F$15=10,\"IPA\",IF('1B'!$F$15=11,\"IPS\",IF('1B'!$F$15=12,\"SBK\",IF('1B'!$F$15=13,\"PJK\",IF('1B'!$F$15=14,\"BD\",IF('1B'!$F$15=15,\"BIG\",IF('1B'!$F$15=16,\"AWJ\",IF('1B'!$F$15=17,\"NW\",IF('1B'!$F$15=18,\"SRF\",IF('1B'!$F$15=19,\"PG\",IF('1B'!$F$15=20,\"XTR\",””))))))))))))))))))))","v":{"$error":"#NAME?"}},{"$f":"IF('1C'!$F$15=1,\"TMTIK\",IF('1C'!$F$15=2,\"AA\",IF('1C'!$F$15=3,\"QH\",IF('1C'!$F$15=4,\"FQ\",IF('1C'!$F$15=5,\"SKI\",IF('1C'!$F$15=6,\"PKN\",IF('1C'!$F$15=7,\"BID\",IF('1C'!$F$15=8,\"BA\",IF('1C'!$F$15=9,\"MTK\",IF('1C'!$F$15=10,\"IPA\",IF('1C'!$F$15=11,\"IPS\",IF('1C'!$F$15=12,\"SBK\",IF('1C'!$F$15=13,\"PJK\",IF('1C'!$F$15=14,\"BD\",IF('1C'!$F$15=15,\"BIG\",IF('1C'!$F$15=16,\"AWJ\",IF('1C'!$F$15=17,\"NW\",IF('1C'!$F$15=18,\"SRF\",IF('1C'!$F$15=19,\"PG\",IF('1C'!$F$15=20,\"XTR\",””))))))))))))))))))))","v":{"$error":"#NAME?"}},{"$f":"IF('1A'!$H$15=1,\"TMTIK\",IF('1A'!$H$15=2,\"AA\",IF('1A'!$H$15=3,\"QH\",IF('1A'!$H$15=4,\"FQ\",IF('1A'!$H$15=5,\"SKI\",IF('1A'!$H$15=6,\"PKN\",IF('1A'!$H$15=7,\"BID\",IF('1A'!$H$15=8,\"BA\",IF('1A'!$H$15=9,\"MTK\",IF('1A'!$H$15=10,\"IPA\",IF('1A'!$H$15=11,\"IPS\",IF('1A'!$H$15=12,\"SBK\",IF('1A'!$H$15=13,\"PJK\",IF('1A'!$H$15=14,\"BD\",IF('1A'!$H$15=15,\"BIG\",IF('1A'!$H$15=16,\"AWJ\",IF('1A'!$H$15=17,\"NW\",IF('1A'!$H$15=18,\"SRF\",IF('1A'!$H$15=19,\"PG\",IF('1A'!$H$15=20,\"XTR\",””))))))))))))))))))))","v":"BIG"},{"$f":"IF('1B'!$H$15=1,\"TMTIK\",IF('1B'!$H$15=2,\"AA\",IF('1B'!$H$15=3,\"QH\",IF('1B'!$H$15=4,\"FQ\",IF('1B'!$H$15=5,\"SKI\",IF('1B'!$H$15=6,\"PKN\",IF('1B'!$H$15=7,\"BID\",IF('1B'!$H$15=8,\"BA\",IF('1B'!$H$15=9,\"MTK\",IF('1B'!$H$15=10,\"IPA\",IF('1B'!$H$15=11,\"IPS\",IF('1B'!$H$15=12,\"SBK\",IF('1B'!$H$15=13,\"PJK\",IF('1B'!$H$15=14,\"BD\",IF('1B'!$H$15=15,\"BIG\",IF('1B'!$H$15=16,\"AWJ\",IF('1B'!$H$15=17,\"NW\",IF('1B'!$H$15=18,\"SRF\",IF('1B'!$H$15=19,\"PG\",IF('1B'!$H$15=20,\"XTR\",””))))))))))))))))))))","v":{"$error":"#NAME?"}},{"$f":"IF('1C'!$H$15=1,\"TMTIK\",IF('1C'!$H$15=2,\"AA\",IF('1C'!$H$15=3,\"QH\",IF('1C'!$H$15=4,\"FQ\",IF('1C'!$H$15=5,\"SKI\",IF('1C'!$H$15=6,\"PKN\",IF('1C'!$H$15=7,\"BID\",IF('1C'!$H$15=8,\"BA\",IF('1C'!$H$15=9,\"MTK\",IF('1C'!$H$15=10,\"IPA\",IF('1C'!$H$15=11,\"IPS\",IF('1C'!$H$15=12,\"SBK\",IF('1C'!$H$15=13,\"PJK\",IF('1C'!$H$15=14,\"BD\",IF('1C'!$H$15=15,\"BIG\",IF('1C'!$H$15=16,\"AWJ\",IF('1C'!$H$15=17,\"NW\",IF('1C'!$H$15=18,\"SRF\",IF('1C'!$H$15=19,\"PG\",IF('1C'!$H$15=20,\"XTR\",””))))))))))))))))))))","v":{"$error":"#NAME?"}},{"$f":"IF('1A'!$J$15=1,\"TMTIK\",IF('1A'!$J$15=2,\"AA\",IF('1A'!$J$15=3,\"QH\",IF('1A'!$J$15=4,\"FQ\",IF('1A'!$J$15=5,\"SKI\",IF('1A'!$J$15=6,\"PKN\",IF('1A'!$J$15=7,\"BID\",IF('1A'!$J$15=8,\"BA\",IF('1A'!$J$15=9,\"MTK\",IF('1A'!$J$15=10,\"IPA\",IF('1A'!$J$15=11,\"IPS\",IF('1A'!$J$15=12,\"SBK\",IF('1A'!$J$15=13,\"PJK\",IF('1A'!$J$15=14,\"BD\",IF('1A'!$J$15=15,\"BIG\",IF('1A'!$J$15=16,\"AWJ\",IF('1A'!$J$15=17,\"NW\",IF('1A'!$J$15=18,\"SRF\",IF('1A'!$J$15=19,\"PG\",IF('1A'!$J$15=20,\"XTR\",””))))))))))))))))))))","v":"TMTIK"},{"$f":"IF('1B'!$J$15=1,\"TMTIK\",IF('1B'!$J$15=2,\"AA\",IF('1B'!$J$15=3,\"QH\",IF('1B'!$J$15=4,\"FQ\",IF('1B'!$J$15=5,\"SKI\",IF('1B'!$J$15=6,\"PKN\",IF('1B'!$J$15=7,\"BID\",IF('1B'!$J$15=8,\"BA\",IF('1B'!$J$15=9,\"MTK\",IF('1B'!$J$15=10,\"IPA\",IF('1B'!$J$15=11,\"IPS\",IF('1B'!$J$15=12,\"SBK\",IF('1B'!$J$15=13,\"PJK\",IF('1B'!$J$15=14,\"BD\",IF('1B'!$J$15=15,\"BIG\",IF('1B'!$J$15=16,\"AWJ\",IF('1B'!$J$15=17,\"NW\",IF('1B'!$J$15=18,\"SRF\",IF('1B'!$J$15=19,\"PG\",IF('1B'!$J$15=20,\"XTR\",””))))))))))))))))))))","v":{"$error":"#NAME?"}},{"$f":"IF('1C'!$J$15=1,\"TMTIK\",IF('1C'!$J$15=2,\"AA\",IF('1C'!$J$15=3,\"QH\",IF('1C'!$J$15=4,\"FQ\",IF('1C'!$J$15=5,\"SKI\",IF('1C'!$J$15=6,\"PKN\",IF('1C'!$J$15=7,\"BID\",IF('1C'!$J$15=8,\"BA\",IF('1C'!$J$15=9,\"MTK\",IF('1C'!$J$15=10,\"IPA\",IF('1C'!$J$15=11,\"IPS\",IF('1C'!$J$15=12,\"SBK\",IF('1C'!$J$15=13,\"PJK\",IF('1C'!$J$15=14,\"BD\",IF('1C'!$J$15=15,\"BIG\",IF('1C'!$J$15=16,\"AWJ\",IF('1C'!$J$15=17,\"NW\",IF('1C'!$J$15=18,\"SRF\",IF('1C'!$J$15=19,\"PG\",IF('1C'!$J$15=20,\"XTR\",””))))))))))))))))))))","v":{"$error":"#NAME?"}},{"$f":"IF('1A'!$N$15=1,\"TMTIK\",IF('1A'!$N$15=2,\"AA\",IF('1A'!$N$15=3,\"QH\",IF('1A'!$N$15=4,\"FQ\",IF('1A'!$N$15=5,\"SKI\",IF('1A'!$N$15=6,\"PKN\",IF('1A'!$N$15=7,\"BID\",IF('1A'!$N$15=8,\"BA\",IF('1A'!$N$15=9,\"MTK\",IF('1A'!$N$15=10,\"IPA\",IF('1A'!$N$15=11,\"IPS\",IF('1A'!$N$15=12,\"SBK\",IF('1A'!$N$15=13,\"PJK\",IF('1A'!$N$15=14,\"BD\",IF('1A'!$N$15=15,\"BIG\",IF('1A'!$N$15=16,\"AWJ\",IF('1A'!$N$15=17,\"NW\",IF('1A'!$N$15=18,\"SRF\",IF('1A'!$N$15=19,\"PG\",IF('1A'!$N$15=20,\"XTR\",””))))))))))))))))))))","v":{"$error":"#NAME?"}},{"$f":"IF('1B'!$N$15=1,\"TMTIK\",IF('1B'!$N$15=2,\"AA\",IF('1B'!$N$15=3,\"QH\",IF('1B'!$N$15=4,\"FQ\",IF('1B'!$N$15=5,\"SKI\",IF('1B'!$N$15=6,\"PKN\",IF('1B'!$N$15=7,\"BID\",IF('1B'!$N$15=8,\"BA\",IF('1B'!$N$15=9,\"MTK\",IF('1B'!$N$15=10,\"IPA\",IF('1B'!$N$15=11,\"IPS\",IF('1B'!$N$15=12,\"SBK\",IF('1B'!$N$15=13,\"PJK\",IF('1B'!$N$15=14,\"BD\",IF('1B'!$N$15=15,\"BIG\",IF('1B'!$N$15=16,\"AWJ\",IF('1B'!$N$15=17,\"NW\",IF('1B'!$N$15=18,\"SRF\",IF('1B'!$N$15=19,\"PG\",IF('1B'!$N$15=20,\"XTR\",””))))))))))))))))))))","v":{"$error":"#NAME?"}},{"$f":"IF('1C'!$N$15=1,\"TMTIK\",IF('1C'!$N$15=2,\"AA\",IF('1C'!$N$15=3,\"QH\",IF('1C'!$N$15=4,\"FQ\",IF('1C'!$N$15=5,\"SKI\",IF('1C'!$N$15=6,\"PKN\",IF('1C'!$N$15=7,\"BID\",IF('1C'!$N$15=8,\"BA\",IF('1C'!$N$15=9,\"MTK\",IF('1C'!$N$15=10,\"IPA\",IF('1C'!$N$15=11,\"IPS\",IF('1C'!$N$15=12,\"SBK\",IF('1C'!$N$15=13,\"PJK\",IF('1C'!$N$15=14,\"BD\",IF('1C'!$N$15=15,\"BIG\",IF('1C'!$N$15=16,\"AWJ\",IF('1C'!$N$15=17,\"NW\",IF('1C'!$N$15=18,\"SRF\",IF('1C'!$N$15=19,\"PG\",IF('1C'!$N$15=20,\"XTR\",””))))))))))))))))))))","v":{"$error":"#NAME?"}},{"$f":"IF('1A'!$D$28=1,\"TMTIK\",IF('1A'!$D$28=2,\"AA\",IF('1A'!$D$28=3,\"QH\",IF('1A'!$D$28=4,\"FQ\",IF('1A'!$D$28=5,\"SKI\",IF('1A'!$D$28=6,\"PKN\",IF('1A'!$D$28=7,\"BID\",IF('1A'!$D$28=8,\"BA\",IF('1A'!$D$28=9,\"MTK\",IF('1A'!$D$28=10,\"IPA\",IF('1A'!$D$28=11,\"IPS\",IF('1A'!$D$28=12,\"SBK\",IF('1A'!$D$28=13,\"PJK\",IF('1A'!$D$28=14,\"BD\",IF('1A'!$D$28=15,\"BIG\",IF('1A'!$D$28=16,\"AWJ\",IF('1A'!$D$28=17,\"NW\",IF('1A'!$D$28=18,\"SRF\",IF('1A'!$D$28=19,\"PG\",IF('1A'!$D$28=20,\"XTR\",””))))))))))))))))))))","v":{"$error":"#NAME?"}},{"$f":"IF('1B'!$D$28=1,\"TMTIK\",IF('1B'!$D$28=2,\"AA\",IF('1B'!$D$28=3,\"QH\",IF('1B'!$D$28=4,\"FQ\",IF('1B'!$D$28=5,\"SKI\",IF('1B'!$D$28=6,\"PKN\",IF('1B'!$D$28=7,\"BID\",IF('1B'!$D$28=8,\"BA\",IF('1B'!$D$28=9,\"MTK\",IF('1B'!$D$28=10,\"IPA\",IF('1B'!$D$28=11,\"IPS\",IF('1B'!$D$28=12,\"SBK\",IF('1B'!$D$28=13,\"PJK\",IF('1B'!$D$28=14,\"BD\",IF('1B'!$D$28=15,\"BIG\",IF('1B'!$D$28=16,\"AWJ\",IF('1B'!$D$28=17,\"NW\",IF('1B'!$D$28=18,\"SRF\",IF('1B'!$D$28=19,\"PG\",IF('1B'!$D$28=20,\"XTR\",””))))))))))))))))))))","v":{"$error":"#NAME?"}},{"$f":"IF('1C'!$D$28=1,\"TMTIK\",IF('1C'!$D$28=2,\"AA\",IF('1C'!$D$28=3,\"QH\",IF('1C'!$D$28=4,\"FQ\",IF('1C'!$D$28=5,\"SKI\",IF('1C'!$D$28=6,\"PKN\",IF('1C'!$D$28=7,\"BID\",IF('1C'!$D$28=8,\"BA\",IF('1C'!$D$28=9,\"MTK\",IF('1C'!$D$28=10,\"IPA\",IF('1C'!$D$28=11,\"IPS\",IF('1C'!$D$28=12,\"SBK\",IF('1C'!$D$28=13,\"PJK\",IF('1C'!$D$28=14,\"BD\",IF('1C'!$D$28=15,\"BIG\",IF('1C'!$D$28=16,\"AWJ\",IF('1C'!$D$28=17,\"NW\",IF('1C'!$D$28=18,\"SRF\",IF('1C'!$D$28=19,\"PG\",IF('1C'!$D$28=20,\"XTR\",””))))))))))))))))))))","v":{"$error":"#NAME?"}},28,8,"BA"]
[7,{"$f":"IF('1A'!$D$17=1,\"TMTIK\",IF('1A'!$D$17=2,\"AA\",IF('1A'!$D$17=3,\"QH\",IF('1A'!$D$17=4,\"FQ\",IF('1A'!$D$17=5,\"SKI\",IF('1A'!$D$17=6,\"PKN\",IF('1A'!$D$17=7,\"BID\",IF('1A'!$D$17=8,\"BA\",IF('1A'!$D$17=9,\"MTK\",IF('1A'!$D$17=10,\"IPA\",IF('1A'!$D$17=11,\"IPS\",IF('1A'!$D$17=12,\"SBK\",IF('1A'!$D$17=13,\"PJK\",IF('1A'!$D$17=14,\"BD\",IF('1A'!$D$17=15,\"BIG\",IF('1A'!$D$17=16,\"AWJ\",IF('1A'!$D$17=17,\"NW\",IF('1A'!$D$17=18,\"SRF\",IF('1A'!$D$17=19,\"PG\",IF('1A'!$D$17=20,\"XTR\",””))))))))))))))))))))","v":{"$error":"#NAME?"}},{"$f":"IF('1B'!$D$17=1,\"TMTIK\",IF('1B'!$D$17=2,\"AA\",IF('1B'!$D$17=3,\"QH\",IF('1B'!$D$17=4,\"FQ\",IF('1B'!$D$17=5,\"SKI\",IF('1B'!$D$17=6,\"PKN\",IF('1B'!$D$17=7,\"BID\",IF('1B'!$D$17=8,\"BA\",IF('1B'!$D$17=9,\"MTK\",IF('1B'!$D$17=10,\"IPA\",IF('1B'!$D$17=11,\"IPS\",IF('1B'!$D$17=12,\"SBK\",IF('1B'!$D$17=13,\"PJK\",IF('1B'!$D$17=14,\"BD\",IF('1B'!$D$17=15,\"BIG\",IF('1B'!$D$17=16,\"AWJ\",IF('1B'!$D$17=17,\"NW\",IF('1B'!$D$17=18,\"SRF\",IF('1B'!$D$17=19,\"PG\",IF('1B'!$D$17=20,\"XTR\",””))))))))))))))))))))","v":{"$error":"#NAME?"}},{"$f":"IF('1C'!$D$17=1,\"TMTIK\",IF('1C'!$D$17=2,\"AA\",IF('1C'!$D$17=3,\"QH\",IF('1C'!$D$17=4,\"FQ\",IF('1C'!$D$17=5,\"SKI\",IF('1C'!$D$17=6,\"PKN\",IF('1C'!$D$17=7,\"BID\",IF('1C'!$D$17=8,\"BA\",IF('1C'!$D$17=9,\"MTK\",IF('1C'!$D$17=10,\"IPA\",IF('1C'!$D$17=11,\"IPS\",IF('1C'!$D$17=12,\"SBK\",IF('1C'!$D$17=13,\"PJK\",IF('1C'!$D$17=14,\"BD\",IF('1C'!$D$17=15,\"BIG\",IF('1C'!$D$17=16,\"AWJ\",IF('1C'!$D$17=17,\"NW\",IF('1C'!$D$17=18,\"SRF\",IF('1C'!$D$17=19,\"PG\",IF('1C'!$D$17=20,\"XTR\",””))))))))))))))))))))","v":{"$error":"#NAME?"}},{"$f":"IF('1A'!$F$17=1,\"TMTIK\",IF('1A'!$F$17=2,\"AA\",IF('1A'!$F$17=3,\"QH\",IF('1A'!$F$17=4,\"FQ\",IF('1A'!$F$17=5,\"SKI\",IF('1A'!$F$17=6,\"PKN\",IF('1A'!$F$17=7,\"BID\",IF('1A'!$F$17=8,\"BA\",IF('1A'!$F$17=9,\"MTK\",IF('1A'!$F$17=10,\"IPA\",IF('1A'!$F$17=11,\"IPS\",IF('1A'!$F$17=12,\"SBK\",IF('1A'!$F$17=13,\"PJK\",IF('1A'!$F$17=14,\"BD\",IF('1A'!$F$17=15,\"BIG\",IF('1A'!$F$17=16,\"AWJ\",IF('1A'!$F$17=17,\"NW\",IF('1A'!$F$17=18,\"SRF\",IF('1A'!$F$17=19,\"PG\",IF('1A'!$F$17=20,\"XTR\",””))))))))))))))))))))","v":{"$error":"#NAME?"}},{"$f":"IF('1B'!$F$17=1,\"TMTIK\",IF('1B'!$F$17=2,\"AA\",IF('1B'!$F$17=3,\"QH\",IF('1B'!$F$17=4,\"FQ\",IF('1B'!$F$17=5,\"SKI\",IF('1B'!$F$17=6,\"PKN\",IF('1B'!$F$17=7,\"BID\",IF('1B'!$F$17=8,\"BA\",IF('1B'!$F$17=9,\"MTK\",IF('1B'!$F$17=10,\"IPA\",IF('1B'!$F$17=11,\"IPS\",IF('1B'!$F$17=12,\"SBK\",IF('1B'!$F$17=13,\"PJK\",IF('1B'!$F$17=14,\"BD\",IF('1B'!$F$17=15,\"BIG\",IF('1B'!$F$17=16,\"AWJ\",IF('1B'!$F$17=17,\"NW\",IF('1B'!$F$17=18,\"SRF\",IF('1B'!$F$17=19,\"PG\",IF('1B'!$F$17=20,\"XTR\",””))))))))))))))))))))","v":{"$error":"#NAME?"}},{"$f":"IF('1C'!$F$17=1,\"TMTIK\",IF('1C'!$F$17=2,\"AA\",IF('1C'!$F$17=3,\"QH\",IF('1C'!$F$17=4,\"FQ\",IF('1C'!$F$17=5,\"SKI\",IF('1C'!$F$17=6,\"PKN\",IF('1C'!$F$17=7,\"BID\",IF('1C'!$F$17=8,\"BA\",IF('1C'!$F$17=9,\"MTK\",IF('1C'!$F$17=10,\"IPA\",IF('1C'!$F$17=11,\"IPS\",IF('1C'!$F$17=12,\"SBK\",IF('1C'!$F$17=13,\"PJK\",IF('1C'!$F$17=14,\"BD\",IF('1C'!$F$17=15,\"BIG\",IF('1C'!$F$17=16,\"AWJ\",IF('1C'!$F$17=17,\"NW\",IF('1C'!$F$17=18,\"SRF\",IF('1C'!$F$17=19,\"PG\",IF('1C'!$F$17=20,\"XTR\",””))))))))))))))))))))","v":{"$error":"#NAME?"}},{"$f":"IF('1A'!$H$17=1,\"TMTIK\",IF('1A'!$H$17=2,\"AA\",IF('1A'!$H$17=3,\"QH\",IF('1A'!$H$17=4,\"FQ\",IF('1A'!$H$17=5,\"SKI\",IF('1A'!$H$17=6,\"PKN\",IF('1A'!$H$17=7,\"BID\",IF('1A'!$H$17=8,\"BA\",IF('1A'!$H$17=9,\"MTK\",IF('1A'!$H$17=10,\"IPA\",IF('1A'!$H$17=11,\"IPS\",IF('1A'!$H$17=12,\"SBK\",IF('1A'!$H$17=13,\"PJK\",IF('1A'!$H$17=14,\"BD\",IF('1A'!$H$17=15,\"BIG\",IF('1A'!$H$17=16,\"AWJ\",IF('1A'!$H$17=17,\"NW\",IF('1A'!$H$17=18,\"SRF\",IF('1A'!$H$17=19,\"PG\",IF('1A'!$H$17=20,\"XTR\",””))))))))))))))))))))","v":{"$error":"#NAME?"}},{"$f":"IF('1B'!$H$17=1,\"TMTIK\",IF('1B'!$H$17=2,\"AA\",IF('1B'!$H$17=3,\"QH\",IF('1B'!$H$17=4,\"FQ\",IF('1B'!$H$17=5,\"SKI\",IF('1B'!$H$17=6,\"PKN\",IF('1B'!$H$17=7,\"BID\",IF('1B'!$H$17=8,\"BA\",IF('1B'!$H$17=9,\"MTK\",IF('1B'!$H$17=10,\"IPA\",IF('1B'!$H$17=11,\"IPS\",IF('1B'!$H$17=12,\"SBK\",IF('1B'!$H$17=13,\"PJK\",IF('1B'!$H$17=14,\"BD\",IF('1B'!$H$17=15,\"BIG\",IF('1B'!$H$17=16,\"AWJ\",IF('1B'!$H$17=17,\"NW\",IF('1B'!$H$17=18,\"SRF\",IF('1B'!$H$17=19,\"PG\",IF('1B'!$H$17=20,\"XTR\",””))))))))))))))))))))","v":{"$error":"#NAME?"}},{"$f":"IF('1C'!$H$17=1,\"TMTIK\",IF('1C'!$H$17=2,\"AA\",IF('1C'!$H$17=3,\"QH\",IF('1C'!$H$17=4,\"FQ\",IF('1C'!$H$17=5,\"SKI\",IF('1C'!$H$17=6,\"PKN\",IF('1C'!$H$17=7,\"BID\",IF('1C'!$H$17=8,\"BA\",IF('1C'!$H$17=9,\"MTK\",IF('1C'!$H$17=10,\"IPA\",IF('1C'!$H$17=11,\"IPS\",IF('1C'!$H$17=12,\"SBK\",IF('1C'!$H$17=13,\"PJK\",IF('1C'!$H$17=14,\"BD\",IF('1C'!$H$17=15,\"BIG\",IF('1C'!$H$17=16,\"AWJ\",IF('1C'!$H$17=17,\"NW\",IF('1C'!$H$17=18,\"SRF\",IF('1C'!$H$17=19,\"PG\",IF('1C'!$H$17=20,\"XTR\",””))))))))))))))))))))","v":{"$error":"#NAME?"}},{"$f":"IF('1A'!$J$17=1,\"TMTIK\",IF('1A'!$J$17=2,\"AA\",IF('1A'!$J$17=3,\"QH\",IF('1A'!$J$17=4,\"FQ\",IF('1A'!$J$17=5,\"SKI\",IF('1A'!$J$17=6,\"PKN\",IF('1A'!$J$17=7,\"BID\",IF('1A'!$J$17=8,\"BA\",IF('1A'!$J$17=9,\"MTK\",IF('1A'!$J$17=10,\"IPA\",IF('1A'!$J$17=11,\"IPS\",IF('1A'!$J$17=12,\"SBK\",IF('1A'!$J$17=13,\"PJK\",IF('1A'!$J$17=14,\"BD\",IF('1A'!$J$17=15,\"BIG\",IF('1A'!$J$17=16,\"AWJ\",IF('1A'!$J$17=17,\"NW\",IF('1A'!$J$17=18,\"SRF\",IF('1A'!$J$17=19,\"PG\",IF('1A'!$J$17=20,\"XTR\",””))))))))))))))))))))","v":{"$error":"#NAME?"}},{"$f":"IF('1B'!$J$17=1,\"TMTIK\",IF('1B'!$J$17=2,\"AA\",IF('1B'!$J$17=3,\"QH\",IF('1B'!$J$17=4,\"FQ\",IF('1B'!$J$17=5,\"SKI\",IF('1B'!$J$17=6,\"PKN\",IF('1B'!$J$17=7,\"BID\",IF('1B'!$J$17=8,\"BA\",IF('1B'!$J$17=9,\"MTK\",IF('1B'!$J$17=10,\"IPA\",IF('1B'!$J$17=11,\"IPS\",IF('1B'!$J$17=12,\"SBK\",IF('1B'!$J$17=13,\"PJK\",IF('1B'!$J$17=14,\"BD\",IF('1B'!$J$17=15,\"BIG\",IF('1B'!$J$17=16,\"AWJ\",IF('1B'!$J$17=17,\"NW\",IF('1B'!$J$17=18,\"SRF\",IF('1B'!$J$17=19,\"PG\",IF('1B'!$J$17=20,\"XTR\",””))))))))))))))))))))","v":{"$error":"#NAME?"}},{"$f":"IF('1C'!$J$17=1,\"TMTIK\",IF('1C'!$J$17=2,\"AA\",IF('1C'!$J$17=3,\"QH\",IF('1C'!$J$17=4,\"FQ\",IF('1C'!$J$17=5,\"SKI\",IF('1C'!$J$17=6,\"PKN\",IF('1C'!$J$17=7,\"BID\",IF('1C'!$J$17=8,\"BA\",IF('1C'!$J$17=9,\"MTK\",IF('1C'!$J$17=10,\"IPA\",IF('1C'!$J$17=11,\"IPS\",IF('1C'!$J$17=12,\"SBK\",IF('1C'!$J$17=13,\"PJK\",IF('1C'!$J$17=14,\"BD\",IF('1C'!$J$17=15,\"BIG\",IF('1C'!$J$17=16,\"AWJ\",IF('1C'!$J$17=17,\"NW\",IF('1C'!$J$17=18,\"SRF\",IF('1C'!$J$17=19,\"PG\",IF('1C'!$J$17=20,\"XTR\",””))))))))))))))))))))","v":{"$error":"#NAME?"}},{"$f":"IF('1A'!$N$17=1,\"TMTIK\",IF('1A'!$N$17=2,\"AA\",IF('1A'!$N$17=3,\"QH\",IF('1A'!$N$17=4,\"FQ\",IF('1A'!$N$17=5,\"SKI\",IF('1A'!$N$17=6,\"PKN\",IF('1A'!$N$17=7,\"BID\",IF('1A'!$N$17=8,\"BA\",IF('1A'!$N$17=9,\"MTK\",IF('1A'!$N$17=10,\"IPA\",IF('1A'!$N$17=11,\"IPS\",IF('1A'!$N$17=12,\"SBK\",IF('1A'!$N$17=13,\"PJK\",IF('1A'!$N$17=14,\"BD\",IF('1A'!$N$17=15,\"BIG\",IF('1A'!$N$17=16,\"AWJ\",IF('1A'!$N$17=17,\"NW\",IF('1A'!$N$17=18,\"SRF\",IF('1A'!$N$17=19,\"PG\",IF('1A'!$N$17=20,\"XTR\",””))))))))))))))))))))","v":{"$error":"#NAME?"}},{"$f":"IF('1B'!$N$17=1,\"TMTIK\",IF('1B'!$N$17=2,\"AA\",IF('1B'!$N$17=3,\"QH\",IF('1B'!$N$17=4,\"FQ\",IF('1B'!$N$17=5,\"SKI\",IF('1B'!$N$17=6,\"PKN\",IF('1B'!$N$17=7,\"BID\",IF('1B'!$N$17=8,\"BA\",IF('1B'!$N$17=9,\"MTK\",IF('1B'!$N$17=10,\"IPA\",IF('1B'!$N$17=11,\"IPS\",IF('1B'!$N$17=12,\"SBK\",IF('1B'!$N$17=13,\"PJK\",IF('1B'!$N$17=14,\"BD\",IF('1B'!$N$17=15,\"BIG\",IF('1B'!$N$17=16,\"AWJ\",IF('1B'!$N$17=17,\"NW\",IF('1B'!$N$17=18,\"SRF\",IF('1B'!$N$17=19,\"PG\",IF('1B'!$N$17=20,\"XTR\",””))))))))))))))))))))","v":{"$error":"#NAME?"}},{"$f":"IF('1C'!$N$17=1,\"TMTIK\",IF('1C'!$N$17=2,\"AA\",IF('1C'!$N$17=3,\"QH\",IF('1C'!$N$17=4,\"FQ\",IF('1C'!$N$17=5,\"SKI\",IF('1C'!$N$17=6,\"PKN\",IF('1C'!$N$17=7,\"BID\",IF('1C'!$N$17=8,\"BA\",IF('1C'!$N$17=9,\"MTK\",IF('1C'!$N$17=10,\"IPA\",IF('1C'!$N$17=11,\"IPS\",IF('1C'!$N$17=12,\"SBK\",IF('1C'!$N$17=13,\"PJK\",IF('1C'!$N$17=14,\"BD\",IF('1C'!$N$17=15,\"BIG\",IF('1C'!$N$17=16,\"AWJ\",IF('1C'!$N$17=17,\"NW\",IF('1C'!$N$17=18,\"SRF\",IF('1C'!$N$17=19,\"PG\",IF('1C'!$N$17=20,\"XTR\",””))))))))))))))))))))","v":{"$error":"#NAME?"}},null,null,null,17,9,"MTK"]
[8,{"$f":"IF('1A'!$D$18=1,\"TMTIK\",IF('1A'!$D$18=2,\"AA\",IF('1A'!$D$18=3,\"QH\",IF('1A'!$D$18=4,\"FQ\",IF('1A'!$D$18=5,\"SKI\",IF('1A'!$D$18=6,\"PKN\",IF('1A'!$D$18=7,\"BID\",IF('1A'!$D$18=8,\"BA\",IF('1A'!$D$18=9,\"MTK\",IF('1A'!$D$18=10,\"IPA\",IF('1A'!$D$18=11,\"IPS\",IF('1A'!$D$18=12,\"SBK\",IF('1A'!$D$18=13,\"PJK\",IF('1A'!$D$18=14,\"BD\",IF('1A'!$D$18=15,\"BIG\",IF('1A'!$D$18=16,\"AWJ\",IF('1A'!$D$18=17,\"NW\",IF('1A'!$D$18=18,\"SRF\",IF('1A'!$D$18=19,\"PG\",IF('1A'!$D$18=20,\"XTR\",””))))))))))))))))))))","v":{"$error":"#NAME?"}},{"$f":"IF('1B'!$D$18=1,\"TMTIK\",IF('1B'!$D$18=2,\"AA\",IF('1B'!$D$18=3,\"QH\",IF('1B'!$D$18=4,\"FQ\",IF('1B'!$D$18=5,\"SKI\",IF('1B'!$D$18=6,\"PKN\",IF('1B'!$D$18=7,\"BID\",IF('1B'!$D$18=8,\"BA\",IF('1B'!$D$18=9,\"MTK\",IF('1B'!$D$18=10,\"IPA\",IF('1B'!$D$18=11,\"IPS\",IF('1B'!$D$18=12,\"SBK\",IF('1B'!$D$18=13,\"PJK\",IF('1B'!$D$18=14,\"BD\",IF('1B'!$D$18=15,\"BIG\",IF('1B'!$D$18=16,\"AWJ\",IF('1B'!$D$18=17,\"NW\",IF('1B'!$D$18=18,\"SRF\",IF('1B'!$D$18=19,\"PG\",IF('1B'!$D$18=20,\"XTR\",””))))))))))))))))))))","v":{"$error":"#NAME?"}},{"$f":"IF('1C'!$D$18=1,\"TMTIK\",IF('1C'!$D$18=2,\"AA\",IF('1C'!$D$18=3,\"QH\",IF('1C'!$D$18=4,\"FQ\",IF('1C'!$D$18=5,\"SKI\",IF('1C'!$D$18=6,\"PKN\",IF('1C'!$D$18=7,\"BID\",IF('1C'!$D$18=8,\"BA\",IF('1C'!$D$18=9,\"MTK\",IF('1C'!$D$18=10,\"IPA\",IF('1C'!$D$18=11,\"IPS\",IF('1C'!$D$18=12,\"SBK\",IF('1C'!$D$18=13,\"PJK\",IF('1C'!$D$18=14,\"BD\",IF('1C'!$D$18=15,\"BIG\",IF('1C'!$D$18=16,\"AWJ\",IF('1C'!$D$18=17,\"NW\",IF('1C'!$D$18=18,\"SRF\",IF('1C'!$D$18=19,\"PG\",IF('1C'!$D$18=20,\"XTR\",””))))))))))))))))))))","v":{"$error":"#NAME?"}},{"$f":"IF('1A'!$F$18=1,\"TMTIK\",IF('1A'!$F$18=2,\"AA\",IF('1A'!$F$18=3,\"QH\",IF('1A'!$F$18=4,\"FQ\",IF('1A'!$F$18=5,\"SKI\",IF('1A'!$F$18=6,\"PKN\",IF('1A'!$F$18=7,\"BID\",IF('1A'!$F$18=8,\"BA\",IF('1A'!$F$18=9,\"MTK\",IF('1A'!$F$18=10,\"IPA\",IF('1A'!$F$18=11,\"IPS\",IF('1A'!$F$18=12,\"SBK\",IF('1A'!$F$18=13,\"PJK\",IF('1A'!$F$18=14,\"BD\",IF('1A'!$F$18=15,\"BIG\",IF('1A'!$F$18=16,\"AWJ\",IF('1A'!$F$18=17,\"NW\",IF('1A'!$F$18=18,\"SRF\",IF('1A'!$F$18=19,\"PG\",IF('1A'!$F$18=20,\"XTR\",””))))))))))))))))))))","v":{"$error":"#NAME?"}},{"$f":"IF('1B'!$F$18=1,\"TMTIK\",IF('1B'!$F$18=2,\"AA\",IF('1B'!$F$18=3,\"QH\",IF('1B'!$F$18=4,\"FQ\",IF('1B'!$F$18=5,\"SKI\",IF('1B'!$F$18=6,\"PKN\",IF('1B'!$F$18=7,\"BID\",IF('1B'!$F$18=8,\"BA\",IF('1B'!$F$18=9,\"MTK\",IF('1B'!$F$18=10,\"IPA\",IF('1B'!$F$18=11,\"IPS\",IF('1B'!$F$18=12,\"SBK\",IF('1B'!$F$18=13,\"PJK\",IF('1B'!$F$18=14,\"BD\",IF('1B'!$F$18=15,\"BIG\",IF('1B'!$F$18=16,\"AWJ\",IF('1B'!$F$18=17,\"NW\",IF('1B'!$F$18=18,\"SRF\",IF('1B'!$F$18=19,\"PG\",IF('1B'!$F$18=20,\"XTR\",””))))))))))))))))))))","v":{"$error":"#NAME?"}},{"$f":"IF('1C'!$F$18=1,\"TMTIK\",IF('1C'!$F$18=2,\"AA\",IF('1C'!$F$18=3,\"QH\",IF('1C'!$F$18=4,\"FQ\",IF('1C'!$F$18=5,\"SKI\",IF('1C'!$F$18=6,\"PKN\",IF('1C'!$F$18=7,\"BID\",IF('1C'!$F$18=8,\"BA\",IF('1C'!$F$18=9,\"MTK\",IF('1C'!$F$18=10,\"IPA\",IF('1C'!$F$18=11,\"IPS\",IF('1C'!$F$18=12,\"SBK\",IF('1C'!$F$18=13,\"PJK\",IF('1C'!$F$18=14,\"BD\",IF('1C'!$F$18=15,\"BIG\",IF('1C'!$F$18=16,\"AWJ\",IF('1C'!$F$18=17,\"NW\",IF('1C'!$F$18=18,\"SRF\",IF('1C'!$F$18=19,\"PG\",IF('1C'!$F$18=20,\"XTR\",””))))))))))))))))))))","v":{"$error":"#NAME?"}},{"$f":"IF('1A'!$H$18=1,\"TMTIK\",IF('1A'!$H$18=2,\"AA\",IF('1A'!$H$18=3,\"QH\",IF('1A'!$H$18=4,\"FQ\",IF('1A'!$H$18=5,\"SKI\",IF('1A'!$H$18=6,\"PKN\",IF('1A'!$H$18=7,\"BID\",IF('1A'!$H$18=8,\"BA\",IF('1A'!$H$18=9,\"MTK\",IF('1A'!$H$18=10,\"IPA\",IF('1A'!$H$18=11,\"IPS\",IF('1A'!$H$18=12,\"SBK\",IF('1A'!$H$18=13,\"PJK\",IF('1A'!$H$18=14,\"BD\",IF('1A'!$H$18=15,\"BIG\",IF('1A'!$H$18=16,\"AWJ\",IF('1A'!$H$18=17,\"NW\",IF('1A'!$H$18=18,\"SRF\",IF('1A'!$H$18=19,\"PG\",IF('1A'!$H$18=20,\"XTR\",””))))))))))))))))))))","v":{"$error":"#NAME?"}},{"$f":"IF('1B'!$H$18=1,\"TMTIK\",IF('1B'!$H$18=2,\"AA\",IF('1B'!$H$18=3,\"QH\",IF('1B'!$H$18=4,\"FQ\",IF('1B'!$H$18=5,\"SKI\",IF('1B'!$H$18=6,\"PKN\",IF('1B'!$H$18=7,\"BID\",IF('1B'!$H$18=8,\"BA\",IF('1B'!$H$18=9,\"MTK\",IF('1B'!$H$18=10,\"IPA\",IF('1B'!$H$18=11,\"IPS\",IF('1B'!$H$18=12,\"SBK\",IF('1B'!$H$18=13,\"PJK\",IF('1B'!$H$18=14,\"BD\",IF('1B'!$H$18=15,\"BIG\",IF('1B'!$H$18=16,\"AWJ\",IF('1B'!$H$18=17,\"NW\",IF('1B'!$H$18=18,\"SRF\",IF('1B'!$H$18=19,\"PG\",IF('1B'!$H$18=20,\"XTR\",””))))))))))))))))))))","v":{"$error":"#NAME?"}},{"$f":"IF('1C'!$H$18=1,\"TMTIK\",IF('1C'!$H$18=2,\"AA\",IF('1C'!$H$18=3,\"QH\",IF('1C'!$H$18=4,\"FQ\",IF('1C'!$H$18=5,\"SKI\",IF('1C'!$H$18=6,\"PKN\",IF('1C'!$H$18=7,\"BID\",IF('1C'!$H$18=8,\"BA\",IF('1C'!$H$18=9,\"MTK\",IF('1C'!$H$18=10,\"IPA\",IF('1C'!$H$18=11,\"IPS\",IF('1C'!$H$18=12,\"SBK\",IF('1C'!$H$18=13,\"PJK\",IF('1C'!$H$18=14,\"BD\",IF('1C'!$H$18=15,\"BIG\",IF('1C'!$H$18=16,\"AWJ\",IF('1C'!$H$18=17,\"NW\",IF('1C'!$H$18=18,\"SRF\",IF('1C'!$H$18=19,\"PG\",IF('1C'!$H$18=20,\"XTR\",””))))))))))))))))))))","v":{"$error":"#NAME?"}},{"$f":"IF('1A'!$J$18=1,\"TMTIK\",IF('1A'!$J$18=2,\"AA\",IF('1A'!$J$18=3,\"QH\",IF('1A'!$J$18=4,\"FQ\",IF('1A'!$J$18=5,\"SKI\",IF('1A'!$J$18=6,\"PKN\",IF('1A'!$J$18=7,\"BID\",IF('1A'!$J$18=8,\"BA\",IF('1A'!$J$18=9,\"MTK\",IF('1A'!$J$18=10,\"IPA\",IF('1A'!$J$18=11,\"IPS\",IF('1A'!$J$18=12,\"SBK\",IF('1A'!$J$18=13,\"PJK\",IF('1A'!$J$18=14,\"BD\",IF('1A'!$J$18=15,\"BIG\",IF('1A'!$J$18=16,\"AWJ\",IF('1A'!$J$18=17,\"NW\",IF('1A'!$J$18=18,\"SRF\",IF('1A'!$J$18=19,\"PG\",IF('1A'!$J$18=20,\"XTR\",””))))))))))))))))))))","v":{"$error":"#NAME?"}},{"$f":"IF('1B'!$J$18=1,\"TMTIK\",IF('1B'!$J$18=2,\"AA\",IF('1B'!$J$18=3,\"QH\",IF('1B'!$J$18=4,\"FQ\",IF('1B'!$J$18=5,\"SKI\",IF('1B'!$J$18=6,\"PKN\",IF('1B'!$J$18=7,\"BID\",IF('1B'!$J$18=8,\"BA\",IF('1B'!$J$18=9,\"MTK\",IF('1B'!$J$18=10,\"IPA\",IF('1B'!$J$18=11,\"IPS\",IF('1B'!$J$18=12,\"SBK\",IF('1B'!$J$18=13,\"PJK\",IF('1B'!$J$18=14,\"BD\",IF('1B'!$J$18=15,\"BIG\",IF('1B'!$J$18=16,\"AWJ\",IF('1B'!$J$18=17,\"NW\",IF('1B'!$J$18=18,\"SRF\",IF('1B'!$J$18=19,\"PG\",IF('1B'!$J$18=20,\"XTR\",””))))))))))))))))))))","v":{"$error":"#NAME?"}},{"$f":"IF('1C'!$J$18=1,\"TMTIK\",IF('1C'!$J$18=2,\"AA\",IF('1C'!$J$18=3,\"QH\",IF('1C'!$J$18=4,\"FQ\",IF('1C'!$J$18=5,\"SKI\",IF('1C'!$J$18=6,\"PKN\",IF('1C'!$J$18=7,\"BID\",IF('1C'!$J$18=8,\"BA\",IF('1C'!$J$18=9,\"MTK\",IF('1C'!$J$18=10,\"IPA\",IF('1C'!$J$18=11,\"IPS\",IF('1C'!$J$18=12,\"SBK\",IF('1C'!$J$18=13,\"PJK\",IF('1C'!$J$18=14,\"BD\",IF('1C'!$J$18=15,\"BIG\",IF('1C'!$J$18=16,\"AWJ\",IF('1C'!$J$18=17,\"NW\",IF('1C'!$J$18=18,\"SRF\",IF('1C'!$J$18=19,\"PG\",IF('1C'!$J$18=20,\"XTR\",””))))))))))))))))))))","v":{"$error":"#NAME?"}},{"$f":"IF('1A'!$N$18=1,\"TMTIK\",IF('1A'!$N$18=2,\"AA\",IF('1A'!$N$18=3,\"QH\",IF('1A'!$N$18=4,\"FQ\",IF('1A'!$N$18=5,\"SKI\",IF('1A'!$N$18=6,\"PKN\",IF('1A'!$N$18=7,\"BID\",IF('1A'!$N$18=8,\"BA\",IF('1A'!$N$18=9,\"MTK\",IF('1A'!$N$18=10,\"IPA\",IF('1A'!$N$18=11,\"IPS\",IF('1A'!$N$18=12,\"SBK\",IF('1A'!$N$18=13,\"PJK\",IF('1A'!$N$18=14,\"BD\",IF('1A'!$N$18=15,\"BIG\",IF('1A'!$N$18=16,\"AWJ\",IF('1A'!$N$18=17,\"NW\",IF('1A'!$N$18=18,\"SRF\",IF('1A'!$N$18=19,\"PG\",IF('1A'!$N$18=20,\"XTR\",””))))))))))))))))))))","v":{"$error":"#NAME?"}},{"$f":"IF('1B'!$N$18=1,\"TMTIK\",IF('1B'!$N$18=2,\"AA\",IF('1B'!$N$18=3,\"QH\",IF('1B'!$N$18=4,\"FQ\",IF('1B'!$N$18=5,\"SKI\",IF('1B'!$N$18=6,\"PKN\",IF('1B'!$N$18=7,\"BID\",IF('1B'!$N$18=8,\"BA\",IF('1B'!$N$18=9,\"MTK\",IF('1B'!$N$18=10,\"IPA\",IF('1B'!$N$18=11,\"IPS\",IF('1B'!$N$18=12,\"SBK\",IF('1B'!$N$18=13,\"PJK\",IF('1B'!$N$18=14,\"BD\",IF('1B'!$N$18=15,\"BIG\",IF('1B'!$N$18=16,\"AWJ\",IF('1B'!$N$18=17,\"NW\",IF('1B'!$N$18=18,\"SRF\",IF('1B'!$N$18=19,\"PG\",IF('1B'!$N$18=20,\"XTR\",””))))))))))))))))))))","v":{"$error":"#NAME?"}},{"$f":"IF('1C'!$N$18=1,\"TMTIK\",IF('1C'!$N$18=2,\"AA\",IF('1C'!$N$18=3,\"QH\",IF('1C'!$N$18=4,\"FQ\",IF('1C'!$N$18=5,\"SKI\",IF('1C'!$N$18=6,\"PKN\",IF('1C'!$N$18=7,\"BID\",IF('1C'!$N$18=8,\"BA\",IF('1C'!$N$18=9,\"MTK\",IF('1C'!$N$18=10,\"IPA\",IF('1C'!$N$18=11,\"IPS\",IF('1C'!$N$18=12,\"SBK\",IF('1C'!$N$18=13,\"PJK\",IF('1C'!$N$18=14,\"BD\",IF('1C'!$N$18=15,\"BIG\",IF('1C'!$N$18=16,\"AWJ\",IF('1C'!$N$18=17,\"NW\",IF('1C'!$N$18=18,\"SRF\",IF('1C'!$N$18=19,\"PG\",IF('1C'!$N$18=20,\"XTR\",””))))))))))))))))))))","v":{"$error":"#NAME?"}},null,null,null,18,10,"IPA"]
[null,null,null,null,null,null,null,null,null,null,null,null,null,null,null,null,null,null,null,null,11,"IPS"]
["NO","KELAS 2",null,null,null,null,null,null,null,null,null,null,null,null,null,null,null,null,null,null,12,"SBK"]
[null,"SENIN",null,null,"SELASA",null,null,"RABU",null,null,"KAMIS",null,null,"JUMAT",null,null,"SABTU",null,null,null,13,"PJK"]
[null,"A","B","C","A","B","C","A","B","C","A","B","C","A","B","C","A","B","C",null,14,"BD"]
[1,{"$f":"IF('2A'!$D$9=1,\"TMTIK\",IF('2A'!$D$9=2,\"AA\",IF('2A'!$D$9=3,\"QH\",IF('2A'!$D$9=4,\"FQ\",IF('2A'!$D$9=5,\"SKI\",IF('2A'!$D$9=6,\"PKN\",IF('2A'!$D$9=7,\"BID\",IF('2A'!$D$9=8,\"BA\",IF('2A'!$D$9=9,\"MTK\",IF('2A'!$D$9=10,\"IPA\",IF('2A'!$D$9=11,\"IPS\",IF('2A'!$D$9=12,\"SBK\",IF('2A'!$D$9=13,\"PJK\",IF('2A'!$D$9=14,\"BD\",IF('2A'!$D$9=15,\"BIG\",IF('2A'!$D$9=16,\"AWJ\",IF('2A'!$D$9=17,\"NW\",IF('2A'!$D$9=18,\"SRF\",IF('2A'!$D$9=19,\"PG\",IF('2A'!$D$9=20,\"XTR\",””))))))))))))))))))))","v":{"$error":"#NAME?"}},{"$f":"IF('2B'!$D$9=1,\"TMTIK\",IF('2B'!$D$9=2,\"AA\",IF('2B'!$D$9=3,\"QH\",IF('2B'!$D$9=4,\"FQ\",IF('2B'!$D$9=5,\"SKI\",IF('2B'!$D$9=6,\"PKN\",IF('2B'!$D$9=7,\"BID\",IF('2B'!$D$9=8,\"BA\",IF('2B'!$D$9=9,\"MTK\",IF('2B'!$D$9=10,\"IPA\",IF('2B'!$D$9=11,\"IPS\",IF('2B'!$D$9=12,\"SBK\",IF('2B'!$D$9=13,\"PJK\",IF('2B'!$D$9=14,\"BD\",IF('2B'!$D$9=15,\"BIG\",IF('2B'!$D$9=16,\"AWJ\",IF('2B'!$D$9=17,\"NW\",IF('2B'!$D$9=18,\"SRF\",IF('2B'!$D$9=19,\"PG\",IF('2B'!$D$9=20,\"XTR\",””))))))))))))))))))))","v":{"$error":"#NAME?"}},{"$f":"IF('2C'!$D$9=1,\"TMTIK\",IF('2C'!$D$9=2,\"AA\",IF('2C'!$D$9=3,\"QH\",IF('2C'!$D$9=4,\"FQ\",IF('2C'!$D$9=5,\"SKI\",IF('2C'!$D$9=6,\"PKN\",IF('2C'!$D$9=7,\"BID\",IF('2C'!$D$9=8,\"BA\",IF('2C'!$D$9=9,\"MTK\",IF('2C'!$D$9=10,\"IPA\",IF('2C'!$D$9=11,\"IPS\",IF('2C'!$D$9=12,\"SBK\",IF('2C'!$D$9=13,\"PJK\",IF('2C'!$D$9=14,\"BD\",IF('2C'!$D$9=15,\"BIG\",IF('2C'!$D$9=16,\"AWJ\",IF('2C'!$D$9=17,\"NW\",IF('2C'!$D$9=18,\"SRF\",IF('2C'!$D$9=19,\"PG\",IF('2C'!$D$9=20,\"XTR\",””))))))))))))))))))))","v":{"$error":"#NAME?"}},{"$f":"IF('2A'!$F$9=1,\"TMTIK\",IF('2A'!$F$9=2,\"AA\",IF('2A'!$F$9=3,\"QH\",IF('2A'!$F$9=4,\"FQ\",IF('2A'!$F$9=5,\"SKI\",IF('2A'!$F$9=6,\"PKN\",IF('2A'!$F$9=7,\"BID\",IF('2A'!$F$9=8,\"BA\",IF('2A'!$F$9=9,\"MTK\",IF('2A'!$F$9=10,\"IPA\",IF('2A'!$F$9=11,\"IPS\",IF('2A'!$F$9=12,\"SBK\",IF('2A'!$F$9=13,\"PJK\",IF('2A'!$F$9=14,\"BD\",IF('2A'!$F$9=15,\"BIG\",IF('2A'!$F$9=16,\"AWJ\",IF('2A'!$F$9=17,\"NW\",IF('2A'!$F$9=18,\"SRF\",IF('2A'!$F$9=19,\"PG\",IF('2A'!$F$9=20,\"XTR\",””))))))))))))))))))))","v":{"$error":"#NAME?"}},{"$f":"IF('2B'!$F$9=1,\"TMTIK\",IF('2B'!$F$9=2,\"AA\",IF('2B'!$F$9=3,\"QH\",IF('2B'!$F$9=4,\"FQ\",IF('2B'!$F$9=5,\"SKI\",IF('2B'!$F$9=6,\"PKN\",IF('2B'!$F$9=7,\"BID\",IF('2B'!$F$9=8,\"BA\",IF('2B'!$F$9=9,\"MTK\",IF('2B'!$F$9=10,\"IPA\",IF('2B'!$F$9=11,\"IPS\",IF('2B'!$F$9=12,\"SBK\",IF('2B'!$F$9=13,\"PJK\",IF('2B'!$F$9=14,\"BD\",IF('2B'!$F$9=15,\"BIG\",IF('2B'!$F$9=16,\"AWJ\",IF('2B'!$F$9=17,\"NW\",IF('2B'!$F$9=18,\"SRF\",IF('2B'!$F$9=19,\"PG\",IF('2B'!$F$9=20,\"XTR\",””))))))))))))))))))))","v":{"$error":"#NAME?"}},{"$f":"IF('2C'!$F$9=1,\"TMTIK\",IF('2C'!$F$9=2,\"AA\",IF('2C'!$F$9=3,\"QH\",IF('2C'!$F$9=4,\"FQ\",IF('2C'!$F$9=5,\"SKI\",IF('2C'!$F$9=6,\"PKN\",IF('2C'!$F$9=7,\"BID\",IF('2C'!$F$9=8,\"BA\",IF('2C'!$F$9=9,\"MTK\",IF('2C'!$F$9=10,\"IPA\",IF('2C'!$F$9=11,\"IPS\",IF('2C'!$F$9=12,\"SBK\",IF('2C'!$F$9=13,\"PJK\",IF('2C'!$F$9=14,\"BD\",IF('2C'!$F$9=15,\"BIG\",IF('2C'!$F$9=16,\"AWJ\",IF('2C'!$F$9=17,\"NW\",IF('2C'!$F$9=18,\"SRF\",IF('2C'!$F$9=19,\"PG\",IF('2C'!$F$9=20,\"XTR\",””))))))))))))))))))))","v":{"$error":"#NAME?"}},{"$f":"IF('2A'!$H$9=1,\"TMTIK\",IF('2A'!$H$9=2,\"AA\",IF('2A'!$H$9=3,\"QH\",IF('2A'!$H$9=4,\"FQ\",IF('2A'!$H$9=5,\"SKI\",IF('2A'!$H$9=6,\"PKN\",IF('2A'!$H$9=7,\"BID\",IF('2A'!$H$9=8,\"BA\",IF('2A'!$H$9=9,\"MTK\",IF('2A'!$H$9=10,\"IPA\",IF('2A'!$H$9=11,\"IPS\",IF('2A'!$H$9=12,\"SBK\",IF('2A'!$H$9=13,\"PJK\",IF('2A'!$H$9=14,\"BD\",IF('2A'!$H$9=15,\"BIG\",IF('2A'!$H$9=16,\"AWJ\",IF('2A'!$H$9=17,\"NW\",IF('2A'!$H$9=18,\"SRF\",IF('2A'!$H$9=19,\"PG\",IF('2A'!$H$9=20,\"XTR\",””))))))))))))))))))))","v":{"$error":"#NAME?"}},{"$f":"IF('2B'!$H$9=1,\"TMTIK\",IF('2B'!$H$9=2,\"AA\",IF('2B'!$H$9=3,\"QH\",IF('2B'!$H$9=4,\"FQ\",IF('2B'!$H$9=5,\"SKI\",IF('2B'!$H$9=6,\"PKN\",IF('2B'!$H$9=7,\"BID\",IF('2B'!$H$9=8,\"BA\",IF('2B'!$H$9=9,\"MTK\",IF('2B'!$H$9=10,\"IPA\",IF('2B'!$H$9=11,\"IPS\",IF('2B'!$H$9=12,\"SBK\",IF('2B'!$H$9=13,\"PJK\",IF('2B'!$H$9=14,\"BD\",IF('2B'!$H$9=15,\"BIG\",IF('2B'!$H$9=16,\"AWJ\",IF('2B'!$H$9=17,\"NW\",IF('2B'!$H$9=18,\"SRF\",IF('2B'!$H$9=19,\"PG\",IF('2B'!$H$9=20,\"XTR\",””))))))))))))))))))))","v":{"$error":"#NAME?"}},{"$f":"IF('2C'!$H$9=1,\"TMTIK\",IF('2C'!$H$9=2,\"AA\",IF('2C'!$H$9=3,\"QH\",IF('2C'!$H$9=4,\"FQ\",IF('2C'!$H$9=5,\"SKI\",IF('2C'!$H$9=6,\"PKN\",IF('2C'!$H$9=7,\"BID\",IF('2C'!$H$9=8,\"BA\",IF('2C'!$H$9=9,\"MTK\",IF('2C'!$H$9=10,\"IPA\",IF('2C'!$H$9=11,\"IPS\",IF('2C'!$H$9=12,\"SBK\",IF('2C'!$H$9=13,\"PJK\",IF('2C'!$H$9=14,\"BD\",IF('2C'!$H$9=15,\"BIG\",IF('2C'!$H$9=16,\"AWJ\",IF('2C'!$H$9=17,\"NW\",IF('2C'!$H$9=18,\"SRF\",IF('2C'!$H$9=19,\"PG\",IF('2C'!$H$9=20,\"XTR\",””))))))))))))))))))))","v":{"$error":"#NAME?"}},{"$f":"IF('2A'!$J$9=1,\"TMTIK\",IF('2A'!$J$9=2,\"AA\",IF('2A'!$J$9=3,\"QH\",IF('2A'!$J$9=4,\"FQ\",IF('2A'!$J$9=5,\"SKI\",IF('2A'!$J$9=6,\"PKN\",IF('2A'!$J$9=7,\"BID\",IF('2A'!$J$9=8,\"BA\",IF('2A'!$J$9=9,\"MTK\",IF('2A'!$J$9=10,\"IPA\",IF('2A'!$J$9=11,\"IPS\",IF('2A'!$J$9=12,\"SBK\",IF('2A'!$J$9=13,\"PJK\",IF('2A'!$J$9=14,\"BD\",IF('2A'!$J$9=15,\"BIG\",IF('2A'!$J$9=16,\"AWJ\",IF('2A'!$J$9=17,\"NW\",IF('2A'!$J$9=18,\"SRF\",IF('2A'!$J$9=19,\"PG\",IF('2A'!$J$9=20,\"XTR\",””))))))))))))))))))))","v":{"$error":"#NAME?"}},{"$f":"IF('2B'!$J$9=1,\"TMTIK\",IF('2B'!$J$9=2,\"AA\",IF('2B'!$J$9=3,\"QH\",IF('2B'!$J$9=4,\"FQ\",IF('2B'!$J$9=5,\"SKI\",IF('2B'!$J$9=6,\"PKN\",IF('2B'!$J$9=7,\"BID\",IF('2B'!$J$9=8,\"BA\",IF('2B'!$J$9=9,\"MTK\",IF('2B'!$J$9=10,\"IPA\",IF('2B'!$J$9=11,\"IPS\",IF('2B'!$J$9=12,\"SBK\",IF('2B'!$J$9=13,\"PJK\",IF('2B'!$J$9=14,\"BD\",IF('2B'!$J$9=15,\"BIG\",IF('2B'!$J$9=16,\"AWJ\",IF('2B'!$J$9=17,\"NW\",IF('2B'!$J$9=18,\"SRF\",IF('2B'!$J$9=19,\"PG\",IF('2B'!$J$9=20,\"XTR\",””))))))))))))))))))))","v":{"$error":"#NAME?"}},{"$f":"IF('2C'!$J$9=1,\"TMTIK\",IF('2C'!$J$9=2,\"AA\",IF('2C'!$J$9=3,\"QH\",IF('2C'!$J$9=4,\"FQ\",IF('2C'!$J$9=5,\"SKI\",IF('2C'!$J$9=6,\"PKN\",IF('2C'!$J$9=7,\"BID\",IF('2C'!$J$9=8,\"BA\",IF('2C'!$J$9=9,\"MTK\",IF('2C'!$J$9=10,\"IPA\",IF('2C'!$J$9=11,\"IPS\",IF('2C'!$J$9=12,\"SBK\",IF('2C'!$J$9=13,\"PJK\",IF('2C'!$J$9=14,\"BD\",IF('2C'!$J$9=15,\"BIG\",IF('2C'!$J$9=16,\"AWJ\",IF('2C'!$J$9=17,\"NW\",IF('2C'!$J$9=18,\"SRF\",IF('2C'!$J$9=19,\"PG\",IF('2C'!$J$9=20,\"XTR\",””))))))))))))))))))))","v":{"$error":"#NAME?"}},{"$f":"IF('2A'!$N$9=1,\"TMTIK\",IF('2A'!$N$9=2,\"AA\",IF('2A'!$N$9=3,\"QH\",IF('2A'!$N$9=4,\"FQ\",IF('2A'!$N$9=5,\"SKI\",IF('2A'!$N$9=6,\"PKN\",IF('2A'!$N$9=7,\"BID\",IF('2A'!$N$9=8,\"BA\",IF('2A'!$N$9=9,\"MTK\",IF('2A'!$N$9=10,\"IPA\",IF('2A'!$N$9=11,\"IPS\",IF('2A'!$N$9=12,\"SBK\",IF('2A'!$N$9=13,\"PJK\",IF('2A'!$N$9=14,\"BD\",IF('2A'!$N$9=15,\"BIG\",IF('2A'!$N$9=16,\"AWJ\",IF('2A'!$N$9=17,\"NW\",IF('2A'!$N$9=18,\"SRF\",IF('2A'!$N$9=19,\"PG\",IF('2A'!$N$9=20,\"XTR\",””))))))))))))))))))))","v":{"$error":"#NAME?"}},{"$f":"IF('2B'!$N$9=1,\"TMTIK\",IF('2B'!$N$9=2,\"AA\",IF('2B'!$N$9=3,\"QH\",IF('2B'!$N$9=4,\"FQ\",IF('2B'!$N$9=5,\"SKI\",IF('2B'!$N$9=6,\"PKN\",IF('2B'!$N$9=7,\"BID\",IF('2B'!$N$9=8,\"BA\",IF('2B'!$N$9=9,\"MTK\",IF('2B'!$N$9=10,\"IPA\",IF('2B'!$N$9=11,\"IPS\",IF('2B'!$N$9=12,\"SBK\",IF('2B'!$N$9=13,\"PJK\",IF('2B'!$N$9=14,\"BD\",IF('2B'!$N$9=15,\"BIG\",IF('2B'!$N$9=16,\"AWJ\",IF('2B'!$N$9=17,\"NW\",IF('2B'!$N$9=18,\"SRF\",IF('2B'!$N$9=19,\"PG\",IF('2B'!$N$9=20,\"XTR\",””))))))))))))))))))))","v":{"$error":"#NAME?"}},{"$f":"IF('2C'!$N$9=1,\"TMTIK\",IF('2C'!$N$9=2,\"AA\",IF('2C'!$N$9=3,\"QH\",IF('2C'!$N$9=4,\"FQ\",IF('2C'!$N$9=5,\"SKI\",IF('2C'!$N$9=6,\"PKN\",IF('2C'!$N$9=7,\"BID\",IF('2C'!$N$9=8,\"BA\",IF('2C'!$N$9=9,\"MTK\",IF('2C'!$N$9=10,\"IPA\",IF('2C'!$N$9=11,\"IPS\",IF('2C'!$N$9=12,\"SBK\",IF('2C'!$N$9=13,\"PJK\",IF('2C'!$N$9=14,\"BD\",IF('2C'!$N$9=15,\"BIG\",IF('2C'!$N$9=16,\"AWJ\",IF('2C'!$N$9=17,\"NW\",IF('2C'!$N$9=18,\"SRF\",IF('2C'!$N$9=19,\"PG\",IF('2C'!$N$9=20,\"XTR\",””))))))))))))))))))))","v":{"$error":"#NAME?"}},{"$f":"IF('2A'!$D$22=1,\"TMTIK\",IF('2A'!$D$22=2,\"AA\",IF('2A'!$D$22=3,\"QH\",IF('2A'!$D$22=4,\"FQ\",IF('2A'!$D$22=5,\"SKI\",IF('2A'!$D$22=6,\"PKN\",IF('2A'!$D$22=7,\"BID\",IF('2A'!$D$22=8,\"BA\",IF('2A'!$D$22=9,\"MTK\",IF('2A'!$D$22=10,\"IPA\",IF('2A'!$D$22=11,\"IPS\",IF('2A'!$D$22=12,\"SBK\",IF('2A'!$D$22=13,\"PJK\",IF('2A'!$D$22=14,\"BD\",IF('2A'!$D$22=15,\"BIG\",IF('2A'!$D$22=16,\"AWJ\",IF('2A'!$D$22=17,\"NW\",IF('2A'!$D$22=18,\"SRF\",IF('2A'!$D$22=19,\"PG\",IF('2A'!$D$22=20,\"XTR\",””))))))))))))))))))))","v":{"$error":"#NAME?"}},{"$f":"IF('2B'!$D$22=1,\"TMTIK\",IF('2B'!$D$22=2,\"AA\",IF('2B'!$D$22=3,\"QH\",IF('2B'!$D$22=4,\"FQ\",IF('2B'!$D$22=5,\"SKI\",IF('2B'!$D$22=6,\"PKN\",IF('2B'!$D$22=7,\"BID\",IF('2B'!$D$22=8,\"BA\",IF('2B'!$D$22=9,\"MTK\",IF('2B'!$D$22=10,\"IPA\",IF('2B'!$D$22=11,\"IPS\",IF('2B'!$D$22=12,\"SBK\",IF('2B'!$D$22=13,\"PJK\",IF('2B'!$D$22=14,\"BD\",IF('2B'!$D$22=15,\"BIG\",IF('2B'!$D$22=16,\"AWJ\",IF('2B'!$D$22=17,\"NW\",IF('2B'!$D$22=18,\"SRF\",IF('2B'!$D$22=19,\"PG\",IF('2B'!$D$22=20,\"XTR\",””))))))))))))))))))))","v":{"$error":"#NAME?"}},{"$f":"IF('2C'!$D$22=1,\"TMTIK\",IF('2C'!$D$22=2,\"AA\",IF('2C'!$D$22=3,\"QH\",IF('2C'!$D$22=4,\"FQ\",IF('2C'!$D$22=5,\"SKI\",IF('2C'!$D$22=6,\"PKN\",IF('2C'!$D$22=7,\"BID\",IF('2C'!$D$22=8,\"BA\",IF('2C'!$D$22=9,\"MTK\",IF('2C'!$D$22=10,\"IPA\",IF('2C'!$D$22=11,\"IPS\",IF('2C'!$D$22=12,\"SBK\",IF('2C'!$D$22=13,\"PJK\",IF('2C'!$D$22=14,\"BD\",IF('2C'!$D$22=15,\"BIG\",IF('2C'!$D$22=16,\"AWJ\",IF('2C'!$D$22=17,\"NW\",IF('2C'!$D$22=18,\"SRF\",IF('2C'!$D$22=19,\"PG\",IF('2C'!$D$22=20,\"XTR\",””))))))))))))))))))))","v":{"$error":"#NAME?"}},9,15,"BIG"]
[2,{"$f":"IF('2A'!$D$10=1,\"TMTIK\",IF('2A'!$D$10=2,\"AA\",IF('2A'!$D$10=3,\"QH\",IF('2A'!$D$10=4,\"FQ\",IF('2A'!$D$10=5,\"SKI\",IF('2A'!$D$10=6,\"PKN\",IF('2A'!$D$10=7,\"BID\",IF('2A'!$D$10=8,\"BA\",IF('2A'!$D$10=9,\"MTK\",IF('2A'!$D$10=10,\"IPA\",IF('2A'!$D$10=11,\"IPS\",IF('2A'!$D$10=12,\"SBK\",IF('2A'!$D$10=13,\"PJK\",IF('2A'!$D$10=14,\"BD\",IF('2A'!$D$10=15,\"BIG\",IF('2A'!$D$10=16,\"AWJ\",IF('2A'!$D$10=17,\"NW\",IF('2A'!$D$10=18,\"SRF\",IF('2A'!$D$10=19,\"PG\",IF('2A'!$D$10=20,\"XTR\",””))))))))))))))))))))","v":{"$error":"#NAME?"}},{"$f":"IF('2B'!$D$10=1,\"TMTIK\",IF('2B'!$D$10=2,\"AA\",IF('2B'!$D$10=3,\"QH\",IF('2B'!$D$10=4,\"FQ\",IF('2B'!$D$10=5,\"SKI\",IF('2B'!$D$10=6,\"PKN\",IF('2B'!$D$10=7,\"BID\",IF('2B'!$D$10=8,\"BA\",IF('2B'!$D$10=9,\"MTK\",IF('2B'!$D$10=10,\"IPA\",IF('2B'!$D$10=11,\"IPS\",IF('2B'!$D$10=12,\"SBK\",IF('2B'!$D$10=13,\"PJK\",IF('2B'!$D$10=14,\"BD\",IF('2B'!$D$10=15,\"BIG\",IF('2B'!$D$10=16,\"AWJ\",IF('2B'!$D$10=17,\"NW\",IF('2B'!$D$10=18,\"SRF\",IF('2B'!$D$10=19,\"PG\",IF('2B'!$D$10=20,\"XTR\",””))))))))))))))))))))","v":{"$error":"#NAME?"}},{"$f":"IF('2C'!$D$10=1,\"TMTIK\",IF('2C'!$D$10=2,\"AA\",IF('2C'!$D$10=3,\"QH\",IF('2C'!$D$10=4,\"FQ\",IF('2C'!$D$10=5,\"SKI\",IF('2C'!$D$10=6,\"PKN\",IF('2C'!$D$10=7,\"BID\",IF('2C'!$D$10=8,\"BA\",IF('2C'!$D$10=9,\"MTK\",IF('2C'!$D$10=10,\"IPA\",IF('2C'!$D$10=11,\"IPS\",IF('2C'!$D$10=12,\"SBK\",IF('2C'!$D$10=13,\"PJK\",IF('2C'!$D$10=14,\"BD\",IF('2C'!$D$10=15,\"BIG\",IF('2C'!$D$10=16,\"AWJ\",IF('2C'!$D$10=17,\"NW\",IF('2C'!$D$10=18,\"SRF\",IF('2C'!$D$10=19,\"PG\",IF('2C'!$D$10=20,\"XTR\",””))))))))))))))))))))","v":{"$error":"#NAME?"}},{"$f":"IF('2A'!$F$10=1,\"TMTIK\",IF('2A'!$F$10=2,\"AA\",IF('2A'!$F$10=3,\"QH\",IF('2A'!$F$10=4,\"FQ\",IF('2A'!$F$10=5,\"SKI\",IF('2A'!$F$10=6,\"PKN\",IF('2A'!$F$10=7,\"BID\",IF('2A'!$F$10=8,\"BA\",IF('2A'!$F$10=9,\"MTK\",IF('2A'!$F$10=10,\"IPA\",IF('2A'!$F$10=11,\"IPS\",IF('2A'!$F$10=12,\"SBK\",IF('2A'!$F$10=13,\"PJK\",IF('2A'!$F$10=14,\"BD\",IF('2A'!$F$10=15,\"BIG\",IF('2A'!$F$10=16,\"AWJ\",IF('2A'!$F$10=17,\"NW\",IF('2A'!$F$10=18,\"SRF\",IF('2A'!$F$10=19,\"PG\",IF('2A'!$F$10=20,\"XTR\",””))))))))))))))))))))","v":{"$error":"#NAME?"}},{"$f":"IF('2B'!$F$10=1,\"TMTIK\",IF('2B'!$F$10=2,\"AA\",IF('2B'!$F$10=3,\"QH\",IF('2B'!$F$10=4,\"FQ\",IF('2B'!$F$10=5,\"SKI\",IF('2B'!$F$10=6,\"PKN\",IF('2B'!$F$10=7,\"BID\",IF('2B'!$F$10=8,\"BA\",IF('2B'!$F$10=9,\"MTK\",IF('2B'!$F$10=10,\"IPA\",IF('2B'!$F$10=11,\"IPS\",IF('2B'!$F$10=12,\"SBK\",IF('2B'!$F$10=13,\"PJK\",IF('2B'!$F$10=14,\"BD\",IF('2B'!$F$10=15,\"BIG\",IF('2B'!$F$10=16,\"AWJ\",IF('2B'!$F$10=17,\"NW\",IF('2B'!$F$10=18,\"SRF\",IF('2B'!$F$10=19,\"PG\",IF('2B'!$F$10=20,\"XTR\",””))))))))))))))))))))","v":{"$error":"#NAME?"}},{"$f":"IF('2C'!$F$10=1,\"TMTIK\",IF('2C'!$F$10=2,\"AA\",IF('2C'!$F$10=3,\"QH\",IF('2C'!$F$10=4,\"FQ\",IF('2C'!$F$10=5,\"SKI\",IF('2C'!$F$10=6,\"PKN\",IF('2C'!$F$10=7,\"BID\",IF('2C'!$F$10=8,\"BA\",IF('2C'!$F$10=9,\"MTK\",IF('2C'!$F$10=10,\"IPA\",IF('2C'!$F$10=11,\"IPS\",IF('2C'!$F$10=12,\"SBK\",IF('2C'!$F$10=13,\"PJK\",IF('2C'!$F$10=14,\"BD\",IF('2C'!$F$10=15,\"BIG\",IF('2C'!$F$10=16,\"AWJ\",IF('2C'!$F$10=17,\"NW\",IF('2C'!$F$10=18,\"SRF\",IF('2C'!$F$10=19,\"PG\",IF('2C'!$F$10=20,\"XTR\",””))))))))))))))))))))","v":{"$error":"#NAME?"}},{"$f":"IF('2A'!$H$10=1,\"TMTIK\",IF('2A'!$H$10=2,\"AA\",IF('2A'!$H$10=3,\"QH\",IF('2A'!$H$10=4,\"FQ\",IF('2A'!$H$10=5,\"SKI\",IF('2A'!$H$10=6,\"PKN\",IF('2A'!$H$10=7,\"BID\",IF('2A'!$H$10=8,\"BA\",IF('2A'!$H$10=9,\"MTK\",IF('2A'!$H$10=10,\"IPA\",IF('2A'!$H$10=11,\"IPS\",IF('2A'!$H$10=12,\"SBK\",IF('2A'!$H$10=13,\"PJK\",IF('2A'!$H$10=14,\"BD\",IF('2A'!$H$10=15,\"BIG\",IF('2A'!$H$10=16,\"AWJ\",IF('2A'!$H$10=17,\"NW\",IF('2A'!$H$10=18,\"SRF\",IF('2A'!$H$10=19,\"PG\",IF('2A'!$H$10=20,\"XTR\",””))))))))))))))))))))","v":{"$error":"#NAME?"}},{"$f":"IF('2B'!$H$10=1,\"TMTIK\",IF('2B'!$H$10=2,\"AA\",IF('2B'!$H$10=3,\"QH\",IF('2B'!$H$10=4,\"FQ\",IF('2B'!$H$10=5,\"SKI\",IF('2B'!$H$10=6,\"PKN\",IF('2B'!$H$10=7,\"BID\",IF('2B'!$H$10=8,\"BA\",IF('2B'!$H$10=9,\"MTK\",IF('2B'!$H$10=10,\"IPA\",IF('2B'!$H$10=11,\"IPS\",IF('2B'!$H$10=12,\"SBK\",IF('2B'!$H$10=13,\"PJK\",IF('2B'!$H$10=14,\"BD\",IF('2B'!$H$10=15,\"BIG\",IF('2B'!$H$10=16,\"AWJ\",IF('2B'!$H$10=17,\"NW\",IF('2B'!$H$10=18,\"SRF\",IF('2B'!$H$10=19,\"PG\",IF('2B'!$H$10=20,\"XTR\",””))))))))))))))))))))","v":{"$error":"#NAME?"}},{"$f":"IF('2C'!$H$10=1,\"TMTIK\",IF('2C'!$H$10=2,\"AA\",IF('2C'!$H$10=3,\"QH\",IF('2C'!$H$10=4,\"FQ\",IF('2C'!$H$10=5,\"SKI\",IF('2C'!$H$10=6,\"PKN\",IF('2C'!$H$10=7,\"BID\",IF('2C'!$H$10=8,\"BA\",IF('2C'!$H$10=9,\"MTK\",IF('2C'!$H$10=10,\"IPA\",IF('2C'!$H$10=11,\"IPS\",IF('2C'!$H$10=12,\"SBK\",IF('2C'!$H$10=13,\"PJK\",IF('2C'!$H$10=14,\"BD\",IF('2C'!$H$10=15,\"BIG\",IF('2C'!$H$10=16,\"AWJ\",IF('2C'!$H$10=17,\"NW\",IF('2C'!$H$10=18,\"SRF\",IF('2C'!$H$10=19,\"PG\",IF('2C'!$H$10=20,\"XTR\",””))))))))))))))))))))","v":{"$error":"#NAME?"}},{"$f":"IF('2A'!$J$10=1,\"TMTIK\",IF('2A'!$J$10=2,\"AA\",IF('2A'!$J$10=3,\"QH\",IF('2A'!$J$10=4,\"FQ\",IF('2A'!$J$10=5,\"SKI\",IF('2A'!$J$10=6,\"PKN\",IF('2A'!$J$10=7,\"BID\",IF('2A'!$J$10=8,\"BA\",IF('2A'!$J$10=9,\"MTK\",IF('2A'!$J$10=10,\"IPA\",IF('2A'!$J$10=11,\"IPS\",IF('2A'!$J$10=12,\"SBK\",IF('2A'!$J$10=13,\"PJK\",IF('2A'!$J$10=14,\"BD\",IF('2A'!$J$10=15,\"BIG\",IF('2A'!$J$10=16,\"AWJ\",IF('2A'!$J$10=17,\"NW\",IF('2A'!$J$10=18,\"SRF\",IF('2A'!$J$10=19,\"PG\",IF('2A'!$J$10=20,\"XTR\",””))))))))))))))))))))","v":{"$error":"#NAME?"}},{"$f":"IF('2B'!$J$10=1,\"TMTIK\",IF('2B'!$J$10=2,\"AA\",IF('2B'!$J$10=3,\"QH\",IF('2B'!$J$10=4,\"FQ\",IF('2B'!$J$10=5,\"SKI\",IF('2B'!$J$10=6,\"PKN\",IF('2B'!$J$10=7,\"BID\",IF('2B'!$J$10=8,\"BA\",IF('2B'!$J$10=9,\"MTK\",IF('2B'!$J$10=10,\"IPA\",IF('2B'!$J$10=11,\"IPS\",IF('2B'!$J$10=12,\"SBK\",IF('2B'!$J$10=13,\"PJK\",IF('2B'!$J$10=14,\"BD\",IF('2B'!$J$10=15,\"BIG\",IF('2B'!$J$10=16,\"AWJ\",IF('2B'!$J$10=17,\"NW\",IF('2B'!$J$10=18,\"SRF\",IF('2B'!$J$10=19,\"PG\",IF('2B'!$J$10=20,\"XTR\",””))))))))))))))))))))","v":{"$error":"#NAME?"}},{"$f":"IF('2C'!$J$10=1,\"TMTIK\",IF('2C'!$J$10=2,\"AA\",IF('2C'!$J$10=3,\"QH\",IF('2C'!$J$10=4,\"FQ\",IF('2C'!$J$10=5,\"SKI\",IF('2C'!$J$10=6,\"PKN\",IF('2C'!$J$10=7,\"BID\",IF('2C'!$J$10=8,\"BA\",IF('2C'!$J$10=9,\"MTK\",IF('2C'!$J$10=10,\"IPA\",IF('2C'!$J$10=11,\"IPS\",IF('2C'!$J$10=12,\"SBK\",IF('2C'!$J$10=13,\"PJK\",IF('2C'!$J$10=14,\"BD\",IF('2C'!$J$10=15,\"BIG\",IF('2C'!$J$10=16,\"AWJ\",IF('2C'!$J$10=17,\"NW\",IF('2C'!$J$10=18,\"SRF\",IF('2C'!$J$10=19,\"PG\",IF('2C'!$J$10=20,\"XTR\",””))))))))))))))))))))","v":{"$error":"#NAME?"}},{"$f":"IF('2A'!$N$10=1,\"TMTIK\",IF('2A'!$N$10=2,\"AA\",IF('2A'!$N$10=3,\"QH\",IF('2A'!$N$10=4,\"FQ\",IF('2A'!$N$10=5,\"SKI\",IF('2A'!$N$10=6,\"PKN\",IF('2A'!$N$10=7,\"BID\",IF('2A'!$N$10=8,\"BA\",IF('2A'!$N$10=9,\"MTK\",IF('2A'!$N$10=10,\"IPA\",IF('2A'!$N$10=11,\"IPS\",IF('2A'!$N$10=12,\"SBK\",IF('2A'!$N$10=13,\"PJK\",IF('2A'!$N$10=14,\"BD\",IF('2A'!$N$10=15,\"BIG\",IF('2A'!$N$10=16,\"AWJ\",IF('2A'!$N$10=17,\"NW\",IF('2A'!$N$10=18,\"SRF\",IF('2A'!$N$10=19,\"PG\",IF('2A'!$N$10=20,\"XTR\",””))))))))))))))))))))","v":{"$error":"#NAME?"}},{"$f":"IF('2B'!$N$10=1,\"TMTIK\",IF('2B'!$N$10=2,\"AA\",IF('2B'!$N$10=3,\"QH\",IF('2B'!$N$10=4,\"FQ\",IF('2B'!$N$10=5,\"SKI\",IF('2B'!$N$10=6,\"PKN\",IF('2B'!$N$10=7,\"BID\",IF('2B'!$N$10=8,\"BA\",IF('2B'!$N$10=9,\"MTK\",IF('2B'!$N$10=10,\"IPA\",IF('2B'!$N$10=11,\"IPS\",IF('2B'!$N$10=12,\"SBK\",IF('2B'!$N$10=13,\"PJK\",IF('2B'!$N$10=14,\"BD\",IF('2B'!$N$10=15,\"BIG\",IF('2B'!$N$10=16,\"AWJ\",IF('2B'!$N$10=17,\"NW\",IF('2B'!$N$10=18,\"SRF\",IF('2B'!$N$10=19,\"PG\",IF('2B'!$N$10=20,\"XTR\",””))))))))))))))))))))","v":{"$error":"#NAME?"}},{"$f":"IF('2C'!$N$10=1,\"TMTIK\",IF('2C'!$N$10=2,\"AA\",IF('2C'!$N$10=3,\"QH\",IF('2C'!$N$10=4,\"FQ\",IF('2C'!$N$10=5,\"SKI\",IF('2C'!$N$10=6,\"PKN\",IF('2C'!$N$10=7,\"BID\",IF('2C'!$N$10=8,\"BA\",IF('2C'!$N$10=9,\"MTK\",IF('2C'!$N$10=10,\"IPA\",IF('2C'!$N$10=11,\"IPS\",IF('2C'!$N$10=12,\"SBK\",IF('2C'!$N$10=13,\"PJK\",IF('2C'!$N$10=14,\"BD\",IF('2C'!$N$10=15,\"BIG\",IF('2C'!$N$10=16,\"AWJ\",IF('2C'!$N$10=17,\"NW\",IF('2C'!$N$10=18,\"SRF\",IF('2C'!$N$10=19,\"PG\",IF('2C'!$N$10=20,\"XTR\",””))))))))))))))))))))","v":{"$error":"#NAME?"}},{"$f":"IF('2A'!$D$23=1,\"TMTIK\",IF('2A'!$D$23=2,\"AA\",IF('2A'!$D$23=3,\"QH\",IF('2A'!$D$23=4,\"FQ\",IF('2A'!$D$23=5,\"SKI\",IF('2A'!$D$23=6,\"PKN\",IF('2A'!$D$23=7,\"BID\",IF('2A'!$D$23=8,\"BA\",IF('2A'!$D$23=9,\"MTK\",IF('2A'!$D$23=10,\"IPA\",IF('2A'!$D$23=11,\"IPS\",IF('2A'!$D$23=12,\"SBK\",IF('2A'!$D$23=13,\"PJK\",IF('2A'!$D$23=14,\"BD\",IF('2A'!$D$23=15,\"BIG\",IF('2A'!$D$23=16,\"AWJ\",IF('2A'!$D$23=17,\"NW\",IF('2A'!$D$23=18,\"SRF\",IF('2A'!$D$23=19,\"PG\",IF('2A'!$D$23=20,\"XTR\",””))))))))))))))))))))","v":{"$error":"#NAME?"}},{"$f":"IF('2B'!$D$23=1,\"TMTIK\",IF('2B'!$D$23=2,\"AA\",IF('2B'!$D$23=3,\"QH\",IF('2B'!$D$23=4,\"FQ\",IF('2B'!$D$23=5,\"SKI\",IF('2B'!$D$23=6,\"PKN\",IF('2B'!$D$23=7,\"BID\",IF('2B'!$D$23=8,\"BA\",IF('2B'!$D$23=9,\"MTK\",IF('2B'!$D$23=10,\"IPA\",IF('2B'!$D$23=11,\"IPS\",IF('2B'!$D$23=12,\"SBK\",IF('2B'!$D$23=13,\"PJK\",IF('2B'!$D$23=14,\"BD\",IF('2B'!$D$23=15,\"BIG\",IF('2B'!$D$23=16,\"AWJ\",IF('2B'!$D$23=17,\"NW\",IF('2B'!$D$23=18,\"SRF\",IF('2B'!$D$23=19,\"PG\",IF('2B'!$D$23=20,\"XTR\",””))))))))))))))))))))","v":{"$error":"#NAME?"}},{"$f":"IF('2C'!$D$23=1,\"TMTIK\",IF('2C'!$D$23=2,\"AA\",IF('2C'!$D$23=3,\"QH\",IF('2C'!$D$23=4,\"FQ\",IF('2C'!$D$23=5,\"SKI\",IF('2C'!$D$23=6,\"PKN\",IF('2C'!$D$23=7,\"BID\",IF('2C'!$D$23=8,\"BA\",IF('2C'!$D$23=9,\"MTK\",IF('2C'!$D$23=10,\"IPA\",IF('2C'!$D$23=11,\"IPS\",IF('2C'!$D$23=12,\"SBK\",IF('2C'!$D$23=13,\"PJK\",IF('2C'!$D$23=14,\"BD\",IF('2C'!$D$23=15,\"BIG\",IF('2C'!$D$23=16,\"AWJ\",IF('2C'!$D$23=17,\"NW\",IF('2C'!$D$23=18,\"SRF\",IF('2C'!$D$23=19,\"PG\",IF('2C'!$D$23=20,\"XTR\",””))))))))))))))))))))","v":{"$error":"#NAME?"}},10,16,"AWJ"]
[3,{"$f":"IF('2A'!$D$11=1,\"TMTIK\",IF('2A'!$D$11=2,\"AA\",IF('2A'!$D$11=3,\"QH\",IF('2A'!$D$11=4,\"FQ\",IF('2A'!$D$11=5,\"SKI\",IF('2A'!$D$11=6,\"PKN\",IF('2A'!$D$11=7,\"BID\",IF('2A'!$D$11=8,\"BA\",IF('2A'!$D$11=9,\"MTK\",IF('2A'!$D$11=10,\"IPA\",IF('2A'!$D$11=11,\"IPS\",IF('2A'!$D$11=12,\"SBK\",IF('2A'!$D$11=13,\"PJK\",IF('2A'!$D$11=14,\"BD\",IF('2A'!$D$11=15,\"BIG\",IF('2A'!$D$11=16,\"AWJ\",IF('2A'!$D$11=17,\"NW\",IF('2A'!$D$11=18,\"SRF\",IF('2A'!$D$11=19,\"PG\",IF('2A'!$D$11=20,\"XTR\",””))))))))))))))))))))","v":{"$error":"#NAME?"}},{"$f":"IF('2B'!$D$11=1,\"TMTIK\",IF('2B'!$D$11=2,\"AA\",IF('2B'!$D$11=3,\"QH\",IF('2B'!$D$11=4,\"FQ\",IF('2B'!$D$11=5,\"SKI\",IF('2B'!$D$11=6,\"PKN\",IF('2B'!$D$11=7,\"BID\",IF('2B'!$D$11=8,\"BA\",IF('2B'!$D$11=9,\"MTK\",IF('2B'!$D$11=10,\"IPA\",IF('2B'!$D$11=11,\"IPS\",IF('2B'!$D$11=12,\"SBK\",IF('2B'!$D$11=13,\"PJK\",IF('2B'!$D$11=14,\"BD\",IF('2B'!$D$11=15,\"BIG\",IF('2B'!$D$11=16,\"AWJ\",IF('2B'!$D$11=17,\"NW\",IF('2B'!$D$11=18,\"SRF\",IF('2B'!$D$11=19,\"PG\",IF('2B'!$D$11=20,\"XTR\",””))))))))))))))))))))","v":{"$error":"#NAME?"}},{"$f":"IF('2C'!$D$11=1,\"TMTIK\",IF('2C'!$D$11=2,\"AA\",IF('2C'!$D$11=3,\"QH\",IF('2C'!$D$11=4,\"FQ\",IF('2C'!$D$11=5,\"SKI\",IF('2C'!$D$11=6,\"PKN\",IF('2C'!$D$11=7,\"BID\",IF('2C'!$D$11=8,\"BA\",IF('2C'!$D$11=9,\"MTK\",IF('2C'!$D$11=10,\"IPA\",IF('2C'!$D$11=11,\"IPS\",IF('2C'!$D$11=12,\"SBK\",IF('2C'!$D$11=13,\"PJK\",IF('2C'!$D$11=14,\"BD\",IF('2C'!$D$11=15,\"BIG\",IF('2C'!$D$11=16,\"AWJ\",IF('2C'!$D$11=17,\"NW\",IF('2C'!$D$11=18,\"SRF\",IF('2C'!$D$11=19,\"PG\",IF('2C'!$D$11=20,\"XTR\",””))))))))))))))))))))","v":{"$error":"#NAME?"}},{"$f":"IF('2A'!$F$11=1,\"TMTIK\",IF('2A'!$F$11=2,\"AA\",IF('2A'!$F$11=3,\"QH\",IF('2A'!$F$11=4,\"FQ\",IF('2A'!$F$11=5,\"SKI\",IF('2A'!$F$11=6,\"PKN\",IF('2A'!$F$11=7,\"BID\",IF('2A'!$F$11=8,\"BA\",IF('2A'!$F$11=9,\"MTK\",IF('2A'!$F$11=10,\"IPA\",IF('2A'!$F$11=11,\"IPS\",IF('2A'!$F$11=12,\"SBK\",IF('2A'!$F$11=13,\"PJK\",IF('2A'!$F$11=14,\"BD\",IF('2A'!$F$11=15,\"BIG\",IF('2A'!$F$11=16,\"AWJ\",IF('2A'!$F$11=17,\"NW\",IF('2A'!$F$11=18,\"SRF\",IF('2A'!$F$11=19,\"PG\",IF('2A'!$F$11=20,\"XTR\",””))))))))))))))))))))","v":{"$error":"#NAME?"}},{"$f":"IF('2B'!$F$11=1,\"TMTIK\",IF('2B'!$F$11=2,\"AA\",IF('2B'!$F$11=3,\"QH\",IF('2B'!$F$11=4,\"FQ\",IF('2B'!$F$11=5,\"SKI\",IF('2B'!$F$11=6,\"PKN\",IF('2B'!$F$11=7,\"BID\",IF('2B'!$F$11=8,\"BA\",IF('2B'!$F$11=9,\"MTK\",IF('2B'!$F$11=10,\"IPA\",IF('2B'!$F$11=11,\"IPS\",IF('2B'!$F$11=12,\"SBK\",IF('2B'!$F$11=13,\"PJK\",IF('2B'!$F$11=14,\"BD\",IF('2B'!$F$11=15,\"BIG\",IF('2B'!$F$11=16,\"AWJ\",IF('2B'!$F$11=17,\"NW\",IF('2B'!$F$11=18,\"SRF\",IF('2B'!$F$11=19,\"PG\",IF('2B'!$F$11=20,\"XTR\",””))))))))))))))))))))","v":{"$error":"#NAME?"}},{"$f":"IF('2C'!$F$11=1,\"TMTIK\",IF('2C'!$F$11=2,\"AA\",IF('2C'!$F$11=3,\"QH\",IF('2C'!$F$11=4,\"FQ\",IF('2C'!$F$11=5,\"SKI\",IF('2C'!$F$11=6,\"PKN\",IF('2C'!$F$11=7,\"BID\",IF('2C'!$F$11=8,\"BA\",IF('2C'!$F$11=9,\"MTK\",IF('2C'!$F$11=10,\"IPA\",IF('2C'!$F$11=11,\"IPS\",IF('2C'!$F$11=12,\"SBK\",IF('2C'!$F$11=13,\"PJK\",IF('2C'!$F$11=14,\"BD\",IF('2C'!$F$11=15,\"BIG\",IF('2C'!$F$11=16,\"AWJ\",IF('2C'!$F$11=17,\"NW\",IF('2C'!$F$11=18,\"SRF\",IF('2C'!$F$11=19,\"PG\",IF('2C'!$F$11=20,\"XTR\",””))))))))))))))))))))","v":{"$error":"#NAME?"}},{"$f":"IF('2A'!$H$11=1,\"TMTIK\",IF('2A'!$H$11=2,\"AA\",IF('2A'!$H$11=3,\"QH\",IF('2A'!$H$11=4,\"FQ\",IF('2A'!$H$11=5,\"SKI\",IF('2A'!$H$11=6,\"PKN\",IF('2A'!$H$11=7,\"BID\",IF('2A'!$H$11=8,\"BA\",IF('2A'!$H$11=9,\"MTK\",IF('2A'!$H$11=10,\"IPA\",IF('2A'!$H$11=11,\"IPS\",IF('2A'!$H$11=12,\"SBK\",IF('2A'!$H$11=13,\"PJK\",IF('2A'!$H$11=14,\"BD\",IF('2A'!$H$11=15,\"BIG\",IF('2A'!$H$11=16,\"AWJ\",IF('2A'!$H$11=17,\"NW\",IF('2A'!$H$11=18,\"SRF\",IF('2A'!$H$11=19,\"PG\",IF('2A'!$H$11=20,\"XTR\",””))))))))))))))))))))","v":{"$error":"#NAME?"}},{"$f":"IF('2B'!$H$11=1,\"TMTIK\",IF('2B'!$H$11=2,\"AA\",IF('2B'!$H$11=3,\"QH\",IF('2B'!$H$11=4,\"FQ\",IF('2B'!$H$11=5,\"SKI\",IF('2B'!$H$11=6,\"PKN\",IF('2B'!$H$11=7,\"BID\",IF('2B'!$H$11=8,\"BA\",IF('2B'!$H$11=9,\"MTK\",IF('2B'!$H$11=10,\"IPA\",IF('2B'!$H$11=11,\"IPS\",IF('2B'!$H$11=12,\"SBK\",IF('2B'!$H$11=13,\"PJK\",IF('2B'!$H$11=14,\"BD\",IF('2B'!$H$11=15,\"BIG\",IF('2B'!$H$11=16,\"AWJ\",IF('2B'!$H$11=17,\"NW\",IF('2B'!$H$11=18,\"SRF\",IF('2B'!$H$11=19,\"PG\",IF('2B'!$H$11=20,\"XTR\",””))))))))))))))))))))","v":{"$error":"#NAME?"}},{"$f":"IF('2C'!$H$11=1,\"TMTIK\",IF('2C'!$H$11=2,\"AA\",IF('2C'!$H$11=3,\"QH\",IF('2C'!$H$11=4,\"FQ\",IF('2C'!$H$11=5,\"SKI\",IF('2C'!$H$11=6,\"PKN\",IF('2C'!$H$11=7,\"BID\",IF('2C'!$H$11=8,\"BA\",IF('2C'!$H$11=9,\"MTK\",IF('2C'!$H$11=10,\"IPA\",IF('2C'!$H$11=11,\"IPS\",IF('2C'!$H$11=12,\"SBK\",IF('2C'!$H$11=13,\"PJK\",IF('2C'!$H$11=14,\"BD\",IF('2C'!$H$11=15,\"BIG\",IF('2C'!$H$11=16,\"AWJ\",IF('2C'!$H$11=17,\"NW\",IF('2C'!$H$11=18,\"SRF\",IF('2C'!$H$11=19,\"PG\",IF('2C'!$H$11=20,\"XTR\",””))))))))))))))))))))","v":{"$error":"#NAME?"}},{"$f":"IF('2A'!$J$11=1,\"TMTIK\",IF('2A'!$J$11=2,\"AA\",IF('2A'!$J$11=3,\"QH\",IF('2A'!$J$11=4,\"FQ\",IF('2A'!$J$11=5,\"SKI\",IF('2A'!$J$11=6,\"PKN\",IF('2A'!$J$11=7,\"BID\",IF('2A'!$J$11=8,\"BA\",IF('2A'!$J$11=9,\"MTK\",IF('2A'!$J$11=10,\"IPA\",IF('2A'!$J$11=11,\"IPS\",IF('2A'!$J$11=12,\"SBK\",IF('2A'!$J$11=13,\"PJK\",IF('2A'!$J$11=14,\"BD\",IF('2A'!$J$11=15,\"BIG\",IF('2A'!$J$11=16,\"AWJ\",IF('2A'!$J$11=17,\"NW\",IF('2A'!$J$11=18,\"SRF\",IF('2A'!$J$11=19,\"PG\",IF('2A'!$J$11=20,\"XTR\",””))))))))))))))))))))","v":{"$error":"#NAME?"}},{"$f":"IF('2B'!$J$11=1,\"TMTIK\",IF('2B'!$J$11=2,\"AA\",IF('2B'!$J$11=3,\"QH\",IF('2B'!$J$11=4,\"FQ\",IF('2B'!$J$11=5,\"SKI\",IF('2B'!$J$11=6,\"PKN\",IF('2B'!$J$11=7,\"BID\",IF('2B'!$J$11=8,\"BA\",IF('2B'!$J$11=9,\"MTK\",IF('2B'!$J$11=10,\"IPA\",IF('2B'!$J$11=11,\"IPS\",IF('2B'!$J$11=12,\"SBK\",IF('2B'!$J$11=13,\"PJK\",IF('2B'!$J$11=14,\"BD\",IF('2B'!$J$11=15,\"BIG\",IF('2B'!$J$11=16,\"AWJ\",IF('2B'!$J$11=17,\"NW\",IF('2B'!$J$11=18,\"SRF\",IF('2B'!$J$11=19,\"PG\",IF('2B'!$J$11=20,\"XTR\",””))))))))))))))))))))","v":{"$error":"#NAME?"}},{"$f":"IF('2C'!$J$11=1,\"TMTIK\",IF('2C'!$J$11=2,\"AA\",IF('2C'!$J$11=3,\"QH\",IF('2C'!$J$11=4,\"FQ\",IF('2C'!$J$11=5,\"SKI\",IF('2C'!$J$11=6,\"PKN\",IF('2C'!$J$11=7,\"BID\",IF('2C'!$J$11=8,\"BA\",IF('2C'!$J$11=9,\"MTK\",IF('2C'!$J$11=10,\"IPA\",IF('2C'!$J$11=11,\"IPS\",IF('2C'!$J$11=12,\"SBK\",IF('2C'!$J$11=13,\"PJK\",IF('2C'!$J$11=14,\"BD\",IF('2C'!$J$11=15,\"BIG\",IF('2C'!$J$11=16,\"AWJ\",IF('2C'!$J$11=17,\"NW\",IF('2C'!$J$11=18,\"SRF\",IF('2C'!$J$11=19,\"PG\",IF('2C'!$J$11=20,\"XTR\",””))))))))))))))))))))","v":{"$error":"#NAME?"}},{"$f":"IF('2A'!$N$11=1,\"TMTIK\",IF('2A'!$N$11=2,\"AA\",IF('2A'!$N$11=3,\"QH\",IF('2A'!$N$11=4,\"FQ\",IF('2A'!$N$11=5,\"SKI\",IF('2A'!$N$11=6,\"PKN\",IF('2A'!$N$11=7,\"BID\",IF('2A'!$N$11=8,\"BA\",IF('2A'!$N$11=9,\"MTK\",IF('2A'!$N$11=10,\"IPA\",IF('2A'!$N$11=11,\"IPS\",IF('2A'!$N$11=12,\"SBK\",IF('2A'!$N$11=13,\"PJK\",IF('2A'!$N$11=14,\"BD\",IF('2A'!$N$11=15,\"BIG\",IF('2A'!$N$11=16,\"AWJ\",IF('2A'!$N$11=17,\"NW\",IF('2A'!$N$11=18,\"SRF\",IF('2A'!$N$11=19,\"PG\",IF('2A'!$N$11=20,\"XTR\",””))))))))))))))))))))","v":{"$error":"#NAME?"}},{"$f":"IF('2B'!$N$11=1,\"TMTIK\",IF('2B'!$N$11=2,\"AA\",IF('2B'!$N$11=3,\"QH\",IF('2B'!$N$11=4,\"FQ\",IF('2B'!$N$11=5,\"SKI\",IF('2B'!$N$11=6,\"PKN\",IF('2B'!$N$11=7,\"BID\",IF('2B'!$N$11=8,\"BA\",IF('2B'!$N$11=9,\"MTK\",IF('2B'!$N$11=10,\"IPA\",IF('2B'!$N$11=11,\"IPS\",IF('2B'!$N$11=12,\"SBK\",IF('2B'!$N$11=13,\"PJK\",IF('2B'!$N$11=14,\"BD\",IF('2B'!$N$11=15,\"BIG\",IF('2B'!$N$11=16,\"AWJ\",IF('2B'!$N$11=17,\"NW\",IF('2B'!$N$11=18,\"SRF\",IF('2B'!$N$11=19,\"PG\",IF('2B'!$N$11=20,\"XTR\",””))))))))))))))))))))","v":{"$error":"#NAME?"}},{"$f":"IF('2C'!$N$11=1,\"TMTIK\",IF('2C'!$N$11=2,\"AA\",IF('2C'!$N$11=3,\"QH\",IF('2C'!$N$11=4,\"FQ\",IF('2C'!$N$11=5,\"SKI\",IF('2C'!$N$11=6,\"PKN\",IF('2C'!$N$11=7,\"BID\",IF('2C'!$N$11=8,\"BA\",IF('2C'!$N$11=9,\"MTK\",IF('2C'!$N$11=10,\"IPA\",IF('2C'!$N$11=11,\"IPS\",IF('2C'!$N$11=12,\"SBK\",IF('2C'!$N$11=13,\"PJK\",IF('2C'!$N$11=14,\"BD\",IF('2C'!$N$11=15,\"BIG\",IF('2C'!$N$11=16,\"AWJ\",IF('2C'!$N$11=17,\"NW\",IF('2C'!$N$11=18,\"SRF\",IF('2C'!$N$11=19,\"PG\",IF('2C'!$N$11=20,\"XTR\",””))))))))))))))))))))","v":{"$error":"#NAME?"}},{"$f":"IF('2A'!$D$25=1,\"TMTIK\",IF('2A'!$D$25=2,\"AA\",IF('2A'!$D$25=3,\"QH\",IF('2A'!$D$25=4,\"FQ\",IF('2A'!$D$25=5,\"SKI\",IF('2A'!$D$25=6,\"PKN\",IF('2A'!$D$25=7,\"BID\",IF('2A'!$D$25=8,\"BA\",IF('2A'!$D$25=9,\"MTK\",IF('2A'!$D$25=10,\"IPA\",IF('2A'!$D$25=11,\"IPS\",IF('2A'!$D$25=12,\"SBK\",IF('2A'!$D$25=13,\"PJK\",IF('2A'!$D$25=14,\"BD\",IF('2A'!$D$25=15,\"BIG\",IF('2A'!$D$25=16,\"AWJ\",IF('2A'!$D$25=17,\"NW\",IF('2A'!$D$25=18,\"SRF\",IF('2A'!$D$25=19,\"PG\",IF('2A'!$D$25=20,\"XTR\",””))))))))))))))))))))","v":{"$error":"#NAME?"}},{"$f":"IF('2B'!$D$25=1,\"TMTIK\",IF('2B'!$D$25=2,\"AA\",IF('2B'!$D$25=3,\"QH\",IF('2B'!$D$25=4,\"FQ\",IF('2B'!$D$25=5,\"SKI\",IF('2B'!$D$25=6,\"PKN\",IF('2B'!$D$25=7,\"BID\",IF('2B'!$D$25=8,\"BA\",IF('2B'!$D$25=9,\"MTK\",IF('2B'!$D$25=10,\"IPA\",IF('2B'!$D$25=11,\"IPS\",IF('2B'!$D$25=12,\"SBK\",IF('2B'!$D$25=13,\"PJK\",IF('2B'!$D$25=14,\"BD\",IF('2B'!$D$25=15,\"BIG\",IF('2B'!$D$25=16,\"AWJ\",IF('2B'!$D$25=17,\"NW\",IF('2B'!$D$25=18,\"SRF\",IF('2B'!$D$25=19,\"PG\",IF('2B'!$D$25=20,\"XTR\",””))))))))))))))))))))","v":{"$error":"#NAME?"}},{"$f":"IF('2C'!$D$25=1,\"TMTIK\",IF('2C'!$D$25=2,\"AA\",IF('2C'!$D$25=3,\"QH\",IF('2C'!$D$25=4,\"FQ\",IF('2C'!$D$25=5,\"SKI\",IF('2C'!$D$25=6,\"PKN\",IF('2C'!$D$25=7,\"BID\",IF('2C'!$D$25=8,\"BA\",IF('2C'!$D$25=9,\"MTK\",IF('2C'!$D$25=10,\"IPA\",IF('2C'!$D$25=11,\"IPS\",IF('2C'!$D$25=12,\"SBK\",IF('2C'!$D$25=13,\"PJK\",IF('2C'!$D$25=14,\"BD\",IF('2C'!$D$25=15,\"BIG\",IF('2C'!$D$25=16,\"AWJ\",IF('2C'!$D$25=17,\"NW\",IF('2C'!$D$25=18,\"SRF\",IF('2C'!$D$25=19,\"PG\",IF('2C'!$D$25=20,\"XTR\",””))))))))))))))))))))","v":{"$error":"#NAME?"}},11,17,"NW"]
[4,{"$f":"IF('2A'!$D$13=1,\"TMTIK\",IF('2A'!$D$13=2,\"AA\",IF('2A'!$D$13=3,\"QH\",IF('2A'!$D$13=4,\"FQ\",IF('2A'!$D$13=5,\"SKI\",IF('2A'!$D$13=6,\"PKN\",IF('2A'!$D$13=7,\"BID\",IF('2A'!$D$13=8,\"BA\",IF('2A'!$D$13=9,\"MTK\",IF('2A'!$D$13=10,\"IPA\",IF('2A'!$D$13=11,\"IPS\",IF('2A'!$D$13=12,\"SBK\",IF('2A'!$D$13=13,\"PJK\",IF('2A'!$D$13=14,\"BD\",IF('2A'!$D$13=15,\"BIG\",IF('2A'!$D$13=16,\"AWJ\",IF('2A'!$D$13=17,\"NW\",IF('2A'!$D$13=18,\"SRF\",IF('2A'!$D$13=19,\"PG\",IF('2A'!$D$13=20,\"XTR\",””))))))))))))))))))))","v":{"$error":"#NAME?"}},{"$f":"IF('2B'!$D$13=1,\"TMTIK\",IF('2B'!$D$13=2,\"AA\",IF('2B'!$D$13=3,\"QH\",IF('2B'!$D$13=4,\"FQ\",IF('2B'!$D$13=5,\"SKI\",IF('2B'!$D$13=6,\"PKN\",IF('2B'!$D$13=7,\"BID\",IF('2B'!$D$13=8,\"BA\",IF('2B'!$D$13=9,\"MTK\",IF('2B'!$D$13=10,\"IPA\",IF('2B'!$D$13=11,\"IPS\",IF('2B'!$D$13=12,\"SBK\",IF('2B'!$D$13=13,\"PJK\",IF('2B'!$D$13=14,\"BD\",IF('2B'!$D$13=15,\"BIG\",IF('2B'!$D$13=16,\"AWJ\",IF('2B'!$D$13=17,\"NW\",IF('2B'!$D$13=18,\"SRF\",IF('2B'!$D$13=19,\"PG\",IF('2B'!$D$13=20,\"XTR\",””))))))))))))))))))))","v":{"$error":"#NAME?"}},{"$f":"IF('2C'!$D$13=1,\"TMTIK\",IF('2C'!$D$13=2,\"AA\",IF('2C'!$D$13=3,\"QH\",IF('2C'!$D$13=4,\"FQ\",IF('2C'!$D$13=5,\"SKI\",IF('2C'!$D$13=6,\"PKN\",IF('2C'!$D$13=7,\"BID\",IF('2C'!$D$13=8,\"BA\",IF('2C'!$D$13=9,\"MTK\",IF('2C'!$D$13=10,\"IPA\",IF('2C'!$D$13=11,\"IPS\",IF('2C'!$D$13=12,\"SBK\",IF('2C'!$D$13=13,\"PJK\",IF('2C'!$D$13=14,\"BD\",IF('2C'!$D$13=15,\"BIG\",IF('2C'!$D$13=16,\"AWJ\",IF('2C'!$D$13=17,\"NW\",IF('2C'!$D$13=18,\"SRF\",IF('2C'!$D$13=19,\"PG\",IF('2C'!$D$13=20,\"XTR\",””))))))))))))))))))))","v":{"$error":"#NAME?"}},{"$f":"IF('2A'!$F$13=1,\"TMTIK\",IF('2A'!$F$13=2,\"AA\",IF('2A'!$F$13=3,\"QH\",IF('2A'!$F$13=4,\"FQ\",IF('2A'!$F$13=5,\"SKI\",IF('2A'!$F$13=6,\"PKN\",IF('2A'!$F$13=7,\"BID\",IF('2A'!$F$13=8,\"BA\",IF('2A'!$F$13=9,\"MTK\",IF('2A'!$F$13=10,\"IPA\",IF('2A'!$F$13=11,\"IPS\",IF('2A'!$F$13=12,\"SBK\",IF('2A'!$F$13=13,\"PJK\",IF('2A'!$F$13=14,\"BD\",IF('2A'!$F$13=15,\"BIG\",IF('2A'!$F$13=16,\"AWJ\",IF('2A'!$F$13=17,\"NW\",IF('2A'!$F$13=18,\"SRF\",IF('2A'!$F$13=19,\"PG\",IF('2A'!$F$13=20,\"XTR\",””))))))))))))))))))))","v":{"$error":"#NAME?"}},{"$f":"IF('2B'!$F$13=1,\"TMTIK\",IF('2B'!$F$13=2,\"AA\",IF('2B'!$F$13=3,\"QH\",IF('2B'!$F$13=4,\"FQ\",IF('2B'!$F$13=5,\"SKI\",IF('2B'!$F$13=6,\"PKN\",IF('2B'!$F$13=7,\"BID\",IF('2B'!$F$13=8,\"BA\",IF('2B'!$F$13=9,\"MTK\",IF('2B'!$F$13=10,\"IPA\",IF('2B'!$F$13=11,\"IPS\",IF('2B'!$F$13=12,\"SBK\",IF('2B'!$F$13=13,\"PJK\",IF('2B'!$F$13=14,\"BD\",IF('2B'!$F$13=15,\"BIG\",IF('2B'!$F$13=16,\"AWJ\",IF('2B'!$F$13=17,\"NW\",IF('2B'!$F$13=18,\"SRF\",IF('2B'!$F$13=19,\"PG\",IF('2B'!$F$13=20,\"XTR\",””))))))))))))))))))))","v":{"$error":"#NAME?"}},{"$f":"IF('2C'!$F$13=1,\"TMTIK\",IF('2C'!$F$13=2,\"AA\",IF('2C'!$F$13=3,\"QH\",IF('2C'!$F$13=4,\"FQ\",IF('2C'!$F$13=5,\"SKI\",IF('2C'!$F$13=6,\"PKN\",IF('2C'!$F$13=7,\"BID\",IF('2C'!$F$13=8,\"BA\",IF('2C'!$F$13=9,\"MTK\",IF('2C'!$F$13=10,\"IPA\",IF('2C'!$F$13=11,\"IPS\",IF('2C'!$F$13=12,\"SBK\",IF('2C'!$F$13=13,\"PJK\",IF('2C'!$F$13=14,\"BD\",IF('2C'!$F$13=15,\"BIG\",IF('2C'!$F$13=16,\"AWJ\",IF('2C'!$F$13=17,\"NW\",IF('2C'!$F$13=18,\"SRF\",IF('2C'!$F$13=19,\"PG\",IF('2C'!$F$13=20,\"XTR\",””))))))))))))))))))))","v":{"$error":"#NAME?"}},{"$f":"IF('2A'!$H$13=1,\"TMTIK\",IF('2A'!$H$13=2,\"AA\",IF('2A'!$H$13=3,\"QH\",IF('2A'!$H$13=4,\"FQ\",IF('2A'!$H$13=5,\"SKI\",IF('2A'!$H$13=6,\"PKN\",IF('2A'!$H$13=7,\"BID\",IF('2A'!$H$13=8,\"BA\",IF('2A'!$H$13=9,\"MTK\",IF('2A'!$H$13=10,\"IPA\",IF('2A'!$H$13=11,\"IPS\",IF('2A'!$H$13=12,\"SBK\",IF('2A'!$H$13=13,\"PJK\",IF('2A'!$H$13=14,\"BD\",IF('2A'!$H$13=15,\"BIG\",IF('2A'!$H$13=16,\"AWJ\",IF('2A'!$H$13=17,\"NW\",IF('2A'!$H$13=18,\"SRF\",IF('2A'!$H$13=19,\"PG\",IF('2A'!$H$13=20,\"XTR\",””))))))))))))))))))))","v":{"$error":"#NAME?"}},{"$f":"IF('2B'!$H$13=1,\"TMTIK\",IF('2B'!$H$13=2,\"AA\",IF('2B'!$H$13=3,\"QH\",IF('2B'!$H$13=4,\"FQ\",IF('2B'!$H$13=5,\"SKI\",IF('2B'!$H$13=6,\"PKN\",IF('2B'!$H$13=7,\"BID\",IF('2B'!$H$13=8,\"BA\",IF('2B'!$H$13=9,\"MTK\",IF('2B'!$H$13=10,\"IPA\",IF('2B'!$H$13=11,\"IPS\",IF('2B'!$H$13=12,\"SBK\",IF('2B'!$H$13=13,\"PJK\",IF('2B'!$H$13=14,\"BD\",IF('2B'!$H$13=15,\"BIG\",IF('2B'!$H$13=16,\"AWJ\",IF('2B'!$H$13=17,\"NW\",IF('2B'!$H$13=18,\"SRF\",IF('2B'!$H$13=19,\"PG\",IF('2B'!$H$13=20,\"XTR\",””))))))))))))))))))))","v":{"$error":"#NAME?"}},{"$f":"IF('2C'!$H$13=1,\"TMTIK\",IF('2C'!$H$13=2,\"AA\",IF('2C'!$H$13=3,\"QH\",IF('2C'!$H$13=4,\"FQ\",IF('2C'!$H$13=5,\"SKI\",IF('2C'!$H$13=6,\"PKN\",IF('2C'!$H$13=7,\"BID\",IF('2C'!$H$13=8,\"BA\",IF('2C'!$H$13=9,\"MTK\",IF('2C'!$H$13=10,\"IPA\",IF('2C'!$H$13=11,\"IPS\",IF('2C'!$H$13=12,\"SBK\",IF('2C'!$H$13=13,\"PJK\",IF('2C'!$H$13=14,\"BD\",IF('2C'!$H$13=15,\"BIG\",IF('2C'!$H$13=16,\"AWJ\",IF('2C'!$H$13=17,\"NW\",IF('2C'!$H$13=18,\"SRF\",IF('2C'!$H$13=19,\"PG\",IF('2C'!$H$13=20,\"XTR\",””))))))))))))))))))))","v":{"$error":"#NAME?"}},{"$f":"IF('2A'!$J$13=1,\"TMTIK\",IF('2A'!$J$13=2,\"AA\",IF('2A'!$J$13=3,\"QH\",IF('2A'!$J$13=4,\"FQ\",IF('2A'!$J$13=5,\"SKI\",IF('2A'!$J$13=6,\"PKN\",IF('2A'!$J$13=7,\"BID\",IF('2A'!$J$13=8,\"BA\",IF('2A'!$J$13=9,\"MTK\",IF('2A'!$J$13=10,\"IPA\",IF('2A'!$J$13=11,\"IPS\",IF('2A'!$J$13=12,\"SBK\",IF('2A'!$J$13=13,\"PJK\",IF('2A'!$J$13=14,\"BD\",IF('2A'!$J$13=15,\"BIG\",IF('2A'!$J$13=16,\"AWJ\",IF('2A'!$J$13=17,\"NW\",IF('2A'!$J$13=18,\"SRF\",IF('2A'!$J$13=19,\"PG\",IF('2A'!$J$13=20,\"XTR\",””))))))))))))))))))))","v":{"$error":"#NAME?"}},{"$f":"IF('2B'!$J$13=1,\"TMTIK\",IF('2B'!$J$13=2,\"AA\",IF('2B'!$J$13=3,\"QH\",IF('2B'!$J$13=4,\"FQ\",IF('2B'!$J$13=5,\"SKI\",IF('2B'!$J$13=6,\"PKN\",IF('2B'!$J$13=7,\"BID\",IF('2B'!$J$13=8,\"BA\",IF('2B'!$J$13=9,\"MTK\",IF('2B'!$J$13=10,\"IPA\",IF('2B'!$J$13=11,\"IPS\",IF('2B'!$J$13=12,\"SBK\",IF('2B'!$J$13=13,\"PJK\",IF('2B'!$J$13=14,\"BD\",IF('2B'!$J$13=15,\"BIG\",IF('2B'!$J$13=16,\"AWJ\",IF('2B'!$J$13=17,\"NW\",IF('2B'!$J$13=18,\"SRF\",IF('2B'!$J$13=19,\"PG\",IF('2B'!$J$13=20,\"XTR\",””))))))))))))))))))))","v":{"$error":"#NAME?"}},{"$f":"IF('2C'!$J$13=1,\"TMTIK\",IF('2C'!$J$13=2,\"AA\",IF('2C'!$J$13=3,\"QH\",IF('2C'!$J$13=4,\"FQ\",IF('2C'!$J$13=5,\"SKI\",IF('2C'!$J$13=6,\"PKN\",IF('2C'!$J$13=7,\"BID\",IF('2C'!$J$13=8,\"BA\",IF('2C'!$J$13=9,\"MTK\",IF('2C'!$J$13=10,\"IPA\",IF('2C'!$J$13=11,\"IPS\",IF('2C'!$J$13=12,\"SBK\",IF('2C'!$J$13=13,\"PJK\",IF('2C'!$J$13=14,\"BD\",IF('2C'!$J$13=15,\"BIG\",IF('2C'!$J$13=16,\"AWJ\",IF('2C'!$J$13=17,\"NW\",IF('2C'!$J$13=18,\"SRF\",IF('2C'!$J$13=19,\"PG\",IF('2C'!$J$13=20,\"XTR\",””))))))))))))))))))))","v":{"$error":"#NAME?"}},{"$f":"IF('2A'!$N$13=1,\"TMTIK\",IF('2A'!$N$13=2,\"AA\",IF('2A'!$N$13=3,\"QH\",IF('2A'!$N$13=4,\"FQ\",IF('2A'!$N$13=5,\"SKI\",IF('2A'!$N$13=6,\"PKN\",IF('2A'!$N$13=7,\"BID\",IF('2A'!$N$13=8,\"BA\",IF('2A'!$N$13=9,\"MTK\",IF('2A'!$N$13=10,\"IPA\",IF('2A'!$N$13=11,\"IPS\",IF('2A'!$N$13=12,\"SBK\",IF('2A'!$N$13=13,\"PJK\",IF('2A'!$N$13=14,\"BD\",IF('2A'!$N$13=15,\"BIG\",IF('2A'!$N$13=16,\"AWJ\",IF('2A'!$N$13=17,\"NW\",IF('2A'!$N$13=18,\"SRF\",IF('2A'!$N$13=19,\"PG\",IF('2A'!$N$13=20,\"XTR\",””))))))))))))))))))))","v":{"$error":"#NAME?"}},{"$f":"IF('2B'!$N$13=1,\"TMTIK\",IF('2B'!$N$13=2,\"AA\",IF('2B'!$N$13=3,\"QH\",IF('2B'!$N$13=4,\"FQ\",IF('2B'!$N$13=5,\"SKI\",IF('2B'!$N$13=6,\"PKN\",IF('2B'!$N$13=7,\"BID\",IF('2B'!$N$13=8,\"BA\",IF('2B'!$N$13=9,\"MTK\",IF('2B'!$N$13=10,\"IPA\",IF('2B'!$N$13=11,\"IPS\",IF('2B'!$N$13=12,\"SBK\",IF('2B'!$N$13=13,\"PJK\",IF('2B'!$N$13=14,\"BD\",IF('2B'!$N$13=15,\"BIG\",IF('2B'!$N$13=16,\"AWJ\",IF('2B'!$N$13=17,\"NW\",IF('2B'!$N$13=18,\"SRF\",IF('2B'!$N$13=19,\"PG\",IF('2B'!$N$13=20,\"XTR\",””))))))))))))))))))))","v":{"$error":"#NAME?"}},{"$f":"IF('2C'!$N$13=1,\"TMTIK\",IF('2C'!$N$13=2,\"AA\",IF('2C'!$N$13=3,\"QH\",IF('2C'!$N$13=4,\"FQ\",IF('2C'!$N$13=5,\"SKI\",IF('2C'!$N$13=6,\"PKN\",IF('2C'!$N$13=7,\"BID\",IF('2C'!$N$13=8,\"BA\",IF('2C'!$N$13=9,\"MTK\",IF('2C'!$N$13=10,\"IPA\",IF('2C'!$N$13=11,\"IPS\",IF('2C'!$N$13=12,\"SBK\",IF('2C'!$N$13=13,\"PJK\",IF('2C'!$N$13=14,\"BD\",IF('2C'!$N$13=15,\"BIG\",IF('2C'!$N$13=16,\"AWJ\",IF('2C'!$N$13=17,\"NW\",IF('2C'!$N$13=18,\"SRF\",IF('2C'!$N$13=19,\"PG\",IF('2C'!$N$13=20,\"XTR\",””))))))))))))))))))))","v":{"$error":"#NAME?"}},{"$f":"IF('2A'!$D$26=1,\"TMTIK\",IF('2A'!$D$26=2,\"AA\",IF('2A'!$D$26=3,\"QH\",IF('2A'!$D$26=4,\"FQ\",IF('2A'!$D$26=5,\"SKI\",IF('2A'!$D$26=6,\"PKN\",IF('2A'!$D$26=7,\"BID\",IF('2A'!$D$26=8,\"BA\",IF('2A'!$D$26=9,\"MTK\",IF('2A'!$D$26=10,\"IPA\",IF('2A'!$D$26=11,\"IPS\",IF('2A'!$D$26=12,\"SBK\",IF('2A'!$D$26=13,\"PJK\",IF('2A'!$D$26=14,\"BD\",IF('2A'!$D$26=15,\"BIG\",IF('2A'!$D$26=16,\"AWJ\",IF('2A'!$D$26=17,\"NW\",IF('2A'!$D$26=18,\"SRF\",IF('2A'!$D$26=19,\"PG\",IF('2A'!$D$26=20,\"XTR\",””))))))))))))))))))))","v":{"$error":"#NAME?"}},{"$f":"IF('2B'!$D$26=1,\"TMTIK\",IF('2B'!$D$26=2,\"AA\",IF('2B'!$D$26=3,\"QH\",IF('2B'!$D$26=4,\"FQ\",IF('2B'!$D$26=5,\"SKI\",IF('2B'!$D$26=6,\"PKN\",IF('2B'!$D$26=7,\"BID\",IF('2B'!$D$26=8,\"BA\",IF('2B'!$D$26=9,\"MTK\",IF('2B'!$D$26=10,\"IPA\",IF('2B'!$D$26=11,\"IPS\",IF('2B'!$D$26=12,\"SBK\",IF('2B'!$D$26=13,\"PJK\",IF('2B'!$D$26=14,\"BD\",IF('2B'!$D$26=15,\"BIG\",IF('2B'!$D$26=16,\"AWJ\",IF('2B'!$D$26=17,\"NW\",IF('2B'!$D$26=18,\"SRF\",IF('2B'!$D$26=19,\"PG\",IF('2B'!$D$26=20,\"XTR\",””))))))))))))))))))))","v":{"$error":"#NAME?"}},{"$f":"IF('2C'!$D$26=1,\"TMTIK\",IF('2C'!$D$26=2,\"AA\",IF('2C'!$D$26=3,\"QH\",IF('2C'!$D$26=4,\"FQ\",IF('2C'!$D$26=5,\"SKI\",IF('2C'!$D$26=6,\"PKN\",IF('2C'!$D$26=7,\"BID\",IF('2C'!$D$26=8,\"BA\",IF('2C'!$D$26=9,\"MTK\",IF('2C'!$D$26=10,\"IPA\",IF('2C'!$D$26=11,\"IPS\",IF('2C'!$D$26=12,\"SBK\",IF('2C'!$D$26=13,\"PJK\",IF('2C'!$D$26=14,\"BD\",IF('2C'!$D$26=15,\"BIG\",IF('2C'!$D$26=16,\"AWJ\",IF('2C'!$D$26=17,\"NW\",IF('2C'!$D$26=18,\"SRF\",IF('2C'!$D$26=19,\"PG\",IF('2C'!$D$26=20,\"XTR\",””))))))))))))))))))))","v":{"$error":"#NAME?"}},13,18,"SRF"]
[5,{"$f":"IF('2A'!$D$14=1,\"TMTIK\",IF('2A'!$D$14=2,\"AA\",IF('2A'!$D$14=3,\"QH\",IF('2A'!$D$14=4,\"FQ\",IF('2A'!$D$14=5,\"SKI\",IF('2A'!$D$14=6,\"PKN\",IF('2A'!$D$14=7,\"BID\",IF('2A'!$D$14=8,\"BA\",IF('2A'!$D$14=9,\"MTK\",IF('2A'!$D$14=10,\"IPA\",IF('2A'!$D$14=11,\"IPS\",IF('2A'!$D$14=12,\"SBK\",IF('2A'!$D$14=13,\"PJK\",IF('2A'!$D$14=14,\"BD\",IF('2A'!$D$14=15,\"BIG\",IF('2A'!$D$14=16,\"AWJ\",IF('2A'!$D$14=17,\"NW\",IF('2A'!$D$14=18,\"SRF\",IF('2A'!$D$14=19,\"PG\",IF('2A'!$D$14=20,\"XTR\",””))))))))))))))))))))","v":{"$error":"#NAME?"}},{"$f":"IF('2B'!$D$14=1,\"TMTIK\",IF('2B'!$D$14=2,\"AA\",IF('2B'!$D$14=3,\"QH\",IF('2B'!$D$14=4,\"FQ\",IF('2B'!$D$14=5,\"SKI\",IF('2B'!$D$14=6,\"PKN\",IF('2B'!$D$14=7,\"BID\",IF('2B'!$D$14=8,\"BA\",IF('2B'!$D$14=9,\"MTK\",IF('2B'!$D$14=10,\"IPA\",IF('2B'!$D$14=11,\"IPS\",IF('2B'!$D$14=12,\"SBK\",IF('2B'!$D$14=13,\"PJK\",IF('2B'!$D$14=14,\"BD\",IF('2B'!$D$14=15,\"BIG\",IF('2B'!$D$14=16,\"AWJ\",IF('2B'!$D$14=17,\"NW\",IF('2B'!$D$14=18,\"SRF\",IF('2B'!$D$14=19,\"PG\",IF('2B'!$D$14=20,\"XTR\",””))))))))))))))))))))","v":{"$error":"#NAME?"}},{"$f":"IF('2C'!$D$14=1,\"TMTIK\",IF('2C'!$D$14=2,\"AA\",IF('2C'!$D$14=3,\"QH\",IF('2C'!$D$14=4,\"FQ\",IF('2C'!$D$14=5,\"SKI\",IF('2C'!$D$14=6,\"PKN\",IF('2C'!$D$14=7,\"BID\",IF('2C'!$D$14=8,\"BA\",IF('2C'!$D$14=9,\"MTK\",IF('2C'!$D$14=10,\"IPA\",IF('2C'!$D$14=11,\"IPS\",IF('2C'!$D$14=12,\"SBK\",IF('2C'!$D$14=13,\"PJK\",IF('2C'!$D$14=14,\"BD\",IF('2C'!$D$14=15,\"BIG\",IF('2C'!$D$14=16,\"AWJ\",IF('2C'!$D$14=17,\"NW\",IF('2C'!$D$14=18,\"SRF\",IF('2C'!$D$14=19,\"PG\",IF('2C'!$D$14=20,\"XTR\",””))))))))))))))))))))","v":{"$error":"#NAME?"}},{"$f":"IF('2A'!$F$14=1,\"TMTIK\",IF('2A'!$F$14=2,\"AA\",IF('2A'!$F$14=3,\"QH\",IF('2A'!$F$14=4,\"FQ\",IF('2A'!$F$14=5,\"SKI\",IF('2A'!$F$14=6,\"PKN\",IF('2A'!$F$14=7,\"BID\",IF('2A'!$F$14=8,\"BA\",IF('2A'!$F$14=9,\"MTK\",IF('2A'!$F$14=10,\"IPA\",IF('2A'!$F$14=11,\"IPS\",IF('2A'!$F$14=12,\"SBK\",IF('2A'!$F$14=13,\"PJK\",IF('2A'!$F$14=14,\"BD\",IF('2A'!$F$14=15,\"BIG\",IF('2A'!$F$14=16,\"AWJ\",IF('2A'!$F$14=17,\"NW\",IF('2A'!$F$14=18,\"SRF\",IF('2A'!$F$14=19,\"PG\",IF('2A'!$F$14=20,\"XTR\",””))))))))))))))))))))","v":{"$error":"#NAME?"}},{"$f":"IF('2B'!$F$14=1,\"TMTIK\",IF('2B'!$F$14=2,\"AA\",IF('2B'!$F$14=3,\"QH\",IF('2B'!$F$14=4,\"FQ\",IF('2B'!$F$14=5,\"SKI\",IF('2B'!$F$14=6,\"PKN\",IF('2B'!$F$14=7,\"BID\",IF('2B'!$F$14=8,\"BA\",IF('2B'!$F$14=9,\"MTK\",IF('2B'!$F$14=10,\"IPA\",IF('2B'!$F$14=11,\"IPS\",IF('2B'!$F$14=12,\"SBK\",IF('2B'!$F$14=13,\"PJK\",IF('2B'!$F$14=14,\"BD\",IF('2B'!$F$14=15,\"BIG\",IF('2B'!$F$14=16,\"AWJ\",IF('2B'!$F$14=17,\"NW\",IF('2B'!$F$14=18,\"SRF\",IF('2B'!$F$14=19,\"PG\",IF('2B'!$F$14=20,\"XTR\",””))))))))))))))))))))","v":{"$error":"#NAME?"}},{"$f":"IF('2C'!$F$14=1,\"TMTIK\",IF('2C'!$F$14=2,\"AA\",IF('2C'!$F$14=3,\"QH\",IF('2C'!$F$14=4,\"FQ\",IF('2C'!$F$14=5,\"SKI\",IF('2C'!$F$14=6,\"PKN\",IF('2C'!$F$14=7,\"BID\",IF('2C'!$F$14=8,\"BA\",IF('2C'!$F$14=9,\"MTK\",IF('2C'!$F$14=10,\"IPA\",IF('2C'!$F$14=11,\"IPS\",IF('2C'!$F$14=12,\"SBK\",IF('2C'!$F$14=13,\"PJK\",IF('2C'!$F$14=14,\"BD\",IF('2C'!$F$14=15,\"BIG\",IF('2C'!$F$14=16,\"AWJ\",IF('2C'!$F$14=17,\"NW\",IF('2C'!$F$14=18,\"SRF\",IF('2C'!$F$14=19,\"PG\",IF('2C'!$F$14=20,\"XTR\",””))))))))))))))))))))","v":{"$error":"#NAME?"}},{"$f":"IF('2A'!$H$14=1,\"TMTIK\",IF('2A'!$H$14=2,\"AA\",IF('2A'!$H$14=3,\"QH\",IF('2A'!$H$14=4,\"FQ\",IF('2A'!$H$14=5,\"SKI\",IF('2A'!$H$14=6,\"PKN\",IF('2A'!$H$14=7,\"BID\",IF('2A'!$H$14=8,\"BA\",IF('2A'!$H$14=9,\"MTK\",IF('2A'!$H$14=10,\"IPA\",IF('2A'!$H$14=11,\"IPS\",IF('2A'!$H$14=12,\"SBK\",IF('2A'!$H$14=13,\"PJK\",IF('2A'!$H$14=14,\"BD\",IF('2A'!$H$14=15,\"BIG\",IF('2A'!$H$14=16,\"AWJ\",IF('2A'!$H$14=17,\"NW\",IF('2A'!$H$14=18,\"SRF\",IF('2A'!$H$14=19,\"PG\",IF('2A'!$H$14=20,\"XTR\",””))))))))))))))))))))","v":{"$error":"#NAME?"}},{"$f":"IF('2B'!$H$14=1,\"TMTIK\",IF('2B'!$H$14=2,\"AA\",IF('2B'!$H$14=3,\"QH\",IF('2B'!$H$14=4,\"FQ\",IF('2B'!$H$14=5,\"SKI\",IF('2B'!$H$14=6,\"PKN\",IF('2B'!$H$14=7,\"BID\",IF('2B'!$H$14=8,\"BA\",IF('2B'!$H$14=9,\"MTK\",IF('2B'!$H$14=10,\"IPA\",IF('2B'!$H$14=11,\"IPS\",IF('2B'!$H$14=12,\"SBK\",IF('2B'!$H$14=13,\"PJK\",IF('2B'!$H$14=14,\"BD\",IF('2B'!$H$14=15,\"BIG\",IF('2B'!$H$14=16,\"AWJ\",IF('2B'!$H$14=17,\"NW\",IF('2B'!$H$14=18,\"SRF\",IF('2B'!$H$14=19,\"PG\",IF('2B'!$H$14=20,\"XTR\",””))))))))))))))))))))","v":{"$error":"#NAME?"}},{"$f":"IF('2C'!$H$14=1,\"TMTIK\",IF('2C'!$H$14=2,\"AA\",IF('2C'!$H$14=3,\"QH\",IF('2C'!$H$14=4,\"FQ\",IF('2C'!$H$14=5,\"SKI\",IF('2C'!$H$14=6,\"PKN\",IF('2C'!$H$14=7,\"BID\",IF('2C'!$H$14=8,\"BA\",IF('2C'!$H$14=9,\"MTK\",IF('2C'!$H$14=10,\"IPA\",IF('2C'!$H$14=11,\"IPS\",IF('2C'!$H$14=12,\"SBK\",IF('2C'!$H$14=13,\"PJK\",IF('2C'!$H$14=14,\"BD\",IF('2C'!$H$14=15,\"BIG\",IF('2C'!$H$14=16,\"AWJ\",IF('2C'!$H$14=17,\"NW\",IF('2C'!$H$14=18,\"SRF\",IF('2C'!$H$14=19,\"PG\",IF('2C'!$H$14=20,\"XTR\",””))))))))))))))))))))","v":{"$error":"#NAME?"}},{"$f":"IF('2A'!$J$14=1,\"TMTIK\",IF('2A'!$J$14=2,\"AA\",IF('2A'!$J$14=3,\"QH\",IF('2A'!$J$14=4,\"FQ\",IF('2A'!$J$14=5,\"SKI\",IF('2A'!$J$14=6,\"PKN\",IF('2A'!$J$14=7,\"BID\",IF('2A'!$J$14=8,\"BA\",IF('2A'!$J$14=9,\"MTK\",IF('2A'!$J$14=10,\"IPA\",IF('2A'!$J$14=11,\"IPS\",IF('2A'!$J$14=12,\"SBK\",IF('2A'!$J$14=13,\"PJK\",IF('2A'!$J$14=14,\"BD\",IF('2A'!$J$14=15,\"BIG\",IF('2A'!$J$14=16,\"AWJ\",IF('2A'!$J$14=17,\"NW\",IF('2A'!$J$14=18,\"SRF\",IF('2A'!$J$14=19,\"PG\",IF('2A'!$J$14=20,\"XTR\",””))))))))))))))))))))","v":{"$error":"#NAME?"}},{"$f":"IF('2B'!$J$14=1,\"TMTIK\",IF('2B'!$J$14=2,\"AA\",IF('2B'!$J$14=3,\"QH\",IF('2B'!$J$14=4,\"FQ\",IF('2B'!$J$14=5,\"SKI\",IF('2B'!$J$14=6,\"PKN\",IF('2B'!$J$14=7,\"BID\",IF('2B'!$J$14=8,\"BA\",IF('2B'!$J$14=9,\"MTK\",IF('2B'!$J$14=10,\"IPA\",IF('2B'!$J$14=11,\"IPS\",IF('2B'!$J$14=12,\"SBK\",IF('2B'!$J$14=13,\"PJK\",IF('2B'!$J$14=14,\"BD\",IF('2B'!$J$14=15,\"BIG\",IF('2B'!$J$14=16,\"AWJ\",IF('2B'!$J$14=17,\"NW\",IF('2B'!$J$14=18,\"SRF\",IF('2B'!$J$14=19,\"PG\",IF('2B'!$J$14=20,\"XTR\",””))))))))))))))))))))","v":{"$error":"#NAME?"}},{"$f":"IF('2C'!$J$14=1,\"TMTIK\",IF('2C'!$J$14=2,\"AA\",IF('2C'!$J$14=3,\"QH\",IF('2C'!$J$14=4,\"FQ\",IF('2C'!$J$14=5,\"SKI\",IF('2C'!$J$14=6,\"PKN\",IF('2C'!$J$14=7,\"BID\",IF('2C'!$J$14=8,\"BA\",IF('2C'!$J$14=9,\"MTK\",IF('2C'!$J$14=10,\"IPA\",IF('2C'!$J$14=11,\"IPS\",IF('2C'!$J$14=12,\"SBK\",IF('2C'!$J$14=13,\"PJK\",IF('2C'!$J$14=14,\"BD\",IF('2C'!$J$14=15,\"BIG\",IF('2C'!$J$14=16,\"AWJ\",IF('2C'!$J$14=17,\"NW\",IF('2C'!$J$14=18,\"SRF\",IF('2C'!$J$14=19,\"PG\",IF('2C'!$J$14=20,\"XTR\",””))))))))))))))))))))","v":{"$error":"#NAME?"}},{"$f":"IF('2A'!$N$14=1,\"TMTIK\",IF('2A'!$N$14=2,\"AA\",IF('2A'!$N$14=3,\"QH\",IF('2A'!$N$14=4,\"FQ\",IF('2A'!$N$14=5,\"SKI\",IF('2A'!$N$14=6,\"PKN\",IF('2A'!$N$14=7,\"BID\",IF('2A'!$N$14=8,\"BA\",IF('2A'!$N$14=9,\"MTK\",IF('2A'!$N$14=10,\"IPA\",IF('2A'!$N$14=11,\"IPS\",IF('2A'!$N$14=12,\"SBK\",IF('2A'!$N$14=13,\"PJK\",IF('2A'!$N$14=14,\"BD\",IF('2A'!$N$14=15,\"BIG\",IF('2A'!$N$14=16,\"AWJ\",IF('2A'!$N$14=17,\"NW\",IF('2A'!$N$14=18,\"SRF\",IF('2A'!$N$14=19,\"PG\",IF('2A'!$N$14=20,\"XTR\",””))))))))))))))))))))","v":{"$error":"#NAME?"}},{"$f":"IF('2B'!$N$14=1,\"TMTIK\",IF('2B'!$N$14=2,\"AA\",IF('2B'!$N$14=3,\"QH\",IF('2B'!$N$14=4,\"FQ\",IF('2B'!$N$14=5,\"SKI\",IF('2B'!$N$14=6,\"PKN\",IF('2B'!$N$14=7,\"BID\",IF('2B'!$N$14=8,\"BA\",IF('2B'!$N$14=9,\"MTK\",IF('2B'!$N$14=10,\"IPA\",IF('2B'!$N$14=11,\"IPS\",IF('2B'!$N$14=12,\"SBK\",IF('2B'!$N$14=13,\"PJK\",IF('2B'!$N$14=14,\"BD\",IF('2B'!$N$14=15,\"BIG\",IF('2B'!$N$14=16,\"AWJ\",IF('2B'!$N$14=17,\"NW\",IF('2B'!$N$14=18,\"SRF\",IF('2B'!$N$14=19,\"PG\",IF('2B'!$N$14=20,\"XTR\",””))))))))))))))))))))","v":{"$error":"#NAME?"}},{"$f":"IF('2C'!$N$14=1,\"TMTIK\",IF('2C'!$N$14=2,\"AA\",IF('2C'!$N$14=3,\"QH\",IF('2C'!$N$14=4,\"FQ\",IF('2C'!$N$14=5,\"SKI\",IF('2C'!$N$14=6,\"PKN\",IF('2C'!$N$14=7,\"BID\",IF('2C'!$N$14=8,\"BA\",IF('2C'!$N$14=9,\"MTK\",IF('2C'!$N$14=10,\"IPA\",IF('2C'!$N$14=11,\"IPS\",IF('2C'!$N$14=12,\"SBK\",IF('2C'!$N$14=13,\"PJK\",IF('2C'!$N$14=14,\"BD\",IF('2C'!$N$14=15,\"BIG\",IF('2C'!$N$14=16,\"AWJ\",IF('2C'!$N$14=17,\"NW\",IF('2C'!$N$14=18,\"SRF\",IF('2C'!$N$14=19,\"PG\",IF('2C'!$N$14=20,\"XTR\",””))))))))))))))))))))","v":{"$error":"#NAME?"}},{"$f":"IF('2A'!$D$27=1,\"TMTIK\",IF('2A'!$D$27=2,\"AA\",IF('2A'!$D$27=3,\"QH\",IF('2A'!$D$27=4,\"FQ\",IF('2A'!$D$27=5,\"SKI\",IF('2A'!$D$27=6,\"PKN\",IF('2A'!$D$27=7,\"BID\",IF('2A'!$D$27=8,\"BA\",IF('2A'!$D$27=9,\"MTK\",IF('2A'!$D$27=10,\"IPA\",IF('2A'!$D$27=11,\"IPS\",IF('2A'!$D$27=12,\"SBK\",IF('2A'!$D$27=13,\"PJK\",IF('2A'!$D$27=14,\"BD\",IF('2A'!$D$27=15,\"BIG\",IF('2A'!$D$27=16,\"AWJ\",IF('2A'!$D$27=17,\"NW\",IF('2A'!$D$27=18,\"SRF\",IF('2A'!$D$27=19,\"PG\",IF('2A'!$D$27=20,\"XTR\",””))))))))))))))))))))","v":{"$error":"#NAME?"}},{"$f":"IF('2B'!$D$27=1,\"TMTIK\",IF('2B'!$D$27=2,\"AA\",IF('2B'!$D$27=3,\"QH\",IF('2B'!$D$27=4,\"FQ\",IF('2B'!$D$27=5,\"SKI\",IF('2B'!$D$27=6,\"PKN\",IF('2B'!$D$27=7,\"BID\",IF('2B'!$D$27=8,\"BA\",IF('2B'!$D$27=9,\"MTK\",IF('2B'!$D$27=10,\"IPA\",IF('2B'!$D$27=11,\"IPS\",IF('2B'!$D$27=12,\"SBK\",IF('2B'!$D$27=13,\"PJK\",IF('2B'!$D$27=14,\"BD\",IF('2B'!$D$27=15,\"BIG\",IF('2B'!$D$27=16,\"AWJ\",IF('2B'!$D$27=17,\"NW\",IF('2B'!$D$27=18,\"SRF\",IF('2B'!$D$27=19,\"PG\",IF('2B'!$D$27=20,\"XTR\",””))))))))))))))))))))","v":{"$error":"#NAME?"}},{"$f":"IF('2C'!$D$27=1,\"TMTIK\",IF('2C'!$D$27=2,\"AA\",IF('2C'!$D$27=3,\"QH\",IF('2C'!$D$27=4,\"FQ\",IF('2C'!$D$27=5,\"SKI\",IF('2C'!$D$27=6,\"PKN\",IF('2C'!$D$27=7,\"BID\",IF('2C'!$D$27=8,\"BA\",IF('2C'!$D$27=9,\"MTK\",IF('2C'!$D$27=10,\"IPA\",IF('2C'!$D$27=11,\"IPS\",IF('2C'!$D$27=12,\"SBK\",IF('2C'!$D$27=13,\"PJK\",IF('2C'!$D$27=14,\"BD\",IF('2C'!$D$27=15,\"BIG\",IF('2C'!$D$27=16,\"AWJ\",IF('2C'!$D$27=17,\"NW\",IF('2C'!$D$27=18,\"SRF\",IF('2C'!$D$27=19,\"PG\",IF('2C'!$D$27=20,\"XTR\",””))))))))))))))))))))","v":{"$error":"#NAME?"}},14,19,"PG"]
[6,{"$f":"IF('2A'!$D$15=1,\"TMTIK\",IF('2A'!$D$15=2,\"AA\",IF('2A'!$D$15=3,\"QH\",IF('2A'!$D$15=4,\"FQ\",IF('2A'!$D$15=5,\"SKI\",IF('2A'!$D$15=6,\"PKN\",IF('2A'!$D$15=7,\"BID\",IF('2A'!$D$15=8,\"BA\",IF('2A'!$D$15=9,\"MTK\",IF('2A'!$D$15=10,\"IPA\",IF('2A'!$D$15=11,\"IPS\",IF('2A'!$D$15=12,\"SBK\",IF('2A'!$D$15=13,\"PJK\",IF('2A'!$D$15=14,\"BD\",IF('2A'!$D$15=15,\"BIG\",IF('2A'!$D$15=16,\"AWJ\",IF('2A'!$D$15=17,\"NW\",IF('2A'!$D$15=18,\"SRF\",IF('2A'!$D$15=19,\"PG\",IF('2A'!$D$15=20,\"XTR\",””))))))))))))))))))))","v":{"$error":"#NAME?"}},{"$f":"IF('2B'!$D$15=1,\"TMTIK\",IF('2B'!$D$15=2,\"AA\",IF('2B'!$D$15=3,\"QH\",IF('2B'!$D$15=4,\"FQ\",IF('2B'!$D$15=5,\"SKI\",IF('2B'!$D$15=6,\"PKN\",IF('2B'!$D$15=7,\"BID\",IF('2B'!$D$15=8,\"BA\",IF('2B'!$D$15=9,\"MTK\",IF('2B'!$D$15=10,\"IPA\",IF('2B'!$D$15=11,\"IPS\",IF('2B'!$D$15=12,\"SBK\",IF('2B'!$D$15=13,\"PJK\",IF('2B'!$D$15=14,\"BD\",IF('2B'!$D$15=15,\"BIG\",IF('2B'!$D$15=16,\"AWJ\",IF('2B'!$D$15=17,\"NW\",IF('2B'!$D$15=18,\"SRF\",IF('2B'!$D$15=19,\"PG\",IF('2B'!$D$15=20,\"XTR\",””))))))))))))))))))))","v":{"$error":"#NAME?"}},{"$f":"IF('2C'!$D$15=1,\"TMTIK\",IF('2C'!$D$15=2,\"AA\",IF('2C'!$D$15=3,\"QH\",IF('2C'!$D$15=4,\"FQ\",IF('2C'!$D$15=5,\"SKI\",IF('2C'!$D$15=6,\"PKN\",IF('2C'!$D$15=7,\"BID\",IF('2C'!$D$15=8,\"BA\",IF('2C'!$D$15=9,\"MTK\",IF('2C'!$D$15=10,\"IPA\",IF('2C'!$D$15=11,\"IPS\",IF('2C'!$D$15=12,\"SBK\",IF('2C'!$D$15=13,\"PJK\",IF('2C'!$D$15=14,\"BD\",IF('2C'!$D$15=15,\"BIG\",IF('2C'!$D$15=16,\"AWJ\",IF('2C'!$D$15=17,\"NW\",IF('2C'!$D$15=18,\"SRF\",IF('2C'!$D$15=19,\"PG\",IF('2C'!$D$15=20,\"XTR\",””))))))))))))))))))))","v":{"$error":"#NAME?"}},{"$f":"IF('2A'!$F$15=1,\"TMTIK\",IF('2A'!$F$15=2,\"AA\",IF('2A'!$F$15=3,\"QH\",IF('2A'!$F$15=4,\"FQ\",IF('2A'!$F$15=5,\"SKI\",IF('2A'!$F$15=6,\"PKN\",IF('2A'!$F$15=7,\"BID\",IF('2A'!$F$15=8,\"BA\",IF('2A'!$F$15=9,\"MTK\",IF('2A'!$F$15=10,\"IPA\",IF('2A'!$F$15=11,\"IPS\",IF('2A'!$F$15=12,\"SBK\",IF('2A'!$F$15=13,\"PJK\",IF('2A'!$F$15=14,\"BD\",IF('2A'!$F$15=15,\"BIG\",IF('2A'!$F$15=16,\"AWJ\",IF('2A'!$F$15=17,\"NW\",IF('2A'!$F$15=18,\"SRF\",IF('2A'!$F$15=19,\"PG\",IF('2A'!$F$15=20,\"XTR\",””))))))))))))))))))))","v":{"$error":"#NAME?"}},{"$f":"IF('2B'!$F$15=1,\"TMTIK\",IF('2B'!$F$15=2,\"AA\",IF('2B'!$F$15=3,\"QH\",IF('2B'!$F$15=4,\"FQ\",IF('2B'!$F$15=5,\"SKI\",IF('2B'!$F$15=6,\"PKN\",IF('2B'!$F$15=7,\"BID\",IF('2B'!$F$15=8,\"BA\",IF('2B'!$F$15=9,\"MTK\",IF('2B'!$F$15=10,\"IPA\",IF('2B'!$F$15=11,\"IPS\",IF('2B'!$F$15=12,\"SBK\",IF('2B'!$F$15=13,\"PJK\",IF('2B'!$F$15=14,\"BD\",IF('2B'!$F$15=15,\"BIG\",IF('2B'!$F$15=16,\"AWJ\",IF('2B'!$F$15=17,\"NW\",IF('2B'!$F$15=18,\"SRF\",IF('2B'!$F$15=19,\"PG\",IF('2B'!$F$15=20,\"XTR\",””))))))))))))))))))))","v":{"$error":"#NAME?"}},{"$f":"IF('2C'!$F$15=1,\"TMTIK\",IF('2C'!$F$15=2,\"AA\",IF('2C'!$F$15=3,\"QH\",IF('2C'!$F$15=4,\"FQ\",IF('2C'!$F$15=5,\"SKI\",IF('2C'!$F$15=6,\"PKN\",IF('2C'!$F$15=7,\"BID\",IF('2C'!$F$15=8,\"BA\",IF('2C'!$F$15=9,\"MTK\",IF('2C'!$F$15=10,\"IPA\",IF('2C'!$F$15=11,\"IPS\",IF('2C'!$F$15=12,\"SBK\",IF('2C'!$F$15=13,\"PJK\",IF('2C'!$F$15=14,\"BD\",IF('2C'!$F$15=15,\"BIG\",IF('2C'!$F$15=16,\"AWJ\",IF('2C'!$F$15=17,\"NW\",IF('2C'!$F$15=18,\"SRF\",IF('2C'!$F$15=19,\"PG\",IF('2C'!$F$15=20,\"XTR\",””))))))))))))))))))))","v":{"$error":"#NAME?"}},{"$f":"IF('2A'!$H$15=1,\"TMTIK\",IF('2A'!$H$15=2,\"AA\",IF('2A'!$H$15=3,\"QH\",IF('2A'!$H$15=4,\"FQ\",IF('2A'!$H$15=5,\"SKI\",IF('2A'!$H$15=6,\"PKN\",IF('2A'!$H$15=7,\"BID\",IF('2A'!$H$15=8,\"BA\",IF('2A'!$H$15=9,\"MTK\",IF('2A'!$H$15=10,\"IPA\",IF('2A'!$H$15=11,\"IPS\",IF('2A'!$H$15=12,\"SBK\",IF('2A'!$H$15=13,\"PJK\",IF('2A'!$H$15=14,\"BD\",IF('2A'!$H$15=15,\"BIG\",IF('2A'!$H$15=16,\"AWJ\",IF('2A'!$H$15=17,\"NW\",IF('2A'!$H$15=18,\"SRF\",IF('2A'!$H$15=19,\"PG\",IF('2A'!$H$15=20,\"XTR\",””))))))))))))))))))))","v":{"$error":"#NAME?"}},{"$f":"IF('2B'!$H$15=1,\"TMTIK\",IF('2B'!$H$15=2,\"AA\",IF('2B'!$H$15=3,\"QH\",IF('2B'!$H$15=4,\"FQ\",IF('2B'!$H$15=5,\"SKI\",IF('2B'!$H$15=6,\"PKN\",IF('2B'!$H$15=7,\"BID\",IF('2B'!$H$15=8,\"BA\",IF('2B'!$H$15=9,\"MTK\",IF('2B'!$H$15=10,\"IPA\",IF('2B'!$H$15=11,\"IPS\",IF('2B'!$H$15=12,\"SBK\",IF('2B'!$H$15=13,\"PJK\",IF('2B'!$H$15=14,\"BD\",IF('2B'!$H$15=15,\"BIG\",IF('2B'!$H$15=16,\"AWJ\",IF('2B'!$H$15=17,\"NW\",IF('2B'!$H$15=18,\"SRF\",IF('2B'!$H$15=19,\"PG\",IF('2B'!$H$15=20,\"XTR\",””))))))))))))))))))))","v":{"$error":"#NAME?"}},{"$f":"IF('2C'!$H$15=1,\"TMTIK\",IF('2C'!$H$15=2,\"AA\",IF('2C'!$H$15=3,\"QH\",IF('2C'!$H$15=4,\"FQ\",IF('2C'!$H$15=5,\"SKI\",IF('2C'!$H$15=6,\"PKN\",IF('2C'!$H$15=7,\"BID\",IF('2C'!$H$15=8,\"BA\",IF('2C'!$H$15=9,\"MTK\",IF('2C'!$H$15=10,\"IPA\",IF('2C'!$H$15=11,\"IPS\",IF('2C'!$H$15=12,\"SBK\",IF('2C'!$H$15=13,\"PJK\",IF('2C'!$H$15=14,\"BD\",IF('2C'!$H$15=15,\"BIG\",IF('2C'!$H$15=16,\"AWJ\",IF('2C'!$H$15=17,\"NW\",IF('2C'!$H$15=18,\"SRF\",IF('2C'!$H$15=19,\"PG\",IF('2C'!$H$15=20,\"XTR\",””))))))))))))))))))))","v":{"$error":"#NAME?"}},{"$f":"IF('2A'!$J$15=1,\"TMTIK\",IF('2A'!$J$15=2,\"AA\",IF('2A'!$J$15=3,\"QH\",IF('2A'!$J$15=4,\"FQ\",IF('2A'!$J$15=5,\"SKI\",IF('2A'!$J$15=6,\"PKN\",IF('2A'!$J$15=7,\"BID\",IF('2A'!$J$15=8,\"BA\",IF('2A'!$J$15=9,\"MTK\",IF('2A'!$J$15=10,\"IPA\",IF('2A'!$J$15=11,\"IPS\",IF('2A'!$J$15=12,\"SBK\",IF('2A'!$J$15=13,\"PJK\",IF('2A'!$J$15=14,\"BD\",IF('2A'!$J$15=15,\"BIG\",IF('2A'!$J$15=16,\"AWJ\",IF('2A'!$J$15=17,\"NW\",IF('2A'!$J$15=18,\"SRF\",IF('2A'!$J$15=19,\"PG\",IF('2A'!$J$15=20,\"XTR\",””))))))))))))))))))))","v":{"$error":"#NAME?"}},{"$f":"IF('2B'!$J$15=1,\"TMTIK\",IF('2B'!$J$15=2,\"AA\",IF('2B'!$J$15=3,\"QH\",IF('2B'!$J$15=4,\"FQ\",IF('2B'!$J$15=5,\"SKI\",IF('2B'!$J$15=6,\"PKN\",IF('2B'!$J$15=7,\"BID\",IF('2B'!$J$15=8,\"BA\",IF('2B'!$J$15=9,\"MTK\",IF('2B'!$J$15=10,\"IPA\",IF('2B'!$J$15=11,\"IPS\",IF('2B'!$J$15=12,\"SBK\",IF('2B'!$J$15=13,\"PJK\",IF('2B'!$J$15=14,\"BD\",IF('2B'!$J$15=15,\"BIG\",IF('2B'!$J$15=16,\"AWJ\",IF('2B'!$J$15=17,\"NW\",IF('2B'!$J$15=18,\"SRF\",IF('2B'!$J$15=19,\"PG\",IF('2B'!$J$15=20,\"XTR\",””))))))))))))))))))))","v":{"$error":"#NAME?"}},{"$f":"IF('2C'!$J$15=1,\"TMTIK\",IF('2C'!$J$15=2,\"AA\",IF('2C'!$J$15=3,\"QH\",IF('2C'!$J$15=4,\"FQ\",IF('2C'!$J$15=5,\"SKI\",IF('2C'!$J$15=6,\"PKN\",IF('2C'!$J$15=7,\"BID\",IF('2C'!$J$15=8,\"BA\",IF('2C'!$J$15=9,\"MTK\",IF('2C'!$J$15=10,\"IPA\",IF('2C'!$J$15=11,\"IPS\",IF('2C'!$J$15=12,\"SBK\",IF('2C'!$J$15=13,\"PJK\",IF('2C'!$J$15=14,\"BD\",IF('2C'!$J$15=15,\"BIG\",IF('2C'!$J$15=16,\"AWJ\",IF('2C'!$J$15=17,\"NW\",IF('2C'!$J$15=18,\"SRF\",IF('2C'!$J$15=19,\"PG\",IF('2C'!$J$15=20,\"XTR\",””))))))))))))))))))))","v":{"$error":"#NAME?"}},{"$f":"IF('2A'!$N$15=1,\"TMTIK\",IF('2A'!$N$15=2,\"AA\",IF('2A'!$N$15=3,\"QH\",IF('2A'!$N$15=4,\"FQ\",IF('2A'!$N$15=5,\"SKI\",IF('2A'!$N$15=6,\"PKN\",IF('2A'!$N$15=7,\"BID\",IF('2A'!$N$15=8,\"BA\",IF('2A'!$N$15=9,\"MTK\",IF('2A'!$N$15=10,\"IPA\",IF('2A'!$N$15=11,\"IPS\",IF('2A'!$N$15=12,\"SBK\",IF('2A'!$N$15=13,\"PJK\",IF('2A'!$N$15=14,\"BD\",IF('2A'!$N$15=15,\"BIG\",IF('2A'!$N$15=16,\"AWJ\",IF('2A'!$N$15=17,\"NW\",IF('2A'!$N$15=18,\"SRF\",IF('2A'!$N$15=19,\"PG\",IF('2A'!$N$15=20,\"XTR\",””))))))))))))))))))))","v":{"$error":"#NAME?"}},{"$f":"IF('2B'!$N$15=1,\"TMTIK\",IF('2B'!$N$15=2,\"AA\",IF('2B'!$N$15=3,\"QH\",IF('2B'!$N$15=4,\"FQ\",IF('2B'!$N$15=5,\"SKI\",IF('2B'!$N$15=6,\"PKN\",IF('2B'!$N$15=7,\"BID\",IF('2B'!$N$15=8,\"BA\",IF('2B'!$N$15=9,\"MTK\",IF('2B'!$N$15=10,\"IPA\",IF('2B'!$N$15=11,\"IPS\",IF('2B'!$N$15=12,\"SBK\",IF('2B'!$N$15=13,\"PJK\",IF('2B'!$N$15=14,\"BD\",IF('2B'!$N$15=15,\"BIG\",IF('2B'!$N$15=16,\"AWJ\",IF('2B'!$N$15=17,\"NW\",IF('2B'!$N$15=18,\"SRF\",IF('2B'!$N$15=19,\"PG\",IF('2B'!$N$15=20,\"XTR\",””))))))))))))))))))))","v":{"$error":"#NAME?"}},{"$f":"IF('2C'!$N$15=1,\"TMTIK\",IF('2C'!$N$15=2,\"AA\",IF('2C'!$N$15=3,\"QH\",IF('2C'!$N$15=4,\"FQ\",IF('2C'!$N$15=5,\"SKI\",IF('2C'!$N$15=6,\"PKN\",IF('2C'!$N$15=7,\"BID\",IF('2C'!$N$15=8,\"BA\",IF('2C'!$N$15=9,\"MTK\",IF('2C'!$N$15=10,\"IPA\",IF('2C'!$N$15=11,\"IPS\",IF('2C'!$N$15=12,\"SBK\",IF('2C'!$N$15=13,\"PJK\",IF('2C'!$N$15=14,\"BD\",IF('2C'!$N$15=15,\"BIG\",IF('2C'!$N$15=16,\"AWJ\",IF('2C'!$N$15=17,\"NW\",IF('2C'!$N$15=18,\"SRF\",IF('2C'!$N$15=19,\"PG\",IF('2C'!$N$15=20,\"XTR\",””))))))))))))))))))))","v":{"$error":"#NAME?"}},{"$f":"IF('2A'!$D$28=1,\"TMTIK\",IF('2A'!$D$28=2,\"AA\",IF('2A'!$D$28=3,\"QH\",IF('2A'!$D$28=4,\"FQ\",IF('2A'!$D$28=5,\"SKI\",IF('2A'!$D$28=6,\"PKN\",IF('2A'!$D$28=7,\"BID\",IF('2A'!$D$28=8,\"BA\",IF('2A'!$D$28=9,\"MTK\",IF('2A'!$D$28=10,\"IPA\",IF('2A'!$D$28=11,\"IPS\",IF('2A'!$D$28=12,\"SBK\",IF('2A'!$D$28=13,\"PJK\",IF('2A'!$D$28=14,\"BD\",IF('2A'!$D$28=15,\"BIG\",IF('2A'!$D$28=16,\"AWJ\",IF('2A'!$D$28=17,\"NW\",IF('2A'!$D$28=18,\"SRF\",IF('2A'!$D$28=19,\"PG\",IF('2A'!$D$28=20,\"XTR\",””))))))))))))))))))))","v":{"$error":"#NAME?"}},{"$f":"IF('2B'!$D$28=1,\"TMTIK\",IF('2B'!$D$28=2,\"AA\",IF('2B'!$D$28=3,\"QH\",IF('2B'!$D$28=4,\"FQ\",IF('2B'!$D$28=5,\"SKI\",IF('2B'!$D$28=6,\"PKN\",IF('2B'!$D$28=7,\"BID\",IF('2B'!$D$28=8,\"BA\",IF('2B'!$D$28=9,\"MTK\",IF('2B'!$D$28=10,\"IPA\",IF('2B'!$D$28=11,\"IPS\",IF('2B'!$D$28=12,\"SBK\",IF('2B'!$D$28=13,\"PJK\",IF('2B'!$D$28=14,\"BD\",IF('2B'!$D$28=15,\"BIG\",IF('2B'!$D$28=16,\"AWJ\",IF('2B'!$D$28=17,\"NW\",IF('2B'!$D$28=18,\"SRF\",IF('2B'!$D$28=19,\"PG\",IF('2B'!$D$28=20,\"XTR\",””))))))))))))))))))))","v":{"$error":"#NAME?"}},{"$f":"IF('2C'!$D$28=1,\"TMTIK\",IF('2C'!$D$28=2,\"AA\",IF('2C'!$D$28=3,\"QH\",IF('2C'!$D$28=4,\"FQ\",IF('2C'!$D$28=5,\"SKI\",IF('2C'!$D$28=6,\"PKN\",IF('2C'!$D$28=7,\"BID\",IF('2C'!$D$28=8,\"BA\",IF('2C'!$D$28=9,\"MTK\",IF('2C'!$D$28=10,\"IPA\",IF('2C'!$D$28=11,\"IPS\",IF('2C'!$D$28=12,\"SBK\",IF('2C'!$D$28=13,\"PJK\",IF('2C'!$D$28=14,\"BD\",IF('2C'!$D$28=15,\"BIG\",IF('2C'!$D$28=16,\"AWJ\",IF('2C'!$D$28=17,\"NW\",IF('2C'!$D$28=18,\"SRF\",IF('2C'!$D$28=19,\"PG\",IF('2C'!$D$28=20,\"XTR\",””))))))))))))))))))))","v":{"$error":"#NAME?"}},15]
[7,{"$f":"IF('2A'!$D$17=1,\"TMTIK\",IF('2A'!$D$17=2,\"AA\",IF('2A'!$D$17=3,\"QH\",IF('2A'!$D$17=4,\"FQ\",IF('2A'!$D$17=5,\"SKI\",IF('2A'!$D$17=6,\"PKN\",IF('2A'!$D$17=7,\"BID\",IF('2A'!$D$17=8,\"BA\",IF('2A'!$D$17=9,\"MTK\",IF('2A'!$D$17=10,\"IPA\",IF('2A'!$D$17=11,\"IPS\",IF('2A'!$D$17=12,\"SBK\",IF('2A'!$D$17=13,\"PJK\",IF('2A'!$D$17=14,\"BD\",IF('2A'!$D$17=15,\"BIG\",IF('2A'!$D$17=16,\"AWJ\",IF('2A'!$D$17=17,\"NW\",IF('2A'!$D$17=18,\"SRF\",IF('2A'!$D$17=19,\"PG\",IF('2A'!$D$17=20,\"XTR\",””))))))))))))))))))))","v":{"$error":"#NAME?"}},{"$f":"IF('2B'!$D$17=1,\"TMTIK\",IF('2B'!$D$17=2,\"AA\",IF('2B'!$D$17=3,\"QH\",IF('2B'!$D$17=4,\"FQ\",IF('2B'!$D$17=5,\"SKI\",IF('2B'!$D$17=6,\"PKN\",IF('2B'!$D$17=7,\"BID\",IF('2B'!$D$17=8,\"BA\",IF('2B'!$D$17=9,\"MTK\",IF('2B'!$D$17=10,\"IPA\",IF('2B'!$D$17=11,\"IPS\",IF('2B'!$D$17=12,\"SBK\",IF('2B'!$D$17=13,\"PJK\",IF('2B'!$D$17=14,\"BD\",IF('2B'!$D$17=15,\"BIG\",IF('2B'!$D$17=16,\"AWJ\",IF('2B'!$D$17=17,\"NW\",IF('2B'!$D$17=18,\"SRF\",IF('2B'!$D$17=19,\"PG\",IF('2B'!$D$17=20,\"XTR\",””))))))))))))))))))))","v":{"$error":"#NAME?"}},{"$f":"IF('2C'!$D$17=1,\"TMTIK\",IF('2C'!$D$17=2,\"AA\",IF('2C'!$D$17=3,\"QH\",IF('2C'!$D$17=4,\"FQ\",IF('2C'!$D$17=5,\"SKI\",IF('2C'!$D$17=6,\"PKN\",IF('2C'!$D$17=7,\"BID\",IF('2C'!$D$17=8,\"BA\",IF('2C'!$D$17=9,\"MTK\",IF('2C'!$D$17=10,\"IPA\",IF('2C'!$D$17=11,\"IPS\",IF('2C'!$D$17=12,\"SBK\",IF('2C'!$D$17=13,\"PJK\",IF('2C'!$D$17=14,\"BD\",IF('2C'!$D$17=15,\"BIG\",IF('2C'!$D$17=16,\"AWJ\",IF('2C'!$D$17=17,\"NW\",IF('2C'!$D$17=18,\"SRF\",IF('2C'!$D$17=19,\"PG\",IF('2C'!$D$17=20,\"XTR\",””))))))))))))))))))))","v":{"$error":"#NAME?"}},{"$f":"IF('2A'!$F$17=1,\"TMTIK\",IF('2A'!$F$17=2,\"AA\",IF('2A'!$F$17=3,\"QH\",IF('2A'!$F$17=4,\"FQ\",IF('2A'!$F$17=5,\"SKI\",IF('2A'!$F$17=6,\"PKN\",IF('2A'!$F$17=7,\"BID\",IF('2A'!$F$17=8,\"BA\",IF('2A'!$F$17=9,\"MTK\",IF('2A'!$F$17=10,\"IPA\",IF('2A'!$F$17=11,\"IPS\",IF('2A'!$F$17=12,\"SBK\",IF('2A'!$F$17=13,\"PJK\",IF('2A'!$F$17=14,\"BD\",IF('2A'!$F$17=15,\"BIG\",IF('2A'!$F$17=16,\"AWJ\",IF('2A'!$F$17=17,\"NW\",IF('2A'!$F$17=18,\"SRF\",IF('2A'!$F$17=19,\"PG\",IF('2A'!$F$17=20,\"XTR\",””))))))))))))))))))))","v":{"$error":"#NAME?"}},{"$f":"IF('2B'!$F$17=1,\"TMTIK\",IF('2B'!$F$17=2,\"AA\",IF('2B'!$F$17=3,\"QH\",IF('2B'!$F$17=4,\"FQ\",IF('2B'!$F$17=5,\"SKI\",IF('2B'!$F$17=6,\"PKN\",IF('2B'!$F$17=7,\"BID\",IF('2B'!$F$17=8,\"BA\",IF('2B'!$F$17=9,\"MTK\",IF('2B'!$F$17=10,\"IPA\",IF('2B'!$F$17=11,\"IPS\",IF('2B'!$F$17=12,\"SBK\",IF('2B'!$F$17=13,\"PJK\",IF('2B'!$F$17=14,\"BD\",IF('2B'!$F$17=15,\"BIG\",IF('2B'!$F$17=16,\"AWJ\",IF('2B'!$F$17=17,\"NW\",IF('2B'!$F$17=18,\"SRF\",IF('2B'!$F$17=19,\"PG\",IF('2B'!$F$17=20,\"XTR\",””))))))))))))))))))))","v":{"$error":"#NAME?"}},{"$f":"IF('2C'!$F$17=1,\"TMTIK\",IF('2C'!$F$17=2,\"AA\",IF('2C'!$F$17=3,\"QH\",IF('2C'!$F$17=4,\"FQ\",IF('2C'!$F$17=5,\"SKI\",IF('2C'!$F$17=6,\"PKN\",IF('2C'!$F$17=7,\"BID\",IF('2C'!$F$17=8,\"BA\",IF('2C'!$F$17=9,\"MTK\",IF('2C'!$F$17=10,\"IPA\",IF('2C'!$F$17=11,\"IPS\",IF('2C'!$F$17=12,\"SBK\",IF('2C'!$F$17=13,\"PJK\",IF('2C'!$F$17=14,\"BD\",IF('2C'!$F$17=15,\"BIG\",IF('2C'!$F$17=16,\"AWJ\",IF('2C'!$F$17=17,\"NW\",IF('2C'!$F$17=18,\"SRF\",IF('2C'!$F$17=19,\"PG\",IF('2C'!$F$17=20,\"XTR\",””))))))))))))))))))))","v":{"$error":"#NAME?"}},{"$f":"IF('2A'!$H$17=1,\"TMTIK\",IF('2A'!$H$17=2,\"AA\",IF('2A'!$H$17=3,\"QH\",IF('2A'!$H$17=4,\"FQ\",IF('2A'!$H$17=5,\"SKI\",IF('2A'!$H$17=6,\"PKN\",IF('2A'!$H$17=7,\"BID\",IF('2A'!$H$17=8,\"BA\",IF('2A'!$H$17=9,\"MTK\",IF('2A'!$H$17=10,\"IPA\",IF('2A'!$H$17=11,\"IPS\",IF('2A'!$H$17=12,\"SBK\",IF('2A'!$H$17=13,\"PJK\",IF('2A'!$H$17=14,\"BD\",IF('2A'!$H$17=15,\"BIG\",IF('2A'!$H$17=16,\"AWJ\",IF('2A'!$H$17=17,\"NW\",IF('2A'!$H$17=18,\"SRF\",IF('2A'!$H$17=19,\"PG\",IF('2A'!$H$17=20,\"XTR\",””))))))))))))))))))))","v":{"$error":"#NAME?"}},{"$f":"IF('2B'!$H$17=1,\"TMTIK\",IF('2B'!$H$17=2,\"AA\",IF('2B'!$H$17=3,\"QH\",IF('2B'!$H$17=4,\"FQ\",IF('2B'!$H$17=5,\"SKI\",IF('2B'!$H$17=6,\"PKN\",IF('2B'!$H$17=7,\"BID\",IF('2B'!$H$17=8,\"BA\",IF('2B'!$H$17=9,\"MTK\",IF('2B'!$H$17=10,\"IPA\",IF('2B'!$H$17=11,\"IPS\",IF('2B'!$H$17=12,\"SBK\",IF('2B'!$H$17=13,\"PJK\",IF('2B'!$H$17=14,\"BD\",IF('2B'!$H$17=15,\"BIG\",IF('2B'!$H$17=16,\"AWJ\",IF('2B'!$H$17=17,\"NW\",IF('2B'!$H$17=18,\"SRF\",IF('2B'!$H$17=19,\"PG\",IF('2B'!$H$17=20,\"XTR\",””))))))))))))))))))))","v":{"$error":"#NAME?"}},{"$f":"IF('2C'!$H$17=1,\"TMTIK\",IF('2C'!$H$17=2,\"AA\",IF('2C'!$H$17=3,\"QH\",IF('2C'!$H$17=4,\"FQ\",IF('2C'!$H$17=5,\"SKI\",IF('2C'!$H$17=6,\"PKN\",IF('2C'!$H$17=7,\"BID\",IF('2C'!$H$17=8,\"BA\",IF('2C'!$H$17=9,\"MTK\",IF('2C'!$H$17=10,\"IPA\",IF('2C'!$H$17=11,\"IPS\",IF('2C'!$H$17=12,\"SBK\",IF('2C'!$H$17=13,\"PJK\",IF('2C'!$H$17=14,\"BD\",IF('2C'!$H$17=15,\"BIG\",IF('2C'!$H$17=16,\"AWJ\",IF('2C'!$H$17=17,\"NW\",IF('2C'!$H$17=18,\"SRF\",IF('2C'!$H$17=19,\"PG\",IF('2C'!$H$17=20,\"XTR\",””))))))))))))))))))))","v":{"$error":"#NAME?"}},{"$f":"IF('2A'!$J$17=1,\"TMTIK\",IF('2A'!$J$17=2,\"AA\",IF('2A'!$J$17=3,\"QH\",IF('2A'!$J$17=4,\"FQ\",IF('2A'!$J$17=5,\"SKI\",IF('2A'!$J$17=6,\"PKN\",IF('2A'!$J$17=7,\"BID\",IF('2A'!$J$17=8,\"BA\",IF('2A'!$J$17=9,\"MTK\",IF('2A'!$J$17=10,\"IPA\",IF('2A'!$J$17=11,\"IPS\",IF('2A'!$J$17=12,\"SBK\",IF('2A'!$J$17=13,\"PJK\",IF('2A'!$J$17=14,\"BD\",IF('2A'!$J$17=15,\"BIG\",IF('2A'!$J$17=16,\"AWJ\",IF('2A'!$J$17=17,\"NW\",IF('2A'!$J$17=18,\"SRF\",IF('2A'!$J$17=19,\"PG\",IF('2A'!$J$17=20,\"XTR\",””))))))))))))))))))))","v":{"$error":"#NAME?"}},{"$f":"IF('2B'!$J$17=1,\"TMTIK\",IF('2B'!$J$17=2,\"AA\",IF('2B'!$J$17=3,\"QH\",IF('2B'!$J$17=4,\"FQ\",IF('2B'!$J$17=5,\"SKI\",IF('2B'!$J$17=6,\"PKN\",IF('2B'!$J$17=7,\"BID\",IF('2B'!$J$17=8,\"BA\",IF('2B'!$J$17=9,\"MTK\",IF('2B'!$J$17=10,\"IPA\",IF('2B'!$J$17=11,\"IPS\",IF('2B'!$J$17=12,\"SBK\",IF('2B'!$J$17=13,\"PJK\",IF('2B'!$J$17=14,\"BD\",IF('2B'!$J$17=15,\"BIG\",IF('2B'!$J$17=16,\"AWJ\",IF('2B'!$J$17=17,\"NW\",IF('2B'!$J$17=18,\"SRF\",IF('2B'!$J$17=19,\"PG\",IF('2B'!$J$17=20,\"XTR\",””))))))))))))))))))))","v":{"$error":"#NAME?"}},{"$f":"IF('2C'!$J$17=1,\"TMTIK\",IF('2C'!$J$17=2,\"AA\",IF('2C'!$J$17=3,\"QH\",IF('2C'!$J$17=4,\"FQ\",IF('2C'!$J$17=5,\"SKI\",IF('2C'!$J$17=6,\"PKN\",IF('2C'!$J$17=7,\"BID\",IF('2C'!$J$17=8,\"BA\",IF('2C'!$J$17=9,\"MTK\",IF('2C'!$J$17=10,\"IPA\",IF('2C'!$J$17=11,\"IPS\",IF('2C'!$J$17=12,\"SBK\",IF('2C'!$J$17=13,\"PJK\",IF('2C'!$J$17=14,\"BD\",IF('2C'!$J$17=15,\"BIG\",IF('2C'!$J$17=16,\"AWJ\",IF('2C'!$J$17=17,\"NW\",IF('2C'!$J$17=18,\"SRF\",IF('2C'!$J$17=19,\"PG\",IF('2C'!$J$17=20,\"XTR\",””))))))))))))))))))))","v":{"$error":"#NAME?"}},{"$f":"IF('2A'!$N$17=1,\"TMTIK\",IF('2A'!$N$17=2,\"AA\",IF('2A'!$N$17=3,\"QH\",IF('2A'!$N$17=4,\"FQ\",IF('2A'!$N$17=5,\"SKI\",IF('2A'!$N$17=6,\"PKN\",IF('2A'!$N$17=7,\"BID\",IF('2A'!$N$17=8,\"BA\",IF('2A'!$N$17=9,\"MTK\",IF('2A'!$N$17=10,\"IPA\",IF('2A'!$N$17=11,\"IPS\",IF('2A'!$N$17=12,\"SBK\",IF('2A'!$N$17=13,\"PJK\",IF('2A'!$N$17=14,\"BD\",IF('2A'!$N$17=15,\"BIG\",IF('2A'!$N$17=16,\"AWJ\",IF('2A'!$N$17=17,\"NW\",IF('2A'!$N$17=18,\"SRF\",IF('2A'!$N$17=19,\"PG\",IF('2A'!$N$17=20,\"XTR\",””))))))))))))))))))))","v":{"$error":"#NAME?"}},{"$f":"IF('2B'!$N$17=1,\"TMTIK\",IF('2B'!$N$17=2,\"AA\",IF('2B'!$N$17=3,\"QH\",IF('2B'!$N$17=4,\"FQ\",IF('2B'!$N$17=5,\"SKI\",IF('2B'!$N$17=6,\"PKN\",IF('2B'!$N$17=7,\"BID\",IF('2B'!$N$17=8,\"BA\",IF('2B'!$N$17=9,\"MTK\",IF('2B'!$N$17=10,\"IPA\",IF('2B'!$N$17=11,\"IPS\",IF('2B'!$N$17=12,\"SBK\",IF('2B'!$N$17=13,\"PJK\",IF('2B'!$N$17=14,\"BD\",IF('2B'!$N$17=15,\"BIG\",IF('2B'!$N$17=16,\"AWJ\",IF('2B'!$N$17=17,\"NW\",IF('2B'!$N$17=18,\"SRF\",IF('2B'!$N$17=19,\"PG\",IF('2B'!$N$17=20,\"XTR\",””))))))))))))))))))))","v":{"$error":"#NAME?"}},{"$f":"IF('2C'!$N$17=1,\"TMTIK\",IF('2C'!$N$17=2,\"AA\",IF('2C'!$N$17=3,\"QH\",IF('2C'!$N$17=4,\"FQ\",IF('2C'!$N$17=5,\"SKI\",IF('2C'!$N$17=6,\"PKN\",IF('2C'!$N$17=7,\"BID\",IF('2C'!$N$17=8,\"BA\",IF('2C'!$N$17=9,\"MTK\",IF('2C'!$N$17=10,\"IPA\",IF('2C'!$N$17=11,\"IPS\",IF('2C'!$N$17=12,\"SBK\",IF('2C'!$N$17=13,\"PJK\",IF('2C'!$N$17=14,\"BD\",IF('2C'!$N$17=15,\"BIG\",IF('2C'!$N$17=16,\"AWJ\",IF('2C'!$N$17=17,\"NW\",IF('2C'!$N$17=18,\"SRF\",IF('2C'!$N$17=19,\"PG\",IF('2C'!$N$17=20,\"XTR\",””))))))))))))))))))))","v":{"$error":"#NAME?"}},null,null,null,17]
[8,{"$f":"IF('2A'!$D$18=1,\"TMTIK\",IF('2A'!$D$18=2,\"AA\",IF('2A'!$D$18=3,\"QH\",IF('2A'!$D$18=4,\"FQ\",IF('2A'!$D$18=5,\"SKI\",IF('2A'!$D$18=6,\"PKN\",IF('2A'!$D$18=7,\"BID\",IF('2A'!$D$18=8,\"BA\",IF('2A'!$D$18=9,\"MTK\",IF('2A'!$D$18=10,\"IPA\",IF('2A'!$D$18=11,\"IPS\",IF('2A'!$D$18=12,\"SBK\",IF('2A'!$D$18=13,\"PJK\",IF('2A'!$D$18=14,\"BD\",IF('2A'!$D$18=15,\"BIG\",IF('2A'!$D$18=16,\"AWJ\",IF('2A'!$D$18=17,\"NW\",IF('2A'!$D$18=18,\"SRF\",IF('2A'!$D$18=19,\"PG\",IF('2A'!$D$18=20,\"XTR\",””))))))))))))))))))))","v":{"$error":"#NAME?"}},{"$f":"IF('2B'!$D$18=1,\"TMTIK\",IF('2B'!$D$18=2,\"AA\",IF('2B'!$D$18=3,\"QH\",IF('2B'!$D$18=4,\"FQ\",IF('2B'!$D$18=5,\"SKI\",IF('2B'!$D$18=6,\"PKN\",IF('2B'!$D$18=7,\"BID\",IF('2B'!$D$18=8,\"BA\",IF('2B'!$D$18=9,\"MTK\",IF('2B'!$D$18=10,\"IPA\",IF('2B'!$D$18=11,\"IPS\",IF('2B'!$D$18=12,\"SBK\",IF('2B'!$D$18=13,\"PJK\",IF('2B'!$D$18=14,\"BD\",IF('2B'!$D$18=15,\"BIG\",IF('2B'!$D$18=16,\"AWJ\",IF('2B'!$D$18=17,\"NW\",IF('2B'!$D$18=18,\"SRF\",IF('2B'!$D$18=19,\"PG\",IF('2B'!$D$18=20,\"XTR\",””))))))))))))))))))))","v":{"$error":"#NAME?"}},{"$f":"IF('2C'!$D$18=1,\"TMTIK\",IF('2C'!$D$18=2,\"AA\",IF('2C'!$D$18=3,\"QH\",IF('2C'!$D$18=4,\"FQ\",IF('2C'!$D$18=5,\"SKI\",IF('2C'!$D$18=6,\"PKN\",IF('2C'!$D$18=7,\"BID\",IF('2C'!$D$18=8,\"BA\",IF('2C'!$D$18=9,\"MTK\",IF('2C'!$D$18=10,\"IPA\",IF('2C'!$D$18=11,\"IPS\",IF('2C'!$D$18=12,\"SBK\",IF('2C'!$D$18=13,\"PJK\",IF('2C'!$D$18=14,\"BD\",IF('2C'!$D$18=15,\"BIG\",IF('2C'!$D$18=16,\"AWJ\",IF('2C'!$D$18=17,\"NW\",IF('2C'!$D$18=18,\"SRF\",IF('2C'!$D$18=19,\"PG\",IF('2C'!$D$18=20,\"XTR\",””))))))))))))))))))))","v":{"$error":"#NAME?"}},{"$f":"IF('2A'!$F$18=1,\"TMTIK\",IF('2A'!$F$18=2,\"AA\",IF('2A'!$F$18=3,\"QH\",IF('2A'!$F$18=4,\"FQ\",IF('2A'!$F$18=5,\"SKI\",IF('2A'!$F$18=6,\"PKN\",IF('2A'!$F$18=7,\"BID\",IF('2A'!$F$18=8,\"BA\",IF('2A'!$F$18=9,\"MTK\",IF('2A'!$F$18=10,\"IPA\",IF('2A'!$F$18=11,\"IPS\",IF('2A'!$F$18=12,\"SBK\",IF('2A'!$F$18=13,\"PJK\",IF('2A'!$F$18=14,\"BD\",IF('2A'!$F$18=15,\"BIG\",IF('2A'!$F$18=16,\"AWJ\",IF('2A'!$F$18=17,\"NW\",IF('2A'!$F$18=18,\"SRF\",IF('2A'!$F$18=19,\"PG\",IF('2A'!$F$18=20,\"XTR\",””))))))))))))))))))))","v":{"$error":"#NAME?"}},{"$f":"IF('2B'!$F$18=1,\"TMTIK\",IF('2B'!$F$18=2,\"AA\",IF('2B'!$F$18=3,\"QH\",IF('2B'!$F$18=4,\"FQ\",IF('2B'!$F$18=5,\"SKI\",IF('2B'!$F$18=6,\"PKN\",IF('2B'!$F$18=7,\"BID\",IF('2B'!$F$18=8,\"BA\",IF('2B'!$F$18=9,\"MTK\",IF('2B'!$F$18=10,\"IPA\",IF('2B'!$F$18=11,\"IPS\",IF('2B'!$F$18=12,\"SBK\",IF('2B'!$F$18=13,\"PJK\",IF('2B'!$F$18=14,\"BD\",IF('2B'!$F$18=15,\"BIG\",IF('2B'!$F$18=16,\"AWJ\",IF('2B'!$F$18=17,\"NW\",IF('2B'!$F$18=18,\"SRF\",IF('2B'!$F$18=19,\"PG\",IF('2B'!$F$18=20,\"XTR\",””))))))))))))))))))))","v":{"$error":"#NAME?"}},{"$f":"IF('2C'!$F$18=1,\"TMTIK\",IF('2C'!$F$18=2,\"AA\",IF('2C'!$F$18=3,\"QH\",IF('2C'!$F$18=4,\"FQ\",IF('2C'!$F$18=5,\"SKI\",IF('2C'!$F$18=6,\"PKN\",IF('2C'!$F$18=7,\"BID\",IF('2C'!$F$18=8,\"BA\",IF('2C'!$F$18=9,\"MTK\",IF('2C'!$F$18=10,\"IPA\",IF('2C'!$F$18=11,\"IPS\",IF('2C'!$F$18=12,\"SBK\",IF('2C'!$F$18=13,\"PJK\",IF('2C'!$F$18=14,\"BD\",IF('2C'!$F$18=15,\"BIG\",IF('2C'!$F$18=16,\"AWJ\",IF('2C'!$F$18=17,\"NW\",IF('2C'!$F$18=18,\"SRF\",IF('2C'!$F$18=19,\"PG\",IF('2C'!$F$18=20,\"XTR\",””))))))))))))))))))))","v":{"$error":"#NAME?"}},{"$f":"IF('2A'!$H$18=1,\"TMTIK\",IF('2A'!$H$18=2,\"AA\",IF('2A'!$H$18=3,\"QH\",IF('2A'!$H$18=4,\"FQ\",IF('2A'!$H$18=5,\"SKI\",IF('2A'!$H$18=6,\"PKN\",IF('2A'!$H$18=7,\"BID\",IF('2A'!$H$18=8,\"BA\",IF('2A'!$H$18=9,\"MTK\",IF('2A'!$H$18=10,\"IPA\",IF('2A'!$H$18=11,\"IPS\",IF('2A'!$H$18=12,\"SBK\",IF('2A'!$H$18=13,\"PJK\",IF('2A'!$H$18=14,\"BD\",IF('2A'!$H$18=15,\"BIG\",IF('2A'!$H$18=16,\"AWJ\",IF('2A'!$H$18=17,\"NW\",IF('2A'!$H$18=18,\"SRF\",IF('2A'!$H$18=19,\"PG\",IF('2A'!$H$18=20,\"XTR\",””))))))))))))))))))))","v":{"$error":"#NAME?"}},{"$f":"IF('2B'!$H$18=1,\"TMTIK\",IF('2B'!$H$18=2,\"AA\",IF('2B'!$H$18=3,\"QH\",IF('2B'!$H$18=4,\"FQ\",IF('2B'!$H$18=5,\"SKI\",IF('2B'!$H$18=6,\"PKN\",IF('2B'!$H$18=7,\"BID\",IF('2B'!$H$18=8,\"BA\",IF('2B'!$H$18=9,\"MTK\",IF('2B'!$H$18=10,\"IPA\",IF('2B'!$H$18=11,\"IPS\",IF('2B'!$H$18=12,\"SBK\",IF('2B'!$H$18=13,\"PJK\",IF('2B'!$H$18=14,\"BD\",IF('2B'!$H$18=15,\"BIG\",IF('2B'!$H$18=16,\"AWJ\",IF('2B'!$H$18=17,\"NW\",IF('2B'!$H$18=18,\"SRF\",IF('2B'!$H$18=19,\"PG\",IF('2B'!$H$18=20,\"XTR\",””))))))))))))))))))))","v":{"$error":"#NAME?"}},{"$f":"IF('2C'!$H$18=1,\"TMTIK\",IF('2C'!$H$18=2,\"AA\",IF('2C'!$H$18=3,\"QH\",IF('2C'!$H$18=4,\"FQ\",IF('2C'!$H$18=5,\"SKI\",IF('2C'!$H$18=6,\"PKN\",IF('2C'!$H$18=7,\"BID\",IF('2C'!$H$18=8,\"BA\",IF('2C'!$H$18=9,\"MTK\",IF('2C'!$H$18=10,\"IPA\",IF('2C'!$H$18=11,\"IPS\",IF('2C'!$H$18=12,\"SBK\",IF('2C'!$H$18=13,\"PJK\",IF('2C'!$H$18=14,\"BD\",IF('2C'!$H$18=15,\"BIG\",IF('2C'!$H$18=16,\"AWJ\",IF('2C'!$H$18=17,\"NW\",IF('2C'!$H$18=18,\"SRF\",IF('2C'!$H$18=19,\"PG\",IF('2C'!$H$18=20,\"XTR\",””))))))))))))))))))))","v":{"$error":"#NAME?"}},{"$f":"IF('2A'!$J$18=1,\"TMTIK\",IF('2A'!$J$18=2,\"AA\",IF('2A'!$J$18=3,\"QH\",IF('2A'!$J$18=4,\"FQ\",IF('2A'!$J$18=5,\"SKI\",IF('2A'!$J$18=6,\"PKN\",IF('2A'!$J$18=7,\"BID\",IF('2A'!$J$18=8,\"BA\",IF('2A'!$J$18=9,\"MTK\",IF('2A'!$J$18=10,\"IPA\",IF('2A'!$J$18=11,\"IPS\",IF('2A'!$J$18=12,\"SBK\",IF('2A'!$J$18=13,\"PJK\",IF('2A'!$J$18=14,\"BD\",IF('2A'!$J$18=15,\"BIG\",IF('2A'!$J$18=16,\"AWJ\",IF('2A'!$J$18=17,\"NW\",IF('2A'!$J$18=18,\"SRF\",IF('2A'!$J$18=19,\"PG\",IF('2A'!$J$18=20,\"XTR\",””))))))))))))))))))))","v":{"$error":"#NAME?"}},{"$f":"IF('2B'!$J$18=1,\"TMTIK\",IF('2B'!$J$18=2,\"AA\",IF('2B'!$J$18=3,\"QH\",IF('2B'!$J$18=4,\"FQ\",IF('2B'!$J$18=5,\"SKI\",IF('2B'!$J$18=6,\"PKN\",IF('2B'!$J$18=7,\"BID\",IF('2B'!$J$18=8,\"BA\",IF('2B'!$J$18=9,\"MTK\",IF('2B'!$J$18=10,\"IPA\",IF('2B'!$J$18=11,\"IPS\",IF('2B'!$J$18=12,\"SBK\",IF('2B'!$J$18=13,\"PJK\",IF('2B'!$J$18=14,\"BD\",IF('2B'!$J$18=15,\"BIG\",IF('2B'!$J$18=16,\"AWJ\",IF('2B'!$J$18=17,\"NW\",IF('2B'!$J$18=18,\"SRF\",IF('2B'!$J$18=19,\"PG\",IF('2B'!$J$18=20,\"XTR\",””))))))))))))))))))))","v":{"$error":"#NAME?"}},{"$f":"IF('2C'!$J$18=1,\"TMTIK\",IF('2C'!$J$18=2,\"AA\",IF('2C'!$J$18=3,\"QH\",IF('2C'!$J$18=4,\"FQ\",IF('2C'!$J$18=5,\"SKI\",IF('2C'!$J$18=6,\"PKN\",IF('2C'!$J$18=7,\"BID\",IF('2C'!$J$18=8,\"BA\",IF('2C'!$J$18=9,\"MTK\",IF('2C'!$J$18=10,\"IPA\",IF('2C'!$J$18=11,\"IPS\",IF('2C'!$J$18=12,\"SBK\",IF('2C'!$J$18=13,\"PJK\",IF('2C'!$J$18=14,\"BD\",IF('2C'!$J$18=15,\"BIG\",IF('2C'!$J$18=16,\"AWJ\",IF('2C'!$J$18=17,\"NW\",IF('2C'!$J$18=18,\"SRF\",IF('2C'!$J$18=19,\"PG\",IF('2C'!$J$18=20,\"XTR\",””))))))))))))))))))))","v":{"$error":"#NAME?"}},{"$f":"IF('2A'!$N$18=1,\"TMTIK\",IF('2A'!$N$18=2,\"AA\",IF('2A'!$N$18=3,\"QH\",IF('2A'!$N$18=4,\"FQ\",IF('2A'!$N$18=5,\"SKI\",IF('2A'!$N$18=6,\"PKN\",IF('2A'!$N$18=7,\"BID\",IF('2A'!$N$18=8,\"BA\",IF('2A'!$N$18=9,\"MTK\",IF('2A'!$N$18=10,\"IPA\",IF('2A'!$N$18=11,\"IPS\",IF('2A'!$N$18=12,\"SBK\",IF('2A'!$N$18=13,\"PJK\",IF('2A'!$N$18=14,\"BD\",IF('2A'!$N$18=15,\"BIG\",IF('2A'!$N$18=16,\"AWJ\",IF('2A'!$N$18=17,\"NW\",IF('2A'!$N$18=18,\"SRF\",IF('2A'!$N$18=19,\"PG\",IF('2A'!$N$18=20,\"XTR\",””))))))))))))))))))))","v":{"$error":"#NAME?"}},{"$f":"IF('2B'!$N$18=1,\"TMTIK\",IF('2B'!$N$18=2,\"AA\",IF('2B'!$N$18=3,\"QH\",IF('2B'!$N$18=4,\"FQ\",IF('2B'!$N$18=5,\"SKI\",IF('2B'!$N$18=6,\"PKN\",IF('2B'!$N$18=7,\"BID\",IF('2B'!$N$18=8,\"BA\",IF('2B'!$N$18=9,\"MTK\",IF('2B'!$N$18=10,\"IPA\",IF('2B'!$N$18=11,\"IPS\",IF('2B'!$N$18=12,\"SBK\",IF('2B'!$N$18=13,\"PJK\",IF('2B'!$N$18=14,\"BD\",IF('2B'!$N$18=15,\"BIG\",IF('2B'!$N$18=16,\"AWJ\",IF('2B'!$N$18=17,\"NW\",IF('2B'!$N$18=18,\"SRF\",IF('2B'!$N$18=19,\"PG\",IF('2B'!$N$18=20,\"XTR\",””))))))))))))))))))))","v":{"$error":"#NAME?"}},{"$f":"IF('2C'!$N$18=1,\"TMTIK\",IF('2C'!$N$18=2,\"AA\",IF('2C'!$N$18=3,\"QH\",IF('2C'!$N$18=4,\"FQ\",IF('2C'!$N$18=5,\"SKI\",IF('2C'!$N$18=6,\"PKN\",IF('2C'!$N$18=7,\"BID\",IF('2C'!$N$18=8,\"BA\",IF('2C'!$N$18=9,\"MTK\",IF('2C'!$N$18=10,\"IPA\",IF('2C'!$N$18=11,\"IPS\",IF('2C'!$N$18=12,\"SBK\",IF('2C'!$N$18=13,\"PJK\",IF('2C'!$N$18=14,\"BD\",IF('2C'!$N$18=15,\"BIG\",IF('2C'!$N$18=16,\"AWJ\",IF('2C'!$N$18=17,\"NW\",IF('2C'!$N$18=18,\"SRF\",IF('2C'!$N$18=19,\"PG\",IF('2C'!$N$18=20,\"XTR\",””))))))))))))))))))))","v":{"$error":"#NAME?"}},null,null,null,18]
[]
["NO","KELAS 3"]
[null,"SENIN",null,null,"SELASA",null,null,"RABU",null,null,"KAMIS",null,null,"JUMAT",null,null,"SABTU"]
[null,"A","B","C","A","B","C","A","B","C","A","B","C","A","B","C","A","B","C"]
[1,{"$f":"IF('3A'!$D$9=1,\"TMTIK\",IF('3A'!$D$9=2,\"AA\",IF('3A'!$D$9=3,\"QH\",IF('3A'!$D$9=4,\"FQ\",IF('3A'!$D$9=5,\"SKI\",IF('3A'!$D$9=6,\"PKN\",IF('3A'!$D$9=7,\"BID\",IF('3A'!$D$9=8,\"BA\",IF('3A'!$D$9=9,\"MTK\",IF('3A'!$D$9=10,\"IPA\",IF('3A'!$D$9=11,\"IPS\",IF('3A'!$D$9=12,\"SBK\",IF('3A'!$D$9=13,\"PJK\",IF('3A'!$D$9=14,\"BD\",IF('3A'!$D$9=15,\"BIG\",IF('3A'!$D$9=16,\"AWJ\",IF('3A'!$D$9=17,\"NW\",IF('3A'!$D$9=18,\"SRF\",IF('3A'!$D$9=19,\"PG\",IF('3A'!$D$9=20,\"XTR\",””))))))))))))))))))))","v":{"$error":"#NAME?"}},{"$f":"IF('3B'!$D$9=1,\"TMTIK\",IF('3B'!$D$9=2,\"AA\",IF('3B'!$D$9=3,\"QH\",IF('3B'!$D$9=4,\"FQ\",IF('3B'!$D$9=5,\"SKI\",IF('3B'!$D$9=6,\"PKN\",IF('3B'!$D$9=7,\"BID\",IF('3B'!$D$9=8,\"BA\",IF('3B'!$D$9=9,\"MTK\",IF('3B'!$D$9=10,\"IPA\",IF('3B'!$D$9=11,\"IPS\",IF('3B'!$D$9=12,\"SBK\",IF('3B'!$D$9=13,\"PJK\",IF('3B'!$D$9=14,\"BD\",IF('3B'!$D$9=15,\"BIG\",IF('3B'!$D$9=16,\"AWJ\",IF('3B'!$D$9=17,\"NW\",IF('3B'!$D$9=18,\"SRF\",IF('3B'!$D$9=19,\"PG\",IF('3B'!$D$9=20,\"XTR\",””))))))))))))))))))))","v":{"$error":"#NAME?"}},{"$f":"IF('3C'!$D$9=1,\"TMTIK\",IF('3C'!$D$9=2,\"AA\",IF('3C'!$D$9=3,\"QH\",IF('3C'!$D$9=4,\"FQ\",IF('3C'!$D$9=5,\"SKI\",IF('3C'!$D$9=6,\"PKN\",IF('3C'!$D$9=7,\"BID\",IF('3C'!$D$9=8,\"BA\",IF('3C'!$D$9=9,\"MTK\",IF('3C'!$D$9=10,\"IPA\",IF('3C'!$D$9=11,\"IPS\",IF('3C'!$D$9=12,\"SBK\",IF('3C'!$D$9=13,\"PJK\",IF('3C'!$D$9=14,\"BD\",IF('3C'!$D$9=15,\"BIG\",IF('3C'!$D$9=16,\"AWJ\",IF('3C'!$D$9=17,\"NW\",IF('3C'!$D$9=18,\"SRF\",IF('3C'!$D$9=19,\"PG\",IF('3C'!$D$9=20,\"XTR\",””))))))))))))))))))))","v":"QH"},{"$f":"IF('3A'!$F$9=1,\"TMTIK\",IF('3A'!$F$9=2,\"AA\",IF('3A'!$F$9=3,\"QH\",IF('3A'!$F$9=4,\"FQ\",IF('3A'!$F$9=5,\"SKI\",IF('3A'!$F$9=6,\"PKN\",IF('3A'!$F$9=7,\"BID\",IF('3A'!$F$9=8,\"BA\",IF('3A'!$F$9=9,\"MTK\",IF('3A'!$F$9=10,\"IPA\",IF('3A'!$F$9=11,\"IPS\",IF('3A'!$F$9=12,\"SBK\",IF('3A'!$F$9=13,\"PJK\",IF('3A'!$F$9=14,\"BD\",IF('3A'!$F$9=15,\"BIG\",IF('3A'!$F$9=16,\"AWJ\",IF('3A'!$F$9=17,\"NW\",IF('3A'!$F$9=18,\"SRF\",IF('3A'!$F$9=19,\"PG\",IF('3A'!$F$9=20,\"XTR\",””))))))))))))))))))))","v":{"$error":"#NAME?"}},{"$f":"IF('3B'!$F$9=1,\"TMTIK\",IF('3B'!$F$9=2,\"AA\",IF('3B'!$F$9=3,\"QH\",IF('3B'!$F$9=4,\"FQ\",IF('3B'!$F$9=5,\"SKI\",IF('3B'!$F$9=6,\"PKN\",IF('3B'!$F$9=7,\"BID\",IF('3B'!$F$9=8,\"BA\",IF('3B'!$F$9=9,\"MTK\",IF('3B'!$F$9=10,\"IPA\",IF('3B'!$F$9=11,\"IPS\",IF('3B'!$F$9=12,\"SBK\",IF('3B'!$F$9=13,\"PJK\",IF('3B'!$F$9=14,\"BD\",IF('3B'!$F$9=15,\"BIG\",IF('3B'!$F$9=16,\"AWJ\",IF('3B'!$F$9=17,\"NW\",IF('3B'!$F$9=18,\"SRF\",IF('3B'!$F$9=19,\"PG\",IF('3B'!$F$9=20,\"XTR\",””))))))))))))))))))))","v":{"$error":"#NAME?"}},{"$f":"IF('3C'!$F$9=1,\"TMTIK\",IF('3C'!$F$9=2,\"AA\",IF('3C'!$F$9=3,\"QH\",IF('3C'!$F$9=4,\"FQ\",IF('3C'!$F$9=5,\"SKI\",IF('3C'!$F$9=6,\"PKN\",IF('3C'!$F$9=7,\"BID\",IF('3C'!$F$9=8,\"BA\",IF('3C'!$F$9=9,\"MTK\",IF('3C'!$F$9=10,\"IPA\",IF('3C'!$F$9=11,\"IPS\",IF('3C'!$F$9=12,\"SBK\",IF('3C'!$F$9=13,\"PJK\",IF('3C'!$F$9=14,\"BD\",IF('3C'!$F$9=15,\"BIG\",IF('3C'!$F$9=16,\"AWJ\",IF('3C'!$F$9=17,\"NW\",IF('3C'!$F$9=18,\"SRF\",IF('3C'!$F$9=19,\"PG\",IF('3C'!$F$9=20,\"XTR\",””))))))))))))))))))))","v":"SKI"},{"$f":"IF('3A'!$H$9=1,\"TMTIK\",IF('3A'!$H$9=2,\"AA\",IF('3A'!$H$9=3,\"QH\",IF('3A'!$H$9=4,\"FQ\",IF('3A'!$H$9=5,\"SKI\",IF('3A'!$H$9=6,\"PKN\",IF('3A'!$H$9=7,\"BID\",IF('3A'!$H$9=8,\"BA\",IF('3A'!$H$9=9,\"MTK\",IF('3A'!$H$9=10,\"IPA\",IF('3A'!$H$9=11,\"IPS\",IF('3A'!$H$9=12,\"SBK\",IF('3A'!$H$9=13,\"PJK\",IF('3A'!$H$9=14,\"BD\",IF('3A'!$H$9=15,\"BIG\",IF('3A'!$H$9=16,\"AWJ\",IF('3A'!$H$9=17,\"NW\",IF('3A'!$H$9=18,\"SRF\",IF('3A'!$H$9=19,\"PG\",IF('3A'!$H$9=20,\"XTR\",””))))))))))))))))))))","v":{"$error":"#NAME?"}},{"$f":"IF('3B'!$H$9=1,\"TMTIK\",IF('3B'!$H$9=2,\"AA\",IF('3B'!$H$9=3,\"QH\",IF('3B'!$H$9=4,\"FQ\",IF('3B'!$H$9=5,\"SKI\",IF('3B'!$H$9=6,\"PKN\",IF('3B'!$H$9=7,\"BID\",IF('3B'!$H$9=8,\"BA\",IF('3B'!$H$9=9,\"MTK\",IF('3B'!$H$9=10,\"IPA\",IF('3B'!$H$9=11,\"IPS\",IF('3B'!$H$9=12,\"SBK\",IF('3B'!$H$9=13,\"PJK\",IF('3B'!$H$9=14,\"BD\",IF('3B'!$H$9=15,\"BIG\",IF('3B'!$H$9=16,\"AWJ\",IF('3B'!$H$9=17,\"NW\",IF('3B'!$H$9=18,\"SRF\",IF('3B'!$H$9=19,\"PG\",IF('3B'!$H$9=20,\"XTR\",””))))))))))))))))))))","v":{"$error":"#NAME?"}},{"$f":"IF('3C'!$H$9=1,\"TMTIK\",IF('3C'!$H$9=2,\"AA\",IF('3C'!$H$9=3,\"QH\",IF('3C'!$H$9=4,\"FQ\",IF('3C'!$H$9=5,\"SKI\",IF('3C'!$H$9=6,\"PKN\",IF('3C'!$H$9=7,\"BID\",IF('3C'!$H$9=8,\"BA\",IF('3C'!$H$9=9,\"MTK\",IF('3C'!$H$9=10,\"IPA\",IF('3C'!$H$9=11,\"IPS\",IF('3C'!$H$9=12,\"SBK\",IF('3C'!$H$9=13,\"PJK\",IF('3C'!$H$9=14,\"BD\",IF('3C'!$H$9=15,\"BIG\",IF('3C'!$H$9=16,\"AWJ\",IF('3C'!$H$9=17,\"NW\",IF('3C'!$H$9=18,\"SRF\",IF('3C'!$H$9=19,\"PG\",IF('3C'!$H$9=20,\"XTR\",””))))))))))))))))))))","v":"FQ"},{"$f":"IF('3A'!$J$9=1,\"TMTIK\",IF('3A'!$J$9=2,\"AA\",IF('3A'!$J$9=3,\"QH\",IF('3A'!$J$9=4,\"FQ\",IF('3A'!$J$9=5,\"SKI\",IF('3A'!$J$9=6,\"PKN\",IF('3A'!$J$9=7,\"BID\",IF('3A'!$J$9=8,\"BA\",IF('3A'!$J$9=9,\"MTK\",IF('3A'!$J$9=10,\"IPA\",IF('3A'!$J$9=11,\"IPS\",IF('3A'!$J$9=12,\"SBK\",IF('3A'!$J$9=13,\"PJK\",IF('3A'!$J$9=14,\"BD\",IF('3A'!$J$9=15,\"BIG\",IF('3A'!$J$9=16,\"AWJ\",IF('3A'!$J$9=17,\"NW\",IF('3A'!$J$9=18,\"SRF\",IF('3A'!$J$9=19,\"PG\",IF('3A'!$J$9=20,\"XTR\",””))))))))))))))))))))","v":{"$error":"#NAME?"}},{"$f":"IF('3B'!$J$9=1,\"TMTIK\",IF('3B'!$J$9=2,\"AA\",IF('3B'!$J$9=3,\"QH\",IF('3B'!$J$9=4,\"FQ\",IF('3B'!$J$9=5,\"SKI\",IF('3B'!$J$9=6,\"PKN\",IF('3B'!$J$9=7,\"BID\",IF('3B'!$J$9=8,\"BA\",IF('3B'!$J$9=9,\"MTK\",IF('3B'!$J$9=10,\"IPA\",IF('3B'!$J$9=11,\"IPS\",IF('3B'!$J$9=12,\"SBK\",IF('3B'!$J$9=13,\"PJK\",IF('3B'!$J$9=14,\"BD\",IF('3B'!$J$9=15,\"BIG\",IF('3B'!$J$9=16,\"AWJ\",IF('3B'!$J$9=17,\"NW\",IF('3B'!$J$9=18,\"SRF\",IF('3B'!$J$9=19,\"PG\",IF('3B'!$J$9=20,\"XTR\",””))))))))))))))))))))","v":{"$error":"#NAME?"}},{"$f":"IF('3C'!$J$9=1,\"TMTIK\",IF('3C'!$J$9=2,\"AA\",IF('3C'!$J$9=3,\"QH\",IF('3C'!$J$9=4,\"FQ\",IF('3C'!$J$9=5,\"SKI\",IF('3C'!$J$9=6,\"PKN\",IF('3C'!$J$9=7,\"BID\",IF('3C'!$J$9=8,\"BA\",IF('3C'!$J$9=9,\"MTK\",IF('3C'!$J$9=10,\"IPA\",IF('3C'!$J$9=11,\"IPS\",IF('3C'!$J$9=12,\"SBK\",IF('3C'!$J$9=13,\"PJK\",IF('3C'!$J$9=14,\"BD\",IF('3C'!$J$9=15,\"BIG\",IF('3C'!$J$9=16,\"AWJ\",IF('3C'!$J$9=17,\"NW\",IF('3C'!$J$9=18,\"SRF\",IF('3C'!$J$9=19,\"PG\",IF('3C'!$J$9=20,\"XTR\",””))))))))))))))))))))","v":"AA"},{"$f":"IF('3A'!$N$9=1,\"TMTIK\",IF('3A'!$N$9=2,\"AA\",IF('3A'!$N$9=3,\"QH\",IF('3A'!$N$9=4,\"FQ\",IF('3A'!$N$9=5,\"SKI\",IF('3A'!$N$9=6,\"PKN\",IF('3A'!$N$9=7,\"BID\",IF('3A'!$N$9=8,\"BA\",IF('3A'!$N$9=9,\"MTK\",IF('3A'!$N$9=10,\"IPA\",IF('3A'!$N$9=11,\"IPS\",IF('3A'!$N$9=12,\"SBK\",IF('3A'!$N$9=13,\"PJK\",IF('3A'!$N$9=14,\"BD\",IF('3A'!$N$9=15,\"BIG\",IF('3A'!$N$9=16,\"AWJ\",IF('3A'!$N$9=17,\"NW\",IF('3A'!$N$9=18,\"SRF\",IF('3A'!$N$9=19,\"PG\",IF('3A'!$N$9=20,\"XTR\",””))))))))))))))))))))","v":{"$error":"#NAME?"}},{"$f":"IF('3B'!$N$9=1,\"TMTIK\",IF('3B'!$N$9=2,\"AA\",IF('3B'!$N$9=3,\"QH\",IF('3B'!$N$9=4,\"FQ\",IF('3B'!$N$9=5,\"SKI\",IF('3B'!$N$9=6,\"PKN\",IF('3B'!$N$9=7,\"BID\",IF('3B'!$N$9=8,\"BA\",IF('3B'!$N$9=9,\"MTK\",IF('3B'!$N$9=10,\"IPA\",IF('3B'!$N$9=11,\"IPS\",IF('3B'!$N$9=12,\"SBK\",IF('3B'!$N$9=13,\"PJK\",IF('3B'!$N$9=14,\"BD\",IF('3B'!$N$9=15,\"BIG\",IF('3B'!$N$9=16,\"AWJ\",IF('3B'!$N$9=17,\"NW\",IF('3B'!$N$9=18,\"SRF\",IF('3B'!$N$9=19,\"PG\",IF('3B'!$N$9=20,\"XTR\",””))))))))))))))))))))","v":{"$error":"#NAME?"}},{"$f":"IF('3C'!$N$9=1,\"TMTIK\",IF('3C'!$N$9=2,\"AA\",IF('3C'!$N$9=3,\"QH\",IF('3C'!$N$9=4,\"FQ\",IF('3C'!$N$9=5,\"SKI\",IF('3C'!$N$9=6,\"PKN\",IF('3C'!$N$9=7,\"BID\",IF('3C'!$N$9=8,\"BA\",IF('3C'!$N$9=9,\"MTK\",IF('3C'!$N$9=10,\"IPA\",IF('3C'!$N$9=11,\"IPS\",IF('3C'!$N$9=12,\"SBK\",IF('3C'!$N$9=13,\"PJK\",IF('3C'!$N$9=14,\"BD\",IF('3C'!$N$9=15,\"BIG\",IF('3C'!$N$9=16,\"AWJ\",IF('3C'!$N$9=17,\"NW\",IF('3C'!$N$9=18,\"SRF\",IF('3C'!$N$9=19,\"PG\",IF('3C'!$N$9=20,\"XTR\",””))))))))))))))))))))","v":"TMTIK"},{"$f":"IF('3A'!$D$22=1,\"TMTIK\",IF('3A'!$D$22=2,\"AA\",IF('3A'!$D$22=3,\"QH\",IF('3A'!$D$22=4,\"FQ\",IF('3A'!$D$22=5,\"SKI\",IF('3A'!$D$22=6,\"PKN\",IF('3A'!$D$22=7,\"BID\",IF('3A'!$D$22=8,\"BA\",IF('3A'!$D$22=9,\"MTK\",IF('3A'!$D$22=10,\"IPA\",IF('3A'!$D$22=11,\"IPS\",IF('3A'!$D$22=12,\"SBK\",IF('3A'!$D$22=13,\"PJK\",IF('3A'!$D$22=14,\"BD\",IF('3A'!$D$22=15,\"BIG\",IF('3A'!$D$22=16,\"AWJ\",IF('3A'!$D$22=17,\"NW\",IF('3A'!$D$22=18,\"SRF\",IF('3A'!$D$22=19,\"PG\",IF('3A'!$D$22=20,\"XTR\",””))))))))))))))))))))","v":{"$error":"#NAME?"}},{"$f":"IF('3B'!$D$22=1,\"TMTIK\",IF('3B'!$D$22=2,\"AA\",IF('3B'!$D$22=3,\"QH\",IF('3B'!$D$22=4,\"FQ\",IF('3B'!$D$22=5,\"SKI\",IF('3B'!$D$22=6,\"PKN\",IF('3B'!$D$22=7,\"BID\",IF('3B'!$D$22=8,\"BA\",IF('3B'!$D$22=9,\"MTK\",IF('3B'!$D$22=10,\"IPA\",IF('3B'!$D$22=11,\"IPS\",IF('3B'!$D$22=12,\"SBK\",IF('3B'!$D$22=13,\"PJK\",IF('3B'!$D$22=14,\"BD\",IF('3B'!$D$22=15,\"BIG\",IF('3B'!$D$22=16,\"AWJ\",IF('3B'!$D$22=17,\"NW\",IF('3B'!$D$22=18,\"SRF\",IF('3B'!$D$22=19,\"PG\",IF('3B'!$D$22=20,\"XTR\",””))))))))))))))))))))","v":{"$error":"#NAME?"}},{"$f":"IF('3C'!$D$22=1,\"TMTIK\",IF('3C'!$D$22=2,\"AA\",IF('3C'!$D$22=3,\"QH\",IF('3C'!$D$22=4,\"FQ\",IF('3C'!$D$22=5,\"SKI\",IF('3C'!$D$22=6,\"PKN\",IF('3C'!$D$22=7,\"BID\",IF('3C'!$D$22=8,\"BA\",IF('3C'!$D$22=9,\"MTK\",IF('3C'!$D$22=10,\"IPA\",IF('3C'!$D$22=11,\"IPS\",IF('3C'!$D$22=12,\"SBK\",IF('3C'!$D$22=13,\"PJK\",IF('3C'!$D$22=14,\"BD\",IF('3C'!$D$22=15,\"BIG\",IF('3C'!$D$22=16,\"AWJ\",IF('3C'!$D$22=17,\"NW\",IF('3C'!$D$22=18,\"SRF\",IF('3C'!$D$22=19,\"PG\",IF('3C'!$D$22=20,\"XTR\",””))))))))))))))))))))","v":"PJK"}]
[2,{"$f":"IF('3A'!$D$10=1,\"TMTIK\",IF('3A'!$D$10=2,\"AA\",IF('3A'!$D$10=3,\"QH\",IF('3A'!$D$10=4,\"FQ\",IF('3A'!$D$10=5,\"SKI\",IF('3A'!$D$10=6,\"PKN\",IF('3A'!$D$10=7,\"BID\",IF('3A'!$D$10=8,\"BA\",IF('3A'!$D$10=9,\"MTK\",IF('3A'!$D$10=10,\"IPA\",IF('3A'!$D$10=11,\"IPS\",IF('3A'!$D$10=12,\"SBK\",IF('3A'!$D$10=13,\"PJK\",IF('3A'!$D$10=14,\"BD\",IF('3A'!$D$10=15,\"BIG\",IF('3A'!$D$10=16,\"AWJ\",IF('3A'!$D$10=17,\"NW\",IF('3A'!$D$10=18,\"SRF\",IF('3A'!$D$10=19,\"PG\",IF('3A'!$D$10=20,\"XTR\",””))))))))))))))))))))","v":{"$error":"#NAME?"}},{"$f":"IF('3B'!$D$10=1,\"TMTIK\",IF('3B'!$D$10=2,\"AA\",IF('3B'!$D$10=3,\"QH\",IF('3B'!$D$10=4,\"FQ\",IF('3B'!$D$10=5,\"SKI\",IF('3B'!$D$10=6,\"PKN\",IF('3B'!$D$10=7,\"BID\",IF('3B'!$D$10=8,\"BA\",IF('3B'!$D$10=9,\"MTK\",IF('3B'!$D$10=10,\"IPA\",IF('3B'!$D$10=11,\"IPS\",IF('3B'!$D$10=12,\"SBK\",IF('3B'!$D$10=13,\"PJK\",IF('3B'!$D$10=14,\"BD\",IF('3B'!$D$10=15,\"BIG\",IF('3B'!$D$10=16,\"AWJ\",IF('3B'!$D$10=17,\"NW\",IF('3B'!$D$10=18,\"SRF\",IF('3B'!$D$10=19,\"PG\",IF('3B'!$D$10=20,\"XTR\",””))))))))))))))))))))","v":{"$error":"#NAME?"}},{"$f":"IF('3C'!$D$10=1,\"TMTIK\",IF('3C'!$D$10=2,\"AA\",IF('3C'!$D$10=3,\"QH\",IF('3C'!$D$10=4,\"FQ\",IF('3C'!$D$10=5,\"SKI\",IF('3C'!$D$10=6,\"PKN\",IF('3C'!$D$10=7,\"BID\",IF('3C'!$D$10=8,\"BA\",IF('3C'!$D$10=9,\"MTK\",IF('3C'!$D$10=10,\"IPA\",IF('3C'!$D$10=11,\"IPS\",IF('3C'!$D$10=12,\"SBK\",IF('3C'!$D$10=13,\"PJK\",IF('3C'!$D$10=14,\"BD\",IF('3C'!$D$10=15,\"BIG\",IF('3C'!$D$10=16,\"AWJ\",IF('3C'!$D$10=17,\"NW\",IF('3C'!$D$10=18,\"SRF\",IF('3C'!$D$10=19,\"PG\",IF('3C'!$D$10=20,\"XTR\",””))))))))))))))))))))","v":"QH"},{"$f":"IF('3A'!$F$10=1,\"TMTIK\",IF('3A'!$F$10=2,\"AA\",IF('3A'!$F$10=3,\"QH\",IF('3A'!$F$10=4,\"FQ\",IF('3A'!$F$10=5,\"SKI\",IF('3A'!$F$10=6,\"PKN\",IF('3A'!$F$10=7,\"BID\",IF('3A'!$F$10=8,\"BA\",IF('3A'!$F$10=9,\"MTK\",IF('3A'!$F$10=10,\"IPA\",IF('3A'!$F$10=11,\"IPS\",IF('3A'!$F$10=12,\"SBK\",IF('3A'!$F$10=13,\"PJK\",IF('3A'!$F$10=14,\"BD\",IF('3A'!$F$10=15,\"BIG\",IF('3A'!$F$10=16,\"AWJ\",IF('3A'!$F$10=17,\"NW\",IF('3A'!$F$10=18,\"SRF\",IF('3A'!$F$10=19,\"PG\",IF('3A'!$F$10=20,\"XTR\",””))))))))))))))))))))","v":{"$error":"#NAME?"}},{"$f":"IF('3B'!$F$10=1,\"TMTIK\",IF('3B'!$F$10=2,\"AA\",IF('3B'!$F$10=3,\"QH\",IF('3B'!$F$10=4,\"FQ\",IF('3B'!$F$10=5,\"SKI\",IF('3B'!$F$10=6,\"PKN\",IF('3B'!$F$10=7,\"BID\",IF('3B'!$F$10=8,\"BA\",IF('3B'!$F$10=9,\"MTK\",IF('3B'!$F$10=10,\"IPA\",IF('3B'!$F$10=11,\"IPS\",IF('3B'!$F$10=12,\"SBK\",IF('3B'!$F$10=13,\"PJK\",IF('3B'!$F$10=14,\"BD\",IF('3B'!$F$10=15,\"BIG\",IF('3B'!$F$10=16,\"AWJ\",IF('3B'!$F$10=17,\"NW\",IF('3B'!$F$10=18,\"SRF\",IF('3B'!$F$10=19,\"PG\",IF('3B'!$F$10=20,\"XTR\",””))))))))))))))))))))","v":{"$error":"#NAME?"}},{"$f":"IF('3C'!$F$10=1,\"TMTIK\",IF('3C'!$F$10=2,\"AA\",IF('3C'!$F$10=3,\"QH\",IF('3C'!$F$10=4,\"FQ\",IF('3C'!$F$10=5,\"SKI\",IF('3C'!$F$10=6,\"PKN\",IF('3C'!$F$10=7,\"BID\",IF('3C'!$F$10=8,\"BA\",IF('3C'!$F$10=9,\"MTK\",IF('3C'!$F$10=10,\"IPA\",IF('3C'!$F$10=11,\"IPS\",IF('3C'!$F$10=12,\"SBK\",IF('3C'!$F$10=13,\"PJK\",IF('3C'!$F$10=14,\"BD\",IF('3C'!$F$10=15,\"BIG\",IF('3C'!$F$10=16,\"AWJ\",IF('3C'!$F$10=17,\"NW\",IF('3C'!$F$10=18,\"SRF\",IF('3C'!$F$10=19,\"PG\",IF('3C'!$F$10=20,\"XTR\",””))))))))))))))))))))","v":"SKI"},{"$f":"IF('3A'!$H$10=1,\"TMTIK\",IF('3A'!$H$10=2,\"AA\",IF('3A'!$H$10=3,\"QH\",IF('3A'!$H$10=4,\"FQ\",IF('3A'!$H$10=5,\"SKI\",IF('3A'!$H$10=6,\"PKN\",IF('3A'!$H$10=7,\"BID\",IF('3A'!$H$10=8,\"BA\",IF('3A'!$H$10=9,\"MTK\",IF('3A'!$H$10=10,\"IPA\",IF('3A'!$H$10=11,\"IPS\",IF('3A'!$H$10=12,\"SBK\",IF('3A'!$H$10=13,\"PJK\",IF('3A'!$H$10=14,\"BD\",IF('3A'!$H$10=15,\"BIG\",IF('3A'!$H$10=16,\"AWJ\",IF('3A'!$H$10=17,\"NW\",IF('3A'!$H$10=18,\"SRF\",IF('3A'!$H$10=19,\"PG\",IF('3A'!$H$10=20,\"XTR\",””))))))))))))))))))))","v":{"$error":"#NAME?"}},{"$f":"IF('3B'!$H$10=1,\"TMTIK\",IF('3B'!$H$10=2,\"AA\",IF('3B'!$H$10=3,\"QH\",IF('3B'!$H$10=4,\"FQ\",IF('3B'!$H$10=5,\"SKI\",IF('3B'!$H$10=6,\"PKN\",IF('3B'!$H$10=7,\"BID\",IF('3B'!$H$10=8,\"BA\",IF('3B'!$H$10=9,\"MTK\",IF('3B'!$H$10=10,\"IPA\",IF('3B'!$H$10=11,\"IPS\",IF('3B'!$H$10=12,\"SBK\",IF('3B'!$H$10=13,\"PJK\",IF('3B'!$H$10=14,\"BD\",IF('3B'!$H$10=15,\"BIG\",IF('3B'!$H$10=16,\"AWJ\",IF('3B'!$H$10=17,\"NW\",IF('3B'!$H$10=18,\"SRF\",IF('3B'!$H$10=19,\"PG\",IF('3B'!$H$10=20,\"XTR\",””))))))))))))))))))))","v":{"$error":"#NAME?"}},{"$f":"IF('3C'!$H$10=1,\"TMTIK\",IF('3C'!$H$10=2,\"AA\",IF('3C'!$H$10=3,\"QH\",IF('3C'!$H$10=4,\"FQ\",IF('3C'!$H$10=5,\"SKI\",IF('3C'!$H$10=6,\"PKN\",IF('3C'!$H$10=7,\"BID\",IF('3C'!$H$10=8,\"BA\",IF('3C'!$H$10=9,\"MTK\",IF('3C'!$H$10=10,\"IPA\",IF('3C'!$H$10=11,\"IPS\",IF('3C'!$H$10=12,\"SBK\",IF('3C'!$H$10=13,\"PJK\",IF('3C'!$H$10=14,\"BD\",IF('3C'!$H$10=15,\"BIG\",IF('3C'!$H$10=16,\"AWJ\",IF('3C'!$H$10=17,\"NW\",IF('3C'!$H$10=18,\"SRF\",IF('3C'!$H$10=19,\"PG\",IF('3C'!$H$10=20,\"XTR\",””))))))))))))))))))))","v":"FQ"},{"$f":"IF('3A'!$J$10=1,\"TMTIK\",IF('3A'!$J$10=2,\"AA\",IF('3A'!$J$10=3,\"QH\",IF('3A'!$J$10=4,\"FQ\",IF('3A'!$J$10=5,\"SKI\",IF('3A'!$J$10=6,\"PKN\",IF('3A'!$J$10=7,\"BID\",IF('3A'!$J$10=8,\"BA\",IF('3A'!$J$10=9,\"MTK\",IF('3A'!$J$10=10,\"IPA\",IF('3A'!$J$10=11,\"IPS\",IF('3A'!$J$10=12,\"SBK\",IF('3A'!$J$10=13,\"PJK\",IF('3A'!$J$10=14,\"BD\",IF('3A'!$J$10=15,\"BIG\",IF('3A'!$J$10=16,\"AWJ\",IF('3A'!$J$10=17,\"NW\",IF('3A'!$J$10=18,\"SRF\",IF('3A'!$J$10=19,\"PG\",IF('3A'!$J$10=20,\"XTR\",””))))))))))))))))))))","v":{"$error":"#NAME?"}},{"$f":"IF('3B'!$J$10=1,\"TMTIK\",IF('3B'!$J$10=2,\"AA\",IF('3B'!$J$10=3,\"QH\",IF('3B'!$J$10=4,\"FQ\",IF('3B'!$J$10=5,\"SKI\",IF('3B'!$J$10=6,\"PKN\",IF('3B'!$J$10=7,\"BID\",IF('3B'!$J$10=8,\"BA\",IF('3B'!$J$10=9,\"MTK\",IF('3B'!$J$10=10,\"IPA\",IF('3B'!$J$10=11,\"IPS\",IF('3B'!$J$10=12,\"SBK\",IF('3B'!$J$10=13,\"PJK\",IF('3B'!$J$10=14,\"BD\",IF('3B'!$J$10=15,\"BIG\",IF('3B'!$J$10=16,\"AWJ\",IF('3B'!$J$10=17,\"NW\",IF('3B'!$J$10=18,\"SRF\",IF('3B'!$J$10=19,\"PG\",IF('3B'!$J$10=20,\"XTR\",””))))))))))))))))))))","v":{"$error":"#NAME?"}},{"$f":"IF('3C'!$J$10=1,\"TMTIK\",IF('3C'!$J$10=2,\"AA\",IF('3C'!$J$10=3,\"QH\",IF('3C'!$J$10=4,\"FQ\",IF('3C'!$J$10=5,\"SKI\",IF('3C'!$J$10=6,\"PKN\",IF('3C'!$J$10=7,\"BID\",IF('3C'!$J$10=8,\"BA\",IF('3C'!$J$10=9,\"MTK\",IF('3C'!$J$10=10,\"IPA\",IF('3C'!$J$10=11,\"IPS\",IF('3C'!$J$10=12,\"SBK\",IF('3C'!$J$10=13,\"PJK\",IF('3C'!$J$10=14,\"BD\",IF('3C'!$J$10=15,\"BIG\",IF('3C'!$J$10=16,\"AWJ\",IF('3C'!$J$10=17,\"NW\",IF('3C'!$J$10=18,\"SRF\",IF('3C'!$J$10=19,\"PG\",IF('3C'!$J$10=20,\"XTR\",””))))))))))))))))))))","v":"AA"},{"$f":"IF('3A'!$N$10=1,\"TMTIK\",IF('3A'!$N$10=2,\"AA\",IF('3A'!$N$10=3,\"QH\",IF('3A'!$N$10=4,\"FQ\",IF('3A'!$N$10=5,\"SKI\",IF('3A'!$N$10=6,\"PKN\",IF('3A'!$N$10=7,\"BID\",IF('3A'!$N$10=8,\"BA\",IF('3A'!$N$10=9,\"MTK\",IF('3A'!$N$10=10,\"IPA\",IF('3A'!$N$10=11,\"IPS\",IF('3A'!$N$10=12,\"SBK\",IF('3A'!$N$10=13,\"PJK\",IF('3A'!$N$10=14,\"BD\",IF('3A'!$N$10=15,\"BIG\",IF('3A'!$N$10=16,\"AWJ\",IF('3A'!$N$10=17,\"NW\",IF('3A'!$N$10=18,\"SRF\",IF('3A'!$N$10=19,\"PG\",IF('3A'!$N$10=20,\"XTR\",””))))))))))))))))))))","v":{"$error":"#NAME?"}},{"$f":"IF('3B'!$N$10=1,\"TMTIK\",IF('3B'!$N$10=2,\"AA\",IF('3B'!$N$10=3,\"QH\",IF('3B'!$N$10=4,\"FQ\",IF('3B'!$N$10=5,\"SKI\",IF('3B'!$N$10=6,\"PKN\",IF('3B'!$N$10=7,\"BID\",IF('3B'!$N$10=8,\"BA\",IF('3B'!$N$10=9,\"MTK\",IF('3B'!$N$10=10,\"IPA\",IF('3B'!$N$10=11,\"IPS\",IF('3B'!$N$10=12,\"SBK\",IF('3B'!$N$10=13,\"PJK\",IF('3B'!$N$10=14,\"BD\",IF('3B'!$N$10=15,\"BIG\",IF('3B'!$N$10=16,\"AWJ\",IF('3B'!$N$10=17,\"NW\",IF('3B'!$N$10=18,\"SRF\",IF('3B'!$N$10=19,\"PG\",IF('3B'!$N$10=20,\"XTR\",””))))))))))))))))))))","v":{"$error":"#NAME?"}},{"$f":"IF('3C'!$N$10=1,\"TMTIK\",IF('3C'!$N$10=2,\"AA\",IF('3C'!$N$10=3,\"QH\",IF('3C'!$N$10=4,\"FQ\",IF('3C'!$N$10=5,\"SKI\",IF('3C'!$N$10=6,\"PKN\",IF('3C'!$N$10=7,\"BID\",IF('3C'!$N$10=8,\"BA\",IF('3C'!$N$10=9,\"MTK\",IF('3C'!$N$10=10,\"IPA\",IF('3C'!$N$10=11,\"IPS\",IF('3C'!$N$10=12,\"SBK\",IF('3C'!$N$10=13,\"PJK\",IF('3C'!$N$10=14,\"BD\",IF('3C'!$N$10=15,\"BIG\",IF('3C'!$N$10=16,\"AWJ\",IF('3C'!$N$10=17,\"NW\",IF('3C'!$N$10=18,\"SRF\",IF('3C'!$N$10=19,\"PG\",IF('3C'!$N$10=20,\"XTR\",””))))))))))))))))))))","v":"TMTIK"},{"$f":"IF('3A'!$D$23=1,\"TMTIK\",IF('3A'!$D$23=2,\"AA\",IF('3A'!$D$23=3,\"QH\",IF('3A'!$D$23=4,\"FQ\",IF('3A'!$D$23=5,\"SKI\",IF('3A'!$D$23=6,\"PKN\",IF('3A'!$D$23=7,\"BID\",IF('3A'!$D$23=8,\"BA\",IF('3A'!$D$23=9,\"MTK\",IF('3A'!$D$23=10,\"IPA\",IF('3A'!$D$23=11,\"IPS\",IF('3A'!$D$23=12,\"SBK\",IF('3A'!$D$23=13,\"PJK\",IF('3A'!$D$23=14,\"BD\",IF('3A'!$D$23=15,\"BIG\",IF('3A'!$D$23=16,\"AWJ\",IF('3A'!$D$23=17,\"NW\",IF('3A'!$D$23=18,\"SRF\",IF('3A'!$D$23=19,\"PG\",IF('3A'!$D$23=20,\"XTR\",””))))))))))))))))))))","v":{"$error":"#NAME?"}},{"$f":"IF('3B'!$D$23=1,\"TMTIK\",IF('3B'!$D$23=2,\"AA\",IF('3B'!$D$23=3,\"QH\",IF('3B'!$D$23=4,\"FQ\",IF('3B'!$D$23=5,\"SKI\",IF('3B'!$D$23=6,\"PKN\",IF('3B'!$D$23=7,\"BID\",IF('3B'!$D$23=8,\"BA\",IF('3B'!$D$23=9,\"MTK\",IF('3B'!$D$23=10,\"IPA\",IF('3B'!$D$23=11,\"IPS\",IF('3B'!$D$23=12,\"SBK\",IF('3B'!$D$23=13,\"PJK\",IF('3B'!$D$23=14,\"BD\",IF('3B'!$D$23=15,\"BIG\",IF('3B'!$D$23=16,\"AWJ\",IF('3B'!$D$23=17,\"NW\",IF('3B'!$D$23=18,\"SRF\",IF('3B'!$D$23=19,\"PG\",IF('3B'!$D$23=20,\"XTR\",””))))))))))))))))))))","v":{"$error":"#NAME?"}},{"$f":"IF('3C'!$D$23=1,\"TMTIK\",IF('3C'!$D$23=2,\"AA\",IF('3C'!$D$23=3,\"QH\",IF('3C'!$D$23=4,\"FQ\",IF('3C'!$D$23=5,\"SKI\",IF('3C'!$D$23=6,\"PKN\",IF('3C'!$D$23=7,\"BID\",IF('3C'!$D$23=8,\"BA\",IF('3C'!$D$23=9,\"MTK\",IF('3C'!$D$23=10,\"IPA\",IF('3C'!$D$23=11,\"IPS\",IF('3C'!$D$23=12,\"SBK\",IF('3C'!$D$23=13,\"PJK\",IF('3C'!$D$23=14,\"BD\",IF('3C'!$D$23=15,\"BIG\",IF('3C'!$D$23=16,\"AWJ\",IF('3C'!$D$23=17,\"NW\",IF('3C'!$D$23=18,\"SRF\",IF('3C'!$D$23=19,\"PG\",IF('3C'!$D$23=20,\"XTR\",””))))))))))))))))))))","v":"PJK"}]
[3,{"$f":"IF('3A'!$D$11=1,\"TMTIK\",IF('3A'!$D$11=2,\"AA\",IF('3A'!$D$11=3,\"QH\",IF('3A'!$D$11=4,\"FQ\",IF('3A'!$D$11=5,\"SKI\",IF('3A'!$D$11=6,\"PKN\",IF('3A'!$D$11=7,\"BID\",IF('3A'!$D$11=8,\"BA\",IF('3A'!$D$11=9,\"MTK\",IF('3A'!$D$11=10,\"IPA\",IF('3A'!$D$11=11,\"IPS\",IF('3A'!$D$11=12,\"SBK\",IF('3A'!$D$11=13,\"PJK\",IF('3A'!$D$11=14,\"BD\",IF('3A'!$D$11=15,\"BIG\",IF('3A'!$D$11=16,\"AWJ\",IF('3A'!$D$11=17,\"NW\",IF('3A'!$D$11=18,\"SRF\",IF('3A'!$D$11=19,\"PG\",IF('3A'!$D$11=20,\"XTR\",””))))))))))))))))))))","v":{"$error":"#NAME?"}},{"$f":"IF('3B'!$D$11=1,\"TMTIK\",IF('3B'!$D$11=2,\"AA\",IF('3B'!$D$11=3,\"QH\",IF('3B'!$D$11=4,\"FQ\",IF('3B'!$D$11=5,\"SKI\",IF('3B'!$D$11=6,\"PKN\",IF('3B'!$D$11=7,\"BID\",IF('3B'!$D$11=8,\"BA\",IF('3B'!$D$11=9,\"MTK\",IF('3B'!$D$11=10,\"IPA\",IF('3B'!$D$11=11,\"IPS\",IF('3B'!$D$11=12,\"SBK\",IF('3B'!$D$11=13,\"PJK\",IF('3B'!$D$11=14,\"BD\",IF('3B'!$D$11=15,\"BIG\",IF('3B'!$D$11=16,\"AWJ\",IF('3B'!$D$11=17,\"NW\",IF('3B'!$D$11=18,\"SRF\",IF('3B'!$D$11=19,\"PG\",IF('3B'!$D$11=20,\"XTR\",””))))))))))))))))))))","v":{"$error":"#NAME?"}},{"$f":"IF('3C'!$D$11=1,\"TMTIK\",IF('3C'!$D$11=2,\"AA\",IF('3C'!$D$11=3,\"QH\",IF('3C'!$D$11=4,\"FQ\",IF('3C'!$D$11=5,\"SKI\",IF('3C'!$D$11=6,\"PKN\",IF('3C'!$D$11=7,\"BID\",IF('3C'!$D$11=8,\"BA\",IF('3C'!$D$11=9,\"MTK\",IF('3C'!$D$11=10,\"IPA\",IF('3C'!$D$11=11,\"IPS\",IF('3C'!$D$11=12,\"SBK\",IF('3C'!$D$11=13,\"PJK\",IF('3C'!$D$11=14,\"BD\",IF('3C'!$D$11=15,\"BIG\",IF('3C'!$D$11=16,\"AWJ\",IF('3C'!$D$11=17,\"NW\",IF('3C'!$D$11=18,\"SRF\",IF('3C'!$D$11=19,\"PG\",IF('3C'!$D$11=20,\"XTR\",””))))))))))))))))))))","v":"TMTIK"},{"$f":"IF('3A'!$F$11=1,\"TMTIK\",IF('3A'!$F$11=2,\"AA\",IF('3A'!$F$11=3,\"QH\",IF('3A'!$F$11=4,\"FQ\",IF('3A'!$F$11=5,\"SKI\",IF('3A'!$F$11=6,\"PKN\",IF('3A'!$F$11=7,\"BID\",IF('3A'!$F$11=8,\"BA\",IF('3A'!$F$11=9,\"MTK\",IF('3A'!$F$11=10,\"IPA\",IF('3A'!$F$11=11,\"IPS\",IF('3A'!$F$11=12,\"SBK\",IF('3A'!$F$11=13,\"PJK\",IF('3A'!$F$11=14,\"BD\",IF('3A'!$F$11=15,\"BIG\",IF('3A'!$F$11=16,\"AWJ\",IF('3A'!$F$11=17,\"NW\",IF('3A'!$F$11=18,\"SRF\",IF('3A'!$F$11=19,\"PG\",IF('3A'!$F$11=20,\"XTR\",””))))))))))))))))))))","v":{"$error":"#NAME?"}},{"$f":"IF('3B'!$F$11=1,\"TMTIK\",IF('3B'!$F$11=2,\"AA\",IF('3B'!$F$11=3,\"QH\",IF('3B'!$F$11=4,\"FQ\",IF('3B'!$F$11=5,\"SKI\",IF('3B'!$F$11=6,\"PKN\",IF('3B'!$F$11=7,\"BID\",IF('3B'!$F$11=8,\"BA\",IF('3B'!$F$11=9,\"MTK\",IF('3B'!$F$11=10,\"IPA\",IF('3B'!$F$11=11,\"IPS\",IF('3B'!$F$11=12,\"SBK\",IF('3B'!$F$11=13,\"PJK\",IF('3B'!$F$11=14,\"BD\",IF('3B'!$F$11=15,\"BIG\",IF('3B'!$F$11=16,\"AWJ\",IF('3B'!$F$11=17,\"NW\",IF('3B'!$F$11=18,\"SRF\",IF('3B'!$F$11=19,\"PG\",IF('3B'!$F$11=20,\"XTR\",””))))))))))))))))))))","v":{"$error":"#NAME?"}},{"$f":"IF('3C'!$F$11=1,\"TMTIK\",IF('3C'!$F$11=2,\"AA\",IF('3C'!$F$11=3,\"QH\",IF('3C'!$F$11=4,\"FQ\",IF('3C'!$F$11=5,\"SKI\",IF('3C'!$F$11=6,\"PKN\",IF('3C'!$F$11=7,\"BID\",IF('3C'!$F$11=8,\"BA\",IF('3C'!$F$11=9,\"MTK\",IF('3C'!$F$11=10,\"IPA\",IF('3C'!$F$11=11,\"IPS\",IF('3C'!$F$11=12,\"SBK\",IF('3C'!$F$11=13,\"PJK\",IF('3C'!$F$11=14,\"BD\",IF('3C'!$F$11=15,\"BIG\",IF('3C'!$F$11=16,\"AWJ\",IF('3C'!$F$11=17,\"NW\",IF('3C'!$F$11=18,\"SRF\",IF('3C'!$F$11=19,\"PG\",IF('3C'!$F$11=20,\"XTR\",””))))))))))))))))))))","v":"TMTIK"},{"$f":"IF('3A'!$H$11=1,\"TMTIK\",IF('3A'!$H$11=2,\"AA\",IF('3A'!$H$11=3,\"QH\",IF('3A'!$H$11=4,\"FQ\",IF('3A'!$H$11=5,\"SKI\",IF('3A'!$H$11=6,\"PKN\",IF('3A'!$H$11=7,\"BID\",IF('3A'!$H$11=8,\"BA\",IF('3A'!$H$11=9,\"MTK\",IF('3A'!$H$11=10,\"IPA\",IF('3A'!$H$11=11,\"IPS\",IF('3A'!$H$11=12,\"SBK\",IF('3A'!$H$11=13,\"PJK\",IF('3A'!$H$11=14,\"BD\",IF('3A'!$H$11=15,\"BIG\",IF('3A'!$H$11=16,\"AWJ\",IF('3A'!$H$11=17,\"NW\",IF('3A'!$H$11=18,\"SRF\",IF('3A'!$H$11=19,\"PG\",IF('3A'!$H$11=20,\"XTR\",””))))))))))))))))))))","v":{"$error":"#NAME?"}},{"$f":"IF('3B'!$H$11=1,\"TMTIK\",IF('3B'!$H$11=2,\"AA\",IF('3B'!$H$11=3,\"QH\",IF('3B'!$H$11=4,\"FQ\",IF('3B'!$H$11=5,\"SKI\",IF('3B'!$H$11=6,\"PKN\",IF('3B'!$H$11=7,\"BID\",IF('3B'!$H$11=8,\"BA\",IF('3B'!$H$11=9,\"MTK\",IF('3B'!$H$11=10,\"IPA\",IF('3B'!$H$11=11,\"IPS\",IF('3B'!$H$11=12,\"SBK\",IF('3B'!$H$11=13,\"PJK\",IF('3B'!$H$11=14,\"BD\",IF('3B'!$H$11=15,\"BIG\",IF('3B'!$H$11=16,\"AWJ\",IF('3B'!$H$11=17,\"NW\",IF('3B'!$H$11=18,\"SRF\",IF('3B'!$H$11=19,\"PG\",IF('3B'!$H$11=20,\"XTR\",””))))))))))))))))))))","v":{"$error":"#NAME?"}},{"$f":"IF('3C'!$H$11=1,\"TMTIK\",IF('3C'!$H$11=2,\"AA\",IF('3C'!$H$11=3,\"QH\",IF('3C'!$H$11=4,\"FQ\",IF('3C'!$H$11=5,\"SKI\",IF('3C'!$H$11=6,\"PKN\",IF('3C'!$H$11=7,\"BID\",IF('3C'!$H$11=8,\"BA\",IF('3C'!$H$11=9,\"MTK\",IF('3C'!$H$11=10,\"IPA\",IF('3C'!$H$11=11,\"IPS\",IF('3C'!$H$11=12,\"SBK\",IF('3C'!$H$11=13,\"PJK\",IF('3C'!$H$11=14,\"BD\",IF('3C'!$H$11=15,\"BIG\",IF('3C'!$H$11=16,\"AWJ\",IF('3C'!$H$11=17,\"NW\",IF('3C'!$H$11=18,\"SRF\",IF('3C'!$H$11=19,\"PG\",IF('3C'!$H$11=20,\"XTR\",””))))))))))))))))))))","v":"TMTIK"},{"$f":"IF('3A'!$J$11=1,\"TMTIK\",IF('3A'!$J$11=2,\"AA\",IF('3A'!$J$11=3,\"QH\",IF('3A'!$J$11=4,\"FQ\",IF('3A'!$J$11=5,\"SKI\",IF('3A'!$J$11=6,\"PKN\",IF('3A'!$J$11=7,\"BID\",IF('3A'!$J$11=8,\"BA\",IF('3A'!$J$11=9,\"MTK\",IF('3A'!$J$11=10,\"IPA\",IF('3A'!$J$11=11,\"IPS\",IF('3A'!$J$11=12,\"SBK\",IF('3A'!$J$11=13,\"PJK\",IF('3A'!$J$11=14,\"BD\",IF('3A'!$J$11=15,\"BIG\",IF('3A'!$J$11=16,\"AWJ\",IF('3A'!$J$11=17,\"NW\",IF('3A'!$J$11=18,\"SRF\",IF('3A'!$J$11=19,\"PG\",IF('3A'!$J$11=20,\"XTR\",””))))))))))))))))))))","v":{"$error":"#NAME?"}},{"$f":"IF('3B'!$J$11=1,\"TMTIK\",IF('3B'!$J$11=2,\"AA\",IF('3B'!$J$11=3,\"QH\",IF('3B'!$J$11=4,\"FQ\",IF('3B'!$J$11=5,\"SKI\",IF('3B'!$J$11=6,\"PKN\",IF('3B'!$J$11=7,\"BID\",IF('3B'!$J$11=8,\"BA\",IF('3B'!$J$11=9,\"MTK\",IF('3B'!$J$11=10,\"IPA\",IF('3B'!$J$11=11,\"IPS\",IF('3B'!$J$11=12,\"SBK\",IF('3B'!$J$11=13,\"PJK\",IF('3B'!$J$11=14,\"BD\",IF('3B'!$J$11=15,\"BIG\",IF('3B'!$J$11=16,\"AWJ\",IF('3B'!$J$11=17,\"NW\",IF('3B'!$J$11=18,\"SRF\",IF('3B'!$J$11=19,\"PG\",IF('3B'!$J$11=20,\"XTR\",””))))))))))))))))))))","v":{"$error":"#NAME?"}},{"$f":"IF('3C'!$J$11=1,\"TMTIK\",IF('3C'!$J$11=2,\"AA\",IF('3C'!$J$11=3,\"QH\",IF('3C'!$J$11=4,\"FQ\",IF('3C'!$J$11=5,\"SKI\",IF('3C'!$J$11=6,\"PKN\",IF('3C'!$J$11=7,\"BID\",IF('3C'!$J$11=8,\"BA\",IF('3C'!$J$11=9,\"MTK\",IF('3C'!$J$11=10,\"IPA\",IF('3C'!$J$11=11,\"IPS\",IF('3C'!$J$11=12,\"SBK\",IF('3C'!$J$11=13,\"PJK\",IF('3C'!$J$11=14,\"BD\",IF('3C'!$J$11=15,\"BIG\",IF('3C'!$J$11=16,\"AWJ\",IF('3C'!$J$11=17,\"NW\",IF('3C'!$J$11=18,\"SRF\",IF('3C'!$J$11=19,\"PG\",IF('3C'!$J$11=20,\"XTR\",””))))))))))))))))))))","v":"BA"},{"$f":"IF('3A'!$N$11=1,\"TMTIK\",IF('3A'!$N$11=2,\"AA\",IF('3A'!$N$11=3,\"QH\",IF('3A'!$N$11=4,\"FQ\",IF('3A'!$N$11=5,\"SKI\",IF('3A'!$N$11=6,\"PKN\",IF('3A'!$N$11=7,\"BID\",IF('3A'!$N$11=8,\"BA\",IF('3A'!$N$11=9,\"MTK\",IF('3A'!$N$11=10,\"IPA\",IF('3A'!$N$11=11,\"IPS\",IF('3A'!$N$11=12,\"SBK\",IF('3A'!$N$11=13,\"PJK\",IF('3A'!$N$11=14,\"BD\",IF('3A'!$N$11=15,\"BIG\",IF('3A'!$N$11=16,\"AWJ\",IF('3A'!$N$11=17,\"NW\",IF('3A'!$N$11=18,\"SRF\",IF('3A'!$N$11=19,\"PG\",IF('3A'!$N$11=20,\"XTR\",””))))))))))))))))))))","v":{"$error":"#NAME?"}},{"$f":"IF('3B'!$N$11=1,\"TMTIK\",IF('3B'!$N$11=2,\"AA\",IF('3B'!$N$11=3,\"QH\",IF('3B'!$N$11=4,\"FQ\",IF('3B'!$N$11=5,\"SKI\",IF('3B'!$N$11=6,\"PKN\",IF('3B'!$N$11=7,\"BID\",IF('3B'!$N$11=8,\"BA\",IF('3B'!$N$11=9,\"MTK\",IF('3B'!$N$11=10,\"IPA\",IF('3B'!$N$11=11,\"IPS\",IF('3B'!$N$11=12,\"SBK\",IF('3B'!$N$11=13,\"PJK\",IF('3B'!$N$11=14,\"BD\",IF('3B'!$N$11=15,\"BIG\",IF('3B'!$N$11=16,\"AWJ\",IF('3B'!$N$11=17,\"NW\",IF('3B'!$N$11=18,\"SRF\",IF('3B'!$N$11=19,\"PG\",IF('3B'!$N$11=20,\"XTR\",””))))))))))))))))))))","v":{"$error":"#NAME?"}},{"$f":"IF('3C'!$N$11=1,\"TMTIK\",IF('3C'!$N$11=2,\"AA\",IF('3C'!$N$11=3,\"QH\",IF('3C'!$N$11=4,\"FQ\",IF('3C'!$N$11=5,\"SKI\",IF('3C'!$N$11=6,\"PKN\",IF('3C'!$N$11=7,\"BID\",IF('3C'!$N$11=8,\"BA\",IF('3C'!$N$11=9,\"MTK\",IF('3C'!$N$11=10,\"IPA\",IF('3C'!$N$11=11,\"IPS\",IF('3C'!$N$11=12,\"SBK\",IF('3C'!$N$11=13,\"PJK\",IF('3C'!$N$11=14,\"BD\",IF('3C'!$N$11=15,\"BIG\",IF('3C'!$N$11=16,\"AWJ\",IF('3C'!$N$11=17,\"NW\",IF('3C'!$N$11=18,\"SRF\",IF('3C'!$N$11=19,\"PG\",IF('3C'!$N$11=20,\"XTR\",””))))))))))))))))))))","v":"TMTIK"},{"$f":"IF('3A'!$D$24=1,\"TMTIK\",IF('3A'!$D$24=2,\"AA\",IF('3A'!$D$24=3,\"QH\",IF('3A'!$D$24=4,\"FQ\",IF('3A'!$D$24=5,\"SKI\",IF('3A'!$D$24=6,\"PKN\",IF('3A'!$D$24=7,\"BID\",IF('3A'!$D$24=8,\"BA\",IF('3A'!$D$24=9,\"MTK\",IF('3A'!$D$24=10,\"IPA\",IF('3A'!$D$24=11,\"IPS\",IF('3A'!$D$24=12,\"SBK\",IF('3A'!$D$24=13,\"PJK\",IF('3A'!$D$24=14,\"BD\",IF('3A'!$D$24=15,\"BIG\",IF('3A'!$D$24=16,\"AWJ\",IF('3A'!$D$24=17,\"NW\",IF('3A'!$D$24=18,\"SRF\",IF('3A'!$D$24=19,\"PG\",IF('3A'!$D$24=20,\"XTR\",””))))))))))))))))))))","v":{"$error":"#NAME?"}},{"$f":"IF('3B'!$D$24=1,\"TMTIK\",IF('3B'!$D$24=2,\"AA\",IF('3B'!$D$24=3,\"QH\",IF('3B'!$D$24=4,\"FQ\",IF('3B'!$D$24=5,\"SKI\",IF('3B'!$D$24=6,\"PKN\",IF('3B'!$D$24=7,\"BID\",IF('3B'!$D$24=8,\"BA\",IF('3B'!$D$24=9,\"MTK\",IF('3B'!$D$24=10,\"IPA\",IF('3B'!$D$24=11,\"IPS\",IF('3B'!$D$24=12,\"SBK\",IF('3B'!$D$24=13,\"PJK\",IF('3B'!$D$24=14,\"BD\",IF('3B'!$D$24=15,\"BIG\",IF('3B'!$D$24=16,\"AWJ\",IF('3B'!$D$24=17,\"NW\",IF('3B'!$D$24=18,\"SRF\",IF('3B'!$D$24=19,\"PG\",IF('3B'!$D$24=20,\"XTR\",””))))))))))))))))))))","v":{"$error":"#NAME?"}},{"$f":"IF('3C'!$D$24=1,\"TMTIK\",IF('3C'!$D$24=2,\"AA\",IF('3C'!$D$24=3,\"QH\",IF('3C'!$D$24=4,\"FQ\",IF('3C'!$D$24=5,\"SKI\",IF('3C'!$D$24=6,\"PKN\",IF('3C'!$D$24=7,\"BID\",IF('3C'!$D$24=8,\"BA\",IF('3C'!$D$24=9,\"MTK\",IF('3C'!$D$24=10,\"IPA\",IF('3C'!$D$24=11,\"IPS\",IF('3C'!$D$24=12,\"SBK\",IF('3C'!$D$24=13,\"PJK\",IF('3C'!$D$24=14,\"BD\",IF('3C'!$D$24=15,\"BIG\",IF('3C'!$D$24=16,\"AWJ\",IF('3C'!$D$24=17,\"NW\",IF('3C'!$D$24=18,\"SRF\",IF('3C'!$D$24=19,\"PG\",IF('3C'!$D$24=20,\"XTR\",””))))))))))))))))))))","v":"PJK"}]
[4,{"$f":"IF('3A'!$D$12=1,\"TMTIK\",IF('3A'!$D$12=2,\"AA\",IF('3A'!$D$12=3,\"QH\",IF('3A'!$D$12=4,\"FQ\",IF('3A'!$D$12=5,\"SKI\",IF('3A'!$D$12=6,\"PKN\",IF('3A'!$D$12=7,\"BID\",IF('3A'!$D$12=8,\"BA\",IF('3A'!$D$12=9,\"MTK\",IF('3A'!$D$12=10,\"IPA\",IF('3A'!$D$12=11,\"IPS\",IF('3A'!$D$12=12,\"SBK\",IF('3A'!$D$12=13,\"PJK\",IF('3A'!$D$12=14,\"BD\",IF('3A'!$D$12=15,\"BIG\",IF('3A'!$D$12=16,\"AWJ\",IF('3A'!$D$12=17,\"NW\",IF('3A'!$D$12=18,\"SRF\",IF('3A'!$D$12=19,\"PG\",IF('3A'!$D$12=20,\"XTR\",””))))))))))))))))))))","v":{"$error":"#NAME?"}},{"$f":"IF('3B'!$D$12=1,\"TMTIK\",IF('3B'!$D$12=2,\"AA\",IF('3B'!$D$12=3,\"QH\",IF('3B'!$D$12=4,\"FQ\",IF('3B'!$D$12=5,\"SKI\",IF('3B'!$D$12=6,\"PKN\",IF('3B'!$D$12=7,\"BID\",IF('3B'!$D$12=8,\"BA\",IF('3B'!$D$12=9,\"MTK\",IF('3B'!$D$12=10,\"IPA\",IF('3B'!$D$12=11,\"IPS\",IF('3B'!$D$12=12,\"SBK\",IF('3B'!$D$12=13,\"PJK\",IF('3B'!$D$12=14,\"BD\",IF('3B'!$D$12=15,\"BIG\",IF('3B'!$D$12=16,\"AWJ\",IF('3B'!$D$12=17,\"NW\",IF('3B'!$D$12=18,\"SRF\",IF('3B'!$D$12=19,\"PG\",IF('3B'!$D$12=20,\"XTR\",””))))))))))))))))))))","v":{"$error":"#NAME?"}},{"$f":"IF('3C'!$D$12=1,\"TMTIK\",IF('3C'!$D$12=2,\"AA\",IF('3C'!$D$12=3,\"QH\",IF('3C'!$D$12=4,\"FQ\",IF('3C'!$D$12=5,\"SKI\",IF('3C'!$D$12=6,\"PKN\",IF('3C'!$D$12=7,\"BID\",IF('3C'!$D$12=8,\"BA\",IF('3C'!$D$12=9,\"MTK\",IF('3C'!$D$12=10,\"IPA\",IF('3C'!$D$12=11,\"IPS\",IF('3C'!$D$12=12,\"SBK\",IF('3C'!$D$12=13,\"PJK\",IF('3C'!$D$12=14,\"BD\",IF('3C'!$D$12=15,\"BIG\",IF('3C'!$D$12=16,\"AWJ\",IF('3C'!$D$12=17,\"NW\",IF('3C'!$D$12=18,\"SRF\",IF('3C'!$D$12=19,\"PG\",IF('3C'!$D$12=20,\"XTR\",””))))))))))))))))))))","v":"TMTIK"},{"$f":"IF('3A'!$F$12=1,\"TMTIK\",IF('3A'!$F$12=2,\"AA\",IF('3A'!$F$12=3,\"QH\",IF('3A'!$F$12=4,\"FQ\",IF('3A'!$F$12=5,\"SKI\",IF('3A'!$F$12=6,\"PKN\",IF('3A'!$F$12=7,\"BID\",IF('3A'!$F$12=8,\"BA\",IF('3A'!$F$12=9,\"MTK\",IF('3A'!$F$12=10,\"IPA\",IF('3A'!$F$12=11,\"IPS\",IF('3A'!$F$12=12,\"SBK\",IF('3A'!$F$12=13,\"PJK\",IF('3A'!$F$12=14,\"BD\",IF('3A'!$F$12=15,\"BIG\",IF('3A'!$F$12=16,\"AWJ\",IF('3A'!$F$12=17,\"NW\",IF('3A'!$F$12=18,\"SRF\",IF('3A'!$F$12=19,\"PG\",IF('3A'!$F$12=20,\"XTR\",””))))))))))))))))))))","v":{"$error":"#NAME?"}},{"$f":"IF('3B'!$F$12=1,\"TMTIK\",IF('3B'!$F$12=2,\"AA\",IF('3B'!$F$12=3,\"QH\",IF('3B'!$F$12=4,\"FQ\",IF('3B'!$F$12=5,\"SKI\",IF('3B'!$F$12=6,\"PKN\",IF('3B'!$F$12=7,\"BID\",IF('3B'!$F$12=8,\"BA\",IF('3B'!$F$12=9,\"MTK\",IF('3B'!$F$12=10,\"IPA\",IF('3B'!$F$12=11,\"IPS\",IF('3B'!$F$12=12,\"SBK\",IF('3B'!$F$12=13,\"PJK\",IF('3B'!$F$12=14,\"BD\",IF('3B'!$F$12=15,\"BIG\",IF('3B'!$F$12=16,\"AWJ\",IF('3B'!$F$12=17,\"NW\",IF('3B'!$F$12=18,\"SRF\",IF('3B'!$F$12=19,\"PG\",IF('3B'!$F$12=20,\"XTR\",””))))))))))))))))))))","v":{"$error":"#NAME?"}},{"$f":"IF('3C'!$F$12=1,\"TMTIK\",IF('3C'!$F$12=2,\"AA\",IF('3C'!$F$12=3,\"QH\",IF('3C'!$F$12=4,\"FQ\",IF('3C'!$F$12=5,\"SKI\",IF('3C'!$F$12=6,\"PKN\",IF('3C'!$F$12=7,\"BID\",IF('3C'!$F$12=8,\"BA\",IF('3C'!$F$12=9,\"MTK\",IF('3C'!$F$12=10,\"IPA\",IF('3C'!$F$12=11,\"IPS\",IF('3C'!$F$12=12,\"SBK\",IF('3C'!$F$12=13,\"PJK\",IF('3C'!$F$12=14,\"BD\",IF('3C'!$F$12=15,\"BIG\",IF('3C'!$F$12=16,\"AWJ\",IF('3C'!$F$12=17,\"NW\",IF('3C'!$F$12=18,\"SRF\",IF('3C'!$F$12=19,\"PG\",IF('3C'!$F$12=20,\"XTR\",””))))))))))))))))))))","v":"TMTIK"},{"$f":"IF('3A'!$H$12=1,\"TMTIK\",IF('3A'!$H$12=2,\"AA\",IF('3A'!$H$12=3,\"QH\",IF('3A'!$H$12=4,\"FQ\",IF('3A'!$H$12=5,\"SKI\",IF('3A'!$H$12=6,\"PKN\",IF('3A'!$H$12=7,\"BID\",IF('3A'!$H$12=8,\"BA\",IF('3A'!$H$12=9,\"MTK\",IF('3A'!$H$12=10,\"IPA\",IF('3A'!$H$12=11,\"IPS\",IF('3A'!$H$12=12,\"SBK\",IF('3A'!$H$12=13,\"PJK\",IF('3A'!$H$12=14,\"BD\",IF('3A'!$H$12=15,\"BIG\",IF('3A'!$H$12=16,\"AWJ\",IF('3A'!$H$12=17,\"NW\",IF('3A'!$H$12=18,\"SRF\",IF('3A'!$H$12=19,\"PG\",IF('3A'!$H$12=20,\"XTR\",””))))))))))))))))))))","v":{"$error":"#NAME?"}},{"$f":"IF('3B'!$H$12=1,\"TMTIK\",IF('3B'!$H$12=2,\"AA\",IF('3B'!$H$12=3,\"QH\",IF('3B'!$H$12=4,\"FQ\",IF('3B'!$H$12=5,\"SKI\",IF('3B'!$H$12=6,\"PKN\",IF('3B'!$H$12=7,\"BID\",IF('3B'!$H$12=8,\"BA\",IF('3B'!$H$12=9,\"MTK\",IF('3B'!$H$12=10,\"IPA\",IF('3B'!$H$12=11,\"IPS\",IF('3B'!$H$12=12,\"SBK\",IF('3B'!$H$12=13,\"PJK\",IF('3B'!$H$12=14,\"BD\",IF('3B'!$H$12=15,\"BIG\",IF('3B'!$H$12=16,\"AWJ\",IF('3B'!$H$12=17,\"NW\",IF('3B'!$H$12=18,\"SRF\",IF('3B'!$H$12=19,\"PG\",IF('3B'!$H$12=20,\"XTR\",””))))))))))))))))))))","v":{"$error":"#NAME?"}},{"$f":"IF('3C'!$H$12=1,\"TMTIK\",IF('3C'!$H$12=2,\"AA\",IF('3C'!$H$12=3,\"QH\",IF('3C'!$H$12=4,\"FQ\",IF('3C'!$H$12=5,\"SKI\",IF('3C'!$H$12=6,\"PKN\",IF('3C'!$H$12=7,\"BID\",IF('3C'!$H$12=8,\"BA\",IF('3C'!$H$12=9,\"MTK\",IF('3C'!$H$12=10,\"IPA\",IF('3C'!$H$12=11,\"IPS\",IF('3C'!$H$12=12,\"SBK\",IF('3C'!$H$12=13,\"PJK\",IF('3C'!$H$12=14,\"BD\",IF('3C'!$H$12=15,\"BIG\",IF('3C'!$H$12=16,\"AWJ\",IF('3C'!$H$12=17,\"NW\",IF('3C'!$H$12=18,\"SRF\",IF('3C'!$H$12=19,\"PG\",IF('3C'!$H$12=20,\"XTR\",””))))))))))))))))))))","v":"TMTIK"},{"$f":"IF('3A'!$J$12=1,\"TMTIK\",IF('3A'!$J$12=2,\"AA\",IF('3A'!$J$12=3,\"QH\",IF('3A'!$J$12=4,\"FQ\",IF('3A'!$J$12=5,\"SKI\",IF('3A'!$J$12=6,\"PKN\",IF('3A'!$J$12=7,\"BID\",IF('3A'!$J$12=8,\"BA\",IF('3A'!$J$12=9,\"MTK\",IF('3A'!$J$12=10,\"IPA\",IF('3A'!$J$12=11,\"IPS\",IF('3A'!$J$12=12,\"SBK\",IF('3A'!$J$12=13,\"PJK\",IF('3A'!$J$12=14,\"BD\",IF('3A'!$J$12=15,\"BIG\",IF('3A'!$J$12=16,\"AWJ\",IF('3A'!$J$12=17,\"NW\",IF('3A'!$J$12=18,\"SRF\",IF('3A'!$J$12=19,\"PG\",IF('3A'!$J$12=20,\"XTR\",””))))))))))))))))))))","v":{"$error":"#NAME?"}},{"$f":"IF('3B'!$J$12=1,\"TMTIK\",IF('3B'!$J$12=2,\"AA\",IF('3B'!$J$12=3,\"QH\",IF('3B'!$J$12=4,\"FQ\",IF('3B'!$J$12=5,\"SKI\",IF('3B'!$J$12=6,\"PKN\",IF('3B'!$J$12=7,\"BID\",IF('3B'!$J$12=8,\"BA\",IF('3B'!$J$12=9,\"MTK\",IF('3B'!$J$12=10,\"IPA\",IF('3B'!$J$12=11,\"IPS\",IF('3B'!$J$12=12,\"SBK\",IF('3B'!$J$12=13,\"PJK\",IF('3B'!$J$12=14,\"BD\",IF('3B'!$J$12=15,\"BIG\",IF('3B'!$J$12=16,\"AWJ\",IF('3B'!$J$12=17,\"NW\",IF('3B'!$J$12=18,\"SRF\",IF('3B'!$J$12=19,\"PG\",IF('3B'!$J$12=20,\"XTR\",””))))))))))))))))))))","v":{"$error":"#NAME?"}},{"$f":"IF('3C'!$J$12=1,\"TMTIK\",IF('3C'!$J$12=2,\"AA\",IF('3C'!$J$12=3,\"QH\",IF('3C'!$J$12=4,\"FQ\",IF('3C'!$J$12=5,\"SKI\",IF('3C'!$J$12=6,\"PKN\",IF('3C'!$J$12=7,\"BID\",IF('3C'!$J$12=8,\"BA\",IF('3C'!$J$12=9,\"MTK\",IF('3C'!$J$12=10,\"IPA\",IF('3C'!$J$12=11,\"IPS\",IF('3C'!$J$12=12,\"SBK\",IF('3C'!$J$12=13,\"PJK\",IF('3C'!$J$12=14,\"BD\",IF('3C'!$J$12=15,\"BIG\",IF('3C'!$J$12=16,\"AWJ\",IF('3C'!$J$12=17,\"NW\",IF('3C'!$J$12=18,\"SRF\",IF('3C'!$J$12=19,\"PG\",IF('3C'!$J$12=20,\"XTR\",””))))))))))))))))))))","v":"BA"},{"$f":"IF('3A'!$N$12=1,\"TMTIK\",IF('3A'!$N$12=2,\"AA\",IF('3A'!$N$12=3,\"QH\",IF('3A'!$N$12=4,\"FQ\",IF('3A'!$N$12=5,\"SKI\",IF('3A'!$N$12=6,\"PKN\",IF('3A'!$N$12=7,\"BID\",IF('3A'!$N$12=8,\"BA\",IF('3A'!$N$12=9,\"MTK\",IF('3A'!$N$12=10,\"IPA\",IF('3A'!$N$12=11,\"IPS\",IF('3A'!$N$12=12,\"SBK\",IF('3A'!$N$12=13,\"PJK\",IF('3A'!$N$12=14,\"BD\",IF('3A'!$N$12=15,\"BIG\",IF('3A'!$N$12=16,\"AWJ\",IF('3A'!$N$12=17,\"NW\",IF('3A'!$N$12=18,\"SRF\",IF('3A'!$N$12=19,\"PG\",IF('3A'!$N$12=20,\"XTR\",””))))))))))))))))))))","v":{"$error":"#NAME?"}},{"$f":"IF('3B'!$N$12=1,\"TMTIK\",IF('3B'!$N$12=2,\"AA\",IF('3B'!$N$12=3,\"QH\",IF('3B'!$N$12=4,\"FQ\",IF('3B'!$N$12=5,\"SKI\",IF('3B'!$N$12=6,\"PKN\",IF('3B'!$N$12=7,\"BID\",IF('3B'!$N$12=8,\"BA\",IF('3B'!$N$12=9,\"MTK\",IF('3B'!$N$12=10,\"IPA\",IF('3B'!$N$12=11,\"IPS\",IF('3B'!$N$12=12,\"SBK\",IF('3B'!$N$12=13,\"PJK\",IF('3B'!$N$12=14,\"BD\",IF('3B'!$N$12=15,\"BIG\",IF('3B'!$N$12=16,\"AWJ\",IF('3B'!$N$12=17,\"NW\",IF('3B'!$N$12=18,\"SRF\",IF('3B'!$N$12=19,\"PG\",IF('3B'!$N$12=20,\"XTR\",””))))))))))))))))))))","v":{"$error":"#NAME?"}},{"$f":"IF('3C'!$N$12=1,\"TMTIK\",IF('3C'!$N$12=2,\"AA\",IF('3C'!$N$12=3,\"QH\",IF('3C'!$N$12=4,\"FQ\",IF('3C'!$N$12=5,\"SKI\",IF('3C'!$N$12=6,\"PKN\",IF('3C'!$N$12=7,\"BID\",IF('3C'!$N$12=8,\"BA\",IF('3C'!$N$12=9,\"MTK\",IF('3C'!$N$12=10,\"IPA\",IF('3C'!$N$12=11,\"IPS\",IF('3C'!$N$12=12,\"SBK\",IF('3C'!$N$12=13,\"PJK\",IF('3C'!$N$12=14,\"BD\",IF('3C'!$N$12=15,\"BIG\",IF('3C'!$N$12=16,\"AWJ\",IF('3C'!$N$12=17,\"NW\",IF('3C'!$N$12=18,\"SRF\",IF('3C'!$N$12=19,\"PG\",IF('3C'!$N$12=20,\"XTR\",””))))))))))))))))))))","v":"TMTIK"},{"$f":"IF('3A'!$D$25=1,\"TMTIK\",IF('3A'!$D$25=2,\"AA\",IF('3A'!$D$25=3,\"QH\",IF('3A'!$D$25=4,\"FQ\",IF('3A'!$D$25=5,\"SKI\",IF('3A'!$D$25=6,\"PKN\",IF('3A'!$D$25=7,\"BID\",IF('3A'!$D$25=8,\"BA\",IF('3A'!$D$25=9,\"MTK\",IF('3A'!$D$25=10,\"IPA\",IF('3A'!$D$25=11,\"IPS\",IF('3A'!$D$25=12,\"SBK\",IF('3A'!$D$25=13,\"PJK\",IF('3A'!$D$25=14,\"BD\",IF('3A'!$D$25=15,\"BIG\",IF('3A'!$D$25=16,\"AWJ\",IF('3A'!$D$25=17,\"NW\",IF('3A'!$D$25=18,\"SRF\",IF('3A'!$D$25=19,\"PG\",IF('3A'!$D$25=20,\"XTR\",””))))))))))))))))))))","v":{"$error":"#NAME?"}},{"$f":"IF('3B'!$D$25=1,\"TMTIK\",IF('3B'!$D$25=2,\"AA\",IF('3B'!$D$25=3,\"QH\",IF('3B'!$D$25=4,\"FQ\",IF('3B'!$D$25=5,\"SKI\",IF('3B'!$D$25=6,\"PKN\",IF('3B'!$D$25=7,\"BID\",IF('3B'!$D$25=8,\"BA\",IF('3B'!$D$25=9,\"MTK\",IF('3B'!$D$25=10,\"IPA\",IF('3B'!$D$25=11,\"IPS\",IF('3B'!$D$25=12,\"SBK\",IF('3B'!$D$25=13,\"PJK\",IF('3B'!$D$25=14,\"BD\",IF('3B'!$D$25=15,\"BIG\",IF('3B'!$D$25=16,\"AWJ\",IF('3B'!$D$25=17,\"NW\",IF('3B'!$D$25=18,\"SRF\",IF('3B'!$D$25=19,\"PG\",IF('3B'!$D$25=20,\"XTR\",””))))))))))))))))))))","v":{"$error":"#NAME?"}},{"$f":"IF('3C'!$D$25=1,\"TMTIK\",IF('3C'!$D$25=2,\"AA\",IF('3C'!$D$25=3,\"QH\",IF('3C'!$D$25=4,\"FQ\",IF('3C'!$D$25=5,\"SKI\",IF('3C'!$D$25=6,\"PKN\",IF('3C'!$D$25=7,\"BID\",IF('3C'!$D$25=8,\"BA\",IF('3C'!$D$25=9,\"MTK\",IF('3C'!$D$25=10,\"IPA\",IF('3C'!$D$25=11,\"IPS\",IF('3C'!$D$25=12,\"SBK\",IF('3C'!$D$25=13,\"PJK\",IF('3C'!$D$25=14,\"BD\",IF('3C'!$D$25=15,\"BIG\",IF('3C'!$D$25=16,\"AWJ\",IF('3C'!$D$25=17,\"NW\",IF('3C'!$D$25=18,\"SRF\",IF('3C'!$D$25=19,\"PG\",IF('3C'!$D$25=20,\"XTR\",””))))))))))))))))))))","v":"PG"}]
[5,{"$f":"IF('3A'!$D$14=1,\"TMTIK\",IF('3A'!$D$14=2,\"AA\",IF('3A'!$D$14=3,\"QH\",IF('3A'!$D$14=4,\"FQ\",IF('3A'!$D$14=5,\"SKI\",IF('3A'!$D$14=6,\"PKN\",IF('3A'!$D$14=7,\"BID\",IF('3A'!$D$14=8,\"BA\",IF('3A'!$D$14=9,\"MTK\",IF('3A'!$D$14=10,\"IPA\",IF('3A'!$D$14=11,\"IPS\",IF('3A'!$D$14=12,\"SBK\",IF('3A'!$D$14=13,\"PJK\",IF('3A'!$D$14=14,\"BD\",IF('3A'!$D$14=15,\"BIG\",IF('3A'!$D$14=16,\"AWJ\",IF('3A'!$D$14=17,\"NW\",IF('3A'!$D$14=18,\"SRF\",IF('3A'!$D$14=19,\"PG\",IF('3A'!$D$14=20,\"XTR\",””))))))))))))))))))))","v":{"$error":"#NAME?"}},{"$f":"IF('3B'!$D$14=1,\"TMTIK\",IF('3B'!$D$14=2,\"AA\",IF('3B'!$D$14=3,\"QH\",IF('3B'!$D$14=4,\"FQ\",IF('3B'!$D$14=5,\"SKI\",IF('3B'!$D$14=6,\"PKN\",IF('3B'!$D$14=7,\"BID\",IF('3B'!$D$14=8,\"BA\",IF('3B'!$D$14=9,\"MTK\",IF('3B'!$D$14=10,\"IPA\",IF('3B'!$D$14=11,\"IPS\",IF('3B'!$D$14=12,\"SBK\",IF('3B'!$D$14=13,\"PJK\",IF('3B'!$D$14=14,\"BD\",IF('3B'!$D$14=15,\"BIG\",IF('3B'!$D$14=16,\"AWJ\",IF('3B'!$D$14=17,\"NW\",IF('3B'!$D$14=18,\"SRF\",IF('3B'!$D$14=19,\"PG\",IF('3B'!$D$14=20,\"XTR\",””))))))))))))))))))))","v":{"$error":"#NAME?"}},{"$f":"IF('3C'!$D$14=1,\"TMTIK\",IF('3C'!$D$14=2,\"AA\",IF('3C'!$D$14=3,\"QH\",IF('3C'!$D$14=4,\"FQ\",IF('3C'!$D$14=5,\"SKI\",IF('3C'!$D$14=6,\"PKN\",IF('3C'!$D$14=7,\"BID\",IF('3C'!$D$14=8,\"BA\",IF('3C'!$D$14=9,\"MTK\",IF('3C'!$D$14=10,\"IPA\",IF('3C'!$D$14=11,\"IPS\",IF('3C'!$D$14=12,\"SBK\",IF('3C'!$D$14=13,\"PJK\",IF('3C'!$D$14=14,\"BD\",IF('3C'!$D$14=15,\"BIG\",IF('3C'!$D$14=16,\"AWJ\",IF('3C'!$D$14=17,\"NW\",IF('3C'!$D$14=18,\"SRF\",IF('3C'!$D$14=19,\"PG\",IF('3C'!$D$14=20,\"XTR\",””))))))))))))))))))))","v":"TMTIK"},{"$f":"IF('3A'!$F$14=1,\"TMTIK\",IF('3A'!$F$14=2,\"AA\",IF('3A'!$F$14=3,\"QH\",IF('3A'!$F$14=4,\"FQ\",IF('3A'!$F$14=5,\"SKI\",IF('3A'!$F$14=6,\"PKN\",IF('3A'!$F$14=7,\"BID\",IF('3A'!$F$14=8,\"BA\",IF('3A'!$F$14=9,\"MTK\",IF('3A'!$F$14=10,\"IPA\",IF('3A'!$F$14=11,\"IPS\",IF('3A'!$F$14=12,\"SBK\",IF('3A'!$F$14=13,\"PJK\",IF('3A'!$F$14=14,\"BD\",IF('3A'!$F$14=15,\"BIG\",IF('3A'!$F$14=16,\"AWJ\",IF('3A'!$F$14=17,\"NW\",IF('3A'!$F$14=18,\"SRF\",IF('3A'!$F$14=19,\"PG\",IF('3A'!$F$14=20,\"XTR\",””))))))))))))))))))))","v":{"$error":"#NAME?"}},{"$f":"IF('3B'!$F$14=1,\"TMTIK\",IF('3B'!$F$14=2,\"AA\",IF('3B'!$F$14=3,\"QH\",IF('3B'!$F$14=4,\"FQ\",IF('3B'!$F$14=5,\"SKI\",IF('3B'!$F$14=6,\"PKN\",IF('3B'!$F$14=7,\"BID\",IF('3B'!$F$14=8,\"BA\",IF('3B'!$F$14=9,\"MTK\",IF('3B'!$F$14=10,\"IPA\",IF('3B'!$F$14=11,\"IPS\",IF('3B'!$F$14=12,\"SBK\",IF('3B'!$F$14=13,\"PJK\",IF('3B'!$F$14=14,\"BD\",IF('3B'!$F$14=15,\"BIG\",IF('3B'!$F$14=16,\"AWJ\",IF('3B'!$F$14=17,\"NW\",IF('3B'!$F$14=18,\"SRF\",IF('3B'!$F$14=19,\"PG\",IF('3B'!$F$14=20,\"XTR\",””))))))))))))))))))))","v":{"$error":"#NAME?"}},{"$f":"IF('3C'!$F$14=1,\"TMTIK\",IF('3C'!$F$14=2,\"AA\",IF('3C'!$F$14=3,\"QH\",IF('3C'!$F$14=4,\"FQ\",IF('3C'!$F$14=5,\"SKI\",IF('3C'!$F$14=6,\"PKN\",IF('3C'!$F$14=7,\"BID\",IF('3C'!$F$14=8,\"BA\",IF('3C'!$F$14=9,\"MTK\",IF('3C'!$F$14=10,\"IPA\",IF('3C'!$F$14=11,\"IPS\",IF('3C'!$F$14=12,\"SBK\",IF('3C'!$F$14=13,\"PJK\",IF('3C'!$F$14=14,\"BD\",IF('3C'!$F$14=15,\"BIG\",IF('3C'!$F$14=16,\"AWJ\",IF('3C'!$F$14=17,\"NW\",IF('3C'!$F$14=18,\"SRF\",IF('3C'!$F$14=19,\"PG\",IF('3C'!$F$14=20,\"XTR\",””))))))))))))))))))))","v":"BIG"},{"$f":"IF('3A'!$H$14=1,\"TMTIK\",IF('3A'!$H$14=2,\"AA\",IF('3A'!$H$14=3,\"QH\",IF('3A'!$H$14=4,\"FQ\",IF('3A'!$H$14=5,\"SKI\",IF('3A'!$H$14=6,\"PKN\",IF('3A'!$H$14=7,\"BID\",IF('3A'!$H$14=8,\"BA\",IF('3A'!$H$14=9,\"MTK\",IF('3A'!$H$14=10,\"IPA\",IF('3A'!$H$14=11,\"IPS\",IF('3A'!$H$14=12,\"SBK\",IF('3A'!$H$14=13,\"PJK\",IF('3A'!$H$14=14,\"BD\",IF('3A'!$H$14=15,\"BIG\",IF('3A'!$H$14=16,\"AWJ\",IF('3A'!$H$14=17,\"NW\",IF('3A'!$H$14=18,\"SRF\",IF('3A'!$H$14=19,\"PG\",IF('3A'!$H$14=20,\"XTR\",””))))))))))))))))))))","v":{"$error":"#NAME?"}},{"$f":"IF('3B'!$H$14=1,\"TMTIK\",IF('3B'!$H$14=2,\"AA\",IF('3B'!$H$14=3,\"QH\",IF('3B'!$H$14=4,\"FQ\",IF('3B'!$H$14=5,\"SKI\",IF('3B'!$H$14=6,\"PKN\",IF('3B'!$H$14=7,\"BID\",IF('3B'!$H$14=8,\"BA\",IF('3B'!$H$14=9,\"MTK\",IF('3B'!$H$14=10,\"IPA\",IF('3B'!$H$14=11,\"IPS\",IF('3B'!$H$14=12,\"SBK\",IF('3B'!$H$14=13,\"PJK\",IF('3B'!$H$14=14,\"BD\",IF('3B'!$H$14=15,\"BIG\",IF('3B'!$H$14=16,\"AWJ\",IF('3B'!$H$14=17,\"NW\",IF('3B'!$H$14=18,\"SRF\",IF('3B'!$H$14=19,\"PG\",IF('3B'!$H$14=20,\"XTR\",””))))))))))))))))))))","v":{"$error":"#NAME?"}},{"$f":"IF('3C'!$H$14=1,\"TMTIK\",IF('3C'!$H$14=2,\"AA\",IF('3C'!$H$14=3,\"QH\",IF('3C'!$H$14=4,\"FQ\",IF('3C'!$H$14=5,\"SKI\",IF('3C'!$H$14=6,\"PKN\",IF('3C'!$H$14=7,\"BID\",IF('3C'!$H$14=8,\"BA\",IF('3C'!$H$14=9,\"MTK\",IF('3C'!$H$14=10,\"IPA\",IF('3C'!$H$14=11,\"IPS\",IF('3C'!$H$14=12,\"SBK\",IF('3C'!$H$14=13,\"PJK\",IF('3C'!$H$14=14,\"BD\",IF('3C'!$H$14=15,\"BIG\",IF('3C'!$H$14=16,\"AWJ\",IF('3C'!$H$14=17,\"NW\",IF('3C'!$H$14=18,\"SRF\",IF('3C'!$H$14=19,\"PG\",IF('3C'!$H$14=20,\"XTR\",””))))))))))))))))))))","v":"TMTIK"},{"$f":"IF('3A'!$J$14=1,\"TMTIK\",IF('3A'!$J$14=2,\"AA\",IF('3A'!$J$14=3,\"QH\",IF('3A'!$J$14=4,\"FQ\",IF('3A'!$J$14=5,\"SKI\",IF('3A'!$J$14=6,\"PKN\",IF('3A'!$J$14=7,\"BID\",IF('3A'!$J$14=8,\"BA\",IF('3A'!$J$14=9,\"MTK\",IF('3A'!$J$14=10,\"IPA\",IF('3A'!$J$14=11,\"IPS\",IF('3A'!$J$14=12,\"SBK\",IF('3A'!$J$14=13,\"PJK\",IF('3A'!$J$14=14,\"BD\",IF('3A'!$J$14=15,\"BIG\",IF('3A'!$J$14=16,\"AWJ\",IF('3A'!$J$14=17,\"NW\",IF('3A'!$J$14=18,\"SRF\",IF('3A'!$J$14=19,\"PG\",IF('3A'!$J$14=20,\"XTR\",””))))))))))))))))))))","v":{"$error":"#NAME?"}},{"$f":"IF('3B'!$J$14=1,\"TMTIK\",IF('3B'!$J$14=2,\"AA\",IF('3B'!$J$14=3,\"QH\",IF('3B'!$J$14=4,\"FQ\",IF('3B'!$J$14=5,\"SKI\",IF('3B'!$J$14=6,\"PKN\",IF('3B'!$J$14=7,\"BID\",IF('3B'!$J$14=8,\"BA\",IF('3B'!$J$14=9,\"MTK\",IF('3B'!$J$14=10,\"IPA\",IF('3B'!$J$14=11,\"IPS\",IF('3B'!$J$14=12,\"SBK\",IF('3B'!$J$14=13,\"PJK\",IF('3B'!$J$14=14,\"BD\",IF('3B'!$J$14=15,\"BIG\",IF('3B'!$J$14=16,\"AWJ\",IF('3B'!$J$14=17,\"NW\",IF('3B'!$J$14=18,\"SRF\",IF('3B'!$J$14=19,\"PG\",IF('3B'!$J$14=20,\"XTR\",””))))))))))))))))))))","v":{"$error":"#NAME?"}},{"$f":"IF('3C'!$J$14=1,\"TMTIK\",IF('3C'!$J$14=2,\"AA\",IF('3C'!$J$14=3,\"QH\",IF('3C'!$J$14=4,\"FQ\",IF('3C'!$J$14=5,\"SKI\",IF('3C'!$J$14=6,\"PKN\",IF('3C'!$J$14=7,\"BID\",IF('3C'!$J$14=8,\"BA\",IF('3C'!$J$14=9,\"MTK\",IF('3C'!$J$14=10,\"IPA\",IF('3C'!$J$14=11,\"IPS\",IF('3C'!$J$14=12,\"SBK\",IF('3C'!$J$14=13,\"PJK\",IF('3C'!$J$14=14,\"BD\",IF('3C'!$J$14=15,\"BIG\",IF('3C'!$J$14=16,\"AWJ\",IF('3C'!$J$14=17,\"NW\",IF('3C'!$J$14=18,\"SRF\",IF('3C'!$J$14=19,\"PG\",IF('3C'!$J$14=20,\"XTR\",””))))))))))))))))))))","v":"TMTIK"},{"$f":"IF('3A'!$N$14=1,\"TMTIK\",IF('3A'!$N$14=2,\"AA\",IF('3A'!$N$14=3,\"QH\",IF('3A'!$N$14=4,\"FQ\",IF('3A'!$N$14=5,\"SKI\",IF('3A'!$N$14=6,\"PKN\",IF('3A'!$N$14=7,\"BID\",IF('3A'!$N$14=8,\"BA\",IF('3A'!$N$14=9,\"MTK\",IF('3A'!$N$14=10,\"IPA\",IF('3A'!$N$14=11,\"IPS\",IF('3A'!$N$14=12,\"SBK\",IF('3A'!$N$14=13,\"PJK\",IF('3A'!$N$14=14,\"BD\",IF('3A'!$N$14=15,\"BIG\",IF('3A'!$N$14=16,\"AWJ\",IF('3A'!$N$14=17,\"NW\",IF('3A'!$N$14=18,\"SRF\",IF('3A'!$N$14=19,\"PG\",IF('3A'!$N$14=20,\"XTR\",””))))))))))))))))))))","v":{"$error":"#NAME?"}},{"$f":"IF('3B'!$N$14=1,\"TMTIK\",IF('3B'!$N$14=2,\"AA\",IF('3B'!$N$14=3,\"QH\",IF('3B'!$N$14=4,\"FQ\",IF('3B'!$N$14=5,\"SKI\",IF('3B'!$N$14=6,\"PKN\",IF('3B'!$N$14=7,\"BID\",IF('3B'!$N$14=8,\"BA\",IF('3B'!$N$14=9,\"MTK\",IF('3B'!$N$14=10,\"IPA\",IF('3B'!$N$14=11,\"IPS\",IF('3B'!$N$14=12,\"SBK\",IF('3B'!$N$14=13,\"PJK\",IF('3B'!$N$14=14,\"BD\",IF('3B'!$N$14=15,\"BIG\",IF('3B'!$N$14=16,\"AWJ\",IF('3B'!$N$14=17,\"NW\",IF('3B'!$N$14=18,\"SRF\",IF('3B'!$N$14=19,\"PG\",IF('3B'!$N$14=20,\"XTR\",””))))))))))))))))))))","v":{"$error":"#NAME?"}},{"$f":"IF('3C'!$N$14=1,\"TMTIK\",IF('3C'!$N$14=2,\"AA\",IF('3C'!$N$14=3,\"QH\",IF('3C'!$N$14=4,\"FQ\",IF('3C'!$N$14=5,\"SKI\",IF('3C'!$N$14=6,\"PKN\",IF('3C'!$N$14=7,\"BID\",IF('3C'!$N$14=8,\"BA\",IF('3C'!$N$14=9,\"MTK\",IF('3C'!$N$14=10,\"IPA\",IF('3C'!$N$14=11,\"IPS\",IF('3C'!$N$14=12,\"SBK\",IF('3C'!$N$14=13,\"PJK\",IF('3C'!$N$14=14,\"BD\",IF('3C'!$N$14=15,\"BIG\",IF('3C'!$N$14=16,\"AWJ\",IF('3C'!$N$14=17,\"NW\",IF('3C'!$N$14=18,\"SRF\",IF('3C'!$N$14=19,\"PG\",IF('3C'!$N$14=20,\"XTR\",””))))))))))))))))))))","v":"BD"},{"$f":"IF('3A'!$D$26=1,\"TMTIK\",IF('3A'!$D$26=2,\"AA\",IF('3A'!$D$26=3,\"QH\",IF('3A'!$D$26=4,\"FQ\",IF('3A'!$D$26=5,\"SKI\",IF('3A'!$D$26=6,\"PKN\",IF('3A'!$D$26=7,\"BID\",IF('3A'!$D$26=8,\"BA\",IF('3A'!$D$26=9,\"MTK\",IF('3A'!$D$26=10,\"IPA\",IF('3A'!$D$26=11,\"IPS\",IF('3A'!$D$26=12,\"SBK\",IF('3A'!$D$26=13,\"PJK\",IF('3A'!$D$26=14,\"BD\",IF('3A'!$D$26=15,\"BIG\",IF('3A'!$D$26=16,\"AWJ\",IF('3A'!$D$26=17,\"NW\",IF('3A'!$D$26=18,\"SRF\",IF('3A'!$D$26=19,\"PG\",IF('3A'!$D$26=20,\"XTR\",””))))))))))))))))))))","v":{"$error":"#NAME?"}},{"$f":"IF('3B'!$D$26=1,\"TMTIK\",IF('3B'!$D$26=2,\"AA\",IF('3B'!$D$26=3,\"QH\",IF('3B'!$D$26=4,\"FQ\",IF('3B'!$D$26=5,\"SKI\",IF('3B'!$D$26=6,\"PKN\",IF('3B'!$D$26=7,\"BID\",IF('3B'!$D$26=8,\"BA\",IF('3B'!$D$26=9,\"MTK\",IF('3B'!$D$26=10,\"IPA\",IF('3B'!$D$26=11,\"IPS\",IF('3B'!$D$26=12,\"SBK\",IF('3B'!$D$26=13,\"PJK\",IF('3B'!$D$26=14,\"BD\",IF('3B'!$D$26=15,\"BIG\",IF('3B'!$D$26=16,\"AWJ\",IF('3B'!$D$26=17,\"NW\",IF('3B'!$D$26=18,\"SRF\",IF('3B'!$D$26=19,\"PG\",IF('3B'!$D$26=20,\"XTR\",””))))))))))))))))))))","v":{"$error":"#NAME?"}},{"$f":"IF('3C'!$D$26=1,\"TMTIK\",IF('3C'!$D$26=2,\"AA\",IF('3C'!$D$26=3,\"QH\",IF('3C'!$D$26=4,\"FQ\",IF('3C'!$D$26=5,\"SKI\",IF('3C'!$D$26=6,\"PKN\",IF('3C'!$D$26=7,\"BID\",IF('3C'!$D$26=8,\"BA\",IF('3C'!$D$26=9,\"MTK\",IF('3C'!$D$26=10,\"IPA\",IF('3C'!$D$26=11,\"IPS\",IF('3C'!$D$26=12,\"SBK\",IF('3C'!$D$26=13,\"PJK\",IF('3C'!$D$26=14,\"BD\",IF('3C'!$D$26=15,\"BIG\",IF('3C'!$D$26=16,\"AWJ\",IF('3C'!$D$26=17,\"NW\",IF('3C'!$D$26=18,\"SRF\",IF('3C'!$D$26=19,\"PG\",IF('3C'!$D$26=20,\"XTR\",””))))))))))))))))))))","v":{"$error":"#NAME?"}}]
[6,{"$f":"IF('3A'!$D$15=1,\"TMTIK\",IF('3A'!$D$15=2,\"AA\",IF('3A'!$D$15=3,\"QH\",IF('3A'!$D$15=4,\"FQ\",IF('3A'!$D$15=5,\"SKI\",IF('3A'!$D$15=6,\"PKN\",IF('3A'!$D$15=7,\"BID\",IF('3A'!$D$15=8,\"BA\",IF('3A'!$D$15=9,\"MTK\",IF('3A'!$D$15=10,\"IPA\",IF('3A'!$D$15=11,\"IPS\",IF('3A'!$D$15=12,\"SBK\",IF('3A'!$D$15=13,\"PJK\",IF('3A'!$D$15=14,\"BD\",IF('3A'!$D$15=15,\"BIG\",IF('3A'!$D$15=16,\"AWJ\",IF('3A'!$D$15=17,\"NW\",IF('3A'!$D$15=18,\"SRF\",IF('3A'!$D$15=19,\"PG\",IF('3A'!$D$15=20,\"XTR\",””))))))))))))))))))))","v":{"$error":"#NAME?"}},{"$f":"IF('3B'!$D$15=1,\"TMTIK\",IF('3B'!$D$15=2,\"AA\",IF('3B'!$D$15=3,\"QH\",IF('3B'!$D$15=4,\"FQ\",IF('3B'!$D$15=5,\"SKI\",IF('3B'!$D$15=6,\"PKN\",IF('3B'!$D$15=7,\"BID\",IF('3B'!$D$15=8,\"BA\",IF('3B'!$D$15=9,\"MTK\",IF('3B'!$D$15=10,\"IPA\",IF('3B'!$D$15=11,\"IPS\",IF('3B'!$D$15=12,\"SBK\",IF('3B'!$D$15=13,\"PJK\",IF('3B'!$D$15=14,\"BD\",IF('3B'!$D$15=15,\"BIG\",IF('3B'!$D$15=16,\"AWJ\",IF('3B'!$D$15=17,\"NW\",IF('3B'!$D$15=18,\"SRF\",IF('3B'!$D$15=19,\"PG\",IF('3B'!$D$15=20,\"XTR\",””))))))))))))))))))))","v":{"$error":"#NAME?"}},{"$f":"IF('3C'!$D$15=1,\"TMTIK\",IF('3C'!$D$15=2,\"AA\",IF('3C'!$D$15=3,\"QH\",IF('3C'!$D$15=4,\"FQ\",IF('3C'!$D$15=5,\"SKI\",IF('3C'!$D$15=6,\"PKN\",IF('3C'!$D$15=7,\"BID\",IF('3C'!$D$15=8,\"BA\",IF('3C'!$D$15=9,\"MTK\",IF('3C'!$D$15=10,\"IPA\",IF('3C'!$D$15=11,\"IPS\",IF('3C'!$D$15=12,\"SBK\",IF('3C'!$D$15=13,\"PJK\",IF('3C'!$D$15=14,\"BD\",IF('3C'!$D$15=15,\"BIG\",IF('3C'!$D$15=16,\"AWJ\",IF('3C'!$D$15=17,\"NW\",IF('3C'!$D$15=18,\"SRF\",IF('3C'!$D$15=19,\"PG\",IF('3C'!$D$15=20,\"XTR\",””))))))))))))))))))))","v":"TMTIK"},{"$f":"IF('3A'!$F$15=1,\"TMTIK\",IF('3A'!$F$15=2,\"AA\",IF('3A'!$F$15=3,\"QH\",IF('3A'!$F$15=4,\"FQ\",IF('3A'!$F$15=5,\"SKI\",IF('3A'!$F$15=6,\"PKN\",IF('3A'!$F$15=7,\"BID\",IF('3A'!$F$15=8,\"BA\",IF('3A'!$F$15=9,\"MTK\",IF('3A'!$F$15=10,\"IPA\",IF('3A'!$F$15=11,\"IPS\",IF('3A'!$F$15=12,\"SBK\",IF('3A'!$F$15=13,\"PJK\",IF('3A'!$F$15=14,\"BD\",IF('3A'!$F$15=15,\"BIG\",IF('3A'!$F$15=16,\"AWJ\",IF('3A'!$F$15=17,\"NW\",IF('3A'!$F$15=18,\"SRF\",IF('3A'!$F$15=19,\"PG\",IF('3A'!$F$15=20,\"XTR\",””))))))))))))))))))))","v":{"$error":"#NAME?"}},{"$f":"IF('3B'!$F$15=1,\"TMTIK\",IF('3B'!$F$15=2,\"AA\",IF('3B'!$F$15=3,\"QH\",IF('3B'!$F$15=4,\"FQ\",IF('3B'!$F$15=5,\"SKI\",IF('3B'!$F$15=6,\"PKN\",IF('3B'!$F$15=7,\"BID\",IF('3B'!$F$15=8,\"BA\",IF('3B'!$F$15=9,\"MTK\",IF('3B'!$F$15=10,\"IPA\",IF('3B'!$F$15=11,\"IPS\",IF('3B'!$F$15=12,\"SBK\",IF('3B'!$F$15=13,\"PJK\",IF('3B'!$F$15=14,\"BD\",IF('3B'!$F$15=15,\"BIG\",IF('3B'!$F$15=16,\"AWJ\",IF('3B'!$F$15=17,\"NW\",IF('3B'!$F$15=18,\"SRF\",IF('3B'!$F$15=19,\"PG\",IF('3B'!$F$15=20,\"XTR\",””))))))))))))))))))))","v":{"$error":"#NAME?"}},{"$f":"IF('3C'!$F$15=1,\"TMTIK\",IF('3C'!$F$15=2,\"AA\",IF('3C'!$F$15=3,\"QH\",IF('3C'!$F$15=4,\"FQ\",IF('3C'!$F$15=5,\"SKI\",IF('3C'!$F$15=6,\"PKN\",IF('3C'!$F$15=7,\"BID\",IF('3C'!$F$15=8,\"BA\",IF('3C'!$F$15=9,\"MTK\",IF('3C'!$F$15=10,\"IPA\",IF('3C'!$F$15=11,\"IPS\",IF('3C'!$F$15=12,\"SBK\",IF('3C'!$F$15=13,\"PJK\",IF('3C'!$F$15=14,\"BD\",IF('3C'!$F$15=15,\"BIG\",IF('3C'!$F$15=16,\"AWJ\",IF('3C'!$F$15=17,\"NW\",IF('3C'!$F$15=18,\"SRF\",IF('3C'!$F$15=19,\"PG\",IF('3C'!$F$15=20,\"XTR\",””))))))))))))))))))))","v":"BIG"},{"$f":"IF('3A'!$H$15=1,\"TMTIK\",IF('3A'!$H$15=2,\"AA\",IF('3A'!$H$15=3,\"QH\",IF('3A'!$H$15=4,\"FQ\",IF('3A'!$H$15=5,\"SKI\",IF('3A'!$H$15=6,\"PKN\",IF('3A'!$H$15=7,\"BID\",IF('3A'!$H$15=8,\"BA\",IF('3A'!$H$15=9,\"MTK\",IF('3A'!$H$15=10,\"IPA\",IF('3A'!$H$15=11,\"IPS\",IF('3A'!$H$15=12,\"SBK\",IF('3A'!$H$15=13,\"PJK\",IF('3A'!$H$15=14,\"BD\",IF('3A'!$H$15=15,\"BIG\",IF('3A'!$H$15=16,\"AWJ\",IF('3A'!$H$15=17,\"NW\",IF('3A'!$H$15=18,\"SRF\",IF('3A'!$H$15=19,\"PG\",IF('3A'!$H$15=20,\"XTR\",””))))))))))))))))))))","v":{"$error":"#NAME?"}},{"$f":"IF('3B'!$H$15=1,\"TMTIK\",IF('3B'!$H$15=2,\"AA\",IF('3B'!$H$15=3,\"QH\",IF('3B'!$H$15=4,\"FQ\",IF('3B'!$H$15=5,\"SKI\",IF('3B'!$H$15=6,\"PKN\",IF('3B'!$H$15=7,\"BID\",IF('3B'!$H$15=8,\"BA\",IF('3B'!$H$15=9,\"MTK\",IF('3B'!$H$15=10,\"IPA\",IF('3B'!$H$15=11,\"IPS\",IF('3B'!$H$15=12,\"SBK\",IF('3B'!$H$15=13,\"PJK\",IF('3B'!$H$15=14,\"BD\",IF('3B'!$H$15=15,\"BIG\",IF('3B'!$H$15=16,\"AWJ\",IF('3B'!$H$15=17,\"NW\",IF('3B'!$H$15=18,\"SRF\",IF('3B'!$H$15=19,\"PG\",IF('3B'!$H$15=20,\"XTR\",””))))))))))))))))))))","v":{"$error":"#NAME?"}},{"$f":"IF('3C'!$H$15=1,\"TMTIK\",IF('3C'!$H$15=2,\"AA\",IF('3C'!$H$15=3,\"QH\",IF('3C'!$H$15=4,\"FQ\",IF('3C'!$H$15=5,\"SKI\",IF('3C'!$H$15=6,\"PKN\",IF('3C'!$H$15=7,\"BID\",IF('3C'!$H$15=8,\"BA\",IF('3C'!$H$15=9,\"MTK\",IF('3C'!$H$15=10,\"IPA\",IF('3C'!$H$15=11,\"IPS\",IF('3C'!$H$15=12,\"SBK\",IF('3C'!$H$15=13,\"PJK\",IF('3C'!$H$15=14,\"BD\",IF('3C'!$H$15=15,\"BIG\",IF('3C'!$H$15=16,\"AWJ\",IF('3C'!$H$15=17,\"NW\",IF('3C'!$H$15=18,\"SRF\",IF('3C'!$H$15=19,\"PG\",IF('3C'!$H$15=20,\"XTR\",””))))))))))))))))))))","v":"TMTIK"},{"$f":"IF('3A'!$J$15=1,\"TMTIK\",IF('3A'!$J$15=2,\"AA\",IF('3A'!$J$15=3,\"QH\",IF('3A'!$J$15=4,\"FQ\",IF('3A'!$J$15=5,\"SKI\",IF('3A'!$J$15=6,\"PKN\",IF('3A'!$J$15=7,\"BID\",IF('3A'!$J$15=8,\"BA\",IF('3A'!$J$15=9,\"MTK\",IF('3A'!$J$15=10,\"IPA\",IF('3A'!$J$15=11,\"IPS\",IF('3A'!$J$15=12,\"SBK\",IF('3A'!$J$15=13,\"PJK\",IF('3A'!$J$15=14,\"BD\",IF('3A'!$J$15=15,\"BIG\",IF('3A'!$J$15=16,\"AWJ\",IF('3A'!$J$15=17,\"NW\",IF('3A'!$J$15=18,\"SRF\",IF('3A'!$J$15=19,\"PG\",IF('3A'!$J$15=20,\"XTR\",””))))))))))))))))))))","v":{"$error":"#NAME?"}},{"$f":"IF('3B'!$J$15=1,\"TMTIK\",IF('3B'!$J$15=2,\"AA\",IF('3B'!$J$15=3,\"QH\",IF('3B'!$J$15=4,\"FQ\",IF('3B'!$J$15=5,\"SKI\",IF('3B'!$J$15=6,\"PKN\",IF('3B'!$J$15=7,\"BID\",IF('3B'!$J$15=8,\"BA\",IF('3B'!$J$15=9,\"MTK\",IF('3B'!$J$15=10,\"IPA\",IF('3B'!$J$15=11,\"IPS\",IF('3B'!$J$15=12,\"SBK\",IF('3B'!$J$15=13,\"PJK\",IF('3B'!$J$15=14,\"BD\",IF('3B'!$J$15=15,\"BIG\",IF('3B'!$J$15=16,\"AWJ\",IF('3B'!$J$15=17,\"NW\",IF('3B'!$J$15=18,\"SRF\",IF('3B'!$J$15=19,\"PG\",IF('3B'!$J$15=20,\"XTR\",””))))))))))))))))))))","v":{"$error":"#NAME?"}},{"$f":"IF('3C'!$J$15=1,\"TMTIK\",IF('3C'!$J$15=2,\"AA\",IF('3C'!$J$15=3,\"QH\",IF('3C'!$J$15=4,\"FQ\",IF('3C'!$J$15=5,\"SKI\",IF('3C'!$J$15=6,\"PKN\",IF('3C'!$J$15=7,\"BID\",IF('3C'!$J$15=8,\"BA\",IF('3C'!$J$15=9,\"MTK\",IF('3C'!$J$15=10,\"IPA\",IF('3C'!$J$15=11,\"IPS\",IF('3C'!$J$15=12,\"SBK\",IF('3C'!$J$15=13,\"PJK\",IF('3C'!$J$15=14,\"BD\",IF('3C'!$J$15=15,\"BIG\",IF('3C'!$J$15=16,\"AWJ\",IF('3C'!$J$15=17,\"NW\",IF('3C'!$J$15=18,\"SRF\",IF('3C'!$J$15=19,\"PG\",IF('3C'!$J$15=20,\"XTR\",””))))))))))))))))))))","v":"TMTIK"},{"$f":"IF('3A'!$N$15=1,\"TMTIK\",IF('3A'!$N$15=2,\"AA\",IF('3A'!$N$15=3,\"QH\",IF('3A'!$N$15=4,\"FQ\",IF('3A'!$N$15=5,\"SKI\",IF('3A'!$N$15=6,\"PKN\",IF('3A'!$N$15=7,\"BID\",IF('3A'!$N$15=8,\"BA\",IF('3A'!$N$15=9,\"MTK\",IF('3A'!$N$15=10,\"IPA\",IF('3A'!$N$15=11,\"IPS\",IF('3A'!$N$15=12,\"SBK\",IF('3A'!$N$15=13,\"PJK\",IF('3A'!$N$15=14,\"BD\",IF('3A'!$N$15=15,\"BIG\",IF('3A'!$N$15=16,\"AWJ\",IF('3A'!$N$15=17,\"NW\",IF('3A'!$N$15=18,\"SRF\",IF('3A'!$N$15=19,\"PG\",IF('3A'!$N$15=20,\"XTR\",””))))))))))))))))))))","v":{"$error":"#NAME?"}},{"$f":"IF('3B'!$N$15=1,\"TMTIK\",IF('3B'!$N$15=2,\"AA\",IF('3B'!$N$15=3,\"QH\",IF('3B'!$N$15=4,\"FQ\",IF('3B'!$N$15=5,\"SKI\",IF('3B'!$N$15=6,\"PKN\",IF('3B'!$N$15=7,\"BID\",IF('3B'!$N$15=8,\"BA\",IF('3B'!$N$15=9,\"MTK\",IF('3B'!$N$15=10,\"IPA\",IF('3B'!$N$15=11,\"IPS\",IF('3B'!$N$15=12,\"SBK\",IF('3B'!$N$15=13,\"PJK\",IF('3B'!$N$15=14,\"BD\",IF('3B'!$N$15=15,\"BIG\",IF('3B'!$N$15=16,\"AWJ\",IF('3B'!$N$15=17,\"NW\",IF('3B'!$N$15=18,\"SRF\",IF('3B'!$N$15=19,\"PG\",IF('3B'!$N$15=20,\"XTR\",””))))))))))))))))))))","v":{"$error":"#NAME?"}},{"$f":"IF('3C'!$N$15=1,\"TMTIK\",IF('3C'!$N$15=2,\"AA\",IF('3C'!$N$15=3,\"QH\",IF('3C'!$N$15=4,\"FQ\",IF('3C'!$N$15=5,\"SKI\",IF('3C'!$N$15=6,\"PKN\",IF('3C'!$N$15=7,\"BID\",IF('3C'!$N$15=8,\"BA\",IF('3C'!$N$15=9,\"MTK\",IF('3C'!$N$15=10,\"IPA\",IF('3C'!$N$15=11,\"IPS\",IF('3C'!$N$15=12,\"SBK\",IF('3C'!$N$15=13,\"PJK\",IF('3C'!$N$15=14,\"BD\",IF('3C'!$N$15=15,\"BIG\",IF('3C'!$N$15=16,\"AWJ\",IF('3C'!$N$15=17,\"NW\",IF('3C'!$N$15=18,\"SRF\",IF('3C'!$N$15=19,\"PG\",IF('3C'!$N$15=20,\"XTR\",””))))))))))))))))))))","v":"BD"},{"$f":"IF('3A'!$D$27=1,\"TMTIK\",IF('3A'!$D$27=2,\"AA\",IF('3A'!$D$27=3,\"QH\",IF('3A'!$D$27=4,\"FQ\",IF('3A'!$D$27=5,\"SKI\",IF('3A'!$D$27=6,\"PKN\",IF('3A'!$D$27=7,\"BID\",IF('3A'!$D$27=8,\"BA\",IF('3A'!$D$27=9,\"MTK\",IF('3A'!$D$27=10,\"IPA\",IF('3A'!$D$27=11,\"IPS\",IF('3A'!$D$27=12,\"SBK\",IF('3A'!$D$27=13,\"PJK\",IF('3A'!$D$27=14,\"BD\",IF('3A'!$D$27=15,\"BIG\",IF('3A'!$D$27=16,\"AWJ\",IF('3A'!$D$27=17,\"NW\",IF('3A'!$D$27=18,\"SRF\",IF('3A'!$D$27=19,\"PG\",IF('3A'!$D$27=20,\"XTR\",””))))))))))))))))))))","v":{"$error":"#NAME?"}},{"$f":"IF('3B'!$D$27=1,\"TMTIK\",IF('3B'!$D$27=2,\"AA\",IF('3B'!$D$27=3,\"QH\",IF('3B'!$D$27=4,\"FQ\",IF('3B'!$D$27=5,\"SKI\",IF('3B'!$D$27=6,\"PKN\",IF('3B'!$D$27=7,\"BID\",IF('3B'!$D$27=8,\"BA\",IF('3B'!$D$27=9,\"MTK\",IF('3B'!$D$27=10,\"IPA\",IF('3B'!$D$27=11,\"IPS\",IF('3B'!$D$27=12,\"SBK\",IF('3B'!$D$27=13,\"PJK\",IF('3B'!$D$27=14,\"BD\",IF('3B'!$D$27=15,\"BIG\",IF('3B'!$D$27=16,\"AWJ\",IF('3B'!$D$27=17,\"NW\",IF('3B'!$D$27=18,\"SRF\",IF('3B'!$D$27=19,\"PG\",IF('3B'!$D$27=20,\"XTR\",””))))))))))))))))))))","v":{"$error":"#NAME?"}},{"$f":"IF('3C'!$D$27=1,\"TMTIK\",IF('3C'!$D$27=2,\"AA\",IF('3C'!$D$27=3,\"QH\",IF('3C'!$D$27=4,\"FQ\",IF('3C'!$D$27=5,\"SKI\",IF('3C'!$D$27=6,\"PKN\",IF('3C'!$D$27=7,\"BID\",IF('3C'!$D$27=8,\"BA\",IF('3C'!$D$27=9,\"MTK\",IF('3C'!$D$27=10,\"IPA\",IF('3C'!$D$27=11,\"IPS\",IF('3C'!$D$27=12,\"SBK\",IF('3C'!$D$27=13,\"PJK\",IF('3C'!$D$27=14,\"BD\",IF('3C'!$D$27=15,\"BIG\",IF('3C'!$D$27=16,\"AWJ\",IF('3C'!$D$27=17,\"NW\",IF('3C'!$D$27=18,\"SRF\",IF('3C'!$D$27=19,\"PG\",IF('3C'!$D$27=20,\"XTR\",””))))))))))))))))))))","v":{"$error":"#NAME?"}}]
[7,{"$f":"IF('3A'!$D$17=1,\"TMTIK\",IF('3A'!$D$17=2,\"AA\",IF('3A'!$D$17=3,\"QH\",IF('3A'!$D$17=4,\"FQ\",IF('3A'!$D$17=5,\"SKI\",IF('3A'!$D$17=6,\"PKN\",IF('3A'!$D$17=7,\"BID\",IF('3A'!$D$17=8,\"BA\",IF('3A'!$D$17=9,\"MTK\",IF('3A'!$D$17=10,\"IPA\",IF('3A'!$D$17=11,\"IPS\",IF('3A'!$D$17=12,\"SBK\",IF('3A'!$D$17=13,\"PJK\",IF('3A'!$D$17=14,\"BD\",IF('3A'!$D$17=15,\"BIG\",IF('3A'!$D$17=16,\"AWJ\",IF('3A'!$D$17=17,\"NW\",IF('3A'!$D$17=18,\"SRF\",IF('3A'!$D$17=19,\"PG\",IF('3A'!$D$17=20,\"XTR\",””))))))))))))))))))))","v":{"$error":"#NAME?"}},{"$f":"IF('3B'!$D$17=1,\"TMTIK\",IF('3B'!$D$17=2,\"AA\",IF('3B'!$D$17=3,\"QH\",IF('3B'!$D$17=4,\"FQ\",IF('3B'!$D$17=5,\"SKI\",IF('3B'!$D$17=6,\"PKN\",IF('3B'!$D$17=7,\"BID\",IF('3B'!$D$17=8,\"BA\",IF('3B'!$D$17=9,\"MTK\",IF('3B'!$D$17=10,\"IPA\",IF('3B'!$D$17=11,\"IPS\",IF('3B'!$D$17=12,\"SBK\",IF('3B'!$D$17=13,\"PJK\",IF('3B'!$D$17=14,\"BD\",IF('3B'!$D$17=15,\"BIG\",IF('3B'!$D$17=16,\"AWJ\",IF('3B'!$D$17=17,\"NW\",IF('3B'!$D$17=18,\"SRF\",IF('3B'!$D$17=19,\"PG\",IF('3B'!$D$17=20,\"XTR\",””))))))))))))))))))))","v":{"$error":"#NAME?"}},{"$f":"IF('3C'!$D$17=1,\"TMTIK\",IF('3C'!$D$17=2,\"AA\",IF('3C'!$D$17=3,\"QH\",IF('3C'!$D$17=4,\"FQ\",IF('3C'!$D$17=5,\"SKI\",IF('3C'!$D$17=6,\"PKN\",IF('3C'!$D$17=7,\"BID\",IF('3C'!$D$17=8,\"BA\",IF('3C'!$D$17=9,\"MTK\",IF('3C'!$D$17=10,\"IPA\",IF('3C'!$D$17=11,\"IPS\",IF('3C'!$D$17=12,\"SBK\",IF('3C'!$D$17=13,\"PJK\",IF('3C'!$D$17=14,\"BD\",IF('3C'!$D$17=15,\"BIG\",IF('3C'!$D$17=16,\"AWJ\",IF('3C'!$D$17=17,\"NW\",IF('3C'!$D$17=18,\"SRF\",IF('3C'!$D$17=19,\"PG\",IF('3C'!$D$17=20,\"XTR\",””))))))))))))))))))))","v":"TMTIK"},{"$f":"IF('3A'!$F$17=1,\"TMTIK\",IF('3A'!$F$17=2,\"AA\",IF('3A'!$F$17=3,\"QH\",IF('3A'!$F$17=4,\"FQ\",IF('3A'!$F$17=5,\"SKI\",IF('3A'!$F$17=6,\"PKN\",IF('3A'!$F$17=7,\"BID\",IF('3A'!$F$17=8,\"BA\",IF('3A'!$F$17=9,\"MTK\",IF('3A'!$F$17=10,\"IPA\",IF('3A'!$F$17=11,\"IPS\",IF('3A'!$F$17=12,\"SBK\",IF('3A'!$F$17=13,\"PJK\",IF('3A'!$F$17=14,\"BD\",IF('3A'!$F$17=15,\"BIG\",IF('3A'!$F$17=16,\"AWJ\",IF('3A'!$F$17=17,\"NW\",IF('3A'!$F$17=18,\"SRF\",IF('3A'!$F$17=19,\"PG\",IF('3A'!$F$17=20,\"XTR\",””))))))))))))))))))))","v":{"$error":"#NAME?"}},{"$f":"IF('3B'!$F$17=1,\"TMTIK\",IF('3B'!$F$17=2,\"AA\",IF('3B'!$F$17=3,\"QH\",IF('3B'!$F$17=4,\"FQ\",IF('3B'!$F$17=5,\"SKI\",IF('3B'!$F$17=6,\"PKN\",IF('3B'!$F$17=7,\"BID\",IF('3B'!$F$17=8,\"BA\",IF('3B'!$F$17=9,\"MTK\",IF('3B'!$F$17=10,\"IPA\",IF('3B'!$F$17=11,\"IPS\",IF('3B'!$F$17=12,\"SBK\",IF('3B'!$F$17=13,\"PJK\",IF('3B'!$F$17=14,\"BD\",IF('3B'!$F$17=15,\"BIG\",IF('3B'!$F$17=16,\"AWJ\",IF('3B'!$F$17=17,\"NW\",IF('3B'!$F$17=18,\"SRF\",IF('3B'!$F$17=19,\"PG\",IF('3B'!$F$17=20,\"XTR\",””))))))))))))))))))))","v":{"$error":"#NAME?"}},{"$f":"IF('3C'!$F$17=1,\"TMTIK\",IF('3C'!$F$17=2,\"AA\",IF('3C'!$F$17=3,\"QH\",IF('3C'!$F$17=4,\"FQ\",IF('3C'!$F$17=5,\"SKI\",IF('3C'!$F$17=6,\"PKN\",IF('3C'!$F$17=7,\"BID\",IF('3C'!$F$17=8,\"BA\",IF('3C'!$F$17=9,\"MTK\",IF('3C'!$F$17=10,\"IPA\",IF('3C'!$F$17=11,\"IPS\",IF('3C'!$F$17=12,\"SBK\",IF('3C'!$F$17=13,\"PJK\",IF('3C'!$F$17=14,\"BD\",IF('3C'!$F$17=15,\"BIG\",IF('3C'!$F$17=16,\"AWJ\",IF('3C'!$F$17=17,\"NW\",IF('3C'!$F$17=18,\"SRF\",IF('3C'!$F$17=19,\"PG\",IF('3C'!$F$17=20,\"XTR\",””))))))))))))))))))))","v":"TMTIK"},{"$f":"IF('3A'!$H$17=1,\"TMTIK\",IF('3A'!$H$17=2,\"AA\",IF('3A'!$H$17=3,\"QH\",IF('3A'!$H$17=4,\"FQ\",IF('3A'!$H$17=5,\"SKI\",IF('3A'!$H$17=6,\"PKN\",IF('3A'!$H$17=7,\"BID\",IF('3A'!$H$17=8,\"BA\",IF('3A'!$H$17=9,\"MTK\",IF('3A'!$H$17=10,\"IPA\",IF('3A'!$H$17=11,\"IPS\",IF('3A'!$H$17=12,\"SBK\",IF('3A'!$H$17=13,\"PJK\",IF('3A'!$H$17=14,\"BD\",IF('3A'!$H$17=15,\"BIG\",IF('3A'!$H$17=16,\"AWJ\",IF('3A'!$H$17=17,\"NW\",IF('3A'!$H$17=18,\"SRF\",IF('3A'!$H$17=19,\"PG\",IF('3A'!$H$17=20,\"XTR\",””))))))))))))))))))))","v":{"$error":"#NAME?"}},{"$f":"IF('3B'!$H$17=1,\"TMTIK\",IF('3B'!$H$17=2,\"AA\",IF('3B'!$H$17=3,\"QH\",IF('3B'!$H$17=4,\"FQ\",IF('3B'!$H$17=5,\"SKI\",IF('3B'!$H$17=6,\"PKN\",IF('3B'!$H$17=7,\"BID\",IF('3B'!$H$17=8,\"BA\",IF('3B'!$H$17=9,\"MTK\",IF('3B'!$H$17=10,\"IPA\",IF('3B'!$H$17=11,\"IPS\",IF('3B'!$H$17=12,\"SBK\",IF('3B'!$H$17=13,\"PJK\",IF('3B'!$H$17=14,\"BD\",IF('3B'!$H$17=15,\"BIG\",IF('3B'!$H$17=16,\"AWJ\",IF('3B'!$H$17=17,\"NW\",IF('3B'!$H$17=18,\"SRF\",IF('3B'!$H$17=19,\"PG\",IF('3B'!$H$17=20,\"XTR\",””))))))))))))))))))))","v":{"$error":"#NAME?"}},{"$f":"IF('3C'!$H$17=1,\"TMTIK\",IF('3C'!$H$17=2,\"AA\",IF('3C'!$H$17=3,\"QH\",IF('3C'!$H$17=4,\"FQ\",IF('3C'!$H$17=5,\"SKI\",IF('3C'!$H$17=6,\"PKN\",IF('3C'!$H$17=7,\"BID\",IF('3C'!$H$17=8,\"BA\",IF('3C'!$H$17=9,\"MTK\",IF('3C'!$H$17=10,\"IPA\",IF('3C'!$H$17=11,\"IPS\",IF('3C'!$H$17=12,\"SBK\",IF('3C'!$H$17=13,\"PJK\",IF('3C'!$H$17=14,\"BD\",IF('3C'!$H$17=15,\"BIG\",IF('3C'!$H$17=16,\"AWJ\",IF('3C'!$H$17=17,\"NW\",IF('3C'!$H$17=18,\"SRF\",IF('3C'!$H$17=19,\"PG\",IF('3C'!$H$17=20,\"XTR\",””))))))))))))))))))))","v":"TMTIK"},{"$f":"IF('3A'!$J$17=1,\"TMTIK\",IF('3A'!$J$17=2,\"AA\",IF('3A'!$J$17=3,\"QH\",IF('3A'!$J$17=4,\"FQ\",IF('3A'!$J$17=5,\"SKI\",IF('3A'!$J$17=6,\"PKN\",IF('3A'!$J$17=7,\"BID\",IF('3A'!$J$17=8,\"BA\",IF('3A'!$J$17=9,\"MTK\",IF('3A'!$J$17=10,\"IPA\",IF('3A'!$J$17=11,\"IPS\",IF('3A'!$J$17=12,\"SBK\",IF('3A'!$J$17=13,\"PJK\",IF('3A'!$J$17=14,\"BD\",IF('3A'!$J$17=15,\"BIG\",IF('3A'!$J$17=16,\"AWJ\",IF('3A'!$J$17=17,\"NW\",IF('3A'!$J$17=18,\"SRF\",IF('3A'!$J$17=19,\"PG\",IF('3A'!$J$17=20,\"XTR\",””))))))))))))))))))))","v":{"$error":"#NAME?"}},{"$f":"IF('3B'!$J$17=1,\"TMTIK\",IF('3B'!$J$17=2,\"AA\",IF('3B'!$J$17=3,\"QH\",IF('3B'!$J$17=4,\"FQ\",IF('3B'!$J$17=5,\"SKI\",IF('3B'!$J$17=6,\"PKN\",IF('3B'!$J$17=7,\"BID\",IF('3B'!$J$17=8,\"BA\",IF('3B'!$J$17=9,\"MTK\",IF('3B'!$J$17=10,\"IPA\",IF('3B'!$J$17=11,\"IPS\",IF('3B'!$J$17=12,\"SBK\",IF('3B'!$J$17=13,\"PJK\",IF('3B'!$J$17=14,\"BD\",IF('3B'!$J$17=15,\"BIG\",IF('3B'!$J$17=16,\"AWJ\",IF('3B'!$J$17=17,\"NW\",IF('3B'!$J$17=18,\"SRF\",IF('3B'!$J$17=19,\"PG\",IF('3B'!$J$17=20,\"XTR\",””))))))))))))))))))))","v":{"$error":"#NAME?"}},{"$f":"IF('3C'!$J$17=1,\"TMTIK\",IF('3C'!$J$17=2,\"AA\",IF('3C'!$J$17=3,\"QH\",IF('3C'!$J$17=4,\"FQ\",IF('3C'!$J$17=5,\"SKI\",IF('3C'!$J$17=6,\"PKN\",IF('3C'!$J$17=7,\"BID\",IF('3C'!$J$17=8,\"BA\",IF('3C'!$J$17=9,\"MTK\",IF('3C'!$J$17=10,\"IPA\",IF('3C'!$J$17=11,\"IPS\",IF('3C'!$J$17=12,\"SBK\",IF('3C'!$J$17=13,\"PJK\",IF('3C'!$J$17=14,\"BD\",IF('3C'!$J$17=15,\"BIG\",IF('3C'!$J$17=16,\"AWJ\",IF('3C'!$J$17=17,\"NW\",IF('3C'!$J$17=18,\"SRF\",IF('3C'!$J$17=19,\"PG\",IF('3C'!$J$17=20,\"XTR\",””))))))))))))))))))))","v":"TMTIK"},{"$f":"IF('3A'!$N$17=1,\"TMTIK\",IF('3A'!$N$17=2,\"AA\",IF('3A'!$N$17=3,\"QH\",IF('3A'!$N$17=4,\"FQ\",IF('3A'!$N$17=5,\"SKI\",IF('3A'!$N$17=6,\"PKN\",IF('3A'!$N$17=7,\"BID\",IF('3A'!$N$17=8,\"BA\",IF('3A'!$N$17=9,\"MTK\",IF('3A'!$N$17=10,\"IPA\",IF('3A'!$N$17=11,\"IPS\",IF('3A'!$N$17=12,\"SBK\",IF('3A'!$N$17=13,\"PJK\",IF('3A'!$N$17=14,\"BD\",IF('3A'!$N$17=15,\"BIG\",IF('3A'!$N$17=16,\"AWJ\",IF('3A'!$N$17=17,\"NW\",IF('3A'!$N$17=18,\"SRF\",IF('3A'!$N$17=19,\"PG\",IF('3A'!$N$17=20,\"XTR\",””))))))))))))))))))))","v":{"$error":"#NAME?"}},{"$f":"IF('3B'!$N$17=1,\"TMTIK\",IF('3B'!$N$17=2,\"AA\",IF('3B'!$N$17=3,\"QH\",IF('3B'!$N$17=4,\"FQ\",IF('3B'!$N$17=5,\"SKI\",IF('3B'!$N$17=6,\"PKN\",IF('3B'!$N$17=7,\"BID\",IF('3B'!$N$17=8,\"BA\",IF('3B'!$N$17=9,\"MTK\",IF('3B'!$N$17=10,\"IPA\",IF('3B'!$N$17=11,\"IPS\",IF('3B'!$N$17=12,\"SBK\",IF('3B'!$N$17=13,\"PJK\",IF('3B'!$N$17=14,\"BD\",IF('3B'!$N$17=15,\"BIG\",IF('3B'!$N$17=16,\"AWJ\",IF('3B'!$N$17=17,\"NW\",IF('3B'!$N$17=18,\"SRF\",IF('3B'!$N$17=19,\"PG\",IF('3B'!$N$17=20,\"XTR\",””))))))))))))))))))))","v":{"$error":"#NAME?"}},{"$f":"IF('3C'!$N$17=1,\"TMTIK\",IF('3C'!$N$17=2,\"AA\",IF('3C'!$N$17=3,\"QH\",IF('3C'!$N$17=4,\"FQ\",IF('3C'!$N$17=5,\"SKI\",IF('3C'!$N$17=6,\"PKN\",IF('3C'!$N$17=7,\"BID\",IF('3C'!$N$17=8,\"BA\",IF('3C'!$N$17=9,\"MTK\",IF('3C'!$N$17=10,\"IPA\",IF('3C'!$N$17=11,\"IPS\",IF('3C'!$N$17=12,\"SBK\",IF('3C'!$N$17=13,\"PJK\",IF('3C'!$N$17=14,\"BD\",IF('3C'!$N$17=15,\"BIG\",IF('3C'!$N$17=16,\"AWJ\",IF('3C'!$N$17=17,\"NW\",IF('3C'!$N$17=18,\"SRF\",IF('3C'!$N$17=19,\"PG\",IF('3C'!$N$17=20,\"XTR\",””))))))))))))))))))))","v":{"$error":"#NAME?"}}]
[8,{"$f":"IF('3A'!$D$18=1,\"TMTIK\",IF('3A'!$D$18=2,\"AA\",IF('3A'!$D$18=3,\"QH\",IF('3A'!$D$18=4,\"FQ\",IF('3A'!$D$18=5,\"SKI\",IF('3A'!$D$18=6,\"PKN\",IF('3A'!$D$18=7,\"BID\",IF('3A'!$D$18=8,\"BA\",IF('3A'!$D$18=9,\"MTK\",IF('3A'!$D$18=10,\"IPA\",IF('3A'!$D$18=11,\"IPS\",IF('3A'!$D$18=12,\"SBK\",IF('3A'!$D$18=13,\"PJK\",IF('3A'!$D$18=14,\"BD\",IF('3A'!$D$18=15,\"BIG\",IF('3A'!$D$18=16,\"AWJ\",IF('3A'!$D$18=17,\"NW\",IF('3A'!$D$18=18,\"SRF\",IF('3A'!$D$18=19,\"PG\",IF('3A'!$D$18=20,\"XTR\",””))))))))))))))))))))","v":{"$error":"#NAME?"}},{"$f":"IF('3B'!$D$18=1,\"TMTIK\",IF('3B'!$D$18=2,\"AA\",IF('3B'!$D$18=3,\"QH\",IF('3B'!$D$18=4,\"FQ\",IF('3B'!$D$18=5,\"SKI\",IF('3B'!$D$18=6,\"PKN\",IF('3B'!$D$18=7,\"BID\",IF('3B'!$D$18=8,\"BA\",IF('3B'!$D$18=9,\"MTK\",IF('3B'!$D$18=10,\"IPA\",IF('3B'!$D$18=11,\"IPS\",IF('3B'!$D$18=12,\"SBK\",IF('3B'!$D$18=13,\"PJK\",IF('3B'!$D$18=14,\"BD\",IF('3B'!$D$18=15,\"BIG\",IF('3B'!$D$18=16,\"AWJ\",IF('3B'!$D$18=17,\"NW\",IF('3B'!$D$18=18,\"SRF\",IF('3B'!$D$18=19,\"PG\",IF('3B'!$D$18=20,\"XTR\",””))))))))))))))))))))","v":{"$error":"#NAME?"}},{"$f":"IF('3C'!$D$18=1,\"TMTIK\",IF('3C'!$D$18=2,\"AA\",IF('3C'!$D$18=3,\"QH\",IF('3C'!$D$18=4,\"FQ\",IF('3C'!$D$18=5,\"SKI\",IF('3C'!$D$18=6,\"PKN\",IF('3C'!$D$18=7,\"BID\",IF('3C'!$D$18=8,\"BA\",IF('3C'!$D$18=9,\"MTK\",IF('3C'!$D$18=10,\"IPA\",IF('3C'!$D$18=11,\"IPS\",IF('3C'!$D$18=12,\"SBK\",IF('3C'!$D$18=13,\"PJK\",IF('3C'!$D$18=14,\"BD\",IF('3C'!$D$18=15,\"BIG\",IF('3C'!$D$18=16,\"AWJ\",IF('3C'!$D$18=17,\"NW\",IF('3C'!$D$18=18,\"SRF\",IF('3C'!$D$18=19,\"PG\",IF('3C'!$D$18=20,\"XTR\",””))))))))))))))))))))","v":"TMTIK"},{"$f":"IF('3A'!$F$18=1,\"TMTIK\",IF('3A'!$F$18=2,\"AA\",IF('3A'!$F$18=3,\"QH\",IF('3A'!$F$18=4,\"FQ\",IF('3A'!$F$18=5,\"SKI\",IF('3A'!$F$18=6,\"PKN\",IF('3A'!$F$18=7,\"BID\",IF('3A'!$F$18=8,\"BA\",IF('3A'!$F$18=9,\"MTK\",IF('3A'!$F$18=10,\"IPA\",IF('3A'!$F$18=11,\"IPS\",IF('3A'!$F$18=12,\"SBK\",IF('3A'!$F$18=13,\"PJK\",IF('3A'!$F$18=14,\"BD\",IF('3A'!$F$18=15,\"BIG\",IF('3A'!$F$18=16,\"AWJ\",IF('3A'!$F$18=17,\"NW\",IF('3A'!$F$18=18,\"SRF\",IF('3A'!$F$18=19,\"PG\",IF('3A'!$F$18=20,\"XTR\",””))))))))))))))))))))","v":{"$error":"#NAME?"}},{"$f":"IF('3B'!$F$18=1,\"TMTIK\",IF('3B'!$F$18=2,\"AA\",IF('3B'!$F$18=3,\"QH\",IF('3B'!$F$18=4,\"FQ\",IF('3B'!$F$18=5,\"SKI\",IF('3B'!$F$18=6,\"PKN\",IF('3B'!$F$18=7,\"BID\",IF('3B'!$F$18=8,\"BA\",IF('3B'!$F$18=9,\"MTK\",IF('3B'!$F$18=10,\"IPA\",IF('3B'!$F$18=11,\"IPS\",IF('3B'!$F$18=12,\"SBK\",IF('3B'!$F$18=13,\"PJK\",IF('3B'!$F$18=14,\"BD\",IF('3B'!$F$18=15,\"BIG\",IF('3B'!$F$18=16,\"AWJ\",IF('3B'!$F$18=17,\"NW\",IF('3B'!$F$18=18,\"SRF\",IF('3B'!$F$18=19,\"PG\",IF('3B'!$F$18=20,\"XTR\",””))))))))))))))))))))","v":{"$error":"#NAME?"}},{"$f":"IF('3C'!$F$18=1,\"TMTIK\",IF('3C'!$F$18=2,\"AA\",IF('3C'!$F$18=3,\"QH\",IF('3C'!$F$18=4,\"FQ\",IF('3C'!$F$18=5,\"SKI\",IF('3C'!$F$18=6,\"PKN\",IF('3C'!$F$18=7,\"BID\",IF('3C'!$F$18=8,\"BA\",IF('3C'!$F$18=9,\"MTK\",IF('3C'!$F$18=10,\"IPA\",IF('3C'!$F$18=11,\"IPS\",IF('3C'!$F$18=12,\"SBK\",IF('3C'!$F$18=13,\"PJK\",IF('3C'!$F$18=14,\"BD\",IF('3C'!$F$18=15,\"BIG\",IF('3C'!$F$18=16,\"AWJ\",IF('3C'!$F$18=17,\"NW\",IF('3C'!$F$18=18,\"SRF\",IF('3C'!$F$18=19,\"PG\",IF('3C'!$F$18=20,\"XTR\",””))))))))))))))))))))","v":"TMTIK"},{"$f":"IF('3A'!$H$18=1,\"TMTIK\",IF('3A'!$H$18=2,\"AA\",IF('3A'!$H$18=3,\"QH\",IF('3A'!$H$18=4,\"FQ\",IF('3A'!$H$18=5,\"SKI\",IF('3A'!$H$18=6,\"PKN\",IF('3A'!$H$18=7,\"BID\",IF('3A'!$H$18=8,\"BA\",IF('3A'!$H$18=9,\"MTK\",IF('3A'!$H$18=10,\"IPA\",IF('3A'!$H$18=11,\"IPS\",IF('3A'!$H$18=12,\"SBK\",IF('3A'!$H$18=13,\"PJK\",IF('3A'!$H$18=14,\"BD\",IF('3A'!$H$18=15,\"BIG\",IF('3A'!$H$18=16,\"AWJ\",IF('3A'!$H$18=17,\"NW\",IF('3A'!$H$18=18,\"SRF\",IF('3A'!$H$18=19,\"PG\",IF('3A'!$H$18=20,\"XTR\",””))))))))))))))))))))","v":{"$error":"#NAME?"}},{"$f":"IF('3B'!$H$18=1,\"TMTIK\",IF('3B'!$H$18=2,\"AA\",IF('3B'!$H$18=3,\"QH\",IF('3B'!$H$18=4,\"FQ\",IF('3B'!$H$18=5,\"SKI\",IF('3B'!$H$18=6,\"PKN\",IF('3B'!$H$18=7,\"BID\",IF('3B'!$H$18=8,\"BA\",IF('3B'!$H$18=9,\"MTK\",IF('3B'!$H$18=10,\"IPA\",IF('3B'!$H$18=11,\"IPS\",IF('3B'!$H$18=12,\"SBK\",IF('3B'!$H$18=13,\"PJK\",IF('3B'!$H$18=14,\"BD\",IF('3B'!$H$18=15,\"BIG\",IF('3B'!$H$18=16,\"AWJ\",IF('3B'!$H$18=17,\"NW\",IF('3B'!$H$18=18,\"SRF\",IF('3B'!$H$18=19,\"PG\",IF('3B'!$H$18=20,\"XTR\",””))))))))))))))))))))","v":{"$error":"#NAME?"}},{"$f":"IF('3C'!$H$18=1,\"TMTIK\",IF('3C'!$H$18=2,\"AA\",IF('3C'!$H$18=3,\"QH\",IF('3C'!$H$18=4,\"FQ\",IF('3C'!$H$18=5,\"SKI\",IF('3C'!$H$18=6,\"PKN\",IF('3C'!$H$18=7,\"BID\",IF('3C'!$H$18=8,\"BA\",IF('3C'!$H$18=9,\"MTK\",IF('3C'!$H$18=10,\"IPA\",IF('3C'!$H$18=11,\"IPS\",IF('3C'!$H$18=12,\"SBK\",IF('3C'!$H$18=13,\"PJK\",IF('3C'!$H$18=14,\"BD\",IF('3C'!$H$18=15,\"BIG\",IF('3C'!$H$18=16,\"AWJ\",IF('3C'!$H$18=17,\"NW\",IF('3C'!$H$18=18,\"SRF\",IF('3C'!$H$18=19,\"PG\",IF('3C'!$H$18=20,\"XTR\",””))))))))))))))))))))","v":{"$error":"#NAME?"}},{"$f":"IF('3A'!$J$18=1,\"TMTIK\",IF('3A'!$J$18=2,\"AA\",IF('3A'!$J$18=3,\"QH\",IF('3A'!$J$18=4,\"FQ\",IF('3A'!$J$18=5,\"SKI\",IF('3A'!$J$18=6,\"PKN\",IF('3A'!$J$18=7,\"BID\",IF('3A'!$J$18=8,\"BA\",IF('3A'!$J$18=9,\"MTK\",IF('3A'!$J$18=10,\"IPA\",IF('3A'!$J$18=11,\"IPS\",IF('3A'!$J$18=12,\"SBK\",IF('3A'!$J$18=13,\"PJK\",IF('3A'!$J$18=14,\"BD\",IF('3A'!$J$18=15,\"BIG\",IF('3A'!$J$18=16,\"AWJ\",IF('3A'!$J$18=17,\"NW\",IF('3A'!$J$18=18,\"SRF\",IF('3A'!$J$18=19,\"PG\",IF('3A'!$J$18=20,\"XTR\",””))))))))))))))))))))","v":{"$error":"#NAME?"}},{"$f":"IF('3B'!$J$18=1,\"TMTIK\",IF('3B'!$J$18=2,\"AA\",IF('3B'!$J$18=3,\"QH\",IF('3B'!$J$18=4,\"FQ\",IF('3B'!$J$18=5,\"SKI\",IF('3B'!$J$18=6,\"PKN\",IF('3B'!$J$18=7,\"BID\",IF('3B'!$J$18=8,\"BA\",IF('3B'!$J$18=9,\"MTK\",IF('3B'!$J$18=10,\"IPA\",IF('3B'!$J$18=11,\"IPS\",IF('3B'!$J$18=12,\"SBK\",IF('3B'!$J$18=13,\"PJK\",IF('3B'!$J$18=14,\"BD\",IF('3B'!$J$18=15,\"BIG\",IF('3B'!$J$18=16,\"AWJ\",IF('3B'!$J$18=17,\"NW\",IF('3B'!$J$18=18,\"SRF\",IF('3B'!$J$18=19,\"PG\",IF('3B'!$J$18=20,\"XTR\",””))))))))))))))))))))","v":{"$error":"#NAME?"}},{"$f":"IF('3C'!$J$18=1,\"TMTIK\",IF('3C'!$J$18=2,\"AA\",IF('3C'!$J$18=3,\"QH\",IF('3C'!$J$18=4,\"FQ\",IF('3C'!$J$18=5,\"SKI\",IF('3C'!$J$18=6,\"PKN\",IF('3C'!$J$18=7,\"BID\",IF('3C'!$J$18=8,\"BA\",IF('3C'!$J$18=9,\"MTK\",IF('3C'!$J$18=10,\"IPA\",IF('3C'!$J$18=11,\"IPS\",IF('3C'!$J$18=12,\"SBK\",IF('3C'!$J$18=13,\"PJK\",IF('3C'!$J$18=14,\"BD\",IF('3C'!$J$18=15,\"BIG\",IF('3C'!$J$18=16,\"AWJ\",IF('3C'!$J$18=17,\"NW\",IF('3C'!$J$18=18,\"SRF\",IF('3C'!$J$18=19,\"PG\",IF('3C'!$J$18=20,\"XTR\",””))))))))))))))))))))","v":{"$error":"#NAME?"}},{"$f":"IF('3A'!$N$18=1,\"TMTIK\",IF('3A'!$N$18=2,\"AA\",IF('3A'!$N$18=3,\"QH\",IF('3A'!$N$18=4,\"FQ\",IF('3A'!$N$18=5,\"SKI\",IF('3A'!$N$18=6,\"PKN\",IF('3A'!$N$18=7,\"BID\",IF('3A'!$N$18=8,\"BA\",IF('3A'!$N$18=9,\"MTK\",IF('3A'!$N$18=10,\"IPA\",IF('3A'!$N$18=11,\"IPS\",IF('3A'!$N$18=12,\"SBK\",IF('3A'!$N$18=13,\"PJK\",IF('3A'!$N$18=14,\"BD\",IF('3A'!$N$18=15,\"BIG\",IF('3A'!$N$18=16,\"AWJ\",IF('3A'!$N$18=17,\"NW\",IF('3A'!$N$18=18,\"SRF\",IF('3A'!$N$18=19,\"PG\",IF('3A'!$N$18=20,\"XTR\",””))))))))))))))))))))","v":{"$error":"#NAME?"}},{"$f":"IF('3B'!$N$18=1,\"TMTIK\",IF('3B'!$N$18=2,\"AA\",IF('3B'!$N$18=3,\"QH\",IF('3B'!$N$18=4,\"FQ\",IF('3B'!$N$18=5,\"SKI\",IF('3B'!$N$18=6,\"PKN\",IF('3B'!$N$18=7,\"BID\",IF('3B'!$N$18=8,\"BA\",IF('3B'!$N$18=9,\"MTK\",IF('3B'!$N$18=10,\"IPA\",IF('3B'!$N$18=11,\"IPS\",IF('3B'!$N$18=12,\"SBK\",IF('3B'!$N$18=13,\"PJK\",IF('3B'!$N$18=14,\"BD\",IF('3B'!$N$18=15,\"BIG\",IF('3B'!$N$18=16,\"AWJ\",IF('3B'!$N$18=17,\"NW\",IF('3B'!$N$18=18,\"SRF\",IF('3B'!$N$18=19,\"PG\",IF('3B'!$N$18=20,\"XTR\",””))))))))))))))))))))","v":{"$error":"#NAME?"}},{"$f":"IF('3C'!$N$18=1,\"TMTIK\",IF('3C'!$N$18=2,\"AA\",IF('3C'!$N$18=3,\"QH\",IF('3C'!$N$18=4,\"FQ\",IF('3C'!$N$18=5,\"SKI\",IF('3C'!$N$18=6,\"PKN\",IF('3C'!$N$18=7,\"BID\",IF('3C'!$N$18=8,\"BA\",IF('3C'!$N$18=9,\"MTK\",IF('3C'!$N$18=10,\"IPA\",IF('3C'!$N$18=11,\"IPS\",IF('3C'!$N$18=12,\"SBK\",IF('3C'!$N$18=13,\"PJK\",IF('3C'!$N$18=14,\"BD\",IF('3C'!$N$18=15,\"BIG\",IF('3C'!$N$18=16,\"AWJ\",IF('3C'!$N$18=17,\"NW\",IF('3C'!$N$18=18,\"SRF\",IF('3C'!$N$18=19,\"PG\",IF('3C'!$N$18=20,\"XTR\",””))))))))))))))))))))","v":{"$error":"#NAME?"}}]
[]
["NO","KELAS 4"]
[null,"SENIN",null,null,"SELASA",null,null,"RABU",null,null,"KAMIS",null,null,"JUMAT",null,null,"SABTU"]
[null,"A","B","C","A","B","C","A","B","C","A","B","C","A","B","C","A","B","C"]
[1,{"$f":"IF('4A'!$D$9=1,\"TMTIK\",IF('4A'!$D$9=2,\"AA\",IF('4A'!$D$9=3,\"QH\",IF('4A'!$D$9=4,\"FQ\",IF('4A'!$D$9=5,\"SKI\",IF('4A'!$D$9=6,\"PKN\",IF('4A'!$D$9=7,\"BID\",IF('4A'!$D$9=8,\"BA\",IF('4A'!$D$9=9,\"MTK\",IF('4A'!$D$9=10,\"IPA\",IF('4A'!$D$9=11,\"IPS\",IF('4A'!$D$9=12,\"SBK\",IF('4A'!$D$9=13,\"PJK\",IF('4A'!$D$9=14,\"BD\",IF('4A'!$D$9=15,\"BIG\",IF('4A'!$D$9=16,\"AWJ\",IF('4A'!$D$9=17,\"NW\",IF('4A'!$D$9=18,\"SRF\",IF('4A'!$D$9=19,\"PG\",IF('4A'!$D$9=20,\"XTR\",””))))))))))))))))))))","v":"TMTIK"},{"$f":"IF('4B'!$D$9=1,\"TMTIK\",IF('4B'!$D$9=2,\"AA\",IF('4B'!$D$9=3,\"QH\",IF('4B'!$D$9=4,\"FQ\",IF('4B'!$D$9=5,\"SKI\",IF('4B'!$D$9=6,\"PKN\",IF('4B'!$D$9=7,\"BID\",IF('4B'!$D$9=8,\"BA\",IF('4B'!$D$9=9,\"MTK\",IF('4B'!$D$9=10,\"IPA\",IF('4B'!$D$9=11,\"IPS\",IF('4B'!$D$9=12,\"SBK\",IF('4B'!$D$9=13,\"PJK\",IF('4B'!$D$9=14,\"BD\",IF('4B'!$D$9=15,\"BIG\",IF('4B'!$D$9=16,\"AWJ\",IF('4B'!$D$9=17,\"NW\",IF('4B'!$D$9=18,\"SRF\",IF('4B'!$D$9=19,\"PG\",IF('4B'!$D$9=20,\"XTR\",””))))))))))))))))))))","v":"SKI"},null,{"$f":"IF('4A'!$F$9=1,\"TMTIK\",IF('4A'!$F$9=2,\"AA\",IF('4A'!$F$9=3,\"QH\",IF('4A'!$F$9=4,\"FQ\",IF('4A'!$F$9=5,\"SKI\",IF('4A'!$F$9=6,\"PKN\",IF('4A'!$F$9=7,\"BID\",IF('4A'!$F$9=8,\"BA\",IF('4A'!$F$9=9,\"MTK\",IF('4A'!$F$9=10,\"IPA\",IF('4A'!$F$9=11,\"IPS\",IF('4A'!$F$9=12,\"SBK\",IF('4A'!$F$9=13,\"PJK\",IF('4A'!$F$9=14,\"BD\",IF('4A'!$F$9=15,\"BIG\",IF('4A'!$F$9=16,\"AWJ\",IF('4A'!$F$9=17,\"NW\",IF('4A'!$F$9=18,\"SRF\",IF('4A'!$F$9=19,\"PG\",IF('4A'!$F$9=20,\"XTR\",””))))))))))))))))))))","v":"TMTIK"},{"$f":"IF('4B'!$F$9=1,\"TMTIK\",IF('4B'!$F$9=2,\"AA\",IF('4B'!$F$9=3,\"QH\",IF('4B'!$F$9=4,\"FQ\",IF('4B'!$F$9=5,\"SKI\",IF('4B'!$F$9=6,\"PKN\",IF('4B'!$F$9=7,\"BID\",IF('4B'!$F$9=8,\"BA\",IF('4B'!$F$9=9,\"MTK\",IF('4B'!$F$9=10,\"IPA\",IF('4B'!$F$9=11,\"IPS\",IF('4B'!$F$9=12,\"SBK\",IF('4B'!$F$9=13,\"PJK\",IF('4B'!$F$9=14,\"BD\",IF('4B'!$F$9=15,\"BIG\",IF('4B'!$F$9=16,\"AWJ\",IF('4B'!$F$9=17,\"NW\",IF('4B'!$F$9=18,\"SRF\",IF('4B'!$F$9=19,\"PG\",IF('4B'!$F$9=20,\"XTR\",””))))))))))))))))))))","v":"TMTIK"},null,{"$f":"IF('4A'!$H$9=1,\"TMTIK\",IF('4A'!$H$9=2,\"AA\",IF('4A'!$H$9=3,\"QH\",IF('4A'!$H$9=4,\"FQ\",IF('4A'!$H$9=5,\"SKI\",IF('4A'!$H$9=6,\"PKN\",IF('4A'!$H$9=7,\"BID\",IF('4A'!$H$9=8,\"BA\",IF('4A'!$H$9=9,\"MTK\",IF('4A'!$H$9=10,\"IPA\",IF('4A'!$H$9=11,\"IPS\",IF('4A'!$H$9=12,\"SBK\",IF('4A'!$H$9=13,\"PJK\",IF('4A'!$H$9=14,\"BD\",IF('4A'!$H$9=15,\"BIG\",IF('4A'!$H$9=16,\"AWJ\",IF('4A'!$H$9=17,\"NW\",IF('4A'!$H$9=18,\"SRF\",IF('4A'!$H$9=19,\"PG\",IF('4A'!$H$9=20,\"XTR\",””))))))))))))))))))))","v":"BD"},{"$f":"IF('4B'!$H$9=1,\"TMTIK\",IF('4B'!$H$9=2,\"AA\",IF('4B'!$H$9=3,\"QH\",IF('4B'!$H$9=4,\"FQ\",IF('4B'!$H$9=5,\"SKI\",IF('4B'!$H$9=6,\"PKN\",IF('4B'!$H$9=7,\"BID\",IF('4B'!$H$9=8,\"BA\",IF('4B'!$H$9=9,\"MTK\",IF('4B'!$H$9=10,\"IPA\",IF('4B'!$H$9=11,\"IPS\",IF('4B'!$H$9=12,\"SBK\",IF('4B'!$H$9=13,\"PJK\",IF('4B'!$H$9=14,\"BD\",IF('4B'!$H$9=15,\"BIG\",IF('4B'!$H$9=16,\"AWJ\",IF('4B'!$H$9=17,\"NW\",IF('4B'!$H$9=18,\"SRF\",IF('4B'!$H$9=19,\"PG\",IF('4B'!$H$9=20,\"XTR\",””))))))))))))))))))))","v":"QH"},null,{"$f":"IF('4A'!$J$9=1,\"TMTIK\",IF('4A'!$J$9=2,\"AA\",IF('4A'!$J$9=3,\"QH\",IF('4A'!$J$9=4,\"FQ\",IF('4A'!$J$9=5,\"SKI\",IF('4A'!$J$9=6,\"PKN\",IF('4A'!$J$9=7,\"BID\",IF('4A'!$J$9=8,\"BA\",IF('4A'!$J$9=9,\"MTK\",IF('4A'!$J$9=10,\"IPA\",IF('4A'!$J$9=11,\"IPS\",IF('4A'!$J$9=12,\"SBK\",IF('4A'!$J$9=13,\"PJK\",IF('4A'!$J$9=14,\"BD\",IF('4A'!$J$9=15,\"BIG\",IF('4A'!$J$9=16,\"AWJ\",IF('4A'!$J$9=17,\"NW\",IF('4A'!$J$9=18,\"SRF\",IF('4A'!$J$9=19,\"PG\",IF('4A'!$J$9=20,\"XTR\",””))))))))))))))))))))","v":"TMTIK"},{"$f":"IF('4B'!$J$9=1,\"TMTIK\",IF('4B'!$J$9=2,\"AA\",IF('4B'!$J$9=3,\"QH\",IF('4B'!$J$9=4,\"FQ\",IF('4B'!$J$9=5,\"SKI\",IF('4B'!$J$9=6,\"PKN\",IF('4B'!$J$9=7,\"BID\",IF('4B'!$J$9=8,\"BA\",IF('4B'!$J$9=9,\"MTK\",IF('4B'!$J$9=10,\"IPA\",IF('4B'!$J$9=11,\"IPS\",IF('4B'!$J$9=12,\"SBK\",IF('4B'!$J$9=13,\"PJK\",IF('4B'!$J$9=14,\"BD\",IF('4B'!$J$9=15,\"BIG\",IF('4B'!$J$9=16,\"AWJ\",IF('4B'!$J$9=17,\"NW\",IF('4B'!$J$9=18,\"SRF\",IF('4B'!$J$9=19,\"PG\",IF('4B'!$J$9=20,\"XTR\",””))))))))))))))))))))","v":"TMTIK"},null,{"$f":"IF('4A'!$N$9=1,\"TMTIK\",IF('4A'!$N$9=2,\"AA\",IF('4A'!$N$9=3,\"QH\",IF('4A'!$N$9=4,\"FQ\",IF('4A'!$N$9=5,\"SKI\",IF('4A'!$N$9=6,\"PKN\",IF('4A'!$N$9=7,\"BID\",IF('4A'!$N$9=8,\"BA\",IF('4A'!$N$9=9,\"MTK\",IF('4A'!$N$9=10,\"IPA\",IF('4A'!$N$9=11,\"IPS\",IF('4A'!$N$9=12,\"SBK\",IF('4A'!$N$9=13,\"PJK\",IF('4A'!$N$9=14,\"BD\",IF('4A'!$N$9=15,\"BIG\",IF('4A'!$N$9=16,\"AWJ\",IF('4A'!$N$9=17,\"NW\",IF('4A'!$N$9=18,\"SRF\",IF('4A'!$N$9=19,\"PG\",IF('4A'!$N$9=20,\"XTR\",””))))))))))))))))))))","v":"PJK"},{"$f":"IF('4B'!$N$9=1,\"TMTIK\",IF('4B'!$N$9=2,\"AA\",IF('4B'!$N$9=3,\"QH\",IF('4B'!$N$9=4,\"FQ\",IF('4B'!$N$9=5,\"SKI\",IF('4B'!$N$9=6,\"PKN\",IF('4B'!$N$9=7,\"BID\",IF('4B'!$N$9=8,\"BA\",IF('4B'!$N$9=9,\"MTK\",IF('4B'!$N$9=10,\"IPA\",IF('4B'!$N$9=11,\"IPS\",IF('4B'!$N$9=12,\"SBK\",IF('4B'!$N$9=13,\"PJK\",IF('4B'!$N$9=14,\"BD\",IF('4B'!$N$9=15,\"BIG\",IF('4B'!$N$9=16,\"AWJ\",IF('4B'!$N$9=17,\"NW\",IF('4B'!$N$9=18,\"SRF\",IF('4B'!$N$9=19,\"PG\",IF('4B'!$N$9=20,\"XTR\",””))))))))))))))))))))","v":"MTK"},null,{"$f":"IF('4A'!$D$22=1,\"TMTIK\",IF('4A'!$D$22=2,\"AA\",IF('4A'!$D$22=3,\"QH\",IF('4A'!$D$22=4,\"FQ\",IF('4A'!$D$22=5,\"SKI\",IF('4A'!$D$22=6,\"PKN\",IF('4A'!$D$22=7,\"BID\",IF('4A'!$D$22=8,\"BA\",IF('4A'!$D$22=9,\"MTK\",IF('4A'!$D$22=10,\"IPA\",IF('4A'!$D$22=11,\"IPS\",IF('4A'!$D$22=12,\"SBK\",IF('4A'!$D$22=13,\"PJK\",IF('4A'!$D$22=14,\"BD\",IF('4A'!$D$22=15,\"BIG\",IF('4A'!$D$22=16,\"AWJ\",IF('4A'!$D$22=17,\"NW\",IF('4A'!$D$22=18,\"SRF\",IF('4A'!$D$22=19,\"PG\",IF('4A'!$D$22=20,\"XTR\",””))))))))))))))))))))","v":"MTK"},{"$f":"IF('4B'!$D$22=1,\"TMTIK\",IF('4B'!$D$22=2,\"AA\",IF('4B'!$D$22=3,\"QH\",IF('4B'!$D$22=4,\"FQ\",IF('4B'!$D$22=5,\"SKI\",IF('4B'!$D$22=6,\"PKN\",IF('4B'!$D$22=7,\"BID\",IF('4B'!$D$22=8,\"BA\",IF('4B'!$D$22=9,\"MTK\",IF('4B'!$D$22=10,\"IPA\",IF('4B'!$D$22=11,\"IPS\",IF('4B'!$D$22=12,\"SBK\",IF('4B'!$D$22=13,\"PJK\",IF('4B'!$D$22=14,\"BD\",IF('4B'!$D$22=15,\"BIG\",IF('4B'!$D$22=16,\"AWJ\",IF('4B'!$D$22=17,\"NW\",IF('4B'!$D$22=18,\"SRF\",IF('4B'!$D$22=19,\"PG\",IF('4B'!$D$22=20,\"XTR\",””))))))))))))))))))))","v":"PJK"}]
[2,{"$f":"IF('4A'!$D$10=1,\"TMTIK\",IF('4A'!$D$10=2,\"AA\",IF('4A'!$D$10=3,\"QH\",IF('4A'!$D$10=4,\"FQ\",IF('4A'!$D$10=5,\"SKI\",IF('4A'!$D$10=6,\"PKN\",IF('4A'!$D$10=7,\"BID\",IF('4A'!$D$10=8,\"BA\",IF('4A'!$D$10=9,\"MTK\",IF('4A'!$D$10=10,\"IPA\",IF('4A'!$D$10=11,\"IPS\",IF('4A'!$D$10=12,\"SBK\",IF('4A'!$D$10=13,\"PJK\",IF('4A'!$D$10=14,\"BD\",IF('4A'!$D$10=15,\"BIG\",IF('4A'!$D$10=16,\"AWJ\",IF('4A'!$D$10=17,\"NW\",IF('4A'!$D$10=18,\"SRF\",IF('4A'!$D$10=19,\"PG\",IF('4A'!$D$10=20,\"XTR\",””))))))))))))))))))))","v":"TMTIK"},{"$f":"IF('4B'!$D$10=1,\"TMTIK\",IF('4B'!$D$10=2,\"AA\",IF('4B'!$D$10=3,\"QH\",IF('4B'!$D$10=4,\"FQ\",IF('4B'!$D$10=5,\"SKI\",IF('4B'!$D$10=6,\"PKN\",IF('4B'!$D$10=7,\"BID\",IF('4B'!$D$10=8,\"BA\",IF('4B'!$D$10=9,\"MTK\",IF('4B'!$D$10=10,\"IPA\",IF('4B'!$D$10=11,\"IPS\",IF('4B'!$D$10=12,\"SBK\",IF('4B'!$D$10=13,\"PJK\",IF('4B'!$D$10=14,\"BD\",IF('4B'!$D$10=15,\"BIG\",IF('4B'!$D$10=16,\"AWJ\",IF('4B'!$D$10=17,\"NW\",IF('4B'!$D$10=18,\"SRF\",IF('4B'!$D$10=19,\"PG\",IF('4B'!$D$10=20,\"XTR\",””))))))))))))))))))))","v":"SKI"},null,{"$f":"IF('4A'!$F$10=1,\"TMTIK\",IF('4A'!$F$10=2,\"AA\",IF('4A'!$F$10=3,\"QH\",IF('4A'!$F$10=4,\"FQ\",IF('4A'!$F$10=5,\"SKI\",IF('4A'!$F$10=6,\"PKN\",IF('4A'!$F$10=7,\"BID\",IF('4A'!$F$10=8,\"BA\",IF('4A'!$F$10=9,\"MTK\",IF('4A'!$F$10=10,\"IPA\",IF('4A'!$F$10=11,\"IPS\",IF('4A'!$F$10=12,\"SBK\",IF('4A'!$F$10=13,\"PJK\",IF('4A'!$F$10=14,\"BD\",IF('4A'!$F$10=15,\"BIG\",IF('4A'!$F$10=16,\"AWJ\",IF('4A'!$F$10=17,\"NW\",IF('4A'!$F$10=18,\"SRF\",IF('4A'!$F$10=19,\"PG\",IF('4A'!$F$10=20,\"XTR\",””))))))))))))))))))))","v":"TMTIK"},{"$f":"IF('4B'!$F$10=1,\"TMTIK\",IF('4B'!$F$10=2,\"AA\",IF('4B'!$F$10=3,\"QH\",IF('4B'!$F$10=4,\"FQ\",IF('4B'!$F$10=5,\"SKI\",IF('4B'!$F$10=6,\"PKN\",IF('4B'!$F$10=7,\"BID\",IF('4B'!$F$10=8,\"BA\",IF('4B'!$F$10=9,\"MTK\",IF('4B'!$F$10=10,\"IPA\",IF('4B'!$F$10=11,\"IPS\",IF('4B'!$F$10=12,\"SBK\",IF('4B'!$F$10=13,\"PJK\",IF('4B'!$F$10=14,\"BD\",IF('4B'!$F$10=15,\"BIG\",IF('4B'!$F$10=16,\"AWJ\",IF('4B'!$F$10=17,\"NW\",IF('4B'!$F$10=18,\"SRF\",IF('4B'!$F$10=19,\"PG\",IF('4B'!$F$10=20,\"XTR\",””))))))))))))))))))))","v":"TMTIK"},null,{"$f":"IF('4A'!$H$10=1,\"TMTIK\",IF('4A'!$H$10=2,\"AA\",IF('4A'!$H$10=3,\"QH\",IF('4A'!$H$10=4,\"FQ\",IF('4A'!$H$10=5,\"SKI\",IF('4A'!$H$10=6,\"PKN\",IF('4A'!$H$10=7,\"BID\",IF('4A'!$H$10=8,\"BA\",IF('4A'!$H$10=9,\"MTK\",IF('4A'!$H$10=10,\"IPA\",IF('4A'!$H$10=11,\"IPS\",IF('4A'!$H$10=12,\"SBK\",IF('4A'!$H$10=13,\"PJK\",IF('4A'!$H$10=14,\"BD\",IF('4A'!$H$10=15,\"BIG\",IF('4A'!$H$10=16,\"AWJ\",IF('4A'!$H$10=17,\"NW\",IF('4A'!$H$10=18,\"SRF\",IF('4A'!$H$10=19,\"PG\",IF('4A'!$H$10=20,\"XTR\",””))))))))))))))))))))","v":"BD"},{"$f":"IF('4B'!$H$10=1,\"TMTIK\",IF('4B'!$H$10=2,\"AA\",IF('4B'!$H$10=3,\"QH\",IF('4B'!$H$10=4,\"FQ\",IF('4B'!$H$10=5,\"SKI\",IF('4B'!$H$10=6,\"PKN\",IF('4B'!$H$10=7,\"BID\",IF('4B'!$H$10=8,\"BA\",IF('4B'!$H$10=9,\"MTK\",IF('4B'!$H$10=10,\"IPA\",IF('4B'!$H$10=11,\"IPS\",IF('4B'!$H$10=12,\"SBK\",IF('4B'!$H$10=13,\"PJK\",IF('4B'!$H$10=14,\"BD\",IF('4B'!$H$10=15,\"BIG\",IF('4B'!$H$10=16,\"AWJ\",IF('4B'!$H$10=17,\"NW\",IF('4B'!$H$10=18,\"SRF\",IF('4B'!$H$10=19,\"PG\",IF('4B'!$H$10=20,\"XTR\",””))))))))))))))))))))","v":"QH"},null,{"$f":"IF('4A'!$J$10=1,\"TMTIK\",IF('4A'!$J$10=2,\"AA\",IF('4A'!$J$10=3,\"QH\",IF('4A'!$J$10=4,\"FQ\",IF('4A'!$J$10=5,\"SKI\",IF('4A'!$J$10=6,\"PKN\",IF('4A'!$J$10=7,\"BID\",IF('4A'!$J$10=8,\"BA\",IF('4A'!$J$10=9,\"MTK\",IF('4A'!$J$10=10,\"IPA\",IF('4A'!$J$10=11,\"IPS\",IF('4A'!$J$10=12,\"SBK\",IF('4A'!$J$10=13,\"PJK\",IF('4A'!$J$10=14,\"BD\",IF('4A'!$J$10=15,\"BIG\",IF('4A'!$J$10=16,\"AWJ\",IF('4A'!$J$10=17,\"NW\",IF('4A'!$J$10=18,\"SRF\",IF('4A'!$J$10=19,\"PG\",IF('4A'!$J$10=20,\"XTR\",””))))))))))))))))))))","v":"TMTIK"},{"$f":"IF('4B'!$J$10=1,\"TMTIK\",IF('4B'!$J$10=2,\"AA\",IF('4B'!$J$10=3,\"QH\",IF('4B'!$J$10=4,\"FQ\",IF('4B'!$J$10=5,\"SKI\",IF('4B'!$J$10=6,\"PKN\",IF('4B'!$J$10=7,\"BID\",IF('4B'!$J$10=8,\"BA\",IF('4B'!$J$10=9,\"MTK\",IF('4B'!$J$10=10,\"IPA\",IF('4B'!$J$10=11,\"IPS\",IF('4B'!$J$10=12,\"SBK\",IF('4B'!$J$10=13,\"PJK\",IF('4B'!$J$10=14,\"BD\",IF('4B'!$J$10=15,\"BIG\",IF('4B'!$J$10=16,\"AWJ\",IF('4B'!$J$10=17,\"NW\",IF('4B'!$J$10=18,\"SRF\",IF('4B'!$J$10=19,\"PG\",IF('4B'!$J$10=20,\"XTR\",””))))))))))))))))))))","v":"TMTIK"},null,{"$f":"IF('4A'!$N$10=1,\"TMTIK\",IF('4A'!$N$10=2,\"AA\",IF('4A'!$N$10=3,\"QH\",IF('4A'!$N$10=4,\"FQ\",IF('4A'!$N$10=5,\"SKI\",IF('4A'!$N$10=6,\"PKN\",IF('4A'!$N$10=7,\"BID\",IF('4A'!$N$10=8,\"BA\",IF('4A'!$N$10=9,\"MTK\",IF('4A'!$N$10=10,\"IPA\",IF('4A'!$N$10=11,\"IPS\",IF('4A'!$N$10=12,\"SBK\",IF('4A'!$N$10=13,\"PJK\",IF('4A'!$N$10=14,\"BD\",IF('4A'!$N$10=15,\"BIG\",IF('4A'!$N$10=16,\"AWJ\",IF('4A'!$N$10=17,\"NW\",IF('4A'!$N$10=18,\"SRF\",IF('4A'!$N$10=19,\"PG\",IF('4A'!$N$10=20,\"XTR\",””))))))))))))))))))))","v":"PJK"},{"$f":"IF('4B'!$N$10=1,\"TMTIK\",IF('4B'!$N$10=2,\"AA\",IF('4B'!$N$10=3,\"QH\",IF('4B'!$N$10=4,\"FQ\",IF('4B'!$N$10=5,\"SKI\",IF('4B'!$N$10=6,\"PKN\",IF('4B'!$N$10=7,\"BID\",IF('4B'!$N$10=8,\"BA\",IF('4B'!$N$10=9,\"MTK\",IF('4B'!$N$10=10,\"IPA\",IF('4B'!$N$10=11,\"IPS\",IF('4B'!$N$10=12,\"SBK\",IF('4B'!$N$10=13,\"PJK\",IF('4B'!$N$10=14,\"BD\",IF('4B'!$N$10=15,\"BIG\",IF('4B'!$N$10=16,\"AWJ\",IF('4B'!$N$10=17,\"NW\",IF('4B'!$N$10=18,\"SRF\",IF('4B'!$N$10=19,\"PG\",IF('4B'!$N$10=20,\"XTR\",””))))))))))))))))))))","v":"MTK"},null,{"$f":"IF('4A'!$D$23=1,\"TMTIK\",IF('4A'!$D$23=2,\"AA\",IF('4A'!$D$23=3,\"QH\",IF('4A'!$D$23=4,\"FQ\",IF('4A'!$D$23=5,\"SKI\",IF('4A'!$D$23=6,\"PKN\",IF('4A'!$D$23=7,\"BID\",IF('4A'!$D$23=8,\"BA\",IF('4A'!$D$23=9,\"MTK\",IF('4A'!$D$23=10,\"IPA\",IF('4A'!$D$23=11,\"IPS\",IF('4A'!$D$23=12,\"SBK\",IF('4A'!$D$23=13,\"PJK\",IF('4A'!$D$23=14,\"BD\",IF('4A'!$D$23=15,\"BIG\",IF('4A'!$D$23=16,\"AWJ\",IF('4A'!$D$23=17,\"NW\",IF('4A'!$D$23=18,\"SRF\",IF('4A'!$D$23=19,\"PG\",IF('4A'!$D$23=20,\"XTR\",””))))))))))))))))))))","v":"MTK"},{"$f":"IF('4B'!$D$23=1,\"TMTIK\",IF('4B'!$D$23=2,\"AA\",IF('4B'!$D$23=3,\"QH\",IF('4B'!$D$23=4,\"FQ\",IF('4B'!$D$23=5,\"SKI\",IF('4B'!$D$23=6,\"PKN\",IF('4B'!$D$23=7,\"BID\",IF('4B'!$D$23=8,\"BA\",IF('4B'!$D$23=9,\"MTK\",IF('4B'!$D$23=10,\"IPA\",IF('4B'!$D$23=11,\"IPS\",IF('4B'!$D$23=12,\"SBK\",IF('4B'!$D$23=13,\"PJK\",IF('4B'!$D$23=14,\"BD\",IF('4B'!$D$23=15,\"BIG\",IF('4B'!$D$23=16,\"AWJ\",IF('4B'!$D$23=17,\"NW\",IF('4B'!$D$23=18,\"SRF\",IF('4B'!$D$23=19,\"PG\",IF('4B'!$D$23=20,\"XTR\",””))))))))))))))))))))","v":"PJK"}]
[3,{"$f":"IF('4A'!$D$11=1,\"TMTIK\",IF('4A'!$D$11=2,\"AA\",IF('4A'!$D$11=3,\"QH\",IF('4A'!$D$11=4,\"FQ\",IF('4A'!$D$11=5,\"SKI\",IF('4A'!$D$11=6,\"PKN\",IF('4A'!$D$11=7,\"BID\",IF('4A'!$D$11=8,\"BA\",IF('4A'!$D$11=9,\"MTK\",IF('4A'!$D$11=10,\"IPA\",IF('4A'!$D$11=11,\"IPS\",IF('4A'!$D$11=12,\"SBK\",IF('4A'!$D$11=13,\"PJK\",IF('4A'!$D$11=14,\"BD\",IF('4A'!$D$11=15,\"BIG\",IF('4A'!$D$11=16,\"AWJ\",IF('4A'!$D$11=17,\"NW\",IF('4A'!$D$11=18,\"SRF\",IF('4A'!$D$11=19,\"PG\",IF('4A'!$D$11=20,\"XTR\",””))))))))))))))))))))","v":"NW"},{"$f":"IF('4B'!$D$11=1,\"TMTIK\",IF('4B'!$D$11=2,\"AA\",IF('4B'!$D$11=3,\"QH\",IF('4B'!$D$11=4,\"FQ\",IF('4B'!$D$11=5,\"SKI\",IF('4B'!$D$11=6,\"PKN\",IF('4B'!$D$11=7,\"BID\",IF('4B'!$D$11=8,\"BA\",IF('4B'!$D$11=9,\"MTK\",IF('4B'!$D$11=10,\"IPA\",IF('4B'!$D$11=11,\"IPS\",IF('4B'!$D$11=12,\"SBK\",IF('4B'!$D$11=13,\"PJK\",IF('4B'!$D$11=14,\"BD\",IF('4B'!$D$11=15,\"BIG\",IF('4B'!$D$11=16,\"AWJ\",IF('4B'!$D$11=17,\"NW\",IF('4B'!$D$11=18,\"SRF\",IF('4B'!$D$11=19,\"PG\",IF('4B'!$D$11=20,\"XTR\",””))))))))))))))))))))","v":"MTK"},null,{"$f":"IF('4A'!$F$11=1,\"TMTIK\",IF('4A'!$F$11=2,\"AA\",IF('4A'!$F$11=3,\"QH\",IF('4A'!$F$11=4,\"FQ\",IF('4A'!$F$11=5,\"SKI\",IF('4A'!$F$11=6,\"PKN\",IF('4A'!$F$11=7,\"BID\",IF('4A'!$F$11=8,\"BA\",IF('4A'!$F$11=9,\"MTK\",IF('4A'!$F$11=10,\"IPA\",IF('4A'!$F$11=11,\"IPS\",IF('4A'!$F$11=12,\"SBK\",IF('4A'!$F$11=13,\"PJK\",IF('4A'!$F$11=14,\"BD\",IF('4A'!$F$11=15,\"BIG\",IF('4A'!$F$11=16,\"AWJ\",IF('4A'!$F$11=17,\"NW\",IF('4A'!$F$11=18,\"SRF\",IF('4A'!$F$11=19,\"PG\",IF('4A'!$F$11=20,\"XTR\",””))))))))))))))))))))","v":"AA"},{"$f":"IF('4B'!$F$11=1,\"TMTIK\",IF('4B'!$F$11=2,\"AA\",IF('4B'!$F$11=3,\"QH\",IF('4B'!$F$11=4,\"FQ\",IF('4B'!$F$11=5,\"SKI\",IF('4B'!$F$11=6,\"PKN\",IF('4B'!$F$11=7,\"BID\",IF('4B'!$F$11=8,\"BA\",IF('4B'!$F$11=9,\"MTK\",IF('4B'!$F$11=10,\"IPA\",IF('4B'!$F$11=11,\"IPS\",IF('4B'!$F$11=12,\"SBK\",IF('4B'!$F$11=13,\"PJK\",IF('4B'!$F$11=14,\"BD\",IF('4B'!$F$11=15,\"BIG\",IF('4B'!$F$11=16,\"AWJ\",IF('4B'!$F$11=17,\"NW\",IF('4B'!$F$11=18,\"SRF\",IF('4B'!$F$11=19,\"PG\",IF('4B'!$F$11=20,\"XTR\",””))))))))))))))))))))","v":"NW"},null,{"$f":"IF('4A'!$H$11=1,\"TMTIK\",IF('4A'!$H$11=2,\"AA\",IF('4A'!$H$11=3,\"QH\",IF('4A'!$H$11=4,\"FQ\",IF('4A'!$H$11=5,\"SKI\",IF('4A'!$H$11=6,\"PKN\",IF('4A'!$H$11=7,\"BID\",IF('4A'!$H$11=8,\"BA\",IF('4A'!$H$11=9,\"MTK\",IF('4A'!$H$11=10,\"IPA\",IF('4A'!$H$11=11,\"IPS\",IF('4A'!$H$11=12,\"SBK\",IF('4A'!$H$11=13,\"PJK\",IF('4A'!$H$11=14,\"BD\",IF('4A'!$H$11=15,\"BIG\",IF('4A'!$H$11=16,\"AWJ\",IF('4A'!$H$11=17,\"NW\",IF('4A'!$H$11=18,\"SRF\",IF('4A'!$H$11=19,\"PG\",IF('4A'!$H$11=20,\"XTR\",””))))))))))))))))))))","v":"MTK"},{"$f":"IF('4B'!$H$11=1,\"TMTIK\",IF('4B'!$H$11=2,\"AA\",IF('4B'!$H$11=3,\"QH\",IF('4B'!$H$11=4,\"FQ\",IF('4B'!$H$11=5,\"SKI\",IF('4B'!$H$11=6,\"PKN\",IF('4B'!$H$11=7,\"BID\",IF('4B'!$H$11=8,\"BA\",IF('4B'!$H$11=9,\"MTK\",IF('4B'!$H$11=10,\"IPA\",IF('4B'!$H$11=11,\"IPS\",IF('4B'!$H$11=12,\"SBK\",IF('4B'!$H$11=13,\"PJK\",IF('4B'!$H$11=14,\"BD\",IF('4B'!$H$11=15,\"BIG\",IF('4B'!$H$11=16,\"AWJ\",IF('4B'!$H$11=17,\"NW\",IF('4B'!$H$11=18,\"SRF\",IF('4B'!$H$11=19,\"PG\",IF('4B'!$H$11=20,\"XTR\",””))))))))))))))))))))","v":"TMTIK"},null,{"$f":"IF('4A'!$J$11=1,\"TMTIK\",IF('4A'!$J$11=2,\"AA\",IF('4A'!$J$11=3,\"QH\",IF('4A'!$J$11=4,\"FQ\",IF('4A'!$J$11=5,\"SKI\",IF('4A'!$J$11=6,\"PKN\",IF('4A'!$J$11=7,\"BID\",IF('4A'!$J$11=8,\"BA\",IF('4A'!$J$11=9,\"MTK\",IF('4A'!$J$11=10,\"IPA\",IF('4A'!$J$11=11,\"IPS\",IF('4A'!$J$11=12,\"SBK\",IF('4A'!$J$11=13,\"PJK\",IF('4A'!$J$11=14,\"BD\",IF('4A'!$J$11=15,\"BIG\",IF('4A'!$J$11=16,\"AWJ\",IF('4A'!$J$11=17,\"NW\",IF('4A'!$J$11=18,\"SRF\",IF('4A'!$J$11=19,\"PG\",IF('4A'!$J$11=20,\"XTR\",””))))))))))))))))))))","v":"TMTIK"},{"$f":"IF('4B'!$J$11=1,\"TMTIK\",IF('4B'!$J$11=2,\"AA\",IF('4B'!$J$11=3,\"QH\",IF('4B'!$J$11=4,\"FQ\",IF('4B'!$J$11=5,\"SKI\",IF('4B'!$J$11=6,\"PKN\",IF('4B'!$J$11=7,\"BID\",IF('4B'!$J$11=8,\"BA\",IF('4B'!$J$11=9,\"MTK\",IF('4B'!$J$11=10,\"IPA\",IF('4B'!$J$11=11,\"IPS\",IF('4B'!$J$11=12,\"SBK\",IF('4B'!$J$11=13,\"PJK\",IF('4B'!$J$11=14,\"BD\",IF('4B'!$J$11=15,\"BIG\",IF('4B'!$J$11=16,\"AWJ\",IF('4B'!$J$11=17,\"NW\",IF('4B'!$J$11=18,\"SRF\",IF('4B'!$J$11=19,\"PG\",IF('4B'!$J$11=20,\"XTR\",””))))))))))))))))))))","v":"TMTIK"},null,{"$f":"IF('4A'!$N$11=1,\"TMTIK\",IF('4A'!$N$11=2,\"AA\",IF('4A'!$N$11=3,\"QH\",IF('4A'!$N$11=4,\"FQ\",IF('4A'!$N$11=5,\"SKI\",IF('4A'!$N$11=6,\"PKN\",IF('4A'!$N$11=7,\"BID\",IF('4A'!$N$11=8,\"BA\",IF('4A'!$N$11=9,\"MTK\",IF('4A'!$N$11=10,\"IPA\",IF('4A'!$N$11=11,\"IPS\",IF('4A'!$N$11=12,\"SBK\",IF('4A'!$N$11=13,\"PJK\",IF('4A'!$N$11=14,\"BD\",IF('4A'!$N$11=15,\"BIG\",IF('4A'!$N$11=16,\"AWJ\",IF('4A'!$N$11=17,\"NW\",IF('4A'!$N$11=18,\"SRF\",IF('4A'!$N$11=19,\"PG\",IF('4A'!$N$11=20,\"XTR\",””))))))))))))))))))))","v":"PJK"},{"$f":"IF('4B'!$N$11=1,\"TMTIK\",IF('4B'!$N$11=2,\"AA\",IF('4B'!$N$11=3,\"QH\",IF('4B'!$N$11=4,\"FQ\",IF('4B'!$N$11=5,\"SKI\",IF('4B'!$N$11=6,\"PKN\",IF('4B'!$N$11=7,\"BID\",IF('4B'!$N$11=8,\"BA\",IF('4B'!$N$11=9,\"MTK\",IF('4B'!$N$11=10,\"IPA\",IF('4B'!$N$11=11,\"IPS\",IF('4B'!$N$11=12,\"SBK\",IF('4B'!$N$11=13,\"PJK\",IF('4B'!$N$11=14,\"BD\",IF('4B'!$N$11=15,\"BIG\",IF('4B'!$N$11=16,\"AWJ\",IF('4B'!$N$11=17,\"NW\",IF('4B'!$N$11=18,\"SRF\",IF('4B'!$N$11=19,\"PG\",IF('4B'!$N$11=20,\"XTR\",””))))))))))))))))))))","v":"MTK"},null,{"$f":"IF('4A'!$D$24=1,\"TMTIK\",IF('4A'!$D$24=2,\"AA\",IF('4A'!$D$24=3,\"QH\",IF('4A'!$D$24=4,\"FQ\",IF('4A'!$D$24=5,\"SKI\",IF('4A'!$D$24=6,\"PKN\",IF('4A'!$D$24=7,\"BID\",IF('4A'!$D$24=8,\"BA\",IF('4A'!$D$24=9,\"MTK\",IF('4A'!$D$24=10,\"IPA\",IF('4A'!$D$24=11,\"IPS\",IF('4A'!$D$24=12,\"SBK\",IF('4A'!$D$24=13,\"PJK\",IF('4A'!$D$24=14,\"BD\",IF('4A'!$D$24=15,\"BIG\",IF('4A'!$D$24=16,\"AWJ\",IF('4A'!$D$24=17,\"NW\",IF('4A'!$D$24=18,\"SRF\",IF('4A'!$D$24=19,\"PG\",IF('4A'!$D$24=20,\"XTR\",””))))))))))))))))))))","v":"MTK"},{"$f":"IF('4B'!$D$24=1,\"TMTIK\",IF('4B'!$D$24=2,\"AA\",IF('4B'!$D$24=3,\"QH\",IF('4B'!$D$24=4,\"FQ\",IF('4B'!$D$24=5,\"SKI\",IF('4B'!$D$24=6,\"PKN\",IF('4B'!$D$24=7,\"BID\",IF('4B'!$D$24=8,\"BA\",IF('4B'!$D$24=9,\"MTK\",IF('4B'!$D$24=10,\"IPA\",IF('4B'!$D$24=11,\"IPS\",IF('4B'!$D$24=12,\"SBK\",IF('4B'!$D$24=13,\"PJK\",IF('4B'!$D$24=14,\"BD\",IF('4B'!$D$24=15,\"BIG\",IF('4B'!$D$24=16,\"AWJ\",IF('4B'!$D$24=17,\"NW\",IF('4B'!$D$24=18,\"SRF\",IF('4B'!$D$24=19,\"PG\",IF('4B'!$D$24=20,\"XTR\",””))))))))))))))))))))","v":"PJK"}]
[4,{"$f":"IF('4A'!$D$12=1,\"TMTIK\",IF('4A'!$D$12=2,\"AA\",IF('4A'!$D$12=3,\"QH\",IF('4A'!$D$12=4,\"FQ\",IF('4A'!$D$12=5,\"SKI\",IF('4A'!$D$12=6,\"PKN\",IF('4A'!$D$12=7,\"BID\",IF('4A'!$D$12=8,\"BA\",IF('4A'!$D$12=9,\"MTK\",IF('4A'!$D$12=10,\"IPA\",IF('4A'!$D$12=11,\"IPS\",IF('4A'!$D$12=12,\"SBK\",IF('4A'!$D$12=13,\"PJK\",IF('4A'!$D$12=14,\"BD\",IF('4A'!$D$12=15,\"BIG\",IF('4A'!$D$12=16,\"AWJ\",IF('4A'!$D$12=17,\"NW\",IF('4A'!$D$12=18,\"SRF\",IF('4A'!$D$12=19,\"PG\",IF('4A'!$D$12=20,\"XTR\",””))))))))))))))))))))","v":"SRF"},{"$f":"IF('4B'!$D$12=1,\"TMTIK\",IF('4B'!$D$12=2,\"AA\",IF('4B'!$D$12=3,\"QH\",IF('4B'!$D$12=4,\"FQ\",IF('4B'!$D$12=5,\"SKI\",IF('4B'!$D$12=6,\"PKN\",IF('4B'!$D$12=7,\"BID\",IF('4B'!$D$12=8,\"BA\",IF('4B'!$D$12=9,\"MTK\",IF('4B'!$D$12=10,\"IPA\",IF('4B'!$D$12=11,\"IPS\",IF('4B'!$D$12=12,\"SBK\",IF('4B'!$D$12=13,\"PJK\",IF('4B'!$D$12=14,\"BD\",IF('4B'!$D$12=15,\"BIG\",IF('4B'!$D$12=16,\"AWJ\",IF('4B'!$D$12=17,\"NW\",IF('4B'!$D$12=18,\"SRF\",IF('4B'!$D$12=19,\"PG\",IF('4B'!$D$12=20,\"XTR\",””))))))))))))))))))))","v":"MTK"},null,{"$f":"IF('4A'!$F$12=1,\"TMTIK\",IF('4A'!$F$12=2,\"AA\",IF('4A'!$F$12=3,\"QH\",IF('4A'!$F$12=4,\"FQ\",IF('4A'!$F$12=5,\"SKI\",IF('4A'!$F$12=6,\"PKN\",IF('4A'!$F$12=7,\"BID\",IF('4A'!$F$12=8,\"BA\",IF('4A'!$F$12=9,\"MTK\",IF('4A'!$F$12=10,\"IPA\",IF('4A'!$F$12=11,\"IPS\",IF('4A'!$F$12=12,\"SBK\",IF('4A'!$F$12=13,\"PJK\",IF('4A'!$F$12=14,\"BD\",IF('4A'!$F$12=15,\"BIG\",IF('4A'!$F$12=16,\"AWJ\",IF('4A'!$F$12=17,\"NW\",IF('4A'!$F$12=18,\"SRF\",IF('4A'!$F$12=19,\"PG\",IF('4A'!$F$12=20,\"XTR\",””))))))))))))))))))))","v":"AA"},{"$f":"IF('4B'!$F$12=1,\"TMTIK\",IF('4B'!$F$12=2,\"AA\",IF('4B'!$F$12=3,\"QH\",IF('4B'!$F$12=4,\"FQ\",IF('4B'!$F$12=5,\"SKI\",IF('4B'!$F$12=6,\"PKN\",IF('4B'!$F$12=7,\"BID\",IF('4B'!$F$12=8,\"BA\",IF('4B'!$F$12=9,\"MTK\",IF('4B'!$F$12=10,\"IPA\",IF('4B'!$F$12=11,\"IPS\",IF('4B'!$F$12=12,\"SBK\",IF('4B'!$F$12=13,\"PJK\",IF('4B'!$F$12=14,\"BD\",IF('4B'!$F$12=15,\"BIG\",IF('4B'!$F$12=16,\"AWJ\",IF('4B'!$F$12=17,\"NW\",IF('4B'!$F$12=18,\"SRF\",IF('4B'!$F$12=19,\"PG\",IF('4B'!$F$12=20,\"XTR\",””))))))))))))))))))))","v":"SRF"},null,{"$f":"IF('4A'!$H$12=1,\"TMTIK\",IF('4A'!$H$12=2,\"AA\",IF('4A'!$H$12=3,\"QH\",IF('4A'!$H$12=4,\"FQ\",IF('4A'!$H$12=5,\"SKI\",IF('4A'!$H$12=6,\"PKN\",IF('4A'!$H$12=7,\"BID\",IF('4A'!$H$12=8,\"BA\",IF('4A'!$H$12=9,\"MTK\",IF('4A'!$H$12=10,\"IPA\",IF('4A'!$H$12=11,\"IPS\",IF('4A'!$H$12=12,\"SBK\",IF('4A'!$H$12=13,\"PJK\",IF('4A'!$H$12=14,\"BD\",IF('4A'!$H$12=15,\"BIG\",IF('4A'!$H$12=16,\"AWJ\",IF('4A'!$H$12=17,\"NW\",IF('4A'!$H$12=18,\"SRF\",IF('4A'!$H$12=19,\"PG\",IF('4A'!$H$12=20,\"XTR\",””))))))))))))))))))))","v":"MTK"},{"$f":"IF('4B'!$H$12=1,\"TMTIK\",IF('4B'!$H$12=2,\"AA\",IF('4B'!$H$12=3,\"QH\",IF('4B'!$H$12=4,\"FQ\",IF('4B'!$H$12=5,\"SKI\",IF('4B'!$H$12=6,\"PKN\",IF('4B'!$H$12=7,\"BID\",IF('4B'!$H$12=8,\"BA\",IF('4B'!$H$12=9,\"MTK\",IF('4B'!$H$12=10,\"IPA\",IF('4B'!$H$12=11,\"IPS\",IF('4B'!$H$12=12,\"SBK\",IF('4B'!$H$12=13,\"PJK\",IF('4B'!$H$12=14,\"BD\",IF('4B'!$H$12=15,\"BIG\",IF('4B'!$H$12=16,\"AWJ\",IF('4B'!$H$12=17,\"NW\",IF('4B'!$H$12=18,\"SRF\",IF('4B'!$H$12=19,\"PG\",IF('4B'!$H$12=20,\"XTR\",””))))))))))))))))))))","v":"TMTIK"},null,{"$f":"IF('4A'!$J$12=1,\"TMTIK\",IF('4A'!$J$12=2,\"AA\",IF('4A'!$J$12=3,\"QH\",IF('4A'!$J$12=4,\"FQ\",IF('4A'!$J$12=5,\"SKI\",IF('4A'!$J$12=6,\"PKN\",IF('4A'!$J$12=7,\"BID\",IF('4A'!$J$12=8,\"BA\",IF('4A'!$J$12=9,\"MTK\",IF('4A'!$J$12=10,\"IPA\",IF('4A'!$J$12=11,\"IPS\",IF('4A'!$J$12=12,\"SBK\",IF('4A'!$J$12=13,\"PJK\",IF('4A'!$J$12=14,\"BD\",IF('4A'!$J$12=15,\"BIG\",IF('4A'!$J$12=16,\"AWJ\",IF('4A'!$J$12=17,\"NW\",IF('4A'!$J$12=18,\"SRF\",IF('4A'!$J$12=19,\"PG\",IF('4A'!$J$12=20,\"XTR\",””))))))))))))))))))))","v":"TMTIK"},{"$f":"IF('4B'!$J$12=1,\"TMTIK\",IF('4B'!$J$12=2,\"AA\",IF('4B'!$J$12=3,\"QH\",IF('4B'!$J$12=4,\"FQ\",IF('4B'!$J$12=5,\"SKI\",IF('4B'!$J$12=6,\"PKN\",IF('4B'!$J$12=7,\"BID\",IF('4B'!$J$12=8,\"BA\",IF('4B'!$J$12=9,\"MTK\",IF('4B'!$J$12=10,\"IPA\",IF('4B'!$J$12=11,\"IPS\",IF('4B'!$J$12=12,\"SBK\",IF('4B'!$J$12=13,\"PJK\",IF('4B'!$J$12=14,\"BD\",IF('4B'!$J$12=15,\"BIG\",IF('4B'!$J$12=16,\"AWJ\",IF('4B'!$J$12=17,\"NW\",IF('4B'!$J$12=18,\"SRF\",IF('4B'!$J$12=19,\"PG\",IF('4B'!$J$12=20,\"XTR\",””))))))))))))))))))))","v":"TMTIK"},null,{"$f":"IF('4A'!$N$12=1,\"TMTIK\",IF('4A'!$N$12=2,\"AA\",IF('4A'!$N$12=3,\"QH\",IF('4A'!$N$12=4,\"FQ\",IF('4A'!$N$12=5,\"SKI\",IF('4A'!$N$12=6,\"PKN\",IF('4A'!$N$12=7,\"BID\",IF('4A'!$N$12=8,\"BA\",IF('4A'!$N$12=9,\"MTK\",IF('4A'!$N$12=10,\"IPA\",IF('4A'!$N$12=11,\"IPS\",IF('4A'!$N$12=12,\"SBK\",IF('4A'!$N$12=13,\"PJK\",IF('4A'!$N$12=14,\"BD\",IF('4A'!$N$12=15,\"BIG\",IF('4A'!$N$12=16,\"AWJ\",IF('4A'!$N$12=17,\"NW\",IF('4A'!$N$12=18,\"SRF\",IF('4A'!$N$12=19,\"PG\",IF('4A'!$N$12=20,\"XTR\",””))))))))))))))))))))","v":"PJK"},{"$f":"IF('4B'!$N$12=1,\"TMTIK\",IF('4B'!$N$12=2,\"AA\",IF('4B'!$N$12=3,\"QH\",IF('4B'!$N$12=4,\"FQ\",IF('4B'!$N$12=5,\"SKI\",IF('4B'!$N$12=6,\"PKN\",IF('4B'!$N$12=7,\"BID\",IF('4B'!$N$12=8,\"BA\",IF('4B'!$N$12=9,\"MTK\",IF('4B'!$N$12=10,\"IPA\",IF('4B'!$N$12=11,\"IPS\",IF('4B'!$N$12=12,\"SBK\",IF('4B'!$N$12=13,\"PJK\",IF('4B'!$N$12=14,\"BD\",IF('4B'!$N$12=15,\"BIG\",IF('4B'!$N$12=16,\"AWJ\",IF('4B'!$N$12=17,\"NW\",IF('4B'!$N$12=18,\"SRF\",IF('4B'!$N$12=19,\"PG\",IF('4B'!$N$12=20,\"XTR\",””))))))))))))))))))))","v":"TMTIK"},null,{"$f":"IF('4A'!$D$25=1,\"TMTIK\",IF('4A'!$D$25=2,\"AA\",IF('4A'!$D$25=3,\"QH\",IF('4A'!$D$25=4,\"FQ\",IF('4A'!$D$25=5,\"SKI\",IF('4A'!$D$25=6,\"PKN\",IF('4A'!$D$25=7,\"BID\",IF('4A'!$D$25=8,\"BA\",IF('4A'!$D$25=9,\"MTK\",IF('4A'!$D$25=10,\"IPA\",IF('4A'!$D$25=11,\"IPS\",IF('4A'!$D$25=12,\"SBK\",IF('4A'!$D$25=13,\"PJK\",IF('4A'!$D$25=14,\"BD\",IF('4A'!$D$25=15,\"BIG\",IF('4A'!$D$25=16,\"AWJ\",IF('4A'!$D$25=17,\"NW\",IF('4A'!$D$25=18,\"SRF\",IF('4A'!$D$25=19,\"PG\",IF('4A'!$D$25=20,\"XTR\",””))))))))))))))))))))","v":"XTR"},{"$f":"IF('4B'!$D$25=1,\"TMTIK\",IF('4B'!$D$25=2,\"AA\",IF('4B'!$D$25=3,\"QH\",IF('4B'!$D$25=4,\"FQ\",IF('4B'!$D$25=5,\"SKI\",IF('4B'!$D$25=6,\"PKN\",IF('4B'!$D$25=7,\"BID\",IF('4B'!$D$25=8,\"BA\",IF('4B'!$D$25=9,\"MTK\",IF('4B'!$D$25=10,\"IPA\",IF('4B'!$D$25=11,\"IPS\",IF('4B'!$D$25=12,\"SBK\",IF('4B'!$D$25=13,\"PJK\",IF('4B'!$D$25=14,\"BD\",IF('4B'!$D$25=15,\"BIG\",IF('4B'!$D$25=16,\"AWJ\",IF('4B'!$D$25=17,\"NW\",IF('4B'!$D$25=18,\"SRF\",IF('4B'!$D$25=19,\"PG\",IF('4B'!$D$25=20,\"XTR\",””))))))))))))))))))))","v":"XTR"}]
[5,{"$f":"IF('4A'!$D$14=1,\"TMTIK\",IF('4A'!$D$14=2,\"AA\",IF('4A'!$D$14=3,\"QH\",IF('4A'!$D$14=4,\"FQ\",IF('4A'!$D$14=5,\"SKI\",IF('4A'!$D$14=6,\"PKN\",IF('4A'!$D$14=7,\"BID\",IF('4A'!$D$14=8,\"BA\",IF('4A'!$D$14=9,\"MTK\",IF('4A'!$D$14=10,\"IPA\",IF('4A'!$D$14=11,\"IPS\",IF('4A'!$D$14=12,\"SBK\",IF('4A'!$D$14=13,\"PJK\",IF('4A'!$D$14=14,\"BD\",IF('4A'!$D$14=15,\"BIG\",IF('4A'!$D$14=16,\"AWJ\",IF('4A'!$D$14=17,\"NW\",IF('4A'!$D$14=18,\"SRF\",IF('4A'!$D$14=19,\"PG\",IF('4A'!$D$14=20,\"XTR\",””))))))))))))))))))))","v":"AWJ"},{"$f":"IF('4B'!$D$14=1,\"TMTIK\",IF('4B'!$D$14=2,\"AA\",IF('4B'!$D$14=3,\"QH\",IF('4B'!$D$14=4,\"FQ\",IF('4B'!$D$14=5,\"SKI\",IF('4B'!$D$14=6,\"PKN\",IF('4B'!$D$14=7,\"BID\",IF('4B'!$D$14=8,\"BA\",IF('4B'!$D$14=9,\"MTK\",IF('4B'!$D$14=10,\"IPA\",IF('4B'!$D$14=11,\"IPS\",IF('4B'!$D$14=12,\"SBK\",IF('4B'!$D$14=13,\"PJK\",IF('4B'!$D$14=14,\"BD\",IF('4B'!$D$14=15,\"BIG\",IF('4B'!$D$14=16,\"AWJ\",IF('4B'!$D$14=17,\"NW\",IF('4B'!$D$14=18,\"SRF\",IF('4B'!$D$14=19,\"PG\",IF('4B'!$D$14=20,\"XTR\",””))))))))))))))))))))","v":"FQ"},null,{"$f":"IF('4A'!$F$14=1,\"TMTIK\",IF('4A'!$F$14=2,\"AA\",IF('4A'!$F$14=3,\"QH\",IF('4A'!$F$14=4,\"FQ\",IF('4A'!$F$14=5,\"SKI\",IF('4A'!$F$14=6,\"PKN\",IF('4A'!$F$14=7,\"BID\",IF('4A'!$F$14=8,\"BA\",IF('4A'!$F$14=9,\"MTK\",IF('4A'!$F$14=10,\"IPA\",IF('4A'!$F$14=11,\"IPS\",IF('4A'!$F$14=12,\"SBK\",IF('4A'!$F$14=13,\"PJK\",IF('4A'!$F$14=14,\"BD\",IF('4A'!$F$14=15,\"BIG\",IF('4A'!$F$14=16,\"AWJ\",IF('4A'!$F$14=17,\"NW\",IF('4A'!$F$14=18,\"SRF\",IF('4A'!$F$14=19,\"PG\",IF('4A'!$F$14=20,\"XTR\",””))))))))))))))))))))","v":"SKI"},{"$f":"IF('4B'!$F$14=1,\"TMTIK\",IF('4B'!$F$14=2,\"AA\",IF('4B'!$F$14=3,\"QH\",IF('4B'!$F$14=4,\"FQ\",IF('4B'!$F$14=5,\"SKI\",IF('4B'!$F$14=6,\"PKN\",IF('4B'!$F$14=7,\"BID\",IF('4B'!$F$14=8,\"BA\",IF('4B'!$F$14=9,\"MTK\",IF('4B'!$F$14=10,\"IPA\",IF('4B'!$F$14=11,\"IPS\",IF('4B'!$F$14=12,\"SBK\",IF('4B'!$F$14=13,\"PJK\",IF('4B'!$F$14=14,\"BD\",IF('4B'!$F$14=15,\"BIG\",IF('4B'!$F$14=16,\"AWJ\",IF('4B'!$F$14=17,\"NW\",IF('4B'!$F$14=18,\"SRF\",IF('4B'!$F$14=19,\"PG\",IF('4B'!$F$14=20,\"XTR\",””))))))))))))))))))))","v":"AA"},null,{"$f":"IF('4A'!$H$14=1,\"TMTIK\",IF('4A'!$H$14=2,\"AA\",IF('4A'!$H$14=3,\"QH\",IF('4A'!$H$14=4,\"FQ\",IF('4A'!$H$14=5,\"SKI\",IF('4A'!$H$14=6,\"PKN\",IF('4A'!$H$14=7,\"BID\",IF('4A'!$H$14=8,\"BA\",IF('4A'!$H$14=9,\"MTK\",IF('4A'!$H$14=10,\"IPA\",IF('4A'!$H$14=11,\"IPS\",IF('4A'!$H$14=12,\"SBK\",IF('4A'!$H$14=13,\"PJK\",IF('4A'!$H$14=14,\"BD\",IF('4A'!$H$14=15,\"BIG\",IF('4A'!$H$14=16,\"AWJ\",IF('4A'!$H$14=17,\"NW\",IF('4A'!$H$14=18,\"SRF\",IF('4A'!$H$14=19,\"PG\",IF('4A'!$H$14=20,\"XTR\",””))))))))))))))))))))","v":"TMTIK"},{"$f":"IF('4B'!$H$14=1,\"TMTIK\",IF('4B'!$H$14=2,\"AA\",IF('4B'!$H$14=3,\"QH\",IF('4B'!$H$14=4,\"FQ\",IF('4B'!$H$14=5,\"SKI\",IF('4B'!$H$14=6,\"PKN\",IF('4B'!$H$14=7,\"BID\",IF('4B'!$H$14=8,\"BA\",IF('4B'!$H$14=9,\"MTK\",IF('4B'!$H$14=10,\"IPA\",IF('4B'!$H$14=11,\"IPS\",IF('4B'!$H$14=12,\"SBK\",IF('4B'!$H$14=13,\"PJK\",IF('4B'!$H$14=14,\"BD\",IF('4B'!$H$14=15,\"BIG\",IF('4B'!$H$14=16,\"AWJ\",IF('4B'!$H$14=17,\"NW\",IF('4B'!$H$14=18,\"SRF\",IF('4B'!$H$14=19,\"PG\",IF('4B'!$H$14=20,\"XTR\",””))))))))))))))))))))","v":"TMTIK"},null,{"$f":"IF('4A'!$J$14=1,\"TMTIK\",IF('4A'!$J$14=2,\"AA\",IF('4A'!$J$14=3,\"QH\",IF('4A'!$J$14=4,\"FQ\",IF('4A'!$J$14=5,\"SKI\",IF('4A'!$J$14=6,\"PKN\",IF('4A'!$J$14=7,\"BID\",IF('4A'!$J$14=8,\"BA\",IF('4A'!$J$14=9,\"MTK\",IF('4A'!$J$14=10,\"IPA\",IF('4A'!$J$14=11,\"IPS\",IF('4A'!$J$14=12,\"SBK\",IF('4A'!$J$14=13,\"PJK\",IF('4A'!$J$14=14,\"BD\",IF('4A'!$J$14=15,\"BIG\",IF('4A'!$J$14=16,\"AWJ\",IF('4A'!$J$14=17,\"NW\",IF('4A'!$J$14=18,\"SRF\",IF('4A'!$J$14=19,\"PG\",IF('4A'!$J$14=20,\"XTR\",””))))))))))))))))))))","v":"QH"},{"$f":"IF('4B'!$J$14=1,\"TMTIK\",IF('4B'!$J$14=2,\"AA\",IF('4B'!$J$14=3,\"QH\",IF('4B'!$J$14=4,\"FQ\",IF('4B'!$J$14=5,\"SKI\",IF('4B'!$J$14=6,\"PKN\",IF('4B'!$J$14=7,\"BID\",IF('4B'!$J$14=8,\"BA\",IF('4B'!$J$14=9,\"MTK\",IF('4B'!$J$14=10,\"IPA\",IF('4B'!$J$14=11,\"IPS\",IF('4B'!$J$14=12,\"SBK\",IF('4B'!$J$14=13,\"PJK\",IF('4B'!$J$14=14,\"BD\",IF('4B'!$J$14=15,\"BIG\",IF('4B'!$J$14=16,\"AWJ\",IF('4B'!$J$14=17,\"NW\",IF('4B'!$J$14=18,\"SRF\",IF('4B'!$J$14=19,\"PG\",IF('4B'!$J$14=20,\"XTR\",””))))))))))))))))))))","v":"BA"},null,{"$f":"IF('4A'!$N$14=1,\"TMTIK\",IF('4A'!$N$14=2,\"AA\",IF('4A'!$N$14=3,\"QH\",IF('4A'!$N$14=4,\"FQ\",IF('4A'!$N$14=5,\"SKI\",IF('4A'!$N$14=6,\"PKN\",IF('4A'!$N$14=7,\"BID\",IF('4A'!$N$14=8,\"BA\",IF('4A'!$N$14=9,\"MTK\",IF('4A'!$N$14=10,\"IPA\",IF('4A'!$N$14=11,\"IPS\",IF('4A'!$N$14=12,\"SBK\",IF('4A'!$N$14=13,\"PJK\",IF('4A'!$N$14=14,\"BD\",IF('4A'!$N$14=15,\"BIG\",IF('4A'!$N$14=16,\"AWJ\",IF('4A'!$N$14=17,\"NW\",IF('4A'!$N$14=18,\"SRF\",IF('4A'!$N$14=19,\"PG\",IF('4A'!$N$14=20,\"XTR\",””))))))))))))))))))))","v":"BA"},{"$f":"IF('4B'!$N$14=1,\"TMTIK\",IF('4B'!$N$14=2,\"AA\",IF('4B'!$N$14=3,\"QH\",IF('4B'!$N$14=4,\"FQ\",IF('4B'!$N$14=5,\"SKI\",IF('4B'!$N$14=6,\"PKN\",IF('4B'!$N$14=7,\"BID\",IF('4B'!$N$14=8,\"BA\",IF('4B'!$N$14=9,\"MTK\",IF('4B'!$N$14=10,\"IPA\",IF('4B'!$N$14=11,\"IPS\",IF('4B'!$N$14=12,\"SBK\",IF('4B'!$N$14=13,\"PJK\",IF('4B'!$N$14=14,\"BD\",IF('4B'!$N$14=15,\"BIG\",IF('4B'!$N$14=16,\"AWJ\",IF('4B'!$N$14=17,\"NW\",IF('4B'!$N$14=18,\"SRF\",IF('4B'!$N$14=19,\"PG\",IF('4B'!$N$14=20,\"XTR\",””))))))))))))))))))))","v":"TMTIK"},null,{"$f":"IF('4A'!$D$26=1,\"TMTIK\",IF('4A'!$D$26=2,\"AA\",IF('4A'!$D$26=3,\"QH\",IF('4A'!$D$26=4,\"FQ\",IF('4A'!$D$26=5,\"SKI\",IF('4A'!$D$26=6,\"PKN\",IF('4A'!$D$26=7,\"BID\",IF('4A'!$D$26=8,\"BA\",IF('4A'!$D$26=9,\"MTK\",IF('4A'!$D$26=10,\"IPA\",IF('4A'!$D$26=11,\"IPS\",IF('4A'!$D$26=12,\"SBK\",IF('4A'!$D$26=13,\"PJK\",IF('4A'!$D$26=14,\"BD\",IF('4A'!$D$26=15,\"BIG\",IF('4A'!$D$26=16,\"AWJ\",IF('4A'!$D$26=17,\"NW\",IF('4A'!$D$26=18,\"SRF\",IF('4A'!$D$26=19,\"PG\",IF('4A'!$D$26=20,\"XTR\",””))))))))))))))))))))","v":{"$error":"#NAME?"}},{"$f":"IF('4B'!$D$26=1,\"TMTIK\",IF('4B'!$D$26=2,\"AA\",IF('4B'!$D$26=3,\"QH\",IF('4B'!$D$26=4,\"FQ\",IF('4B'!$D$26=5,\"SKI\",IF('4B'!$D$26=6,\"PKN\",IF('4B'!$D$26=7,\"BID\",IF('4B'!$D$26=8,\"BA\",IF('4B'!$D$26=9,\"MTK\",IF('4B'!$D$26=10,\"IPA\",IF('4B'!$D$26=11,\"IPS\",IF('4B'!$D$26=12,\"SBK\",IF('4B'!$D$26=13,\"PJK\",IF('4B'!$D$26=14,\"BD\",IF('4B'!$D$26=15,\"BIG\",IF('4B'!$D$26=16,\"AWJ\",IF('4B'!$D$26=17,\"NW\",IF('4B'!$D$26=18,\"SRF\",IF('4B'!$D$26=19,\"PG\",IF('4B'!$D$26=20,\"XTR\",””))))))))))))))))))))","v":{"$error":"#NAME?"}}]
[6,{"$f":"IF('4A'!$D$15=1,\"TMTIK\",IF('4A'!$D$15=2,\"AA\",IF('4A'!$D$15=3,\"QH\",IF('4A'!$D$15=4,\"FQ\",IF('4A'!$D$15=5,\"SKI\",IF('4A'!$D$15=6,\"PKN\",IF('4A'!$D$15=7,\"BID\",IF('4A'!$D$15=8,\"BA\",IF('4A'!$D$15=9,\"MTK\",IF('4A'!$D$15=10,\"IPA\",IF('4A'!$D$15=11,\"IPS\",IF('4A'!$D$15=12,\"SBK\",IF('4A'!$D$15=13,\"PJK\",IF('4A'!$D$15=14,\"BD\",IF('4A'!$D$15=15,\"BIG\",IF('4A'!$D$15=16,\"AWJ\",IF('4A'!$D$15=17,\"NW\",IF('4A'!$D$15=18,\"SRF\",IF('4A'!$D$15=19,\"PG\",IF('4A'!$D$15=20,\"XTR\",””))))))))))))))))))))","v":"AWJ"},{"$f":"IF('4B'!$D$15=1,\"TMTIK\",IF('4B'!$D$15=2,\"AA\",IF('4B'!$D$15=3,\"QH\",IF('4B'!$D$15=4,\"FQ\",IF('4B'!$D$15=5,\"SKI\",IF('4B'!$D$15=6,\"PKN\",IF('4B'!$D$15=7,\"BID\",IF('4B'!$D$15=8,\"BA\",IF('4B'!$D$15=9,\"MTK\",IF('4B'!$D$15=10,\"IPA\",IF('4B'!$D$15=11,\"IPS\",IF('4B'!$D$15=12,\"SBK\",IF('4B'!$D$15=13,\"PJK\",IF('4B'!$D$15=14,\"BD\",IF('4B'!$D$15=15,\"BIG\",IF('4B'!$D$15=16,\"AWJ\",IF('4B'!$D$15=17,\"NW\",IF('4B'!$D$15=18,\"SRF\",IF('4B'!$D$15=19,\"PG\",IF('4B'!$D$15=20,\"XTR\",””))))))))))))))))))))","v":"FQ"},null,{"$f":"IF('4A'!$F$15=1,\"TMTIK\",IF('4A'!$F$15=2,\"AA\",IF('4A'!$F$15=3,\"QH\",IF('4A'!$F$15=4,\"FQ\",IF('4A'!$F$15=5,\"SKI\",IF('4A'!$F$15=6,\"PKN\",IF('4A'!$F$15=7,\"BID\",IF('4A'!$F$15=8,\"BA\",IF('4A'!$F$15=9,\"MTK\",IF('4A'!$F$15=10,\"IPA\",IF('4A'!$F$15=11,\"IPS\",IF('4A'!$F$15=12,\"SBK\",IF('4A'!$F$15=13,\"PJK\",IF('4A'!$F$15=14,\"BD\",IF('4A'!$F$15=15,\"BIG\",IF('4A'!$F$15=16,\"AWJ\",IF('4A'!$F$15=17,\"NW\",IF('4A'!$F$15=18,\"SRF\",IF('4A'!$F$15=19,\"PG\",IF('4A'!$F$15=20,\"XTR\",””))))))))))))))))))))","v":"SKI"},{"$f":"IF('4B'!$F$15=1,\"TMTIK\",IF('4B'!$F$15=2,\"AA\",IF('4B'!$F$15=3,\"QH\",IF('4B'!$F$15=4,\"FQ\",IF('4B'!$F$15=5,\"SKI\",IF('4B'!$F$15=6,\"PKN\",IF('4B'!$F$15=7,\"BID\",IF('4B'!$F$15=8,\"BA\",IF('4B'!$F$15=9,\"MTK\",IF('4B'!$F$15=10,\"IPA\",IF('4B'!$F$15=11,\"IPS\",IF('4B'!$F$15=12,\"SBK\",IF('4B'!$F$15=13,\"PJK\",IF('4B'!$F$15=14,\"BD\",IF('4B'!$F$15=15,\"BIG\",IF('4B'!$F$15=16,\"AWJ\",IF('4B'!$F$15=17,\"NW\",IF('4B'!$F$15=18,\"SRF\",IF('4B'!$F$15=19,\"PG\",IF('4B'!$F$15=20,\"XTR\",””))))))))))))))))))))","v":"AA"},null,{"$f":"IF('4A'!$H$15=1,\"TMTIK\",IF('4A'!$H$15=2,\"AA\",IF('4A'!$H$15=3,\"QH\",IF('4A'!$H$15=4,\"FQ\",IF('4A'!$H$15=5,\"SKI\",IF('4A'!$H$15=6,\"PKN\",IF('4A'!$H$15=7,\"BID\",IF('4A'!$H$15=8,\"BA\",IF('4A'!$H$15=9,\"MTK\",IF('4A'!$H$15=10,\"IPA\",IF('4A'!$H$15=11,\"IPS\",IF('4A'!$H$15=12,\"SBK\",IF('4A'!$H$15=13,\"PJK\",IF('4A'!$H$15=14,\"BD\",IF('4A'!$H$15=15,\"BIG\",IF('4A'!$H$15=16,\"AWJ\",IF('4A'!$H$15=17,\"NW\",IF('4A'!$H$15=18,\"SRF\",IF('4A'!$H$15=19,\"PG\",IF('4A'!$H$15=20,\"XTR\",””))))))))))))))))))))","v":"TMTIK"},{"$f":"IF('4B'!$H$15=1,\"TMTIK\",IF('4B'!$H$15=2,\"AA\",IF('4B'!$H$15=3,\"QH\",IF('4B'!$H$15=4,\"FQ\",IF('4B'!$H$15=5,\"SKI\",IF('4B'!$H$15=6,\"PKN\",IF('4B'!$H$15=7,\"BID\",IF('4B'!$H$15=8,\"BA\",IF('4B'!$H$15=9,\"MTK\",IF('4B'!$H$15=10,\"IPA\",IF('4B'!$H$15=11,\"IPS\",IF('4B'!$H$15=12,\"SBK\",IF('4B'!$H$15=13,\"PJK\",IF('4B'!$H$15=14,\"BD\",IF('4B'!$H$15=15,\"BIG\",IF('4B'!$H$15=16,\"AWJ\",IF('4B'!$H$15=17,\"NW\",IF('4B'!$H$15=18,\"SRF\",IF('4B'!$H$15=19,\"PG\",IF('4B'!$H$15=20,\"XTR\",””))))))))))))))))))))","v":"TMTIK"},null,{"$f":"IF('4A'!$J$15=1,\"TMTIK\",IF('4A'!$J$15=2,\"AA\",IF('4A'!$J$15=3,\"QH\",IF('4A'!$J$15=4,\"FQ\",IF('4A'!$J$15=5,\"SKI\",IF('4A'!$J$15=6,\"PKN\",IF('4A'!$J$15=7,\"BID\",IF('4A'!$J$15=8,\"BA\",IF('4A'!$J$15=9,\"MTK\",IF('4A'!$J$15=10,\"IPA\",IF('4A'!$J$15=11,\"IPS\",IF('4A'!$J$15=12,\"SBK\",IF('4A'!$J$15=13,\"PJK\",IF('4A'!$J$15=14,\"BD\",IF('4A'!$J$15=15,\"BIG\",IF('4A'!$J$15=16,\"AWJ\",IF('4A'!$J$15=17,\"NW\",IF('4A'!$J$15=18,\"SRF\",IF('4A'!$J$15=19,\"PG\",IF('4A'!$J$15=20,\"XTR\",””))))))))))))))))))))","v":"QH"},{"$f":"IF('4B'!$J$15=1,\"TMTIK\",IF('4B'!$J$15=2,\"AA\",IF('4B'!$J$15=3,\"QH\",IF('4B'!$J$15=4,\"FQ\",IF('4B'!$J$15=5,\"SKI\",IF('4B'!$J$15=6,\"PKN\",IF('4B'!$J$15=7,\"BID\",IF('4B'!$J$15=8,\"BA\",IF('4B'!$J$15=9,\"MTK\",IF('4B'!$J$15=10,\"IPA\",IF('4B'!$J$15=11,\"IPS\",IF('4B'!$J$15=12,\"SBK\",IF('4B'!$J$15=13,\"PJK\",IF('4B'!$J$15=14,\"BD\",IF('4B'!$J$15=15,\"BIG\",IF('4B'!$J$15=16,\"AWJ\",IF('4B'!$J$15=17,\"NW\",IF('4B'!$J$15=18,\"SRF\",IF('4B'!$J$15=19,\"PG\",IF('4B'!$J$15=20,\"XTR\",””))))))))))))))))))))","v":"BA"},null,{"$f":"IF('4A'!$N$15=1,\"TMTIK\",IF('4A'!$N$15=2,\"AA\",IF('4A'!$N$15=3,\"QH\",IF('4A'!$N$15=4,\"FQ\",IF('4A'!$N$15=5,\"SKI\",IF('4A'!$N$15=6,\"PKN\",IF('4A'!$N$15=7,\"BID\",IF('4A'!$N$15=8,\"BA\",IF('4A'!$N$15=9,\"MTK\",IF('4A'!$N$15=10,\"IPA\",IF('4A'!$N$15=11,\"IPS\",IF('4A'!$N$15=12,\"SBK\",IF('4A'!$N$15=13,\"PJK\",IF('4A'!$N$15=14,\"BD\",IF('4A'!$N$15=15,\"BIG\",IF('4A'!$N$15=16,\"AWJ\",IF('4A'!$N$15=17,\"NW\",IF('4A'!$N$15=18,\"SRF\",IF('4A'!$N$15=19,\"PG\",IF('4A'!$N$15=20,\"XTR\",””))))))))))))))))))))","v":"BA"},{"$f":"IF('4B'!$N$15=1,\"TMTIK\",IF('4B'!$N$15=2,\"AA\",IF('4B'!$N$15=3,\"QH\",IF('4B'!$N$15=4,\"FQ\",IF('4B'!$N$15=5,\"SKI\",IF('4B'!$N$15=6,\"PKN\",IF('4B'!$N$15=7,\"BID\",IF('4B'!$N$15=8,\"BA\",IF('4B'!$N$15=9,\"MTK\",IF('4B'!$N$15=10,\"IPA\",IF('4B'!$N$15=11,\"IPS\",IF('4B'!$N$15=12,\"SBK\",IF('4B'!$N$15=13,\"PJK\",IF('4B'!$N$15=14,\"BD\",IF('4B'!$N$15=15,\"BIG\",IF('4B'!$N$15=16,\"AWJ\",IF('4B'!$N$15=17,\"NW\",IF('4B'!$N$15=18,\"SRF\",IF('4B'!$N$15=19,\"PG\",IF('4B'!$N$15=20,\"XTR\",””))))))))))))))))))))","v":"TMTIK"},null,{"$f":"IF('4A'!$D$27=1,\"TMTIK\",IF('4A'!$D$27=2,\"AA\",IF('4A'!$D$27=3,\"QH\",IF('4A'!$D$27=4,\"FQ\",IF('4A'!$D$27=5,\"SKI\",IF('4A'!$D$27=6,\"PKN\",IF('4A'!$D$27=7,\"BID\",IF('4A'!$D$27=8,\"BA\",IF('4A'!$D$27=9,\"MTK\",IF('4A'!$D$27=10,\"IPA\",IF('4A'!$D$27=11,\"IPS\",IF('4A'!$D$27=12,\"SBK\",IF('4A'!$D$27=13,\"PJK\",IF('4A'!$D$27=14,\"BD\",IF('4A'!$D$27=15,\"BIG\",IF('4A'!$D$27=16,\"AWJ\",IF('4A'!$D$27=17,\"NW\",IF('4A'!$D$27=18,\"SRF\",IF('4A'!$D$27=19,\"PG\",IF('4A'!$D$27=20,\"XTR\",””))))))))))))))))))))","v":{"$error":"#NAME?"}},{"$f":"IF('4B'!$D$27=1,\"TMTIK\",IF('4B'!$D$27=2,\"AA\",IF('4B'!$D$27=3,\"QH\",IF('4B'!$D$27=4,\"FQ\",IF('4B'!$D$27=5,\"SKI\",IF('4B'!$D$27=6,\"PKN\",IF('4B'!$D$27=7,\"BID\",IF('4B'!$D$27=8,\"BA\",IF('4B'!$D$27=9,\"MTK\",IF('4B'!$D$27=10,\"IPA\",IF('4B'!$D$27=11,\"IPS\",IF('4B'!$D$27=12,\"SBK\",IF('4B'!$D$27=13,\"PJK\",IF('4B'!$D$27=14,\"BD\",IF('4B'!$D$27=15,\"BIG\",IF('4B'!$D$27=16,\"AWJ\",IF('4B'!$D$27=17,\"NW\",IF('4B'!$D$27=18,\"SRF\",IF('4B'!$D$27=19,\"PG\",IF('4B'!$D$27=20,\"XTR\",””))))))))))))))))))))","v":{"$error":"#NAME?"}}]
[7,{"$f":"IF('4A'!$D$17=1,\"TMTIK\",IF('4A'!$D$17=2,\"AA\",IF('4A'!$D$17=3,\"QH\",IF('4A'!$D$17=4,\"FQ\",IF('4A'!$D$17=5,\"SKI\",IF('4A'!$D$17=6,\"PKN\",IF('4A'!$D$17=7,\"BID\",IF('4A'!$D$17=8,\"BA\",IF('4A'!$D$17=9,\"MTK\",IF('4A'!$D$17=10,\"IPA\",IF('4A'!$D$17=11,\"IPS\",IF('4A'!$D$17=12,\"SBK\",IF('4A'!$D$17=13,\"PJK\",IF('4A'!$D$17=14,\"BD\",IF('4A'!$D$17=15,\"BIG\",IF('4A'!$D$17=16,\"AWJ\",IF('4A'!$D$17=17,\"NW\",IF('4A'!$D$17=18,\"SRF\",IF('4A'!$D$17=19,\"PG\",IF('4A'!$D$17=20,\"XTR\",””))))))))))))))))))))","v":"FQ"},{"$f":"IF('4B'!$D$17=1,\"TMTIK\",IF('4B'!$D$17=2,\"AA\",IF('4B'!$D$17=3,\"QH\",IF('4B'!$D$17=4,\"FQ\",IF('4B'!$D$17=5,\"SKI\",IF('4B'!$D$17=6,\"PKN\",IF('4B'!$D$17=7,\"BID\",IF('4B'!$D$17=8,\"BA\",IF('4B'!$D$17=9,\"MTK\",IF('4B'!$D$17=10,\"IPA\",IF('4B'!$D$17=11,\"IPS\",IF('4B'!$D$17=12,\"SBK\",IF('4B'!$D$17=13,\"PJK\",IF('4B'!$D$17=14,\"BD\",IF('4B'!$D$17=15,\"BIG\",IF('4B'!$D$17=16,\"AWJ\",IF('4B'!$D$17=17,\"NW\",IF('4B'!$D$17=18,\"SRF\",IF('4B'!$D$17=19,\"PG\",IF('4B'!$D$17=20,\"XTR\",””))))))))))))))))))))","v":"AWJ"},null,{"$f":"IF('4A'!$F$17=1,\"TMTIK\",IF('4A'!$F$17=2,\"AA\",IF('4A'!$F$17=3,\"QH\",IF('4A'!$F$17=4,\"FQ\",IF('4A'!$F$17=5,\"SKI\",IF('4A'!$F$17=6,\"PKN\",IF('4A'!$F$17=7,\"BID\",IF('4A'!$F$17=8,\"BA\",IF('4A'!$F$17=9,\"MTK\",IF('4A'!$F$17=10,\"IPA\",IF('4A'!$F$17=11,\"IPS\",IF('4A'!$F$17=12,\"SBK\",IF('4A'!$F$17=13,\"PJK\",IF('4A'!$F$17=14,\"BD\",IF('4A'!$F$17=15,\"BIG\",IF('4A'!$F$17=16,\"AWJ\",IF('4A'!$F$17=17,\"NW\",IF('4A'!$F$17=18,\"SRF\",IF('4A'!$F$17=19,\"PG\",IF('4A'!$F$17=20,\"XTR\",””))))))))))))))))))))","v":"TMTIK"},{"$f":"IF('4B'!$F$17=1,\"TMTIK\",IF('4B'!$F$17=2,\"AA\",IF('4B'!$F$17=3,\"QH\",IF('4B'!$F$17=4,\"FQ\",IF('4B'!$F$17=5,\"SKI\",IF('4B'!$F$17=6,\"PKN\",IF('4B'!$F$17=7,\"BID\",IF('4B'!$F$17=8,\"BA\",IF('4B'!$F$17=9,\"MTK\",IF('4B'!$F$17=10,\"IPA\",IF('4B'!$F$17=11,\"IPS\",IF('4B'!$F$17=12,\"SBK\",IF('4B'!$F$17=13,\"PJK\",IF('4B'!$F$17=14,\"BD\",IF('4B'!$F$17=15,\"BIG\",IF('4B'!$F$17=16,\"AWJ\",IF('4B'!$F$17=17,\"NW\",IF('4B'!$F$17=18,\"SRF\",IF('4B'!$F$17=19,\"PG\",IF('4B'!$F$17=20,\"XTR\",””))))))))))))))))))))","v":"BD"},null,{"$f":"IF('4A'!$H$17=1,\"TMTIK\",IF('4A'!$H$17=2,\"AA\",IF('4A'!$H$17=3,\"QH\",IF('4A'!$H$17=4,\"FQ\",IF('4A'!$H$17=5,\"SKI\",IF('4A'!$H$17=6,\"PKN\",IF('4A'!$H$17=7,\"BID\",IF('4A'!$H$17=8,\"BA\",IF('4A'!$H$17=9,\"MTK\",IF('4A'!$H$17=10,\"IPA\",IF('4A'!$H$17=11,\"IPS\",IF('4A'!$H$17=12,\"SBK\",IF('4A'!$H$17=13,\"PJK\",IF('4A'!$H$17=14,\"BD\",IF('4A'!$H$17=15,\"BIG\",IF('4A'!$H$17=16,\"AWJ\",IF('4A'!$H$17=17,\"NW\",IF('4A'!$H$17=18,\"SRF\",IF('4A'!$H$17=19,\"PG\",IF('4A'!$H$17=20,\"XTR\",””))))))))))))))))))))","v":"TMTIK"},{"$f":"IF('4B'!$H$17=1,\"TMTIK\",IF('4B'!$H$17=2,\"AA\",IF('4B'!$H$17=3,\"QH\",IF('4B'!$H$17=4,\"FQ\",IF('4B'!$H$17=5,\"SKI\",IF('4B'!$H$17=6,\"PKN\",IF('4B'!$H$17=7,\"BID\",IF('4B'!$H$17=8,\"BA\",IF('4B'!$H$17=9,\"MTK\",IF('4B'!$H$17=10,\"IPA\",IF('4B'!$H$17=11,\"IPS\",IF('4B'!$H$17=12,\"SBK\",IF('4B'!$H$17=13,\"PJK\",IF('4B'!$H$17=14,\"BD\",IF('4B'!$H$17=15,\"BIG\",IF('4B'!$H$17=16,\"AWJ\",IF('4B'!$H$17=17,\"NW\",IF('4B'!$H$17=18,\"SRF\",IF('4B'!$H$17=19,\"PG\",IF('4B'!$H$17=20,\"XTR\",””))))))))))))))))))))","v":"TMTIK"},null,{"$f":"IF('4A'!$J$17=1,\"TMTIK\",IF('4A'!$J$17=2,\"AA\",IF('4A'!$J$17=3,\"QH\",IF('4A'!$J$17=4,\"FQ\",IF('4A'!$J$17=5,\"SKI\",IF('4A'!$J$17=6,\"PKN\",IF('4A'!$J$17=7,\"BID\",IF('4A'!$J$17=8,\"BA\",IF('4A'!$J$17=9,\"MTK\",IF('4A'!$J$17=10,\"IPA\",IF('4A'!$J$17=11,\"IPS\",IF('4A'!$J$17=12,\"SBK\",IF('4A'!$J$17=13,\"PJK\",IF('4A'!$J$17=14,\"BD\",IF('4A'!$J$17=15,\"BIG\",IF('4A'!$J$17=16,\"AWJ\",IF('4A'!$J$17=17,\"NW\",IF('4A'!$J$17=18,\"SRF\",IF('4A'!$J$17=19,\"PG\",IF('4A'!$J$17=20,\"XTR\",””))))))))))))))))))))","v":"TMTIK"},{"$f":"IF('4B'!$J$17=1,\"TMTIK\",IF('4B'!$J$17=2,\"AA\",IF('4B'!$J$17=3,\"QH\",IF('4B'!$J$17=4,\"FQ\",IF('4B'!$J$17=5,\"SKI\",IF('4B'!$J$17=6,\"PKN\",IF('4B'!$J$17=7,\"BID\",IF('4B'!$J$17=8,\"BA\",IF('4B'!$J$17=9,\"MTK\",IF('4B'!$J$17=10,\"IPA\",IF('4B'!$J$17=11,\"IPS\",IF('4B'!$J$17=12,\"SBK\",IF('4B'!$J$17=13,\"PJK\",IF('4B'!$J$17=14,\"BD\",IF('4B'!$J$17=15,\"BIG\",IF('4B'!$J$17=16,\"AWJ\",IF('4B'!$J$17=17,\"NW\",IF('4B'!$J$17=18,\"SRF\",IF('4B'!$J$17=19,\"PG\",IF('4B'!$J$17=20,\"XTR\",””))))))))))))))))))))","v":"TMTIK"},null,{"$f":"IF('4A'!$N$17=1,\"TMTIK\",IF('4A'!$N$17=2,\"AA\",IF('4A'!$N$17=3,\"QH\",IF('4A'!$N$17=4,\"FQ\",IF('4A'!$N$17=5,\"SKI\",IF('4A'!$N$17=6,\"PKN\",IF('4A'!$N$17=7,\"BID\",IF('4A'!$N$17=8,\"BA\",IF('4A'!$N$17=9,\"MTK\",IF('4A'!$N$17=10,\"IPA\",IF('4A'!$N$17=11,\"IPS\",IF('4A'!$N$17=12,\"SBK\",IF('4A'!$N$17=13,\"PJK\",IF('4A'!$N$17=14,\"BD\",IF('4A'!$N$17=15,\"BIG\",IF('4A'!$N$17=16,\"AWJ\",IF('4A'!$N$17=17,\"NW\",IF('4A'!$N$17=18,\"SRF\",IF('4A'!$N$17=19,\"PG\",IF('4A'!$N$17=20,\"XTR\",””))))))))))))))))))))","v":{"$error":"#NAME?"}},{"$f":"IF('4B'!$N$17=1,\"TMTIK\",IF('4B'!$N$17=2,\"AA\",IF('4B'!$N$17=3,\"QH\",IF('4B'!$N$17=4,\"FQ\",IF('4B'!$N$17=5,\"SKI\",IF('4B'!$N$17=6,\"PKN\",IF('4B'!$N$17=7,\"BID\",IF('4B'!$N$17=8,\"BA\",IF('4B'!$N$17=9,\"MTK\",IF('4B'!$N$17=10,\"IPA\",IF('4B'!$N$17=11,\"IPS\",IF('4B'!$N$17=12,\"SBK\",IF('4B'!$N$17=13,\"PJK\",IF('4B'!$N$17=14,\"BD\",IF('4B'!$N$17=15,\"BIG\",IF('4B'!$N$17=16,\"AWJ\",IF('4B'!$N$17=17,\"NW\",IF('4B'!$N$17=18,\"SRF\",IF('4B'!$N$17=19,\"PG\",IF('4B'!$N$17=20,\"XTR\",””))))))))))))))))))))","v":{"$error":"#NAME?"}}]
[8,{"$f":"IF('4A'!$D$18=1,\"TMTIK\",IF('4A'!$D$18=2,\"AA\",IF('4A'!$D$18=3,\"QH\",IF('4A'!$D$18=4,\"FQ\",IF('4A'!$D$18=5,\"SKI\",IF('4A'!$D$18=6,\"PKN\",IF('4A'!$D$18=7,\"BID\",IF('4A'!$D$18=8,\"BA\",IF('4A'!$D$18=9,\"MTK\",IF('4A'!$D$18=10,\"IPA\",IF('4A'!$D$18=11,\"IPS\",IF('4A'!$D$18=12,\"SBK\",IF('4A'!$D$18=13,\"PJK\",IF('4A'!$D$18=14,\"BD\",IF('4A'!$D$18=15,\"BIG\",IF('4A'!$D$18=16,\"AWJ\",IF('4A'!$D$18=17,\"NW\",IF('4A'!$D$18=18,\"SRF\",IF('4A'!$D$18=19,\"PG\",IF('4A'!$D$18=20,\"XTR\",””))))))))))))))))))))","v":"FQ"},{"$f":"IF('4B'!$D$18=1,\"TMTIK\",IF('4B'!$D$18=2,\"AA\",IF('4B'!$D$18=3,\"QH\",IF('4B'!$D$18=4,\"FQ\",IF('4B'!$D$18=5,\"SKI\",IF('4B'!$D$18=6,\"PKN\",IF('4B'!$D$18=7,\"BID\",IF('4B'!$D$18=8,\"BA\",IF('4B'!$D$18=9,\"MTK\",IF('4B'!$D$18=10,\"IPA\",IF('4B'!$D$18=11,\"IPS\",IF('4B'!$D$18=12,\"SBK\",IF('4B'!$D$18=13,\"PJK\",IF('4B'!$D$18=14,\"BD\",IF('4B'!$D$18=15,\"BIG\",IF('4B'!$D$18=16,\"AWJ\",IF('4B'!$D$18=17,\"NW\",IF('4B'!$D$18=18,\"SRF\",IF('4B'!$D$18=19,\"PG\",IF('4B'!$D$18=20,\"XTR\",””))))))))))))))))))))","v":"AWJ"},null,{"$f":"IF('4A'!$F$18=1,\"TMTIK\",IF('4A'!$F$18=2,\"AA\",IF('4A'!$F$18=3,\"QH\",IF('4A'!$F$18=4,\"FQ\",IF('4A'!$F$18=5,\"SKI\",IF('4A'!$F$18=6,\"PKN\",IF('4A'!$F$18=7,\"BID\",IF('4A'!$F$18=8,\"BA\",IF('4A'!$F$18=9,\"MTK\",IF('4A'!$F$18=10,\"IPA\",IF('4A'!$F$18=11,\"IPS\",IF('4A'!$F$18=12,\"SBK\",IF('4A'!$F$18=13,\"PJK\",IF('4A'!$F$18=14,\"BD\",IF('4A'!$F$18=15,\"BIG\",IF('4A'!$F$18=16,\"AWJ\",IF('4A'!$F$18=17,\"NW\",IF('4A'!$F$18=18,\"SRF\",IF('4A'!$F$18=19,\"PG\",IF('4A'!$F$18=20,\"XTR\",””))))))))))))))))))))","v":"TMTIK"},{"$f":"IF('4B'!$F$18=1,\"TMTIK\",IF('4B'!$F$18=2,\"AA\",IF('4B'!$F$18=3,\"QH\",IF('4B'!$F$18=4,\"FQ\",IF('4B'!$F$18=5,\"SKI\",IF('4B'!$F$18=6,\"PKN\",IF('4B'!$F$18=7,\"BID\",IF('4B'!$F$18=8,\"BA\",IF('4B'!$F$18=9,\"MTK\",IF('4B'!$F$18=10,\"IPA\",IF('4B'!$F$18=11,\"IPS\",IF('4B'!$F$18=12,\"SBK\",IF('4B'!$F$18=13,\"PJK\",IF('4B'!$F$18=14,\"BD\",IF('4B'!$F$18=15,\"BIG\",IF('4B'!$F$18=16,\"AWJ\",IF('4B'!$F$18=17,\"NW\",IF('4B'!$F$18=18,\"SRF\",IF('4B'!$F$18=19,\"PG\",IF('4B'!$F$18=20,\"XTR\",””))))))))))))))))))))","v":"BD"},null,{"$f":"IF('4A'!$H$18=1,\"TMTIK\",IF('4A'!$H$18=2,\"AA\",IF('4A'!$H$18=3,\"QH\",IF('4A'!$H$18=4,\"FQ\",IF('4A'!$H$18=5,\"SKI\",IF('4A'!$H$18=6,\"PKN\",IF('4A'!$H$18=7,\"BID\",IF('4A'!$H$18=8,\"BA\",IF('4A'!$H$18=9,\"MTK\",IF('4A'!$H$18=10,\"IPA\",IF('4A'!$H$18=11,\"IPS\",IF('4A'!$H$18=12,\"SBK\",IF('4A'!$H$18=13,\"PJK\",IF('4A'!$H$18=14,\"BD\",IF('4A'!$H$18=15,\"BIG\",IF('4A'!$H$18=16,\"AWJ\",IF('4A'!$H$18=17,\"NW\",IF('4A'!$H$18=18,\"SRF\",IF('4A'!$H$18=19,\"PG\",IF('4A'!$H$18=20,\"XTR\",””))))))))))))))))))))","v":"TMTIK"},{"$f":"IF('4B'!$H$18=1,\"TMTIK\",IF('4B'!$H$18=2,\"AA\",IF('4B'!$H$18=3,\"QH\",IF('4B'!$H$18=4,\"FQ\",IF('4B'!$H$18=5,\"SKI\",IF('4B'!$H$18=6,\"PKN\",IF('4B'!$H$18=7,\"BID\",IF('4B'!$H$18=8,\"BA\",IF('4B'!$H$18=9,\"MTK\",IF('4B'!$H$18=10,\"IPA\",IF('4B'!$H$18=11,\"IPS\",IF('4B'!$H$18=12,\"SBK\",IF('4B'!$H$18=13,\"PJK\",IF('4B'!$H$18=14,\"BD\",IF('4B'!$H$18=15,\"BIG\",IF('4B'!$H$18=16,\"AWJ\",IF('4B'!$H$18=17,\"NW\",IF('4B'!$H$18=18,\"SRF\",IF('4B'!$H$18=19,\"PG\",IF('4B'!$H$18=20,\"XTR\",””))))))))))))))))))))","v":"TMTIK"},null,{"$f":"IF('4A'!$J$18=1,\"TMTIK\",IF('4A'!$J$18=2,\"AA\",IF('4A'!$J$18=3,\"QH\",IF('4A'!$J$18=4,\"FQ\",IF('4A'!$J$18=5,\"SKI\",IF('4A'!$J$18=6,\"PKN\",IF('4A'!$J$18=7,\"BID\",IF('4A'!$J$18=8,\"BA\",IF('4A'!$J$18=9,\"MTK\",IF('4A'!$J$18=10,\"IPA\",IF('4A'!$J$18=11,\"IPS\",IF('4A'!$J$18=12,\"SBK\",IF('4A'!$J$18=13,\"PJK\",IF('4A'!$J$18=14,\"BD\",IF('4A'!$J$18=15,\"BIG\",IF('4A'!$J$18=16,\"AWJ\",IF('4A'!$J$18=17,\"NW\",IF('4A'!$J$18=18,\"SRF\",IF('4A'!$J$18=19,\"PG\",IF('4A'!$J$18=20,\"XTR\",””))))))))))))))))))))","v":"TMTIK"},{"$f":"IF('4B'!$J$18=1,\"TMTIK\",IF('4B'!$J$18=2,\"AA\",IF('4B'!$J$18=3,\"QH\",IF('4B'!$J$18=4,\"FQ\",IF('4B'!$J$18=5,\"SKI\",IF('4B'!$J$18=6,\"PKN\",IF('4B'!$J$18=7,\"BID\",IF('4B'!$J$18=8,\"BA\",IF('4B'!$J$18=9,\"MTK\",IF('4B'!$J$18=10,\"IPA\",IF('4B'!$J$18=11,\"IPS\",IF('4B'!$J$18=12,\"SBK\",IF('4B'!$J$18=13,\"PJK\",IF('4B'!$J$18=14,\"BD\",IF('4B'!$J$18=15,\"BIG\",IF('4B'!$J$18=16,\"AWJ\",IF('4B'!$J$18=17,\"NW\",IF('4B'!$J$18=18,\"SRF\",IF('4B'!$J$18=19,\"PG\",IF('4B'!$J$18=20,\"XTR\",””))))))))))))))))))))","v":"TMTIK"},null,{"$f":"IF('4A'!$N$18=1,\"TMTIK\",IF('4A'!$N$18=2,\"AA\",IF('4A'!$N$18=3,\"QH\",IF('4A'!$N$18=4,\"FQ\",IF('4A'!$N$18=5,\"SKI\",IF('4A'!$N$18=6,\"PKN\",IF('4A'!$N$18=7,\"BID\",IF('4A'!$N$18=8,\"BA\",IF('4A'!$N$18=9,\"MTK\",IF('4A'!$N$18=10,\"IPA\",IF('4A'!$N$18=11,\"IPS\",IF('4A'!$N$18=12,\"SBK\",IF('4A'!$N$18=13,\"PJK\",IF('4A'!$N$18=14,\"BD\",IF('4A'!$N$18=15,\"BIG\",IF('4A'!$N$18=16,\"AWJ\",IF('4A'!$N$18=17,\"NW\",IF('4A'!$N$18=18,\"SRF\",IF('4A'!$N$18=19,\"PG\",IF('4A'!$N$18=20,\"XTR\",””))))))))))))))))))))","v":{"$error":"#NAME?"}},{"$f":"IF('4B'!$N$18=1,\"TMTIK\",IF('4B'!$N$18=2,\"AA\",IF('4B'!$N$18=3,\"QH\",IF('4B'!$N$18=4,\"FQ\",IF('4B'!$N$18=5,\"SKI\",IF('4B'!$N$18=6,\"PKN\",IF('4B'!$N$18=7,\"BID\",IF('4B'!$N$18=8,\"BA\",IF('4B'!$N$18=9,\"MTK\",IF('4B'!$N$18=10,\"IPA\",IF('4B'!$N$18=11,\"IPS\",IF('4B'!$N$18=12,\"SBK\",IF('4B'!$N$18=13,\"PJK\",IF('4B'!$N$18=14,\"BD\",IF('4B'!$N$18=15,\"BIG\",IF('4B'!$N$18=16,\"AWJ\",IF('4B'!$N$18=17,\"NW\",IF('4B'!$N$18=18,\"SRF\",IF('4B'!$N$18=19,\"PG\",IF('4B'!$N$18=20,\"XTR\",””))))))))))))))))))))","v":{"$error":"#NAME?"}}]
[]
["NO","KELAS 5"]
[null,"SENIN",null,null,"SELASA",null,null,"RABU",null,null,"KAMIS",null,null,"JUMAT",null,null,"SABTU"]
[null,"A","B","C","A","B","C","A","B","C","A","B","C","A","B","C","A","B","C"]
[1,{"$f":"IF('5A'!$D$9=1,\"TMTIK\",IF('5A'!$D$9=2,\"AA\",IF('5A'!$D$9=3,\"QH\",IF('5A'!$D$9=4,\"FQ\",IF('5A'!$D$9=5,\"SKI\",IF('5A'!$D$9=6,\"PKN\",IF('5A'!$D$9=7,\"BID\",IF('5A'!$D$9=8,\"BA\",IF('5A'!$D$9=9,\"MTK\",IF('5A'!$D$9=10,\"IPA\",IF('5A'!$D$9=11,\"IPS\",IF('5A'!$D$9=12,\"SBK\",IF('5A'!$D$9=13,\"PJK\",IF('5A'!$D$9=14,\"BD\",IF('5A'!$D$9=15,\"BIG\",IF('5A'!$D$9=16,\"AWJ\",IF('5A'!$D$9=17,\"NW\",IF('5A'!$D$9=18,\"SRF\",IF('5A'!$D$9=19,\"PG\",IF('5A'!$D$9=20,\"XTR\",””))))))))))))))))))))","v":"BA"},{"$f":"IF('5B'!$D$9=1,\"TMTIK\",IF('5B'!$D$9=2,\"AA\",IF('5B'!$D$9=3,\"QH\",IF('5B'!$D$9=4,\"FQ\",IF('5B'!$D$9=5,\"SKI\",IF('5B'!$D$9=6,\"PKN\",IF('5B'!$D$9=7,\"BID\",IF('5B'!$D$9=8,\"BA\",IF('5B'!$D$9=9,\"MTK\",IF('5B'!$D$9=10,\"IPA\",IF('5B'!$D$9=11,\"IPS\",IF('5B'!$D$9=12,\"SBK\",IF('5B'!$D$9=13,\"PJK\",IF('5B'!$D$9=14,\"BD\",IF('5B'!$D$9=15,\"BIG\",IF('5B'!$D$9=16,\"AWJ\",IF('5B'!$D$9=17,\"NW\",IF('5B'!$D$9=18,\"SRF\",IF('5B'!$D$9=19,\"PG\",IF('5B'!$D$9=20,\"XTR\",””))))))))))))))))))))","v":"MTK"},null,{"$f":"IF('5A'!$F$9=1,\"TMTIK\",IF('5A'!$F$9=2,\"AA\",IF('5A'!$F$9=3,\"QH\",IF('5A'!$F$9=4,\"FQ\",IF('5A'!$F$9=5,\"SKI\",IF('5A'!$F$9=6,\"PKN\",IF('5A'!$F$9=7,\"BID\",IF('5A'!$F$9=8,\"BA\",IF('5A'!$F$9=9,\"MTK\",IF('5A'!$F$9=10,\"IPA\",IF('5A'!$F$9=11,\"IPS\",IF('5A'!$F$9=12,\"SBK\",IF('5A'!$F$9=13,\"PJK\",IF('5A'!$F$9=14,\"BD\",IF('5A'!$F$9=15,\"BIG\",IF('5A'!$F$9=16,\"AWJ\",IF('5A'!$F$9=17,\"NW\",IF('5A'!$F$9=18,\"SRF\",IF('5A'!$F$9=19,\"PG\",IF('5A'!$F$9=20,\"XTR\",””))))))))))))))))))))","v":"MTK"},{"$f":"IF('5B'!$F$9=1,\"TMTIK\",IF('5B'!$F$9=2,\"AA\",IF('5B'!$F$9=3,\"QH\",IF('5B'!$F$9=4,\"FQ\",IF('5B'!$F$9=5,\"SKI\",IF('5B'!$F$9=6,\"PKN\",IF('5B'!$F$9=7,\"BID\",IF('5B'!$F$9=8,\"BA\",IF('5B'!$F$9=9,\"MTK\",IF('5B'!$F$9=10,\"IPA\",IF('5B'!$F$9=11,\"IPS\",IF('5B'!$F$9=12,\"SBK\",IF('5B'!$F$9=13,\"PJK\",IF('5B'!$F$9=14,\"BD\",IF('5B'!$F$9=15,\"BIG\",IF('5B'!$F$9=16,\"AWJ\",IF('5B'!$F$9=17,\"NW\",IF('5B'!$F$9=18,\"SRF\",IF('5B'!$F$9=19,\"PG\",IF('5B'!$F$9=20,\"XTR\",””))))))))))))))))))))","v":"NW"},null,{"$f":"IF('5A'!$H$9=1,\"TMTIK\",IF('5A'!$H$9=2,\"AA\",IF('5A'!$H$9=3,\"QH\",IF('5A'!$H$9=4,\"FQ\",IF('5A'!$H$9=5,\"SKI\",IF('5A'!$H$9=6,\"PKN\",IF('5A'!$H$9=7,\"BID\",IF('5A'!$H$9=8,\"BA\",IF('5A'!$H$9=9,\"MTK\",IF('5A'!$H$9=10,\"IPA\",IF('5A'!$H$9=11,\"IPS\",IF('5A'!$H$9=12,\"SBK\",IF('5A'!$H$9=13,\"PJK\",IF('5A'!$H$9=14,\"BD\",IF('5A'!$H$9=15,\"BIG\",IF('5A'!$H$9=16,\"AWJ\",IF('5A'!$H$9=17,\"NW\",IF('5A'!$H$9=18,\"SRF\",IF('5A'!$H$9=19,\"PG\",IF('5A'!$H$9=20,\"XTR\",””))))))))))))))))))))","v":"PJK"},{"$f":"IF('5B'!$H$9=1,\"TMTIK\",IF('5B'!$H$9=2,\"AA\",IF('5B'!$H$9=3,\"QH\",IF('5B'!$H$9=4,\"FQ\",IF('5B'!$H$9=5,\"SKI\",IF('5B'!$H$9=6,\"PKN\",IF('5B'!$H$9=7,\"BID\",IF('5B'!$H$9=8,\"BA\",IF('5B'!$H$9=9,\"MTK\",IF('5B'!$H$9=10,\"IPA\",IF('5B'!$H$9=11,\"IPS\",IF('5B'!$H$9=12,\"SBK\",IF('5B'!$H$9=13,\"PJK\",IF('5B'!$H$9=14,\"BD\",IF('5B'!$H$9=15,\"BIG\",IF('5B'!$H$9=16,\"AWJ\",IF('5B'!$H$9=17,\"NW\",IF('5B'!$H$9=18,\"SRF\",IF('5B'!$H$9=19,\"PG\",IF('5B'!$H$9=20,\"XTR\",””))))))))))))))))))))","v":"MTK"},null,{"$f":"IF('5A'!$J$9=1,\"TMTIK\",IF('5A'!$J$9=2,\"AA\",IF('5A'!$J$9=3,\"QH\",IF('5A'!$J$9=4,\"FQ\",IF('5A'!$J$9=5,\"SKI\",IF('5A'!$J$9=6,\"PKN\",IF('5A'!$J$9=7,\"BID\",IF('5A'!$J$9=8,\"BA\",IF('5A'!$J$9=9,\"MTK\",IF('5A'!$J$9=10,\"IPA\",IF('5A'!$J$9=11,\"IPS\",IF('5A'!$J$9=12,\"SBK\",IF('5A'!$J$9=13,\"PJK\",IF('5A'!$J$9=14,\"BD\",IF('5A'!$J$9=15,\"BIG\",IF('5A'!$J$9=16,\"AWJ\",IF('5A'!$J$9=17,\"NW\",IF('5A'!$J$9=18,\"SRF\",IF('5A'!$J$9=19,\"PG\",IF('5A'!$J$9=20,\"XTR\",””))))))))))))))))))))","v":"MTK"},{"$f":"IF('5B'!$J$9=1,\"TMTIK\",IF('5B'!$J$9=2,\"AA\",IF('5B'!$J$9=3,\"QH\",IF('5B'!$J$9=4,\"FQ\",IF('5B'!$J$9=5,\"SKI\",IF('5B'!$J$9=6,\"PKN\",IF('5B'!$J$9=7,\"BID\",IF('5B'!$J$9=8,\"BA\",IF('5B'!$J$9=9,\"MTK\",IF('5B'!$J$9=10,\"IPA\",IF('5B'!$J$9=11,\"IPS\",IF('5B'!$J$9=12,\"SBK\",IF('5B'!$J$9=13,\"PJK\",IF('5B'!$J$9=14,\"BD\",IF('5B'!$J$9=15,\"BIG\",IF('5B'!$J$9=16,\"AWJ\",IF('5B'!$J$9=17,\"NW\",IF('5B'!$J$9=18,\"SRF\",IF('5B'!$J$9=19,\"PG\",IF('5B'!$J$9=20,\"XTR\",””))))))))))))))))))))","v":"PJK"},null,{"$f":"IF('5A'!$N$9=1,\"TMTIK\",IF('5A'!$N$9=2,\"AA\",IF('5A'!$N$9=3,\"QH\",IF('5A'!$N$9=4,\"FQ\",IF('5A'!$N$9=5,\"SKI\",IF('5A'!$N$9=6,\"PKN\",IF('5A'!$N$9=7,\"BID\",IF('5A'!$N$9=8,\"BA\",IF('5A'!$N$9=9,\"MTK\",IF('5A'!$N$9=10,\"IPA\",IF('5A'!$N$9=11,\"IPS\",IF('5A'!$N$9=12,\"SBK\",IF('5A'!$N$9=13,\"PJK\",IF('5A'!$N$9=14,\"BD\",IF('5A'!$N$9=15,\"BIG\",IF('5A'!$N$9=16,\"AWJ\",IF('5A'!$N$9=17,\"NW\",IF('5A'!$N$9=18,\"SRF\",IF('5A'!$N$9=19,\"PG\",IF('5A'!$N$9=20,\"XTR\",””))))))))))))))))))))","v":"SKI"},{"$f":"IF('5B'!$N$9=1,\"TMTIK\",IF('5B'!$N$9=2,\"AA\",IF('5B'!$N$9=3,\"QH\",IF('5B'!$N$9=4,\"FQ\",IF('5B'!$N$9=5,\"SKI\",IF('5B'!$N$9=6,\"PKN\",IF('5B'!$N$9=7,\"BID\",IF('5B'!$N$9=8,\"BA\",IF('5B'!$N$9=9,\"MTK\",IF('5B'!$N$9=10,\"IPA\",IF('5B'!$N$9=11,\"IPS\",IF('5B'!$N$9=12,\"SBK\",IF('5B'!$N$9=13,\"PJK\",IF('5B'!$N$9=14,\"BD\",IF('5B'!$N$9=15,\"BIG\",IF('5B'!$N$9=16,\"AWJ\",IF('5B'!$N$9=17,\"NW\",IF('5B'!$N$9=18,\"SRF\",IF('5B'!$N$9=19,\"PG\",IF('5B'!$N$9=20,\"XTR\",””))))))))))))))))))))","v":"QH"},null,{"$f":"IF('5A'!$D$22=1,\"TMTIK\",IF('5A'!$D$22=2,\"AA\",IF('5A'!$D$22=3,\"QH\",IF('5A'!$D$22=4,\"FQ\",IF('5A'!$D$22=5,\"SKI\",IF('5A'!$D$22=6,\"PKN\",IF('5A'!$D$22=7,\"BID\",IF('5A'!$D$22=8,\"BA\",IF('5A'!$D$22=9,\"MTK\",IF('5A'!$D$22=10,\"IPA\",IF('5A'!$D$22=11,\"IPS\",IF('5A'!$D$22=12,\"SBK\",IF('5A'!$D$22=13,\"PJK\",IF('5A'!$D$22=14,\"BD\",IF('5A'!$D$22=15,\"BIG\",IF('5A'!$D$22=16,\"AWJ\",IF('5A'!$D$22=17,\"NW\",IF('5A'!$D$22=18,\"SRF\",IF('5A'!$D$22=19,\"PG\",IF('5A'!$D$22=20,\"XTR\",””))))))))))))))))))))","v":"TMTIK"},{"$f":"IF('5B'!$D$22=1,\"TMTIK\",IF('5B'!$D$22=2,\"AA\",IF('5B'!$D$22=3,\"QH\",IF('5B'!$D$22=4,\"FQ\",IF('5B'!$D$22=5,\"SKI\",IF('5B'!$D$22=6,\"PKN\",IF('5B'!$D$22=7,\"BID\",IF('5B'!$D$22=8,\"BA\",IF('5B'!$D$22=9,\"MTK\",IF('5B'!$D$22=10,\"IPA\",IF('5B'!$D$22=11,\"IPS\",IF('5B'!$D$22=12,\"SBK\",IF('5B'!$D$22=13,\"PJK\",IF('5B'!$D$22=14,\"BD\",IF('5B'!$D$22=15,\"BIG\",IF('5B'!$D$22=16,\"AWJ\",IF('5B'!$D$22=17,\"NW\",IF('5B'!$D$22=18,\"SRF\",IF('5B'!$D$22=19,\"PG\",IF('5B'!$D$22=20,\"XTR\",””))))))))))))))))))))","v":"TMTIK"}]
[2,{"$f":"IF('5A'!$D$10=1,\"TMTIK\",IF('5A'!$D$10=2,\"AA\",IF('5A'!$D$10=3,\"QH\",IF('5A'!$D$10=4,\"FQ\",IF('5A'!$D$10=5,\"SKI\",IF('5A'!$D$10=6,\"PKN\",IF('5A'!$D$10=7,\"BID\",IF('5A'!$D$10=8,\"BA\",IF('5A'!$D$10=9,\"MTK\",IF('5A'!$D$10=10,\"IPA\",IF('5A'!$D$10=11,\"IPS\",IF('5A'!$D$10=12,\"SBK\",IF('5A'!$D$10=13,\"PJK\",IF('5A'!$D$10=14,\"BD\",IF('5A'!$D$10=15,\"BIG\",IF('5A'!$D$10=16,\"AWJ\",IF('5A'!$D$10=17,\"NW\",IF('5A'!$D$10=18,\"SRF\",IF('5A'!$D$10=19,\"PG\",IF('5A'!$D$10=20,\"XTR\",””))))))))))))))))))))","v":"BA"},{"$f":"IF('5B'!$D$10=1,\"TMTIK\",IF('5B'!$D$10=2,\"AA\",IF('5B'!$D$10=3,\"QH\",IF('5B'!$D$10=4,\"FQ\",IF('5B'!$D$10=5,\"SKI\",IF('5B'!$D$10=6,\"PKN\",IF('5B'!$D$10=7,\"BID\",IF('5B'!$D$10=8,\"BA\",IF('5B'!$D$10=9,\"MTK\",IF('5B'!$D$10=10,\"IPA\",IF('5B'!$D$10=11,\"IPS\",IF('5B'!$D$10=12,\"SBK\",IF('5B'!$D$10=13,\"PJK\",IF('5B'!$D$10=14,\"BD\",IF('5B'!$D$10=15,\"BIG\",IF('5B'!$D$10=16,\"AWJ\",IF('5B'!$D$10=17,\"NW\",IF('5B'!$D$10=18,\"SRF\",IF('5B'!$D$10=19,\"PG\",IF('5B'!$D$10=20,\"XTR\",””))))))))))))))))))))","v":"MTK"},null,{"$f":"IF('5A'!$F$10=1,\"TMTIK\",IF('5A'!$F$10=2,\"AA\",IF('5A'!$F$10=3,\"QH\",IF('5A'!$F$10=4,\"FQ\",IF('5A'!$F$10=5,\"SKI\",IF('5A'!$F$10=6,\"PKN\",IF('5A'!$F$10=7,\"BID\",IF('5A'!$F$10=8,\"BA\",IF('5A'!$F$10=9,\"MTK\",IF('5A'!$F$10=10,\"IPA\",IF('5A'!$F$10=11,\"IPS\",IF('5A'!$F$10=12,\"SBK\",IF('5A'!$F$10=13,\"PJK\",IF('5A'!$F$10=14,\"BD\",IF('5A'!$F$10=15,\"BIG\",IF('5A'!$F$10=16,\"AWJ\",IF('5A'!$F$10=17,\"NW\",IF('5A'!$F$10=18,\"SRF\",IF('5A'!$F$10=19,\"PG\",IF('5A'!$F$10=20,\"XTR\",””))))))))))))))))))))","v":"MTK"},{"$f":"IF('5B'!$F$10=1,\"TMTIK\",IF('5B'!$F$10=2,\"AA\",IF('5B'!$F$10=3,\"QH\",IF('5B'!$F$10=4,\"FQ\",IF('5B'!$F$10=5,\"SKI\",IF('5B'!$F$10=6,\"PKN\",IF('5B'!$F$10=7,\"BID\",IF('5B'!$F$10=8,\"BA\",IF('5B'!$F$10=9,\"MTK\",IF('5B'!$F$10=10,\"IPA\",IF('5B'!$F$10=11,\"IPS\",IF('5B'!$F$10=12,\"SBK\",IF('5B'!$F$10=13,\"PJK\",IF('5B'!$F$10=14,\"BD\",IF('5B'!$F$10=15,\"BIG\",IF('5B'!$F$10=16,\"AWJ\",IF('5B'!$F$10=17,\"NW\",IF('5B'!$F$10=18,\"SRF\",IF('5B'!$F$10=19,\"PG\",IF('5B'!$F$10=20,\"XTR\",””))))))))))))))))))))","v":"SRF"},null,{"$f":"IF('5A'!$H$10=1,\"TMTIK\",IF('5A'!$H$10=2,\"AA\",IF('5A'!$H$10=3,\"QH\",IF('5A'!$H$10=4,\"FQ\",IF('5A'!$H$10=5,\"SKI\",IF('5A'!$H$10=6,\"PKN\",IF('5A'!$H$10=7,\"BID\",IF('5A'!$H$10=8,\"BA\",IF('5A'!$H$10=9,\"MTK\",IF('5A'!$H$10=10,\"IPA\",IF('5A'!$H$10=11,\"IPS\",IF('5A'!$H$10=12,\"SBK\",IF('5A'!$H$10=13,\"PJK\",IF('5A'!$H$10=14,\"BD\",IF('5A'!$H$10=15,\"BIG\",IF('5A'!$H$10=16,\"AWJ\",IF('5A'!$H$10=17,\"NW\",IF('5A'!$H$10=18,\"SRF\",IF('5A'!$H$10=19,\"PG\",IF('5A'!$H$10=20,\"XTR\",””))))))))))))))))))))","v":"PJK"},{"$f":"IF('5B'!$H$10=1,\"TMTIK\",IF('5B'!$H$10=2,\"AA\",IF('5B'!$H$10=3,\"QH\",IF('5B'!$H$10=4,\"FQ\",IF('5B'!$H$10=5,\"SKI\",IF('5B'!$H$10=6,\"PKN\",IF('5B'!$H$10=7,\"BID\",IF('5B'!$H$10=8,\"BA\",IF('5B'!$H$10=9,\"MTK\",IF('5B'!$H$10=10,\"IPA\",IF('5B'!$H$10=11,\"IPS\",IF('5B'!$H$10=12,\"SBK\",IF('5B'!$H$10=13,\"PJK\",IF('5B'!$H$10=14,\"BD\",IF('5B'!$H$10=15,\"BIG\",IF('5B'!$H$10=16,\"AWJ\",IF('5B'!$H$10=17,\"NW\",IF('5B'!$H$10=18,\"SRF\",IF('5B'!$H$10=19,\"PG\",IF('5B'!$H$10=20,\"XTR\",””))))))))))))))))))))","v":"MTK"},null,{"$f":"IF('5A'!$J$10=1,\"TMTIK\",IF('5A'!$J$10=2,\"AA\",IF('5A'!$J$10=3,\"QH\",IF('5A'!$J$10=4,\"FQ\",IF('5A'!$J$10=5,\"SKI\",IF('5A'!$J$10=6,\"PKN\",IF('5A'!$J$10=7,\"BID\",IF('5A'!$J$10=8,\"BA\",IF('5A'!$J$10=9,\"MTK\",IF('5A'!$J$10=10,\"IPA\",IF('5A'!$J$10=11,\"IPS\",IF('5A'!$J$10=12,\"SBK\",IF('5A'!$J$10=13,\"PJK\",IF('5A'!$J$10=14,\"BD\",IF('5A'!$J$10=15,\"BIG\",IF('5A'!$J$10=16,\"AWJ\",IF('5A'!$J$10=17,\"NW\",IF('5A'!$J$10=18,\"SRF\",IF('5A'!$J$10=19,\"PG\",IF('5A'!$J$10=20,\"XTR\",””))))))))))))))))))))","v":"MTK"},{"$f":"IF('5B'!$J$10=1,\"TMTIK\",IF('5B'!$J$10=2,\"AA\",IF('5B'!$J$10=3,\"QH\",IF('5B'!$J$10=4,\"FQ\",IF('5B'!$J$10=5,\"SKI\",IF('5B'!$J$10=6,\"PKN\",IF('5B'!$J$10=7,\"BID\",IF('5B'!$J$10=8,\"BA\",IF('5B'!$J$10=9,\"MTK\",IF('5B'!$J$10=10,\"IPA\",IF('5B'!$J$10=11,\"IPS\",IF('5B'!$J$10=12,\"SBK\",IF('5B'!$J$10=13,\"PJK\",IF('5B'!$J$10=14,\"BD\",IF('5B'!$J$10=15,\"BIG\",IF('5B'!$J$10=16,\"AWJ\",IF('5B'!$J$10=17,\"NW\",IF('5B'!$J$10=18,\"SRF\",IF('5B'!$J$10=19,\"PG\",IF('5B'!$J$10=20,\"XTR\",””))))))))))))))))))))","v":"PJK"},null,{"$f":"IF('5A'!$N$10=1,\"TMTIK\",IF('5A'!$N$10=2,\"AA\",IF('5A'!$N$10=3,\"QH\",IF('5A'!$N$10=4,\"FQ\",IF('5A'!$N$10=5,\"SKI\",IF('5A'!$N$10=6,\"PKN\",IF('5A'!$N$10=7,\"BID\",IF('5A'!$N$10=8,\"BA\",IF('5A'!$N$10=9,\"MTK\",IF('5A'!$N$10=10,\"IPA\",IF('5A'!$N$10=11,\"IPS\",IF('5A'!$N$10=12,\"SBK\",IF('5A'!$N$10=13,\"PJK\",IF('5A'!$N$10=14,\"BD\",IF('5A'!$N$10=15,\"BIG\",IF('5A'!$N$10=16,\"AWJ\",IF('5A'!$N$10=17,\"NW\",IF('5A'!$N$10=18,\"SRF\",IF('5A'!$N$10=19,\"PG\",IF('5A'!$N$10=20,\"XTR\",””))))))))))))))))))))","v":"SKI"},{"$f":"IF('5B'!$N$10=1,\"TMTIK\",IF('5B'!$N$10=2,\"AA\",IF('5B'!$N$10=3,\"QH\",IF('5B'!$N$10=4,\"FQ\",IF('5B'!$N$10=5,\"SKI\",IF('5B'!$N$10=6,\"PKN\",IF('5B'!$N$10=7,\"BID\",IF('5B'!$N$10=8,\"BA\",IF('5B'!$N$10=9,\"MTK\",IF('5B'!$N$10=10,\"IPA\",IF('5B'!$N$10=11,\"IPS\",IF('5B'!$N$10=12,\"SBK\",IF('5B'!$N$10=13,\"PJK\",IF('5B'!$N$10=14,\"BD\",IF('5B'!$N$10=15,\"BIG\",IF('5B'!$N$10=16,\"AWJ\",IF('5B'!$N$10=17,\"NW\",IF('5B'!$N$10=18,\"SRF\",IF('5B'!$N$10=19,\"PG\",IF('5B'!$N$10=20,\"XTR\",””))))))))))))))))))))","v":"QH"},null,{"$f":"IF('5A'!$D$23=1,\"TMTIK\",IF('5A'!$D$23=2,\"AA\",IF('5A'!$D$23=3,\"QH\",IF('5A'!$D$23=4,\"FQ\",IF('5A'!$D$23=5,\"SKI\",IF('5A'!$D$23=6,\"PKN\",IF('5A'!$D$23=7,\"BID\",IF('5A'!$D$23=8,\"BA\",IF('5A'!$D$23=9,\"MTK\",IF('5A'!$D$23=10,\"IPA\",IF('5A'!$D$23=11,\"IPS\",IF('5A'!$D$23=12,\"SBK\",IF('5A'!$D$23=13,\"PJK\",IF('5A'!$D$23=14,\"BD\",IF('5A'!$D$23=15,\"BIG\",IF('5A'!$D$23=16,\"AWJ\",IF('5A'!$D$23=17,\"NW\",IF('5A'!$D$23=18,\"SRF\",IF('5A'!$D$23=19,\"PG\",IF('5A'!$D$23=20,\"XTR\",””))))))))))))))))))))","v":"TMTIK"},{"$f":"IF('5B'!$D$23=1,\"TMTIK\",IF('5B'!$D$23=2,\"AA\",IF('5B'!$D$23=3,\"QH\",IF('5B'!$D$23=4,\"FQ\",IF('5B'!$D$23=5,\"SKI\",IF('5B'!$D$23=6,\"PKN\",IF('5B'!$D$23=7,\"BID\",IF('5B'!$D$23=8,\"BA\",IF('5B'!$D$23=9,\"MTK\",IF('5B'!$D$23=10,\"IPA\",IF('5B'!$D$23=11,\"IPS\",IF('5B'!$D$23=12,\"SBK\",IF('5B'!$D$23=13,\"PJK\",IF('5B'!$D$23=14,\"BD\",IF('5B'!$D$23=15,\"BIG\",IF('5B'!$D$23=16,\"AWJ\",IF('5B'!$D$23=17,\"NW\",IF('5B'!$D$23=18,\"SRF\",IF('5B'!$D$23=19,\"PG\",IF('5B'!$D$23=20,\"XTR\",””))))))))))))))))))))","v":"TMTIK"}]
[3,{"$f":"IF('5A'!$D$11=1,\"TMTIK\",IF('5A'!$D$11=2,\"AA\",IF('5A'!$D$11=3,\"QH\",IF('5A'!$D$11=4,\"FQ\",IF('5A'!$D$11=5,\"SKI\",IF('5A'!$D$11=6,\"PKN\",IF('5A'!$D$11=7,\"BID\",IF('5A'!$D$11=8,\"BA\",IF('5A'!$D$11=9,\"MTK\",IF('5A'!$D$11=10,\"IPA\",IF('5A'!$D$11=11,\"IPS\",IF('5A'!$D$11=12,\"SBK\",IF('5A'!$D$11=13,\"PJK\",IF('5A'!$D$11=14,\"BD\",IF('5A'!$D$11=15,\"BIG\",IF('5A'!$D$11=16,\"AWJ\",IF('5A'!$D$11=17,\"NW\",IF('5A'!$D$11=18,\"SRF\",IF('5A'!$D$11=19,\"PG\",IF('5A'!$D$11=20,\"XTR\",””))))))))))))))))))))","v":"TMTIK"},{"$f":"IF('5B'!$D$11=1,\"TMTIK\",IF('5B'!$D$11=2,\"AA\",IF('5B'!$D$11=3,\"QH\",IF('5B'!$D$11=4,\"FQ\",IF('5B'!$D$11=5,\"SKI\",IF('5B'!$D$11=6,\"PKN\",IF('5B'!$D$11=7,\"BID\",IF('5B'!$D$11=8,\"BA\",IF('5B'!$D$11=9,\"MTK\",IF('5B'!$D$11=10,\"IPA\",IF('5B'!$D$11=11,\"IPS\",IF('5B'!$D$11=12,\"SBK\",IF('5B'!$D$11=13,\"PJK\",IF('5B'!$D$11=14,\"BD\",IF('5B'!$D$11=15,\"BIG\",IF('5B'!$D$11=16,\"AWJ\",IF('5B'!$D$11=17,\"NW\",IF('5B'!$D$11=18,\"SRF\",IF('5B'!$D$11=19,\"PG\",IF('5B'!$D$11=20,\"XTR\",””))))))))))))))))))))","v":"TMTIK"},null,{"$f":"IF('5A'!$F$11=1,\"TMTIK\",IF('5A'!$F$11=2,\"AA\",IF('5A'!$F$11=3,\"QH\",IF('5A'!$F$11=4,\"FQ\",IF('5A'!$F$11=5,\"SKI\",IF('5A'!$F$11=6,\"PKN\",IF('5A'!$F$11=7,\"BID\",IF('5A'!$F$11=8,\"BA\",IF('5A'!$F$11=9,\"MTK\",IF('5A'!$F$11=10,\"IPA\",IF('5A'!$F$11=11,\"IPS\",IF('5A'!$F$11=12,\"SBK\",IF('5A'!$F$11=13,\"PJK\",IF('5A'!$F$11=14,\"BD\",IF('5A'!$F$11=15,\"BIG\",IF('5A'!$F$11=16,\"AWJ\",IF('5A'!$F$11=17,\"NW\",IF('5A'!$F$11=18,\"SRF\",IF('5A'!$F$11=19,\"PG\",IF('5A'!$F$11=20,\"XTR\",””))))))))))))))))))))","v":"TMTIK"},{"$f":"IF('5B'!$F$11=1,\"TMTIK\",IF('5B'!$F$11=2,\"AA\",IF('5B'!$F$11=3,\"QH\",IF('5B'!$F$11=4,\"FQ\",IF('5B'!$F$11=5,\"SKI\",IF('5B'!$F$11=6,\"PKN\",IF('5B'!$F$11=7,\"BID\",IF('5B'!$F$11=8,\"BA\",IF('5B'!$F$11=9,\"MTK\",IF('5B'!$F$11=10,\"IPA\",IF('5B'!$F$11=11,\"IPS\",IF('5B'!$F$11=12,\"SBK\",IF('5B'!$F$11=13,\"PJK\",IF('5B'!$F$11=14,\"BD\",IF('5B'!$F$11=15,\"BIG\",IF('5B'!$F$11=16,\"AWJ\",IF('5B'!$F$11=17,\"NW\",IF('5B'!$F$11=18,\"SRF\",IF('5B'!$F$11=19,\"PG\",IF('5B'!$F$11=20,\"XTR\",””))))))))))))))))))))","v":"TMTIK"},null,{"$f":"IF('5A'!$H$11=1,\"TMTIK\",IF('5A'!$H$11=2,\"AA\",IF('5A'!$H$11=3,\"QH\",IF('5A'!$H$11=4,\"FQ\",IF('5A'!$H$11=5,\"SKI\",IF('5A'!$H$11=6,\"PKN\",IF('5A'!$H$11=7,\"BID\",IF('5A'!$H$11=8,\"BA\",IF('5A'!$H$11=9,\"MTK\",IF('5A'!$H$11=10,\"IPA\",IF('5A'!$H$11=11,\"IPS\",IF('5A'!$H$11=12,\"SBK\",IF('5A'!$H$11=13,\"PJK\",IF('5A'!$H$11=14,\"BD\",IF('5A'!$H$11=15,\"BIG\",IF('5A'!$H$11=16,\"AWJ\",IF('5A'!$H$11=17,\"NW\",IF('5A'!$H$11=18,\"SRF\",IF('5A'!$H$11=19,\"PG\",IF('5A'!$H$11=20,\"XTR\",””))))))))))))))))))))","v":"PJK"},{"$f":"IF('5B'!$H$11=1,\"TMTIK\",IF('5B'!$H$11=2,\"AA\",IF('5B'!$H$11=3,\"QH\",IF('5B'!$H$11=4,\"FQ\",IF('5B'!$H$11=5,\"SKI\",IF('5B'!$H$11=6,\"PKN\",IF('5B'!$H$11=7,\"BID\",IF('5B'!$H$11=8,\"BA\",IF('5B'!$H$11=9,\"MTK\",IF('5B'!$H$11=10,\"IPA\",IF('5B'!$H$11=11,\"IPS\",IF('5B'!$H$11=12,\"SBK\",IF('5B'!$H$11=13,\"PJK\",IF('5B'!$H$11=14,\"BD\",IF('5B'!$H$11=15,\"BIG\",IF('5B'!$H$11=16,\"AWJ\",IF('5B'!$H$11=17,\"NW\",IF('5B'!$H$11=18,\"SRF\",IF('5B'!$H$11=19,\"PG\",IF('5B'!$H$11=20,\"XTR\",””))))))))))))))))))))","v":"MTK"},null,{"$f":"IF('5A'!$J$11=1,\"TMTIK\",IF('5A'!$J$11=2,\"AA\",IF('5A'!$J$11=3,\"QH\",IF('5A'!$J$11=4,\"FQ\",IF('5A'!$J$11=5,\"SKI\",IF('5A'!$J$11=6,\"PKN\",IF('5A'!$J$11=7,\"BID\",IF('5A'!$J$11=8,\"BA\",IF('5A'!$J$11=9,\"MTK\",IF('5A'!$J$11=10,\"IPA\",IF('5A'!$J$11=11,\"IPS\",IF('5A'!$J$11=12,\"SBK\",IF('5A'!$J$11=13,\"PJK\",IF('5A'!$J$11=14,\"BD\",IF('5A'!$J$11=15,\"BIG\",IF('5A'!$J$11=16,\"AWJ\",IF('5A'!$J$11=17,\"NW\",IF('5A'!$J$11=18,\"SRF\",IF('5A'!$J$11=19,\"PG\",IF('5A'!$J$11=20,\"XTR\",””))))))))))))))))))))","v":"MTK"},{"$f":"IF('5B'!$J$11=1,\"TMTIK\",IF('5B'!$J$11=2,\"AA\",IF('5B'!$J$11=3,\"QH\",IF('5B'!$J$11=4,\"FQ\",IF('5B'!$J$11=5,\"SKI\",IF('5B'!$J$11=6,\"PKN\",IF('5B'!$J$11=7,\"BID\",IF('5B'!$J$11=8,\"BA\",IF('5B'!$J$11=9,\"MTK\",IF('5B'!$J$11=10,\"IPA\",IF('5B'!$J$11=11,\"IPS\",IF('5B'!$J$11=12,\"SBK\",IF('5B'!$J$11=13,\"PJK\",IF('5B'!$J$11=14,\"BD\",IF('5B'!$J$11=15,\"BIG\",IF('5B'!$J$11=16,\"AWJ\",IF('5B'!$J$11=17,\"NW\",IF('5B'!$J$11=18,\"SRF\",IF('5B'!$J$11=19,\"PG\",IF('5B'!$J$11=20,\"XTR\",””))))))))))))))))))))","v":"PJK"},null,{"$f":"IF('5A'!$N$11=1,\"TMTIK\",IF('5A'!$N$11=2,\"AA\",IF('5A'!$N$11=3,\"QH\",IF('5A'!$N$11=4,\"FQ\",IF('5A'!$N$11=5,\"SKI\",IF('5A'!$N$11=6,\"PKN\",IF('5A'!$N$11=7,\"BID\",IF('5A'!$N$11=8,\"BA\",IF('5A'!$N$11=9,\"MTK\",IF('5A'!$N$11=10,\"IPA\",IF('5A'!$N$11=11,\"IPS\",IF('5A'!$N$11=12,\"SBK\",IF('5A'!$N$11=13,\"PJK\",IF('5A'!$N$11=14,\"BD\",IF('5A'!$N$11=15,\"BIG\",IF('5A'!$N$11=16,\"AWJ\",IF('5A'!$N$11=17,\"NW\",IF('5A'!$N$11=18,\"SRF\",IF('5A'!$N$11=19,\"PG\",IF('5A'!$N$11=20,\"XTR\",””))))))))))))))))))))","v":"QH"},{"$f":"IF('5B'!$N$11=1,\"TMTIK\",IF('5B'!$N$11=2,\"AA\",IF('5B'!$N$11=3,\"QH\",IF('5B'!$N$11=4,\"FQ\",IF('5B'!$N$11=5,\"SKI\",IF('5B'!$N$11=6,\"PKN\",IF('5B'!$N$11=7,\"BID\",IF('5B'!$N$11=8,\"BA\",IF('5B'!$N$11=9,\"MTK\",IF('5B'!$N$11=10,\"IPA\",IF('5B'!$N$11=11,\"IPS\",IF('5B'!$N$11=12,\"SBK\",IF('5B'!$N$11=13,\"PJK\",IF('5B'!$N$11=14,\"BD\",IF('5B'!$N$11=15,\"BIG\",IF('5B'!$N$11=16,\"AWJ\",IF('5B'!$N$11=17,\"NW\",IF('5B'!$N$11=18,\"SRF\",IF('5B'!$N$11=19,\"PG\",IF('5B'!$N$11=20,\"XTR\",””))))))))))))))))))))","v":"BD"},null,{"$f":"IF('5A'!$D$24=1,\"TMTIK\",IF('5A'!$D$24=2,\"AA\",IF('5A'!$D$24=3,\"QH\",IF('5A'!$D$24=4,\"FQ\",IF('5A'!$D$24=5,\"SKI\",IF('5A'!$D$24=6,\"PKN\",IF('5A'!$D$24=7,\"BID\",IF('5A'!$D$24=8,\"BA\",IF('5A'!$D$24=9,\"MTK\",IF('5A'!$D$24=10,\"IPA\",IF('5A'!$D$24=11,\"IPS\",IF('5A'!$D$24=12,\"SBK\",IF('5A'!$D$24=13,\"PJK\",IF('5A'!$D$24=14,\"BD\",IF('5A'!$D$24=15,\"BIG\",IF('5A'!$D$24=16,\"AWJ\",IF('5A'!$D$24=17,\"NW\",IF('5A'!$D$24=18,\"SRF\",IF('5A'!$D$24=19,\"PG\",IF('5A'!$D$24=20,\"XTR\",””))))))))))))))))))))","v":"TMTIK"},{"$f":"IF('5B'!$D$24=1,\"TMTIK\",IF('5B'!$D$24=2,\"AA\",IF('5B'!$D$24=3,\"QH\",IF('5B'!$D$24=4,\"FQ\",IF('5B'!$D$24=5,\"SKI\",IF('5B'!$D$24=6,\"PKN\",IF('5B'!$D$24=7,\"BID\",IF('5B'!$D$24=8,\"BA\",IF('5B'!$D$24=9,\"MTK\",IF('5B'!$D$24=10,\"IPA\",IF('5B'!$D$24=11,\"IPS\",IF('5B'!$D$24=12,\"SBK\",IF('5B'!$D$24=13,\"PJK\",IF('5B'!$D$24=14,\"BD\",IF('5B'!$D$24=15,\"BIG\",IF('5B'!$D$24=16,\"AWJ\",IF('5B'!$D$24=17,\"NW\",IF('5B'!$D$24=18,\"SRF\",IF('5B'!$D$24=19,\"PG\",IF('5B'!$D$24=20,\"XTR\",””))))))))))))))))))))","v":"TMTIK"}]
[4,{"$f":"IF('5A'!$D$12=1,\"TMTIK\",IF('5A'!$D$12=2,\"AA\",IF('5A'!$D$12=3,\"QH\",IF('5A'!$D$12=4,\"FQ\",IF('5A'!$D$12=5,\"SKI\",IF('5A'!$D$12=6,\"PKN\",IF('5A'!$D$12=7,\"BID\",IF('5A'!$D$12=8,\"BA\",IF('5A'!$D$12=9,\"MTK\",IF('5A'!$D$12=10,\"IPA\",IF('5A'!$D$12=11,\"IPS\",IF('5A'!$D$12=12,\"SBK\",IF('5A'!$D$12=13,\"PJK\",IF('5A'!$D$12=14,\"BD\",IF('5A'!$D$12=15,\"BIG\",IF('5A'!$D$12=16,\"AWJ\",IF('5A'!$D$12=17,\"NW\",IF('5A'!$D$12=18,\"SRF\",IF('5A'!$D$12=19,\"PG\",IF('5A'!$D$12=20,\"XTR\",””))))))))))))))))))))","v":"TMTIK"},{"$f":"IF('5B'!$D$12=1,\"TMTIK\",IF('5B'!$D$12=2,\"AA\",IF('5B'!$D$12=3,\"QH\",IF('5B'!$D$12=4,\"FQ\",IF('5B'!$D$12=5,\"SKI\",IF('5B'!$D$12=6,\"PKN\",IF('5B'!$D$12=7,\"BID\",IF('5B'!$D$12=8,\"BA\",IF('5B'!$D$12=9,\"MTK\",IF('5B'!$D$12=10,\"IPA\",IF('5B'!$D$12=11,\"IPS\",IF('5B'!$D$12=12,\"SBK\",IF('5B'!$D$12=13,\"PJK\",IF('5B'!$D$12=14,\"BD\",IF('5B'!$D$12=15,\"BIG\",IF('5B'!$D$12=16,\"AWJ\",IF('5B'!$D$12=17,\"NW\",IF('5B'!$D$12=18,\"SRF\",IF('5B'!$D$12=19,\"PG\",IF('5B'!$D$12=20,\"XTR\",””))))))))))))))))))))","v":"TMTIK"},null,{"$f":"IF('5A'!$F$12=1,\"TMTIK\",IF('5A'!$F$12=2,\"AA\",IF('5A'!$F$12=3,\"QH\",IF('5A'!$F$12=4,\"FQ\",IF('5A'!$F$12=5,\"SKI\",IF('5A'!$F$12=6,\"PKN\",IF('5A'!$F$12=7,\"BID\",IF('5A'!$F$12=8,\"BA\",IF('5A'!$F$12=9,\"MTK\",IF('5A'!$F$12=10,\"IPA\",IF('5A'!$F$12=11,\"IPS\",IF('5A'!$F$12=12,\"SBK\",IF('5A'!$F$12=13,\"PJK\",IF('5A'!$F$12=14,\"BD\",IF('5A'!$F$12=15,\"BIG\",IF('5A'!$F$12=16,\"AWJ\",IF('5A'!$F$12=17,\"NW\",IF('5A'!$F$12=18,\"SRF\",IF('5A'!$F$12=19,\"PG\",IF('5A'!$F$12=20,\"XTR\",””))))))))))))))))))))","v":"TMTIK"},{"$f":"IF('5B'!$F$12=1,\"TMTIK\",IF('5B'!$F$12=2,\"AA\",IF('5B'!$F$12=3,\"QH\",IF('5B'!$F$12=4,\"FQ\",IF('5B'!$F$12=5,\"SKI\",IF('5B'!$F$12=6,\"PKN\",IF('5B'!$F$12=7,\"BID\",IF('5B'!$F$12=8,\"BA\",IF('5B'!$F$12=9,\"MTK\",IF('5B'!$F$12=10,\"IPA\",IF('5B'!$F$12=11,\"IPS\",IF('5B'!$F$12=12,\"SBK\",IF('5B'!$F$12=13,\"PJK\",IF('5B'!$F$12=14,\"BD\",IF('5B'!$F$12=15,\"BIG\",IF('5B'!$F$12=16,\"AWJ\",IF('5B'!$F$12=17,\"NW\",IF('5B'!$F$12=18,\"SRF\",IF('5B'!$F$12=19,\"PG\",IF('5B'!$F$12=20,\"XTR\",””))))))))))))))))))))","v":"TMTIK"},null,{"$f":"IF('5A'!$H$12=1,\"TMTIK\",IF('5A'!$H$12=2,\"AA\",IF('5A'!$H$12=3,\"QH\",IF('5A'!$H$12=4,\"FQ\",IF('5A'!$H$12=5,\"SKI\",IF('5A'!$H$12=6,\"PKN\",IF('5A'!$H$12=7,\"BID\",IF('5A'!$H$12=8,\"BA\",IF('5A'!$H$12=9,\"MTK\",IF('5A'!$H$12=10,\"IPA\",IF('5A'!$H$12=11,\"IPS\",IF('5A'!$H$12=12,\"SBK\",IF('5A'!$H$12=13,\"PJK\",IF('5A'!$H$12=14,\"BD\",IF('5A'!$H$12=15,\"BIG\",IF('5A'!$H$12=16,\"AWJ\",IF('5A'!$H$12=17,\"NW\",IF('5A'!$H$12=18,\"SRF\",IF('5A'!$H$12=19,\"PG\",IF('5A'!$H$12=20,\"XTR\",””))))))))))))))))))))","v":"PJK"},{"$f":"IF('5B'!$H$12=1,\"TMTIK\",IF('5B'!$H$12=2,\"AA\",IF('5B'!$H$12=3,\"QH\",IF('5B'!$H$12=4,\"FQ\",IF('5B'!$H$12=5,\"SKI\",IF('5B'!$H$12=6,\"PKN\",IF('5B'!$H$12=7,\"BID\",IF('5B'!$H$12=8,\"BA\",IF('5B'!$H$12=9,\"MTK\",IF('5B'!$H$12=10,\"IPA\",IF('5B'!$H$12=11,\"IPS\",IF('5B'!$H$12=12,\"SBK\",IF('5B'!$H$12=13,\"PJK\",IF('5B'!$H$12=14,\"BD\",IF('5B'!$H$12=15,\"BIG\",IF('5B'!$H$12=16,\"AWJ\",IF('5B'!$H$12=17,\"NW\",IF('5B'!$H$12=18,\"SRF\",IF('5B'!$H$12=19,\"PG\",IF('5B'!$H$12=20,\"XTR\",””))))))))))))))))))))","v":"TMTIK"},null,{"$f":"IF('5A'!$J$12=1,\"TMTIK\",IF('5A'!$J$12=2,\"AA\",IF('5A'!$J$12=3,\"QH\",IF('5A'!$J$12=4,\"FQ\",IF('5A'!$J$12=5,\"SKI\",IF('5A'!$J$12=6,\"PKN\",IF('5A'!$J$12=7,\"BID\",IF('5A'!$J$12=8,\"BA\",IF('5A'!$J$12=9,\"MTK\",IF('5A'!$J$12=10,\"IPA\",IF('5A'!$J$12=11,\"IPS\",IF('5A'!$J$12=12,\"SBK\",IF('5A'!$J$12=13,\"PJK\",IF('5A'!$J$12=14,\"BD\",IF('5A'!$J$12=15,\"BIG\",IF('5A'!$J$12=16,\"AWJ\",IF('5A'!$J$12=17,\"NW\",IF('5A'!$J$12=18,\"SRF\",IF('5A'!$J$12=19,\"PG\",IF('5A'!$J$12=20,\"XTR\",””))))))))))))))))))))","v":"TMTIK"},{"$f":"IF('5B'!$J$12=1,\"TMTIK\",IF('5B'!$J$12=2,\"AA\",IF('5B'!$J$12=3,\"QH\",IF('5B'!$J$12=4,\"FQ\",IF('5B'!$J$12=5,\"SKI\",IF('5B'!$J$12=6,\"PKN\",IF('5B'!$J$12=7,\"BID\",IF('5B'!$J$12=8,\"BA\",IF('5B'!$J$12=9,\"MTK\",IF('5B'!$J$12=10,\"IPA\",IF('5B'!$J$12=11,\"IPS\",IF('5B'!$J$12=12,\"SBK\",IF('5B'!$J$12=13,\"PJK\",IF('5B'!$J$12=14,\"BD\",IF('5B'!$J$12=15,\"BIG\",IF('5B'!$J$12=16,\"AWJ\",IF('5B'!$J$12=17,\"NW\",IF('5B'!$J$12=18,\"SRF\",IF('5B'!$J$12=19,\"PG\",IF('5B'!$J$12=20,\"XTR\",””))))))))))))))))))))","v":"PJK"},null,{"$f":"IF('5A'!$N$12=1,\"TMTIK\",IF('5A'!$N$12=2,\"AA\",IF('5A'!$N$12=3,\"QH\",IF('5A'!$N$12=4,\"FQ\",IF('5A'!$N$12=5,\"SKI\",IF('5A'!$N$12=6,\"PKN\",IF('5A'!$N$12=7,\"BID\",IF('5A'!$N$12=8,\"BA\",IF('5A'!$N$12=9,\"MTK\",IF('5A'!$N$12=10,\"IPA\",IF('5A'!$N$12=11,\"IPS\",IF('5A'!$N$12=12,\"SBK\",IF('5A'!$N$12=13,\"PJK\",IF('5A'!$N$12=14,\"BD\",IF('5A'!$N$12=15,\"BIG\",IF('5A'!$N$12=16,\"AWJ\",IF('5A'!$N$12=17,\"NW\",IF('5A'!$N$12=18,\"SRF\",IF('5A'!$N$12=19,\"PG\",IF('5A'!$N$12=20,\"XTR\",””))))))))))))))))))))","v":"QH"},{"$f":"IF('5B'!$N$12=1,\"TMTIK\",IF('5B'!$N$12=2,\"AA\",IF('5B'!$N$12=3,\"QH\",IF('5B'!$N$12=4,\"FQ\",IF('5B'!$N$12=5,\"SKI\",IF('5B'!$N$12=6,\"PKN\",IF('5B'!$N$12=7,\"BID\",IF('5B'!$N$12=8,\"BA\",IF('5B'!$N$12=9,\"MTK\",IF('5B'!$N$12=10,\"IPA\",IF('5B'!$N$12=11,\"IPS\",IF('5B'!$N$12=12,\"SBK\",IF('5B'!$N$12=13,\"PJK\",IF('5B'!$N$12=14,\"BD\",IF('5B'!$N$12=15,\"BIG\",IF('5B'!$N$12=16,\"AWJ\",IF('5B'!$N$12=17,\"NW\",IF('5B'!$N$12=18,\"SRF\",IF('5B'!$N$12=19,\"PG\",IF('5B'!$N$12=20,\"XTR\",””))))))))))))))))))))","v":"BD"},null,{"$f":"IF('5A'!$D$25=1,\"TMTIK\",IF('5A'!$D$25=2,\"AA\",IF('5A'!$D$25=3,\"QH\",IF('5A'!$D$25=4,\"FQ\",IF('5A'!$D$25=5,\"SKI\",IF('5A'!$D$25=6,\"PKN\",IF('5A'!$D$25=7,\"BID\",IF('5A'!$D$25=8,\"BA\",IF('5A'!$D$25=9,\"MTK\",IF('5A'!$D$25=10,\"IPA\",IF('5A'!$D$25=11,\"IPS\",IF('5A'!$D$25=12,\"SBK\",IF('5A'!$D$25=13,\"PJK\",IF('5A'!$D$25=14,\"BD\",IF('5A'!$D$25=15,\"BIG\",IF('5A'!$D$25=16,\"AWJ\",IF('5A'!$D$25=17,\"NW\",IF('5A'!$D$25=18,\"SRF\",IF('5A'!$D$25=19,\"PG\",IF('5A'!$D$25=20,\"XTR\",””))))))))))))))))))))","v":"XTR"},{"$f":"IF('5B'!$D$25=1,\"TMTIK\",IF('5B'!$D$25=2,\"AA\",IF('5B'!$D$25=3,\"QH\",IF('5B'!$D$25=4,\"FQ\",IF('5B'!$D$25=5,\"SKI\",IF('5B'!$D$25=6,\"PKN\",IF('5B'!$D$25=7,\"BID\",IF('5B'!$D$25=8,\"BA\",IF('5B'!$D$25=9,\"MTK\",IF('5B'!$D$25=10,\"IPA\",IF('5B'!$D$25=11,\"IPS\",IF('5B'!$D$25=12,\"SBK\",IF('5B'!$D$25=13,\"PJK\",IF('5B'!$D$25=14,\"BD\",IF('5B'!$D$25=15,\"BIG\",IF('5B'!$D$25=16,\"AWJ\",IF('5B'!$D$25=17,\"NW\",IF('5B'!$D$25=18,\"SRF\",IF('5B'!$D$25=19,\"PG\",IF('5B'!$D$25=20,\"XTR\",””))))))))))))))))))))","v":"XTR"}]
[5,{"$f":"IF('5A'!$D$14=1,\"TMTIK\",IF('5A'!$D$14=2,\"AA\",IF('5A'!$D$14=3,\"QH\",IF('5A'!$D$14=4,\"FQ\",IF('5A'!$D$14=5,\"SKI\",IF('5A'!$D$14=6,\"PKN\",IF('5A'!$D$14=7,\"BID\",IF('5A'!$D$14=8,\"BA\",IF('5A'!$D$14=9,\"MTK\",IF('5A'!$D$14=10,\"IPA\",IF('5A'!$D$14=11,\"IPS\",IF('5A'!$D$14=12,\"SBK\",IF('5A'!$D$14=13,\"PJK\",IF('5A'!$D$14=14,\"BD\",IF('5A'!$D$14=15,\"BIG\",IF('5A'!$D$14=16,\"AWJ\",IF('5A'!$D$14=17,\"NW\",IF('5A'!$D$14=18,\"SRF\",IF('5A'!$D$14=19,\"PG\",IF('5A'!$D$14=20,\"XTR\",””))))))))))))))))))))","v":"FQ"},{"$f":"IF('5B'!$D$14=1,\"TMTIK\",IF('5B'!$D$14=2,\"AA\",IF('5B'!$D$14=3,\"QH\",IF('5B'!$D$14=4,\"FQ\",IF('5B'!$D$14=5,\"SKI\",IF('5B'!$D$14=6,\"PKN\",IF('5B'!$D$14=7,\"BID\",IF('5B'!$D$14=8,\"BA\",IF('5B'!$D$14=9,\"MTK\",IF('5B'!$D$14=10,\"IPA\",IF('5B'!$D$14=11,\"IPS\",IF('5B'!$D$14=12,\"SBK\",IF('5B'!$D$14=13,\"PJK\",IF('5B'!$D$14=14,\"BD\",IF('5B'!$D$14=15,\"BIG\",IF('5B'!$D$14=16,\"AWJ\",IF('5B'!$D$14=17,\"NW\",IF('5B'!$D$14=18,\"SRF\",IF('5B'!$D$14=19,\"PG\",IF('5B'!$D$14=20,\"XTR\",””))))))))))))))))))))","v":"BA"},null,{"$f":"IF('5A'!$F$14=1,\"TMTIK\",IF('5A'!$F$14=2,\"AA\",IF('5A'!$F$14=3,\"QH\",IF('5A'!$F$14=4,\"FQ\",IF('5A'!$F$14=5,\"SKI\",IF('5A'!$F$14=6,\"PKN\",IF('5A'!$F$14=7,\"BID\",IF('5A'!$F$14=8,\"BA\",IF('5A'!$F$14=9,\"MTK\",IF('5A'!$F$14=10,\"IPA\",IF('5A'!$F$14=11,\"IPS\",IF('5A'!$F$14=12,\"SBK\",IF('5A'!$F$14=13,\"PJK\",IF('5A'!$F$14=14,\"BD\",IF('5A'!$F$14=15,\"BIG\",IF('5A'!$F$14=16,\"AWJ\",IF('5A'!$F$14=17,\"NW\",IF('5A'!$F$14=18,\"SRF\",IF('5A'!$F$14=19,\"PG\",IF('5A'!$F$14=20,\"XTR\",””))))))))))))))))))))","v":"NW"},{"$f":"IF('5B'!$F$14=1,\"TMTIK\",IF('5B'!$F$14=2,\"AA\",IF('5B'!$F$14=3,\"QH\",IF('5B'!$F$14=4,\"FQ\",IF('5B'!$F$14=5,\"SKI\",IF('5B'!$F$14=6,\"PKN\",IF('5B'!$F$14=7,\"BID\",IF('5B'!$F$14=8,\"BA\",IF('5B'!$F$14=9,\"MTK\",IF('5B'!$F$14=10,\"IPA\",IF('5B'!$F$14=11,\"IPS\",IF('5B'!$F$14=12,\"SBK\",IF('5B'!$F$14=13,\"PJK\",IF('5B'!$F$14=14,\"BD\",IF('5B'!$F$14=15,\"BIG\",IF('5B'!$F$14=16,\"AWJ\",IF('5B'!$F$14=17,\"NW\",IF('5B'!$F$14=18,\"SRF\",IF('5B'!$F$14=19,\"PG\",IF('5B'!$F$14=20,\"XTR\",””))))))))))))))))))))","v":"FQ"},null,{"$f":"IF('5A'!$H$14=1,\"TMTIK\",IF('5A'!$H$14=2,\"AA\",IF('5A'!$H$14=3,\"QH\",IF('5A'!$H$14=4,\"FQ\",IF('5A'!$H$14=5,\"SKI\",IF('5A'!$H$14=6,\"PKN\",IF('5A'!$H$14=7,\"BID\",IF('5A'!$H$14=8,\"BA\",IF('5A'!$H$14=9,\"MTK\",IF('5A'!$H$14=10,\"IPA\",IF('5A'!$H$14=11,\"IPS\",IF('5A'!$H$14=12,\"SBK\",IF('5A'!$H$14=13,\"PJK\",IF('5A'!$H$14=14,\"BD\",IF('5A'!$H$14=15,\"BIG\",IF('5A'!$H$14=16,\"AWJ\",IF('5A'!$H$14=17,\"NW\",IF('5A'!$H$14=18,\"SRF\",IF('5A'!$H$14=19,\"PG\",IF('5A'!$H$14=20,\"XTR\",””))))))))))))))))))))","v":"BD"},{"$f":"IF('5B'!$H$14=1,\"TMTIK\",IF('5B'!$H$14=2,\"AA\",IF('5B'!$H$14=3,\"QH\",IF('5B'!$H$14=4,\"FQ\",IF('5B'!$H$14=5,\"SKI\",IF('5B'!$H$14=6,\"PKN\",IF('5B'!$H$14=7,\"BID\",IF('5B'!$H$14=8,\"BA\",IF('5B'!$H$14=9,\"MTK\",IF('5B'!$H$14=10,\"IPA\",IF('5B'!$H$14=11,\"IPS\",IF('5B'!$H$14=12,\"SBK\",IF('5B'!$H$14=13,\"PJK\",IF('5B'!$H$14=14,\"BD\",IF('5B'!$H$14=15,\"BIG\",IF('5B'!$H$14=16,\"AWJ\",IF('5B'!$H$14=17,\"NW\",IF('5B'!$H$14=18,\"SRF\",IF('5B'!$H$14=19,\"PG\",IF('5B'!$H$14=20,\"XTR\",””))))))))))))))))))))","v":"TMTIK"},null,{"$f":"IF('5A'!$J$14=1,\"TMTIK\",IF('5A'!$J$14=2,\"AA\",IF('5A'!$J$14=3,\"QH\",IF('5A'!$J$14=4,\"FQ\",IF('5A'!$J$14=5,\"SKI\",IF('5A'!$J$14=6,\"PKN\",IF('5A'!$J$14=7,\"BID\",IF('5A'!$J$14=8,\"BA\",IF('5A'!$J$14=9,\"MTK\",IF('5A'!$J$14=10,\"IPA\",IF('5A'!$J$14=11,\"IPS\",IF('5A'!$J$14=12,\"SBK\",IF('5A'!$J$14=13,\"PJK\",IF('5A'!$J$14=14,\"BD\",IF('5A'!$J$14=15,\"BIG\",IF('5A'!$J$14=16,\"AWJ\",IF('5A'!$J$14=17,\"NW\",IF('5A'!$J$14=18,\"SRF\",IF('5A'!$J$14=19,\"PG\",IF('5A'!$J$14=20,\"XTR\",””))))))))))))))))))))","v":"TMTIK"},{"$f":"IF('5B'!$J$14=1,\"TMTIK\",IF('5B'!$J$14=2,\"AA\",IF('5B'!$J$14=3,\"QH\",IF('5B'!$J$14=4,\"FQ\",IF('5B'!$J$14=5,\"SKI\",IF('5B'!$J$14=6,\"PKN\",IF('5B'!$J$14=7,\"BID\",IF('5B'!$J$14=8,\"BA\",IF('5B'!$J$14=9,\"MTK\",IF('5B'!$J$14=10,\"IPA\",IF('5B'!$J$14=11,\"IPS\",IF('5B'!$J$14=12,\"SBK\",IF('5B'!$J$14=13,\"PJK\",IF('5B'!$J$14=14,\"BD\",IF('5B'!$J$14=15,\"BIG\",IF('5B'!$J$14=16,\"AWJ\",IF('5B'!$J$14=17,\"NW\",IF('5B'!$J$14=18,\"SRF\",IF('5B'!$J$14=19,\"PG\",IF('5B'!$J$14=20,\"XTR\",””))))))))))))))))))))","v":"AWJ"},null,{"$f":"IF('5A'!$N$14=1,\"TMTIK\",IF('5A'!$N$14=2,\"AA\",IF('5A'!$N$14=3,\"QH\",IF('5A'!$N$14=4,\"FQ\",IF('5A'!$N$14=5,\"SKI\",IF('5A'!$N$14=6,\"PKN\",IF('5A'!$N$14=7,\"BID\",IF('5A'!$N$14=8,\"BA\",IF('5A'!$N$14=9,\"MTK\",IF('5A'!$N$14=10,\"IPA\",IF('5A'!$N$14=11,\"IPS\",IF('5A'!$N$14=12,\"SBK\",IF('5A'!$N$14=13,\"PJK\",IF('5A'!$N$14=14,\"BD\",IF('5A'!$N$14=15,\"BIG\",IF('5A'!$N$14=16,\"AWJ\",IF('5A'!$N$14=17,\"NW\",IF('5A'!$N$14=18,\"SRF\",IF('5A'!$N$14=19,\"PG\",IF('5A'!$N$14=20,\"XTR\",””))))))))))))))))))))","v":"TMTIK"},{"$f":"IF('5B'!$N$14=1,\"TMTIK\",IF('5B'!$N$14=2,\"AA\",IF('5B'!$N$14=3,\"QH\",IF('5B'!$N$14=4,\"FQ\",IF('5B'!$N$14=5,\"SKI\",IF('5B'!$N$14=6,\"PKN\",IF('5B'!$N$14=7,\"BID\",IF('5B'!$N$14=8,\"BA\",IF('5B'!$N$14=9,\"MTK\",IF('5B'!$N$14=10,\"IPA\",IF('5B'!$N$14=11,\"IPS\",IF('5B'!$N$14=12,\"SBK\",IF('5B'!$N$14=13,\"PJK\",IF('5B'!$N$14=14,\"BD\",IF('5B'!$N$14=15,\"BIG\",IF('5B'!$N$14=16,\"AWJ\",IF('5B'!$N$14=17,\"NW\",IF('5B'!$N$14=18,\"SRF\",IF('5B'!$N$14=19,\"PG\",IF('5B'!$N$14=20,\"XTR\",””))))))))))))))))))))","v":"TMTIK"},null,{"$f":"IF('5A'!$D$26=1,\"TMTIK\",IF('5A'!$D$26=2,\"AA\",IF('5A'!$D$26=3,\"QH\",IF('5A'!$D$26=4,\"FQ\",IF('5A'!$D$26=5,\"SKI\",IF('5A'!$D$26=6,\"PKN\",IF('5A'!$D$26=7,\"BID\",IF('5A'!$D$26=8,\"BA\",IF('5A'!$D$26=9,\"MTK\",IF('5A'!$D$26=10,\"IPA\",IF('5A'!$D$26=11,\"IPS\",IF('5A'!$D$26=12,\"SBK\",IF('5A'!$D$26=13,\"PJK\",IF('5A'!$D$26=14,\"BD\",IF('5A'!$D$26=15,\"BIG\",IF('5A'!$D$26=16,\"AWJ\",IF('5A'!$D$26=17,\"NW\",IF('5A'!$D$26=18,\"SRF\",IF('5A'!$D$26=19,\"PG\",IF('5A'!$D$26=20,\"XTR\",””))))))))))))))))))))","v":{"$error":"#NAME?"}},{"$f":"IF('5B'!$D$26=1,\"TMTIK\",IF('5B'!$D$26=2,\"AA\",IF('5B'!$D$26=3,\"QH\",IF('5B'!$D$26=4,\"FQ\",IF('5B'!$D$26=5,\"SKI\",IF('5B'!$D$26=6,\"PKN\",IF('5B'!$D$26=7,\"BID\",IF('5B'!$D$26=8,\"BA\",IF('5B'!$D$26=9,\"MTK\",IF('5B'!$D$26=10,\"IPA\",IF('5B'!$D$26=11,\"IPS\",IF('5B'!$D$26=12,\"SBK\",IF('5B'!$D$26=13,\"PJK\",IF('5B'!$D$26=14,\"BD\",IF('5B'!$D$26=15,\"BIG\",IF('5B'!$D$26=16,\"AWJ\",IF('5B'!$D$26=17,\"NW\",IF('5B'!$D$26=18,\"SRF\",IF('5B'!$D$26=19,\"PG\",IF('5B'!$D$26=20,\"XTR\",””))))))))))))))))))))","v":{"$error":"#NAME?"}}]
[6,{"$f":"IF('5A'!$D$15=1,\"TMTIK\",IF('5A'!$D$15=2,\"AA\",IF('5A'!$D$15=3,\"QH\",IF('5A'!$D$15=4,\"FQ\",IF('5A'!$D$15=5,\"SKI\",IF('5A'!$D$15=6,\"PKN\",IF('5A'!$D$15=7,\"BID\",IF('5A'!$D$15=8,\"BA\",IF('5A'!$D$15=9,\"MTK\",IF('5A'!$D$15=10,\"IPA\",IF('5A'!$D$15=11,\"IPS\",IF('5A'!$D$15=12,\"SBK\",IF('5A'!$D$15=13,\"PJK\",IF('5A'!$D$15=14,\"BD\",IF('5A'!$D$15=15,\"BIG\",IF('5A'!$D$15=16,\"AWJ\",IF('5A'!$D$15=17,\"NW\",IF('5A'!$D$15=18,\"SRF\",IF('5A'!$D$15=19,\"PG\",IF('5A'!$D$15=20,\"XTR\",””))))))))))))))))))))","v":"FQ"},{"$f":"IF('5B'!$D$15=1,\"TMTIK\",IF('5B'!$D$15=2,\"AA\",IF('5B'!$D$15=3,\"QH\",IF('5B'!$D$15=4,\"FQ\",IF('5B'!$D$15=5,\"SKI\",IF('5B'!$D$15=6,\"PKN\",IF('5B'!$D$15=7,\"BID\",IF('5B'!$D$15=8,\"BA\",IF('5B'!$D$15=9,\"MTK\",IF('5B'!$D$15=10,\"IPA\",IF('5B'!$D$15=11,\"IPS\",IF('5B'!$D$15=12,\"SBK\",IF('5B'!$D$15=13,\"PJK\",IF('5B'!$D$15=14,\"BD\",IF('5B'!$D$15=15,\"BIG\",IF('5B'!$D$15=16,\"AWJ\",IF('5B'!$D$15=17,\"NW\",IF('5B'!$D$15=18,\"SRF\",IF('5B'!$D$15=19,\"PG\",IF('5B'!$D$15=20,\"XTR\",””))))))))))))))))))))","v":"BA"},null,{"$f":"IF('5A'!$F$15=1,\"TMTIK\",IF('5A'!$F$15=2,\"AA\",IF('5A'!$F$15=3,\"QH\",IF('5A'!$F$15=4,\"FQ\",IF('5A'!$F$15=5,\"SKI\",IF('5A'!$F$15=6,\"PKN\",IF('5A'!$F$15=7,\"BID\",IF('5A'!$F$15=8,\"BA\",IF('5A'!$F$15=9,\"MTK\",IF('5A'!$F$15=10,\"IPA\",IF('5A'!$F$15=11,\"IPS\",IF('5A'!$F$15=12,\"SBK\",IF('5A'!$F$15=13,\"PJK\",IF('5A'!$F$15=14,\"BD\",IF('5A'!$F$15=15,\"BIG\",IF('5A'!$F$15=16,\"AWJ\",IF('5A'!$F$15=17,\"NW\",IF('5A'!$F$15=18,\"SRF\",IF('5A'!$F$15=19,\"PG\",IF('5A'!$F$15=20,\"XTR\",””))))))))))))))))))))","v":"SRF"},{"$f":"IF('5B'!$F$15=1,\"TMTIK\",IF('5B'!$F$15=2,\"AA\",IF('5B'!$F$15=3,\"QH\",IF('5B'!$F$15=4,\"FQ\",IF('5B'!$F$15=5,\"SKI\",IF('5B'!$F$15=6,\"PKN\",IF('5B'!$F$15=7,\"BID\",IF('5B'!$F$15=8,\"BA\",IF('5B'!$F$15=9,\"MTK\",IF('5B'!$F$15=10,\"IPA\",IF('5B'!$F$15=11,\"IPS\",IF('5B'!$F$15=12,\"SBK\",IF('5B'!$F$15=13,\"PJK\",IF('5B'!$F$15=14,\"BD\",IF('5B'!$F$15=15,\"BIG\",IF('5B'!$F$15=16,\"AWJ\",IF('5B'!$F$15=17,\"NW\",IF('5B'!$F$15=18,\"SRF\",IF('5B'!$F$15=19,\"PG\",IF('5B'!$F$15=20,\"XTR\",””))))))))))))))))))))","v":"FQ"},null,{"$f":"IF('5A'!$H$15=1,\"TMTIK\",IF('5A'!$H$15=2,\"AA\",IF('5A'!$H$15=3,\"QH\",IF('5A'!$H$15=4,\"FQ\",IF('5A'!$H$15=5,\"SKI\",IF('5A'!$H$15=6,\"PKN\",IF('5A'!$H$15=7,\"BID\",IF('5A'!$H$15=8,\"BA\",IF('5A'!$H$15=9,\"MTK\",IF('5A'!$H$15=10,\"IPA\",IF('5A'!$H$15=11,\"IPS\",IF('5A'!$H$15=12,\"SBK\",IF('5A'!$H$15=13,\"PJK\",IF('5A'!$H$15=14,\"BD\",IF('5A'!$H$15=15,\"BIG\",IF('5A'!$H$15=16,\"AWJ\",IF('5A'!$H$15=17,\"NW\",IF('5A'!$H$15=18,\"SRF\",IF('5A'!$H$15=19,\"PG\",IF('5A'!$H$15=20,\"XTR\",””))))))))))))))))))))","v":"BD"},{"$f":"IF('5B'!$H$15=1,\"TMTIK\",IF('5B'!$H$15=2,\"AA\",IF('5B'!$H$15=3,\"QH\",IF('5B'!$H$15=4,\"FQ\",IF('5B'!$H$15=5,\"SKI\",IF('5B'!$H$15=6,\"PKN\",IF('5B'!$H$15=7,\"BID\",IF('5B'!$H$15=8,\"BA\",IF('5B'!$H$15=9,\"MTK\",IF('5B'!$H$15=10,\"IPA\",IF('5B'!$H$15=11,\"IPS\",IF('5B'!$H$15=12,\"SBK\",IF('5B'!$H$15=13,\"PJK\",IF('5B'!$H$15=14,\"BD\",IF('5B'!$H$15=15,\"BIG\",IF('5B'!$H$15=16,\"AWJ\",IF('5B'!$H$15=17,\"NW\",IF('5B'!$H$15=18,\"SRF\",IF('5B'!$H$15=19,\"PG\",IF('5B'!$H$15=20,\"XTR\",””))))))))))))))))))))","v":"TMTIK"},null,{"$f":"IF('5A'!$J$15=1,\"TMTIK\",IF('5A'!$J$15=2,\"AA\",IF('5A'!$J$15=3,\"QH\",IF('5A'!$J$15=4,\"FQ\",IF('5A'!$J$15=5,\"SKI\",IF('5A'!$J$15=6,\"PKN\",IF('5A'!$J$15=7,\"BID\",IF('5A'!$J$15=8,\"BA\",IF('5A'!$J$15=9,\"MTK\",IF('5A'!$J$15=10,\"IPA\",IF('5A'!$J$15=11,\"IPS\",IF('5A'!$J$15=12,\"SBK\",IF('5A'!$J$15=13,\"PJK\",IF('5A'!$J$15=14,\"BD\",IF('5A'!$J$15=15,\"BIG\",IF('5A'!$J$15=16,\"AWJ\",IF('5A'!$J$15=17,\"NW\",IF('5A'!$J$15=18,\"SRF\",IF('5A'!$J$15=19,\"PG\",IF('5A'!$J$15=20,\"XTR\",””))))))))))))))))))))","v":"TMTIK"},{"$f":"IF('5B'!$J$15=1,\"TMTIK\",IF('5B'!$J$15=2,\"AA\",IF('5B'!$J$15=3,\"QH\",IF('5B'!$J$15=4,\"FQ\",IF('5B'!$J$15=5,\"SKI\",IF('5B'!$J$15=6,\"PKN\",IF('5B'!$J$15=7,\"BID\",IF('5B'!$J$15=8,\"BA\",IF('5B'!$J$15=9,\"MTK\",IF('5B'!$J$15=10,\"IPA\",IF('5B'!$J$15=11,\"IPS\",IF('5B'!$J$15=12,\"SBK\",IF('5B'!$J$15=13,\"PJK\",IF('5B'!$J$15=14,\"BD\",IF('5B'!$J$15=15,\"BIG\",IF('5B'!$J$15=16,\"AWJ\",IF('5B'!$J$15=17,\"NW\",IF('5B'!$J$15=18,\"SRF\",IF('5B'!$J$15=19,\"PG\",IF('5B'!$J$15=20,\"XTR\",””))))))))))))))))))))","v":"AWJ"},null,{"$f":"IF('5A'!$N$15=1,\"TMTIK\",IF('5A'!$N$15=2,\"AA\",IF('5A'!$N$15=3,\"QH\",IF('5A'!$N$15=4,\"FQ\",IF('5A'!$N$15=5,\"SKI\",IF('5A'!$N$15=6,\"PKN\",IF('5A'!$N$15=7,\"BID\",IF('5A'!$N$15=8,\"BA\",IF('5A'!$N$15=9,\"MTK\",IF('5A'!$N$15=10,\"IPA\",IF('5A'!$N$15=11,\"IPS\",IF('5A'!$N$15=12,\"SBK\",IF('5A'!$N$15=13,\"PJK\",IF('5A'!$N$15=14,\"BD\",IF('5A'!$N$15=15,\"BIG\",IF('5A'!$N$15=16,\"AWJ\",IF('5A'!$N$15=17,\"NW\",IF('5A'!$N$15=18,\"SRF\",IF('5A'!$N$15=19,\"PG\",IF('5A'!$N$15=20,\"XTR\",””))))))))))))))))))))","v":"TMTIK"},{"$f":"IF('5B'!$N$15=1,\"TMTIK\",IF('5B'!$N$15=2,\"AA\",IF('5B'!$N$15=3,\"QH\",IF('5B'!$N$15=4,\"FQ\",IF('5B'!$N$15=5,\"SKI\",IF('5B'!$N$15=6,\"PKN\",IF('5B'!$N$15=7,\"BID\",IF('5B'!$N$15=8,\"BA\",IF('5B'!$N$15=9,\"MTK\",IF('5B'!$N$15=10,\"IPA\",IF('5B'!$N$15=11,\"IPS\",IF('5B'!$N$15=12,\"SBK\",IF('5B'!$N$15=13,\"PJK\",IF('5B'!$N$15=14,\"BD\",IF('5B'!$N$15=15,\"BIG\",IF('5B'!$N$15=16,\"AWJ\",IF('5B'!$N$15=17,\"NW\",IF('5B'!$N$15=18,\"SRF\",IF('5B'!$N$15=19,\"PG\",IF('5B'!$N$15=20,\"XTR\",””))))))))))))))))))))","v":"TMTIK"},null,{"$f":"IF('5A'!$D$27=1,\"TMTIK\",IF('5A'!$D$27=2,\"AA\",IF('5A'!$D$27=3,\"QH\",IF('5A'!$D$27=4,\"FQ\",IF('5A'!$D$27=5,\"SKI\",IF('5A'!$D$27=6,\"PKN\",IF('5A'!$D$27=7,\"BID\",IF('5A'!$D$27=8,\"BA\",IF('5A'!$D$27=9,\"MTK\",IF('5A'!$D$27=10,\"IPA\",IF('5A'!$D$27=11,\"IPS\",IF('5A'!$D$27=12,\"SBK\",IF('5A'!$D$27=13,\"PJK\",IF('5A'!$D$27=14,\"BD\",IF('5A'!$D$27=15,\"BIG\",IF('5A'!$D$27=16,\"AWJ\",IF('5A'!$D$27=17,\"NW\",IF('5A'!$D$27=18,\"SRF\",IF('5A'!$D$27=19,\"PG\",IF('5A'!$D$27=20,\"XTR\",””))))))))))))))))))))","v":{"$error":"#NAME?"}},{"$f":"IF('5B'!$D$27=1,\"TMTIK\",IF('5B'!$D$27=2,\"AA\",IF('5B'!$D$27=3,\"QH\",IF('5B'!$D$27=4,\"FQ\",IF('5B'!$D$27=5,\"SKI\",IF('5B'!$D$27=6,\"PKN\",IF('5B'!$D$27=7,\"BID\",IF('5B'!$D$27=8,\"BA\",IF('5B'!$D$27=9,\"MTK\",IF('5B'!$D$27=10,\"IPA\",IF('5B'!$D$27=11,\"IPS\",IF('5B'!$D$27=12,\"SBK\",IF('5B'!$D$27=13,\"PJK\",IF('5B'!$D$27=14,\"BD\",IF('5B'!$D$27=15,\"BIG\",IF('5B'!$D$27=16,\"AWJ\",IF('5B'!$D$27=17,\"NW\",IF('5B'!$D$27=18,\"SRF\",IF('5B'!$D$27=19,\"PG\",IF('5B'!$D$27=20,\"XTR\",””))))))))))))))))))))","v":{"$error":"#NAME?"}}]
[7,{"$f":"IF('5A'!$D$17=1,\"TMTIK\",IF('5A'!$D$17=2,\"AA\",IF('5A'!$D$17=3,\"QH\",IF('5A'!$D$17=4,\"FQ\",IF('5A'!$D$17=5,\"SKI\",IF('5A'!$D$17=6,\"PKN\",IF('5A'!$D$17=7,\"BID\",IF('5A'!$D$17=8,\"BA\",IF('5A'!$D$17=9,\"MTK\",IF('5A'!$D$17=10,\"IPA\",IF('5A'!$D$17=11,\"IPS\",IF('5A'!$D$17=12,\"SBK\",IF('5A'!$D$17=13,\"PJK\",IF('5A'!$D$17=14,\"BD\",IF('5A'!$D$17=15,\"BIG\",IF('5A'!$D$17=16,\"AWJ\",IF('5A'!$D$17=17,\"NW\",IF('5A'!$D$17=18,\"SRF\",IF('5A'!$D$17=19,\"PG\",IF('5A'!$D$17=20,\"XTR\",””))))))))))))))))))))","v":"AA"},{"$f":"IF('5B'!$D$17=1,\"TMTIK\",IF('5B'!$D$17=2,\"AA\",IF('5B'!$D$17=3,\"QH\",IF('5B'!$D$17=4,\"FQ\",IF('5B'!$D$17=5,\"SKI\",IF('5B'!$D$17=6,\"PKN\",IF('5B'!$D$17=7,\"BID\",IF('5B'!$D$17=8,\"BA\",IF('5B'!$D$17=9,\"MTK\",IF('5B'!$D$17=10,\"IPA\",IF('5B'!$D$17=11,\"IPS\",IF('5B'!$D$17=12,\"SBK\",IF('5B'!$D$17=13,\"PJK\",IF('5B'!$D$17=14,\"BD\",IF('5B'!$D$17=15,\"BIG\",IF('5B'!$D$17=16,\"AWJ\",IF('5B'!$D$17=17,\"NW\",IF('5B'!$D$17=18,\"SRF\",IF('5B'!$D$17=19,\"PG\",IF('5B'!$D$17=20,\"XTR\",””))))))))))))))))))))","v":"SKI"},null,{"$f":"IF('5A'!$F$17=1,\"TMTIK\",IF('5A'!$F$17=2,\"AA\",IF('5A'!$F$17=3,\"QH\",IF('5A'!$F$17=4,\"FQ\",IF('5A'!$F$17=5,\"SKI\",IF('5A'!$F$17=6,\"PKN\",IF('5A'!$F$17=7,\"BID\",IF('5A'!$F$17=8,\"BA\",IF('5A'!$F$17=9,\"MTK\",IF('5A'!$F$17=10,\"IPA\",IF('5A'!$F$17=11,\"IPS\",IF('5A'!$F$17=12,\"SBK\",IF('5A'!$F$17=13,\"PJK\",IF('5A'!$F$17=14,\"BD\",IF('5A'!$F$17=15,\"BIG\",IF('5A'!$F$17=16,\"AWJ\",IF('5A'!$F$17=17,\"NW\",IF('5A'!$F$17=18,\"SRF\",IF('5A'!$F$17=19,\"PG\",IF('5A'!$F$17=20,\"XTR\",””))))))))))))))))))))","v":"TMTIK"},{"$f":"IF('5B'!$F$17=1,\"TMTIK\",IF('5B'!$F$17=2,\"AA\",IF('5B'!$F$17=3,\"QH\",IF('5B'!$F$17=4,\"FQ\",IF('5B'!$F$17=5,\"SKI\",IF('5B'!$F$17=6,\"PKN\",IF('5B'!$F$17=7,\"BID\",IF('5B'!$F$17=8,\"BA\",IF('5B'!$F$17=9,\"MTK\",IF('5B'!$F$17=10,\"IPA\",IF('5B'!$F$17=11,\"IPS\",IF('5B'!$F$17=12,\"SBK\",IF('5B'!$F$17=13,\"PJK\",IF('5B'!$F$17=14,\"BD\",IF('5B'!$F$17=15,\"BIG\",IF('5B'!$F$17=16,\"AWJ\",IF('5B'!$F$17=17,\"NW\",IF('5B'!$F$17=18,\"SRF\",IF('5B'!$F$17=19,\"PG\",IF('5B'!$F$17=20,\"XTR\",””))))))))))))))))))))","v":"AA"},null,{"$f":"IF('5A'!$H$17=1,\"TMTIK\",IF('5A'!$H$17=2,\"AA\",IF('5A'!$H$17=3,\"QH\",IF('5A'!$H$17=4,\"FQ\",IF('5A'!$H$17=5,\"SKI\",IF('5A'!$H$17=6,\"PKN\",IF('5A'!$H$17=7,\"BID\",IF('5A'!$H$17=8,\"BA\",IF('5A'!$H$17=9,\"MTK\",IF('5A'!$H$17=10,\"IPA\",IF('5A'!$H$17=11,\"IPS\",IF('5A'!$H$17=12,\"SBK\",IF('5A'!$H$17=13,\"PJK\",IF('5A'!$H$17=14,\"BD\",IF('5A'!$H$17=15,\"BIG\",IF('5A'!$H$17=16,\"AWJ\",IF('5A'!$H$17=17,\"NW\",IF('5A'!$H$17=18,\"SRF\",IF('5A'!$H$17=19,\"PG\",IF('5A'!$H$17=20,\"XTR\",””))))))))))))))))))))","v":"TMTIK"},{"$f":"IF('5B'!$H$17=1,\"TMTIK\",IF('5B'!$H$17=2,\"AA\",IF('5B'!$H$17=3,\"QH\",IF('5B'!$H$17=4,\"FQ\",IF('5B'!$H$17=5,\"SKI\",IF('5B'!$H$17=6,\"PKN\",IF('5B'!$H$17=7,\"BID\",IF('5B'!$H$17=8,\"BA\",IF('5B'!$H$17=9,\"MTK\",IF('5B'!$H$17=10,\"IPA\",IF('5B'!$H$17=11,\"IPS\",IF('5B'!$H$17=12,\"SBK\",IF('5B'!$H$17=13,\"PJK\",IF('5B'!$H$17=14,\"BD\",IF('5B'!$H$17=15,\"BIG\",IF('5B'!$H$17=16,\"AWJ\",IF('5B'!$H$17=17,\"NW\",IF('5B'!$H$17=18,\"SRF\",IF('5B'!$H$17=19,\"PG\",IF('5B'!$H$17=20,\"XTR\",””))))))))))))))))))))","v":"TMTIK"},null,{"$f":"IF('5A'!$J$17=1,\"TMTIK\",IF('5A'!$J$17=2,\"AA\",IF('5A'!$J$17=3,\"QH\",IF('5A'!$J$17=4,\"FQ\",IF('5A'!$J$17=5,\"SKI\",IF('5A'!$J$17=6,\"PKN\",IF('5A'!$J$17=7,\"BID\",IF('5A'!$J$17=8,\"BA\",IF('5A'!$J$17=9,\"MTK\",IF('5A'!$J$17=10,\"IPA\",IF('5A'!$J$17=11,\"IPS\",IF('5A'!$J$17=12,\"SBK\",IF('5A'!$J$17=13,\"PJK\",IF('5A'!$J$17=14,\"BD\",IF('5A'!$J$17=15,\"BIG\",IF('5A'!$J$17=16,\"AWJ\",IF('5A'!$J$17=17,\"NW\",IF('5A'!$J$17=18,\"SRF\",IF('5A'!$J$17=19,\"PG\",IF('5A'!$J$17=20,\"XTR\",””))))))))))))))))))))","v":"AWJ"},{"$f":"IF('5B'!$J$17=1,\"TMTIK\",IF('5B'!$J$17=2,\"AA\",IF('5B'!$J$17=3,\"QH\",IF('5B'!$J$17=4,\"FQ\",IF('5B'!$J$17=5,\"SKI\",IF('5B'!$J$17=6,\"PKN\",IF('5B'!$J$17=7,\"BID\",IF('5B'!$J$17=8,\"BA\",IF('5B'!$J$17=9,\"MTK\",IF('5B'!$J$17=10,\"IPA\",IF('5B'!$J$17=11,\"IPS\",IF('5B'!$J$17=12,\"SBK\",IF('5B'!$J$17=13,\"PJK\",IF('5B'!$J$17=14,\"BD\",IF('5B'!$J$17=15,\"BIG\",IF('5B'!$J$17=16,\"AWJ\",IF('5B'!$J$17=17,\"NW\",IF('5B'!$J$17=18,\"SRF\",IF('5B'!$J$17=19,\"PG\",IF('5B'!$J$17=20,\"XTR\",””))))))))))))))))))))","v":"TMTIK"},null,{"$f":"IF('5A'!$N$17=1,\"TMTIK\",IF('5A'!$N$17=2,\"AA\",IF('5A'!$N$17=3,\"QH\",IF('5A'!$N$17=4,\"FQ\",IF('5A'!$N$17=5,\"SKI\",IF('5A'!$N$17=6,\"PKN\",IF('5A'!$N$17=7,\"BID\",IF('5A'!$N$17=8,\"BA\",IF('5A'!$N$17=9,\"MTK\",IF('5A'!$N$17=10,\"IPA\",IF('5A'!$N$17=11,\"IPS\",IF('5A'!$N$17=12,\"SBK\",IF('5A'!$N$17=13,\"PJK\",IF('5A'!$N$17=14,\"BD\",IF('5A'!$N$17=15,\"BIG\",IF('5A'!$N$17=16,\"AWJ\",IF('5A'!$N$17=17,\"NW\",IF('5A'!$N$17=18,\"SRF\",IF('5A'!$N$17=19,\"PG\",IF('5A'!$N$17=20,\"XTR\",””))))))))))))))))))))","v":{"$error":"#NAME?"}},{"$f":"IF('5B'!$N$17=1,\"TMTIK\",IF('5B'!$N$17=2,\"AA\",IF('5B'!$N$17=3,\"QH\",IF('5B'!$N$17=4,\"FQ\",IF('5B'!$N$17=5,\"SKI\",IF('5B'!$N$17=6,\"PKN\",IF('5B'!$N$17=7,\"BID\",IF('5B'!$N$17=8,\"BA\",IF('5B'!$N$17=9,\"MTK\",IF('5B'!$N$17=10,\"IPA\",IF('5B'!$N$17=11,\"IPS\",IF('5B'!$N$17=12,\"SBK\",IF('5B'!$N$17=13,\"PJK\",IF('5B'!$N$17=14,\"BD\",IF('5B'!$N$17=15,\"BIG\",IF('5B'!$N$17=16,\"AWJ\",IF('5B'!$N$17=17,\"NW\",IF('5B'!$N$17=18,\"SRF\",IF('5B'!$N$17=19,\"PG\",IF('5B'!$N$17=20,\"XTR\",””))))))))))))))))))))","v":{"$error":"#NAME?"}}]
[8,{"$f":"IF('5A'!$D$18=1,\"TMTIK\",IF('5A'!$D$18=2,\"AA\",IF('5A'!$D$18=3,\"QH\",IF('5A'!$D$18=4,\"FQ\",IF('5A'!$D$18=5,\"SKI\",IF('5A'!$D$18=6,\"PKN\",IF('5A'!$D$18=7,\"BID\",IF('5A'!$D$18=8,\"BA\",IF('5A'!$D$18=9,\"MTK\",IF('5A'!$D$18=10,\"IPA\",IF('5A'!$D$18=11,\"IPS\",IF('5A'!$D$18=12,\"SBK\",IF('5A'!$D$18=13,\"PJK\",IF('5A'!$D$18=14,\"BD\",IF('5A'!$D$18=15,\"BIG\",IF('5A'!$D$18=16,\"AWJ\",IF('5A'!$D$18=17,\"NW\",IF('5A'!$D$18=18,\"SRF\",IF('5A'!$D$18=19,\"PG\",IF('5A'!$D$18=20,\"XTR\",””))))))))))))))))))))","v":"AA"},{"$f":"IF('5B'!$D$18=1,\"TMTIK\",IF('5B'!$D$18=2,\"AA\",IF('5B'!$D$18=3,\"QH\",IF('5B'!$D$18=4,\"FQ\",IF('5B'!$D$18=5,\"SKI\",IF('5B'!$D$18=6,\"PKN\",IF('5B'!$D$18=7,\"BID\",IF('5B'!$D$18=8,\"BA\",IF('5B'!$D$18=9,\"MTK\",IF('5B'!$D$18=10,\"IPA\",IF('5B'!$D$18=11,\"IPS\",IF('5B'!$D$18=12,\"SBK\",IF('5B'!$D$18=13,\"PJK\",IF('5B'!$D$18=14,\"BD\",IF('5B'!$D$18=15,\"BIG\",IF('5B'!$D$18=16,\"AWJ\",IF('5B'!$D$18=17,\"NW\",IF('5B'!$D$18=18,\"SRF\",IF('5B'!$D$18=19,\"PG\",IF('5B'!$D$18=20,\"XTR\",””))))))))))))))))))))","v":"SKI"},null,{"$f":"IF('5A'!$F$18=1,\"TMTIK\",IF('5A'!$F$18=2,\"AA\",IF('5A'!$F$18=3,\"QH\",IF('5A'!$F$18=4,\"FQ\",IF('5A'!$F$18=5,\"SKI\",IF('5A'!$F$18=6,\"PKN\",IF('5A'!$F$18=7,\"BID\",IF('5A'!$F$18=8,\"BA\",IF('5A'!$F$18=9,\"MTK\",IF('5A'!$F$18=10,\"IPA\",IF('5A'!$F$18=11,\"IPS\",IF('5A'!$F$18=12,\"SBK\",IF('5A'!$F$18=13,\"PJK\",IF('5A'!$F$18=14,\"BD\",IF('5A'!$F$18=15,\"BIG\",IF('5A'!$F$18=16,\"AWJ\",IF('5A'!$F$18=17,\"NW\",IF('5A'!$F$18=18,\"SRF\",IF('5A'!$F$18=19,\"PG\",IF('5A'!$F$18=20,\"XTR\",””))))))))))))))))))))","v":"TMTIK"},{"$f":"IF('5B'!$F$18=1,\"TMTIK\",IF('5B'!$F$18=2,\"AA\",IF('5B'!$F$18=3,\"QH\",IF('5B'!$F$18=4,\"FQ\",IF('5B'!$F$18=5,\"SKI\",IF('5B'!$F$18=6,\"PKN\",IF('5B'!$F$18=7,\"BID\",IF('5B'!$F$18=8,\"BA\",IF('5B'!$F$18=9,\"MTK\",IF('5B'!$F$18=10,\"IPA\",IF('5B'!$F$18=11,\"IPS\",IF('5B'!$F$18=12,\"SBK\",IF('5B'!$F$18=13,\"PJK\",IF('5B'!$F$18=14,\"BD\",IF('5B'!$F$18=15,\"BIG\",IF('5B'!$F$18=16,\"AWJ\",IF('5B'!$F$18=17,\"NW\",IF('5B'!$F$18=18,\"SRF\",IF('5B'!$F$18=19,\"PG\",IF('5B'!$F$18=20,\"XTR\",””))))))))))))))))))))","v":"AA"},null,{"$f":"IF('5A'!$H$18=1,\"TMTIK\",IF('5A'!$H$18=2,\"AA\",IF('5A'!$H$18=3,\"QH\",IF('5A'!$H$18=4,\"FQ\",IF('5A'!$H$18=5,\"SKI\",IF('5A'!$H$18=6,\"PKN\",IF('5A'!$H$18=7,\"BID\",IF('5A'!$H$18=8,\"BA\",IF('5A'!$H$18=9,\"MTK\",IF('5A'!$H$18=10,\"IPA\",IF('5A'!$H$18=11,\"IPS\",IF('5A'!$H$18=12,\"SBK\",IF('5A'!$H$18=13,\"PJK\",IF('5A'!$H$18=14,\"BD\",IF('5A'!$H$18=15,\"BIG\",IF('5A'!$H$18=16,\"AWJ\",IF('5A'!$H$18=17,\"NW\",IF('5A'!$H$18=18,\"SRF\",IF('5A'!$H$18=19,\"PG\",IF('5A'!$H$18=20,\"XTR\",””))))))))))))))))))))","v":"TMTIK"},{"$f":"IF('5B'!$H$18=1,\"TMTIK\",IF('5B'!$H$18=2,\"AA\",IF('5B'!$H$18=3,\"QH\",IF('5B'!$H$18=4,\"FQ\",IF('5B'!$H$18=5,\"SKI\",IF('5B'!$H$18=6,\"PKN\",IF('5B'!$H$18=7,\"BID\",IF('5B'!$H$18=8,\"BA\",IF('5B'!$H$18=9,\"MTK\",IF('5B'!$H$18=10,\"IPA\",IF('5B'!$H$18=11,\"IPS\",IF('5B'!$H$18=12,\"SBK\",IF('5B'!$H$18=13,\"PJK\",IF('5B'!$H$18=14,\"BD\",IF('5B'!$H$18=15,\"BIG\",IF('5B'!$H$18=16,\"AWJ\",IF('5B'!$H$18=17,\"NW\",IF('5B'!$H$18=18,\"SRF\",IF('5B'!$H$18=19,\"PG\",IF('5B'!$H$18=20,\"XTR\",””))))))))))))))))))))","v":"TMTIK"},null,{"$f":"IF('5A'!$J$18=1,\"TMTIK\",IF('5A'!$J$18=2,\"AA\",IF('5A'!$J$18=3,\"QH\",IF('5A'!$J$18=4,\"FQ\",IF('5A'!$J$18=5,\"SKI\",IF('5A'!$J$18=6,\"PKN\",IF('5A'!$J$18=7,\"BID\",IF('5A'!$J$18=8,\"BA\",IF('5A'!$J$18=9,\"MTK\",IF('5A'!$J$18=10,\"IPA\",IF('5A'!$J$18=11,\"IPS\",IF('5A'!$J$18=12,\"SBK\",IF('5A'!$J$18=13,\"PJK\",IF('5A'!$J$18=14,\"BD\",IF('5A'!$J$18=15,\"BIG\",IF('5A'!$J$18=16,\"AWJ\",IF('5A'!$J$18=17,\"NW\",IF('5A'!$J$18=18,\"SRF\",IF('5A'!$J$18=19,\"PG\",IF('5A'!$J$18=20,\"XTR\",””))))))))))))))))))))","v":"AWJ"},{"$f":"IF('5B'!$J$18=1,\"TMTIK\",IF('5B'!$J$18=2,\"AA\",IF('5B'!$J$18=3,\"QH\",IF('5B'!$J$18=4,\"FQ\",IF('5B'!$J$18=5,\"SKI\",IF('5B'!$J$18=6,\"PKN\",IF('5B'!$J$18=7,\"BID\",IF('5B'!$J$18=8,\"BA\",IF('5B'!$J$18=9,\"MTK\",IF('5B'!$J$18=10,\"IPA\",IF('5B'!$J$18=11,\"IPS\",IF('5B'!$J$18=12,\"SBK\",IF('5B'!$J$18=13,\"PJK\",IF('5B'!$J$18=14,\"BD\",IF('5B'!$J$18=15,\"BIG\",IF('5B'!$J$18=16,\"AWJ\",IF('5B'!$J$18=17,\"NW\",IF('5B'!$J$18=18,\"SRF\",IF('5B'!$J$18=19,\"PG\",IF('5B'!$J$18=20,\"XTR\",””))))))))))))))))))))","v":"TMTIK"},null,{"$f":"IF('5A'!$N$18=1,\"TMTIK\",IF('5A'!$N$18=2,\"AA\",IF('5A'!$N$18=3,\"QH\",IF('5A'!$N$18=4,\"FQ\",IF('5A'!$N$18=5,\"SKI\",IF('5A'!$N$18=6,\"PKN\",IF('5A'!$N$18=7,\"BID\",IF('5A'!$N$18=8,\"BA\",IF('5A'!$N$18=9,\"MTK\",IF('5A'!$N$18=10,\"IPA\",IF('5A'!$N$18=11,\"IPS\",IF('5A'!$N$18=12,\"SBK\",IF('5A'!$N$18=13,\"PJK\",IF('5A'!$N$18=14,\"BD\",IF('5A'!$N$18=15,\"BIG\",IF('5A'!$N$18=16,\"AWJ\",IF('5A'!$N$18=17,\"NW\",IF('5A'!$N$18=18,\"SRF\",IF('5A'!$N$18=19,\"PG\",IF('5A'!$N$18=20,\"XTR\",””))))))))))))))))))))","v":{"$error":"#NAME?"}},{"$f":"IF('5B'!$N$18=1,\"TMTIK\",IF('5B'!$N$18=2,\"AA\",IF('5B'!$N$18=3,\"QH\",IF('5B'!$N$18=4,\"FQ\",IF('5B'!$N$18=5,\"SKI\",IF('5B'!$N$18=6,\"PKN\",IF('5B'!$N$18=7,\"BID\",IF('5B'!$N$18=8,\"BA\",IF('5B'!$N$18=9,\"MTK\",IF('5B'!$N$18=10,\"IPA\",IF('5B'!$N$18=11,\"IPS\",IF('5B'!$N$18=12,\"SBK\",IF('5B'!$N$18=13,\"PJK\",IF('5B'!$N$18=14,\"BD\",IF('5B'!$N$18=15,\"BIG\",IF('5B'!$N$18=16,\"AWJ\",IF('5B'!$N$18=17,\"NW\",IF('5B'!$N$18=18,\"SRF\",IF('5B'!$N$18=19,\"PG\",IF('5B'!$N$18=20,\"XTR\",””))))))))))))))))))))","v":{"$error":"#NAME?"}}]
[]
["NO","KELAS 6"]
[null,"SENIN",null,null,"SELASA",null,null,"RABU",null,null,"KAMIS",null,null,"JUMAT",null,null,"SABTU"]
[null,"A","B","C","A","B","C","A","B","C","A","B","C","A","B","C","A","B","C"]
[1,{"$f":"IF('6A'!$D$9=1,\"TMTIK\",IF('6A'!$D$9=2,\"AA\",IF('6A'!$D$9=3,\"QH\",IF('6A'!$D$9=4,\"FQ\",IF('6A'!$D$9=5,\"SKI\",IF('6A'!$D$9=6,\"PKN\",IF('6A'!$D$9=7,\"BID\",IF('6A'!$D$9=8,\"BA\",IF('6A'!$D$9=9,\"MTK\",IF('6A'!$D$9=10,\"IPA\",IF('6A'!$D$9=11,\"IPS\",IF('6A'!$D$9=12,\"SBK\",IF('6A'!$D$9=13,\"PJK\",IF('6A'!$D$9=14,\"BD\",IF('6A'!$D$9=15,\"BIG\",IF('6A'!$D$9=16,\"AWJ\",IF('6A'!$D$9=17,\"NW\",IF('6A'!$D$9=18,\"SRF\",IF('6A'!$D$9=19,\"PG\",IF('6A'!$D$9=20,\"XTR\",””))))))))))))))))))))","v":"PJK"},{"$f":"IF('6B'!$D$9=1,\"TMTIK\",IF('6B'!$D$9=2,\"AA\",IF('6B'!$D$9=3,\"QH\",IF('6B'!$D$9=4,\"FQ\",IF('6B'!$D$9=5,\"SKI\",IF('6B'!$D$9=6,\"PKN\",IF('6B'!$D$9=7,\"BID\",IF('6B'!$D$9=8,\"BA\",IF('6B'!$D$9=9,\"MTK\",IF('6B'!$D$9=10,\"IPA\",IF('6B'!$D$9=11,\"IPS\",IF('6B'!$D$9=12,\"SBK\",IF('6B'!$D$9=13,\"PJK\",IF('6B'!$D$9=14,\"BD\",IF('6B'!$D$9=15,\"BIG\",IF('6B'!$D$9=16,\"AWJ\",IF('6B'!$D$9=17,\"NW\",IF('6B'!$D$9=18,\"SRF\",IF('6B'!$D$9=19,\"PG\",IF('6B'!$D$9=20,\"XTR\",””))))))))))))))))))))","v":"MTK"},null,{"$f":"IF('6A'!$F$9=1,\"TMTIK\",IF('6A'!$F$9=2,\"AA\",IF('6A'!$F$9=3,\"QH\",IF('6A'!$F$9=4,\"FQ\",IF('6A'!$F$9=5,\"SKI\",IF('6A'!$F$9=6,\"PKN\",IF('6A'!$F$9=7,\"BID\",IF('6A'!$F$9=8,\"BA\",IF('6A'!$F$9=9,\"MTK\",IF('6A'!$F$9=10,\"IPA\",IF('6A'!$F$9=11,\"IPS\",IF('6A'!$F$9=12,\"SBK\",IF('6A'!$F$9=13,\"PJK\",IF('6A'!$F$9=14,\"BD\",IF('6A'!$F$9=15,\"BIG\",IF('6A'!$F$9=16,\"AWJ\",IF('6A'!$F$9=17,\"NW\",IF('6A'!$F$9=18,\"SRF\",IF('6A'!$F$9=19,\"PG\",IF('6A'!$F$9=20,\"XTR\",””))))))))))))))))))))","v":"MTK"},{"$f":"IF('6B'!$F$9=1,\"TMTIK\",IF('6B'!$F$9=2,\"AA\",IF('6B'!$F$9=3,\"QH\",IF('6B'!$F$9=4,\"FQ\",IF('6B'!$F$9=5,\"SKI\",IF('6B'!$F$9=6,\"PKN\",IF('6B'!$F$9=7,\"BID\",IF('6B'!$F$9=8,\"BA\",IF('6B'!$F$9=9,\"MTK\",IF('6B'!$F$9=10,\"IPA\",IF('6B'!$F$9=11,\"IPS\",IF('6B'!$F$9=12,\"SBK\",IF('6B'!$F$9=13,\"PJK\",IF('6B'!$F$9=14,\"BD\",IF('6B'!$F$9=15,\"BIG\",IF('6B'!$F$9=16,\"AWJ\",IF('6B'!$F$9=17,\"NW\",IF('6B'!$F$9=18,\"SRF\",IF('6B'!$F$9=19,\"PG\",IF('6B'!$F$9=20,\"XTR\",””))))))))))))))))))))","v":"PJK"},null,{"$f":"IF('6A'!$H$9=1,\"TMTIK\",IF('6A'!$H$9=2,\"AA\",IF('6A'!$H$9=3,\"QH\",IF('6A'!$H$9=4,\"FQ\",IF('6A'!$H$9=5,\"SKI\",IF('6A'!$H$9=6,\"PKN\",IF('6A'!$H$9=7,\"BID\",IF('6A'!$H$9=8,\"BA\",IF('6A'!$H$9=9,\"MTK\",IF('6A'!$H$9=10,\"IPA\",IF('6A'!$H$9=11,\"IPS\",IF('6A'!$H$9=12,\"SBK\",IF('6A'!$H$9=13,\"PJK\",IF('6A'!$H$9=14,\"BD\",IF('6A'!$H$9=15,\"BIG\",IF('6A'!$H$9=16,\"AWJ\",IF('6A'!$H$9=17,\"NW\",IF('6A'!$H$9=18,\"SRF\",IF('6A'!$H$9=19,\"PG\",IF('6A'!$H$9=20,\"XTR\",””))))))))))))))))))))","v":"BA"},{"$f":"IF('6B'!$H$9=1,\"TMTIK\",IF('6B'!$H$9=2,\"AA\",IF('6B'!$H$9=3,\"QH\",IF('6B'!$H$9=4,\"FQ\",IF('6B'!$H$9=5,\"SKI\",IF('6B'!$H$9=6,\"PKN\",IF('6B'!$H$9=7,\"BID\",IF('6B'!$H$9=8,\"BA\",IF('6B'!$H$9=9,\"MTK\",IF('6B'!$H$9=10,\"IPA\",IF('6B'!$H$9=11,\"IPS\",IF('6B'!$H$9=12,\"SBK\",IF('6B'!$H$9=13,\"PJK\",IF('6B'!$H$9=14,\"BD\",IF('6B'!$H$9=15,\"BIG\",IF('6B'!$H$9=16,\"AWJ\",IF('6B'!$H$9=17,\"NW\",IF('6B'!$H$9=18,\"SRF\",IF('6B'!$H$9=19,\"PG\",IF('6B'!$H$9=20,\"XTR\",””))))))))))))))))))))","v":"MTK"},null,{"$f":"IF('6A'!$J$9=1,\"TMTIK\",IF('6A'!$J$9=2,\"AA\",IF('6A'!$J$9=3,\"QH\",IF('6A'!$J$9=4,\"FQ\",IF('6A'!$J$9=5,\"SKI\",IF('6A'!$J$9=6,\"PKN\",IF('6A'!$J$9=7,\"BID\",IF('6A'!$J$9=8,\"BA\",IF('6A'!$J$9=9,\"MTK\",IF('6A'!$J$9=10,\"IPA\",IF('6A'!$J$9=11,\"IPS\",IF('6A'!$J$9=12,\"SBK\",IF('6A'!$J$9=13,\"PJK\",IF('6A'!$J$9=14,\"BD\",IF('6A'!$J$9=15,\"BIG\",IF('6A'!$J$9=16,\"AWJ\",IF('6A'!$J$9=17,\"NW\",IF('6A'!$J$9=18,\"SRF\",IF('6A'!$J$9=19,\"PG\",IF('6A'!$J$9=20,\"XTR\",””))))))))))))))))))))","v":"FQ"},{"$f":"IF('6B'!$J$9=1,\"TMTIK\",IF('6B'!$J$9=2,\"AA\",IF('6B'!$J$9=3,\"QH\",IF('6B'!$J$9=4,\"FQ\",IF('6B'!$J$9=5,\"SKI\",IF('6B'!$J$9=6,\"PKN\",IF('6B'!$J$9=7,\"BID\",IF('6B'!$J$9=8,\"BA\",IF('6B'!$J$9=9,\"MTK\",IF('6B'!$J$9=10,\"IPA\",IF('6B'!$J$9=11,\"IPS\",IF('6B'!$J$9=12,\"SBK\",IF('6B'!$J$9=13,\"PJK\",IF('6B'!$J$9=14,\"BD\",IF('6B'!$J$9=15,\"BIG\",IF('6B'!$J$9=16,\"AWJ\",IF('6B'!$J$9=17,\"NW\",IF('6B'!$J$9=18,\"SRF\",IF('6B'!$J$9=19,\"PG\",IF('6B'!$J$9=20,\"XTR\",””))))))))))))))))))))","v":"SKI"},null,{"$f":"IF('6A'!$N$9=1,\"TMTIK\",IF('6A'!$N$9=2,\"AA\",IF('6A'!$N$9=3,\"QH\",IF('6A'!$N$9=4,\"FQ\",IF('6A'!$N$9=5,\"SKI\",IF('6A'!$N$9=6,\"PKN\",IF('6A'!$N$9=7,\"BID\",IF('6A'!$N$9=8,\"BA\",IF('6A'!$N$9=9,\"MTK\",IF('6A'!$N$9=10,\"IPA\",IF('6A'!$N$9=11,\"IPS\",IF('6A'!$N$9=12,\"SBK\",IF('6A'!$N$9=13,\"PJK\",IF('6A'!$N$9=14,\"BD\",IF('6A'!$N$9=15,\"BIG\",IF('6A'!$N$9=16,\"AWJ\",IF('6A'!$N$9=17,\"NW\",IF('6A'!$N$9=18,\"SRF\",IF('6A'!$N$9=19,\"PG\",IF('6A'!$N$9=20,\"XTR\",””))))))))))))))))))))","v":"TMTIK"},{"$f":"IF('6B'!$N$9=1,\"TMTIK\",IF('6B'!$N$9=2,\"AA\",IF('6B'!$N$9=3,\"QH\",IF('6B'!$N$9=4,\"FQ\",IF('6B'!$N$9=5,\"SKI\",IF('6B'!$N$9=6,\"PKN\",IF('6B'!$N$9=7,\"BID\",IF('6B'!$N$9=8,\"BA\",IF('6B'!$N$9=9,\"MTK\",IF('6B'!$N$9=10,\"IPA\",IF('6B'!$N$9=11,\"IPS\",IF('6B'!$N$9=12,\"SBK\",IF('6B'!$N$9=13,\"PJK\",IF('6B'!$N$9=14,\"BD\",IF('6B'!$N$9=15,\"BIG\",IF('6B'!$N$9=16,\"AWJ\",IF('6B'!$N$9=17,\"NW\",IF('6B'!$N$9=18,\"SRF\",IF('6B'!$N$9=19,\"PG\",IF('6B'!$N$9=20,\"XTR\",””))))))))))))))))))))","v":"TMTIK"},null,{"$f":"IF('6A'!$D$22=1,\"TMTIK\",IF('6A'!$D$22=2,\"AA\",IF('6A'!$D$22=3,\"QH\",IF('6A'!$D$22=4,\"FQ\",IF('6A'!$D$22=5,\"SKI\",IF('6A'!$D$22=6,\"PKN\",IF('6A'!$D$22=7,\"BID\",IF('6A'!$D$22=8,\"BA\",IF('6A'!$D$22=9,\"MTK\",IF('6A'!$D$22=10,\"IPA\",IF('6A'!$D$22=11,\"IPS\",IF('6A'!$D$22=12,\"SBK\",IF('6A'!$D$22=13,\"PJK\",IF('6A'!$D$22=14,\"BD\",IF('6A'!$D$22=15,\"BIG\",IF('6A'!$D$22=16,\"AWJ\",IF('6A'!$D$22=17,\"NW\",IF('6A'!$D$22=18,\"SRF\",IF('6A'!$D$22=19,\"PG\",IF('6A'!$D$22=20,\"XTR\",””))))))))))))))))))))","v":"TMTIK"},{"$f":"IF('6B'!$D$22=1,\"TMTIK\",IF('6B'!$D$22=2,\"AA\",IF('6B'!$D$22=3,\"QH\",IF('6B'!$D$22=4,\"FQ\",IF('6B'!$D$22=5,\"SKI\",IF('6B'!$D$22=6,\"PKN\",IF('6B'!$D$22=7,\"BID\",IF('6B'!$D$22=8,\"BA\",IF('6B'!$D$22=9,\"MTK\",IF('6B'!$D$22=10,\"IPA\",IF('6B'!$D$22=11,\"IPS\",IF('6B'!$D$22=12,\"SBK\",IF('6B'!$D$22=13,\"PJK\",IF('6B'!$D$22=14,\"BD\",IF('6B'!$D$22=15,\"BIG\",IF('6B'!$D$22=16,\"AWJ\",IF('6B'!$D$22=17,\"NW\",IF('6B'!$D$22=18,\"SRF\",IF('6B'!$D$22=19,\"PG\",IF('6B'!$D$22=20,\"XTR\",””))))))))))))))))))))","v":"TMTIK"}]
[2,{"$f":"IF('6A'!$D$10=1,\"TMTIK\",IF('6A'!$D$10=2,\"AA\",IF('6A'!$D$10=3,\"QH\",IF('6A'!$D$10=4,\"FQ\",IF('6A'!$D$10=5,\"SKI\",IF('6A'!$D$10=6,\"PKN\",IF('6A'!$D$10=7,\"BID\",IF('6A'!$D$10=8,\"BA\",IF('6A'!$D$10=9,\"MTK\",IF('6A'!$D$10=10,\"IPA\",IF('6A'!$D$10=11,\"IPS\",IF('6A'!$D$10=12,\"SBK\",IF('6A'!$D$10=13,\"PJK\",IF('6A'!$D$10=14,\"BD\",IF('6A'!$D$10=15,\"BIG\",IF('6A'!$D$10=16,\"AWJ\",IF('6A'!$D$10=17,\"NW\",IF('6A'!$D$10=18,\"SRF\",IF('6A'!$D$10=19,\"PG\",IF('6A'!$D$10=20,\"XTR\",””))))))))))))))))))))","v":"PJK"},{"$f":"IF('6B'!$D$10=1,\"TMTIK\",IF('6B'!$D$10=2,\"AA\",IF('6B'!$D$10=3,\"QH\",IF('6B'!$D$10=4,\"FQ\",IF('6B'!$D$10=5,\"SKI\",IF('6B'!$D$10=6,\"PKN\",IF('6B'!$D$10=7,\"BID\",IF('6B'!$D$10=8,\"BA\",IF('6B'!$D$10=9,\"MTK\",IF('6B'!$D$10=10,\"IPA\",IF('6B'!$D$10=11,\"IPS\",IF('6B'!$D$10=12,\"SBK\",IF('6B'!$D$10=13,\"PJK\",IF('6B'!$D$10=14,\"BD\",IF('6B'!$D$10=15,\"BIG\",IF('6B'!$D$10=16,\"AWJ\",IF('6B'!$D$10=17,\"NW\",IF('6B'!$D$10=18,\"SRF\",IF('6B'!$D$10=19,\"PG\",IF('6B'!$D$10=20,\"XTR\",””))))))))))))))))))))","v":"MTK"},null,{"$f":"IF('6A'!$F$10=1,\"TMTIK\",IF('6A'!$F$10=2,\"AA\",IF('6A'!$F$10=3,\"QH\",IF('6A'!$F$10=4,\"FQ\",IF('6A'!$F$10=5,\"SKI\",IF('6A'!$F$10=6,\"PKN\",IF('6A'!$F$10=7,\"BID\",IF('6A'!$F$10=8,\"BA\",IF('6A'!$F$10=9,\"MTK\",IF('6A'!$F$10=10,\"IPA\",IF('6A'!$F$10=11,\"IPS\",IF('6A'!$F$10=12,\"SBK\",IF('6A'!$F$10=13,\"PJK\",IF('6A'!$F$10=14,\"BD\",IF('6A'!$F$10=15,\"BIG\",IF('6A'!$F$10=16,\"AWJ\",IF('6A'!$F$10=17,\"NW\",IF('6A'!$F$10=18,\"SRF\",IF('6A'!$F$10=19,\"PG\",IF('6A'!$F$10=20,\"XTR\",””))))))))))))))))))))","v":"MTK"},{"$f":"IF('6B'!$F$10=1,\"TMTIK\",IF('6B'!$F$10=2,\"AA\",IF('6B'!$F$10=3,\"QH\",IF('6B'!$F$10=4,\"FQ\",IF('6B'!$F$10=5,\"SKI\",IF('6B'!$F$10=6,\"PKN\",IF('6B'!$F$10=7,\"BID\",IF('6B'!$F$10=8,\"BA\",IF('6B'!$F$10=9,\"MTK\",IF('6B'!$F$10=10,\"IPA\",IF('6B'!$F$10=11,\"IPS\",IF('6B'!$F$10=12,\"SBK\",IF('6B'!$F$10=13,\"PJK\",IF('6B'!$F$10=14,\"BD\",IF('6B'!$F$10=15,\"BIG\",IF('6B'!$F$10=16,\"AWJ\",IF('6B'!$F$10=17,\"NW\",IF('6B'!$F$10=18,\"SRF\",IF('6B'!$F$10=19,\"PG\",IF('6B'!$F$10=20,\"XTR\",””))))))))))))))))))))","v":"PJK"},null,{"$f":"IF('6A'!$H$10=1,\"TMTIK\",IF('6A'!$H$10=2,\"AA\",IF('6A'!$H$10=3,\"QH\",IF('6A'!$H$10=4,\"FQ\",IF('6A'!$H$10=5,\"SKI\",IF('6A'!$H$10=6,\"PKN\",IF('6A'!$H$10=7,\"BID\",IF('6A'!$H$10=8,\"BA\",IF('6A'!$H$10=9,\"MTK\",IF('6A'!$H$10=10,\"IPA\",IF('6A'!$H$10=11,\"IPS\",IF('6A'!$H$10=12,\"SBK\",IF('6A'!$H$10=13,\"PJK\",IF('6A'!$H$10=14,\"BD\",IF('6A'!$H$10=15,\"BIG\",IF('6A'!$H$10=16,\"AWJ\",IF('6A'!$H$10=17,\"NW\",IF('6A'!$H$10=18,\"SRF\",IF('6A'!$H$10=19,\"PG\",IF('6A'!$H$10=20,\"XTR\",””))))))))))))))))))))","v":"BA"},{"$f":"IF('6B'!$H$10=1,\"TMTIK\",IF('6B'!$H$10=2,\"AA\",IF('6B'!$H$10=3,\"QH\",IF('6B'!$H$10=4,\"FQ\",IF('6B'!$H$10=5,\"SKI\",IF('6B'!$H$10=6,\"PKN\",IF('6B'!$H$10=7,\"BID\",IF('6B'!$H$10=8,\"BA\",IF('6B'!$H$10=9,\"MTK\",IF('6B'!$H$10=10,\"IPA\",IF('6B'!$H$10=11,\"IPS\",IF('6B'!$H$10=12,\"SBK\",IF('6B'!$H$10=13,\"PJK\",IF('6B'!$H$10=14,\"BD\",IF('6B'!$H$10=15,\"BIG\",IF('6B'!$H$10=16,\"AWJ\",IF('6B'!$H$10=17,\"NW\",IF('6B'!$H$10=18,\"SRF\",IF('6B'!$H$10=19,\"PG\",IF('6B'!$H$10=20,\"XTR\",””))))))))))))))))))))","v":"MTK"},null,{"$f":"IF('6A'!$J$10=1,\"TMTIK\",IF('6A'!$J$10=2,\"AA\",IF('6A'!$J$10=3,\"QH\",IF('6A'!$J$10=4,\"FQ\",IF('6A'!$J$10=5,\"SKI\",IF('6A'!$J$10=6,\"PKN\",IF('6A'!$J$10=7,\"BID\",IF('6A'!$J$10=8,\"BA\",IF('6A'!$J$10=9,\"MTK\",IF('6A'!$J$10=10,\"IPA\",IF('6A'!$J$10=11,\"IPS\",IF('6A'!$J$10=12,\"SBK\",IF('6A'!$J$10=13,\"PJK\",IF('6A'!$J$10=14,\"BD\",IF('6A'!$J$10=15,\"BIG\",IF('6A'!$J$10=16,\"AWJ\",IF('6A'!$J$10=17,\"NW\",IF('6A'!$J$10=18,\"SRF\",IF('6A'!$J$10=19,\"PG\",IF('6A'!$J$10=20,\"XTR\",””))))))))))))))))))))","v":"FQ"},{"$f":"IF('6B'!$J$10=1,\"TMTIK\",IF('6B'!$J$10=2,\"AA\",IF('6B'!$J$10=3,\"QH\",IF('6B'!$J$10=4,\"FQ\",IF('6B'!$J$10=5,\"SKI\",IF('6B'!$J$10=6,\"PKN\",IF('6B'!$J$10=7,\"BID\",IF('6B'!$J$10=8,\"BA\",IF('6B'!$J$10=9,\"MTK\",IF('6B'!$J$10=10,\"IPA\",IF('6B'!$J$10=11,\"IPS\",IF('6B'!$J$10=12,\"SBK\",IF('6B'!$J$10=13,\"PJK\",IF('6B'!$J$10=14,\"BD\",IF('6B'!$J$10=15,\"BIG\",IF('6B'!$J$10=16,\"AWJ\",IF('6B'!$J$10=17,\"NW\",IF('6B'!$J$10=18,\"SRF\",IF('6B'!$J$10=19,\"PG\",IF('6B'!$J$10=20,\"XTR\",””))))))))))))))))))))","v":"SKI"},null,{"$f":"IF('6A'!$N$10=1,\"TMTIK\",IF('6A'!$N$10=2,\"AA\",IF('6A'!$N$10=3,\"QH\",IF('6A'!$N$10=4,\"FQ\",IF('6A'!$N$10=5,\"SKI\",IF('6A'!$N$10=6,\"PKN\",IF('6A'!$N$10=7,\"BID\",IF('6A'!$N$10=8,\"BA\",IF('6A'!$N$10=9,\"MTK\",IF('6A'!$N$10=10,\"IPA\",IF('6A'!$N$10=11,\"IPS\",IF('6A'!$N$10=12,\"SBK\",IF('6A'!$N$10=13,\"PJK\",IF('6A'!$N$10=14,\"BD\",IF('6A'!$N$10=15,\"BIG\",IF('6A'!$N$10=16,\"AWJ\",IF('6A'!$N$10=17,\"NW\",IF('6A'!$N$10=18,\"SRF\",IF('6A'!$N$10=19,\"PG\",IF('6A'!$N$10=20,\"XTR\",””))))))))))))))))))))","v":"TMTIK"},{"$f":"IF('6B'!$N$10=1,\"TMTIK\",IF('6B'!$N$10=2,\"AA\",IF('6B'!$N$10=3,\"QH\",IF('6B'!$N$10=4,\"FQ\",IF('6B'!$N$10=5,\"SKI\",IF('6B'!$N$10=6,\"PKN\",IF('6B'!$N$10=7,\"BID\",IF('6B'!$N$10=8,\"BA\",IF('6B'!$N$10=9,\"MTK\",IF('6B'!$N$10=10,\"IPA\",IF('6B'!$N$10=11,\"IPS\",IF('6B'!$N$10=12,\"SBK\",IF('6B'!$N$10=13,\"PJK\",IF('6B'!$N$10=14,\"BD\",IF('6B'!$N$10=15,\"BIG\",IF('6B'!$N$10=16,\"AWJ\",IF('6B'!$N$10=17,\"NW\",IF('6B'!$N$10=18,\"SRF\",IF('6B'!$N$10=19,\"PG\",IF('6B'!$N$10=20,\"XTR\",””))))))))))))))))))))","v":"TMTIK"},null,{"$f":"IF('6A'!$D$23=1,\"TMTIK\",IF('6A'!$D$23=2,\"AA\",IF('6A'!$D$23=3,\"QH\",IF('6A'!$D$23=4,\"FQ\",IF('6A'!$D$23=5,\"SKI\",IF('6A'!$D$23=6,\"PKN\",IF('6A'!$D$23=7,\"BID\",IF('6A'!$D$23=8,\"BA\",IF('6A'!$D$23=9,\"MTK\",IF('6A'!$D$23=10,\"IPA\",IF('6A'!$D$23=11,\"IPS\",IF('6A'!$D$23=12,\"SBK\",IF('6A'!$D$23=13,\"PJK\",IF('6A'!$D$23=14,\"BD\",IF('6A'!$D$23=15,\"BIG\",IF('6A'!$D$23=16,\"AWJ\",IF('6A'!$D$23=17,\"NW\",IF('6A'!$D$23=18,\"SRF\",IF('6A'!$D$23=19,\"PG\",IF('6A'!$D$23=20,\"XTR\",””))))))))))))))))))))","v":"TMTIK"},{"$f":"IF('6B'!$D$23=1,\"TMTIK\",IF('6B'!$D$23=2,\"AA\",IF('6B'!$D$23=3,\"QH\",IF('6B'!$D$23=4,\"FQ\",IF('6B'!$D$23=5,\"SKI\",IF('6B'!$D$23=6,\"PKN\",IF('6B'!$D$23=7,\"BID\",IF('6B'!$D$23=8,\"BA\",IF('6B'!$D$23=9,\"MTK\",IF('6B'!$D$23=10,\"IPA\",IF('6B'!$D$23=11,\"IPS\",IF('6B'!$D$23=12,\"SBK\",IF('6B'!$D$23=13,\"PJK\",IF('6B'!$D$23=14,\"BD\",IF('6B'!$D$23=15,\"BIG\",IF('6B'!$D$23=16,\"AWJ\",IF('6B'!$D$23=17,\"NW\",IF('6B'!$D$23=18,\"SRF\",IF('6B'!$D$23=19,\"PG\",IF('6B'!$D$23=20,\"XTR\",””))))))))))))))))))))","v":"TMTIK"}]
[3,{"$f":"IF('6A'!$D$11=1,\"TMTIK\",IF('6A'!$D$11=2,\"AA\",IF('6A'!$D$11=3,\"QH\",IF('6A'!$D$11=4,\"FQ\",IF('6A'!$D$11=5,\"SKI\",IF('6A'!$D$11=6,\"PKN\",IF('6A'!$D$11=7,\"BID\",IF('6A'!$D$11=8,\"BA\",IF('6A'!$D$11=9,\"MTK\",IF('6A'!$D$11=10,\"IPA\",IF('6A'!$D$11=11,\"IPS\",IF('6A'!$D$11=12,\"SBK\",IF('6A'!$D$11=13,\"PJK\",IF('6A'!$D$11=14,\"BD\",IF('6A'!$D$11=15,\"BIG\",IF('6A'!$D$11=16,\"AWJ\",IF('6A'!$D$11=17,\"NW\",IF('6A'!$D$11=18,\"SRF\",IF('6A'!$D$11=19,\"PG\",IF('6A'!$D$11=20,\"XTR\",””))))))))))))))))))))","v":"PJK"},{"$f":"IF('6B'!$D$11=1,\"TMTIK\",IF('6B'!$D$11=2,\"AA\",IF('6B'!$D$11=3,\"QH\",IF('6B'!$D$11=4,\"FQ\",IF('6B'!$D$11=5,\"SKI\",IF('6B'!$D$11=6,\"PKN\",IF('6B'!$D$11=7,\"BID\",IF('6B'!$D$11=8,\"BA\",IF('6B'!$D$11=9,\"MTK\",IF('6B'!$D$11=10,\"IPA\",IF('6B'!$D$11=11,\"IPS\",IF('6B'!$D$11=12,\"SBK\",IF('6B'!$D$11=13,\"PJK\",IF('6B'!$D$11=14,\"BD\",IF('6B'!$D$11=15,\"BIG\",IF('6B'!$D$11=16,\"AWJ\",IF('6B'!$D$11=17,\"NW\",IF('6B'!$D$11=18,\"SRF\",IF('6B'!$D$11=19,\"PG\",IF('6B'!$D$11=20,\"XTR\",””))))))))))))))))))))","v":"MTK"},null,{"$f":"IF('6A'!$F$11=1,\"TMTIK\",IF('6A'!$F$11=2,\"AA\",IF('6A'!$F$11=3,\"QH\",IF('6A'!$F$11=4,\"FQ\",IF('6A'!$F$11=5,\"SKI\",IF('6A'!$F$11=6,\"PKN\",IF('6A'!$F$11=7,\"BID\",IF('6A'!$F$11=8,\"BA\",IF('6A'!$F$11=9,\"MTK\",IF('6A'!$F$11=10,\"IPA\",IF('6A'!$F$11=11,\"IPS\",IF('6A'!$F$11=12,\"SBK\",IF('6A'!$F$11=13,\"PJK\",IF('6A'!$F$11=14,\"BD\",IF('6A'!$F$11=15,\"BIG\",IF('6A'!$F$11=16,\"AWJ\",IF('6A'!$F$11=17,\"NW\",IF('6A'!$F$11=18,\"SRF\",IF('6A'!$F$11=19,\"PG\",IF('6A'!$F$11=20,\"XTR\",””))))))))))))))))))))","v":"MTK"},{"$f":"IF('6B'!$F$11=1,\"TMTIK\",IF('6B'!$F$11=2,\"AA\",IF('6B'!$F$11=3,\"QH\",IF('6B'!$F$11=4,\"FQ\",IF('6B'!$F$11=5,\"SKI\",IF('6B'!$F$11=6,\"PKN\",IF('6B'!$F$11=7,\"BID\",IF('6B'!$F$11=8,\"BA\",IF('6B'!$F$11=9,\"MTK\",IF('6B'!$F$11=10,\"IPA\",IF('6B'!$F$11=11,\"IPS\",IF('6B'!$F$11=12,\"SBK\",IF('6B'!$F$11=13,\"PJK\",IF('6B'!$F$11=14,\"BD\",IF('6B'!$F$11=15,\"BIG\",IF('6B'!$F$11=16,\"AWJ\",IF('6B'!$F$11=17,\"NW\",IF('6B'!$F$11=18,\"SRF\",IF('6B'!$F$11=19,\"PG\",IF('6B'!$F$11=20,\"XTR\",””))))))))))))))))))))","v":"PJK"},null,{"$f":"IF('6A'!$H$11=1,\"TMTIK\",IF('6A'!$H$11=2,\"AA\",IF('6A'!$H$11=3,\"QH\",IF('6A'!$H$11=4,\"FQ\",IF('6A'!$H$11=5,\"SKI\",IF('6A'!$H$11=6,\"PKN\",IF('6A'!$H$11=7,\"BID\",IF('6A'!$H$11=8,\"BA\",IF('6A'!$H$11=9,\"MTK\",IF('6A'!$H$11=10,\"IPA\",IF('6A'!$H$11=11,\"IPS\",IF('6A'!$H$11=12,\"SBK\",IF('6A'!$H$11=13,\"PJK\",IF('6A'!$H$11=14,\"BD\",IF('6A'!$H$11=15,\"BIG\",IF('6A'!$H$11=16,\"AWJ\",IF('6A'!$H$11=17,\"NW\",IF('6A'!$H$11=18,\"SRF\",IF('6A'!$H$11=19,\"PG\",IF('6A'!$H$11=20,\"XTR\",””))))))))))))))))))))","v":"MTK"},{"$f":"IF('6B'!$H$11=1,\"TMTIK\",IF('6B'!$H$11=2,\"AA\",IF('6B'!$H$11=3,\"QH\",IF('6B'!$H$11=4,\"FQ\",IF('6B'!$H$11=5,\"SKI\",IF('6B'!$H$11=6,\"PKN\",IF('6B'!$H$11=7,\"BID\",IF('6B'!$H$11=8,\"BA\",IF('6B'!$H$11=9,\"MTK\",IF('6B'!$H$11=10,\"IPA\",IF('6B'!$H$11=11,\"IPS\",IF('6B'!$H$11=12,\"SBK\",IF('6B'!$H$11=13,\"PJK\",IF('6B'!$H$11=14,\"BD\",IF('6B'!$H$11=15,\"BIG\",IF('6B'!$H$11=16,\"AWJ\",IF('6B'!$H$11=17,\"NW\",IF('6B'!$H$11=18,\"SRF\",IF('6B'!$H$11=19,\"PG\",IF('6B'!$H$11=20,\"XTR\",””))))))))))))))))))))","v":"BA"},null,{"$f":"IF('6A'!$J$11=1,\"TMTIK\",IF('6A'!$J$11=2,\"AA\",IF('6A'!$J$11=3,\"QH\",IF('6A'!$J$11=4,\"FQ\",IF('6A'!$J$11=5,\"SKI\",IF('6A'!$J$11=6,\"PKN\",IF('6A'!$J$11=7,\"BID\",IF('6A'!$J$11=8,\"BA\",IF('6A'!$J$11=9,\"MTK\",IF('6A'!$J$11=10,\"IPA\",IF('6A'!$J$11=11,\"IPS\",IF('6A'!$J$11=12,\"SBK\",IF('6A'!$J$11=13,\"PJK\",IF('6A'!$J$11=14,\"BD\",IF('6A'!$J$11=15,\"BIG\",IF('6A'!$J$11=16,\"AWJ\",IF('6A'!$J$11=17,\"NW\",IF('6A'!$J$11=18,\"SRF\",IF('6A'!$J$11=19,\"PG\",IF('6A'!$J$11=20,\"XTR\",””))))))))))))))))))))","v":"TMTIK"},{"$f":"IF('6B'!$J$11=1,\"TMTIK\",IF('6B'!$J$11=2,\"AA\",IF('6B'!$J$11=3,\"QH\",IF('6B'!$J$11=4,\"FQ\",IF('6B'!$J$11=5,\"SKI\",IF('6B'!$J$11=6,\"PKN\",IF('6B'!$J$11=7,\"BID\",IF('6B'!$J$11=8,\"BA\",IF('6B'!$J$11=9,\"MTK\",IF('6B'!$J$11=10,\"IPA\",IF('6B'!$J$11=11,\"IPS\",IF('6B'!$J$11=12,\"SBK\",IF('6B'!$J$11=13,\"PJK\",IF('6B'!$J$11=14,\"BD\",IF('6B'!$J$11=15,\"BIG\",IF('6B'!$J$11=16,\"AWJ\",IF('6B'!$J$11=17,\"NW\",IF('6B'!$J$11=18,\"SRF\",IF('6B'!$J$11=19,\"PG\",IF('6B'!$J$11=20,\"XTR\",””))))))))))))))))))))","v":"QH"},null,{"$f":"IF('6A'!$N$11=1,\"TMTIK\",IF('6A'!$N$11=2,\"AA\",IF('6A'!$N$11=3,\"QH\",IF('6A'!$N$11=4,\"FQ\",IF('6A'!$N$11=5,\"SKI\",IF('6A'!$N$11=6,\"PKN\",IF('6A'!$N$11=7,\"BID\",IF('6A'!$N$11=8,\"BA\",IF('6A'!$N$11=9,\"MTK\",IF('6A'!$N$11=10,\"IPA\",IF('6A'!$N$11=11,\"IPS\",IF('6A'!$N$11=12,\"SBK\",IF('6A'!$N$11=13,\"PJK\",IF('6A'!$N$11=14,\"BD\",IF('6A'!$N$11=15,\"BIG\",IF('6A'!$N$11=16,\"AWJ\",IF('6A'!$N$11=17,\"NW\",IF('6A'!$N$11=18,\"SRF\",IF('6A'!$N$11=19,\"PG\",IF('6A'!$N$11=20,\"XTR\",””))))))))))))))))))))","v":"AWJ"},{"$f":"IF('6B'!$N$11=1,\"TMTIK\",IF('6B'!$N$11=2,\"AA\",IF('6B'!$N$11=3,\"QH\",IF('6B'!$N$11=4,\"FQ\",IF('6B'!$N$11=5,\"SKI\",IF('6B'!$N$11=6,\"PKN\",IF('6B'!$N$11=7,\"BID\",IF('6B'!$N$11=8,\"BA\",IF('6B'!$N$11=9,\"MTK\",IF('6B'!$N$11=10,\"IPA\",IF('6B'!$N$11=11,\"IPS\",IF('6B'!$N$11=12,\"SBK\",IF('6B'!$N$11=13,\"PJK\",IF('6B'!$N$11=14,\"BD\",IF('6B'!$N$11=15,\"BIG\",IF('6B'!$N$11=16,\"AWJ\",IF('6B'!$N$11=17,\"NW\",IF('6B'!$N$11=18,\"SRF\",IF('6B'!$N$11=19,\"PG\",IF('6B'!$N$11=20,\"XTR\",””))))))))))))))))))))","v":"TMTIK"},null,{"$f":"IF('6A'!$D$24=1,\"TMTIK\",IF('6A'!$D$24=2,\"AA\",IF('6A'!$D$24=3,\"QH\",IF('6A'!$D$24=4,\"FQ\",IF('6A'!$D$24=5,\"SKI\",IF('6A'!$D$24=6,\"PKN\",IF('6A'!$D$24=7,\"BID\",IF('6A'!$D$24=8,\"BA\",IF('6A'!$D$24=9,\"MTK\",IF('6A'!$D$24=10,\"IPA\",IF('6A'!$D$24=11,\"IPS\",IF('6A'!$D$24=12,\"SBK\",IF('6A'!$D$24=13,\"PJK\",IF('6A'!$D$24=14,\"BD\",IF('6A'!$D$24=15,\"BIG\",IF('6A'!$D$24=16,\"AWJ\",IF('6A'!$D$24=17,\"NW\",IF('6A'!$D$24=18,\"SRF\",IF('6A'!$D$24=19,\"PG\",IF('6A'!$D$24=20,\"XTR\",””))))))))))))))))))))","v":"TMTIK"},{"$f":"IF('6B'!$D$24=1,\"TMTIK\",IF('6B'!$D$24=2,\"AA\",IF('6B'!$D$24=3,\"QH\",IF('6B'!$D$24=4,\"FQ\",IF('6B'!$D$24=5,\"SKI\",IF('6B'!$D$24=6,\"PKN\",IF('6B'!$D$24=7,\"BID\",IF('6B'!$D$24=8,\"BA\",IF('6B'!$D$24=9,\"MTK\",IF('6B'!$D$24=10,\"IPA\",IF('6B'!$D$24=11,\"IPS\",IF('6B'!$D$24=12,\"SBK\",IF('6B'!$D$24=13,\"PJK\",IF('6B'!$D$24=14,\"BD\",IF('6B'!$D$24=15,\"BIG\",IF('6B'!$D$24=16,\"AWJ\",IF('6B'!$D$24=17,\"NW\",IF('6B'!$D$24=18,\"SRF\",IF('6B'!$D$24=19,\"PG\",IF('6B'!$D$24=20,\"XTR\",””))))))))))))))))))))","v":"TMTIK"}]
[4,{"$f":"IF('6A'!$D$12=1,\"TMTIK\",IF('6A'!$D$12=2,\"AA\",IF('6A'!$D$12=3,\"QH\",IF('6A'!$D$12=4,\"FQ\",IF('6A'!$D$12=5,\"SKI\",IF('6A'!$D$12=6,\"PKN\",IF('6A'!$D$12=7,\"BID\",IF('6A'!$D$12=8,\"BA\",IF('6A'!$D$12=9,\"MTK\",IF('6A'!$D$12=10,\"IPA\",IF('6A'!$D$12=11,\"IPS\",IF('6A'!$D$12=12,\"SBK\",IF('6A'!$D$12=13,\"PJK\",IF('6A'!$D$12=14,\"BD\",IF('6A'!$D$12=15,\"BIG\",IF('6A'!$D$12=16,\"AWJ\",IF('6A'!$D$12=17,\"NW\",IF('6A'!$D$12=18,\"SRF\",IF('6A'!$D$12=19,\"PG\",IF('6A'!$D$12=20,\"XTR\",””))))))))))))))))))))","v":"PJK"},{"$f":"IF('6B'!$D$12=1,\"TMTIK\",IF('6B'!$D$12=2,\"AA\",IF('6B'!$D$12=3,\"QH\",IF('6B'!$D$12=4,\"FQ\",IF('6B'!$D$12=5,\"SKI\",IF('6B'!$D$12=6,\"PKN\",IF('6B'!$D$12=7,\"BID\",IF('6B'!$D$12=8,\"BA\",IF('6B'!$D$12=9,\"MTK\",IF('6B'!$D$12=10,\"IPA\",IF('6B'!$D$12=11,\"IPS\",IF('6B'!$D$12=12,\"SBK\",IF('6B'!$D$12=13,\"PJK\",IF('6B'!$D$12=14,\"BD\",IF('6B'!$D$12=15,\"BIG\",IF('6B'!$D$12=16,\"AWJ\",IF('6B'!$D$12=17,\"NW\",IF('6B'!$D$12=18,\"SRF\",IF('6B'!$D$12=19,\"PG\",IF('6B'!$D$12=20,\"XTR\",””))))))))))))))))))))","v":"TMTIK"},null,{"$f":"IF('6A'!$F$12=1,\"TMTIK\",IF('6A'!$F$12=2,\"AA\",IF('6A'!$F$12=3,\"QH\",IF('6A'!$F$12=4,\"FQ\",IF('6A'!$F$12=5,\"SKI\",IF('6A'!$F$12=6,\"PKN\",IF('6A'!$F$12=7,\"BID\",IF('6A'!$F$12=8,\"BA\",IF('6A'!$F$12=9,\"MTK\",IF('6A'!$F$12=10,\"IPA\",IF('6A'!$F$12=11,\"IPS\",IF('6A'!$F$12=12,\"SBK\",IF('6A'!$F$12=13,\"PJK\",IF('6A'!$F$12=14,\"BD\",IF('6A'!$F$12=15,\"BIG\",IF('6A'!$F$12=16,\"AWJ\",IF('6A'!$F$12=17,\"NW\",IF('6A'!$F$12=18,\"SRF\",IF('6A'!$F$12=19,\"PG\",IF('6A'!$F$12=20,\"XTR\",””))))))))))))))))))))","v":"TMTIK"},{"$f":"IF('6B'!$F$12=1,\"TMTIK\",IF('6B'!$F$12=2,\"AA\",IF('6B'!$F$12=3,\"QH\",IF('6B'!$F$12=4,\"FQ\",IF('6B'!$F$12=5,\"SKI\",IF('6B'!$F$12=6,\"PKN\",IF('6B'!$F$12=7,\"BID\",IF('6B'!$F$12=8,\"BA\",IF('6B'!$F$12=9,\"MTK\",IF('6B'!$F$12=10,\"IPA\",IF('6B'!$F$12=11,\"IPS\",IF('6B'!$F$12=12,\"SBK\",IF('6B'!$F$12=13,\"PJK\",IF('6B'!$F$12=14,\"BD\",IF('6B'!$F$12=15,\"BIG\",IF('6B'!$F$12=16,\"AWJ\",IF('6B'!$F$12=17,\"NW\",IF('6B'!$F$12=18,\"SRF\",IF('6B'!$F$12=19,\"PG\",IF('6B'!$F$12=20,\"XTR\",””))))))))))))))))))))","v":"PJK"},null,{"$f":"IF('6A'!$H$12=1,\"TMTIK\",IF('6A'!$H$12=2,\"AA\",IF('6A'!$H$12=3,\"QH\",IF('6A'!$H$12=4,\"FQ\",IF('6A'!$H$12=5,\"SKI\",IF('6A'!$H$12=6,\"PKN\",IF('6A'!$H$12=7,\"BID\",IF('6A'!$H$12=8,\"BA\",IF('6A'!$H$12=9,\"MTK\",IF('6A'!$H$12=10,\"IPA\",IF('6A'!$H$12=11,\"IPS\",IF('6A'!$H$12=12,\"SBK\",IF('6A'!$H$12=13,\"PJK\",IF('6A'!$H$12=14,\"BD\",IF('6A'!$H$12=15,\"BIG\",IF('6A'!$H$12=16,\"AWJ\",IF('6A'!$H$12=17,\"NW\",IF('6A'!$H$12=18,\"SRF\",IF('6A'!$H$12=19,\"PG\",IF('6A'!$H$12=20,\"XTR\",””))))))))))))))))))))","v":"MTK"},{"$f":"IF('6B'!$H$12=1,\"TMTIK\",IF('6B'!$H$12=2,\"AA\",IF('6B'!$H$12=3,\"QH\",IF('6B'!$H$12=4,\"FQ\",IF('6B'!$H$12=5,\"SKI\",IF('6B'!$H$12=6,\"PKN\",IF('6B'!$H$12=7,\"BID\",IF('6B'!$H$12=8,\"BA\",IF('6B'!$H$12=9,\"MTK\",IF('6B'!$H$12=10,\"IPA\",IF('6B'!$H$12=11,\"IPS\",IF('6B'!$H$12=12,\"SBK\",IF('6B'!$H$12=13,\"PJK\",IF('6B'!$H$12=14,\"BD\",IF('6B'!$H$12=15,\"BIG\",IF('6B'!$H$12=16,\"AWJ\",IF('6B'!$H$12=17,\"NW\",IF('6B'!$H$12=18,\"SRF\",IF('6B'!$H$12=19,\"PG\",IF('6B'!$H$12=20,\"XTR\",””))))))))))))))))))))","v":"BA"},null,{"$f":"IF('6A'!$J$12=1,\"TMTIK\",IF('6A'!$J$12=2,\"AA\",IF('6A'!$J$12=3,\"QH\",IF('6A'!$J$12=4,\"FQ\",IF('6A'!$J$12=5,\"SKI\",IF('6A'!$J$12=6,\"PKN\",IF('6A'!$J$12=7,\"BID\",IF('6A'!$J$12=8,\"BA\",IF('6A'!$J$12=9,\"MTK\",IF('6A'!$J$12=10,\"IPA\",IF('6A'!$J$12=11,\"IPS\",IF('6A'!$J$12=12,\"SBK\",IF('6A'!$J$12=13,\"PJK\",IF('6A'!$J$12=14,\"BD\",IF('6A'!$J$12=15,\"BIG\",IF('6A'!$J$12=16,\"AWJ\",IF('6A'!$J$12=17,\"NW\",IF('6A'!$J$12=18,\"SRF\",IF('6A'!$J$12=19,\"PG\",IF('6A'!$J$12=20,\"XTR\",””))))))))))))))))))))","v":"TMTIK"},{"$f":"IF('6B'!$J$12=1,\"TMTIK\",IF('6B'!$J$12=2,\"AA\",IF('6B'!$J$12=3,\"QH\",IF('6B'!$J$12=4,\"FQ\",IF('6B'!$J$12=5,\"SKI\",IF('6B'!$J$12=6,\"PKN\",IF('6B'!$J$12=7,\"BID\",IF('6B'!$J$12=8,\"BA\",IF('6B'!$J$12=9,\"MTK\",IF('6B'!$J$12=10,\"IPA\",IF('6B'!$J$12=11,\"IPS\",IF('6B'!$J$12=12,\"SBK\",IF('6B'!$J$12=13,\"PJK\",IF('6B'!$J$12=14,\"BD\",IF('6B'!$J$12=15,\"BIG\",IF('6B'!$J$12=16,\"AWJ\",IF('6B'!$J$12=17,\"NW\",IF('6B'!$J$12=18,\"SRF\",IF('6B'!$J$12=19,\"PG\",IF('6B'!$J$12=20,\"XTR\",””))))))))))))))))))))","v":"QH"},null,{"$f":"IF('6A'!$N$12=1,\"TMTIK\",IF('6A'!$N$12=2,\"AA\",IF('6A'!$N$12=3,\"QH\",IF('6A'!$N$12=4,\"FQ\",IF('6A'!$N$12=5,\"SKI\",IF('6A'!$N$12=6,\"PKN\",IF('6A'!$N$12=7,\"BID\",IF('6A'!$N$12=8,\"BA\",IF('6A'!$N$12=9,\"MTK\",IF('6A'!$N$12=10,\"IPA\",IF('6A'!$N$12=11,\"IPS\",IF('6A'!$N$12=12,\"SBK\",IF('6A'!$N$12=13,\"PJK\",IF('6A'!$N$12=14,\"BD\",IF('6A'!$N$12=15,\"BIG\",IF('6A'!$N$12=16,\"AWJ\",IF('6A'!$N$12=17,\"NW\",IF('6A'!$N$12=18,\"SRF\",IF('6A'!$N$12=19,\"PG\",IF('6A'!$N$12=20,\"XTR\",””))))))))))))))))))))","v":"AWJ"},{"$f":"IF('6B'!$N$12=1,\"TMTIK\",IF('6B'!$N$12=2,\"AA\",IF('6B'!$N$12=3,\"QH\",IF('6B'!$N$12=4,\"FQ\",IF('6B'!$N$12=5,\"SKI\",IF('6B'!$N$12=6,\"PKN\",IF('6B'!$N$12=7,\"BID\",IF('6B'!$N$12=8,\"BA\",IF('6B'!$N$12=9,\"MTK\",IF('6B'!$N$12=10,\"IPA\",IF('6B'!$N$12=11,\"IPS\",IF('6B'!$N$12=12,\"SBK\",IF('6B'!$N$12=13,\"PJK\",IF('6B'!$N$12=14,\"BD\",IF('6B'!$N$12=15,\"BIG\",IF('6B'!$N$12=16,\"AWJ\",IF('6B'!$N$12=17,\"NW\",IF('6B'!$N$12=18,\"SRF\",IF('6B'!$N$12=19,\"PG\",IF('6B'!$N$12=20,\"XTR\",””))))))))))))))))))))","v":"TMTIK"},null,{"$f":"IF('6A'!$D$25=1,\"TMTIK\",IF('6A'!$D$25=2,\"AA\",IF('6A'!$D$25=3,\"QH\",IF('6A'!$D$25=4,\"FQ\",IF('6A'!$D$25=5,\"SKI\",IF('6A'!$D$25=6,\"PKN\",IF('6A'!$D$25=7,\"BID\",IF('6A'!$D$25=8,\"BA\",IF('6A'!$D$25=9,\"MTK\",IF('6A'!$D$25=10,\"IPA\",IF('6A'!$D$25=11,\"IPS\",IF('6A'!$D$25=12,\"SBK\",IF('6A'!$D$25=13,\"PJK\",IF('6A'!$D$25=14,\"BD\",IF('6A'!$D$25=15,\"BIG\",IF('6A'!$D$25=16,\"AWJ\",IF('6A'!$D$25=17,\"NW\",IF('6A'!$D$25=18,\"SRF\",IF('6A'!$D$25=19,\"PG\",IF('6A'!$D$25=20,\"XTR\",””))))))))))))))))))))","v":"XTR"},{"$f":"IF('6B'!$D$25=1,\"TMTIK\",IF('6B'!$D$25=2,\"AA\",IF('6B'!$D$25=3,\"QH\",IF('6B'!$D$25=4,\"FQ\",IF('6B'!$D$25=5,\"SKI\",IF('6B'!$D$25=6,\"PKN\",IF('6B'!$D$25=7,\"BID\",IF('6B'!$D$25=8,\"BA\",IF('6B'!$D$25=9,\"MTK\",IF('6B'!$D$25=10,\"IPA\",IF('6B'!$D$25=11,\"IPS\",IF('6B'!$D$25=12,\"SBK\",IF('6B'!$D$25=13,\"PJK\",IF('6B'!$D$25=14,\"BD\",IF('6B'!$D$25=15,\"BIG\",IF('6B'!$D$25=16,\"AWJ\",IF('6B'!$D$25=17,\"NW\",IF('6B'!$D$25=18,\"SRF\",IF('6B'!$D$25=19,\"PG\",IF('6B'!$D$25=20,\"XTR\",””))))))))))))))))))))","v":"XTR"}]
[5,{"$f":"IF('6A'!$D$14=1,\"TMTIK\",IF('6A'!$D$14=2,\"AA\",IF('6A'!$D$14=3,\"QH\",IF('6A'!$D$14=4,\"FQ\",IF('6A'!$D$14=5,\"SKI\",IF('6A'!$D$14=6,\"PKN\",IF('6A'!$D$14=7,\"BID\",IF('6A'!$D$14=8,\"BA\",IF('6A'!$D$14=9,\"MTK\",IF('6A'!$D$14=10,\"IPA\",IF('6A'!$D$14=11,\"IPS\",IF('6A'!$D$14=12,\"SBK\",IF('6A'!$D$14=13,\"PJK\",IF('6A'!$D$14=14,\"BD\",IF('6A'!$D$14=15,\"BIG\",IF('6A'!$D$14=16,\"AWJ\",IF('6A'!$D$14=17,\"NW\",IF('6A'!$D$14=18,\"SRF\",IF('6A'!$D$14=19,\"PG\",IF('6A'!$D$14=20,\"XTR\",””))))))))))))))))))))","v":"TMTIK"},{"$f":"IF('6B'!$D$14=1,\"TMTIK\",IF('6B'!$D$14=2,\"AA\",IF('6B'!$D$14=3,\"QH\",IF('6B'!$D$14=4,\"FQ\",IF('6B'!$D$14=5,\"SKI\",IF('6B'!$D$14=6,\"PKN\",IF('6B'!$D$14=7,\"BID\",IF('6B'!$D$14=8,\"BA\",IF('6B'!$D$14=9,\"MTK\",IF('6B'!$D$14=10,\"IPA\",IF('6B'!$D$14=11,\"IPS\",IF('6B'!$D$14=12,\"SBK\",IF('6B'!$D$14=13,\"PJK\",IF('6B'!$D$14=14,\"BD\",IF('6B'!$D$14=15,\"BIG\",IF('6B'!$D$14=16,\"AWJ\",IF('6B'!$D$14=17,\"NW\",IF('6B'!$D$14=18,\"SRF\",IF('6B'!$D$14=19,\"PG\",IF('6B'!$D$14=20,\"XTR\",””))))))))))))))))))))","v":"TMTIK"},null,{"$f":"IF('6A'!$F$14=1,\"TMTIK\",IF('6A'!$F$14=2,\"AA\",IF('6A'!$F$14=3,\"QH\",IF('6A'!$F$14=4,\"FQ\",IF('6A'!$F$14=5,\"SKI\",IF('6A'!$F$14=6,\"PKN\",IF('6A'!$F$14=7,\"BID\",IF('6A'!$F$14=8,\"BA\",IF('6A'!$F$14=9,\"MTK\",IF('6A'!$F$14=10,\"IPA\",IF('6A'!$F$14=11,\"IPS\",IF('6A'!$F$14=12,\"SBK\",IF('6A'!$F$14=13,\"PJK\",IF('6A'!$F$14=14,\"BD\",IF('6A'!$F$14=15,\"BIG\",IF('6A'!$F$14=16,\"AWJ\",IF('6A'!$F$14=17,\"NW\",IF('6A'!$F$14=18,\"SRF\",IF('6A'!$F$14=19,\"PG\",IF('6A'!$F$14=20,\"XTR\",””))))))))))))))))))))","v":"TMTIK"},{"$f":"IF('6B'!$F$14=1,\"TMTIK\",IF('6B'!$F$14=2,\"AA\",IF('6B'!$F$14=3,\"QH\",IF('6B'!$F$14=4,\"FQ\",IF('6B'!$F$14=5,\"SKI\",IF('6B'!$F$14=6,\"PKN\",IF('6B'!$F$14=7,\"BID\",IF('6B'!$F$14=8,\"BA\",IF('6B'!$F$14=9,\"MTK\",IF('6B'!$F$14=10,\"IPA\",IF('6B'!$F$14=11,\"IPS\",IF('6B'!$F$14=12,\"SBK\",IF('6B'!$F$14=13,\"PJK\",IF('6B'!$F$14=14,\"BD\",IF('6B'!$F$14=15,\"BIG\",IF('6B'!$F$14=16,\"AWJ\",IF('6B'!$F$14=17,\"NW\",IF('6B'!$F$14=18,\"SRF\",IF('6B'!$F$14=19,\"PG\",IF('6B'!$F$14=20,\"XTR\",””))))))))))))))))))))","v":"TMTIK"},null,{"$f":"IF('6A'!$H$14=1,\"TMTIK\",IF('6A'!$H$14=2,\"AA\",IF('6A'!$H$14=3,\"QH\",IF('6A'!$H$14=4,\"FQ\",IF('6A'!$H$14=5,\"SKI\",IF('6A'!$H$14=6,\"PKN\",IF('6A'!$H$14=7,\"BID\",IF('6A'!$H$14=8,\"BA\",IF('6A'!$H$14=9,\"MTK\",IF('6A'!$H$14=10,\"IPA\",IF('6A'!$H$14=11,\"IPS\",IF('6A'!$H$14=12,\"SBK\",IF('6A'!$H$14=13,\"PJK\",IF('6A'!$H$14=14,\"BD\",IF('6A'!$H$14=15,\"BIG\",IF('6A'!$H$14=16,\"AWJ\",IF('6A'!$H$14=17,\"NW\",IF('6A'!$H$14=18,\"SRF\",IF('6A'!$H$14=19,\"PG\",IF('6A'!$H$14=20,\"XTR\",””))))))))))))))))))))","v":"TMTIK"},{"$f":"IF('6B'!$H$14=1,\"TMTIK\",IF('6B'!$H$14=2,\"AA\",IF('6B'!$H$14=3,\"QH\",IF('6B'!$H$14=4,\"FQ\",IF('6B'!$H$14=5,\"SKI\",IF('6B'!$H$14=6,\"PKN\",IF('6B'!$H$14=7,\"BID\",IF('6B'!$H$14=8,\"BA\",IF('6B'!$H$14=9,\"MTK\",IF('6B'!$H$14=10,\"IPA\",IF('6B'!$H$14=11,\"IPS\",IF('6B'!$H$14=12,\"SBK\",IF('6B'!$H$14=13,\"PJK\",IF('6B'!$H$14=14,\"BD\",IF('6B'!$H$14=15,\"BIG\",IF('6B'!$H$14=16,\"AWJ\",IF('6B'!$H$14=17,\"NW\",IF('6B'!$H$14=18,\"SRF\",IF('6B'!$H$14=19,\"PG\",IF('6B'!$H$14=20,\"XTR\",””))))))))))))))))))))","v":"TMTIK"},null,{"$f":"IF('6A'!$J$14=1,\"TMTIK\",IF('6A'!$J$14=2,\"AA\",IF('6A'!$J$14=3,\"QH\",IF('6A'!$J$14=4,\"FQ\",IF('6A'!$J$14=5,\"SKI\",IF('6A'!$J$14=6,\"PKN\",IF('6A'!$J$14=7,\"BID\",IF('6A'!$J$14=8,\"BA\",IF('6A'!$J$14=9,\"MTK\",IF('6A'!$J$14=10,\"IPA\",IF('6A'!$J$14=11,\"IPS\",IF('6A'!$J$14=12,\"SBK\",IF('6A'!$J$14=13,\"PJK\",IF('6A'!$J$14=14,\"BD\",IF('6A'!$J$14=15,\"BIG\",IF('6A'!$J$14=16,\"AWJ\",IF('6A'!$J$14=17,\"NW\",IF('6A'!$J$14=18,\"SRF\",IF('6A'!$J$14=19,\"PG\",IF('6A'!$J$14=20,\"XTR\",””))))))))))))))))))))","v":"TMTIK"},{"$f":"IF('6B'!$J$14=1,\"TMTIK\",IF('6B'!$J$14=2,\"AA\",IF('6B'!$J$14=3,\"QH\",IF('6B'!$J$14=4,\"FQ\",IF('6B'!$J$14=5,\"SKI\",IF('6B'!$J$14=6,\"PKN\",IF('6B'!$J$14=7,\"BID\",IF('6B'!$J$14=8,\"BA\",IF('6B'!$J$14=9,\"MTK\",IF('6B'!$J$14=10,\"IPA\",IF('6B'!$J$14=11,\"IPS\",IF('6B'!$J$14=12,\"SBK\",IF('6B'!$J$14=13,\"PJK\",IF('6B'!$J$14=14,\"BD\",IF('6B'!$J$14=15,\"BIG\",IF('6B'!$J$14=16,\"AWJ\",IF('6B'!$J$14=17,\"NW\",IF('6B'!$J$14=18,\"SRF\",IF('6B'!$J$14=19,\"PG\",IF('6B'!$J$14=20,\"XTR\",””))))))))))))))))))))","v":"TMTIK"},null,{"$f":"IF('6A'!$N$14=1,\"TMTIK\",IF('6A'!$N$14=2,\"AA\",IF('6A'!$N$14=3,\"QH\",IF('6A'!$N$14=4,\"FQ\",IF('6A'!$N$14=5,\"SKI\",IF('6A'!$N$14=6,\"PKN\",IF('6A'!$N$14=7,\"BID\",IF('6A'!$N$14=8,\"BA\",IF('6A'!$N$14=9,\"MTK\",IF('6A'!$N$14=10,\"IPA\",IF('6A'!$N$14=11,\"IPS\",IF('6A'!$N$14=12,\"SBK\",IF('6A'!$N$14=13,\"PJK\",IF('6A'!$N$14=14,\"BD\",IF('6A'!$N$14=15,\"BIG\",IF('6A'!$N$14=16,\"AWJ\",IF('6A'!$N$14=17,\"NW\",IF('6A'!$N$14=18,\"SRF\",IF('6A'!$N$14=19,\"PG\",IF('6A'!$N$14=20,\"XTR\",””))))))))))))))))))))","v":"SKI"},{"$f":"IF('6B'!$N$14=1,\"TMTIK\",IF('6B'!$N$14=2,\"AA\",IF('6B'!$N$14=3,\"QH\",IF('6B'!$N$14=4,\"FQ\",IF('6B'!$N$14=5,\"SKI\",IF('6B'!$N$14=6,\"PKN\",IF('6B'!$N$14=7,\"BID\",IF('6B'!$N$14=8,\"BA\",IF('6B'!$N$14=9,\"MTK\",IF('6B'!$N$14=10,\"IPA\",IF('6B'!$N$14=11,\"IPS\",IF('6B'!$N$14=12,\"SBK\",IF('6B'!$N$14=13,\"PJK\",IF('6B'!$N$14=14,\"BD\",IF('6B'!$N$14=15,\"BIG\",IF('6B'!$N$14=16,\"AWJ\",IF('6B'!$N$14=17,\"NW\",IF('6B'!$N$14=18,\"SRF\",IF('6B'!$N$14=19,\"PG\",IF('6B'!$N$14=20,\"XTR\",””))))))))))))))))))))","v":"AWJ"},null,{"$f":"IF('6A'!$D$26=1,\"TMTIK\",IF('6A'!$D$26=2,\"AA\",IF('6A'!$D$26=3,\"QH\",IF('6A'!$D$26=4,\"FQ\",IF('6A'!$D$26=5,\"SKI\",IF('6A'!$D$26=6,\"PKN\",IF('6A'!$D$26=7,\"BID\",IF('6A'!$D$26=8,\"BA\",IF('6A'!$D$26=9,\"MTK\",IF('6A'!$D$26=10,\"IPA\",IF('6A'!$D$26=11,\"IPS\",IF('6A'!$D$26=12,\"SBK\",IF('6A'!$D$26=13,\"PJK\",IF('6A'!$D$26=14,\"BD\",IF('6A'!$D$26=15,\"BIG\",IF('6A'!$D$26=16,\"AWJ\",IF('6A'!$D$26=17,\"NW\",IF('6A'!$D$26=18,\"SRF\",IF('6A'!$D$26=19,\"PG\",IF('6A'!$D$26=20,\"XTR\",””))))))))))))))))))))","v":{"$error":"#NAME?"}},{"$f":"IF('6B'!$D$26=1,\"TMTIK\",IF('6B'!$D$26=2,\"AA\",IF('6B'!$D$26=3,\"QH\",IF('6B'!$D$26=4,\"FQ\",IF('6B'!$D$26=5,\"SKI\",IF('6B'!$D$26=6,\"PKN\",IF('6B'!$D$26=7,\"BID\",IF('6B'!$D$26=8,\"BA\",IF('6B'!$D$26=9,\"MTK\",IF('6B'!$D$26=10,\"IPA\",IF('6B'!$D$26=11,\"IPS\",IF('6B'!$D$26=12,\"SBK\",IF('6B'!$D$26=13,\"PJK\",IF('6B'!$D$26=14,\"BD\",IF('6B'!$D$26=15,\"BIG\",IF('6B'!$D$26=16,\"AWJ\",IF('6B'!$D$26=17,\"NW\",IF('6B'!$D$26=18,\"SRF\",IF('6B'!$D$26=19,\"PG\",IF('6B'!$D$26=20,\"XTR\",””))))))))))))))))))))","v":{"$error":"#NAME?"}}]
[6,{"$f":"IF('6A'!$D$15=1,\"TMTIK\",IF('6A'!$D$15=2,\"AA\",IF('6A'!$D$15=3,\"QH\",IF('6A'!$D$15=4,\"FQ\",IF('6A'!$D$15=5,\"SKI\",IF('6A'!$D$15=6,\"PKN\",IF('6A'!$D$15=7,\"BID\",IF('6A'!$D$15=8,\"BA\",IF('6A'!$D$15=9,\"MTK\",IF('6A'!$D$15=10,\"IPA\",IF('6A'!$D$15=11,\"IPS\",IF('6A'!$D$15=12,\"SBK\",IF('6A'!$D$15=13,\"PJK\",IF('6A'!$D$15=14,\"BD\",IF('6A'!$D$15=15,\"BIG\",IF('6A'!$D$15=16,\"AWJ\",IF('6A'!$D$15=17,\"NW\",IF('6A'!$D$15=18,\"SRF\",IF('6A'!$D$15=19,\"PG\",IF('6A'!$D$15=20,\"XTR\",””))))))))))))))))))))","v":"TMTIK"},{"$f":"IF('6B'!$D$15=1,\"TMTIK\",IF('6B'!$D$15=2,\"AA\",IF('6B'!$D$15=3,\"QH\",IF('6B'!$D$15=4,\"FQ\",IF('6B'!$D$15=5,\"SKI\",IF('6B'!$D$15=6,\"PKN\",IF('6B'!$D$15=7,\"BID\",IF('6B'!$D$15=8,\"BA\",IF('6B'!$D$15=9,\"MTK\",IF('6B'!$D$15=10,\"IPA\",IF('6B'!$D$15=11,\"IPS\",IF('6B'!$D$15=12,\"SBK\",IF('6B'!$D$15=13,\"PJK\",IF('6B'!$D$15=14,\"BD\",IF('6B'!$D$15=15,\"BIG\",IF('6B'!$D$15=16,\"AWJ\",IF('6B'!$D$15=17,\"NW\",IF('6B'!$D$15=18,\"SRF\",IF('6B'!$D$15=19,\"PG\",IF('6B'!$D$15=20,\"XTR\",””))))))))))))))))))))","v":"TMTIK"},null,{"$f":"IF('6A'!$F$15=1,\"TMTIK\",IF('6A'!$F$15=2,\"AA\",IF('6A'!$F$15=3,\"QH\",IF('6A'!$F$15=4,\"FQ\",IF('6A'!$F$15=5,\"SKI\",IF('6A'!$F$15=6,\"PKN\",IF('6A'!$F$15=7,\"BID\",IF('6A'!$F$15=8,\"BA\",IF('6A'!$F$15=9,\"MTK\",IF('6A'!$F$15=10,\"IPA\",IF('6A'!$F$15=11,\"IPS\",IF('6A'!$F$15=12,\"SBK\",IF('6A'!$F$15=13,\"PJK\",IF('6A'!$F$15=14,\"BD\",IF('6A'!$F$15=15,\"BIG\",IF('6A'!$F$15=16,\"AWJ\",IF('6A'!$F$15=17,\"NW\",IF('6A'!$F$15=18,\"SRF\",IF('6A'!$F$15=19,\"PG\",IF('6A'!$F$15=20,\"XTR\",””))))))))))))))))))))","v":"TMTIK"},{"$f":"IF('6B'!$F$15=1,\"TMTIK\",IF('6B'!$F$15=2,\"AA\",IF('6B'!$F$15=3,\"QH\",IF('6B'!$F$15=4,\"FQ\",IF('6B'!$F$15=5,\"SKI\",IF('6B'!$F$15=6,\"PKN\",IF('6B'!$F$15=7,\"BID\",IF('6B'!$F$15=8,\"BA\",IF('6B'!$F$15=9,\"MTK\",IF('6B'!$F$15=10,\"IPA\",IF('6B'!$F$15=11,\"IPS\",IF('6B'!$F$15=12,\"SBK\",IF('6B'!$F$15=13,\"PJK\",IF('6B'!$F$15=14,\"BD\",IF('6B'!$F$15=15,\"BIG\",IF('6B'!$F$15=16,\"AWJ\",IF('6B'!$F$15=17,\"NW\",IF('6B'!$F$15=18,\"SRF\",IF('6B'!$F$15=19,\"PG\",IF('6B'!$F$15=20,\"XTR\",””))))))))))))))))))))","v":"TMTIK"},null,{"$f":"IF('6A'!$H$15=1,\"TMTIK\",IF('6A'!$H$15=2,\"AA\",IF('6A'!$H$15=3,\"QH\",IF('6A'!$H$15=4,\"FQ\",IF('6A'!$H$15=5,\"SKI\",IF('6A'!$H$15=6,\"PKN\",IF('6A'!$H$15=7,\"BID\",IF('6A'!$H$15=8,\"BA\",IF('6A'!$H$15=9,\"MTK\",IF('6A'!$H$15=10,\"IPA\",IF('6A'!$H$15=11,\"IPS\",IF('6A'!$H$15=12,\"SBK\",IF('6A'!$H$15=13,\"PJK\",IF('6A'!$H$15=14,\"BD\",IF('6A'!$H$15=15,\"BIG\",IF('6A'!$H$15=16,\"AWJ\",IF('6A'!$H$15=17,\"NW\",IF('6A'!$H$15=18,\"SRF\",IF('6A'!$H$15=19,\"PG\",IF('6A'!$H$15=20,\"XTR\",””))))))))))))))))))))","v":"TMTIK"},{"$f":"IF('6B'!$H$15=1,\"TMTIK\",IF('6B'!$H$15=2,\"AA\",IF('6B'!$H$15=3,\"QH\",IF('6B'!$H$15=4,\"FQ\",IF('6B'!$H$15=5,\"SKI\",IF('6B'!$H$15=6,\"PKN\",IF('6B'!$H$15=7,\"BID\",IF('6B'!$H$15=8,\"BA\",IF('6B'!$H$15=9,\"MTK\",IF('6B'!$H$15=10,\"IPA\",IF('6B'!$H$15=11,\"IPS\",IF('6B'!$H$15=12,\"SBK\",IF('6B'!$H$15=13,\"PJK\",IF('6B'!$H$15=14,\"BD\",IF('6B'!$H$15=15,\"BIG\",IF('6B'!$H$15=16,\"AWJ\",IF('6B'!$H$15=17,\"NW\",IF('6B'!$H$15=18,\"SRF\",IF('6B'!$H$15=19,\"PG\",IF('6B'!$H$15=20,\"XTR\",””))))))))))))))))))))","v":"TMTIK"},null,{"$f":"IF('6A'!$J$15=1,\"TMTIK\",IF('6A'!$J$15=2,\"AA\",IF('6A'!$J$15=3,\"QH\",IF('6A'!$J$15=4,\"FQ\",IF('6A'!$J$15=5,\"SKI\",IF('6A'!$J$15=6,\"PKN\",IF('6A'!$J$15=7,\"BID\",IF('6A'!$J$15=8,\"BA\",IF('6A'!$J$15=9,\"MTK\",IF('6A'!$J$15=10,\"IPA\",IF('6A'!$J$15=11,\"IPS\",IF('6A'!$J$15=12,\"SBK\",IF('6A'!$J$15=13,\"PJK\",IF('6A'!$J$15=14,\"BD\",IF('6A'!$J$15=15,\"BIG\",IF('6A'!$J$15=16,\"AWJ\",IF('6A'!$J$15=17,\"NW\",IF('6A'!$J$15=18,\"SRF\",IF('6A'!$J$15=19,\"PG\",IF('6A'!$J$15=20,\"XTR\",””))))))))))))))))))))","v":"TMTIK"},{"$f":"IF('6B'!$J$15=1,\"TMTIK\",IF('6B'!$J$15=2,\"AA\",IF('6B'!$J$15=3,\"QH\",IF('6B'!$J$15=4,\"FQ\",IF('6B'!$J$15=5,\"SKI\",IF('6B'!$J$15=6,\"PKN\",IF('6B'!$J$15=7,\"BID\",IF('6B'!$J$15=8,\"BA\",IF('6B'!$J$15=9,\"MTK\",IF('6B'!$J$15=10,\"IPA\",IF('6B'!$J$15=11,\"IPS\",IF('6B'!$J$15=12,\"SBK\",IF('6B'!$J$15=13,\"PJK\",IF('6B'!$J$15=14,\"BD\",IF('6B'!$J$15=15,\"BIG\",IF('6B'!$J$15=16,\"AWJ\",IF('6B'!$J$15=17,\"NW\",IF('6B'!$J$15=18,\"SRF\",IF('6B'!$J$15=19,\"PG\",IF('6B'!$J$15=20,\"XTR\",””))))))))))))))))))))","v":"TMTIK"},null,{"$f":"IF('6A'!$N$15=1,\"TMTIK\",IF('6A'!$N$15=2,\"AA\",IF('6A'!$N$15=3,\"QH\",IF('6A'!$N$15=4,\"FQ\",IF('6A'!$N$15=5,\"SKI\",IF('6A'!$N$15=6,\"PKN\",IF('6A'!$N$15=7,\"BID\",IF('6A'!$N$15=8,\"BA\",IF('6A'!$N$15=9,\"MTK\",IF('6A'!$N$15=10,\"IPA\",IF('6A'!$N$15=11,\"IPS\",IF('6A'!$N$15=12,\"SBK\",IF('6A'!$N$15=13,\"PJK\",IF('6A'!$N$15=14,\"BD\",IF('6A'!$N$15=15,\"BIG\",IF('6A'!$N$15=16,\"AWJ\",IF('6A'!$N$15=17,\"NW\",IF('6A'!$N$15=18,\"SRF\",IF('6A'!$N$15=19,\"PG\",IF('6A'!$N$15=20,\"XTR\",””))))))))))))))))))))","v":"SKI"},{"$f":"IF('6B'!$N$15=1,\"TMTIK\",IF('6B'!$N$15=2,\"AA\",IF('6B'!$N$15=3,\"QH\",IF('6B'!$N$15=4,\"FQ\",IF('6B'!$N$15=5,\"SKI\",IF('6B'!$N$15=6,\"PKN\",IF('6B'!$N$15=7,\"BID\",IF('6B'!$N$15=8,\"BA\",IF('6B'!$N$15=9,\"MTK\",IF('6B'!$N$15=10,\"IPA\",IF('6B'!$N$15=11,\"IPS\",IF('6B'!$N$15=12,\"SBK\",IF('6B'!$N$15=13,\"PJK\",IF('6B'!$N$15=14,\"BD\",IF('6B'!$N$15=15,\"BIG\",IF('6B'!$N$15=16,\"AWJ\",IF('6B'!$N$15=17,\"NW\",IF('6B'!$N$15=18,\"SRF\",IF('6B'!$N$15=19,\"PG\",IF('6B'!$N$15=20,\"XTR\",””))))))))))))))))))))","v":"AWJ"},null,{"$f":"IF('6A'!$D$27=1,\"TMTIK\",IF('6A'!$D$27=2,\"AA\",IF('6A'!$D$27=3,\"QH\",IF('6A'!$D$27=4,\"FQ\",IF('6A'!$D$27=5,\"SKI\",IF('6A'!$D$27=6,\"PKN\",IF('6A'!$D$27=7,\"BID\",IF('6A'!$D$27=8,\"BA\",IF('6A'!$D$27=9,\"MTK\",IF('6A'!$D$27=10,\"IPA\",IF('6A'!$D$27=11,\"IPS\",IF('6A'!$D$27=12,\"SBK\",IF('6A'!$D$27=13,\"PJK\",IF('6A'!$D$27=14,\"BD\",IF('6A'!$D$27=15,\"BIG\",IF('6A'!$D$27=16,\"AWJ\",IF('6A'!$D$27=17,\"NW\",IF('6A'!$D$27=18,\"SRF\",IF('6A'!$D$27=19,\"PG\",IF('6A'!$D$27=20,\"XTR\",””))))))))))))))))))))","v":"BIG"},{"$f":"IF('6B'!$D$27=1,\"TMTIK\",IF('6B'!$D$27=2,\"AA\",IF('6B'!$D$27=3,\"QH\",IF('6B'!$D$27=4,\"FQ\",IF('6B'!$D$27=5,\"SKI\",IF('6B'!$D$27=6,\"PKN\",IF('6B'!$D$27=7,\"BID\",IF('6B'!$D$27=8,\"BA\",IF('6B'!$D$27=9,\"MTK\",IF('6B'!$D$27=10,\"IPA\",IF('6B'!$D$27=11,\"IPS\",IF('6B'!$D$27=12,\"SBK\",IF('6B'!$D$27=13,\"PJK\",IF('6B'!$D$27=14,\"BD\",IF('6B'!$D$27=15,\"BIG\",IF('6B'!$D$27=16,\"AWJ\",IF('6B'!$D$27=17,\"NW\",IF('6B'!$D$27=18,\"SRF\",IF('6B'!$D$27=19,\"PG\",IF('6B'!$D$27=20,\"XTR\",””))))))))))))))))))))","v":"BIG"}]
[7,{"$f":"IF('6A'!$D$17=1,\"TMTIK\",IF('6A'!$D$17=2,\"AA\",IF('6A'!$D$17=3,\"QH\",IF('6A'!$D$17=4,\"FQ\",IF('6A'!$D$17=5,\"SKI\",IF('6A'!$D$17=6,\"PKN\",IF('6A'!$D$17=7,\"BID\",IF('6A'!$D$17=8,\"BA\",IF('6A'!$D$17=9,\"MTK\",IF('6A'!$D$17=10,\"IPA\",IF('6A'!$D$17=11,\"IPS\",IF('6A'!$D$17=12,\"SBK\",IF('6A'!$D$17=13,\"PJK\",IF('6A'!$D$17=14,\"BD\",IF('6A'!$D$17=15,\"BIG\",IF('6A'!$D$17=16,\"AWJ\",IF('6A'!$D$17=17,\"NW\",IF('6A'!$D$17=18,\"SRF\",IF('6A'!$D$17=19,\"PG\",IF('6A'!$D$17=20,\"XTR\",””))))))))))))))))))))","v":"NW"},{"$f":"IF('6B'!$D$17=1,\"TMTIK\",IF('6B'!$D$17=2,\"AA\",IF('6B'!$D$17=3,\"QH\",IF('6B'!$D$17=4,\"FQ\",IF('6B'!$D$17=5,\"SKI\",IF('6B'!$D$17=6,\"PKN\",IF('6B'!$D$17=7,\"BID\",IF('6B'!$D$17=8,\"BA\",IF('6B'!$D$17=9,\"MTK\",IF('6B'!$D$17=10,\"IPA\",IF('6B'!$D$17=11,\"IPS\",IF('6B'!$D$17=12,\"SBK\",IF('6B'!$D$17=13,\"PJK\",IF('6B'!$D$17=14,\"BD\",IF('6B'!$D$17=15,\"BIG\",IF('6B'!$D$17=16,\"AWJ\",IF('6B'!$D$17=17,\"NW\",IF('6B'!$D$17=18,\"SRF\",IF('6B'!$D$17=19,\"PG\",IF('6B'!$D$17=20,\"XTR\",””))))))))))))))))))))","v":"AA"},null,{"$f":"IF('6A'!$F$17=1,\"TMTIK\",IF('6A'!$F$17=2,\"AA\",IF('6A'!$F$17=3,\"QH\",IF('6A'!$F$17=4,\"FQ\",IF('6A'!$F$17=5,\"SKI\",IF('6A'!$F$17=6,\"PKN\",IF('6A'!$F$17=7,\"BID\",IF('6A'!$F$17=8,\"BA\",IF('6A'!$F$17=9,\"MTK\",IF('6A'!$F$17=10,\"IPA\",IF('6A'!$F$17=11,\"IPS\",IF('6A'!$F$17=12,\"SBK\",IF('6A'!$F$17=13,\"PJK\",IF('6A'!$F$17=14,\"BD\",IF('6A'!$F$17=15,\"BIG\",IF('6A'!$F$17=16,\"AWJ\",IF('6A'!$F$17=17,\"NW\",IF('6A'!$F$17=18,\"SRF\",IF('6A'!$F$17=19,\"PG\",IF('6A'!$F$17=20,\"XTR\",””))))))))))))))))))))","v":"AA"},{"$f":"IF('6B'!$F$17=1,\"TMTIK\",IF('6B'!$F$17=2,\"AA\",IF('6B'!$F$17=3,\"QH\",IF('6B'!$F$17=4,\"FQ\",IF('6B'!$F$17=5,\"SKI\",IF('6B'!$F$17=6,\"PKN\",IF('6B'!$F$17=7,\"BID\",IF('6B'!$F$17=8,\"BA\",IF('6B'!$F$17=9,\"MTK\",IF('6B'!$F$17=10,\"IPA\",IF('6B'!$F$17=11,\"IPS\",IF('6B'!$F$17=12,\"SBK\",IF('6B'!$F$17=13,\"PJK\",IF('6B'!$F$17=14,\"BD\",IF('6B'!$F$17=15,\"BIG\",IF('6B'!$F$17=16,\"AWJ\",IF('6B'!$F$17=17,\"NW\",IF('6B'!$F$17=18,\"SRF\",IF('6B'!$F$17=19,\"PG\",IF('6B'!$F$17=20,\"XTR\",””))))))))))))))))))))","v":"NW"},null,{"$f":"IF('6A'!$H$17=1,\"TMTIK\",IF('6A'!$H$17=2,\"AA\",IF('6A'!$H$17=3,\"QH\",IF('6A'!$H$17=4,\"FQ\",IF('6A'!$H$17=5,\"SKI\",IF('6A'!$H$17=6,\"PKN\",IF('6A'!$H$17=7,\"BID\",IF('6A'!$H$17=8,\"BA\",IF('6A'!$H$17=9,\"MTK\",IF('6A'!$H$17=10,\"IPA\",IF('6A'!$H$17=11,\"IPS\",IF('6A'!$H$17=12,\"SBK\",IF('6A'!$H$17=13,\"PJK\",IF('6A'!$H$17=14,\"BD\",IF('6A'!$H$17=15,\"BIG\",IF('6A'!$H$17=16,\"AWJ\",IF('6A'!$H$17=17,\"NW\",IF('6A'!$H$17=18,\"SRF\",IF('6A'!$H$17=19,\"PG\",IF('6A'!$H$17=20,\"XTR\",””))))))))))))))))))))","v":"BD"},{"$f":"IF('6B'!$H$17=1,\"TMTIK\",IF('6B'!$H$17=2,\"AA\",IF('6B'!$H$17=3,\"QH\",IF('6B'!$H$17=4,\"FQ\",IF('6B'!$H$17=5,\"SKI\",IF('6B'!$H$17=6,\"PKN\",IF('6B'!$H$17=7,\"BID\",IF('6B'!$H$17=8,\"BA\",IF('6B'!$H$17=9,\"MTK\",IF('6B'!$H$17=10,\"IPA\",IF('6B'!$H$17=11,\"IPS\",IF('6B'!$H$17=12,\"SBK\",IF('6B'!$H$17=13,\"PJK\",IF('6B'!$H$17=14,\"BD\",IF('6B'!$H$17=15,\"BIG\",IF('6B'!$H$17=16,\"AWJ\",IF('6B'!$H$17=17,\"NW\",IF('6B'!$H$17=18,\"SRF\",IF('6B'!$H$17=19,\"PG\",IF('6B'!$H$17=20,\"XTR\",””))))))))))))))))))))","v":"FQ"},null,{"$f":"IF('6A'!$J$17=1,\"TMTIK\",IF('6A'!$J$17=2,\"AA\",IF('6A'!$J$17=3,\"QH\",IF('6A'!$J$17=4,\"FQ\",IF('6A'!$J$17=5,\"SKI\",IF('6A'!$J$17=6,\"PKN\",IF('6A'!$J$17=7,\"BID\",IF('6A'!$J$17=8,\"BA\",IF('6A'!$J$17=9,\"MTK\",IF('6A'!$J$17=10,\"IPA\",IF('6A'!$J$17=11,\"IPS\",IF('6A'!$J$17=12,\"SBK\",IF('6A'!$J$17=13,\"PJK\",IF('6A'!$J$17=14,\"BD\",IF('6A'!$J$17=15,\"BIG\",IF('6A'!$J$17=16,\"AWJ\",IF('6A'!$J$17=17,\"NW\",IF('6A'!$J$17=18,\"SRF\",IF('6A'!$J$17=19,\"PG\",IF('6A'!$J$17=20,\"XTR\",””))))))))))))))))))))","v":"QH"},{"$f":"IF('6B'!$J$17=1,\"TMTIK\",IF('6B'!$J$17=2,\"AA\",IF('6B'!$J$17=3,\"QH\",IF('6B'!$J$17=4,\"FQ\",IF('6B'!$J$17=5,\"SKI\",IF('6B'!$J$17=6,\"PKN\",IF('6B'!$J$17=7,\"BID\",IF('6B'!$J$17=8,\"BA\",IF('6B'!$J$17=9,\"MTK\",IF('6B'!$J$17=10,\"IPA\",IF('6B'!$J$17=11,\"IPS\",IF('6B'!$J$17=12,\"SBK\",IF('6B'!$J$17=13,\"PJK\",IF('6B'!$J$17=14,\"BD\",IF('6B'!$J$17=15,\"BIG\",IF('6B'!$J$17=16,\"AWJ\",IF('6B'!$J$17=17,\"NW\",IF('6B'!$J$17=18,\"SRF\",IF('6B'!$J$17=19,\"PG\",IF('6B'!$J$17=20,\"XTR\",””))))))))))))))))))))","v":"BD"},null,{"$f":"IF('6A'!$N$17=1,\"TMTIK\",IF('6A'!$N$17=2,\"AA\",IF('6A'!$N$17=3,\"QH\",IF('6A'!$N$17=4,\"FQ\",IF('6A'!$N$17=5,\"SKI\",IF('6A'!$N$17=6,\"PKN\",IF('6A'!$N$17=7,\"BID\",IF('6A'!$N$17=8,\"BA\",IF('6A'!$N$17=9,\"MTK\",IF('6A'!$N$17=10,\"IPA\",IF('6A'!$N$17=11,\"IPS\",IF('6A'!$N$17=12,\"SBK\",IF('6A'!$N$17=13,\"PJK\",IF('6A'!$N$17=14,\"BD\",IF('6A'!$N$17=15,\"BIG\",IF('6A'!$N$17=16,\"AWJ\",IF('6A'!$N$17=17,\"NW\",IF('6A'!$N$17=18,\"SRF\",IF('6A'!$N$17=19,\"PG\",IF('6A'!$N$17=20,\"XTR\",””))))))))))))))))))))","v":{"$error":"#NAME?"}},{"$f":"IF('6B'!$N$17=1,\"TMTIK\",IF('6B'!$N$17=2,\"AA\",IF('6B'!$N$17=3,\"QH\",IF('6B'!$N$17=4,\"FQ\",IF('6B'!$N$17=5,\"SKI\",IF('6B'!$N$17=6,\"PKN\",IF('6B'!$N$17=7,\"BID\",IF('6B'!$N$17=8,\"BA\",IF('6B'!$N$17=9,\"MTK\",IF('6B'!$N$17=10,\"IPA\",IF('6B'!$N$17=11,\"IPS\",IF('6B'!$N$17=12,\"SBK\",IF('6B'!$N$17=13,\"PJK\",IF('6B'!$N$17=14,\"BD\",IF('6B'!$N$17=15,\"BIG\",IF('6B'!$N$17=16,\"AWJ\",IF('6B'!$N$17=17,\"NW\",IF('6B'!$N$17=18,\"SRF\",IF('6B'!$N$17=19,\"PG\",IF('6B'!$N$17=20,\"XTR\",””))))))))))))))))))))","v":{"$error":"#NAME?"}}]
[8,{"$f":"IF('6A'!$D$18=1,\"TMTIK\",IF('6A'!$D$18=2,\"AA\",IF('6A'!$D$18=3,\"QH\",IF('6A'!$D$18=4,\"FQ\",IF('6A'!$D$18=5,\"SKI\",IF('6A'!$D$18=6,\"PKN\",IF('6A'!$D$18=7,\"BID\",IF('6A'!$D$18=8,\"BA\",IF('6A'!$D$18=9,\"MTK\",IF('6A'!$D$18=10,\"IPA\",IF('6A'!$D$18=11,\"IPS\",IF('6A'!$D$18=12,\"SBK\",IF('6A'!$D$18=13,\"PJK\",IF('6A'!$D$18=14,\"BD\",IF('6A'!$D$18=15,\"BIG\",IF('6A'!$D$18=16,\"AWJ\",IF('6A'!$D$18=17,\"NW\",IF('6A'!$D$18=18,\"SRF\",IF('6A'!$D$18=19,\"PG\",IF('6A'!$D$18=20,\"XTR\",””))))))))))))))))))))","v":"SRF"},{"$f":"IF('6B'!$D$18=1,\"TMTIK\",IF('6B'!$D$18=2,\"AA\",IF('6B'!$D$18=3,\"QH\",IF('6B'!$D$18=4,\"FQ\",IF('6B'!$D$18=5,\"SKI\",IF('6B'!$D$18=6,\"PKN\",IF('6B'!$D$18=7,\"BID\",IF('6B'!$D$18=8,\"BA\",IF('6B'!$D$18=9,\"MTK\",IF('6B'!$D$18=10,\"IPA\",IF('6B'!$D$18=11,\"IPS\",IF('6B'!$D$18=12,\"SBK\",IF('6B'!$D$18=13,\"PJK\",IF('6B'!$D$18=14,\"BD\",IF('6B'!$D$18=15,\"BIG\",IF('6B'!$D$18=16,\"AWJ\",IF('6B'!$D$18=17,\"NW\",IF('6B'!$D$18=18,\"SRF\",IF('6B'!$D$18=19,\"PG\",IF('6B'!$D$18=20,\"XTR\",””))))))))))))))))))))","v":"AA"},null,{"$f":"IF('6A'!$F$18=1,\"TMTIK\",IF('6A'!$F$18=2,\"AA\",IF('6A'!$F$18=3,\"QH\",IF('6A'!$F$18=4,\"FQ\",IF('6A'!$F$18=5,\"SKI\",IF('6A'!$F$18=6,\"PKN\",IF('6A'!$F$18=7,\"BID\",IF('6A'!$F$18=8,\"BA\",IF('6A'!$F$18=9,\"MTK\",IF('6A'!$F$18=10,\"IPA\",IF('6A'!$F$18=11,\"IPS\",IF('6A'!$F$18=12,\"SBK\",IF('6A'!$F$18=13,\"PJK\",IF('6A'!$F$18=14,\"BD\",IF('6A'!$F$18=15,\"BIG\",IF('6A'!$F$18=16,\"AWJ\",IF('6A'!$F$18=17,\"NW\",IF('6A'!$F$18=18,\"SRF\",IF('6A'!$F$18=19,\"PG\",IF('6A'!$F$18=20,\"XTR\",””))))))))))))))))))))","v":"AA"},{"$f":"IF('6B'!$F$18=1,\"TMTIK\",IF('6B'!$F$18=2,\"AA\",IF('6B'!$F$18=3,\"QH\",IF('6B'!$F$18=4,\"FQ\",IF('6B'!$F$18=5,\"SKI\",IF('6B'!$F$18=6,\"PKN\",IF('6B'!$F$18=7,\"BID\",IF('6B'!$F$18=8,\"BA\",IF('6B'!$F$18=9,\"MTK\",IF('6B'!$F$18=10,\"IPA\",IF('6B'!$F$18=11,\"IPS\",IF('6B'!$F$18=12,\"SBK\",IF('6B'!$F$18=13,\"PJK\",IF('6B'!$F$18=14,\"BD\",IF('6B'!$F$18=15,\"BIG\",IF('6B'!$F$18=16,\"AWJ\",IF('6B'!$F$18=17,\"NW\",IF('6B'!$F$18=18,\"SRF\",IF('6B'!$F$18=19,\"PG\",IF('6B'!$F$18=20,\"XTR\",””))))))))))))))))))))","v":"SRF"},null,{"$f":"IF('6A'!$H$18=1,\"TMTIK\",IF('6A'!$H$18=2,\"AA\",IF('6A'!$H$18=3,\"QH\",IF('6A'!$H$18=4,\"FQ\",IF('6A'!$H$18=5,\"SKI\",IF('6A'!$H$18=6,\"PKN\",IF('6A'!$H$18=7,\"BID\",IF('6A'!$H$18=8,\"BA\",IF('6A'!$H$18=9,\"MTK\",IF('6A'!$H$18=10,\"IPA\",IF('6A'!$H$18=11,\"IPS\",IF('6A'!$H$18=12,\"SBK\",IF('6A'!$H$18=13,\"PJK\",IF('6A'!$H$18=14,\"BD\",IF('6A'!$H$18=15,\"BIG\",IF('6A'!$H$18=16,\"AWJ\",IF('6A'!$H$18=17,\"NW\",IF('6A'!$H$18=18,\"SRF\",IF('6A'!$H$18=19,\"PG\",IF('6A'!$H$18=20,\"XTR\",””))))))))))))))))))))","v":"BD"},{"$f":"IF('6B'!$H$18=1,\"TMTIK\",IF('6B'!$H$18=2,\"AA\",IF('6B'!$H$18=3,\"QH\",IF('6B'!$H$18=4,\"FQ\",IF('6B'!$H$18=5,\"SKI\",IF('6B'!$H$18=6,\"PKN\",IF('6B'!$H$18=7,\"BID\",IF('6B'!$H$18=8,\"BA\",IF('6B'!$H$18=9,\"MTK\",IF('6B'!$H$18=10,\"IPA\",IF('6B'!$H$18=11,\"IPS\",IF('6B'!$H$18=12,\"SBK\",IF('6B'!$H$18=13,\"PJK\",IF('6B'!$H$18=14,\"BD\",IF('6B'!$H$18=15,\"BIG\",IF('6B'!$H$18=16,\"AWJ\",IF('6B'!$H$18=17,\"NW\",IF('6B'!$H$18=18,\"SRF\",IF('6B'!$H$18=19,\"PG\",IF('6B'!$H$18=20,\"XTR\",””))))))))))))))))))))","v":"FQ"},null,{"$f":"IF('6A'!$J$18=1,\"TMTIK\",IF('6A'!$J$18=2,\"AA\",IF('6A'!$J$18=3,\"QH\",IF('6A'!$J$18=4,\"FQ\",IF('6A'!$J$18=5,\"SKI\",IF('6A'!$J$18=6,\"PKN\",IF('6A'!$J$18=7,\"BID\",IF('6A'!$J$18=8,\"BA\",IF('6A'!$J$18=9,\"MTK\",IF('6A'!$J$18=10,\"IPA\",IF('6A'!$J$18=11,\"IPS\",IF('6A'!$J$18=12,\"SBK\",IF('6A'!$J$18=13,\"PJK\",IF('6A'!$J$18=14,\"BD\",IF('6A'!$J$18=15,\"BIG\",IF('6A'!$J$18=16,\"AWJ\",IF('6A'!$J$18=17,\"NW\",IF('6A'!$J$18=18,\"SRF\",IF('6A'!$J$18=19,\"PG\",IF('6A'!$J$18=20,\"XTR\",””))))))))))))))))))))","v":"QH"},{"$f":"IF('6B'!$J$18=1,\"TMTIK\",IF('6B'!$J$18=2,\"AA\",IF('6B'!$J$18=3,\"QH\",IF('6B'!$J$18=4,\"FQ\",IF('6B'!$J$18=5,\"SKI\",IF('6B'!$J$18=6,\"PKN\",IF('6B'!$J$18=7,\"BID\",IF('6B'!$J$18=8,\"BA\",IF('6B'!$J$18=9,\"MTK\",IF('6B'!$J$18=10,\"IPA\",IF('6B'!$J$18=11,\"IPS\",IF('6B'!$J$18=12,\"SBK\",IF('6B'!$J$18=13,\"PJK\",IF('6B'!$J$18=14,\"BD\",IF('6B'!$J$18=15,\"BIG\",IF('6B'!$J$18=16,\"AWJ\",IF('6B'!$J$18=17,\"NW\",IF('6B'!$J$18=18,\"SRF\",IF('6B'!$J$18=19,\"PG\",IF('6B'!$J$18=20,\"XTR\",””))))))))))))))))))))","v":"BD"},null,{"$f":"IF('6A'!$N$18=1,\"TMTIK\",IF('6A'!$N$18=2,\"AA\",IF('6A'!$N$18=3,\"QH\",IF('6A'!$N$18=4,\"FQ\",IF('6A'!$N$18=5,\"SKI\",IF('6A'!$N$18=6,\"PKN\",IF('6A'!$N$18=7,\"BID\",IF('6A'!$N$18=8,\"BA\",IF('6A'!$N$18=9,\"MTK\",IF('6A'!$N$18=10,\"IPA\",IF('6A'!$N$18=11,\"IPS\",IF('6A'!$N$18=12,\"SBK\",IF('6A'!$N$18=13,\"PJK\",IF('6A'!$N$18=14,\"BD\",IF('6A'!$N$18=15,\"BIG\",IF('6A'!$N$18=16,\"AWJ\",IF('6A'!$N$18=17,\"NW\",IF('6A'!$N$18=18,\"SRF\",IF('6A'!$N$18=19,\"PG\",IF('6A'!$N$18=20,\"XTR\",””))))))))))))))))))))","v":{"$error":"#NAME?"}},{"$f":"IF('6B'!$N$18=1,\"TMTIK\",IF('6B'!$N$18=2,\"AA\",IF('6B'!$N$18=3,\"QH\",IF('6B'!$N$18=4,\"FQ\",IF('6B'!$N$18=5,\"SKI\",IF('6B'!$N$18=6,\"PKN\",IF('6B'!$N$18=7,\"BID\",IF('6B'!$N$18=8,\"BA\",IF('6B'!$N$18=9,\"MTK\",IF('6B'!$N$18=10,\"IPA\",IF('6B'!$N$18=11,\"IPS\",IF('6B'!$N$18=12,\"SBK\",IF('6B'!$N$18=13,\"PJK\",IF('6B'!$N$18=14,\"BD\",IF('6B'!$N$18=15,\"BIG\",IF('6B'!$N$18=16,\"AWJ\",IF('6B'!$N$18=17,\"NW\",IF('6B'!$N$18=18,\"SRF\",IF('6B'!$N$18=19,\"PG\",IF('6B'!$N$18=20,\"XTR\",””))))))))))))))))))))","v":{"$error":"#NAME?"}}]

{"sheet":"6ABC","index":24,"n_rows":28,"n_cols":16,"rows_kept":28,"cut":false,"hidden":false,"merged":[[20,2,20,3],[4,11,5,11],[4,12,4,13],[6,2,6,9],[6,12,6,13],[7,2,7,9],[18,0,19,0],[18,1,19,1],[18,2,18,3],[0,0,0,13],[1,0,1,13],[2,0,2,13],[4,0,5,0],[4,1,5,1],[4,2,4,3],[4,4,4,5],[4,6,4,7],[4,8,4,9],[4,10,5,10]]}
["JADWAL PELAJARAN KURIKULUM 2013 KELAS VI (ENAM) "]
["MI NURUL ISLAM LABRUK KIDUL"]
["TAHUN PELAJARAN 2019/2020"]
[]
["NO","WAKTU","SENIN",null,"SELASA",null,"RABU",null,"KAMIS",null,"NO","WAKTU","JUMAT",null,"KETERANGAN"]
[null,null,"A","B","A","B","A","B","A","B",null,null,"A","B","AA","Aqidah Akhlak"]
[null,"06.45-07.00","PEMBIASAAN",null,null,null,null,null,null,null,null,"06.45-07.10","PEMBIASAAN",null,"AWJ","Aswaja"]
[null,"07.00-08.00","TILAWATI",null,null,null,null,null,null,null,1,"07.10-07.40",{"$f":"CEKJADWALMP!N68","v":"TMTIK"},{"$f":"CEKJADWALMP!O68","v":"TMTIK"},"BA","B. Arab"]
[1,"08.00-08.35",{"$f":"CEKJADWALMP!B68","v":"PJK"},{"$f":"CEKJADWALMP!C68","v":"MTK"},{"$f":"CEKJADWALMP!E68","v":"MTK"},{"$f":"CEKJADWALMP!F68","v":"PJK"},{"$f":"CEKJADWALMP!H68","v":"BA"},{"$f":"CEKJADWALMP!I68","v":"MTK"},{"$f":"CEKJADWALMP!K68","v":"FQ"},{"$f":"CEKJADWALMP!L68","v":"SKI"},2,"07.40-08.10",{"$f":"CEKJADWALMP!N69","v":"TMTIK"},{"$f":"CEKJADWALMP!O69","v":"TMTIK"},"BD","B. Daerah"]
[2,"08.35-09.10",{"$f":"CEKJADWALMP!B69","v":"PJK"},{"$f":"CEKJADWALMP!C69","v":"MTK"},{"$f":"CEKJADWALMP!E69","v":"MTK"},{"$f":"CEKJADWALMP!F69","v":"PJK"},{"$f":"CEKJADWALMP!H69","v":"BA"},{"$f":"CEKJADWALMP!I69","v":"MTK"},{"$f":"CEKJADWALMP!K69","v":"FQ"},{"$f":"CEKJADWALMP!L69","v":"SKI"},3,"08.10-08.40",{"$f":"CEKJADWALMP!N70","v":"AWJ"},{"$f":"CEKJADWALMP!O70","v":"TMTIK"},"BIG","B. Inggris"]
[3,"09.10-09.45",{"$f":"CEKJADWALMP!B70","v":"PJK"},{"$f":"CEKJADWALMP!C70","v":"MTK"},{"$f":"CEKJADWALMP!E70","v":"MTK"},{"$f":"CEKJADWALMP!F70","v":"PJK"},{"$f":"CEKJADWALMP!H70","v":"MTK"},{"$f":"CEKJADWALMP!I70","v":"BA"},{"$f":"CEKJADWALMP!K70","v":"TMTIK"},{"$f":"CEKJADWALMP!L70","v":"QH"},4,"08.40-09.10",{"$f":"CEKJADWALMP!N71","v":"AWJ"},{"$f":"CEKJADWALMP!O71","v":"TMTIK"},"FQ","Fiqih"]
[4,"09.45-10.20",{"$f":"CEKJADWALMP!B71","v":"PJK"},{"$f":"CEKJADWALMP!C71","v":"TMTIK"},{"$f":"CEKJADWALMP!E71","v":"TMTIK"},{"$f":"CEKJADWALMP!F71","v":"PJK"},{"$f":"CEKJADWALMP!H71","v":"MTK"},{"$f":"CEKJADWALMP!I71","v":"BA"},{"$f":"CEKJADWALMP!K71","v":"TMTIK"},{"$f":"CEKJADWALMP!L71","v":"QH"},null,"09.10-09.30","Istirahat","Istirahat","NW","Nahwu"]
[null,"10.20-10.40","Istirahat","Istirahat","Istirahat","Istirahat","Istirahat","Istirahat","Istirahat","Istirahat",5,"09.30-10.00",{"$f":"CEKJADWALMP!N72","v":"SKI"},{"$f":"CEKJADWALMP!O72","v":"AWJ"},"PJK","Penjaskes"]
[5,"10.40-11.15",{"$f":"CEKJADWALMP!B72","v":"TMTIK"},{"$f":"CEKJADWALMP!C72","v":"TMTIK"},{"$f":"CEKJADWALMP!E72","v":"TMTIK"},{"$f":"CEKJADWALMP!F72","v":"TMTIK"},{"$f":"CEKJADWALMP!H72","v":"TMTIK"},{"$f":"CEKJADWALMP!I72","v":"TMTIK"},{"$f":"CEKJADWALMP!K72","v":"TMTIK"},{"$f":"CEKJADWALMP!L72","v":"TMTIK"},6,"10.00-10.30",{"$f":"CEKJADWALMP!N73","v":"SKI"},{"$f":"CEKJADWALMP!O73","v":"AWJ"},"QH","Quran Hadits"]
[6,"11.15-11.50",{"$f":"CEKJADWALMP!B73","v":"TMTIK"},{"$f":"CEKJADWALMP!C73","v":"TMTIK"},{"$f":"CEKJADWALMP!E73","v":"TMTIK"},{"$f":"CEKJADWALMP!F73","v":"TMTIK"},{"$f":"CEKJADWALMP!H73","v":"TMTIK"},{"$f":"CEKJADWALMP!I73","v":"TMTIK"},{"$f":"CEKJADWALMP!K73","v":"TMTIK"},{"$f":"CEKJADWALMP!L73","v":"TMTIK"},7,"10:30:00","PULANG","PULANG","SRF","Sorof"]
[null,"11.50-12.20","ishoja","ishoja","ishoja","ishoja","ishoja","ishoja","ishoja","ishoja"]
[7,"12.20-12.55",{"$f":"CEKJADWALMP!B74","v":"NW"},{"$f":"CEKJADWALMP!C74","v":"AA"},{"$f":"CEKJADWALMP!E74","v":"AA"},{"$f":"CEKJADWALMP!F74","v":"NW"},{"$f":"CEKJADWALMP!H74","v":"BD"},{"$f":"CEKJADWALMP!I74","v":"FQ"},{"$f":"CEKJADWALMP!K74","v":"QH"},{"$f":"CEKJADWALMP!L74","v":"BD"}]
[8,"12.55-13.30",{"$f":"CEKJADWALMP!B75","v":"SRF"},{"$f":"CEKJADWALMP!C75","v":"AA"},{"$f":"CEKJADWALMP!E75","v":"AA"},{"$f":"CEKJADWALMP!F75","v":"SRF"},{"$f":"CEKJADWALMP!H75","v":"BD"},{"$f":"CEKJADWALMP!I75","v":"FQ"},{"$f":"CEKJADWALMP!K75","v":"QH"},{"$f":"CEKJADWALMP!L75","v":"BD"}]
["NO","WAKTU","SABTU",null,"istirahat ke1 = 20 menit"]
[null,null,"A","B","istirahat ke2 = 30 menit ishoja (istirahat dan sholat jamaah)"]
[null,"06.45-07.15","PEMBIASAAN"]
[1,"07.15-07.50",{"$f":"CEKJADWALMP!Q68","v":"TMTIK"},{"$f":"CEKJADWALMP!R68","v":"TMTIK"}]
[2,"07.50-08.25",{"$f":"CEKJADWALMP!Q69","v":"TMTIK"},{"$f":"CEKJADWALMP!R69","v":"TMTIK"}]
[3,"08.25-09.00",{"$f":"CEKJADWALMP!Q70","v":"TMTIK"},{"$f":"CEKJADWALMP!R70","v":"TMTIK"},null,null,null,null,null,null,"Labruk Kidul, 15 Juli 2019"]
[4,"09.00-10.00",{"$f":"CEKJADWALMP!Q71","v":"XTR"},{"$f":"CEKJADWALMP!R71","v":"XTR"},null,null,"Kepala Madrasah",null,null,null,"PKM. Kurikulum"]
[null,"10.00-10.20","Istirahat","Istirahat"]
[5,"10.20-11.20",{"$f":"CEKJADWALMP!Q73","v":"BIG"},{"$f":"CEKJADWALMP!R73","v":"BIG"}]
[null,null,null,null,null,null,"SAHRONI,S.Pd.I",null,null,null,"NUR RATNA P,S.Pd"]

{"sheet":"DAFTARGURU","index":25,"n_rows":31,"n_cols":12,"rows_kept":31,"cut":false,"hidden":false,"merged":[]}
["DAFTAR GURU JADWAL"]
["NO","NAMA","KODE GURU","SING NAMA",null,"KODE ANGKA","KODE HURUF","PELAJARAN",null,null,null,"TMTIK;AA;QH;FQ;SKI;PKN;BID;BA;MTK;IPA;IPS;SBK;PJK;BD;BIG;AWJ;NW;SRF;PG"]
[1,"Sahroni,S.Pd.I","A","SAH",null,1,"TMTIK","TEMATIK"]
[2,"M. Said","B","SAI",null,2,"AA","AQIDAH AKHLAK"]
[3,"Sumarmi,S.Pd.I","C","SUM",null,3,"QH","QURAN HADITS"]
[4,"Minuk Ika Wulandari,S.Pd,I","D","MIN",null,4,"FQ","FIQIH"]
[5,"Chayul Mu'afa,S.Ag","E","CHA",null,5,"SKI","SKI"]
[6,"Khusnul Adibah,S.Pd.I","F","KHU",null,6,"PKN","PPKN"]
[7,"Muhammad Khoiri,S.Pd.I.","G","KHO",null,7,"BID","BAHASA INDONESIA"]
[8,"Yuliana,S.Pd.I","H","YUL",null,8,"BA","BAHASA ARAB"]
[9,"Ahmad Shodiq,S.H.","I","ASH",null,9,"MTK","MATEMATIKA"]
[10,"Chusni Kurniawan,S.Pd.","J","CHK",null,10,"IPA","IPA/SAINS"]
[11,"M. Zuhdi Agus Riyanto,S.Pd.","K","MZH",null,11,"IPS","IPS"]
[12,"Liya Shobihatul Qudriyah,S.Pd","L","LYS",null,12,"SBK","SENI BUDAYA PRAKARYA"]
[13,"Siti Munfaridah, S.Pd","M","FAR",null,13,"PJK","PENDIDIKAN JASMANI KESEHATAN"]
[14,"Nur Ratna Prihatiningsih, S.Pd","N","RAT",null,14,"BD","BAHASA DAERAH"]
[15,"Nurul Hidayah, S.Pd.I, MA","O","NUR",null,15,"BIG","BAHASA INGGRIS"]
[16,"Azan Tudhoni, S. Pd","P","ATD",null,16,"AWJ","ASWAJA"]
[17,"Evi Nuning Faridah,S.Pd.I","Q","ENF",null,17,"NW","NAHWU"]
[18,"Nurul Lathifah, S. Pd I","R","LAT",null,18,"SRF","SOROF"]
[19,"Nurul 'Ain","S","AIN",null,19,"PG","PEGO"]
[20,"Uul Mas'ulah","T","UUL",null,20]
[21,"Agustim Mukarromah","U","AGT",null,21]
[22,"Faidatul Khoiroh","V","FAI",null,22]
[23,"I'natul Husriyah","W","INA",null,23]
[24,"Yulia Azmil Millah","X","YLA",null,24]
[25,"Ulil Muqaromah","Y","ULL",null,25]
[26,"Yuni Urwatul W","Z","YUW",null,26]
[27,"M Ali Said","AA","MAS",null,27]
[28,"Siti Nur Faridah","AB","IDA",null,28]
[29,"Dewi Maimunah","AC","DWI",null,29]

{"sheet":"HOME","index":26,"n_rows":8,"n_cols":1,"rows_kept":8,"cut":false,"hidden":false,"merged":[[7,0,7,6],[0,0,0,6],[1,0,1,6],[3,0,3,6],[5,0,5,6],[6,0,6,6]]}
["APLIKASI SINKRONISASI"]
["JADWAL SISWA"]
[]
["DAN "]
[]
["SINKRONISASI JAM MENGAJAR"]
["MIS NURUL ISLAM LABRUK KIDUL"]
["2020/2021"]